{"text_format":"1","workbook":"xlsx","n_sheets":45,"sheets":["MENÙ","HELP","DATIG","PREF","ADP","CONDOMINI","SS","UF","UI","TAB-UF","TAB-UI","TAB-C","PIANOCONTI_U","PIANOCONTI_E","PIANOCONTI_CD","SOM-BP","USCITE_P","RP-UF","RP-UI","RP-C","RATEAZIONE-C","RATEAZIONE-UI","SOM-BC","USCITE_C","ENTRATE-UI","ENTRATE-C","RAFFRONTO-PE","CREDITI","DEBITI","BILANCIO","RE-UF","RE-UI","RE-C","RE-UF(anni)","RE-UI(anni)","RE-C(anni)","ESEMPI_RC","GIORNALE","SD_CONDOMINI_GL","SD-UI-GL","COMUNICAZIONE-DF","RIPSUBCOND","PROMEMORIA1","PROMEMORIA2","Ricevuta"],"not_rendered":{"charts":0,"images":1,"macros":1,"external_links":1,"defined_names":155,"comments":12,"pivot_tables":0},"unopened":[],"bounds":{"document_bytes":16777216,"sheet_cells":100000,"rows_first":2000,"rows_last":500,"rows_between":2000,"halvings":0,"cell_chars":16384,"cell_head_chars":4096},"cells_cut":0,"cells_raw":0,"read":"whole","date_system":"1900"}

{"sheet":"MENÙ","index":0,"n_rows":29,"n_cols":31,"rows_kept":29,"cut":false,"hidden":false,"merged":[[2,5,2,8],[2,11,2,27],[3,5,3,8],[3,11,3,27],[4,5,4,8],[4,11,4,27],[4,30,4,33],[5,5,5,8],[5,10,5,12],[5,30,5,33],[7,30,7,33],[28,30,28,33],[14,20,14,23],[15,20,15,23],[24,5,24,8],[24,20,24,23],[28,5,28,8],[28,10,28,13],[28,15,28,18],[28,20,28,23],[28,25,28,28]]}
["DATI GENERALI del "]
[]
[null,null,null,null,null,{"$f":"DATIG!A64","v":"Condomino Amministratore"},null,null,null,null,null,{"$f":"DATIG!A5","v":"Condominio \"PROTOTIPO\""}]
[null,null,null,null,null,{"$f":"DATIG!A65","v":"Ing. Pietro CHIEFARI"},null,null,null,null,null,{"$f":"DATIG!A6","v":"Via BELLA, 22-30-38"}]
[null,null," ",null,null,{"$f":"DATIG!A66","v":"Viale CUTURELLA, 2/D"},null,null,null,null,null,{"$f":"DATIG!A7","v":"88068 - SOVERATO (CZ)"},null,null,null,null,null,null,null,null,null,null,null,null,null,null,null,null,null,null,"Codice Condominio-Codice Lavoro"]
[null,null,null,null,null,{"$f":"DATIG!A67","v":"88068 - SOVERATO (CZ)"},null,null,null,null,{"$f":"DATIG!A8","v":"C.F.  80000000796"},null,null,{"$f":"DATIG!A12","v":"piasoft@piasoft.it"},null,null,null,null,null,null,null,null,null,null,null,null,{"$f":"IF(DATIG!A9<>\"\",DATIG!A9,DATIG!A10)","v":"tel.  0967-922235"},null,null,null,{"$f":"DATIG!A11 & \"-\" & DATIG!A37","v":"Prototipo-LAVORO-01"}]
[]
[null,null,null,null,null,"Giornale aggiornato al 13/11/2019",null,null,null,null,null,null,null,null,null,null,null,null,null,null,null,null,null,null,null,null,null,null,null,null,{"$f":"DATIG!A39","v":"2019-12-31"}]
[null,null,null,null,{"$f":"\"FUNZIONI per la GESTIONE del FONDO per l'esecuzione di LAVORI STRAORDINARI\"","v":"FUNZIONI per la GESTIONE del FONDO per l'esecuzione di LAVORI STRAORDINARI"}]
[]
[]
[]
[]
[]
[]
[]
[]
[]
[]
[]
[]
[]
[]
[null,null,null,null,null,null,0]
[]
[]
[]
[null,null,null,null,"FUNZIONI DI GESTIONE DEL PROGRAMMA"]
[null,null,null,null,null,"AIUTI ALL'UTILIZZO",null,null,null,null,"DATI GENERALI",null,null,null,null,"ADATTAMENTO",null,null,null,null,"PREFERENZE UTILIZZATORE",null,null,null,null,"IMPORT-EXPORT CONDOMINIO",null,null,null,null,"FINE UTILIZZO PROGRAMMA"]

{"sheet":"HELP","index":1,"n_rows":36,"n_cols":1,"rows_kept":36,"cut":false,"hidden":true,"merged":[[12,0,12,10],[0,0,0,10],[2,0,2,10],[3,0,3,10],[4,0,4,10],[5,0,5,10],[6,0,6,10],[7,0,7,10],[8,0,8,10],[9,0,9,10],[10,0,10,10],[11,0,11,10],[1,0,1,10],[18,0,18,10],[13,0,13,10],[14,0,14,10],[15,0,15,10],[16,0,16,10],[17,0,17,10],[30,0,30,10],[19,0,19,10],[20,0,20,10],[21,0,21,10],[22,0,22,10],[23,0,23,10],[24,0,24,10],[25,0,25,10],[26,0,26,10],[27,0,27,10],[28,0,28,10],[29,0,29,10],[31,0,31,10],[32,0,32,10],[33,0,33,10],[34,0,34,10],[35,0,35,10]]}
["GUIDA SINTETICA ALL'USO DELLA PROCEDURA"]
["La presente guida sintetica è integrata con le note di cella, visualizzabili facendo sostare il puntatore del mouse sul triangolino rosso della cella contenente la nota. "]
["LA PERSONALIZZAZIONE"]
["LA PERSONALIZZAZIONE INIZIALE"]
["Prima di utilizzare la procedura, occorre personalizzarla, ovvero adattarla al condominio e al lavoro da gestire ed alle preferenze dell'utilizzatore.\nLa personalizzazione è fatta utilizzando le \"FUNZIONI DI GESTIONE DELLA PROCEDURA\" dei riquadri \"DATI GENERALI\", \"ADATTAMENTO\" e \"PREFERENZE DELL'UTILIZZATORE\".\nCliccando sui pulsanti in essi contenuti, sono visualizzati dei prospetti le cui celle contengono le variabili di personalizzazione.\nLe variabili sono spiegate dalle indicazioni riportate nei prospetti stessi; per alcune sono indicati anche dei valori limiti che occorre rispettare nell'assegnarne i valori.\nOvviamente la personalizzazione può essere fatta anche nel corso dell'utilizzo, ogni volta cioè che si desidera o occorra variare qualche aspetto personalizzabile del programma.\nIn particolare è necessario farlo quando si cambia condominio e/o lavoro."]
["Pulsanti del riquadro \"DATI GENERALI\":\n1) \"CONDOMINIO\" : il prospetto contiene i dati generali del condominio da gestire.\n2) \"LAVORO\"            : il prospetto contiene i dati relativi al lavoro da gestire.\n3) \"UTILIZZATORE\" : il prospetto contiene i dati dell'utilizzatore-amministratore.\n\n"]
["Pulsanti del riquadro \"ADATTAMENTO\":\n1) \"PROSPETTI DATI e RISULTATI\"    : il prospetto contiene dei dati i cui valori adattano gli altri prospetti della procedura, variandone la visualizzazione di righe e colonne, \n                                                                         in accordo con i valori forniti nel prospetto. \n                                                                          La variazione è eseguita in automatico alla chiusura del foglio \"ADP\" che contiene il prospetto (per chiuderlo basta cliccare sulla linguetta del foglio \"MENÙ\").\n2) \"COPERTINA delle STAMPE\"         : è proposto il modulo della copertine delle stampe. È possibile apportarvi delle variazioni,ma rispettando la posizione dei campi indicati.\n3) \"SOMMARI dei BILANCI\"                : sono proposti i sommari del bilancio preventivo e del rendiconto in esecuzione del lavoro o a consuntivo, È possibile variarli. "]
["Pulsanti del riquadro \"PREFERENZE UTILIZZATORE\":\n1) \"PROMEMORIE\"             : il prospetto contiene le stringhe che il programma riporta sui pulsanti di promemoria. Variandole l'utilizzatore specifica meglio i promemoria che utilizza. \n2) \"CREAZIONE PDF\"         : il prospetto contiene alcuni parametri che adattano la creazione dei file pdf alle preferenze dell'utilizzatore. Ad esempio variando il valore di un parametro è possibile\n                                                    creare un file PDF per ogni condomino contenente la comunicazione a lui indirizzata o un unico file contenente la stessa comunicazioni ai vari condomini.\n3) \"INTESTAZIONE-PIE' di PAGINA\" :  il prospetto permette di variare le stringhe utilizzate nelle intestazioni ed nei piè di pagina dei fogli da stampare. \n                                                                          L'esecuzione dell'operazione è però alquanto lenta.\n\n\n"]
["LA PERSONALIZZAZIONE DEI MODULI DELLE COMUNICAZIONE"]
["I \"MODULI AVVISI\"  sono una serie di fogli che riportano i moduli o schemi di base di alcune tipiche comunicazioni che l'amministratore è solito inviare ai condomini.\nÈ possibile personalizzare tali moduli, richiamando il foglio che li contiene tramite il relativo pulsante.\nSi possono personalizzare sia le intestazioni che il contenuto testuale, si possono aggiungere righe e immagini, ma non possono essere variati, sia per posizione che per lunghezza i campi, ovvero quella parte della comunicazione che viene scritta in automatico dalla procedura.\nI campi sono facilmente individuabili perchè sugli schemi appaiono racchiusi fra parentesi quadre oppure sono celle bordate da linee tratteggiate o hanno fondo colorato e non contengono in questo ultimo caso alcun valore.\nNaturalmente gli schemi di comunicazione devono essere sempre variati quando variano i dati testuali oggetto di comunicazione."]
["L'USO"]
["Il foglio \"MENÙ\" rimane sempre scoperto e presenta una serie di riquadri, contenenti dei pulsanti che se cliccati eseguono una o più funzioni di gestione condominiale. È opportuno ripartire sempre dal foglio, per cui dopo aver eseguito una opzione del menù è bene cliccare sulla linguetta del foglio \"MENU\", per poterne avviare un'altra funzione. "]
["PROSPETTI INPUT DATI"]
["I pulsanti attivano dei fogli da riempire con i dati che caratterizzano il condominio, il lavoro, le unità immobiliari, le tabelle millesimali, i piani dei conti, il giornale contabile ecc.\nTali dati sono necessari, senza di essi o con dati incompleti la procedura non dà risultati attendibili.\nUn particolare foglio è il \"GIORNALE CONTABILE\" , sul quale occorre riportare le operazioni contabili effettuate nel corso della gestione del lavoro. \nMaggiori informazioni d'uso sono fornite nel foglio \"ESEMPI_RC\"."]
["PROSPETTI CALCOLATI"]
["Il riquadro propone una serie di pulsanti che, se cliccati, avviano l'esecuzione di particolari elaborazioni sui dati di input riportando i relativi  risultati su uno o più prospetti, a seconda dell'elaborazione eseguita.\n\n"]
["PROMEMORIE"]
["Il riquadro può proporre fino a due pulsanti che visualizzano ciascuno un foglio diverso, riportante un prospetto di promemoria che l'utilizzatore può variare a suo piacimento."]
["SUSSIDI CONTABILI"]
["Il riquadro propone due pulsanti che avviano l'esecuzione di due diverse funzioni. \nLa prima permette di ripartire una spesa solo fra alcuni dei condomini, ovvero fra i condomini le cui proprietà per la particolare spesa costituiscono un sub-condominio.\nNaturalmente i risultati del riparto vanno poi riportati come spese personali nella contabilità condominiale.\nLa seconda permette di scrivere le ricevute di versamento per le quote condominiali."]
["FASCICOLI PDF di DATI"]
["Il riquadro propone una serie di pulsanti che permettono di creare dei file PDF riportanti i prospetti dei dati forniti."]
["FASCICOLI PDF dei BILANCI"]
["Il riquadro propone due pulsanti che permettono di creare dei file PDF riportanti i Bilancio preventivo ed il Rendiconto consuntivo, tipici della gestione condominiale."]
["CARTELLE EXCEL"]
["Il riquadro propone due pulsanti.\nIl primo crea una cartella di lavoro EXCEL  contenente le schede contabili dei singoli condomini alla data di esecuzione della funzione.\nIl secondo crea una cartella di lavoro EXCEL contenente in ogni scheda le ricevute delle quote ancora da pagare da un condomino. Le schede sono pari al numero di condomini chenon hanno ancora saldato le proprie quote. "]
["MODULI AVVISI"]
["Il riquadro propone una serie di pulsanti che permettono di visualizzare e modificare alcuni moduli, usati normalmente dagli amministratore per fornire delle comunicazioni ai condomini."]
["MODULI RICEVUTE"]
["Il riquadro propone un pulsante che permettono di visualizzare e modificare un modulo di ricevuta per consegna fatta dall'amministratore."]
["PDF AVVISI AMMINISTRATORE"]
["Il riquadro propone una serie di pulsanti che permettono creare i file PDF delle comunicazioni ai condomini."]
["PDF RICEVUTE"]
["Il riquadro propone un pulsante che permette di creare i file PDF delle ricevute di consegna."]
["IMPORT EXPORT CONDOMINIO"]
["Con i due pulsati posti accoanto alla funzione di uscita dalla procedura è possibile compiere le due operazione di import ed export di condomini-lavori. \nL'export è inoltre deputato a creare delle copie di backup dei dati condominiali e del lavoro ad una determinata data.\nCon mquesto metodo il programma è in grado di gestire più condomini-lavori. "]

{"sheet":"DATIG","index":2,"n_rows":69,"n_cols":5,"rows_kept":69,"cut":false,"hidden":true,"merged":[[63,2,63,3],[64,2,64,3],[65,2,65,3],[66,2,66,3],[41,2,41,3],[40,0,40,3],[46,0,46,3],[62,0,62,3],[49,0,49,3],[56,0,56,3],[54,0,54,3],[59,2,59,3],[60,2,60,3],[57,2,57,3],[32,2,32,3],[38,2,38,3],[37,2,37,3],[0,0,0,3],[1,0,1,3],[3,0,3,3],[14,0,14,3],[31,0,31,3],[35,0,35,3]]}
["DATI GENERALI dell'Utilizzatore: Ing. Pietro CHIEFARI",null,null,null,0]
["È possibile variare solo i valori delle celle senza sfondo colorato, non è consentito spostare alcuna cella.\nI testi delle note al contenuto, pur se con sfondo colorato, possono essere variati, se l'utizzatore reputa che la variazione chiarisca meglio il contenuto cui fa riferimento."]
["CONTENUTO","FORMATO","NOTA al CONTENUTO"]
["DATI GENERALI del CONDOMINIO"]
["Condominio \"PROTOTIPO\"","Testo","Nome ufficiale del Condominio"]
["Via BELLA, 22-30-38","Testo","Indirizzo di Ubicazione"]
["88068 - SOVERATO (CZ)","Testo","Città"]
["C.F.  80000000796","Testo","Codice FISCALE del Condominio"]
["tel.  0967-922235","Testo","Telefono (normalmente dell'Amministratore)"]
["cell. 999-11111111","Testo","Cellulare (normalmente dell'Amministratore)"]
["Prototipo","Testo","Codice del Condominio (attribuito dall'utilizzatore)"]
["piasoft@piasoft.it","Testo","E-mail del Condominio o dell'Amministratore"]
[]
[]
["ESISTENZA, DENOMINAZIONE DELLE TABELLE DI RIPARTIZIONE DELLE SPESE e LORO SEQUENZA"]
["GENERALE","Testo","Tabella n. 1   - (max. 10 caratteri)","A"]
["Lato NORD","Testo","Tabella n. 2   - (max. 10 caratteri)","B"]
["Lato SUD","Testo","Tabella n. 3   - (max. 10 caratteri)","C"]
[null,"Testo","Tabella n. 4   - (max. 10 caratteri)","D"]
[null,"Testo","Tabella n. 5   - (max. 10 caratteri)","E"]
[null,"Testo","Tabella n. 6   - (max. 10 caratteri)","F"]
[null,"Testo","Tabella n. 7   - (max. 10 caratteri)","G"]
[null,"Testo","Tabella n. 8   - (max. 10 caratteri)","H"]
[null,"Testo","Tabella n. 9   - (max. 10 caratteri)","I"]
[null,"Testo","Tabella n. 10 - (max. 10 caratteri)","J"]
[]
[]
[]
[]
[]
[]
["DATE DI APPROVAZIONE DI PARTICOLARI DELIBERE CONDOMINIALI"]
["2016-12-16","Data","Data delle TABELLE MILLESIMALI\n(Delibera di approvazione o Deposito del Regolamento)"]
[]
[]
["DATI GENERALI relativi al FONDO LAVORI gestito"]
["LAVORO-01","Testo","Codice FONDO LAVORI"]
["2017-01-05","Data","Data redazione del QUADRO ECONOMICO di PREVENTIVO"]
["2019-12-31","Data","Data alla quale viene eseguito il rendiconto \n(per lavori ancora in corso si pone la formula   \"=OGGI()\", per lavori finiti si pone si pone direttamente la data del 31-12 dell'anno di fine lavori)"]
["Lavori messa in sicurezza fondazioni da infiltrazioni fognarie","Testo","Indicazione del lavoro"]
["DATE di SCADENZA dei PAGAMENTI per le RATE del FONDO LAVORI (max 4 rate)"]
["2017-01-25","Data","Data approvazione QUADRO ECONOMICO di PREVENTIVO e relativo RIPARTO."]
["2017-04-10","Data","1a Rata"]
["2018-04-10","Data","2a Rata "]
["2019-07-10","Data","3a Rata"]
[null,"Data","4a Rata"]
["DILAZIONI concesse dall'Assemblea"]
[30,"Numero","Numero di giorni di dilazione pagamento rate"]
[]
["ANNUALITÀ interessate al FONDO LAVORI (max 4 annualità)"]
[2017,"Numero","Annualità n. 1"]
[2018,"Numero","Annualità n. 2"]
[2019,"Numero","Annualità n. 3"]
[null,"Numero","Annualità n. 4"]
["STATO DEI LAVORI"]
[0,null,"0: in corso di esecuzione o d'opera --- 1: finiti"]
["DATI AGGIUNTIVI RICHIESTI DALL' AGENZIA delle ENTRATE PER LA COMUNICAZIONE DELLE DETRAZIONI "]
[2019,"Testo","Anno di riferimento ovvero annualità della comunicazione delle detrazioni fiscali, se l'intervento ricade su più annualità."]
["I872","Testo","Codice catastale del Comune cui appartiene il condominio"]
["A","Testo","Tipologia dell'intervento"]
["1","Testo","Progressivo dell'intervento"]
[]
["DATI AMMINISTRATORE"]
["Condomino Amministratore","Testo","Incarico (Amministratore o Condomino Amministratore)"]
["Ing. Pietro CHIEFARI","Testo","Titolo, Cognome e Nome"]
["Viale CUTURELLA, 2/D","Testo","Indirizzo"]
["88068 - SOVERATO (CZ)","Testo","CAP - Città -Provincia"]
[]
[0,null,null,null,0]

{"sheet":"PREF","index":3,"n_rows":30,"n_cols":4,"rows_kept":30,"cut":false,"hidden":true,"merged":[[0,0,0,2],[1,0,1,2],[3,0,3,2],[11,0,11,2],[16,0,16,2]]}
["SCELTE dell'UTILIZZATORE nell'uso della PROCEDURA",null,null,0]
["Nel prospetto è possibile variare i valori delle celle senza sfondo colorato, non è consentito spostare le celle.\nI valori delle celle con sfondo colorato potrebbero essere variati, ma si sconsiglia di farlo per non perdere utili indicazioni sulle celle i cui valori possono essere variati.\nI valori variabili esprimono delle scelte dell'utilizzatore nell'uso della procedura.\n\n\n"]
["VALORE","FORMATO","Descrizione del PARAMETRO ed indicazioni vari"]
["OPZIONI NELLA CREAZIONE DEI FILE PDF DELLE COMUNICAZIONI"]
[1,"Testo","0 - per creare un file della comunicazione per ogni condomino\n1 - per creare un unico file della comunicazione per tutti i condomini"]
[0,"Testo","0 - per cancellare la cartella EXCEL utilizzata per la creazione del file PDF.\n1 - per mantenere  la cartella EXCEL utilizzata per la creazione del file PDF."]
["A","Testo","Tabella i cui millesimi sono riportati nell'intestazione della comunicazione.\n(Nel caso di comunicazione generica, il parametro presiede inoltre all'individuazione dei condomini ai quali la comunicazione è indirizzata. La comunicazione sarà creata solo per i condomini hanno millesimi diversi da zero nella tabella indicata.)"]
["Adobe Acrobat Reader DC","Testo","Programma di lettura dei PDF (Vivamente consigliato AdobeAcrobat Reader DC)"]
[1,"Testo","0 - per non riportare la data di stampa sulla copertina\n1 - per riportare la data di stampa sulla copertina"]
[]
[]
["TESTO sui PULSANTI dei PROMEMORIA"]
["CONSEGNE COMUNICAZ.","Testo","Pulsante PROMEMORIA 1  [ max. 20 caratteri]"]
["SCADENZE","Testo","Pulsante PROMEMORIA 2  [ max. 20 caratteri]"]
[]
[]
["TESTO per le INTESTAZIONI e PIÈ DI PAGINA delle PAGINE da STAMPARE"]
["Condominio \"PROTOTIPO\"-FONDO LAVORI: LAVORO-01","Testo","Intestazione [compatibilmente con la larghezza della pagina, max 40 caratter]"]
["Cond. PROTOTIPO LAVORO-01","Testo","Piè di pagina [compatibilmente con la larghezza della pagina, max 30 caratteri]"]
[]
[]
[]
[]
[]
[]
[]
[]
[]
[]
[0,null,null,0]

{"sheet":"ADP","index":4,"n_rows":61,"n_cols":5,"rows_kept":61,"cut":false,"hidden":true,"merged":[[61,0,61,2],[0,0,0,3],[1,0,1,3],[4,0,4,3],[12,0,12,3]]}
[{"$f":" \"ADATTAMENTO DELLA CARTELLA DI LAVORO a \" & DATIG!A5","v":"ADATTAMENTO DELLA CARTELLA DI LAVORO a Condominio \"PROTOTIPO\""},null,null,null,0]
["I prospetti della procedura, sia di input che di output, hanno un numero di righe e colonne fissate dal programma stesso, in funzione dei valori massimi di alcuni parametri che caratterizzano l'utilizzabilità del programma stesso.\nIn considerazione del fatto che le righe e le colonne possono essere sovrabbondanti per il particolare condominio, la procedura automaticamente nasconde le righe e le colonne non necessarie, al fine di migliorare la leggibilità dei prospetti.\nPer farlo utilizza i valori delle celle senza sfondo colorato del prospetto sottostante.\nIn esso è possibile variare i valori delle celle senza sfondo colorato, non è consentito spostare le celle.\nI valori delle celle con sfondo colorato potrebbero essere variati, ma si sconsiglia di farlo per non perdere utili indicazioni sulle celle i cui valori possono essere variati.\nValori dei parametri superiori a quelli massimi riportati nella colonna D non saranno accettati."]
["PARAMETRI DI ADEGUAMENTO"]
["VALORE","TIPO","Descrizione del PARAMETRO ed indicazioni vari","VALORE MAX"]
["PARAMETRI relativi al CONDOMINIO"]
[24,"NUMERO","Numero di Unità Funzionali costituenti il condominio  (UFC)",99]
[22,"NUMERO","Numero di Unità Immobiliari catastali costituenti il condominio (UI)",99]
[19,"NUMERO","Numero di Condomini ",99]
[3,"NUMERO","Il maggiore fra i numeri dei comproprietari delle singole U.I.",6]
[20,"NUMERO","Numero raggruppamenti di soggetti che sostengono le spese per il lavoro ",99]
[3,"NUMERO","Il maggiore fra i numeri dei soggetti raggruppati che sostengono le spese per le singole U.I.",6]
[3,"NUMERO","Numero di tabelle usate per le ripartizioni delle spese ",10]
["NUMERO di CAPITOLI e VOCI nei PIANI DEI CONTI CONDOMINIALI"]
[10,"NUMERO","Numero massimo di Capitoli nel piano dei conti delle USCITE",10]
[12,"NUMERO","Numero di voci del capitolo S.01 delle USCITE",15]
[3,"NUMERO","Numero di voci del capitolo S.02 delle USCITE",10]
[3,"NUMERO","Numero di voci del capitolo S.03 delle USCITE",10]
[3,"NUMERO","Numero di voci del capitolo S.04 delle USCITE",10]
[2,"NUMERO","Numero di voci del capitolo S.05 delle USCITE",10]
[0,"NUMERO","Numero di voci del capitolo S.06 delle USCITE",5]
[0,"NUMERO","Numero di voci del capitolo S.07 delle USCITE",5]
[0,"NUMERO","Numero di voci del capitolo L       delle USCITE",5]
[3,"NUMERO","Numero di voci del capitolo U      delle USCITE",5]
[{"$f":"A7","v":22},"NUMERO","Numero di voci del capitolo P      delle USCITE  (= numero unità funzionali condominiali)",99]
[4,"NUMERO","Numero massimo di Capitoli nel piano dei conti delle ENTRATE",4]
[1,"NUMERO","Numero di voci del capitolo E      delle ENTRATE",5]
[2,"NUMERO","Numero di voci del capitolo V      delle ENTRATE",5]
[{"$f":"2*A51","v":0},"NUMERO","Numero di voci del capitolo F     delle Entrate (= 2 x numero FONDI SPECIALI)",0]
[{"$f":"A8","v":19},"NUMERO","Numero di voci del capitolo Q    delle Entrate (= numero condomini)",99]
[4,"NUMERO","Numero massimo di Capitoli nel piano dei conti dei CREDITI",4]
[0,"NUMERO","Numero di voci del capitolo C.01 dei CREDITI",0]
[3,"NUMERO","Numero di voci del capitolo C.02 dei CREDITI",5]
[1,"NUMERO","Numero di voci del capitolo C.03 dei CREDITI",5]
[{"$f":"A8","v":19},"NUMERO","Numero di voci del capitolo C.04 dei CREDITI (= numero condomini)",99]
[4,"NUMERO","Numero massimo di Capitoli nel piano dei conti dei DEBITI",4]
[0,"NUMERO","Numero di voci del capitolo D.01 dei DEBITI",0]
[5,"NUMERO","Numero di voci del capitolo D.02 dei DEBITI (sempre 5)",5]
[0,"NUMERO","Numero di voci del capitolo D.03 dei DEBITI",0]
[{"$f":"A8","v":19},"NUMERO","Numero di voci dei capitoli Z.04 e K.04 dei DEBITI (= numero condomini)",99]
[]
[]
[]
[]
[]
[]
[]
[]
[]
[]
[]
[]
[]
[]
[]
[]
[]
[]
[]
[]
[]
[0,null,null,null,0]

{"sheet":"CONDOMINI","index":5,"n_rows":111,"n_cols":67,"rows_kept":111,"cut":false,"hidden":true,"merged":[[8,0,9,0],[8,1,9,1],[8,4,8,11],[8,19,8,20],[8,28,8,29],[7,30,7,38],[8,64,8,65],[8,13,8,18],[8,22,8,27],[8,31,8,36],[8,37,8,38],[8,46,8,47],[8,55,8,56],[8,58,8,63],[8,49,8,54],[8,40,8,45],[7,39,7,47],[7,48,7,56],[7,57,7,65],[0,0,0,10],[5,0,5,8],[7,1,7,11],[7,12,7,20],[7,21,7,29]]}
["!!! Non variare il contenuto delle celle con sfondo colorato.",null,null,null,null,null,null,null,null,null,null,null,null,null,null,null,null,null,null,null,null,null,null,null,null,null,null,null,null,null,null,null,null,null,null,null,null,null,null,null,null,null,null,null,null,null,null,null,null,null,null,null,null,null,null,null,null,null,null,null,null,null,null,null,null,0,0]
[]
[]
[]
[]
[]
[]
[null,"DATI CONDOMINI",null,null,null,null,null,null,null,null,null,null,"DATI 1° PROPRIETARIO",null,null,null,null,null,null,null,null,"DATI 2° PROPRIETARIO",null,null,null,null,null,null,null,null,"DATI 3° PROPRIETARIO",null,null,null,null,null,null,null,null,"DATI 4° PROPRIETARIO",null,null,null,null,null,null,null,null,"DATI 5° PROPRIETARIO",null,null,null,null,null,null,null,null,"DATI 6° PROPRIETARIO"]
["n.\nCond.","Codice \nCondomino","CONDOMINI",null,"RECAPITO DEL REFERENTE",null,null,null,null,null,null,null,null,"DATI FISCALI",null,null,null,null,null,"ALTRI RECAPITI",null,null,"DATI FISCALI",null,null,null,null,null,"ALTRI RECAPITI",null,null,"DATI FISCALI",null,null,null,null,null,"RECAPITO",null,null,"DATI FISCALI",null,null,null,null,null,"ALTRI RECAPITI",null,null,"DATI FISCALI",null,null,null,null,null,"ALTRI RECAPITI",null,null,"DATI FISCALI",null,null,null,null,null,"ALTRI RECAPITI"]
[null,null,"DENOMINAZIONE","S","REFERENTE","INDIRIZZO","CAP","CITTÀ","Prov.","TEL.","CELL.","INDIRIZZO email","%","PROPRIETARIO","Codice Fiscale","DOMICILIO FISCALE","CAP","CITTÀ","Prov.","TEL./CELL.","INDIRIZZO email","%","PROPRIETARIO","Codice Fiscale","DOMICILIO FISCALE","CAP","CITTÀ","Prov.","TEL./CELL.","INDIRIZZO email","%","PROPRIETARIO","Codice Fiscale","DOMICILIO FISCALE","CAP","CITTÀ","Prov.","TEL./CELL.","INDIRIZZO email","%","PROPRIETARIO","Codice Fiscale","DOMICILIO FISCALE","CAP","CITTÀ","Prov.","TEL./CELL.","INDIRIZZO email","%","PROPRIETARIO","Codice Fiscale","DOMICILIO FISCALE","CAP","CITTÀ","Prov.","TEL./CELL.","INDIRIZZO email","%","PROPRIETARIO","Codice Fiscale","DOMICILIO FISCALE","CAP","CITTÀ","Prov.","TEL./CELL.","INDIRIZZO email"]
[1,"C01","CONDOMINO01","P","Referente01","Viale BELLA, 22","88068","SOVERATO","CZ","0000-000000","000-0000000","Condomino01@gmail.com",100,"PROPRIETARIO-01-01","PPPKKK00G00T100Q","Via Pinco Pallino, 1","83100","AVELLINO","AV"]
[2,"C02","CONDOMINO02","M","CONDOMINO02","Viale BELLA, 22","88068","SOVERATO","CZ","0000-000000","000-0000000","Condomino02@gmail.com",100,"PROPRIETARIO-01-02","PPPKKK00G00T200Q","Viale BELLA, 22","88068","SOVERATO","CZ"]
[3,"C03","CONDOMINO03","M","CONDOMINO03","Viale BELLA, 22","88068","SOVERATO","CZ","0000-000000","000-0000000","Condomino03@gmail.com",100,"PROPRIETARIO-01-03","PPPKKK00G00T300Q","Viale BELLA, 22","88068","SOVERATO","CZ"]
[4,"C04","CONDOMINO04","M","CONDOMINO04","Viale BELLA, 22","88068","SOVERATO","CZ","0000-000000","000-0000000","Condomino04@gmail.com",100,"PROPRIETARIO-01-04","PPPKKK00G00T400Q","Viale BELLA, 22","88068","SOVERATO","CZ"]
[5,"C05","CONDOMINO05","M","CONDOMINO05","Viale BELLA, 22","88068","SOVERATO","CZ","0000-000000","000-0000000","Condomino05@gmail.com",100,"PROPRIETARIO-01-05","PPPKKK00G00T500Q","Viale BELLA, 22","88068","SOVERATO","CZ"]
[6,"C06","CONDOMINO06","F","CONDOMINO06","Viale BELLA, 22","88068","SOVERATO","CZ","0000-000000","000-0000000","Condomino06@gmail.com",100,"PROPRIETARIO-01-06","PPPKKK00G00T600Q","Viale BELLA, 22","88068","SOVERATO","CZ"]
[7,"C07","CONDOMINO07","M","CONDOMINO07","Viale BELLA, 22","88068","SOVERATO","CZ","0000-000000","000-0000000","Condomino07@gmail.com",100,"PROPRIETARIO-01-07","PPPKKK00G00T700Q","Viale BELLA, 22","88068","SOVERATO","CZ"]
[8,"C08","CONDOMINO08","P","Referente02","Viale BELLA, 30","88068","SOVERATO","CZ","0000-000000","000-0000000","Condomino08@gmail.com",50,"PROPRIETARIO-01-08","PPPKKK00G00T800Q","Via PeppePeppe, 47","87100","COSENZA","CS",null,null,50,"PROPRIETARIO-02-08","UUUKKK00G00T100Q","Via PeppePeppe, 47","87100","COSENZA","CS"]
[9,"C09","CONDOMINO09","M","CONDOMINO09","Viale BELLA, 30","88068","SOVERATO","CZ","0000-000000","000-0000000","Condomino09@gmail.com",100,"PROPRIETARIO-01-09","PPPKKK00G00T900Q","Viale BELLA, 22","88068","SOVERATO","CZ"]
[10,"C10","CONDOMINO10","F","CONDOMINO10","Viale BELLA, 30","88068","SOVERATO","CZ","0000-000000","000-0000000","Condomino10@gmail.com",100,"PROPRIETARIO-01-10","PPPKKK00G00T110Q","Viale BELLA, 22","88068","SOVERATO","CZ"]
[11,"C11","CONDOMINO11","M","Referente03","Viale BELLA, 30","88068","SOVERATO","CZ","0000-000000","000-0000000","Condomino11@gmail.com",100,"PROPRIETARIO-01-11","PPPKKK00G00T120Q","Viale BELLA, 22","88068","SOVERATO","CZ"]
[12,"C12","CONDOMINO12","F","Referente04","Viale BELLA, 30","88068","SOVERATO","CZ","0000-000000","000-0000000","Condomino12@gmail.com",100,"PROPRIETARIO-01-12","PPPKKK00G00T130Q","Viale BELLA, 22","88068","SOVERATO","CZ"]
[13,"C13","CONDOMINO13","D","CONDOMINO13","Viale BELLA, 30","88068","SOVERATO","CZ","0000-000000","000-0000000","Condomino13@gmail.com",100,"PROPRIETARIO-01-13","00044455566","Via TORINO, 15","88100","CATANZARO","CZ"]
[14,"C14","CONDOMINO14","P","Referente05","Viale BELLA, 30","88068","SOVERATO","CZ","0000-000000","000-0000000","Condomino14@gmail.com",50,"PROPRIETARIO-01-14","PPPKKK00G00T150Q","Viale BELLA, 22","88068","SOVERATO","CZ",null,null,50,"PROPRIETARIO-02-14","UUUKKK00G00T200Q","Via Pane NERO, 44","88068","SOVERATO","CZ"]
[15,"C15","CONDOMINO15","M","CONDOMINO15","Viale BELLA, 30","88068","SOVERATO","CZ","0000-000000","000-0000000","Condomino15@gmail.com",100,"PROPRIETARIO-01-15","PPPKKK00G00T160Q","Viale BELLA, 22","88068","SOVERATO","CZ"]
[16,"C16","CONDOMINO16","F","CONDOMINO16","Viale BELLA, 38","88068","SOVERATO","CZ","0000-000000","000-0000000","Condomino16@gmail.com",100,"PROPRIETARIO-01-16","PPPKKK00G00T170Q","Via Pippo Pippo, 34","47921","RIMINI","RN"]
[17,"C17","CONDOMINO17","F","CONDOMINO17","Viale BELLA, 38","88068","SOVERATO","CZ","0000-000000","000-0000000","Condomino17@gmail.com",100,"PROPRIETARIO-01-17","PPPKKK00G00T180Q","Viale BELLA, 22","88068","SOVERATO","CZ"]
[18,"C18","CONDOMINO18","P","CONDOMINO18","Viale BELLA, 38","88068","SOVERATO","CZ","0000-000000","000-0000000","Condomino18@gmail.com",100,"PROPRIETARIO-01-18","PPPKKK00G00T190Q","Viale BELLA, 22","88068","SOVERATO","CZ"]
[19,"C19","CONDOMINO19","P","CONDOMINO19","Viale BELLA, 38","88068","SOVERATO","CZ","0000-000000","000-0000000","Condomino19@gmail.com",50,"PROPRIETARIO-01-19","PPPKKK00G00T200Q","Viale BELLA, 22","88068","SOVERATO","CZ",null,null,25,"PROPRIETARIO-02-19","UUUKKK00G00T300Q","Via della Acque Sporche, 17","88068","SOVERATO","CZ",null,null,25,"PROPRIETARIO-03-19","ZZZKKK55G55T555Q","Via delle Libertà Perdute,96",88060,"SATRIANO","CZ"]
[20,"C20"]
[21,"C21"]
[22,"C22"]
[23,"C23"]
[24,"C24"]
[25,"C25"]
[26,"C26"]
[27,"C27"]
[28,"C28"]
[29,"C29"]
[30,"C30"]
[31,"C31"]
[32,"C32"]
[33,"C33"]
[34,"C34"]
[35,"C35"]
[36,"C36"]
[37,"C37"]
[38,"C38"]
[39,"C39"]
[40,"C40"]
[41,"C41"]
[42,"C42"]
[43,"C43"]
[44,"C44"]
[45,"C45"]
[46,"C46"]
[47,"C47"]
[48,"C48"]
[49,"C49"]
[50,"C50"]
[51,"C51"]
[52,"C52"]
[53,"C53"]
[54,"C54"]
[55,"C55"]
[56,"C56"]
[57,"C57"]
[58,"C58"]
[59,"C59"]
[60,"C60"]
[61,"C61"]
[62,"C62"]
[63,"C63"]
[64,"C64"]
[65,"C65"]
[66,"C66"]
[67,"C67"]
[68,"C68"]
[69,"C69"]
[70,"C70"]
[71,"C71"]
[72,"C72"]
[73,"C73"]
[74,"C74"]
[75,"C75"]
[76,"C76"]
[77,"C77"]
[78,"C78"]
[79,"C79"]
[80,"C80"]
[81,"C81"]
[82,"C82"]
[83,"C83"]
[84,"C84"]
[85,"C85"]
[86,"C86"]
[87,"C87"]
[88,"C88"]
[89,"C89"]
[90,"C90"]
[91,"C91"]
[92,"C92"]
[93,"C93"]
[94,"C94"]
[95,"C95"]
[96,"C96"]
[97,"C97"]
[98,"C98"]
[99,"C99"]
[]
[0,null,null,null,null,null,null,null,null,null,null,null,null,null,null,null,null,null,null,null,null,null,null,null,null,null,null,null,null,null,null,null,null,null,null,null,null,null,null,null,null,null,null,null,null,null,null,null,null,null,null,null,null,null,null,null,null,null,null,null,null,null,null,null,null,null,0]

{"sheet":"SS","index":6,"n_rows":111,"n_cols":27,"rows_kept":111,"cut":false,"hidden":true,"merged":[[7,0,9,0],[7,1,9,1]]}
["!!! Non variare il contenuto delle celle con sfondo colorato.",null,null,null,null,null,null,null,null,null,null,null,null,null,null,null,null,null,null,null,null,null,null,null,null,null,0]
[]
[]
[]
[]
[]
[]
["n.\n","Codice GRUPPO \nSOGGETTI SOSTENITORI","1° SOGGETTO CHE SOSTIENE LE SPESE",null,null,null,"2° SOGGETTO CHE SOSTIENE LE SPESE",null,null,null,"3° SOGGETTO CHE SOSTIENE LE SPESE",null,null,null,"4° SOGGETTO CHE SOSTIENE LE SPESE",null,null,null,"5° SOGGETTO CHE SOSTIENE LE SPESE",null,null,null,"6° SOGGETTO CHE SOSTIENE LE SPESE"]
[null,null,"DATI FISCALI",null,null,null,"DATI FISCALI",null,null,null,"DATI FISCALI",null,null,null,"DATI FISCALI",null,null,null,"DATI FISCALI",null,null,null,"DATI FISCALI"]
[null,null,"%","SOGGETTO","Codice Fiscale","T","%","SOGGETTO","Codice Fiscale","T","%","SOGGETTO","Codice Fiscale","T","%","SOGGETTO","Codice Fiscale","T","%","SOGGETTO","Codice Fiscale","T","%","SOGGETTO","Codice Fiscale","T"]
[1,"S01",100,"SOGGETTO01-01","PPPKKK00G00T100Q","0"]
[2,"S02",100,"SOGGETTO01-02","PPPKKK00G00T200Q","0"]
[3,"S03",100,"SOGGETTO01-03","PPPKKK00G00T300Q","0"]
[4,"S04",100,"SOGGETTO01-04","PPPKKK00G00T400Q","0"]
[5,"S05",100,"SOGGETTO01-05","PPPKKK00G00T500Q","0"]
[6,"S06",100,"SOGGETTO01-06","PPPKKK00G00T600Q","0"]
[7,"S07",100,"SOGGETTO01-07","PPPKKK00G00T700Q","0"]
[8,"S08",50,"SOGGETTO01-08","PPPKKK00G00T800Q","0",50,"SOGGETTO02-08","UUUKKK00G00T100Q","0"]
[9,"S09",100,"SOGGETTO01-09","PPPKKK00G00T900Q",1]
[10,"S10",100,"SOGGETTO01-10","PPPKKK00G00T110Q","0"]
[11,"S11",100,"SOGGETTO01-11","PPPKKK00G00T120Q","0"]
[12,"S12",100,"SOGGETTO01-12","PPPKKK00G00T130Q","0"]
[13,"S13",100,"SOGGETTO01-13","00044455566","0"]
[14,"S14",50,"SOGGETTO01-14","PPPKKK00G00T150Q","0",50,"SOGGETTO02-14","UUUKKK00G00T200Q","0"]
[15,"S15",100,"SOGGETTO01-15","PPPKKK00G00T160Q","2"]
[16,"S16",100,"SOGGETTO01-16","PPPKKK00G00T170Q","0"]
[17,"S17",100,"SOGGETTO01-17","PPPKKK00G00T180Q","0"]
[18,"S18",100,"SOGGETTO01-18","PPPKKK00G00T190Q","0"]
[19,"S19",50,"SOGGETTO01-19","PPPKKK00G00T200Q","0",25,"SOGGETTO02-19","UUUKKK00G00T300Q","0",25,"SOGGETTO03-19","ZZZKKK55G55T555Q",1]
[20,"S20",100,"SOGGETTO01-20","PPPKKK00J00T200W","0"]
[21,"S21"]
[22,"S22"]
[23,"S23"]
[24,"S24"]
[25,"S25"]
[26,"S26"]
[27,"S27"]
[28,"S28"]
[29,"S29"]
[30,"S30"]
[31,"S31"]
[32,"S32"]
[33,"S33"]
[34,"S34"]
[35,"S35"]
[36,"S36"]
[37,"S37"]
[38,"S38"]
[39,"S39"]
[40,"S40"]
[41,"S41"]
[42,"S42"]
[43,"S43"]
[44,"S44"]
[45,"S45"]
[46,"S46"]
[47,"S47"]
[48,"S48"]
[49,"S49"]
[50,"S50"]
[51,"S51"]
[52,"S52"]
[53,"S53"]
[54,"S54"]
[55,"S55"]
[56,"S56"]
[57,"S57"]
[58,"S58"]
[59,"S59"]
[60,"S60"]
[61,"S61"]
[62,"S62"]
[63,"S63"]
[64,"S64"]
[65,"S65"]
[66,"S66"]
[67,"S67"]
[68,"S68"]
[69,"S69"]
[70,"S70"]
[71,"S71"]
[72,"S72"]
[73,"S73"]
[74,"S74"]
[75,"S75"]
[76,"S76"]
[77,"S77"]
[78,"S78"]
[79,"S79"]
[80,"S80"]
[81,"S81"]
[82,"S82"]
[83,"S83"]
[84,"S84"]
[85,"S85"]
[86,"S86"]
[87,"S87"]
[88,"S88"]
[89,"S89"]
[90,"S90"]
[91,"S91"]
[92,"S92"]
[93,"S93"]
[94,"S94"]
[95,"S95"]
[96,"S96"]
[97,"S97"]
[98,"S98"]
[99,"S99"]
[]
[0,null,null,null,null,null,null,null,null,null,null,null,null,null,null,null,null,null,null,null,null,null,null,null,null,null,0]

{"sheet":"UF","index":7,"n_rows":111,"n_cols":11,"rows_kept":111,"cut":false,"hidden":true,"merged":[[0,0,0,9],[8,0,9,0],[8,1,9,1],[8,2,9,2],[8,5,9,5],[8,9,9,9],[8,3,9,3],[8,4,9,4],[8,6,9,6],[8,7,9,7],[8,8,9,8],[7,0,7,2]]}
["!!! Non variare il contenuto delle celle con sfondo colorato.",null,null,null,null,null,null,null,null,null,0]
[]
[]
[]
["UNITÀ FUNZIONALI CONDOMINIALI"]
["Condominio \"PROTOTIPO\" - Via BELLA, 22-30-38 - 88068 - SOVERATO (CZ)"]
[]
["IDENTIFICATIVI CONDOMINIALI",null,null,"UBICAZIONE",null,null,null,null,null,"DESTINAZIONE"]
["n° UFC","Codice Unità\nFunzionale\nCondominiale","Codice Unità\nImmobiliare Catastale\ncui appartiene","ODONIMO","Civico","Edificio","Scala","Piano","Interno","UTILIZZAZIONE"]
[]
[1,"UFC01","U01","Via BELLA",38,null,null,null,null,"Abitazione"]
[2,"UFC02","U02","Via BELLA",38,null,null,null,null,"Abitazione"]
[3,"UFC03","U03","Via BELLA",38,null,null,null,null,"Abitazione"]
[4,"UFC04","U04","Via BELLA",38,null,null,null,null,"Abitazione"]
[5,"UFC05","U05","Via BELLA",38,null,null,null,null,"Abitazione"]
[6,"UFC06","U06","Via BELLA",38,null,null,null,null,"Abitazione"]
[7,"UFC07","U07","Via BELLA",30,null,null,null,null,"Abitazione"]
[8,"UFC08","U08","Via BELLA",30,null,null,null,null,"Abitazione"]
[9,"UFC09","U09","Via BELLA",30,null,null,null,null,"Abitazione"]
[10,"UFC10","U10","Via BELLA",30,null,null,null,null,"Abitazione"]
[11,"UFC11","U11","Via BELLA",30,null,null,null,null,"Abitazione"]
[12,"UFC12","U12","Via BELLA",30,null,null,null,null,"Abitazione"]
[13,"UFC13","U13","Via BELLA",22,null,null,null,null,"Abitazione"]
[14,"UFC14","U14","Via BELLA",22,null,null,null,null,"Abitazione"]
[15,"UFC15","U15","Via BELLA",22,null,null,null,null,"Abitazione"]
[16,"UFC16","U16","Via BELLA",22,null,null,null,null,"Abitazione"]
[17,"UFC17","U17","Via BELLA",22,null,null,null,null,"Garage"]
[18,"UFC18","U18","Via BELLA",38,null,null,null,null,"Abitazione"]
[19,"UFC19","U19","Via BELLA",38,null,null,null,null,"Abitazione"]
[20,"UFC20","U20","Via BELLA",30,null,null,null,null,"Abitazione"]
[21,"UFC21","U21","Via BELLA",30,null,null,null,null,"Garage"]
[22,"UFC22","U22","Via BELLA",22,null,null,null,null,"Abitazione"]
[23,"UFC23","U20","Via BELLA",22,null,null,null,null,"Locale autoclave"]
[24,"UFC24","U15","Via BELLA",38,null,null,null,null,"Stenditoio"]
[25,"UFC25"]
[26,"UFC26"]
[27,"UFC27"]
[28,"UFC28"]
[29,"UFC29"]
[30,"UFC30"]
[31,"UFC31"]
[32,"UFC32"]
[33,"UFC33"]
[34,"UFC34"]
[35,"UFC35"]
[36,"UFC36"]
[37,"UFC37"]
[38,"UFC38"]
[39,"UFC39"]
[40,"UFC40"]
[41,"UFC41"]
[42,"UFC42"]
[43,"UFC43"]
[44,"UFC44"]
[45,"UFC45"]
[46,"UFC46"]
[47,"UFC47"]
[48,"UFC48"]
[49,"UFC49"]
[50,"UFC50"]
[51,"UFC51"]
[52,"UFC52"]
[53,"UFC53"]
[54,"UFC54"]
[55,"UFC55"]
[56,"UFC56"]
[57,"UFC57"]
[58,"UFC58"]
[59,"UFC59"]
[60,"UFC60"]
[61,"UFC61"]
[62,"UFC62"]
[63,"UFC63"]
[64,"UFC64"]
[65,"UFC65"]
[66,"UFC66"]
[67,"UFC67"]
[68,"UFC68"]
[69,"UFC69"]
[70,"UFC70"]
[71,"UFC71"]
[72,"UFC72"]
[73,"UFC73"]
[74,"UFC74"]
[75,"UFC75"]
[76,"UFC76"]
[77,"UFC77"]
[78,"UFC78"]
[79,"UFC79"]
[80,"UFC80"]
[81,"UFC81"]
[82,"UFC82"]
[83,"UFC83"]
[84,"UFC84"]
[85,"UFC85"]
[86,"UFC86"]
[87,"UFC87"]
[88,"UFC88"]
[89,"UFC89"]
[90,"UFC90"]
[91,"UFC91"]
[92,"UFC92"]
[93,"UFC93"]
[94,"UFC94"]
[95,"UFC95"]
[96,"UFC96"]
[97,"UFC97"]
[98,"UFC98"]
[99,"UFC99"]
[]
[0,null,null,null,null,null,null,null,null,null,0]

{"sheet":"UI","index":8,"n_rows":111,"n_cols":26,"rows_kept":111,"cut":false,"hidden":true,"merged":[[8,24,9,24],[7,3,7,4],[0,0,0,23],[7,20,7,22],[8,20,9,20],[7,5,7,12],[8,0,9,0],[8,2,9,2],[8,1,9,1],[8,3,9,3],[8,4,9,4],[8,5,9,5],[8,15,9,15],[8,19,9,19],[8,17,9,17],[8,18,9,18],[7,0,7,2],[8,23,9,23],[8,21,9,21],[109,5,109,12],[8,12,9,12],[8,13,9,13],[8,14,9,14],[8,16,9,16],[8,6,9,6],[8,7,9,7],[8,8,9,8],[8,9,9,9],[8,10,9,10],[8,11,9,11],[8,22,9,22]]}
["!!! Non variare il contenuto delle celle con sfondo colorato.",null,null,null,null,null,null,null,null,null,null,null,null,null,null,null,null,null,null,null,null,null,null,null,null,0]
[]
[]
[]
[{"$f":"\"UNITÀ IMMOBILIARI CATASTALI\"","v":"UNITÀ IMMOBILIARI CATASTALI"}]
["Condominio \"PROTOTIPO\" - Via BELLA, 22-30-38 - 88068 - SOVERATO (CZ)"]
[{"$f":"\"CONDOMINI (al giorno \" &  TEXT(DATIG!A39,\"gg-mmmm-aaaa\") & \")\"","v":"CONDOMINI (al giorno 31-dicembre-2019)"}]
["IDENTIFICATIVI CONDOMINIALI",null,null,"PROPRIETÀ",null,"IDENTIFICATIVI CATASTALI",null,null,null,null,null,null,null,"UBICAZIONE\nCATASTALE",null,null,null,null,null,"DESTINAZIONE\nCATASTALE","DETRAZIONI FISCALI",null,null,"FRUITORI DELLA DETRAZIONE FISCALE"]
["n° UI","Codice Unità Catastale\nImmobiliare","UFC\ncostituenti","Codice Condomino\nProprietario","CONDOMINO","Foglio","Particella","Subalterno","Categoria","Classe","Consistenza\n(vani)","Consistenza\n(mq)","Rendita\n(euro)","ODONIMO","Civico","EDIFICIO","Scala","Piano","Interno","UTILIZZAZIONE","Codice Unità\nImmobiliare\nPrincipale","Codice Unità\nImmobiliare\nPertinenza 1","Codice Unità\nImmobiliare\nPertinenza 2","Codice\nSOSTENITORI\nSPESE","FLAG\nU.I."]
[]
[1,"U01","UFC01","C01",{"$f":"IF(D11<>\"\",IFERROR(VLOOKUP(D11,CONDOMINI!$B$11:$C$109,2,FALSE),\"\"),\"\")","v":"CONDOMINO01"},40,55,1,null,null,null,null,null,"Via BELLA",38,null,null,null,null,"Abitazione","U01",null,null,"S01"]
[2,"U02","UFC02","C02",{"$f":"IF(D12<>\"\",IFERROR(VLOOKUP(D12,CONDOMINI!$B$11:$C$109,2,FALSE),\"\"),\"\")","v":"CONDOMINO02"},40,55,2,null,null,null,null,null,"Via BELLA",38,null,null,null,null,"Abitazione","U02",null,null,"S02"]
[3,"U03","UFC03","C03",{"$f":"IF(D13<>\"\",IFERROR(VLOOKUP(D13,CONDOMINI!$B$11:$C$109,2,FALSE),\"\"),\"\")","v":"CONDOMINO03"},40,55,3,null,null,null,null,null,"Via BELLA",38,null,null,null,null,"Abitazione","U03",null,null,"S03"]
[4,"U04","UFC04","C04",{"$f":"IF(D14<>\"\",IFERROR(VLOOKUP(D14,CONDOMINI!$B$11:$C$109,2,FALSE),\"\"),\"\")","v":"CONDOMINO04"},40,55,4,null,null,null,null,null,"Via BELLA",38,null,null,null,null,"Abitazione","U04",null,null,"S04"]
[5,"U05","UFC05","C05",{"$f":"IF(D15<>\"\",IFERROR(VLOOKUP(D15,CONDOMINI!$B$11:$C$109,2,FALSE),\"\"),\"\")","v":"CONDOMINO05"},40,55,5,null,null,null,null,null,"Via BELLA",38,null,null,null,null,"Abitazione","U05",null,null,"S05"]
[6,"U06","UFC06","C06",{"$f":"IF(D16<>\"\",IFERROR(VLOOKUP(D16,CONDOMINI!$B$11:$C$109,2,FALSE),\"\"),\"\")","v":"CONDOMINO06"},40,55,6,null,null,null,null,null,"Via BELLA",38,null,null,null,null,"Abitazione","U06",null,null,"S06"]
[7,"U07","UFC07","C07",{"$f":"IF(D17<>\"\",IFERROR(VLOOKUP(D17,CONDOMINI!$B$11:$C$109,2,FALSE),\"\"),\"\")","v":"CONDOMINO07"},40,55,7,null,null,null,null,null,"Via BELLA",30,null,null,null,null,"Abitazione","U07",null,null,"S07"]
[8,"U08","UFC08","C08",{"$f":"IF(D18<>\"\",IFERROR(VLOOKUP(D18,CONDOMINI!$B$11:$C$109,2,FALSE),\"\"),\"\")","v":"CONDOMINO08"},40,55,8,null,null,null,null,null,"Via BELLA",30,null,null,null,null,"Abitazione","U08","U21",null,"S08"]
[9,"U09","UFC09","C09",{"$f":"IF(D19<>\"\",IFERROR(VLOOKUP(D19,CONDOMINI!$B$11:$C$109,2,FALSE),\"\"),\"\")","v":"CONDOMINO09"},40,55,9,null,null,null,null,null,"Via BELLA",30,null,null,null,null,"Abitazione","U09",null,null,"S09"]
[10,"U10","UFC10","C10",{"$f":"IF(D20<>\"\",IFERROR(VLOOKUP(D20,CONDOMINI!$B$11:$C$109,2,FALSE),\"\"),\"\")","v":"CONDOMINO10"},40,55,10,null,null,null,null,null,"Via BELLA",30,null,null,null,null,"Abitazione","U10",null,null,"S10"]
[11,"U11","UFC11","C11",{"$f":"IF(D21<>\"\",IFERROR(VLOOKUP(D21,CONDOMINI!$B$11:$C$109,2,FALSE),\"\"),\"\")","v":"CONDOMINO11"},40,55,11,null,null,null,null,null,"Via BELLA",30,null,null,null,null,"Abitazione","U11",null,null,"S11"]
[12,"U12","UFC12","C12",{"$f":"IF(D22<>\"\",IFERROR(VLOOKUP(D22,CONDOMINI!$B$11:$C$109,2,FALSE),\"\"),\"\")","v":"CONDOMINO12"},40,55,12,null,null,null,null,null,"Via BELLA",30,null,null,null,null,"Abitazione","U12",null,null,"S12"]
[13,"U13","UFC13","C13",{"$f":"IF(D23<>\"\",IFERROR(VLOOKUP(D23,CONDOMINI!$B$11:$C$109,2,FALSE),\"\"),\"\")","v":"CONDOMINO13"},40,55,13,null,null,null,null,null,"Via BELLA",22,null,null,null,null,"Abitazione","U13",null,null,"S13"]
[14,"U14","UFC14","C14",{"$f":"IF(D24<>\"\",IFERROR(VLOOKUP(D24,CONDOMINI!$B$11:$C$109,2,FALSE),\"\"),\"\")","v":"CONDOMINO14"},40,55,14,null,null,null,null,null,"Via BELLA",22,null,null,null,null,"Abitazione","U14",null,null,"S14"]
[15,"U15","UFC15+UFC24","C15",{"$f":"IF(D25<>\"\",IFERROR(VLOOKUP(D25,CONDOMINI!$B$11:$C$109,2,FALSE),\"\"),\"\")","v":"CONDOMINO15"},40,55,15,null,null,null,null,null,"Via BELLA",22,null,null,null,null,"Abitazione","U15",null,null,"S15"]
[16,"U16","UFC16","C16",{"$f":"IF(D26<>\"\",IFERROR(VLOOKUP(D26,CONDOMINI!$B$11:$C$109,2,FALSE),\"\"),\"\")","v":"CONDOMINO16"},40,55,16,null,null,null,null,null,"Via BELLA",22,null,null,null,null,"Abitazione","U16",null,null,"S16"]
[17,"U17","UFC17","C17",{"$f":"IF(D27<>\"\",IFERROR(VLOOKUP(D27,CONDOMINI!$B$11:$C$109,2,FALSE),\"\"),\"\")","v":"CONDOMINO17"},40,55,17,null,null,null,null,null,"Via BELLA",22,null,null,null,null,"Garage","U17",null,null,"S17"]
[18,"U18","UFC18","C18",{"$f":"IF(D28<>\"\",IFERROR(VLOOKUP(D28,CONDOMINI!$B$11:$C$109,2,FALSE),\"\"),\"\")","v":"CONDOMINO18"},40,55,18,null,null,null,null,null,"Via BELLA",38,null,null,null,null,"Abitazione","U18",null,null,"S18"]
[19,"U19","UFC19","C19",{"$f":"IF(D29<>\"\",IFERROR(VLOOKUP(D29,CONDOMINI!$B$11:$C$109,2,FALSE),\"\"),\"\")","v":"CONDOMINO19"},40,55,24,null,null,null,null,null,"Via BELLA",38,null,null,null,null,"Abitazione","U19",null,null,"S19"]
[20,"U20","UFC20+UFC23","C07",{"$f":"IF(D30<>\"\",IFERROR(VLOOKUP(D30,CONDOMINI!$B$11:$C$109,2,FALSE),\"\"),\"\")","v":"CONDOMINO07"},40,55,23,null,null,null,null,null,"Via BELLA",30,null,null,null,null,"Abitazione","U20",null,null,"S20"]
[21,"U21","UFC21","C08",{"$f":"IF(D31<>\"\",IFERROR(VLOOKUP(D31,CONDOMINI!$B$11:$C$109,2,FALSE),\"\"),\"\")","v":"CONDOMINO08"},40,55,22,null,null,null,null,null,"Via BELLA",30,null,null,null,null,"Garage","U21",null,null,"S08"]
[22,"U22","UFC22","C19",{"$f":"IF(D32<>\"\",IFERROR(VLOOKUP(D32,CONDOMINI!$B$11:$C$109,2,FALSE),\"\"),\"\")","v":"CONDOMINO19"},40,55,55,null,null,null,null,null,"Via BELLA",22,null,null,null,null,"Abitazione","U22",null,null,"S19"]
[23,"U23",null,null,{"$f":"IF(D33<>\"\",IFERROR(VLOOKUP(D33,CONDOMINI!$B$11:$C$109,2,FALSE),\"\"),\"\")","v":""}]
[24,"U24",null,null,{"$f":"IF(D34<>\"\",IFERROR(VLOOKUP(D34,CONDOMINI!$B$11:$C$109,2,FALSE),\"\"),\"\")","v":""}]
[25,"U25",null,null,{"$f":"IF(D35<>\"\",IFERROR(VLOOKUP(D35,CONDOMINI!$B$11:$C$109,2,FALSE),\"\"),\"\")","v":""}]
[26,"U26",null,null,{"$f":"IF(D36<>\"\",IFERROR(VLOOKUP(D36,CONDOMINI!$B$11:$C$109,2,FALSE),\"\"),\"\")","v":""}]
[27,"U27",null,null,{"$f":"IF(D37<>\"\",IFERROR(VLOOKUP(D37,CONDOMINI!$B$11:$C$109,2,FALSE),\"\"),\"\")","v":""}]
[28,"U28",null,null,{"$f":"IF(D38<>\"\",IFERROR(VLOOKUP(D38,CONDOMINI!$B$11:$C$109,2,FALSE),\"\"),\"\")","v":""}]
[29,"U29",null,null,{"$f":"IF(D39<>\"\",IFERROR(VLOOKUP(D39,CONDOMINI!$B$11:$C$109,2,FALSE),\"\"),\"\")","v":""}]
[30,"U30",null,null,{"$f":"IF(D40<>\"\",IFERROR(VLOOKUP(D40,CONDOMINI!$B$11:$C$109,2,FALSE),\"\"),\"\")","v":""}]
[31,"U31",null,null,{"$f":"IF(D41<>\"\",IFERROR(VLOOKUP(D41,CONDOMINI!$B$11:$C$109,2,FALSE),\"\"),\"\")","v":""}]
[32,"U32",null,null,{"$f":"IF(D42<>\"\",IFERROR(VLOOKUP(D42,CONDOMINI!$B$11:$C$109,2,FALSE),\"\"),\"\")","v":""}]
[33,"U33",null,null,{"$f":"IF(D43<>\"\",IFERROR(VLOOKUP(D43,CONDOMINI!$B$11:$C$109,2,FALSE),\"\"),\"\")","v":""}]
[34,"U34",null,null,{"$f":"IF(D44<>\"\",IFERROR(VLOOKUP(D44,CONDOMINI!$B$11:$C$109,2,FALSE),\"\"),\"\")","v":""}]
[35,"U35",null,null,{"$f":"IF(D45<>\"\",IFERROR(VLOOKUP(D45,CONDOMINI!$B$11:$C$109,2,FALSE),\"\"),\"\")","v":""}]
[36,"U36",null,null,{"$f":"IF(D46<>\"\",IFERROR(VLOOKUP(D46,CONDOMINI!$B$11:$C$109,2,FALSE),\"\"),\"\")","v":""}]
[37,"U37",null,null,{"$f":"IF(D47<>\"\",IFERROR(VLOOKUP(D47,CONDOMINI!$B$11:$C$109,2,FALSE),\"\"),\"\")","v":""}]
[38,"U38",null,null,{"$f":"IF(D48<>\"\",IFERROR(VLOOKUP(D48,CONDOMINI!$B$11:$C$109,2,FALSE),\"\"),\"\")","v":""}]
[39,"U39",null,null,{"$f":"IF(D49<>\"\",IFERROR(VLOOKUP(D49,CONDOMINI!$B$11:$C$109,2,FALSE),\"\"),\"\")","v":""}]
[40,"U40",null,null,{"$f":"IF(D50<>\"\",IFERROR(VLOOKUP(D50,CONDOMINI!$B$11:$C$109,2,FALSE),\"\"),\"\")","v":""}]
[41,"U41",null,null,{"$f":"IF(D51<>\"\",IFERROR(VLOOKUP(D51,CONDOMINI!$B$11:$C$109,2,FALSE),\"\"),\"\")","v":""}]
[42,"U42",null,null,{"$f":"IF(D52<>\"\",IFERROR(VLOOKUP(D52,CONDOMINI!$B$11:$C$109,2,FALSE),\"\"),\"\")","v":""}]
[43,"U43",null,null,{"$f":"IF(D53<>\"\",IFERROR(VLOOKUP(D53,CONDOMINI!$B$11:$C$109,2,FALSE),\"\"),\"\")","v":""}]
[44,"U44",null,null,{"$f":"IF(D54<>\"\",IFERROR(VLOOKUP(D54,CONDOMINI!$B$11:$C$109,2,FALSE),\"\"),\"\")","v":""}]
[45,"U45",null,null,{"$f":"IF(D55<>\"\",IFERROR(VLOOKUP(D55,CONDOMINI!$B$11:$C$109,2,FALSE),\"\"),\"\")","v":""}]
[46,"U46",null,null,{"$f":"IF(D56<>\"\",IFERROR(VLOOKUP(D56,CONDOMINI!$B$11:$C$109,2,FALSE),\"\"),\"\")","v":""}]
[47,"U47",null,null,{"$f":"IF(D57<>\"\",IFERROR(VLOOKUP(D57,CONDOMINI!$B$11:$C$109,2,FALSE),\"\"),\"\")","v":""}]
[48,"U48",null,null,{"$f":"IF(D58<>\"\",IFERROR(VLOOKUP(D58,CONDOMINI!$B$11:$C$109,2,FALSE),\"\"),\"\")","v":""}]
[49,"U49",null,null,{"$f":"IF(D59<>\"\",IFERROR(VLOOKUP(D59,CONDOMINI!$B$11:$C$109,2,FALSE),\"\"),\"\")","v":""}]
[50,"U50",null,null,{"$f":"IF(D60<>\"\",IFERROR(VLOOKUP(D60,CONDOMINI!$B$11:$C$109,2,FALSE),\"\"),\"\")","v":""}]
[51,"U51",null,null,{"$f":"IF(D61<>\"\",IFERROR(VLOOKUP(D61,CONDOMINI!$B$11:$C$109,2,FALSE),\"\"),\"\")","v":""}]
[52,"U52",null,null,{"$f":"IF(D62<>\"\",IFERROR(VLOOKUP(D62,CONDOMINI!$B$11:$C$109,2,FALSE),\"\"),\"\")","v":""}]
[53,"U53",null,null,{"$f":"IF(D63<>\"\",IFERROR(VLOOKUP(D63,CONDOMINI!$B$11:$C$109,2,FALSE),\"\"),\"\")","v":""}]
[54,"U54",null,null,{"$f":"IF(D64<>\"\",IFERROR(VLOOKUP(D64,CONDOMINI!$B$11:$C$109,2,FALSE),\"\"),\"\")","v":""}]
[55,"U55",null,null,{"$f":"IF(D65<>\"\",IFERROR(VLOOKUP(D65,CONDOMINI!$B$11:$C$109,2,FALSE),\"\"),\"\")","v":""}]
[56,"U56",null,null,{"$f":"IF(D66<>\"\",IFERROR(VLOOKUP(D66,CONDOMINI!$B$11:$C$109,2,FALSE),\"\"),\"\")","v":""}]
[57,"U57",null,null,{"$f":"IF(D67<>\"\",IFERROR(VLOOKUP(D67,CONDOMINI!$B$11:$C$109,2,FALSE),\"\"),\"\")","v":""}]
[58,"U58",null,null,{"$f":"IF(D68<>\"\",IFERROR(VLOOKUP(D68,CONDOMINI!$B$11:$C$109,2,FALSE),\"\"),\"\")","v":""}]
[59,"U59",null,null,{"$f":"IF(D69<>\"\",IFERROR(VLOOKUP(D69,CONDOMINI!$B$11:$C$109,2,FALSE),\"\"),\"\")","v":""}]
[60,"U60",null,null,{"$f":"IF(D70<>\"\",IFERROR(VLOOKUP(D70,CONDOMINI!$B$11:$C$109,2,FALSE),\"\"),\"\")","v":""}]
[61,"U61",null,null,{"$f":"IF(D71<>\"\",IFERROR(VLOOKUP(D71,CONDOMINI!$B$11:$C$109,2,FALSE),\"\"),\"\")","v":""}]
[62,"U62",null,null,{"$f":"IF(D72<>\"\",IFERROR(VLOOKUP(D72,CONDOMINI!$B$11:$C$109,2,FALSE),\"\"),\"\")","v":""}]
[63,"U63",null,null,{"$f":"IF(D73<>\"\",IFERROR(VLOOKUP(D73,CONDOMINI!$B$11:$C$109,2,FALSE),\"\"),\"\")","v":""}]
[64,"U64",null,null,{"$f":"IF(D74<>\"\",IFERROR(VLOOKUP(D74,CONDOMINI!$B$11:$C$109,2,FALSE),\"\"),\"\")","v":""}]
[65,"U65",null,null,{"$f":"IF(D75<>\"\",IFERROR(VLOOKUP(D75,CONDOMINI!$B$11:$C$109,2,FALSE),\"\"),\"\")","v":""}]
[66,"U66",null,null,{"$f":"IF(D76<>\"\",IFERROR(VLOOKUP(D76,CONDOMINI!$B$11:$C$109,2,FALSE),\"\"),\"\")","v":""}]
[67,"U67",null,null,{"$f":"IF(D77<>\"\",IFERROR(VLOOKUP(D77,CONDOMINI!$B$11:$C$109,2,FALSE),\"\"),\"\")","v":""}]
[68,"U68",null,null,{"$f":"IF(D78<>\"\",IFERROR(VLOOKUP(D78,CONDOMINI!$B$11:$C$109,2,FALSE),\"\"),\"\")","v":""}]
[69,"U69",null,null,{"$f":"IF(D79<>\"\",IFERROR(VLOOKUP(D79,CONDOMINI!$B$11:$C$109,2,FALSE),\"\"),\"\")","v":""}]
[70,"U70",null,null,{"$f":"IF(D80<>\"\",IFERROR(VLOOKUP(D80,CONDOMINI!$B$11:$C$109,2,FALSE),\"\"),\"\")","v":""}]
[71,"U71",null,null,{"$f":"IF(D81<>\"\",IFERROR(VLOOKUP(D81,CONDOMINI!$B$11:$C$109,2,FALSE),\"\"),\"\")","v":""}]
[72,"U72",null,null,{"$f":"IF(D82<>\"\",IFERROR(VLOOKUP(D82,CONDOMINI!$B$11:$C$109,2,FALSE),\"\"),\"\")","v":""}]
[73,"U73",null,null,{"$f":"IF(D83<>\"\",IFERROR(VLOOKUP(D83,CONDOMINI!$B$11:$C$109,2,FALSE),\"\"),\"\")","v":""}]
[74,"U74",null,null,{"$f":"IF(D84<>\"\",IFERROR(VLOOKUP(D84,CONDOMINI!$B$11:$C$109,2,FALSE),\"\"),\"\")","v":""}]
[75,"U75",null,null,{"$f":"IF(D85<>\"\",IFERROR(VLOOKUP(D85,CONDOMINI!$B$11:$C$109,2,FALSE),\"\"),\"\")","v":""}]
[76,"U76",null,null,{"$f":"IF(D86<>\"\",IFERROR(VLOOKUP(D86,CONDOMINI!$B$11:$C$109,2,FALSE),\"\"),\"\")","v":""}]
[77,"U77",null,null,{"$f":"IF(D87<>\"\",IFERROR(VLOOKUP(D87,CONDOMINI!$B$11:$C$109,2,FALSE),\"\"),\"\")","v":""}]
[78,"U78",null,null,{"$f":"IF(D88<>\"\",IFERROR(VLOOKUP(D88,CONDOMINI!$B$11:$C$109,2,FALSE),\"\"),\"\")","v":""}]
[79,"U79",null,null,{"$f":"IF(D89<>\"\",IFERROR(VLOOKUP(D89,CONDOMINI!$B$11:$C$109,2,FALSE),\"\"),\"\")","v":""}]
[80,"U80",null,null,{"$f":"IF(D90<>\"\",IFERROR(VLOOKUP(D90,CONDOMINI!$B$11:$C$109,2,FALSE),\"\"),\"\")","v":""}]
[81,"U81",null,null,{"$f":"IF(D91<>\"\",IFERROR(VLOOKUP(D91,CONDOMINI!$B$11:$C$109,2,FALSE),\"\"),\"\")","v":""}]
[82,"U82",null,null,{"$f":"IF(D92<>\"\",IFERROR(VLOOKUP(D92,CONDOMINI!$B$11:$C$109,2,FALSE),\"\"),\"\")","v":""}]
[83,"U83",null,null,{"$f":"IF(D93<>\"\",IFERROR(VLOOKUP(D93,CONDOMINI!$B$11:$C$109,2,FALSE),\"\"),\"\")","v":""}]
[84,"U84",null,null,{"$f":"IF(D94<>\"\",IFERROR(VLOOKUP(D94,CONDOMINI!$B$11:$C$109,2,FALSE),\"\"),\"\")","v":""}]
[85,"U85",null,null,{"$f":"IF(D95<>\"\",IFERROR(VLOOKUP(D95,CONDOMINI!$B$11:$C$109,2,FALSE),\"\"),\"\")","v":""}]
[86,"U86",null,null,{"$f":"IF(D96<>\"\",IFERROR(VLOOKUP(D96,CONDOMINI!$B$11:$C$109,2,FALSE),\"\"),\"\")","v":""}]
[87,"U87",null,null,{"$f":"IF(D97<>\"\",IFERROR(VLOOKUP(D97,CONDOMINI!$B$11:$C$109,2,FALSE),\"\"),\"\")","v":""}]
[88,"U88",null,null,{"$f":"IF(D98<>\"\",IFERROR(VLOOKUP(D98,CONDOMINI!$B$11:$C$109,2,FALSE),\"\"),\"\")","v":""}]
[89,"U89",null,null,{"$f":"IF(D99<>\"\",IFERROR(VLOOKUP(D99,CONDOMINI!$B$11:$C$109,2,FALSE),\"\"),\"\")","v":""}]
[90,"U90",null,null,{"$f":"IF(D100<>\"\",IFERROR(VLOOKUP(D100,CONDOMINI!$B$11:$C$109,2,FALSE),\"\"),\"\")","v":""}]
[91,"U91",null,null,{"$f":"IF(D101<>\"\",IFERROR(VLOOKUP(D101,CONDOMINI!$B$11:$C$109,2,FALSE),\"\"),\"\")","v":""}]
[92,"U92",null,null,{"$f":"IF(D102<>\"\",IFERROR(VLOOKUP(D102,CONDOMINI!$B$11:$C$109,2,FALSE),\"\"),\"\")","v":""}]
[93,"U93",null,null,{"$f":"IF(D103<>\"\",IFERROR(VLOOKUP(D103,CONDOMINI!$B$11:$C$109,2,FALSE),\"\"),\"\")","v":""}]
[94,"U94",null,null,{"$f":"IF(D104<>\"\",IFERROR(VLOOKUP(D104,CONDOMINI!$B$11:$C$109,2,FALSE),\"\"),\"\")","v":""}]
[95,"U95",null,null,{"$f":"IF(D105<>\"\",IFERROR(VLOOKUP(D105,CONDOMINI!$B$11:$C$109,2,FALSE),\"\"),\"\")","v":""}]
[96,"U96",null,null,{"$f":"IF(D106<>\"\",IFERROR(VLOOKUP(D106,CONDOMINI!$B$11:$C$109,2,FALSE),\"\"),\"\")","v":""}]
[97,"U97",null,null,{"$f":"IF(D107<>\"\",IFERROR(VLOOKUP(D107,CONDOMINI!$B$11:$C$109,2,FALSE),\"\"),\"\")","v":""}]
[98,"U98",null,null,{"$f":"IF(D108<>\"\",IFERROR(VLOOKUP(D108,CONDOMINI!$B$11:$C$109,2,FALSE),\"\"),\"\")","v":""}]
[99,"U99",null,null,{"$f":"IF(D109<>\"\",IFERROR(VLOOKUP(D109,CONDOMINI!$B$11:$C$109,2,FALSE),\"\"),\"\")","v":""}]
[]
[0,null,null,null,null,null,null,null,null,null,null,null,null,null,null,null,null,null,null,null,null,null,null,null,null,0]

{"sheet":"TAB-UF","index":9,"n_rows":111,"n_cols":14,"rows_kept":111,"cut":false,"hidden":true,"merged":[[109,1,109,2],[0,0,0,12],[5,0,5,12],[8,0,9,0],[8,1,9,1],[8,2,9,2]]}
["!!! Non variare il contenuto delle celle con sfondo colorato.",null,null,null,null,null,null,null,null,null,null,null,null,0]
[]
[]
[]
[]
["!!! ATTENZIONE: fornire i dati richiesti solo nelle celle senza sfondo colorato"]
[]
["TABELLE MILLESIMALI per UNITÀ FUNZIONALI CONDOMINIALI"]
["n° UFC","Codice Unità\nFunzionale\nCondominiale","Codice Unità\nImmobiliare\ncui appartiene","Tab. A","Tab. B","Tab. C","Tab. D","Tab. E","Tab. F","Tab. G","Tab. H","Tab. I","Tab. J"]
[null,null,null,"GENERALE","Lato NORD","Lato SUD"]
[1,{"$f":"UF!B11","v":"UFC01"},{"$f":"IF(UF!C11<>\"\",UF!C11,\"\")","v":"U01"},39.637,null,136.69]
[2,{"$f":"UF!B12","v":"UFC02"},{"$f":"IF(UF!C12<>\"\",UF!C12,\"\")","v":"U02"},47.566000000000003,null,164.036]
[3,{"$f":"UF!B13","v":"UFC03"},{"$f":"IF(UF!C13<>\"\",UF!C13,\"\")","v":"U03"},45.34,null,156.358]
[4,{"$f":"UF!B14","v":"UFC04"},{"$f":"IF(UF!C14<>\"\",UF!C14,\"\")","v":"U04"},41.103999999999999,null,94.5]
[5,{"$f":"UF!B15","v":"UFC05"},{"$f":"IF(UF!C15<>\"\",UF!C15,\"\")","v":"U05"},50.970999999999997,null,117.184]
[6,{"$f":"UF!B16","v":"UFC06"},{"$f":"IF(UF!C16<>\"\",UF!C16,\"\")","v":"U06"},48.350999999999999,null,111.16200000000001]
[7,{"$f":"UF!B17","v":"UFC07"},{"$f":"IF(UF!C17<>\"\",UF!C17,\"\")","v":"U07"},40.463999999999999,null,46.514000000000003]
[8,{"$f":"UF!B18","v":"UFC08"},{"$f":"IF(UF!C18<>\"\",UF!C18,\"\")","v":"U08"},49.539000000000001,null,56.945999999999998]
[9,{"$f":"UF!B19","v":"UFC09"},{"$f":"IF(UF!C19<>\"\",UF!C19,\"\")","v":"U09"},47.052,null,54.088000000000001]
[10,{"$f":"UF!B20","v":"UFC10"},{"$f":"IF(UF!C20<>\"\",UF!C20,\"\")","v":"U10"},35.484000000000002,null,4.1680000000000001]
[11,{"$f":"UF!B21","v":"UFC11"},{"$f":"IF(UF!C21<>\"\",UF!C21,\"\")","v":"U11"},45.631999999999998,null,4.4459999999999997]
[12,{"$f":"UF!B22","v":"UFC12"},{"$f":"IF(UF!C22<>\"\",UF!C22,\"\")","v":"U12"},32.654000000000003,null,4.8899999999999997]
[13,{"$f":"UF!B23","v":"UFC13"},{"$f":"IF(UF!C23<>\"\",UF!C23,\"\")","v":"U13"},10.153,null,11.67]
[14,{"$f":"UF!B24","v":"UFC14"},{"$f":"IF(UF!C24<>\"\",UF!C24,\"\")","v":"U14"},32.49,null,37.347999999999999]
[15,{"$f":"UF!B25","v":"UFC15"},{"$f":"IF(UF!C25<>\"\",UF!C25,\"\")","v":"U15"},46.884,245.44800000000001]
[16,{"$f":"UF!B26","v":"UFC16"},{"$f":"IF(UF!C26<>\"\",UF!C26,\"\")","v":"U16"},47.918999999999997,188.15]
[17,{"$f":"UF!B27","v":"UFC17"},{"$f":"IF(UF!C27<>\"\",UF!C27,\"\")","v":"U17"},37.720999999999997,148.11000000000001]
[18,{"$f":"UF!B28","v":"UFC18"},{"$f":"IF(UF!C28<>\"\",UF!C28,\"\")","v":"U18"},50.139000000000003,131.244]
[19,{"$f":"UF!B29","v":"UFC19"},{"$f":"IF(UF!C29<>\"\",UF!C29,\"\")","v":"U19"},41.027999999999999,107.396]
[20,{"$f":"UF!B30","v":"UFC20"},{"$f":"IF(UF!C30<>\"\",UF!C30,\"\")","v":"U20"},50.918999999999997,66.641999999999996]
[21,{"$f":"UF!B31","v":"UFC21"},{"$f":"IF(UF!C31<>\"\",UF!C31,\"\")","v":"U21"},38.402999999999999,50.262]
[22,{"$f":"UF!B32","v":"UFC22"},{"$f":"IF(UF!C32<>\"\",UF!C32,\"\")","v":"U22"},45.515999999999998,4.6360000000000001]
[23,{"$f":"UF!B33","v":"UFC23"},{"$f":"IF(UF!C33<>\"\",UF!C33,\"\")","v":"U20"},35.238,6.0279999999999996]
[24,{"$f":"UF!B34","v":"UFC24"},{"$f":"IF(UF!C34<>\"\",UF!C34,\"\")","v":"U15"},39.795999999999999,52.084000000000003]
[25,{"$f":"UF!B35","v":"UFC25"},{"$f":"IF(UF!C35<>\"\",UF!C35,\"\")","v":""}]
[26,{"$f":"UF!B36","v":"UFC26"},{"$f":"IF(UF!C36<>\"\",UF!C36,\"\")","v":""}]
[27,{"$f":"UF!B37","v":"UFC27"},{"$f":"IF(UF!C37<>\"\",UF!C37,\"\")","v":""}]
[28,{"$f":"UF!B38","v":"UFC28"},{"$f":"IF(UF!C38<>\"\",UF!C38,\"\")","v":""}]
[29,{"$f":"UF!B39","v":"UFC29"},{"$f":"IF(UF!C39<>\"\",UF!C39,\"\")","v":""}]
[30,{"$f":"UF!B40","v":"UFC30"},{"$f":"IF(UF!C40<>\"\",UF!C40,\"\")","v":""}]
[31,{"$f":"UF!B41","v":"UFC31"},{"$f":"IF(UF!C41<>\"\",UF!C41,\"\")","v":""}]
[32,{"$f":"UF!B42","v":"UFC32"},{"$f":"IF(UF!C42<>\"\",UF!C42,\"\")","v":""}]
[33,{"$f":"UF!B43","v":"UFC33"},{"$f":"IF(UF!C43<>\"\",UF!C43,\"\")","v":""}]
[34,{"$f":"UF!B44","v":"UFC34"},{"$f":"IF(UF!C44<>\"\",UF!C44,\"\")","v":""}]
[35,{"$f":"UF!B45","v":"UFC35"},{"$f":"IF(UF!C45<>\"\",UF!C45,\"\")","v":""}]
[36,{"$f":"UF!B46","v":"UFC36"},{"$f":"IF(UF!C46<>\"\",UF!C46,\"\")","v":""}]
[37,{"$f":"UF!B47","v":"UFC37"},{"$f":"IF(UF!C47<>\"\",UF!C47,\"\")","v":""}]
[38,{"$f":"UF!B48","v":"UFC38"},{"$f":"IF(UF!C48<>\"\",UF!C48,\"\")","v":""}]
[39,{"$f":"UF!B49","v":"UFC39"},{"$f":"IF(UF!C49<>\"\",UF!C49,\"\")","v":""}]
[40,{"$f":"UF!B50","v":"UFC40"},{"$f":"IF(UF!C50<>\"\",UF!C50,\"\")","v":""}]
[41,{"$f":"UF!B51","v":"UFC41"},{"$f":"IF(UF!C51<>\"\",UF!C51,\"\")","v":""}]
[42,{"$f":"UF!B52","v":"UFC42"},{"$f":"IF(UF!C52<>\"\",UF!C52,\"\")","v":""}]
[43,{"$f":"UF!B53","v":"UFC43"},{"$f":"IF(UF!C53<>\"\",UF!C53,\"\")","v":""}]
[44,{"$f":"UF!B54","v":"UFC44"},{"$f":"IF(UF!C54<>\"\",UF!C54,\"\")","v":""}]
[45,{"$f":"UF!B55","v":"UFC45"},{"$f":"IF(UF!C55<>\"\",UF!C55,\"\")","v":""}]
[46,{"$f":"UF!B56","v":"UFC46"},{"$f":"IF(UF!C56<>\"\",UF!C56,\"\")","v":""}]
[47,{"$f":"UF!B57","v":"UFC47"},{"$f":"IF(UF!C57<>\"\",UF!C57,\"\")","v":""}]
[48,{"$f":"UF!B58","v":"UFC48"},{"$f":"IF(UF!C58<>\"\",UF!C58,\"\")","v":""}]
[49,{"$f":"UF!B59","v":"UFC49"},{"$f":"IF(UF!C59<>\"\",UF!C59,\"\")","v":""}]
[50,{"$f":"UF!B60","v":"UFC50"},{"$f":"IF(UF!C60<>\"\",UF!C60,\"\")","v":""}]
[51,{"$f":"UF!B61","v":"UFC51"},{"$f":"IF(UF!C61<>\"\",UF!C61,\"\")","v":""}]
[52,{"$f":"UF!B62","v":"UFC52"},{"$f":"IF(UF!C62<>\"\",UF!C62,\"\")","v":""}]
[53,{"$f":"UF!B63","v":"UFC53"},{"$f":"IF(UF!C63<>\"\",UF!C63,\"\")","v":""}]
[54,{"$f":"UF!B64","v":"UFC54"},{"$f":"IF(UF!C64<>\"\",UF!C64,\"\")","v":""}]
[55,{"$f":"UF!B65","v":"UFC55"},{"$f":"IF(UF!C65<>\"\",UF!C65,\"\")","v":""}]
[56,{"$f":"UF!B66","v":"UFC56"},{"$f":"IF(UF!C66<>\"\",UF!C66,\"\")","v":""}]
[57,{"$f":"UF!B67","v":"UFC57"},{"$f":"IF(UF!C67<>\"\",UF!C67,\"\")","v":""}]
[58,{"$f":"UF!B68","v":"UFC58"},{"$f":"IF(UF!C68<>\"\",UF!C68,\"\")","v":""}]
[59,{"$f":"UF!B69","v":"UFC59"},{"$f":"IF(UF!C69<>\"\",UF!C69,\"\")","v":""}]
[60,{"$f":"UF!B70","v":"UFC60"},{"$f":"IF(UF!C70<>\"\",UF!C70,\"\")","v":""}]
[61,{"$f":"UF!B71","v":"UFC61"},{"$f":"IF(UF!C71<>\"\",UF!C71,\"\")","v":""}]
[62,{"$f":"UF!B72","v":"UFC62"},{"$f":"IF(UF!C72<>\"\",UF!C72,\"\")","v":""}]
[63,{"$f":"UF!B73","v":"UFC63"},{"$f":"IF(UF!C73<>\"\",UF!C73,\"\")","v":""}]
[64,{"$f":"UF!B74","v":"UFC64"},{"$f":"IF(UF!C74<>\"\",UF!C74,\"\")","v":""}]
[65,{"$f":"UF!B75","v":"UFC65"},{"$f":"IF(UF!C75<>\"\",UF!C75,\"\")","v":""}]
[66,{"$f":"UF!B76","v":"UFC66"},{"$f":"IF(UF!C76<>\"\",UF!C76,\"\")","v":""}]
[67,{"$f":"UF!B77","v":"UFC67"},{"$f":"IF(UF!C77<>\"\",UF!C77,\"\")","v":""}]
[68,{"$f":"UF!B78","v":"UFC68"},{"$f":"IF(UF!C78<>\"\",UF!C78,\"\")","v":""}]
[69,{"$f":"UF!B79","v":"UFC69"},{"$f":"IF(UF!C79<>\"\",UF!C79,\"\")","v":""}]
[70,{"$f":"UF!B80","v":"UFC70"},{"$f":"IF(UF!C80<>\"\",UF!C80,\"\")","v":""}]
[71,{"$f":"UF!B81","v":"UFC71"},{"$f":"IF(UF!C81<>\"\",UF!C81,\"\")","v":""}]
[72,{"$f":"UF!B82","v":"UFC72"},{"$f":"IF(UF!C82<>\"\",UF!C82,\"\")","v":""}]
[73,{"$f":"UF!B83","v":"UFC73"},{"$f":"IF(UF!C83<>\"\",UF!C83,\"\")","v":""}]
[74,{"$f":"UF!B84","v":"UFC74"},{"$f":"IF(UF!C84<>\"\",UF!C84,\"\")","v":""}]
[75,{"$f":"UF!B85","v":"UFC75"},{"$f":"IF(UF!C85<>\"\",UF!C85,\"\")","v":""}]
[76,{"$f":"UF!B86","v":"UFC76"},{"$f":"IF(UF!C86<>\"\",UF!C86,\"\")","v":""}]
[77,{"$f":"UF!B87","v":"UFC77"},{"$f":"IF(UF!C87<>\"\",UF!C87,\"\")","v":""}]
[78,{"$f":"UF!B88","v":"UFC78"},{"$f":"IF(UF!C88<>\"\",UF!C88,\"\")","v":""}]
[79,{"$f":"UF!B89","v":"UFC79"},{"$f":"IF(UF!C89<>\"\",UF!C89,\"\")","v":""}]
[80,{"$f":"UF!B90","v":"UFC80"},{"$f":"IF(UF!C90<>\"\",UF!C90,\"\")","v":""}]
[81,{"$f":"UF!B91","v":"UFC81"},{"$f":"IF(UF!C91<>\"\",UF!C91,\"\")","v":""}]
[82,{"$f":"UF!B92","v":"UFC82"},{"$f":"IF(UF!C92<>\"\",UF!C92,\"\")","v":""}]
[83,{"$f":"UF!B93","v":"UFC83"},{"$f":"IF(UF!C93<>\"\",UF!C93,\"\")","v":""}]
[84,{"$f":"UF!B94","v":"UFC84"},{"$f":"IF(UF!C94<>\"\",UF!C94,\"\")","v":""}]
[85,{"$f":"UF!B95","v":"UFC85"},{"$f":"IF(UF!C95<>\"\",UF!C95,\"\")","v":""}]
[86,{"$f":"UF!B96","v":"UFC86"},{"$f":"IF(UF!C96<>\"\",UF!C96,\"\")","v":""}]
[87,{"$f":"UF!B97","v":"UFC87"},{"$f":"IF(UF!C97<>\"\",UF!C97,\"\")","v":""}]
[88,{"$f":"UF!B98","v":"UFC88"},{"$f":"IF(UF!C98<>\"\",UF!C98,\"\")","v":""}]
[89,{"$f":"UF!B99","v":"UFC89"},{"$f":"IF(UF!C99<>\"\",UF!C99,\"\")","v":""}]
[90,{"$f":"UF!B100","v":"UFC90"},{"$f":"IF(UF!C100<>\"\",UF!C100,\"\")","v":""}]
[91,{"$f":"UF!B101","v":"UFC91"},{"$f":"IF(UF!C101<>\"\",UF!C101,\"\")","v":""}]
[92,{"$f":"UF!B102","v":"UFC92"},{"$f":"IF(UF!C102<>\"\",UF!C102,\"\")","v":""}]
[93,{"$f":"UF!B103","v":"UFC93"},{"$f":"IF(UF!C103<>\"\",UF!C103,\"\")","v":""}]
[94,{"$f":"UF!B104","v":"UFC94"},{"$f":"IF(UF!C104<>\"\",UF!C104,\"\")","v":""}]
[95,{"$f":"UF!B105","v":"UFC95"},{"$f":"IF(UF!C105<>\"\",UF!C105,\"\")","v":""}]
[96,{"$f":"UF!B106","v":"UFC96"},{"$f":"IF(UF!C106<>\"\",UF!C106,\"\")","v":""}]
[97,{"$f":"UF!B107","v":"UFC97"},{"$f":"IF(UF!C107<>\"\",UF!C107,\"\")","v":""}]
[98,{"$f":"UF!B108","v":"UFC98"},{"$f":"IF(UF!C108<>\"\",UF!C108,\"\")","v":""}]
[99,{"$f":"UF!B109","v":"UFC99"},{"$f":"IF(UF!C109<>\"\",UF!C109,\"\")","v":""}]
[null,null,null,{"$f":"SUM(D11:D109)","v":1000},1000,1000,0,0,0,0,0,0,0]
[0,null,null,null,null,null,null,null,null,null,null,null,null,0]

{"sheet":"TAB-UI","index":10,"n_rows":111,"n_cols":16,"rows_kept":111,"cut":false,"hidden":true,"merged":[[0,0,0,14],[5,0,5,14],[8,0,9,0],[8,1,9,1],[8,3,9,3],[8,4,9,4],[8,2,9,2]]}
["!!! Non variare il contenuto delle celle con sfondo colorato.",null,null,null,null,null,null,null,null,null,null,null,null,null,null,0]
[]
[]
[]
[]
["!!! ATTENZIONE: fornire i dati richiesti solo nelle celle senza sfondo colorato"]
[]
["TABELLE MILLESIMALI per UNITÀ IMMOBILIARI"]
["n° UI","Codice Unità\nImmobiliare","UFC\nCostituenti","Codice Condomino","CONDOMINO","Tab. A","Tab. B","Tab. C","Tab. D","Tab. E","Tab. F","Tab. G","Tab. H","Tab. I","Tab. J"]
[null,null,null,null,null,"GENERALE","Lato NORD","Lato SUD"]
[1,{"$f":"UI!B11","v":"U01"},{"$f":"IF(UI!C11<>\"\",UI!C11,\"\")","v":"UFC01"},{"$f":"IF(UI!D11<>\"\",UI!D11,\"\")","v":"C01"},{"$f":"IF(UI!E11<>\"\",UI!E11,\"\")","v":"CONDOMINO01"},{"$f":"SUMIFS('TAB-UF'!$D$11:$D$109,'TAB-UF'!$C$11:$C$109,B11)","v":39.637},{"$f":"SUMIFS('TAB-UF'!$E$11:$E$109,'TAB-UF'!$C$11:$C$109,B11)","v":0},{"$f":"SUMIFS('TAB-UF'!$F$11:$F$109,'TAB-UF'!$C$11:$C$109,B11)","v":136.69},{"$f":"SUMIFS('TAB-UF'!$G$11:$G$109,'TAB-UF'!$C$11:$C$109,B11)","v":0},{"$f":"SUMIFS('TAB-UF'!$H$11:$H$109,'TAB-UF'!$C$11:$C$109,B11)","v":0},{"$f":"SUMIFS('TAB-UF'!$I$11:$I$109,'TAB-UF'!$C$11:$C$109,B11)","v":0},{"$f":"SUMIFS('TAB-UF'!$J$11:$J$109,'TAB-UF'!$C$11:$C$109,B11)","v":0},{"$f":"SUMIFS('TAB-UF'!$K$11:$K$109,'TAB-UF'!$C$11:$C$109,B11)","v":0},{"$f":"SUMIFS('TAB-UF'!$L$11:$L$109,'TAB-UF'!$C$11:$C$109,B11)","v":0},{"$f":"SUMIFS('TAB-UF'!$M$11:$M$109,'TAB-UF'!$C$11:$C$109,B11)","v":0}]
[2,{"$f":"UI!B12","v":"U02"},{"$f":"IF(UI!C12<>\"\",UI!C12,\"\")","v":"UFC02"},{"$f":"IF(UI!D12<>\"\",UI!D12,\"\")","v":"C02"},{"$f":"IF(UI!E12<>\"\",UI!E12,\"\")","v":"CONDOMINO02"},{"$f":"SUMIFS('TAB-UF'!$D$11:$D$109,'TAB-UF'!$C$11:$C$109,B12)","v":47.566000000000003},{"$f":"SUMIFS('TAB-UF'!$E$11:$E$109,'TAB-UF'!$C$11:$C$109,B12)","v":0},{"$f":"SUMIFS('TAB-UF'!$F$11:$F$109,'TAB-UF'!$C$11:$C$109,B12)","v":164.036},{"$f":"SUMIFS('TAB-UF'!$G$11:$G$109,'TAB-UF'!$C$11:$C$109,B12)","v":0},{"$f":"SUMIFS('TAB-UF'!$H$11:$H$109,'TAB-UF'!$C$11:$C$109,B12)","v":0},{"$f":"SUMIFS('TAB-UF'!$I$11:$I$109,'TAB-UF'!$C$11:$C$109,B12)","v":0},{"$f":"SUMIFS('TAB-UF'!$J$11:$J$109,'TAB-UF'!$C$11:$C$109,B12)","v":0},{"$f":"SUMIFS('TAB-UF'!$K$11:$K$109,'TAB-UF'!$C$11:$C$109,B12)","v":0},{"$f":"SUMIFS('TAB-UF'!$L$11:$L$109,'TAB-UF'!$C$11:$C$109,B12)","v":0},{"$f":"SUMIFS('TAB-UF'!$M$11:$M$109,'TAB-UF'!$C$11:$C$109,B12)","v":0}]
[3,{"$f":"UI!B13","v":"U03"},{"$f":"IF(UI!C13<>\"\",UI!C13,\"\")","v":"UFC03"},{"$f":"IF(UI!D13<>\"\",UI!D13,\"\")","v":"C03"},{"$f":"IF(UI!E13<>\"\",UI!E13,\"\")","v":"CONDOMINO03"},{"$f":"SUMIFS('TAB-UF'!$D$11:$D$109,'TAB-UF'!$C$11:$C$109,B13)","v":45.34},{"$f":"SUMIFS('TAB-UF'!$E$11:$E$109,'TAB-UF'!$C$11:$C$109,B13)","v":0},{"$f":"SUMIFS('TAB-UF'!$F$11:$F$109,'TAB-UF'!$C$11:$C$109,B13)","v":156.358},{"$f":"SUMIFS('TAB-UF'!$G$11:$G$109,'TAB-UF'!$C$11:$C$109,B13)","v":0},{"$f":"SUMIFS('TAB-UF'!$H$11:$H$109,'TAB-UF'!$C$11:$C$109,B13)","v":0},{"$f":"SUMIFS('TAB-UF'!$I$11:$I$109,'TAB-UF'!$C$11:$C$109,B13)","v":0},{"$f":"SUMIFS('TAB-UF'!$J$11:$J$109,'TAB-UF'!$C$11:$C$109,B13)","v":0},{"$f":"SUMIFS('TAB-UF'!$K$11:$K$109,'TAB-UF'!$C$11:$C$109,B13)","v":0},{"$f":"SUMIFS('TAB-UF'!$L$11:$L$109,'TAB-UF'!$C$11:$C$109,B13)","v":0},{"$f":"SUMIFS('TAB-UF'!$M$11:$M$109,'TAB-UF'!$C$11:$C$109,B13)","v":0}]
[4,{"$f":"UI!B14","v":"U04"},{"$f":"IF(UI!C14<>\"\",UI!C14,\"\")","v":"UFC04"},{"$f":"IF(UI!D14<>\"\",UI!D14,\"\")","v":"C04"},{"$f":"IF(UI!E14<>\"\",UI!E14,\"\")","v":"CONDOMINO04"},{"$f":"SUMIFS('TAB-UF'!$D$11:$D$109,'TAB-UF'!$C$11:$C$109,B14)","v":41.103999999999999},{"$f":"SUMIFS('TAB-UF'!$E$11:$E$109,'TAB-UF'!$C$11:$C$109,B14)","v":0},{"$f":"SUMIFS('TAB-UF'!$F$11:$F$109,'TAB-UF'!$C$11:$C$109,B14)","v":94.5},{"$f":"SUMIFS('TAB-UF'!$G$11:$G$109,'TAB-UF'!$C$11:$C$109,B14)","v":0},{"$f":"SUMIFS('TAB-UF'!$H$11:$H$109,'TAB-UF'!$C$11:$C$109,B14)","v":0},{"$f":"SUMIFS('TAB-UF'!$I$11:$I$109,'TAB-UF'!$C$11:$C$109,B14)","v":0},{"$f":"SUMIFS('TAB-UF'!$J$11:$J$109,'TAB-UF'!$C$11:$C$109,B14)","v":0},{"$f":"SUMIFS('TAB-UF'!$K$11:$K$109,'TAB-UF'!$C$11:$C$109,B14)","v":0},{"$f":"SUMIFS('TAB-UF'!$L$11:$L$109,'TAB-UF'!$C$11:$C$109,B14)","v":0},{"$f":"SUMIFS('TAB-UF'!$M$11:$M$109,'TAB-UF'!$C$11:$C$109,B14)","v":0}]
[5,{"$f":"UI!B15","v":"U05"},{"$f":"IF(UI!C15<>\"\",UI!C15,\"\")","v":"UFC05"},{"$f":"IF(UI!D15<>\"\",UI!D15,\"\")","v":"C05"},{"$f":"IF(UI!E15<>\"\",UI!E15,\"\")","v":"CONDOMINO05"},{"$f":"SUMIFS('TAB-UF'!$D$11:$D$109,'TAB-UF'!$C$11:$C$109,B15)","v":50.970999999999997},{"$f":"SUMIFS('TAB-UF'!$E$11:$E$109,'TAB-UF'!$C$11:$C$109,B15)","v":0},{"$f":"SUMIFS('TAB-UF'!$F$11:$F$109,'TAB-UF'!$C$11:$C$109,B15)","v":117.184},{"$f":"SUMIFS('TAB-UF'!$G$11:$G$109,'TAB-UF'!$C$11:$C$109,B15)","v":0},{"$f":"SUMIFS('TAB-UF'!$H$11:$H$109,'TAB-UF'!$C$11:$C$109,B15)","v":0},{"$f":"SUMIFS('TAB-UF'!$I$11:$I$109,'TAB-UF'!$C$11:$C$109,B15)","v":0},{"$f":"SUMIFS('TAB-UF'!$J$11:$J$109,'TAB-UF'!$C$11:$C$109,B15)","v":0},{"$f":"SUMIFS('TAB-UF'!$K$11:$K$109,'TAB-UF'!$C$11:$C$109,B15)","v":0},{"$f":"SUMIFS('TAB-UF'!$L$11:$L$109,'TAB-UF'!$C$11:$C$109,B15)","v":0},{"$f":"SUMIFS('TAB-UF'!$M$11:$M$109,'TAB-UF'!$C$11:$C$109,B15)","v":0}]
[6,{"$f":"UI!B16","v":"U06"},{"$f":"IF(UI!C16<>\"\",UI!C16,\"\")","v":"UFC06"},{"$f":"IF(UI!D16<>\"\",UI!D16,\"\")","v":"C06"},{"$f":"IF(UI!E16<>\"\",UI!E16,\"\")","v":"CONDOMINO06"},{"$f":"SUMIFS('TAB-UF'!$D$11:$D$109,'TAB-UF'!$C$11:$C$109,B16)","v":48.350999999999999},{"$f":"SUMIFS('TAB-UF'!$E$11:$E$109,'TAB-UF'!$C$11:$C$109,B16)","v":0},{"$f":"SUMIFS('TAB-UF'!$F$11:$F$109,'TAB-UF'!$C$11:$C$109,B16)","v":111.16200000000001},{"$f":"SUMIFS('TAB-UF'!$G$11:$G$109,'TAB-UF'!$C$11:$C$109,B16)","v":0},{"$f":"SUMIFS('TAB-UF'!$H$11:$H$109,'TAB-UF'!$C$11:$C$109,B16)","v":0},{"$f":"SUMIFS('TAB-UF'!$I$11:$I$109,'TAB-UF'!$C$11:$C$109,B16)","v":0},{"$f":"SUMIFS('TAB-UF'!$J$11:$J$109,'TAB-UF'!$C$11:$C$109,B16)","v":0},{"$f":"SUMIFS('TAB-UF'!$K$11:$K$109,'TAB-UF'!$C$11:$C$109,B16)","v":0},{"$f":"SUMIFS('TAB-UF'!$L$11:$L$109,'TAB-UF'!$C$11:$C$109,B16)","v":0},{"$f":"SUMIFS('TAB-UF'!$M$11:$M$109,'TAB-UF'!$C$11:$C$109,B16)","v":0}]
[7,{"$f":"UI!B17","v":"U07"},{"$f":"IF(UI!C17<>\"\",UI!C17,\"\")","v":"UFC07"},{"$f":"IF(UI!D17<>\"\",UI!D17,\"\")","v":"C07"},{"$f":"IF(UI!E17<>\"\",UI!E17,\"\")","v":"CONDOMINO07"},{"$f":"SUMIFS('TAB-UF'!$D$11:$D$109,'TAB-UF'!$C$11:$C$109,B17)","v":40.463999999999999},{"$f":"SUMIFS('TAB-UF'!$E$11:$E$109,'TAB-UF'!$C$11:$C$109,B17)","v":0},{"$f":"SUMIFS('TAB-UF'!$F$11:$F$109,'TAB-UF'!$C$11:$C$109,B17)","v":46.514000000000003},{"$f":"SUMIFS('TAB-UF'!$G$11:$G$109,'TAB-UF'!$C$11:$C$109,B17)","v":0},{"$f":"SUMIFS('TAB-UF'!$H$11:$H$109,'TAB-UF'!$C$11:$C$109,B17)","v":0},{"$f":"SUMIFS('TAB-UF'!$I$11:$I$109,'TAB-UF'!$C$11:$C$109,B17)","v":0},{"$f":"SUMIFS('TAB-UF'!$J$11:$J$109,'TAB-UF'!$C$11:$C$109,B17)","v":0},{"$f":"SUMIFS('TAB-UF'!$K$11:$K$109,'TAB-UF'!$C$11:$C$109,B17)","v":0},{"$f":"SUMIFS('TAB-UF'!$L$11:$L$109,'TAB-UF'!$C$11:$C$109,B17)","v":0},{"$f":"SUMIFS('TAB-UF'!$M$11:$M$109,'TAB-UF'!$C$11:$C$109,B17)","v":0}]
[8,{"$f":"UI!B18","v":"U08"},{"$f":"IF(UI!C18<>\"\",UI!C18,\"\")","v":"UFC08"},{"$f":"IF(UI!D18<>\"\",UI!D18,\"\")","v":"C08"},{"$f":"IF(UI!E18<>\"\",UI!E18,\"\")","v":"CONDOMINO08"},{"$f":"SUMIFS('TAB-UF'!$D$11:$D$109,'TAB-UF'!$C$11:$C$109,B18)","v":49.539000000000001},{"$f":"SUMIFS('TAB-UF'!$E$11:$E$109,'TAB-UF'!$C$11:$C$109,B18)","v":0},{"$f":"SUMIFS('TAB-UF'!$F$11:$F$109,'TAB-UF'!$C$11:$C$109,B18)","v":56.945999999999998},{"$f":"SUMIFS('TAB-UF'!$G$11:$G$109,'TAB-UF'!$C$11:$C$109,B18)","v":0},{"$f":"SUMIFS('TAB-UF'!$H$11:$H$109,'TAB-UF'!$C$11:$C$109,B18)","v":0},{"$f":"SUMIFS('TAB-UF'!$I$11:$I$109,'TAB-UF'!$C$11:$C$109,B18)","v":0},{"$f":"SUMIFS('TAB-UF'!$J$11:$J$109,'TAB-UF'!$C$11:$C$109,B18)","v":0},{"$f":"SUMIFS('TAB-UF'!$K$11:$K$109,'TAB-UF'!$C$11:$C$109,B18)","v":0},{"$f":"SUMIFS('TAB-UF'!$L$11:$L$109,'TAB-UF'!$C$11:$C$109,B18)","v":0},{"$f":"SUMIFS('TAB-UF'!$M$11:$M$109,'TAB-UF'!$C$11:$C$109,B18)","v":0}]
[9,{"$f":"UI!B19","v":"U09"},{"$f":"IF(UI!C19<>\"\",UI!C19,\"\")","v":"UFC09"},{"$f":"IF(UI!D19<>\"\",UI!D19,\"\")","v":"C09"},{"$f":"IF(UI!E19<>\"\",UI!E19,\"\")","v":"CONDOMINO09"},{"$f":"SUMIFS('TAB-UF'!$D$11:$D$109,'TAB-UF'!$C$11:$C$109,B19)","v":47.052},{"$f":"SUMIFS('TAB-UF'!$E$11:$E$109,'TAB-UF'!$C$11:$C$109,B19)","v":0},{"$f":"SUMIFS('TAB-UF'!$F$11:$F$109,'TAB-UF'!$C$11:$C$109,B19)","v":54.088000000000001},{"$f":"SUMIFS('TAB-UF'!$G$11:$G$109,'TAB-UF'!$C$11:$C$109,B19)","v":0},{"$f":"SUMIFS('TAB-UF'!$H$11:$H$109,'TAB-UF'!$C$11:$C$109,B19)","v":0},{"$f":"SUMIFS('TAB-UF'!$I$11:$I$109,'TAB-UF'!$C$11:$C$109,B19)","v":0},{"$f":"SUMIFS('TAB-UF'!$J$11:$J$109,'TAB-UF'!$C$11:$C$109,B19)","v":0},{"$f":"SUMIFS('TAB-UF'!$K$11:$K$109,'TAB-UF'!$C$11:$C$109,B19)","v":0},{"$f":"SUMIFS('TAB-UF'!$L$11:$L$109,'TAB-UF'!$C$11:$C$109,B19)","v":0},{"$f":"SUMIFS('TAB-UF'!$M$11:$M$109,'TAB-UF'!$C$11:$C$109,B19)","v":0}]
[10,{"$f":"UI!B20","v":"U10"},{"$f":"IF(UI!C20<>\"\",UI!C20,\"\")","v":"UFC10"},{"$f":"IF(UI!D20<>\"\",UI!D20,\"\")","v":"C10"},{"$f":"IF(UI!E20<>\"\",UI!E20,\"\")","v":"CONDOMINO10"},{"$f":"SUMIFS('TAB-UF'!$D$11:$D$109,'TAB-UF'!$C$11:$C$109,B20)","v":35.484000000000002},{"$f":"SUMIFS('TAB-UF'!$E$11:$E$109,'TAB-UF'!$C$11:$C$109,B20)","v":0},{"$f":"SUMIFS('TAB-UF'!$F$11:$F$109,'TAB-UF'!$C$11:$C$109,B20)","v":4.1680000000000001},{"$f":"SUMIFS('TAB-UF'!$G$11:$G$109,'TAB-UF'!$C$11:$C$109,B20)","v":0},{"$f":"SUMIFS('TAB-UF'!$H$11:$H$109,'TAB-UF'!$C$11:$C$109,B20)","v":0},{"$f":"SUMIFS('TAB-UF'!$I$11:$I$109,'TAB-UF'!$C$11:$C$109,B20)","v":0},{"$f":"SUMIFS('TAB-UF'!$J$11:$J$109,'TAB-UF'!$C$11:$C$109,B20)","v":0},{"$f":"SUMIFS('TAB-UF'!$K$11:$K$109,'TAB-UF'!$C$11:$C$109,B20)","v":0},{"$f":"SUMIFS('TAB-UF'!$L$11:$L$109,'TAB-UF'!$C$11:$C$109,B20)","v":0},{"$f":"SUMIFS('TAB-UF'!$M$11:$M$109,'TAB-UF'!$C$11:$C$109,B20)","v":0}]
[11,{"$f":"UI!B21","v":"U11"},{"$f":"IF(UI!C21<>\"\",UI!C21,\"\")","v":"UFC11"},{"$f":"IF(UI!D21<>\"\",UI!D21,\"\")","v":"C11"},{"$f":"IF(UI!E21<>\"\",UI!E21,\"\")","v":"CONDOMINO11"},{"$f":"SUMIFS('TAB-UF'!$D$11:$D$109,'TAB-UF'!$C$11:$C$109,B21)","v":45.631999999999998},{"$f":"SUMIFS('TAB-UF'!$E$11:$E$109,'TAB-UF'!$C$11:$C$109,B21)","v":0},{"$f":"SUMIFS('TAB-UF'!$F$11:$F$109,'TAB-UF'!$C$11:$C$109,B21)","v":4.4459999999999997},{"$f":"SUMIFS('TAB-UF'!$G$11:$G$109,'TAB-UF'!$C$11:$C$109,B21)","v":0},{"$f":"SUMIFS('TAB-UF'!$H$11:$H$109,'TAB-UF'!$C$11:$C$109,B21)","v":0},{"$f":"SUMIFS('TAB-UF'!$I$11:$I$109,'TAB-UF'!$C$11:$C$109,B21)","v":0},{"$f":"SUMIFS('TAB-UF'!$J$11:$J$109,'TAB-UF'!$C$11:$C$109,B21)","v":0},{"$f":"SUMIFS('TAB-UF'!$K$11:$K$109,'TAB-UF'!$C$11:$C$109,B21)","v":0},{"$f":"SUMIFS('TAB-UF'!$L$11:$L$109,'TAB-UF'!$C$11:$C$109,B21)","v":0},{"$f":"SUMIFS('TAB-UF'!$M$11:$M$109,'TAB-UF'!$C$11:$C$109,B21)","v":0}]
[12,{"$f":"UI!B22","v":"U12"},{"$f":"IF(UI!C22<>\"\",UI!C22,\"\")","v":"UFC12"},{"$f":"IF(UI!D22<>\"\",UI!D22,\"\")","v":"C12"},{"$f":"IF(UI!E22<>\"\",UI!E22,\"\")","v":"CONDOMINO12"},{"$f":"SUMIFS('TAB-UF'!$D$11:$D$109,'TAB-UF'!$C$11:$C$109,B22)","v":32.654000000000003},{"$f":"SUMIFS('TAB-UF'!$E$11:$E$109,'TAB-UF'!$C$11:$C$109,B22)","v":0},{"$f":"SUMIFS('TAB-UF'!$F$11:$F$109,'TAB-UF'!$C$11:$C$109,B22)","v":4.8899999999999997},{"$f":"SUMIFS('TAB-UF'!$G$11:$G$109,'TAB-UF'!$C$11:$C$109,B22)","v":0},{"$f":"SUMIFS('TAB-UF'!$H$11:$H$109,'TAB-UF'!$C$11:$C$109,B22)","v":0},{"$f":"SUMIFS('TAB-UF'!$I$11:$I$109,'TAB-UF'!$C$11:$C$109,B22)","v":0},{"$f":"SUMIFS('TAB-UF'!$J$11:$J$109,'TAB-UF'!$C$11:$C$109,B22)","v":0},{"$f":"SUMIFS('TAB-UF'!$K$11:$K$109,'TAB-UF'!$C$11:$C$109,B22)","v":0},{"$f":"SUMIFS('TAB-UF'!$L$11:$L$109,'TAB-UF'!$C$11:$C$109,B22)","v":0},{"$f":"SUMIFS('TAB-UF'!$M$11:$M$109,'TAB-UF'!$C$11:$C$109,B22)","v":0}]
[13,{"$f":"UI!B23","v":"U13"},{"$f":"IF(UI!C23<>\"\",UI!C23,\"\")","v":"UFC13"},{"$f":"IF(UI!D23<>\"\",UI!D23,\"\")","v":"C13"},{"$f":"IF(UI!E23<>\"\",UI!E23,\"\")","v":"CONDOMINO13"},{"$f":"SUMIFS('TAB-UF'!$D$11:$D$109,'TAB-UF'!$C$11:$C$109,B23)","v":10.153},{"$f":"SUMIFS('TAB-UF'!$E$11:$E$109,'TAB-UF'!$C$11:$C$109,B23)","v":0},{"$f":"SUMIFS('TAB-UF'!$F$11:$F$109,'TAB-UF'!$C$11:$C$109,B23)","v":11.67},{"$f":"SUMIFS('TAB-UF'!$G$11:$G$109,'TAB-UF'!$C$11:$C$109,B23)","v":0},{"$f":"SUMIFS('TAB-UF'!$H$11:$H$109,'TAB-UF'!$C$11:$C$109,B23)","v":0},{"$f":"SUMIFS('TAB-UF'!$I$11:$I$109,'TAB-UF'!$C$11:$C$109,B23)","v":0},{"$f":"SUMIFS('TAB-UF'!$J$11:$J$109,'TAB-UF'!$C$11:$C$109,B23)","v":0},{"$f":"SUMIFS('TAB-UF'!$K$11:$K$109,'TAB-UF'!$C$11:$C$109,B23)","v":0},{"$f":"SUMIFS('TAB-UF'!$L$11:$L$109,'TAB-UF'!$C$11:$C$109,B23)","v":0},{"$f":"SUMIFS('TAB-UF'!$M$11:$M$109,'TAB-UF'!$C$11:$C$109,B23)","v":0}]
[14,{"$f":"UI!B24","v":"U14"},{"$f":"IF(UI!C24<>\"\",UI!C24,\"\")","v":"UFC14"},{"$f":"IF(UI!D24<>\"\",UI!D24,\"\")","v":"C14"},{"$f":"IF(UI!E24<>\"\",UI!E24,\"\")","v":"CONDOMINO14"},{"$f":"SUMIFS('TAB-UF'!$D$11:$D$109,'TAB-UF'!$C$11:$C$109,B24)","v":32.49},{"$f":"SUMIFS('TAB-UF'!$E$11:$E$109,'TAB-UF'!$C$11:$C$109,B24)","v":0},{"$f":"SUMIFS('TAB-UF'!$F$11:$F$109,'TAB-UF'!$C$11:$C$109,B24)","v":37.347999999999999},{"$f":"SUMIFS('TAB-UF'!$G$11:$G$109,'TAB-UF'!$C$11:$C$109,B24)","v":0},{"$f":"SUMIFS('TAB-UF'!$H$11:$H$109,'TAB-UF'!$C$11:$C$109,B24)","v":0},{"$f":"SUMIFS('TAB-UF'!$I$11:$I$109,'TAB-UF'!$C$11:$C$109,B24)","v":0},{"$f":"SUMIFS('TAB-UF'!$J$11:$J$109,'TAB-UF'!$C$11:$C$109,B24)","v":0},{"$f":"SUMIFS('TAB-UF'!$K$11:$K$109,'TAB-UF'!$C$11:$C$109,B24)","v":0},{"$f":"SUMIFS('TAB-UF'!$L$11:$L$109,'TAB-UF'!$C$11:$C$109,B24)","v":0},{"$f":"SUMIFS('TAB-UF'!$M$11:$M$109,'TAB-UF'!$C$11:$C$109,B24)","v":0}]
[15,{"$f":"UI!B25","v":"U15"},{"$f":"IF(UI!C25<>\"\",UI!C25,\"\")","v":"UFC15+UFC24"},{"$f":"IF(UI!D25<>\"\",UI!D25,\"\")","v":"C15"},{"$f":"IF(UI!E25<>\"\",UI!E25,\"\")","v":"CONDOMINO15"},{"$f":"SUMIFS('TAB-UF'!$D$11:$D$109,'TAB-UF'!$C$11:$C$109,B25)","v":86.68},{"$f":"SUMIFS('TAB-UF'!$E$11:$E$109,'TAB-UF'!$C$11:$C$109,B25)","v":297.53200000000004},{"$f":"SUMIFS('TAB-UF'!$F$11:$F$109,'TAB-UF'!$C$11:$C$109,B25)","v":0},{"$f":"SUMIFS('TAB-UF'!$G$11:$G$109,'TAB-UF'!$C$11:$C$109,B25)","v":0},{"$f":"SUMIFS('TAB-UF'!$H$11:$H$109,'TAB-UF'!$C$11:$C$109,B25)","v":0},{"$f":"SUMIFS('TAB-UF'!$I$11:$I$109,'TAB-UF'!$C$11:$C$109,B25)","v":0},{"$f":"SUMIFS('TAB-UF'!$J$11:$J$109,'TAB-UF'!$C$11:$C$109,B25)","v":0},{"$f":"SUMIFS('TAB-UF'!$K$11:$K$109,'TAB-UF'!$C$11:$C$109,B25)","v":0},{"$f":"SUMIFS('TAB-UF'!$L$11:$L$109,'TAB-UF'!$C$11:$C$109,B25)","v":0},{"$f":"SUMIFS('TAB-UF'!$M$11:$M$109,'TAB-UF'!$C$11:$C$109,B25)","v":0}]
[16,{"$f":"UI!B26","v":"U16"},{"$f":"IF(UI!C26<>\"\",UI!C26,\"\")","v":"UFC16"},{"$f":"IF(UI!D26<>\"\",UI!D26,\"\")","v":"C16"},{"$f":"IF(UI!E26<>\"\",UI!E26,\"\")","v":"CONDOMINO16"},{"$f":"SUMIFS('TAB-UF'!$D$11:$D$109,'TAB-UF'!$C$11:$C$109,B26)","v":47.918999999999997},{"$f":"SUMIFS('TAB-UF'!$E$11:$E$109,'TAB-UF'!$C$11:$C$109,B26)","v":188.15},{"$f":"SUMIFS('TAB-UF'!$F$11:$F$109,'TAB-UF'!$C$11:$C$109,B26)","v":0},{"$f":"SUMIFS('TAB-UF'!$G$11:$G$109,'TAB-UF'!$C$11:$C$109,B26)","v":0},{"$f":"SUMIFS('TAB-UF'!$H$11:$H$109,'TAB-UF'!$C$11:$C$109,B26)","v":0},{"$f":"SUMIFS('TAB-UF'!$I$11:$I$109,'TAB-UF'!$C$11:$C$109,B26)","v":0},{"$f":"SUMIFS('TAB-UF'!$J$11:$J$109,'TAB-UF'!$C$11:$C$109,B26)","v":0},{"$f":"SUMIFS('TAB-UF'!$K$11:$K$109,'TAB-UF'!$C$11:$C$109,B26)","v":0},{"$f":"SUMIFS('TAB-UF'!$L$11:$L$109,'TAB-UF'!$C$11:$C$109,B26)","v":0},{"$f":"SUMIFS('TAB-UF'!$M$11:$M$109,'TAB-UF'!$C$11:$C$109,B26)","v":0}]
[17,{"$f":"UI!B27","v":"U17"},{"$f":"IF(UI!C27<>\"\",UI!C27,\"\")","v":"UFC17"},{"$f":"IF(UI!D27<>\"\",UI!D27,\"\")","v":"C17"},{"$f":"IF(UI!E27<>\"\",UI!E27,\"\")","v":"CONDOMINO17"},{"$f":"SUMIFS('TAB-UF'!$D$11:$D$109,'TAB-UF'!$C$11:$C$109,B27)","v":37.720999999999997},{"$f":"SUMIFS('TAB-UF'!$E$11:$E$109,'TAB-UF'!$C$11:$C$109,B27)","v":148.11000000000001},{"$f":"SUMIFS('TAB-UF'!$F$11:$F$109,'TAB-UF'!$C$11:$C$109,B27)","v":0},{"$f":"SUMIFS('TAB-UF'!$G$11:$G$109,'TAB-UF'!$C$11:$C$109,B27)","v":0},{"$f":"SUMIFS('TAB-UF'!$H$11:$H$109,'TAB-UF'!$C$11:$C$109,B27)","v":0},{"$f":"SUMIFS('TAB-UF'!$I$11:$I$109,'TAB-UF'!$C$11:$C$109,B27)","v":0},{"$f":"SUMIFS('TAB-UF'!$J$11:$J$109,'TAB-UF'!$C$11:$C$109,B27)","v":0},{"$f":"SUMIFS('TAB-UF'!$K$11:$K$109,'TAB-UF'!$C$11:$C$109,B27)","v":0},{"$f":"SUMIFS('TAB-UF'!$L$11:$L$109,'TAB-UF'!$C$11:$C$109,B27)","v":0},{"$f":"SUMIFS('TAB-UF'!$M$11:$M$109,'TAB-UF'!$C$11:$C$109,B27)","v":0}]
[18,{"$f":"UI!B28","v":"U18"},{"$f":"IF(UI!C28<>\"\",UI!C28,\"\")","v":"UFC18"},{"$f":"IF(UI!D28<>\"\",UI!D28,\"\")","v":"C18"},{"$f":"IF(UI!E28<>\"\",UI!E28,\"\")","v":"CONDOMINO18"},{"$f":"SUMIFS('TAB-UF'!$D$11:$D$109,'TAB-UF'!$C$11:$C$109,B28)","v":50.139000000000003},{"$f":"SUMIFS('TAB-UF'!$E$11:$E$109,'TAB-UF'!$C$11:$C$109,B28)","v":131.244},{"$f":"SUMIFS('TAB-UF'!$F$11:$F$109,'TAB-UF'!$C$11:$C$109,B28)","v":0},{"$f":"SUMIFS('TAB-UF'!$G$11:$G$109,'TAB-UF'!$C$11:$C$109,B28)","v":0},{"$f":"SUMIFS('TAB-UF'!$H$11:$H$109,'TAB-UF'!$C$11:$C$109,B28)","v":0},{"$f":"SUMIFS('TAB-UF'!$I$11:$I$109,'TAB-UF'!$C$11:$C$109,B28)","v":0},{"$f":"SUMIFS('TAB-UF'!$J$11:$J$109,'TAB-UF'!$C$11:$C$109,B28)","v":0},{"$f":"SUMIFS('TAB-UF'!$K$11:$K$109,'TAB-UF'!$C$11:$C$109,B28)","v":0},{"$f":"SUMIFS('TAB-UF'!$L$11:$L$109,'TAB-UF'!$C$11:$C$109,B28)","v":0},{"$f":"SUMIFS('TAB-UF'!$M$11:$M$109,'TAB-UF'!$C$11:$C$109,B28)","v":0}]
[19,{"$f":"UI!B29","v":"U19"},{"$f":"IF(UI!C29<>\"\",UI!C29,\"\")","v":"UFC19"},{"$f":"IF(UI!D29<>\"\",UI!D29,\"\")","v":"C19"},{"$f":"IF(UI!E29<>\"\",UI!E29,\"\")","v":"CONDOMINO19"},{"$f":"SUMIFS('TAB-UF'!$D$11:$D$109,'TAB-UF'!$C$11:$C$109,B29)","v":41.027999999999999},{"$f":"SUMIFS('TAB-UF'!$E$11:$E$109,'TAB-UF'!$C$11:$C$109,B29)","v":107.396},{"$f":"SUMIFS('TAB-UF'!$F$11:$F$109,'TAB-UF'!$C$11:$C$109,B29)","v":0},{"$f":"SUMIFS('TAB-UF'!$G$11:$G$109,'TAB-UF'!$C$11:$C$109,B29)","v":0},{"$f":"SUMIFS('TAB-UF'!$H$11:$H$109,'TAB-UF'!$C$11:$C$109,B29)","v":0},{"$f":"SUMIFS('TAB-UF'!$I$11:$I$109,'TAB-UF'!$C$11:$C$109,B29)","v":0},{"$f":"SUMIFS('TAB-UF'!$J$11:$J$109,'TAB-UF'!$C$11:$C$109,B29)","v":0},{"$f":"SUMIFS('TAB-UF'!$K$11:$K$109,'TAB-UF'!$C$11:$C$109,B29)","v":0},{"$f":"SUMIFS('TAB-UF'!$L$11:$L$109,'TAB-UF'!$C$11:$C$109,B29)","v":0},{"$f":"SUMIFS('TAB-UF'!$M$11:$M$109,'TAB-UF'!$C$11:$C$109,B29)","v":0}]
[20,{"$f":"UI!B30","v":"U20"},{"$f":"IF(UI!C30<>\"\",UI!C30,\"\")","v":"UFC20+UFC23"},{"$f":"IF(UI!D30<>\"\",UI!D30,\"\")","v":"C07"},{"$f":"IF(UI!E30<>\"\",UI!E30,\"\")","v":"CONDOMINO07"},{"$f":"SUMIFS('TAB-UF'!$D$11:$D$109,'TAB-UF'!$C$11:$C$109,B30)","v":86.156999999999996},{"$f":"SUMIFS('TAB-UF'!$E$11:$E$109,'TAB-UF'!$C$11:$C$109,B30)","v":72.67},{"$f":"SUMIFS('TAB-UF'!$F$11:$F$109,'TAB-UF'!$C$11:$C$109,B30)","v":0},{"$f":"SUMIFS('TAB-UF'!$G$11:$G$109,'TAB-UF'!$C$11:$C$109,B30)","v":0},{"$f":"SUMIFS('TAB-UF'!$H$11:$H$109,'TAB-UF'!$C$11:$C$109,B30)","v":0},{"$f":"SUMIFS('TAB-UF'!$I$11:$I$109,'TAB-UF'!$C$11:$C$109,B30)","v":0},{"$f":"SUMIFS('TAB-UF'!$J$11:$J$109,'TAB-UF'!$C$11:$C$109,B30)","v":0},{"$f":"SUMIFS('TAB-UF'!$K$11:$K$109,'TAB-UF'!$C$11:$C$109,B30)","v":0},{"$f":"SUMIFS('TAB-UF'!$L$11:$L$109,'TAB-UF'!$C$11:$C$109,B30)","v":0},{"$f":"SUMIFS('TAB-UF'!$M$11:$M$109,'TAB-UF'!$C$11:$C$109,B30)","v":0}]
[21,{"$f":"UI!B31","v":"U21"},{"$f":"IF(UI!C31<>\"\",UI!C31,\"\")","v":"UFC21"},{"$f":"IF(UI!D31<>\"\",UI!D31,\"\")","v":"C08"},{"$f":"IF(UI!E31<>\"\",UI!E31,\"\")","v":"CONDOMINO08"},{"$f":"SUMIFS('TAB-UF'!$D$11:$D$109,'TAB-UF'!$C$11:$C$109,B31)","v":38.402999999999999},{"$f":"SUMIFS('TAB-UF'!$E$11:$E$109,'TAB-UF'!$C$11:$C$109,B31)","v":50.262},{"$f":"SUMIFS('TAB-UF'!$F$11:$F$109,'TAB-UF'!$C$11:$C$109,B31)","v":0},{"$f":"SUMIFS('TAB-UF'!$G$11:$G$109,'TAB-UF'!$C$11:$C$109,B31)","v":0},{"$f":"SUMIFS('TAB-UF'!$H$11:$H$109,'TAB-UF'!$C$11:$C$109,B31)","v":0},{"$f":"SUMIFS('TAB-UF'!$I$11:$I$109,'TAB-UF'!$C$11:$C$109,B31)","v":0},{"$f":"SUMIFS('TAB-UF'!$J$11:$J$109,'TAB-UF'!$C$11:$C$109,B31)","v":0},{"$f":"SUMIFS('TAB-UF'!$K$11:$K$109,'TAB-UF'!$C$11:$C$109,B31)","v":0},{"$f":"SUMIFS('TAB-UF'!$L$11:$L$109,'TAB-UF'!$C$11:$C$109,B31)","v":0},{"$f":"SUMIFS('TAB-UF'!$M$11:$M$109,'TAB-UF'!$C$11:$C$109,B31)","v":0}]
[22,{"$f":"UI!B32","v":"U22"},{"$f":"IF(UI!C32<>\"\",UI!C32,\"\")","v":"UFC22"},{"$f":"IF(UI!D32<>\"\",UI!D32,\"\")","v":"C19"},{"$f":"IF(UI!E32<>\"\",UI!E32,\"\")","v":"CONDOMINO19"},{"$f":"SUMIFS('TAB-UF'!$D$11:$D$109,'TAB-UF'!$C$11:$C$109,B32)","v":45.515999999999998},{"$f":"SUMIFS('TAB-UF'!$E$11:$E$109,'TAB-UF'!$C$11:$C$109,B32)","v":4.6360000000000001},{"$f":"SUMIFS('TAB-UF'!$F$11:$F$109,'TAB-UF'!$C$11:$C$109,B32)","v":0},{"$f":"SUMIFS('TAB-UF'!$G$11:$G$109,'TAB-UF'!$C$11:$C$109,B32)","v":0},{"$f":"SUMIFS('TAB-UF'!$H$11:$H$109,'TAB-UF'!$C$11:$C$109,B32)","v":0},{"$f":"SUMIFS('TAB-UF'!$I$11:$I$109,'TAB-UF'!$C$11:$C$109,B32)","v":0},{"$f":"SUMIFS('TAB-UF'!$J$11:$J$109,'TAB-UF'!$C$11:$C$109,B32)","v":0},{"$f":"SUMIFS('TAB-UF'!$K$11:$K$109,'TAB-UF'!$C$11:$C$109,B32)","v":0},{"$f":"SUMIFS('TAB-UF'!$L$11:$L$109,'TAB-UF'!$C$11:$C$109,B32)","v":0},{"$f":"SUMIFS('TAB-UF'!$M$11:$M$109,'TAB-UF'!$C$11:$C$109,B32)","v":0}]
[23,{"$f":"UI!B33","v":"U23"},{"$f":"IF(UI!C33<>\"\",UI!C33,\"\")","v":""},{"$f":"IF(UI!D33<>\"\",UI!D33,\"\")","v":""},{"$f":"IF(UI!E33<>\"\",UI!E33,\"\")","v":""},{"$f":"SUMIFS('TAB-UF'!$D$11:$D$109,'TAB-UF'!$C$11:$C$109,B33)","v":0},{"$f":"SUMIFS('TAB-UF'!$E$11:$E$109,'TAB-UF'!$C$11:$C$109,B33)","v":0},{"$f":"SUMIFS('TAB-UF'!$F$11:$F$109,'TAB-UF'!$C$11:$C$109,B33)","v":0},{"$f":"SUMIFS('TAB-UF'!$G$11:$G$109,'TAB-UF'!$C$11:$C$109,B33)","v":0},{"$f":"SUMIFS('TAB-UF'!$H$11:$H$109,'TAB-UF'!$C$11:$C$109,B33)","v":0},{"$f":"SUMIFS('TAB-UF'!$I$11:$I$109,'TAB-UF'!$C$11:$C$109,B33)","v":0},{"$f":"SUMIFS('TAB-UF'!$J$11:$J$109,'TAB-UF'!$C$11:$C$109,B33)","v":0},{"$f":"SUMIFS('TAB-UF'!$K$11:$K$109,'TAB-UF'!$C$11:$C$109,B33)","v":0},{"$f":"SUMIFS('TAB-UF'!$L$11:$L$109,'TAB-UF'!$C$11:$C$109,B33)","v":0},{"$f":"SUMIFS('TAB-UF'!$M$11:$M$109,'TAB-UF'!$C$11:$C$109,B33)","v":0}]
[24,{"$f":"UI!B34","v":"U24"},{"$f":"IF(UI!C34<>\"\",UI!C34,\"\")","v":""},{"$f":"IF(UI!D34<>\"\",UI!D34,\"\")","v":""},{"$f":"IF(UI!E34<>\"\",UI!E34,\"\")","v":""},{"$f":"SUMIFS('TAB-UF'!$D$11:$D$109,'TAB-UF'!$C$11:$C$109,B34)","v":0},{"$f":"SUMIFS('TAB-UF'!$E$11:$E$109,'TAB-UF'!$C$11:$C$109,B34)","v":0},{"$f":"SUMIFS('TAB-UF'!$F$11:$F$109,'TAB-UF'!$C$11:$C$109,B34)","v":0},{"$f":"SUMIFS('TAB-UF'!$G$11:$G$109,'TAB-UF'!$C$11:$C$109,B34)","v":0},{"$f":"SUMIFS('TAB-UF'!$H$11:$H$109,'TAB-UF'!$C$11:$C$109,B34)","v":0},{"$f":"SUMIFS('TAB-UF'!$I$11:$I$109,'TAB-UF'!$C$11:$C$109,B34)","v":0},{"$f":"SUMIFS('TAB-UF'!$J$11:$J$109,'TAB-UF'!$C$11:$C$109,B34)","v":0},{"$f":"SUMIFS('TAB-UF'!$K$11:$K$109,'TAB-UF'!$C$11:$C$109,B34)","v":0},{"$f":"SUMIFS('TAB-UF'!$L$11:$L$109,'TAB-UF'!$C$11:$C$109,B34)","v":0},{"$f":"SUMIFS('TAB-UF'!$M$11:$M$109,'TAB-UF'!$C$11:$C$109,B34)","v":0}]
[25,{"$f":"UI!B35","v":"U25"},{"$f":"IF(UI!C35<>\"\",UI!C35,\"\")","v":""},{"$f":"IF(UI!D35<>\"\",UI!D35,\"\")","v":""},{"$f":"IF(UI!E35<>\"\",UI!E35,\"\")","v":""},{"$f":"SUMIFS('TAB-UF'!$D$11:$D$109,'TAB-UF'!$C$11:$C$109,B35)","v":0},{"$f":"SUMIFS('TAB-UF'!$E$11:$E$109,'TAB-UF'!$C$11:$C$109,B35)","v":0},{"$f":"SUMIFS('TAB-UF'!$F$11:$F$109,'TAB-UF'!$C$11:$C$109,B35)","v":0},{"$f":"SUMIFS('TAB-UF'!$G$11:$G$109,'TAB-UF'!$C$11:$C$109,B35)","v":0},{"$f":"SUMIFS('TAB-UF'!$H$11:$H$109,'TAB-UF'!$C$11:$C$109,B35)","v":0},{"$f":"SUMIFS('TAB-UF'!$I$11:$I$109,'TAB-UF'!$C$11:$C$109,B35)","v":0},{"$f":"SUMIFS('TAB-UF'!$J$11:$J$109,'TAB-UF'!$C$11:$C$109,B35)","v":0},{"$f":"SUMIFS('TAB-UF'!$K$11:$K$109,'TAB-UF'!$C$11:$C$109,B35)","v":0},{"$f":"SUMIFS('TAB-UF'!$L$11:$L$109,'TAB-UF'!$C$11:$C$109,B35)","v":0},{"$f":"SUMIFS('TAB-UF'!$M$11:$M$109,'TAB-UF'!$C$11:$C$109,B35)","v":0}]
[26,{"$f":"UI!B36","v":"U26"},{"$f":"IF(UI!C36<>\"\",UI!C36,\"\")","v":""},{"$f":"IF(UI!D36<>\"\",UI!D36,\"\")","v":""},{"$f":"IF(UI!E36<>\"\",UI!E36,\"\")","v":""},{"$f":"SUMIFS('TAB-UF'!$D$11:$D$109,'TAB-UF'!$C$11:$C$109,B36)","v":0},{"$f":"SUMIFS('TAB-UF'!$E$11:$E$109,'TAB-UF'!$C$11:$C$109,B36)","v":0},{"$f":"SUMIFS('TAB-UF'!$F$11:$F$109,'TAB-UF'!$C$11:$C$109,B36)","v":0},{"$f":"SUMIFS('TAB-UF'!$G$11:$G$109,'TAB-UF'!$C$11:$C$109,B36)","v":0},{"$f":"SUMIFS('TAB-UF'!$H$11:$H$109,'TAB-UF'!$C$11:$C$109,B36)","v":0},{"$f":"SUMIFS('TAB-UF'!$I$11:$I$109,'TAB-UF'!$C$11:$C$109,B36)","v":0},{"$f":"SUMIFS('TAB-UF'!$J$11:$J$109,'TAB-UF'!$C$11:$C$109,B36)","v":0},{"$f":"SUMIFS('TAB-UF'!$K$11:$K$109,'TAB-UF'!$C$11:$C$109,B36)","v":0},{"$f":"SUMIFS('TAB-UF'!$L$11:$L$109,'TAB-UF'!$C$11:$C$109,B36)","v":0},{"$f":"SUMIFS('TAB-UF'!$M$11:$M$109,'TAB-UF'!$C$11:$C$109,B36)","v":0}]
[27,{"$f":"UI!B37","v":"U27"},{"$f":"IF(UI!C37<>\"\",UI!C37,\"\")","v":""},{"$f":"IF(UI!D37<>\"\",UI!D37,\"\")","v":""},{"$f":"IF(UI!E37<>\"\",UI!E37,\"\")","v":""},{"$f":"SUMIFS('TAB-UF'!$D$11:$D$109,'TAB-UF'!$C$11:$C$109,B37)","v":0},{"$f":"SUMIFS('TAB-UF'!$E$11:$E$109,'TAB-UF'!$C$11:$C$109,B37)","v":0},{"$f":"SUMIFS('TAB-UF'!$F$11:$F$109,'TAB-UF'!$C$11:$C$109,B37)","v":0},{"$f":"SUMIFS('TAB-UF'!$G$11:$G$109,'TAB-UF'!$C$11:$C$109,B37)","v":0},{"$f":"SUMIFS('TAB-UF'!$H$11:$H$109,'TAB-UF'!$C$11:$C$109,B37)","v":0},{"$f":"SUMIFS('TAB-UF'!$I$11:$I$109,'TAB-UF'!$C$11:$C$109,B37)","v":0},{"$f":"SUMIFS('TAB-UF'!$J$11:$J$109,'TAB-UF'!$C$11:$C$109,B37)","v":0},{"$f":"SUMIFS('TAB-UF'!$K$11:$K$109,'TAB-UF'!$C$11:$C$109,B37)","v":0},{"$f":"SUMIFS('TAB-UF'!$L$11:$L$109,'TAB-UF'!$C$11:$C$109,B37)","v":0},{"$f":"SUMIFS('TAB-UF'!$M$11:$M$109,'TAB-UF'!$C$11:$C$109,B37)","v":0}]
[28,{"$f":"UI!B38","v":"U28"},{"$f":"IF(UI!C38<>\"\",UI!C38,\"\")","v":""},{"$f":"IF(UI!D38<>\"\",UI!D38,\"\")","v":""},{"$f":"IF(UI!E38<>\"\",UI!E38,\"\")","v":""},{"$f":"SUMIFS('TAB-UF'!$D$11:$D$109,'TAB-UF'!$C$11:$C$109,B38)","v":0},{"$f":"SUMIFS('TAB-UF'!$E$11:$E$109,'TAB-UF'!$C$11:$C$109,B38)","v":0},{"$f":"SUMIFS('TAB-UF'!$F$11:$F$109,'TAB-UF'!$C$11:$C$109,B38)","v":0},{"$f":"SUMIFS('TAB-UF'!$G$11:$G$109,'TAB-UF'!$C$11:$C$109,B38)","v":0},{"$f":"SUMIFS('TAB-UF'!$H$11:$H$109,'TAB-UF'!$C$11:$C$109,B38)","v":0},{"$f":"SUMIFS('TAB-UF'!$I$11:$I$109,'TAB-UF'!$C$11:$C$109,B38)","v":0},{"$f":"SUMIFS('TAB-UF'!$J$11:$J$109,'TAB-UF'!$C$11:$C$109,B38)","v":0},{"$f":"SUMIFS('TAB-UF'!$K$11:$K$109,'TAB-UF'!$C$11:$C$109,B38)","v":0},{"$f":"SUMIFS('TAB-UF'!$L$11:$L$109,'TAB-UF'!$C$11:$C$109,B38)","v":0},{"$f":"SUMIFS('TAB-UF'!$M$11:$M$109,'TAB-UF'!$C$11:$C$109,B38)","v":0}]
[29,{"$f":"UI!B39","v":"U29"},{"$f":"IF(UI!C39<>\"\",UI!C39,\"\")","v":""},{"$f":"IF(UI!D39<>\"\",UI!D39,\"\")","v":""},{"$f":"IF(UI!E39<>\"\",UI!E39,\"\")","v":""},{"$f":"SUMIFS('TAB-UF'!$D$11:$D$109,'TAB-UF'!$C$11:$C$109,B39)","v":0},{"$f":"SUMIFS('TAB-UF'!$E$11:$E$109,'TAB-UF'!$C$11:$C$109,B39)","v":0},{"$f":"SUMIFS('TAB-UF'!$F$11:$F$109,'TAB-UF'!$C$11:$C$109,B39)","v":0},{"$f":"SUMIFS('TAB-UF'!$G$11:$G$109,'TAB-UF'!$C$11:$C$109,B39)","v":0},{"$f":"SUMIFS('TAB-UF'!$H$11:$H$109,'TAB-UF'!$C$11:$C$109,B39)","v":0},{"$f":"SUMIFS('TAB-UF'!$I$11:$I$109,'TAB-UF'!$C$11:$C$109,B39)","v":0},{"$f":"SUMIFS('TAB-UF'!$J$11:$J$109,'TAB-UF'!$C$11:$C$109,B39)","v":0},{"$f":"SUMIFS('TAB-UF'!$K$11:$K$109,'TAB-UF'!$C$11:$C$109,B39)","v":0},{"$f":"SUMIFS('TAB-UF'!$L$11:$L$109,'TAB-UF'!$C$11:$C$109,B39)","v":0},{"$f":"SUMIFS('TAB-UF'!$M$11:$M$109,'TAB-UF'!$C$11:$C$109,B39)","v":0}]
[30,{"$f":"UI!B40","v":"U30"},{"$f":"IF(UI!C40<>\"\",UI!C40,\"\")","v":""},{"$f":"IF(UI!D40<>\"\",UI!D40,\"\")","v":""},{"$f":"IF(UI!E40<>\"\",UI!E40,\"\")","v":""},{"$f":"SUMIFS('TAB-UF'!$D$11:$D$109,'TAB-UF'!$C$11:$C$109,B40)","v":0},{"$f":"SUMIFS('TAB-UF'!$E$11:$E$109,'TAB-UF'!$C$11:$C$109,B40)","v":0},{"$f":"SUMIFS('TAB-UF'!$F$11:$F$109,'TAB-UF'!$C$11:$C$109,B40)","v":0},{"$f":"SUMIFS('TAB-UF'!$G$11:$G$109,'TAB-UF'!$C$11:$C$109,B40)","v":0},{"$f":"SUMIFS('TAB-UF'!$H$11:$H$109,'TAB-UF'!$C$11:$C$109,B40)","v":0},{"$f":"SUMIFS('TAB-UF'!$I$11:$I$109,'TAB-UF'!$C$11:$C$109,B40)","v":0},{"$f":"SUMIFS('TAB-UF'!$J$11:$J$109,'TAB-UF'!$C$11:$C$109,B40)","v":0},{"$f":"SUMIFS('TAB-UF'!$K$11:$K$109,'TAB-UF'!$C$11:$C$109,B40)","v":0},{"$f":"SUMIFS('TAB-UF'!$L$11:$L$109,'TAB-UF'!$C$11:$C$109,B40)","v":0},{"$f":"SUMIFS('TAB-UF'!$M$11:$M$109,'TAB-UF'!$C$11:$C$109,B40)","v":0}]
[31,{"$f":"UI!B41","v":"U31"},{"$f":"IF(UI!C41<>\"\",UI!C41,\"\")","v":""},{"$f":"IF(UI!D41<>\"\",UI!D41,\"\")","v":""},{"$f":"IF(UI!E41<>\"\",UI!E41,\"\")","v":""},{"$f":"SUMIFS('TAB-UF'!$D$11:$D$109,'TAB-UF'!$C$11:$C$109,B41)","v":0},{"$f":"SUMIFS('TAB-UF'!$E$11:$E$109,'TAB-UF'!$C$11:$C$109,B41)","v":0},{"$f":"SUMIFS('TAB-UF'!$F$11:$F$109,'TAB-UF'!$C$11:$C$109,B41)","v":0},{"$f":"SUMIFS('TAB-UF'!$G$11:$G$109,'TAB-UF'!$C$11:$C$109,B41)","v":0},{"$f":"SUMIFS('TAB-UF'!$H$11:$H$109,'TAB-UF'!$C$11:$C$109,B41)","v":0},{"$f":"SUMIFS('TAB-UF'!$I$11:$I$109,'TAB-UF'!$C$11:$C$109,B41)","v":0},{"$f":"SUMIFS('TAB-UF'!$J$11:$J$109,'TAB-UF'!$C$11:$C$109,B41)","v":0},{"$f":"SUMIFS('TAB-UF'!$K$11:$K$109,'TAB-UF'!$C$11:$C$109,B41)","v":0},{"$f":"SUMIFS('TAB-UF'!$L$11:$L$109,'TAB-UF'!$C$11:$C$109,B41)","v":0},{"$f":"SUMIFS('TAB-UF'!$M$11:$M$109,'TAB-UF'!$C$11:$C$109,B41)","v":0}]
[32,{"$f":"UI!B42","v":"U32"},{"$f":"IF(UI!C42<>\"\",UI!C42,\"\")","v":""},{"$f":"IF(UI!D42<>\"\",UI!D42,\"\")","v":""},{"$f":"IF(UI!E42<>\"\",UI!E42,\"\")","v":""},{"$f":"SUMIFS('TAB-UF'!$D$11:$D$109,'TAB-UF'!$C$11:$C$109,B42)","v":0},{"$f":"SUMIFS('TAB-UF'!$E$11:$E$109,'TAB-UF'!$C$11:$C$109,B42)","v":0},{"$f":"SUMIFS('TAB-UF'!$F$11:$F$109,'TAB-UF'!$C$11:$C$109,B42)","v":0},{"$f":"SUMIFS('TAB-UF'!$G$11:$G$109,'TAB-UF'!$C$11:$C$109,B42)","v":0},{"$f":"SUMIFS('TAB-UF'!$H$11:$H$109,'TAB-UF'!$C$11:$C$109,B42)","v":0},{"$f":"SUMIFS('TAB-UF'!$I$11:$I$109,'TAB-UF'!$C$11:$C$109,B42)","v":0},{"$f":"SUMIFS('TAB-UF'!$J$11:$J$109,'TAB-UF'!$C$11:$C$109,B42)","v":0},{"$f":"SUMIFS('TAB-UF'!$K$11:$K$109,'TAB-UF'!$C$11:$C$109,B42)","v":0},{"$f":"SUMIFS('TAB-UF'!$L$11:$L$109,'TAB-UF'!$C$11:$C$109,B42)","v":0},{"$f":"SUMIFS('TAB-UF'!$M$11:$M$109,'TAB-UF'!$C$11:$C$109,B42)","v":0}]
[33,{"$f":"UI!B43","v":"U33"},{"$f":"IF(UI!C43<>\"\",UI!C43,\"\")","v":""},{"$f":"IF(UI!D43<>\"\",UI!D43,\"\")","v":""},{"$f":"IF(UI!E43<>\"\",UI!E43,\"\")","v":""},{"$f":"SUMIFS('TAB-UF'!$D$11:$D$109,'TAB-UF'!$C$11:$C$109,B43)","v":0},{"$f":"SUMIFS('TAB-UF'!$E$11:$E$109,'TAB-UF'!$C$11:$C$109,B43)","v":0},{"$f":"SUMIFS('TAB-UF'!$F$11:$F$109,'TAB-UF'!$C$11:$C$109,B43)","v":0},{"$f":"SUMIFS('TAB-UF'!$G$11:$G$109,'TAB-UF'!$C$11:$C$109,B43)","v":0},{"$f":"SUMIFS('TAB-UF'!$H$11:$H$109,'TAB-UF'!$C$11:$C$109,B43)","v":0},{"$f":"SUMIFS('TAB-UF'!$I$11:$I$109,'TAB-UF'!$C$11:$C$109,B43)","v":0},{"$f":"SUMIFS('TAB-UF'!$J$11:$J$109,'TAB-UF'!$C$11:$C$109,B43)","v":0},{"$f":"SUMIFS('TAB-UF'!$K$11:$K$109,'TAB-UF'!$C$11:$C$109,B43)","v":0},{"$f":"SUMIFS('TAB-UF'!$L$11:$L$109,'TAB-UF'!$C$11:$C$109,B43)","v":0},{"$f":"SUMIFS('TAB-UF'!$M$11:$M$109,'TAB-UF'!$C$11:$C$109,B43)","v":0}]
[34,{"$f":"UI!B44","v":"U34"},{"$f":"IF(UI!C44<>\"\",UI!C44,\"\")","v":""},{"$f":"IF(UI!D44<>\"\",UI!D44,\"\")","v":""},{"$f":"IF(UI!E44<>\"\",UI!E44,\"\")","v":""},{"$f":"SUMIFS('TAB-UF'!$D$11:$D$109,'TAB-UF'!$C$11:$C$109,B44)","v":0},{"$f":"SUMIFS('TAB-UF'!$E$11:$E$109,'TAB-UF'!$C$11:$C$109,B44)","v":0},{"$f":"SUMIFS('TAB-UF'!$F$11:$F$109,'TAB-UF'!$C$11:$C$109,B44)","v":0},{"$f":"SUMIFS('TAB-UF'!$G$11:$G$109,'TAB-UF'!$C$11:$C$109,B44)","v":0},{"$f":"SUMIFS('TAB-UF'!$H$11:$H$109,'TAB-UF'!$C$11:$C$109,B44)","v":0},{"$f":"SUMIFS('TAB-UF'!$I$11:$I$109,'TAB-UF'!$C$11:$C$109,B44)","v":0},{"$f":"SUMIFS('TAB-UF'!$J$11:$J$109,'TAB-UF'!$C$11:$C$109,B44)","v":0},{"$f":"SUMIFS('TAB-UF'!$K$11:$K$109,'TAB-UF'!$C$11:$C$109,B44)","v":0},{"$f":"SUMIFS('TAB-UF'!$L$11:$L$109,'TAB-UF'!$C$11:$C$109,B44)","v":0},{"$f":"SUMIFS('TAB-UF'!$M$11:$M$109,'TAB-UF'!$C$11:$C$109,B44)","v":0}]
[35,{"$f":"UI!B45","v":"U35"},{"$f":"IF(UI!C45<>\"\",UI!C45,\"\")","v":""},{"$f":"IF(UI!D45<>\"\",UI!D45,\"\")","v":""},{"$f":"IF(UI!E45<>\"\",UI!E45,\"\")","v":""},{"$f":"SUMIFS('TAB-UF'!$D$11:$D$109,'TAB-UF'!$C$11:$C$109,B45)","v":0},{"$f":"SUMIFS('TAB-UF'!$E$11:$E$109,'TAB-UF'!$C$11:$C$109,B45)","v":0},{"$f":"SUMIFS('TAB-UF'!$F$11:$F$109,'TAB-UF'!$C$11:$C$109,B45)","v":0},{"$f":"SUMIFS('TAB-UF'!$G$11:$G$109,'TAB-UF'!$C$11:$C$109,B45)","v":0},{"$f":"SUMIFS('TAB-UF'!$H$11:$H$109,'TAB-UF'!$C$11:$C$109,B45)","v":0},{"$f":"SUMIFS('TAB-UF'!$I$11:$I$109,'TAB-UF'!$C$11:$C$109,B45)","v":0},{"$f":"SUMIFS('TAB-UF'!$J$11:$J$109,'TAB-UF'!$C$11:$C$109,B45)","v":0},{"$f":"SUMIFS('TAB-UF'!$K$11:$K$109,'TAB-UF'!$C$11:$C$109,B45)","v":0},{"$f":"SUMIFS('TAB-UF'!$L$11:$L$109,'TAB-UF'!$C$11:$C$109,B45)","v":0},{"$f":"SUMIFS('TAB-UF'!$M$11:$M$109,'TAB-UF'!$C$11:$C$109,B45)","v":0}]
[36,{"$f":"UI!B46","v":"U36"},{"$f":"IF(UI!C46<>\"\",UI!C46,\"\")","v":""},{"$f":"IF(UI!D46<>\"\",UI!D46,\"\")","v":""},{"$f":"IF(UI!E46<>\"\",UI!E46,\"\")","v":""},{"$f":"SUMIFS('TAB-UF'!$D$11:$D$109,'TAB-UF'!$C$11:$C$109,B46)","v":0},{"$f":"SUMIFS('TAB-UF'!$E$11:$E$109,'TAB-UF'!$C$11:$C$109,B46)","v":0},{"$f":"SUMIFS('TAB-UF'!$F$11:$F$109,'TAB-UF'!$C$11:$C$109,B46)","v":0},{"$f":"SUMIFS('TAB-UF'!$G$11:$G$109,'TAB-UF'!$C$11:$C$109,B46)","v":0},{"$f":"SUMIFS('TAB-UF'!$H$11:$H$109,'TAB-UF'!$C$11:$C$109,B46)","v":0},{"$f":"SUMIFS('TAB-UF'!$I$11:$I$109,'TAB-UF'!$C$11:$C$109,B46)","v":0},{"$f":"SUMIFS('TAB-UF'!$J$11:$J$109,'TAB-UF'!$C$11:$C$109,B46)","v":0},{"$f":"SUMIFS('TAB-UF'!$K$11:$K$109,'TAB-UF'!$C$11:$C$109,B46)","v":0},{"$f":"SUMIFS('TAB-UF'!$L$11:$L$109,'TAB-UF'!$C$11:$C$109,B46)","v":0},{"$f":"SUMIFS('TAB-UF'!$M$11:$M$109,'TAB-UF'!$C$11:$C$109,B46)","v":0}]
[37,{"$f":"UI!B47","v":"U37"},{"$f":"IF(UI!C47<>\"\",UI!C47,\"\")","v":""},{"$f":"IF(UI!D47<>\"\",UI!D47,\"\")","v":""},{"$f":"IF(UI!E47<>\"\",UI!E47,\"\")","v":""},{"$f":"SUMIFS('TAB-UF'!$D$11:$D$109,'TAB-UF'!$C$11:$C$109,B47)","v":0},{"$f":"SUMIFS('TAB-UF'!$E$11:$E$109,'TAB-UF'!$C$11:$C$109,B47)","v":0},{"$f":"SUMIFS('TAB-UF'!$F$11:$F$109,'TAB-UF'!$C$11:$C$109,B47)","v":0},{"$f":"SUMIFS('TAB-UF'!$G$11:$G$109,'TAB-UF'!$C$11:$C$109,B47)","v":0},{"$f":"SUMIFS('TAB-UF'!$H$11:$H$109,'TAB-UF'!$C$11:$C$109,B47)","v":0},{"$f":"SUMIFS('TAB-UF'!$I$11:$I$109,'TAB-UF'!$C$11:$C$109,B47)","v":0},{"$f":"SUMIFS('TAB-UF'!$J$11:$J$109,'TAB-UF'!$C$11:$C$109,B47)","v":0},{"$f":"SUMIFS('TAB-UF'!$K$11:$K$109,'TAB-UF'!$C$11:$C$109,B47)","v":0},{"$f":"SUMIFS('TAB-UF'!$L$11:$L$109,'TAB-UF'!$C$11:$C$109,B47)","v":0},{"$f":"SUMIFS('TAB-UF'!$M$11:$M$109,'TAB-UF'!$C$11:$C$109,B47)","v":0}]
[38,{"$f":"UI!B48","v":"U38"},{"$f":"IF(UI!C48<>\"\",UI!C48,\"\")","v":""},{"$f":"IF(UI!D48<>\"\",UI!D48,\"\")","v":""},{"$f":"IF(UI!E48<>\"\",UI!E48,\"\")","v":""},{"$f":"SUMIFS('TAB-UF'!$D$11:$D$109,'TAB-UF'!$C$11:$C$109,B48)","v":0},{"$f":"SUMIFS('TAB-UF'!$E$11:$E$109,'TAB-UF'!$C$11:$C$109,B48)","v":0},{"$f":"SUMIFS('TAB-UF'!$F$11:$F$109,'TAB-UF'!$C$11:$C$109,B48)","v":0},{"$f":"SUMIFS('TAB-UF'!$G$11:$G$109,'TAB-UF'!$C$11:$C$109,B48)","v":0},{"$f":"SUMIFS('TAB-UF'!$H$11:$H$109,'TAB-UF'!$C$11:$C$109,B48)","v":0},{"$f":"SUMIFS('TAB-UF'!$I$11:$I$109,'TAB-UF'!$C$11:$C$109,B48)","v":0},{"$f":"SUMIFS('TAB-UF'!$J$11:$J$109,'TAB-UF'!$C$11:$C$109,B48)","v":0},{"$f":"SUMIFS('TAB-UF'!$K$11:$K$109,'TAB-UF'!$C$11:$C$109,B48)","v":0},{"$f":"SUMIFS('TAB-UF'!$L$11:$L$109,'TAB-UF'!$C$11:$C$109,B48)","v":0},{"$f":"SUMIFS('TAB-UF'!$M$11:$M$109,'TAB-UF'!$C$11:$C$109,B48)","v":0}]
[39,{"$f":"UI!B49","v":"U39"},{"$f":"IF(UI!C49<>\"\",UI!C49,\"\")","v":""},{"$f":"IF(UI!D49<>\"\",UI!D49,\"\")","v":""},{"$f":"IF(UI!E49<>\"\",UI!E49,\"\")","v":""},{"$f":"SUMIFS('TAB-UF'!$D$11:$D$109,'TAB-UF'!$C$11:$C$109,B49)","v":0},{"$f":"SUMIFS('TAB-UF'!$E$11:$E$109,'TAB-UF'!$C$11:$C$109,B49)","v":0},{"$f":"SUMIFS('TAB-UF'!$F$11:$F$109,'TAB-UF'!$C$11:$C$109,B49)","v":0},{"$f":"SUMIFS('TAB-UF'!$G$11:$G$109,'TAB-UF'!$C$11:$C$109,B49)","v":0},{"$f":"SUMIFS('TAB-UF'!$H$11:$H$109,'TAB-UF'!$C$11:$C$109,B49)","v":0},{"$f":"SUMIFS('TAB-UF'!$I$11:$I$109,'TAB-UF'!$C$11:$C$109,B49)","v":0},{"$f":"SUMIFS('TAB-UF'!$J$11:$J$109,'TAB-UF'!$C$11:$C$109,B49)","v":0},{"$f":"SUMIFS('TAB-UF'!$K$11:$K$109,'TAB-UF'!$C$11:$C$109,B49)","v":0},{"$f":"SUMIFS('TAB-UF'!$L$11:$L$109,'TAB-UF'!$C$11:$C$109,B49)","v":0},{"$f":"SUMIFS('TAB-UF'!$M$11:$M$109,'TAB-UF'!$C$11:$C$109,B49)","v":0}]
[40,{"$f":"UI!B50","v":"U40"},{"$f":"IF(UI!C50<>\"\",UI!C50,\"\")","v":""},{"$f":"IF(UI!D50<>\"\",UI!D50,\"\")","v":""},{"$f":"IF(UI!E50<>\"\",UI!E50,\"\")","v":""},{"$f":"SUMIFS('TAB-UF'!$D$11:$D$109,'TAB-UF'!$C$11:$C$109,B50)","v":0},{"$f":"SUMIFS('TAB-UF'!$E$11:$E$109,'TAB-UF'!$C$11:$C$109,B50)","v":0},{"$f":"SUMIFS('TAB-UF'!$F$11:$F$109,'TAB-UF'!$C$11:$C$109,B50)","v":0},{"$f":"SUMIFS('TAB-UF'!$G$11:$G$109,'TAB-UF'!$C$11:$C$109,B50)","v":0},{"$f":"SUMIFS('TAB-UF'!$H$11:$H$109,'TAB-UF'!$C$11:$C$109,B50)","v":0},{"$f":"SUMIFS('TAB-UF'!$I$11:$I$109,'TAB-UF'!$C$11:$C$109,B50)","v":0},{"$f":"SUMIFS('TAB-UF'!$J$11:$J$109,'TAB-UF'!$C$11:$C$109,B50)","v":0},{"$f":"SUMIFS('TAB-UF'!$K$11:$K$109,'TAB-UF'!$C$11:$C$109,B50)","v":0},{"$f":"SUMIFS('TAB-UF'!$L$11:$L$109,'TAB-UF'!$C$11:$C$109,B50)","v":0},{"$f":"SUMIFS('TAB-UF'!$M$11:$M$109,'TAB-UF'!$C$11:$C$109,B50)","v":0}]
[41,{"$f":"UI!B51","v":"U41"},{"$f":"IF(UI!C51<>\"\",UI!C51,\"\")","v":""},{"$f":"IF(UI!D51<>\"\",UI!D51,\"\")","v":""},{"$f":"IF(UI!E51<>\"\",UI!E51,\"\")","v":""},{"$f":"SUMIFS('TAB-UF'!$D$11:$D$109,'TAB-UF'!$C$11:$C$109,B51)","v":0},{"$f":"SUMIFS('TAB-UF'!$E$11:$E$109,'TAB-UF'!$C$11:$C$109,B51)","v":0},{"$f":"SUMIFS('TAB-UF'!$F$11:$F$109,'TAB-UF'!$C$11:$C$109,B51)","v":0},{"$f":"SUMIFS('TAB-UF'!$G$11:$G$109,'TAB-UF'!$C$11:$C$109,B51)","v":0},{"$f":"SUMIFS('TAB-UF'!$H$11:$H$109,'TAB-UF'!$C$11:$C$109,B51)","v":0},{"$f":"SUMIFS('TAB-UF'!$I$11:$I$109,'TAB-UF'!$C$11:$C$109,B51)","v":0},{"$f":"SUMIFS('TAB-UF'!$J$11:$J$109,'TAB-UF'!$C$11:$C$109,B51)","v":0},{"$f":"SUMIFS('TAB-UF'!$K$11:$K$109,'TAB-UF'!$C$11:$C$109,B51)","v":0},{"$f":"SUMIFS('TAB-UF'!$L$11:$L$109,'TAB-UF'!$C$11:$C$109,B51)","v":0},{"$f":"SUMIFS('TAB-UF'!$M$11:$M$109,'TAB-UF'!$C$11:$C$109,B51)","v":0}]
[42,{"$f":"UI!B52","v":"U42"},{"$f":"IF(UI!C52<>\"\",UI!C52,\"\")","v":""},{"$f":"IF(UI!D52<>\"\",UI!D52,\"\")","v":""},{"$f":"IF(UI!E52<>\"\",UI!E52,\"\")","v":""},{"$f":"SUMIFS('TAB-UF'!$D$11:$D$109,'TAB-UF'!$C$11:$C$109,B52)","v":0},{"$f":"SUMIFS('TAB-UF'!$E$11:$E$109,'TAB-UF'!$C$11:$C$109,B52)","v":0},{"$f":"SUMIFS('TAB-UF'!$F$11:$F$109,'TAB-UF'!$C$11:$C$109,B52)","v":0},{"$f":"SUMIFS('TAB-UF'!$G$11:$G$109,'TAB-UF'!$C$11:$C$109,B52)","v":0},{"$f":"SUMIFS('TAB-UF'!$H$11:$H$109,'TAB-UF'!$C$11:$C$109,B52)","v":0},{"$f":"SUMIFS('TAB-UF'!$I$11:$I$109,'TAB-UF'!$C$11:$C$109,B52)","v":0},{"$f":"SUMIFS('TAB-UF'!$J$11:$J$109,'TAB-UF'!$C$11:$C$109,B52)","v":0},{"$f":"SUMIFS('TAB-UF'!$K$11:$K$109,'TAB-UF'!$C$11:$C$109,B52)","v":0},{"$f":"SUMIFS('TAB-UF'!$L$11:$L$109,'TAB-UF'!$C$11:$C$109,B52)","v":0},{"$f":"SUMIFS('TAB-UF'!$M$11:$M$109,'TAB-UF'!$C$11:$C$109,B52)","v":0}]
[43,{"$f":"UI!B53","v":"U43"},{"$f":"IF(UI!C53<>\"\",UI!C53,\"\")","v":""},{"$f":"IF(UI!D53<>\"\",UI!D53,\"\")","v":""},{"$f":"IF(UI!E53<>\"\",UI!E53,\"\")","v":""},{"$f":"SUMIFS('TAB-UF'!$D$11:$D$109,'TAB-UF'!$C$11:$C$109,B53)","v":0},{"$f":"SUMIFS('TAB-UF'!$E$11:$E$109,'TAB-UF'!$C$11:$C$109,B53)","v":0},{"$f":"SUMIFS('TAB-UF'!$F$11:$F$109,'TAB-UF'!$C$11:$C$109,B53)","v":0},{"$f":"SUMIFS('TAB-UF'!$G$11:$G$109,'TAB-UF'!$C$11:$C$109,B53)","v":0},{"$f":"SUMIFS('TAB-UF'!$H$11:$H$109,'TAB-UF'!$C$11:$C$109,B53)","v":0},{"$f":"SUMIFS('TAB-UF'!$I$11:$I$109,'TAB-UF'!$C$11:$C$109,B53)","v":0},{"$f":"SUMIFS('TAB-UF'!$J$11:$J$109,'TAB-UF'!$C$11:$C$109,B53)","v":0},{"$f":"SUMIFS('TAB-UF'!$K$11:$K$109,'TAB-UF'!$C$11:$C$109,B53)","v":0},{"$f":"SUMIFS('TAB-UF'!$L$11:$L$109,'TAB-UF'!$C$11:$C$109,B53)","v":0},{"$f":"SUMIFS('TAB-UF'!$M$11:$M$109,'TAB-UF'!$C$11:$C$109,B53)","v":0}]
[44,{"$f":"UI!B54","v":"U44"},{"$f":"IF(UI!C54<>\"\",UI!C54,\"\")","v":""},{"$f":"IF(UI!D54<>\"\",UI!D54,\"\")","v":""},{"$f":"IF(UI!E54<>\"\",UI!E54,\"\")","v":""},{"$f":"SUMIFS('TAB-UF'!$D$11:$D$109,'TAB-UF'!$C$11:$C$109,B54)","v":0},{"$f":"SUMIFS('TAB-UF'!$E$11:$E$109,'TAB-UF'!$C$11:$C$109,B54)","v":0},{"$f":"SUMIFS('TAB-UF'!$F$11:$F$109,'TAB-UF'!$C$11:$C$109,B54)","v":0},{"$f":"SUMIFS('TAB-UF'!$G$11:$G$109,'TAB-UF'!$C$11:$C$109,B54)","v":0},{"$f":"SUMIFS('TAB-UF'!$H$11:$H$109,'TAB-UF'!$C$11:$C$109,B54)","v":0},{"$f":"SUMIFS('TAB-UF'!$I$11:$I$109,'TAB-UF'!$C$11:$C$109,B54)","v":0},{"$f":"SUMIFS('TAB-UF'!$J$11:$J$109,'TAB-UF'!$C$11:$C$109,B54)","v":0},{"$f":"SUMIFS('TAB-UF'!$K$11:$K$109,'TAB-UF'!$C$11:$C$109,B54)","v":0},{"$f":"SUMIFS('TAB-UF'!$L$11:$L$109,'TAB-UF'!$C$11:$C$109,B54)","v":0},{"$f":"SUMIFS('TAB-UF'!$M$11:$M$109,'TAB-UF'!$C$11:$C$109,B54)","v":0}]
[45,{"$f":"UI!B55","v":"U45"},{"$f":"IF(UI!C55<>\"\",UI!C55,\"\")","v":""},{"$f":"IF(UI!D55<>\"\",UI!D55,\"\")","v":""},{"$f":"IF(UI!E55<>\"\",UI!E55,\"\")","v":""},{"$f":"SUMIFS('TAB-UF'!$D$11:$D$109,'TAB-UF'!$C$11:$C$109,B55)","v":0},{"$f":"SUMIFS('TAB-UF'!$E$11:$E$109,'TAB-UF'!$C$11:$C$109,B55)","v":0},{"$f":"SUMIFS('TAB-UF'!$F$11:$F$109,'TAB-UF'!$C$11:$C$109,B55)","v":0},{"$f":"SUMIFS('TAB-UF'!$G$11:$G$109,'TAB-UF'!$C$11:$C$109,B55)","v":0},{"$f":"SUMIFS('TAB-UF'!$H$11:$H$109,'TAB-UF'!$C$11:$C$109,B55)","v":0},{"$f":"SUMIFS('TAB-UF'!$I$11:$I$109,'TAB-UF'!$C$11:$C$109,B55)","v":0},{"$f":"SUMIFS('TAB-UF'!$J$11:$J$109,'TAB-UF'!$C$11:$C$109,B55)","v":0},{"$f":"SUMIFS('TAB-UF'!$K$11:$K$109,'TAB-UF'!$C$11:$C$109,B55)","v":0},{"$f":"SUMIFS('TAB-UF'!$L$11:$L$109,'TAB-UF'!$C$11:$C$109,B55)","v":0},{"$f":"SUMIFS('TAB-UF'!$M$11:$M$109,'TAB-UF'!$C$11:$C$109,B55)","v":0}]
[46,{"$f":"UI!B56","v":"U46"},{"$f":"IF(UI!C56<>\"\",UI!C56,\"\")","v":""},{"$f":"IF(UI!D56<>\"\",UI!D56,\"\")","v":""},{"$f":"IF(UI!E56<>\"\",UI!E56,\"\")","v":""},{"$f":"SUMIFS('TAB-UF'!$D$11:$D$109,'TAB-UF'!$C$11:$C$109,B56)","v":0},{"$f":"SUMIFS('TAB-UF'!$E$11:$E$109,'TAB-UF'!$C$11:$C$109,B56)","v":0},{"$f":"SUMIFS('TAB-UF'!$F$11:$F$109,'TAB-UF'!$C$11:$C$109,B56)","v":0},{"$f":"SUMIFS('TAB-UF'!$G$11:$G$109,'TAB-UF'!$C$11:$C$109,B56)","v":0},{"$f":"SUMIFS('TAB-UF'!$H$11:$H$109,'TAB-UF'!$C$11:$C$109,B56)","v":0},{"$f":"SUMIFS('TAB-UF'!$I$11:$I$109,'TAB-UF'!$C$11:$C$109,B56)","v":0},{"$f":"SUMIFS('TAB-UF'!$J$11:$J$109,'TAB-UF'!$C$11:$C$109,B56)","v":0},{"$f":"SUMIFS('TAB-UF'!$K$11:$K$109,'TAB-UF'!$C$11:$C$109,B56)","v":0},{"$f":"SUMIFS('TAB-UF'!$L$11:$L$109,'TAB-UF'!$C$11:$C$109,B56)","v":0},{"$f":"SUMIFS('TAB-UF'!$M$11:$M$109,'TAB-UF'!$C$11:$C$109,B56)","v":0}]
[47,{"$f":"UI!B57","v":"U47"},{"$f":"IF(UI!C57<>\"\",UI!C57,\"\")","v":""},{"$f":"IF(UI!D57<>\"\",UI!D57,\"\")","v":""},{"$f":"IF(UI!E57<>\"\",UI!E57,\"\")","v":""},{"$f":"SUMIFS('TAB-UF'!$D$11:$D$109,'TAB-UF'!$C$11:$C$109,B57)","v":0},{"$f":"SUMIFS('TAB-UF'!$E$11:$E$109,'TAB-UF'!$C$11:$C$109,B57)","v":0},{"$f":"SUMIFS('TAB-UF'!$F$11:$F$109,'TAB-UF'!$C$11:$C$109,B57)","v":0},{"$f":"SUMIFS('TAB-UF'!$G$11:$G$109,'TAB-UF'!$C$11:$C$109,B57)","v":0},{"$f":"SUMIFS('TAB-UF'!$H$11:$H$109,'TAB-UF'!$C$11:$C$109,B57)","v":0},{"$f":"SUMIFS('TAB-UF'!$I$11:$I$109,'TAB-UF'!$C$11:$C$109,B57)","v":0},{"$f":"SUMIFS('TAB-UF'!$J$11:$J$109,'TAB-UF'!$C$11:$C$109,B57)","v":0},{"$f":"SUMIFS('TAB-UF'!$K$11:$K$109,'TAB-UF'!$C$11:$C$109,B57)","v":0},{"$f":"SUMIFS('TAB-UF'!$L$11:$L$109,'TAB-UF'!$C$11:$C$109,B57)","v":0},{"$f":"SUMIFS('TAB-UF'!$M$11:$M$109,'TAB-UF'!$C$11:$C$109,B57)","v":0}]
[48,{"$f":"UI!B58","v":"U48"},{"$f":"IF(UI!C58<>\"\",UI!C58,\"\")","v":""},{"$f":"IF(UI!D58<>\"\",UI!D58,\"\")","v":""},{"$f":"IF(UI!E58<>\"\",UI!E58,\"\")","v":""},{"$f":"SUMIFS('TAB-UF'!$D$11:$D$109,'TAB-UF'!$C$11:$C$109,B58)","v":0},{"$f":"SUMIFS('TAB-UF'!$E$11:$E$109,'TAB-UF'!$C$11:$C$109,B58)","v":0},{"$f":"SUMIFS('TAB-UF'!$F$11:$F$109,'TAB-UF'!$C$11:$C$109,B58)","v":0},{"$f":"SUMIFS('TAB-UF'!$G$11:$G$109,'TAB-UF'!$C$11:$C$109,B58)","v":0},{"$f":"SUMIFS('TAB-UF'!$H$11:$H$109,'TAB-UF'!$C$11:$C$109,B58)","v":0},{"$f":"SUMIFS('TAB-UF'!$I$11:$I$109,'TAB-UF'!$C$11:$C$109,B58)","v":0},{"$f":"SUMIFS('TAB-UF'!$J$11:$J$109,'TAB-UF'!$C$11:$C$109,B58)","v":0},{"$f":"SUMIFS('TAB-UF'!$K$11:$K$109,'TAB-UF'!$C$11:$C$109,B58)","v":0},{"$f":"SUMIFS('TAB-UF'!$L$11:$L$109,'TAB-UF'!$C$11:$C$109,B58)","v":0},{"$f":"SUMIFS('TAB-UF'!$M$11:$M$109,'TAB-UF'!$C$11:$C$109,B58)","v":0}]
[49,{"$f":"UI!B59","v":"U49"},{"$f":"IF(UI!C59<>\"\",UI!C59,\"\")","v":""},{"$f":"IF(UI!D59<>\"\",UI!D59,\"\")","v":""},{"$f":"IF(UI!E59<>\"\",UI!E59,\"\")","v":""},{"$f":"SUMIFS('TAB-UF'!$D$11:$D$109,'TAB-UF'!$C$11:$C$109,B59)","v":0},{"$f":"SUMIFS('TAB-UF'!$E$11:$E$109,'TAB-UF'!$C$11:$C$109,B59)","v":0},{"$f":"SUMIFS('TAB-UF'!$F$11:$F$109,'TAB-UF'!$C$11:$C$109,B59)","v":0},{"$f":"SUMIFS('TAB-UF'!$G$11:$G$109,'TAB-UF'!$C$11:$C$109,B59)","v":0},{"$f":"SUMIFS('TAB-UF'!$H$11:$H$109,'TAB-UF'!$C$11:$C$109,B59)","v":0},{"$f":"SUMIFS('TAB-UF'!$I$11:$I$109,'TAB-UF'!$C$11:$C$109,B59)","v":0},{"$f":"SUMIFS('TAB-UF'!$J$11:$J$109,'TAB-UF'!$C$11:$C$109,B59)","v":0},{"$f":"SUMIFS('TAB-UF'!$K$11:$K$109,'TAB-UF'!$C$11:$C$109,B59)","v":0},{"$f":"SUMIFS('TAB-UF'!$L$11:$L$109,'TAB-UF'!$C$11:$C$109,B59)","v":0},{"$f":"SUMIFS('TAB-UF'!$M$11:$M$109,'TAB-UF'!$C$11:$C$109,B59)","v":0}]
[50,{"$f":"UI!B60","v":"U50"},{"$f":"IF(UI!C60<>\"\",UI!C60,\"\")","v":""},{"$f":"IF(UI!D60<>\"\",UI!D60,\"\")","v":""},{"$f":"IF(UI!E60<>\"\",UI!E60,\"\")","v":""},{"$f":"SUMIFS('TAB-UF'!$D$11:$D$109,'TAB-UF'!$C$11:$C$109,B60)","v":0},{"$f":"SUMIFS('TAB-UF'!$E$11:$E$109,'TAB-UF'!$C$11:$C$109,B60)","v":0},{"$f":"SUMIFS('TAB-UF'!$F$11:$F$109,'TAB-UF'!$C$11:$C$109,B60)","v":0},{"$f":"SUMIFS('TAB-UF'!$G$11:$G$109,'TAB-UF'!$C$11:$C$109,B60)","v":0},{"$f":"SUMIFS('TAB-UF'!$H$11:$H$109,'TAB-UF'!$C$11:$C$109,B60)","v":0},{"$f":"SUMIFS('TAB-UF'!$I$11:$I$109,'TAB-UF'!$C$11:$C$109,B60)","v":0},{"$f":"SUMIFS('TAB-UF'!$J$11:$J$109,'TAB-UF'!$C$11:$C$109,B60)","v":0},{"$f":"SUMIFS('TAB-UF'!$K$11:$K$109,'TAB-UF'!$C$11:$C$109,B60)","v":0},{"$f":"SUMIFS('TAB-UF'!$L$11:$L$109,'TAB-UF'!$C$11:$C$109,B60)","v":0},{"$f":"SUMIFS('TAB-UF'!$M$11:$M$109,'TAB-UF'!$C$11:$C$109,B60)","v":0}]
[51,{"$f":"UI!B61","v":"U51"},{"$f":"IF(UI!C61<>\"\",UI!C61,\"\")","v":""},{"$f":"IF(UI!D61<>\"\",UI!D61,\"\")","v":""},{"$f":"IF(UI!E61<>\"\",UI!E61,\"\")","v":""},{"$f":"SUMIFS('TAB-UF'!$D$11:$D$109,'TAB-UF'!$C$11:$C$109,B61)","v":0},{"$f":"SUMIFS('TAB-UF'!$E$11:$E$109,'TAB-UF'!$C$11:$C$109,B61)","v":0},{"$f":"SUMIFS('TAB-UF'!$F$11:$F$109,'TAB-UF'!$C$11:$C$109,B61)","v":0},{"$f":"SUMIFS('TAB-UF'!$G$11:$G$109,'TAB-UF'!$C$11:$C$109,B61)","v":0},{"$f":"SUMIFS('TAB-UF'!$H$11:$H$109,'TAB-UF'!$C$11:$C$109,B61)","v":0},{"$f":"SUMIFS('TAB-UF'!$I$11:$I$109,'TAB-UF'!$C$11:$C$109,B61)","v":0},{"$f":"SUMIFS('TAB-UF'!$J$11:$J$109,'TAB-UF'!$C$11:$C$109,B61)","v":0},{"$f":"SUMIFS('TAB-UF'!$K$11:$K$109,'TAB-UF'!$C$11:$C$109,B61)","v":0},{"$f":"SUMIFS('TAB-UF'!$L$11:$L$109,'TAB-UF'!$C$11:$C$109,B61)","v":0},{"$f":"SUMIFS('TAB-UF'!$M$11:$M$109,'TAB-UF'!$C$11:$C$109,B61)","v":0}]
[52,{"$f":"UI!B62","v":"U52"},{"$f":"IF(UI!C62<>\"\",UI!C62,\"\")","v":""},{"$f":"IF(UI!D62<>\"\",UI!D62,\"\")","v":""},{"$f":"IF(UI!E62<>\"\",UI!E62,\"\")","v":""},{"$f":"SUMIFS('TAB-UF'!$D$11:$D$109,'TAB-UF'!$C$11:$C$109,B62)","v":0},{"$f":"SUMIFS('TAB-UF'!$E$11:$E$109,'TAB-UF'!$C$11:$C$109,B62)","v":0},{"$f":"SUMIFS('TAB-UF'!$F$11:$F$109,'TAB-UF'!$C$11:$C$109,B62)","v":0},{"$f":"SUMIFS('TAB-UF'!$G$11:$G$109,'TAB-UF'!$C$11:$C$109,B62)","v":0},{"$f":"SUMIFS('TAB-UF'!$H$11:$H$109,'TAB-UF'!$C$11:$C$109,B62)","v":0},{"$f":"SUMIFS('TAB-UF'!$I$11:$I$109,'TAB-UF'!$C$11:$C$109,B62)","v":0},{"$f":"SUMIFS('TAB-UF'!$J$11:$J$109,'TAB-UF'!$C$11:$C$109,B62)","v":0},{"$f":"SUMIFS('TAB-UF'!$K$11:$K$109,'TAB-UF'!$C$11:$C$109,B62)","v":0},{"$f":"SUMIFS('TAB-UF'!$L$11:$L$109,'TAB-UF'!$C$11:$C$109,B62)","v":0},{"$f":"SUMIFS('TAB-UF'!$M$11:$M$109,'TAB-UF'!$C$11:$C$109,B62)","v":0}]
[53,{"$f":"UI!B63","v":"U53"},{"$f":"IF(UI!C63<>\"\",UI!C63,\"\")","v":""},{"$f":"IF(UI!D63<>\"\",UI!D63,\"\")","v":""},{"$f":"IF(UI!E63<>\"\",UI!E63,\"\")","v":""},{"$f":"SUMIFS('TAB-UF'!$D$11:$D$109,'TAB-UF'!$C$11:$C$109,B63)","v":0},{"$f":"SUMIFS('TAB-UF'!$E$11:$E$109,'TAB-UF'!$C$11:$C$109,B63)","v":0},{"$f":"SUMIFS('TAB-UF'!$F$11:$F$109,'TAB-UF'!$C$11:$C$109,B63)","v":0},{"$f":"SUMIFS('TAB-UF'!$G$11:$G$109,'TAB-UF'!$C$11:$C$109,B63)","v":0},{"$f":"SUMIFS('TAB-UF'!$H$11:$H$109,'TAB-UF'!$C$11:$C$109,B63)","v":0},{"$f":"SUMIFS('TAB-UF'!$I$11:$I$109,'TAB-UF'!$C$11:$C$109,B63)","v":0},{"$f":"SUMIFS('TAB-UF'!$J$11:$J$109,'TAB-UF'!$C$11:$C$109,B63)","v":0},{"$f":"SUMIFS('TAB-UF'!$K$11:$K$109,'TAB-UF'!$C$11:$C$109,B63)","v":0},{"$f":"SUMIFS('TAB-UF'!$L$11:$L$109,'TAB-UF'!$C$11:$C$109,B63)","v":0},{"$f":"SUMIFS('TAB-UF'!$M$11:$M$109,'TAB-UF'!$C$11:$C$109,B63)","v":0}]
[54,{"$f":"UI!B64","v":"U54"},{"$f":"IF(UI!C64<>\"\",UI!C64,\"\")","v":""},{"$f":"IF(UI!D64<>\"\",UI!D64,\"\")","v":""},{"$f":"IF(UI!E64<>\"\",UI!E64,\"\")","v":""},{"$f":"SUMIFS('TAB-UF'!$D$11:$D$109,'TAB-UF'!$C$11:$C$109,B64)","v":0},{"$f":"SUMIFS('TAB-UF'!$E$11:$E$109,'TAB-UF'!$C$11:$C$109,B64)","v":0},{"$f":"SUMIFS('TAB-UF'!$F$11:$F$109,'TAB-UF'!$C$11:$C$109,B64)","v":0},{"$f":"SUMIFS('TAB-UF'!$G$11:$G$109,'TAB-UF'!$C$11:$C$109,B64)","v":0},{"$f":"SUMIFS('TAB-UF'!$H$11:$H$109,'TAB-UF'!$C$11:$C$109,B64)","v":0},{"$f":"SUMIFS('TAB-UF'!$I$11:$I$109,'TAB-UF'!$C$11:$C$109,B64)","v":0},{"$f":"SUMIFS('TAB-UF'!$J$11:$J$109,'TAB-UF'!$C$11:$C$109,B64)","v":0},{"$f":"SUMIFS('TAB-UF'!$K$11:$K$109,'TAB-UF'!$C$11:$C$109,B64)","v":0},{"$f":"SUMIFS('TAB-UF'!$L$11:$L$109,'TAB-UF'!$C$11:$C$109,B64)","v":0},{"$f":"SUMIFS('TAB-UF'!$M$11:$M$109,'TAB-UF'!$C$11:$C$109,B64)","v":0}]
[55,{"$f":"UI!B65","v":"U55"},{"$f":"IF(UI!C65<>\"\",UI!C65,\"\")","v":""},{"$f":"IF(UI!D65<>\"\",UI!D65,\"\")","v":""},{"$f":"IF(UI!E65<>\"\",UI!E65,\"\")","v":""},{"$f":"SUMIFS('TAB-UF'!$D$11:$D$109,'TAB-UF'!$C$11:$C$109,B65)","v":0},{"$f":"SUMIFS('TAB-UF'!$E$11:$E$109,'TAB-UF'!$C$11:$C$109,B65)","v":0},{"$f":"SUMIFS('TAB-UF'!$F$11:$F$109,'TAB-UF'!$C$11:$C$109,B65)","v":0},{"$f":"SUMIFS('TAB-UF'!$G$11:$G$109,'TAB-UF'!$C$11:$C$109,B65)","v":0},{"$f":"SUMIFS('TAB-UF'!$H$11:$H$109,'TAB-UF'!$C$11:$C$109,B65)","v":0},{"$f":"SUMIFS('TAB-UF'!$I$11:$I$109,'TAB-UF'!$C$11:$C$109,B65)","v":0},{"$f":"SUMIFS('TAB-UF'!$J$11:$J$109,'TAB-UF'!$C$11:$C$109,B65)","v":0},{"$f":"SUMIFS('TAB-UF'!$K$11:$K$109,'TAB-UF'!$C$11:$C$109,B65)","v":0},{"$f":"SUMIFS('TAB-UF'!$L$11:$L$109,'TAB-UF'!$C$11:$C$109,B65)","v":0},{"$f":"SUMIFS('TAB-UF'!$M$11:$M$109,'TAB-UF'!$C$11:$C$109,B65)","v":0}]
[56,{"$f":"UI!B66","v":"U56"},{"$f":"IF(UI!C66<>\"\",UI!C66,\"\")","v":""},{"$f":"IF(UI!D66<>\"\",UI!D66,\"\")","v":""},{"$f":"IF(UI!E66<>\"\",UI!E66,\"\")","v":""},{"$f":"SUMIFS('TAB-UF'!$D$11:$D$109,'TAB-UF'!$C$11:$C$109,B66)","v":0},{"$f":"SUMIFS('TAB-UF'!$E$11:$E$109,'TAB-UF'!$C$11:$C$109,B66)","v":0},{"$f":"SUMIFS('TAB-UF'!$F$11:$F$109,'TAB-UF'!$C$11:$C$109,B66)","v":0},{"$f":"SUMIFS('TAB-UF'!$G$11:$G$109,'TAB-UF'!$C$11:$C$109,B66)","v":0},{"$f":"SUMIFS('TAB-UF'!$H$11:$H$109,'TAB-UF'!$C$11:$C$109,B66)","v":0},{"$f":"SUMIFS('TAB-UF'!$I$11:$I$109,'TAB-UF'!$C$11:$C$109,B66)","v":0},{"$f":"SUMIFS('TAB-UF'!$J$11:$J$109,'TAB-UF'!$C$11:$C$109,B66)","v":0},{"$f":"SUMIFS('TAB-UF'!$K$11:$K$109,'TAB-UF'!$C$11:$C$109,B66)","v":0},{"$f":"SUMIFS('TAB-UF'!$L$11:$L$109,'TAB-UF'!$C$11:$C$109,B66)","v":0},{"$f":"SUMIFS('TAB-UF'!$M$11:$M$109,'TAB-UF'!$C$11:$C$109,B66)","v":0}]
[57,{"$f":"UI!B67","v":"U57"},{"$f":"IF(UI!C67<>\"\",UI!C67,\"\")","v":""},{"$f":"IF(UI!D67<>\"\",UI!D67,\"\")","v":""},{"$f":"IF(UI!E67<>\"\",UI!E67,\"\")","v":""},{"$f":"SUMIFS('TAB-UF'!$D$11:$D$109,'TAB-UF'!$C$11:$C$109,B67)","v":0},{"$f":"SUMIFS('TAB-UF'!$E$11:$E$109,'TAB-UF'!$C$11:$C$109,B67)","v":0},{"$f":"SUMIFS('TAB-UF'!$F$11:$F$109,'TAB-UF'!$C$11:$C$109,B67)","v":0},{"$f":"SUMIFS('TAB-UF'!$G$11:$G$109,'TAB-UF'!$C$11:$C$109,B67)","v":0},{"$f":"SUMIFS('TAB-UF'!$H$11:$H$109,'TAB-UF'!$C$11:$C$109,B67)","v":0},{"$f":"SUMIFS('TAB-UF'!$I$11:$I$109,'TAB-UF'!$C$11:$C$109,B67)","v":0},{"$f":"SUMIFS('TAB-UF'!$J$11:$J$109,'TAB-UF'!$C$11:$C$109,B67)","v":0},{"$f":"SUMIFS('TAB-UF'!$K$11:$K$109,'TAB-UF'!$C$11:$C$109,B67)","v":0},{"$f":"SUMIFS('TAB-UF'!$L$11:$L$109,'TAB-UF'!$C$11:$C$109,B67)","v":0},{"$f":"SUMIFS('TAB-UF'!$M$11:$M$109,'TAB-UF'!$C$11:$C$109,B67)","v":0}]
[58,{"$f":"UI!B68","v":"U58"},{"$f":"IF(UI!C68<>\"\",UI!C68,\"\")","v":""},{"$f":"IF(UI!D68<>\"\",UI!D68,\"\")","v":""},{"$f":"IF(UI!E68<>\"\",UI!E68,\"\")","v":""},{"$f":"SUMIFS('TAB-UF'!$D$11:$D$109,'TAB-UF'!$C$11:$C$109,B68)","v":0},{"$f":"SUMIFS('TAB-UF'!$E$11:$E$109,'TAB-UF'!$C$11:$C$109,B68)","v":0},{"$f":"SUMIFS('TAB-UF'!$F$11:$F$109,'TAB-UF'!$C$11:$C$109,B68)","v":0},{"$f":"SUMIFS('TAB-UF'!$G$11:$G$109,'TAB-UF'!$C$11:$C$109,B68)","v":0},{"$f":"SUMIFS('TAB-UF'!$H$11:$H$109,'TAB-UF'!$C$11:$C$109,B68)","v":0},{"$f":"SUMIFS('TAB-UF'!$I$11:$I$109,'TAB-UF'!$C$11:$C$109,B68)","v":0},{"$f":"SUMIFS('TAB-UF'!$J$11:$J$109,'TAB-UF'!$C$11:$C$109,B68)","v":0},{"$f":"SUMIFS('TAB-UF'!$K$11:$K$109,'TAB-UF'!$C$11:$C$109,B68)","v":0},{"$f":"SUMIFS('TAB-UF'!$L$11:$L$109,'TAB-UF'!$C$11:$C$109,B68)","v":0},{"$f":"SUMIFS('TAB-UF'!$M$11:$M$109,'TAB-UF'!$C$11:$C$109,B68)","v":0}]
[59,{"$f":"UI!B69","v":"U59"},{"$f":"IF(UI!C69<>\"\",UI!C69,\"\")","v":""},{"$f":"IF(UI!D69<>\"\",UI!D69,\"\")","v":""},{"$f":"IF(UI!E69<>\"\",UI!E69,\"\")","v":""},{"$f":"SUMIFS('TAB-UF'!$D$11:$D$109,'TAB-UF'!$C$11:$C$109,B69)","v":0},{"$f":"SUMIFS('TAB-UF'!$E$11:$E$109,'TAB-UF'!$C$11:$C$109,B69)","v":0},{"$f":"SUMIFS('TAB-UF'!$F$11:$F$109,'TAB-UF'!$C$11:$C$109,B69)","v":0},{"$f":"SUMIFS('TAB-UF'!$G$11:$G$109,'TAB-UF'!$C$11:$C$109,B69)","v":0},{"$f":"SUMIFS('TAB-UF'!$H$11:$H$109,'TAB-UF'!$C$11:$C$109,B69)","v":0},{"$f":"SUMIFS('TAB-UF'!$I$11:$I$109,'TAB-UF'!$C$11:$C$109,B69)","v":0},{"$f":"SUMIFS('TAB-UF'!$J$11:$J$109,'TAB-UF'!$C$11:$C$109,B69)","v":0},{"$f":"SUMIFS('TAB-UF'!$K$11:$K$109,'TAB-UF'!$C$11:$C$109,B69)","v":0},{"$f":"SUMIFS('TAB-UF'!$L$11:$L$109,'TAB-UF'!$C$11:$C$109,B69)","v":0},{"$f":"SUMIFS('TAB-UF'!$M$11:$M$109,'TAB-UF'!$C$11:$C$109,B69)","v":0}]
[60,{"$f":"UI!B70","v":"U60"},{"$f":"IF(UI!C70<>\"\",UI!C70,\"\")","v":""},{"$f":"IF(UI!D70<>\"\",UI!D70,\"\")","v":""},{"$f":"IF(UI!E70<>\"\",UI!E70,\"\")","v":""},{"$f":"SUMIFS('TAB-UF'!$D$11:$D$109,'TAB-UF'!$C$11:$C$109,B70)","v":0},{"$f":"SUMIFS('TAB-UF'!$E$11:$E$109,'TAB-UF'!$C$11:$C$109,B70)","v":0},{"$f":"SUMIFS('TAB-UF'!$F$11:$F$109,'TAB-UF'!$C$11:$C$109,B70)","v":0},{"$f":"SUMIFS('TAB-UF'!$G$11:$G$109,'TAB-UF'!$C$11:$C$109,B70)","v":0},{"$f":"SUMIFS('TAB-UF'!$H$11:$H$109,'TAB-UF'!$C$11:$C$109,B70)","v":0},{"$f":"SUMIFS('TAB-UF'!$I$11:$I$109,'TAB-UF'!$C$11:$C$109,B70)","v":0},{"$f":"SUMIFS('TAB-UF'!$J$11:$J$109,'TAB-UF'!$C$11:$C$109,B70)","v":0},{"$f":"SUMIFS('TAB-UF'!$K$11:$K$109,'TAB-UF'!$C$11:$C$109,B70)","v":0},{"$f":"SUMIFS('TAB-UF'!$L$11:$L$109,'TAB-UF'!$C$11:$C$109,B70)","v":0},{"$f":"SUMIFS('TAB-UF'!$M$11:$M$109,'TAB-UF'!$C$11:$C$109,B70)","v":0}]
[61,{"$f":"UI!B71","v":"U61"},{"$f":"IF(UI!C71<>\"\",UI!C71,\"\")","v":""},{"$f":"IF(UI!D71<>\"\",UI!D71,\"\")","v":""},{"$f":"IF(UI!E71<>\"\",UI!E71,\"\")","v":""},{"$f":"SUMIFS('TAB-UF'!$D$11:$D$109,'TAB-UF'!$C$11:$C$109,B71)","v":0},{"$f":"SUMIFS('TAB-UF'!$E$11:$E$109,'TAB-UF'!$C$11:$C$109,B71)","v":0},{"$f":"SUMIFS('TAB-UF'!$F$11:$F$109,'TAB-UF'!$C$11:$C$109,B71)","v":0},{"$f":"SUMIFS('TAB-UF'!$G$11:$G$109,'TAB-UF'!$C$11:$C$109,B71)","v":0},{"$f":"SUMIFS('TAB-UF'!$H$11:$H$109,'TAB-UF'!$C$11:$C$109,B71)","v":0},{"$f":"SUMIFS('TAB-UF'!$I$11:$I$109,'TAB-UF'!$C$11:$C$109,B71)","v":0},{"$f":"SUMIFS('TAB-UF'!$J$11:$J$109,'TAB-UF'!$C$11:$C$109,B71)","v":0},{"$f":"SUMIFS('TAB-UF'!$K$11:$K$109,'TAB-UF'!$C$11:$C$109,B71)","v":0},{"$f":"SUMIFS('TAB-UF'!$L$11:$L$109,'TAB-UF'!$C$11:$C$109,B71)","v":0},{"$f":"SUMIFS('TAB-UF'!$M$11:$M$109,'TAB-UF'!$C$11:$C$109,B71)","v":0}]
[62,{"$f":"UI!B72","v":"U62"},{"$f":"IF(UI!C72<>\"\",UI!C72,\"\")","v":""},{"$f":"IF(UI!D72<>\"\",UI!D72,\"\")","v":""},{"$f":"IF(UI!E72<>\"\",UI!E72,\"\")","v":""},{"$f":"SUMIFS('TAB-UF'!$D$11:$D$109,'TAB-UF'!$C$11:$C$109,B72)","v":0},{"$f":"SUMIFS('TAB-UF'!$E$11:$E$109,'TAB-UF'!$C$11:$C$109,B72)","v":0},{"$f":"SUMIFS('TAB-UF'!$F$11:$F$109,'TAB-UF'!$C$11:$C$109,B72)","v":0},{"$f":"SUMIFS('TAB-UF'!$G$11:$G$109,'TAB-UF'!$C$11:$C$109,B72)","v":0},{"$f":"SUMIFS('TAB-UF'!$H$11:$H$109,'TAB-UF'!$C$11:$C$109,B72)","v":0},{"$f":"SUMIFS('TAB-UF'!$I$11:$I$109,'TAB-UF'!$C$11:$C$109,B72)","v":0},{"$f":"SUMIFS('TAB-UF'!$J$11:$J$109,'TAB-UF'!$C$11:$C$109,B72)","v":0},{"$f":"SUMIFS('TAB-UF'!$K$11:$K$109,'TAB-UF'!$C$11:$C$109,B72)","v":0},{"$f":"SUMIFS('TAB-UF'!$L$11:$L$109,'TAB-UF'!$C$11:$C$109,B72)","v":0},{"$f":"SUMIFS('TAB-UF'!$M$11:$M$109,'TAB-UF'!$C$11:$C$109,B72)","v":0}]
[63,{"$f":"UI!B73","v":"U63"},{"$f":"IF(UI!C73<>\"\",UI!C73,\"\")","v":""},{"$f":"IF(UI!D73<>\"\",UI!D73,\"\")","v":""},{"$f":"IF(UI!E73<>\"\",UI!E73,\"\")","v":""},{"$f":"SUMIFS('TAB-UF'!$D$11:$D$109,'TAB-UF'!$C$11:$C$109,B73)","v":0},{"$f":"SUMIFS('TAB-UF'!$E$11:$E$109,'TAB-UF'!$C$11:$C$109,B73)","v":0},{"$f":"SUMIFS('TAB-UF'!$F$11:$F$109,'TAB-UF'!$C$11:$C$109,B73)","v":0},{"$f":"SUMIFS('TAB-UF'!$G$11:$G$109,'TAB-UF'!$C$11:$C$109,B73)","v":0},{"$f":"SUMIFS('TAB-UF'!$H$11:$H$109,'TAB-UF'!$C$11:$C$109,B73)","v":0},{"$f":"SUMIFS('TAB-UF'!$I$11:$I$109,'TAB-UF'!$C$11:$C$109,B73)","v":0},{"$f":"SUMIFS('TAB-UF'!$J$11:$J$109,'TAB-UF'!$C$11:$C$109,B73)","v":0},{"$f":"SUMIFS('TAB-UF'!$K$11:$K$109,'TAB-UF'!$C$11:$C$109,B73)","v":0},{"$f":"SUMIFS('TAB-UF'!$L$11:$L$109,'TAB-UF'!$C$11:$C$109,B73)","v":0},{"$f":"SUMIFS('TAB-UF'!$M$11:$M$109,'TAB-UF'!$C$11:$C$109,B73)","v":0}]
[64,{"$f":"UI!B74","v":"U64"},{"$f":"IF(UI!C74<>\"\",UI!C74,\"\")","v":""},{"$f":"IF(UI!D74<>\"\",UI!D74,\"\")","v":""},{"$f":"IF(UI!E74<>\"\",UI!E74,\"\")","v":""},{"$f":"SUMIFS('TAB-UF'!$D$11:$D$109,'TAB-UF'!$C$11:$C$109,B74)","v":0},{"$f":"SUMIFS('TAB-UF'!$E$11:$E$109,'TAB-UF'!$C$11:$C$109,B74)","v":0},{"$f":"SUMIFS('TAB-UF'!$F$11:$F$109,'TAB-UF'!$C$11:$C$109,B74)","v":0},{"$f":"SUMIFS('TAB-UF'!$G$11:$G$109,'TAB-UF'!$C$11:$C$109,B74)","v":0},{"$f":"SUMIFS('TAB-UF'!$H$11:$H$109,'TAB-UF'!$C$11:$C$109,B74)","v":0},{"$f":"SUMIFS('TAB-UF'!$I$11:$I$109,'TAB-UF'!$C$11:$C$109,B74)","v":0},{"$f":"SUMIFS('TAB-UF'!$J$11:$J$109,'TAB-UF'!$C$11:$C$109,B74)","v":0},{"$f":"SUMIFS('TAB-UF'!$K$11:$K$109,'TAB-UF'!$C$11:$C$109,B74)","v":0},{"$f":"SUMIFS('TAB-UF'!$L$11:$L$109,'TAB-UF'!$C$11:$C$109,B74)","v":0},{"$f":"SUMIFS('TAB-UF'!$M$11:$M$109,'TAB-UF'!$C$11:$C$109,B74)","v":0}]
[65,{"$f":"UI!B75","v":"U65"},{"$f":"IF(UI!C75<>\"\",UI!C75,\"\")","v":""},{"$f":"IF(UI!D75<>\"\",UI!D75,\"\")","v":""},{"$f":"IF(UI!E75<>\"\",UI!E75,\"\")","v":""},{"$f":"SUMIFS('TAB-UF'!$D$11:$D$109,'TAB-UF'!$C$11:$C$109,B75)","v":0},{"$f":"SUMIFS('TAB-UF'!$E$11:$E$109,'TAB-UF'!$C$11:$C$109,B75)","v":0},{"$f":"SUMIFS('TAB-UF'!$F$11:$F$109,'TAB-UF'!$C$11:$C$109,B75)","v":0},{"$f":"SUMIFS('TAB-UF'!$G$11:$G$109,'TAB-UF'!$C$11:$C$109,B75)","v":0},{"$f":"SUMIFS('TAB-UF'!$H$11:$H$109,'TAB-UF'!$C$11:$C$109,B75)","v":0},{"$f":"SUMIFS('TAB-UF'!$I$11:$I$109,'TAB-UF'!$C$11:$C$109,B75)","v":0},{"$f":"SUMIFS('TAB-UF'!$J$11:$J$109,'TAB-UF'!$C$11:$C$109,B75)","v":0},{"$f":"SUMIFS('TAB-UF'!$K$11:$K$109,'TAB-UF'!$C$11:$C$109,B75)","v":0},{"$f":"SUMIFS('TAB-UF'!$L$11:$L$109,'TAB-UF'!$C$11:$C$109,B75)","v":0},{"$f":"SUMIFS('TAB-UF'!$M$11:$M$109,'TAB-UF'!$C$11:$C$109,B75)","v":0}]
[66,{"$f":"UI!B76","v":"U66"},{"$f":"IF(UI!C76<>\"\",UI!C76,\"\")","v":""},{"$f":"IF(UI!D76<>\"\",UI!D76,\"\")","v":""},{"$f":"IF(UI!E76<>\"\",UI!E76,\"\")","v":""},{"$f":"SUMIFS('TAB-UF'!$D$11:$D$109,'TAB-UF'!$C$11:$C$109,B76)","v":0},{"$f":"SUMIFS('TAB-UF'!$E$11:$E$109,'TAB-UF'!$C$11:$C$109,B76)","v":0},{"$f":"SUMIFS('TAB-UF'!$F$11:$F$109,'TAB-UF'!$C$11:$C$109,B76)","v":0},{"$f":"SUMIFS('TAB-UF'!$G$11:$G$109,'TAB-UF'!$C$11:$C$109,B76)","v":0},{"$f":"SUMIFS('TAB-UF'!$H$11:$H$109,'TAB-UF'!$C$11:$C$109,B76)","v":0},{"$f":"SUMIFS('TAB-UF'!$I$11:$I$109,'TAB-UF'!$C$11:$C$109,B76)","v":0},{"$f":"SUMIFS('TAB-UF'!$J$11:$J$109,'TAB-UF'!$C$11:$C$109,B76)","v":0},{"$f":"SUMIFS('TAB-UF'!$K$11:$K$109,'TAB-UF'!$C$11:$C$109,B76)","v":0},{"$f":"SUMIFS('TAB-UF'!$L$11:$L$109,'TAB-UF'!$C$11:$C$109,B76)","v":0},{"$f":"SUMIFS('TAB-UF'!$M$11:$M$109,'TAB-UF'!$C$11:$C$109,B76)","v":0}]
[67,{"$f":"UI!B77","v":"U67"},{"$f":"IF(UI!C77<>\"\",UI!C77,\"\")","v":""},{"$f":"IF(UI!D77<>\"\",UI!D77,\"\")","v":""},{"$f":"IF(UI!E77<>\"\",UI!E77,\"\")","v":""},{"$f":"SUMIFS('TAB-UF'!$D$11:$D$109,'TAB-UF'!$C$11:$C$109,B77)","v":0},{"$f":"SUMIFS('TAB-UF'!$E$11:$E$109,'TAB-UF'!$C$11:$C$109,B77)","v":0},{"$f":"SUMIFS('TAB-UF'!$F$11:$F$109,'TAB-UF'!$C$11:$C$109,B77)","v":0},{"$f":"SUMIFS('TAB-UF'!$G$11:$G$109,'TAB-UF'!$C$11:$C$109,B77)","v":0},{"$f":"SUMIFS('TAB-UF'!$H$11:$H$109,'TAB-UF'!$C$11:$C$109,B77)","v":0},{"$f":"SUMIFS('TAB-UF'!$I$11:$I$109,'TAB-UF'!$C$11:$C$109,B77)","v":0},{"$f":"SUMIFS('TAB-UF'!$J$11:$J$109,'TAB-UF'!$C$11:$C$109,B77)","v":0},{"$f":"SUMIFS('TAB-UF'!$K$11:$K$109,'TAB-UF'!$C$11:$C$109,B77)","v":0},{"$f":"SUMIFS('TAB-UF'!$L$11:$L$109,'TAB-UF'!$C$11:$C$109,B77)","v":0},{"$f":"SUMIFS('TAB-UF'!$M$11:$M$109,'TAB-UF'!$C$11:$C$109,B77)","v":0}]
[68,{"$f":"UI!B78","v":"U68"},{"$f":"IF(UI!C78<>\"\",UI!C78,\"\")","v":""},{"$f":"IF(UI!D78<>\"\",UI!D78,\"\")","v":""},{"$f":"IF(UI!E78<>\"\",UI!E78,\"\")","v":""},{"$f":"SUMIFS('TAB-UF'!$D$11:$D$109,'TAB-UF'!$C$11:$C$109,B78)","v":0},{"$f":"SUMIFS('TAB-UF'!$E$11:$E$109,'TAB-UF'!$C$11:$C$109,B78)","v":0},{"$f":"SUMIFS('TAB-UF'!$F$11:$F$109,'TAB-UF'!$C$11:$C$109,B78)","v":0},{"$f":"SUMIFS('TAB-UF'!$G$11:$G$109,'TAB-UF'!$C$11:$C$109,B78)","v":0},{"$f":"SUMIFS('TAB-UF'!$H$11:$H$109,'TAB-UF'!$C$11:$C$109,B78)","v":0},{"$f":"SUMIFS('TAB-UF'!$I$11:$I$109,'TAB-UF'!$C$11:$C$109,B78)","v":0},{"$f":"SUMIFS('TAB-UF'!$J$11:$J$109,'TAB-UF'!$C$11:$C$109,B78)","v":0},{"$f":"SUMIFS('TAB-UF'!$K$11:$K$109,'TAB-UF'!$C$11:$C$109,B78)","v":0},{"$f":"SUMIFS('TAB-UF'!$L$11:$L$109,'TAB-UF'!$C$11:$C$109,B78)","v":0},{"$f":"SUMIFS('TAB-UF'!$M$11:$M$109,'TAB-UF'!$C$11:$C$109,B78)","v":0}]
[69,{"$f":"UI!B79","v":"U69"},{"$f":"IF(UI!C79<>\"\",UI!C79,\"\")","v":""},{"$f":"IF(UI!D79<>\"\",UI!D79,\"\")","v":""},{"$f":"IF(UI!E79<>\"\",UI!E79,\"\")","v":""},{"$f":"SUMIFS('TAB-UF'!$D$11:$D$109,'TAB-UF'!$C$11:$C$109,B79)","v":0},{"$f":"SUMIFS('TAB-UF'!$E$11:$E$109,'TAB-UF'!$C$11:$C$109,B79)","v":0},{"$f":"SUMIFS('TAB-UF'!$F$11:$F$109,'TAB-UF'!$C$11:$C$109,B79)","v":0},{"$f":"SUMIFS('TAB-UF'!$G$11:$G$109,'TAB-UF'!$C$11:$C$109,B79)","v":0},{"$f":"SUMIFS('TAB-UF'!$H$11:$H$109,'TAB-UF'!$C$11:$C$109,B79)","v":0},{"$f":"SUMIFS('TAB-UF'!$I$11:$I$109,'TAB-UF'!$C$11:$C$109,B79)","v":0},{"$f":"SUMIFS('TAB-UF'!$J$11:$J$109,'TAB-UF'!$C$11:$C$109,B79)","v":0},{"$f":"SUMIFS('TAB-UF'!$K$11:$K$109,'TAB-UF'!$C$11:$C$109,B79)","v":0},{"$f":"SUMIFS('TAB-UF'!$L$11:$L$109,'TAB-UF'!$C$11:$C$109,B79)","v":0},{"$f":"SUMIFS('TAB-UF'!$M$11:$M$109,'TAB-UF'!$C$11:$C$109,B79)","v":0}]
[70,{"$f":"UI!B80","v":"U70"},{"$f":"IF(UI!C80<>\"\",UI!C80,\"\")","v":""},{"$f":"IF(UI!D80<>\"\",UI!D80,\"\")","v":""},{"$f":"IF(UI!E80<>\"\",UI!E80,\"\")","v":""},{"$f":"SUMIFS('TAB-UF'!$D$11:$D$109,'TAB-UF'!$C$11:$C$109,B80)","v":0},{"$f":"SUMIFS('TAB-UF'!$E$11:$E$109,'TAB-UF'!$C$11:$C$109,B80)","v":0},{"$f":"SUMIFS('TAB-UF'!$F$11:$F$109,'TAB-UF'!$C$11:$C$109,B80)","v":0},{"$f":"SUMIFS('TAB-UF'!$G$11:$G$109,'TAB-UF'!$C$11:$C$109,B80)","v":0},{"$f":"SUMIFS('TAB-UF'!$H$11:$H$109,'TAB-UF'!$C$11:$C$109,B80)","v":0},{"$f":"SUMIFS('TAB-UF'!$I$11:$I$109,'TAB-UF'!$C$11:$C$109,B80)","v":0},{"$f":"SUMIFS('TAB-UF'!$J$11:$J$109,'TAB-UF'!$C$11:$C$109,B80)","v":0},{"$f":"SUMIFS('TAB-UF'!$K$11:$K$109,'TAB-UF'!$C$11:$C$109,B80)","v":0},{"$f":"SUMIFS('TAB-UF'!$L$11:$L$109,'TAB-UF'!$C$11:$C$109,B80)","v":0},{"$f":"SUMIFS('TAB-UF'!$M$11:$M$109,'TAB-UF'!$C$11:$C$109,B80)","v":0}]
[71,{"$f":"UI!B81","v":"U71"},{"$f":"IF(UI!C81<>\"\",UI!C81,\"\")","v":""},{"$f":"IF(UI!D81<>\"\",UI!D81,\"\")","v":""},{"$f":"IF(UI!E81<>\"\",UI!E81,\"\")","v":""},{"$f":"SUMIFS('TAB-UF'!$D$11:$D$109,'TAB-UF'!$C$11:$C$109,B81)","v":0},{"$f":"SUMIFS('TAB-UF'!$E$11:$E$109,'TAB-UF'!$C$11:$C$109,B81)","v":0},{"$f":"SUMIFS('TAB-UF'!$F$11:$F$109,'TAB-UF'!$C$11:$C$109,B81)","v":0},{"$f":"SUMIFS('TAB-UF'!$G$11:$G$109,'TAB-UF'!$C$11:$C$109,B81)","v":0},{"$f":"SUMIFS('TAB-UF'!$H$11:$H$109,'TAB-UF'!$C$11:$C$109,B81)","v":0},{"$f":"SUMIFS('TAB-UF'!$I$11:$I$109,'TAB-UF'!$C$11:$C$109,B81)","v":0},{"$f":"SUMIFS('TAB-UF'!$J$11:$J$109,'TAB-UF'!$C$11:$C$109,B81)","v":0},{"$f":"SUMIFS('TAB-UF'!$K$11:$K$109,'TAB-UF'!$C$11:$C$109,B81)","v":0},{"$f":"SUMIFS('TAB-UF'!$L$11:$L$109,'TAB-UF'!$C$11:$C$109,B81)","v":0},{"$f":"SUMIFS('TAB-UF'!$M$11:$M$109,'TAB-UF'!$C$11:$C$109,B81)","v":0}]
[72,{"$f":"UI!B82","v":"U72"},{"$f":"IF(UI!C82<>\"\",UI!C82,\"\")","v":""},{"$f":"IF(UI!D82<>\"\",UI!D82,\"\")","v":""},{"$f":"IF(UI!E82<>\"\",UI!E82,\"\")","v":""},{"$f":"SUMIFS('TAB-UF'!$D$11:$D$109,'TAB-UF'!$C$11:$C$109,B82)","v":0},{"$f":"SUMIFS('TAB-UF'!$E$11:$E$109,'TAB-UF'!$C$11:$C$109,B82)","v":0},{"$f":"SUMIFS('TAB-UF'!$F$11:$F$109,'TAB-UF'!$C$11:$C$109,B82)","v":0},{"$f":"SUMIFS('TAB-UF'!$G$11:$G$109,'TAB-UF'!$C$11:$C$109,B82)","v":0},{"$f":"SUMIFS('TAB-UF'!$H$11:$H$109,'TAB-UF'!$C$11:$C$109,B82)","v":0},{"$f":"SUMIFS('TAB-UF'!$I$11:$I$109,'TAB-UF'!$C$11:$C$109,B82)","v":0},{"$f":"SUMIFS('TAB-UF'!$J$11:$J$109,'TAB-UF'!$C$11:$C$109,B82)","v":0},{"$f":"SUMIFS('TAB-UF'!$K$11:$K$109,'TAB-UF'!$C$11:$C$109,B82)","v":0},{"$f":"SUMIFS('TAB-UF'!$L$11:$L$109,'TAB-UF'!$C$11:$C$109,B82)","v":0},{"$f":"SUMIFS('TAB-UF'!$M$11:$M$109,'TAB-UF'!$C$11:$C$109,B82)","v":0}]
[73,{"$f":"UI!B83","v":"U73"},{"$f":"IF(UI!C83<>\"\",UI!C83,\"\")","v":""},{"$f":"IF(UI!D83<>\"\",UI!D83,\"\")","v":""},{"$f":"IF(UI!E83<>\"\",UI!E83,\"\")","v":""},{"$f":"SUMIFS('TAB-UF'!$D$11:$D$109,'TAB-UF'!$C$11:$C$109,B83)","v":0},{"$f":"SUMIFS('TAB-UF'!$E$11:$E$109,'TAB-UF'!$C$11:$C$109,B83)","v":0},{"$f":"SUMIFS('TAB-UF'!$F$11:$F$109,'TAB-UF'!$C$11:$C$109,B83)","v":0},{"$f":"SUMIFS('TAB-UF'!$G$11:$G$109,'TAB-UF'!$C$11:$C$109,B83)","v":0},{"$f":"SUMIFS('TAB-UF'!$H$11:$H$109,'TAB-UF'!$C$11:$C$109,B83)","v":0},{"$f":"SUMIFS('TAB-UF'!$I$11:$I$109,'TAB-UF'!$C$11:$C$109,B83)","v":0},{"$f":"SUMIFS('TAB-UF'!$J$11:$J$109,'TAB-UF'!$C$11:$C$109,B83)","v":0},{"$f":"SUMIFS('TAB-UF'!$K$11:$K$109,'TAB-UF'!$C$11:$C$109,B83)","v":0},{"$f":"SUMIFS('TAB-UF'!$L$11:$L$109,'TAB-UF'!$C$11:$C$109,B83)","v":0},{"$f":"SUMIFS('TAB-UF'!$M$11:$M$109,'TAB-UF'!$C$11:$C$109,B83)","v":0}]
[74,{"$f":"UI!B84","v":"U74"},{"$f":"IF(UI!C84<>\"\",UI!C84,\"\")","v":""},{"$f":"IF(UI!D84<>\"\",UI!D84,\"\")","v":""},{"$f":"IF(UI!E84<>\"\",UI!E84,\"\")","v":""},{"$f":"SUMIFS('TAB-UF'!$D$11:$D$109,'TAB-UF'!$C$11:$C$109,B84)","v":0},{"$f":"SUMIFS('TAB-UF'!$E$11:$E$109,'TAB-UF'!$C$11:$C$109,B84)","v":0},{"$f":"SUMIFS('TAB-UF'!$F$11:$F$109,'TAB-UF'!$C$11:$C$109,B84)","v":0},{"$f":"SUMIFS('TAB-UF'!$G$11:$G$109,'TAB-UF'!$C$11:$C$109,B84)","v":0},{"$f":"SUMIFS('TAB-UF'!$H$11:$H$109,'TAB-UF'!$C$11:$C$109,B84)","v":0},{"$f":"SUMIFS('TAB-UF'!$I$11:$I$109,'TAB-UF'!$C$11:$C$109,B84)","v":0},{"$f":"SUMIFS('TAB-UF'!$J$11:$J$109,'TAB-UF'!$C$11:$C$109,B84)","v":0},{"$f":"SUMIFS('TAB-UF'!$K$11:$K$109,'TAB-UF'!$C$11:$C$109,B84)","v":0},{"$f":"SUMIFS('TAB-UF'!$L$11:$L$109,'TAB-UF'!$C$11:$C$109,B84)","v":0},{"$f":"SUMIFS('TAB-UF'!$M$11:$M$109,'TAB-UF'!$C$11:$C$109,B84)","v":0}]
[75,{"$f":"UI!B85","v":"U75"},{"$f":"IF(UI!C85<>\"\",UI!C85,\"\")","v":""},{"$f":"IF(UI!D85<>\"\",UI!D85,\"\")","v":""},{"$f":"IF(UI!E85<>\"\",UI!E85,\"\")","v":""},{"$f":"SUMIFS('TAB-UF'!$D$11:$D$109,'TAB-UF'!$C$11:$C$109,B85)","v":0},{"$f":"SUMIFS('TAB-UF'!$E$11:$E$109,'TAB-UF'!$C$11:$C$109,B85)","v":0},{"$f":"SUMIFS('TAB-UF'!$F$11:$F$109,'TAB-UF'!$C$11:$C$109,B85)","v":0},{"$f":"SUMIFS('TAB-UF'!$G$11:$G$109,'TAB-UF'!$C$11:$C$109,B85)","v":0},{"$f":"SUMIFS('TAB-UF'!$H$11:$H$109,'TAB-UF'!$C$11:$C$109,B85)","v":0},{"$f":"SUMIFS('TAB-UF'!$I$11:$I$109,'TAB-UF'!$C$11:$C$109,B85)","v":0},{"$f":"SUMIFS('TAB-UF'!$J$11:$J$109,'TAB-UF'!$C$11:$C$109,B85)","v":0},{"$f":"SUMIFS('TAB-UF'!$K$11:$K$109,'TAB-UF'!$C$11:$C$109,B85)","v":0},{"$f":"SUMIFS('TAB-UF'!$L$11:$L$109,'TAB-UF'!$C$11:$C$109,B85)","v":0},{"$f":"SUMIFS('TAB-UF'!$M$11:$M$109,'TAB-UF'!$C$11:$C$109,B85)","v":0}]
[76,{"$f":"UI!B86","v":"U76"},{"$f":"IF(UI!C86<>\"\",UI!C86,\"\")","v":""},{"$f":"IF(UI!D86<>\"\",UI!D86,\"\")","v":""},{"$f":"IF(UI!E86<>\"\",UI!E86,\"\")","v":""},{"$f":"SUMIFS('TAB-UF'!$D$11:$D$109,'TAB-UF'!$C$11:$C$109,B86)","v":0},{"$f":"SUMIFS('TAB-UF'!$E$11:$E$109,'TAB-UF'!$C$11:$C$109,B86)","v":0},{"$f":"SUMIFS('TAB-UF'!$F$11:$F$109,'TAB-UF'!$C$11:$C$109,B86)","v":0},{"$f":"SUMIFS('TAB-UF'!$G$11:$G$109,'TAB-UF'!$C$11:$C$109,B86)","v":0},{"$f":"SUMIFS('TAB-UF'!$H$11:$H$109,'TAB-UF'!$C$11:$C$109,B86)","v":0},{"$f":"SUMIFS('TAB-UF'!$I$11:$I$109,'TAB-UF'!$C$11:$C$109,B86)","v":0},{"$f":"SUMIFS('TAB-UF'!$J$11:$J$109,'TAB-UF'!$C$11:$C$109,B86)","v":0},{"$f":"SUMIFS('TAB-UF'!$K$11:$K$109,'TAB-UF'!$C$11:$C$109,B86)","v":0},{"$f":"SUMIFS('TAB-UF'!$L$11:$L$109,'TAB-UF'!$C$11:$C$109,B86)","v":0},{"$f":"SUMIFS('TAB-UF'!$M$11:$M$109,'TAB-UF'!$C$11:$C$109,B86)","v":0}]
[77,{"$f":"UI!B87","v":"U77"},{"$f":"IF(UI!C87<>\"\",UI!C87,\"\")","v":""},{"$f":"IF(UI!D87<>\"\",UI!D87,\"\")","v":""},{"$f":"IF(UI!E87<>\"\",UI!E87,\"\")","v":""},{"$f":"SUMIFS('TAB-UF'!$D$11:$D$109,'TAB-UF'!$C$11:$C$109,B87)","v":0},{"$f":"SUMIFS('TAB-UF'!$E$11:$E$109,'TAB-UF'!$C$11:$C$109,B87)","v":0},{"$f":"SUMIFS('TAB-UF'!$F$11:$F$109,'TAB-UF'!$C$11:$C$109,B87)","v":0},{"$f":"SUMIFS('TAB-UF'!$G$11:$G$109,'TAB-UF'!$C$11:$C$109,B87)","v":0},{"$f":"SUMIFS('TAB-UF'!$H$11:$H$109,'TAB-UF'!$C$11:$C$109,B87)","v":0},{"$f":"SUMIFS('TAB-UF'!$I$11:$I$109,'TAB-UF'!$C$11:$C$109,B87)","v":0},{"$f":"SUMIFS('TAB-UF'!$J$11:$J$109,'TAB-UF'!$C$11:$C$109,B87)","v":0},{"$f":"SUMIFS('TAB-UF'!$K$11:$K$109,'TAB-UF'!$C$11:$C$109,B87)","v":0},{"$f":"SUMIFS('TAB-UF'!$L$11:$L$109,'TAB-UF'!$C$11:$C$109,B87)","v":0},{"$f":"SUMIFS('TAB-UF'!$M$11:$M$109,'TAB-UF'!$C$11:$C$109,B87)","v":0}]
[78,{"$f":"UI!B88","v":"U78"},{"$f":"IF(UI!C88<>\"\",UI!C88,\"\")","v":""},{"$f":"IF(UI!D88<>\"\",UI!D88,\"\")","v":""},{"$f":"IF(UI!E88<>\"\",UI!E88,\"\")","v":""},{"$f":"SUMIFS('TAB-UF'!$D$11:$D$109,'TAB-UF'!$C$11:$C$109,B88)","v":0},{"$f":"SUMIFS('TAB-UF'!$E$11:$E$109,'TAB-UF'!$C$11:$C$109,B88)","v":0},{"$f":"SUMIFS('TAB-UF'!$F$11:$F$109,'TAB-UF'!$C$11:$C$109,B88)","v":0},{"$f":"SUMIFS('TAB-UF'!$G$11:$G$109,'TAB-UF'!$C$11:$C$109,B88)","v":0},{"$f":"SUMIFS('TAB-UF'!$H$11:$H$109,'TAB-UF'!$C$11:$C$109,B88)","v":0},{"$f":"SUMIFS('TAB-UF'!$I$11:$I$109,'TAB-UF'!$C$11:$C$109,B88)","v":0},{"$f":"SUMIFS('TAB-UF'!$J$11:$J$109,'TAB-UF'!$C$11:$C$109,B88)","v":0},{"$f":"SUMIFS('TAB-UF'!$K$11:$K$109,'TAB-UF'!$C$11:$C$109,B88)","v":0},{"$f":"SUMIFS('TAB-UF'!$L$11:$L$109,'TAB-UF'!$C$11:$C$109,B88)","v":0},{"$f":"SUMIFS('TAB-UF'!$M$11:$M$109,'TAB-UF'!$C$11:$C$109,B88)","v":0}]
[79,{"$f":"UI!B89","v":"U79"},{"$f":"IF(UI!C89<>\"\",UI!C89,\"\")","v":""},{"$f":"IF(UI!D89<>\"\",UI!D89,\"\")","v":""},{"$f":"IF(UI!E89<>\"\",UI!E89,\"\")","v":""},{"$f":"SUMIFS('TAB-UF'!$D$11:$D$109,'TAB-UF'!$C$11:$C$109,B89)","v":0},{"$f":"SUMIFS('TAB-UF'!$E$11:$E$109,'TAB-UF'!$C$11:$C$109,B89)","v":0},{"$f":"SUMIFS('TAB-UF'!$F$11:$F$109,'TAB-UF'!$C$11:$C$109,B89)","v":0},{"$f":"SUMIFS('TAB-UF'!$G$11:$G$109,'TAB-UF'!$C$11:$C$109,B89)","v":0},{"$f":"SUMIFS('TAB-UF'!$H$11:$H$109,'TAB-UF'!$C$11:$C$109,B89)","v":0},{"$f":"SUMIFS('TAB-UF'!$I$11:$I$109,'TAB-UF'!$C$11:$C$109,B89)","v":0},{"$f":"SUMIFS('TAB-UF'!$J$11:$J$109,'TAB-UF'!$C$11:$C$109,B89)","v":0},{"$f":"SUMIFS('TAB-UF'!$K$11:$K$109,'TAB-UF'!$C$11:$C$109,B89)","v":0},{"$f":"SUMIFS('TAB-UF'!$L$11:$L$109,'TAB-UF'!$C$11:$C$109,B89)","v":0},{"$f":"SUMIFS('TAB-UF'!$M$11:$M$109,'TAB-UF'!$C$11:$C$109,B89)","v":0}]
[80,{"$f":"UI!B90","v":"U80"},{"$f":"IF(UI!C90<>\"\",UI!C90,\"\")","v":""},{"$f":"IF(UI!D90<>\"\",UI!D90,\"\")","v":""},{"$f":"IF(UI!E90<>\"\",UI!E90,\"\")","v":""},{"$f":"SUMIFS('TAB-UF'!$D$11:$D$109,'TAB-UF'!$C$11:$C$109,B90)","v":0},{"$f":"SUMIFS('TAB-UF'!$E$11:$E$109,'TAB-UF'!$C$11:$C$109,B90)","v":0},{"$f":"SUMIFS('TAB-UF'!$F$11:$F$109,'TAB-UF'!$C$11:$C$109,B90)","v":0},{"$f":"SUMIFS('TAB-UF'!$G$11:$G$109,'TAB-UF'!$C$11:$C$109,B90)","v":0},{"$f":"SUMIFS('TAB-UF'!$H$11:$H$109,'TAB-UF'!$C$11:$C$109,B90)","v":0},{"$f":"SUMIFS('TAB-UF'!$I$11:$I$109,'TAB-UF'!$C$11:$C$109,B90)","v":0},{"$f":"SUMIFS('TAB-UF'!$J$11:$J$109,'TAB-UF'!$C$11:$C$109,B90)","v":0},{"$f":"SUMIFS('TAB-UF'!$K$11:$K$109,'TAB-UF'!$C$11:$C$109,B90)","v":0},{"$f":"SUMIFS('TAB-UF'!$L$11:$L$109,'TAB-UF'!$C$11:$C$109,B90)","v":0},{"$f":"SUMIFS('TAB-UF'!$M$11:$M$109,'TAB-UF'!$C$11:$C$109,B90)","v":0}]
[81,{"$f":"UI!B91","v":"U81"},{"$f":"IF(UI!C91<>\"\",UI!C91,\"\")","v":""},{"$f":"IF(UI!D91<>\"\",UI!D91,\"\")","v":""},{"$f":"IF(UI!E91<>\"\",UI!E91,\"\")","v":""},{"$f":"SUMIFS('TAB-UF'!$D$11:$D$109,'TAB-UF'!$C$11:$C$109,B91)","v":0},{"$f":"SUMIFS('TAB-UF'!$E$11:$E$109,'TAB-UF'!$C$11:$C$109,B91)","v":0},{"$f":"SUMIFS('TAB-UF'!$F$11:$F$109,'TAB-UF'!$C$11:$C$109,B91)","v":0},{"$f":"SUMIFS('TAB-UF'!$G$11:$G$109,'TAB-UF'!$C$11:$C$109,B91)","v":0},{"$f":"SUMIFS('TAB-UF'!$H$11:$H$109,'TAB-UF'!$C$11:$C$109,B91)","v":0},{"$f":"SUMIFS('TAB-UF'!$I$11:$I$109,'TAB-UF'!$C$11:$C$109,B91)","v":0},{"$f":"SUMIFS('TAB-UF'!$J$11:$J$109,'TAB-UF'!$C$11:$C$109,B91)","v":0},{"$f":"SUMIFS('TAB-UF'!$K$11:$K$109,'TAB-UF'!$C$11:$C$109,B91)","v":0},{"$f":"SUMIFS('TAB-UF'!$L$11:$L$109,'TAB-UF'!$C$11:$C$109,B91)","v":0},{"$f":"SUMIFS('TAB-UF'!$M$11:$M$109,'TAB-UF'!$C$11:$C$109,B91)","v":0}]
[82,{"$f":"UI!B92","v":"U82"},{"$f":"IF(UI!C92<>\"\",UI!C92,\"\")","v":""},{"$f":"IF(UI!D92<>\"\",UI!D92,\"\")","v":""},{"$f":"IF(UI!E92<>\"\",UI!E92,\"\")","v":""},{"$f":"SUMIFS('TAB-UF'!$D$11:$D$109,'TAB-UF'!$C$11:$C$109,B92)","v":0},{"$f":"SUMIFS('TAB-UF'!$E$11:$E$109,'TAB-UF'!$C$11:$C$109,B92)","v":0},{"$f":"SUMIFS('TAB-UF'!$F$11:$F$109,'TAB-UF'!$C$11:$C$109,B92)","v":0},{"$f":"SUMIFS('TAB-UF'!$G$11:$G$109,'TAB-UF'!$C$11:$C$109,B92)","v":0},{"$f":"SUMIFS('TAB-UF'!$H$11:$H$109,'TAB-UF'!$C$11:$C$109,B92)","v":0},{"$f":"SUMIFS('TAB-UF'!$I$11:$I$109,'TAB-UF'!$C$11:$C$109,B92)","v":0},{"$f":"SUMIFS('TAB-UF'!$J$11:$J$109,'TAB-UF'!$C$11:$C$109,B92)","v":0},{"$f":"SUMIFS('TAB-UF'!$K$11:$K$109,'TAB-UF'!$C$11:$C$109,B92)","v":0},{"$f":"SUMIFS('TAB-UF'!$L$11:$L$109,'TAB-UF'!$C$11:$C$109,B92)","v":0},{"$f":"SUMIFS('TAB-UF'!$M$11:$M$109,'TAB-UF'!$C$11:$C$109,B92)","v":0}]
[83,{"$f":"UI!B93","v":"U83"},{"$f":"IF(UI!C93<>\"\",UI!C93,\"\")","v":""},{"$f":"IF(UI!D93<>\"\",UI!D93,\"\")","v":""},{"$f":"IF(UI!E93<>\"\",UI!E93,\"\")","v":""},{"$f":"SUMIFS('TAB-UF'!$D$11:$D$109,'TAB-UF'!$C$11:$C$109,B93)","v":0},{"$f":"SUMIFS('TAB-UF'!$E$11:$E$109,'TAB-UF'!$C$11:$C$109,B93)","v":0},{"$f":"SUMIFS('TAB-UF'!$F$11:$F$109,'TAB-UF'!$C$11:$C$109,B93)","v":0},{"$f":"SUMIFS('TAB-UF'!$G$11:$G$109,'TAB-UF'!$C$11:$C$109,B93)","v":0},{"$f":"SUMIFS('TAB-UF'!$H$11:$H$109,'TAB-UF'!$C$11:$C$109,B93)","v":0},{"$f":"SUMIFS('TAB-UF'!$I$11:$I$109,'TAB-UF'!$C$11:$C$109,B93)","v":0},{"$f":"SUMIFS('TAB-UF'!$J$11:$J$109,'TAB-UF'!$C$11:$C$109,B93)","v":0},{"$f":"SUMIFS('TAB-UF'!$K$11:$K$109,'TAB-UF'!$C$11:$C$109,B93)","v":0},{"$f":"SUMIFS('TAB-UF'!$L$11:$L$109,'TAB-UF'!$C$11:$C$109,B93)","v":0},{"$f":"SUMIFS('TAB-UF'!$M$11:$M$109,'TAB-UF'!$C$11:$C$109,B93)","v":0}]
[84,{"$f":"UI!B94","v":"U84"},{"$f":"IF(UI!C94<>\"\",UI!C94,\"\")","v":""},{"$f":"IF(UI!D94<>\"\",UI!D94,\"\")","v":""},{"$f":"IF(UI!E94<>\"\",UI!E94,\"\")","v":""},{"$f":"SUMIFS('TAB-UF'!$D$11:$D$109,'TAB-UF'!$C$11:$C$109,B94)","v":0},{"$f":"SUMIFS('TAB-UF'!$E$11:$E$109,'TAB-UF'!$C$11:$C$109,B94)","v":0},{"$f":"SUMIFS('TAB-UF'!$F$11:$F$109,'TAB-UF'!$C$11:$C$109,B94)","v":0},{"$f":"SUMIFS('TAB-UF'!$G$11:$G$109,'TAB-UF'!$C$11:$C$109,B94)","v":0},{"$f":"SUMIFS('TAB-UF'!$H$11:$H$109,'TAB-UF'!$C$11:$C$109,B94)","v":0},{"$f":"SUMIFS('TAB-UF'!$I$11:$I$109,'TAB-UF'!$C$11:$C$109,B94)","v":0},{"$f":"SUMIFS('TAB-UF'!$J$11:$J$109,'TAB-UF'!$C$11:$C$109,B94)","v":0},{"$f":"SUMIFS('TAB-UF'!$K$11:$K$109,'TAB-UF'!$C$11:$C$109,B94)","v":0},{"$f":"SUMIFS('TAB-UF'!$L$11:$L$109,'TAB-UF'!$C$11:$C$109,B94)","v":0},{"$f":"SUMIFS('TAB-UF'!$M$11:$M$109,'TAB-UF'!$C$11:$C$109,B94)","v":0}]
[85,{"$f":"UI!B95","v":"U85"},{"$f":"IF(UI!C95<>\"\",UI!C95,\"\")","v":""},{"$f":"IF(UI!D95<>\"\",UI!D95,\"\")","v":""},{"$f":"IF(UI!E95<>\"\",UI!E95,\"\")","v":""},{"$f":"SUMIFS('TAB-UF'!$D$11:$D$109,'TAB-UF'!$C$11:$C$109,B95)","v":0},{"$f":"SUMIFS('TAB-UF'!$E$11:$E$109,'TAB-UF'!$C$11:$C$109,B95)","v":0},{"$f":"SUMIFS('TAB-UF'!$F$11:$F$109,'TAB-UF'!$C$11:$C$109,B95)","v":0},{"$f":"SUMIFS('TAB-UF'!$G$11:$G$109,'TAB-UF'!$C$11:$C$109,B95)","v":0},{"$f":"SUMIFS('TAB-UF'!$H$11:$H$109,'TAB-UF'!$C$11:$C$109,B95)","v":0},{"$f":"SUMIFS('TAB-UF'!$I$11:$I$109,'TAB-UF'!$C$11:$C$109,B95)","v":0},{"$f":"SUMIFS('TAB-UF'!$J$11:$J$109,'TAB-UF'!$C$11:$C$109,B95)","v":0},{"$f":"SUMIFS('TAB-UF'!$K$11:$K$109,'TAB-UF'!$C$11:$C$109,B95)","v":0},{"$f":"SUMIFS('TAB-UF'!$L$11:$L$109,'TAB-UF'!$C$11:$C$109,B95)","v":0},{"$f":"SUMIFS('TAB-UF'!$M$11:$M$109,'TAB-UF'!$C$11:$C$109,B95)","v":0}]
[86,{"$f":"UI!B96","v":"U86"},{"$f":"IF(UI!C96<>\"\",UI!C96,\"\")","v":""},{"$f":"IF(UI!D96<>\"\",UI!D96,\"\")","v":""},{"$f":"IF(UI!E96<>\"\",UI!E96,\"\")","v":""},{"$f":"SUMIFS('TAB-UF'!$D$11:$D$109,'TAB-UF'!$C$11:$C$109,B96)","v":0},{"$f":"SUMIFS('TAB-UF'!$E$11:$E$109,'TAB-UF'!$C$11:$C$109,B96)","v":0},{"$f":"SUMIFS('TAB-UF'!$F$11:$F$109,'TAB-UF'!$C$11:$C$109,B96)","v":0},{"$f":"SUMIFS('TAB-UF'!$G$11:$G$109,'TAB-UF'!$C$11:$C$109,B96)","v":0},{"$f":"SUMIFS('TAB-UF'!$H$11:$H$109,'TAB-UF'!$C$11:$C$109,B96)","v":0},{"$f":"SUMIFS('TAB-UF'!$I$11:$I$109,'TAB-UF'!$C$11:$C$109,B96)","v":0},{"$f":"SUMIFS('TAB-UF'!$J$11:$J$109,'TAB-UF'!$C$11:$C$109,B96)","v":0},{"$f":"SUMIFS('TAB-UF'!$K$11:$K$109,'TAB-UF'!$C$11:$C$109,B96)","v":0},{"$f":"SUMIFS('TAB-UF'!$L$11:$L$109,'TAB-UF'!$C$11:$C$109,B96)","v":0},{"$f":"SUMIFS('TAB-UF'!$M$11:$M$109,'TAB-UF'!$C$11:$C$109,B96)","v":0}]
[87,{"$f":"UI!B97","v":"U87"},{"$f":"IF(UI!C97<>\"\",UI!C97,\"\")","v":""},{"$f":"IF(UI!D97<>\"\",UI!D97,\"\")","v":""},{"$f":"IF(UI!E97<>\"\",UI!E97,\"\")","v":""},{"$f":"SUMIFS('TAB-UF'!$D$11:$D$109,'TAB-UF'!$C$11:$C$109,B97)","v":0},{"$f":"SUMIFS('TAB-UF'!$E$11:$E$109,'TAB-UF'!$C$11:$C$109,B97)","v":0},{"$f":"SUMIFS('TAB-UF'!$F$11:$F$109,'TAB-UF'!$C$11:$C$109,B97)","v":0},{"$f":"SUMIFS('TAB-UF'!$G$11:$G$109,'TAB-UF'!$C$11:$C$109,B97)","v":0},{"$f":"SUMIFS('TAB-UF'!$H$11:$H$109,'TAB-UF'!$C$11:$C$109,B97)","v":0},{"$f":"SUMIFS('TAB-UF'!$I$11:$I$109,'TAB-UF'!$C$11:$C$109,B97)","v":0},{"$f":"SUMIFS('TAB-UF'!$J$11:$J$109,'TAB-UF'!$C$11:$C$109,B97)","v":0},{"$f":"SUMIFS('TAB-UF'!$K$11:$K$109,'TAB-UF'!$C$11:$C$109,B97)","v":0},{"$f":"SUMIFS('TAB-UF'!$L$11:$L$109,'TAB-UF'!$C$11:$C$109,B97)","v":0},{"$f":"SUMIFS('TAB-UF'!$M$11:$M$109,'TAB-UF'!$C$11:$C$109,B97)","v":0}]
[88,{"$f":"UI!B98","v":"U88"},{"$f":"IF(UI!C98<>\"\",UI!C98,\"\")","v":""},{"$f":"IF(UI!D98<>\"\",UI!D98,\"\")","v":""},{"$f":"IF(UI!E98<>\"\",UI!E98,\"\")","v":""},{"$f":"SUMIFS('TAB-UF'!$D$11:$D$109,'TAB-UF'!$C$11:$C$109,B98)","v":0},{"$f":"SUMIFS('TAB-UF'!$E$11:$E$109,'TAB-UF'!$C$11:$C$109,B98)","v":0},{"$f":"SUMIFS('TAB-UF'!$F$11:$F$109,'TAB-UF'!$C$11:$C$109,B98)","v":0},{"$f":"SUMIFS('TAB-UF'!$G$11:$G$109,'TAB-UF'!$C$11:$C$109,B98)","v":0},{"$f":"SUMIFS('TAB-UF'!$H$11:$H$109,'TAB-UF'!$C$11:$C$109,B98)","v":0},{"$f":"SUMIFS('TAB-UF'!$I$11:$I$109,'TAB-UF'!$C$11:$C$109,B98)","v":0},{"$f":"SUMIFS('TAB-UF'!$J$11:$J$109,'TAB-UF'!$C$11:$C$109,B98)","v":0},{"$f":"SUMIFS('TAB-UF'!$K$11:$K$109,'TAB-UF'!$C$11:$C$109,B98)","v":0},{"$f":"SUMIFS('TAB-UF'!$L$11:$L$109,'TAB-UF'!$C$11:$C$109,B98)","v":0},{"$f":"SUMIFS('TAB-UF'!$M$11:$M$109,'TAB-UF'!$C$11:$C$109,B98)","v":0}]
[89,{"$f":"UI!B99","v":"U89"},{"$f":"IF(UI!C99<>\"\",UI!C99,\"\")","v":""},{"$f":"IF(UI!D99<>\"\",UI!D99,\"\")","v":""},{"$f":"IF(UI!E99<>\"\",UI!E99,\"\")","v":""},{"$f":"SUMIFS('TAB-UF'!$D$11:$D$109,'TAB-UF'!$C$11:$C$109,B99)","v":0},{"$f":"SUMIFS('TAB-UF'!$E$11:$E$109,'TAB-UF'!$C$11:$C$109,B99)","v":0},{"$f":"SUMIFS('TAB-UF'!$F$11:$F$109,'TAB-UF'!$C$11:$C$109,B99)","v":0},{"$f":"SUMIFS('TAB-UF'!$G$11:$G$109,'TAB-UF'!$C$11:$C$109,B99)","v":0},{"$f":"SUMIFS('TAB-UF'!$H$11:$H$109,'TAB-UF'!$C$11:$C$109,B99)","v":0},{"$f":"SUMIFS('TAB-UF'!$I$11:$I$109,'TAB-UF'!$C$11:$C$109,B99)","v":0},{"$f":"SUMIFS('TAB-UF'!$J$11:$J$109,'TAB-UF'!$C$11:$C$109,B99)","v":0},{"$f":"SUMIFS('TAB-UF'!$K$11:$K$109,'TAB-UF'!$C$11:$C$109,B99)","v":0},{"$f":"SUMIFS('TAB-UF'!$L$11:$L$109,'TAB-UF'!$C$11:$C$109,B99)","v":0},{"$f":"SUMIFS('TAB-UF'!$M$11:$M$109,'TAB-UF'!$C$11:$C$109,B99)","v":0}]
[90,{"$f":"UI!B100","v":"U90"},{"$f":"IF(UI!C100<>\"\",UI!C100,\"\")","v":""},{"$f":"IF(UI!D100<>\"\",UI!D100,\"\")","v":""},{"$f":"IF(UI!E100<>\"\",UI!E100,\"\")","v":""},{"$f":"SUMIFS('TAB-UF'!$D$11:$D$109,'TAB-UF'!$C$11:$C$109,B100)","v":0},{"$f":"SUMIFS('TAB-UF'!$E$11:$E$109,'TAB-UF'!$C$11:$C$109,B100)","v":0},{"$f":"SUMIFS('TAB-UF'!$F$11:$F$109,'TAB-UF'!$C$11:$C$109,B100)","v":0},{"$f":"SUMIFS('TAB-UF'!$G$11:$G$109,'TAB-UF'!$C$11:$C$109,B100)","v":0},{"$f":"SUMIFS('TAB-UF'!$H$11:$H$109,'TAB-UF'!$C$11:$C$109,B100)","v":0},{"$f":"SUMIFS('TAB-UF'!$I$11:$I$109,'TAB-UF'!$C$11:$C$109,B100)","v":0},{"$f":"SUMIFS('TAB-UF'!$J$11:$J$109,'TAB-UF'!$C$11:$C$109,B100)","v":0},{"$f":"SUMIFS('TAB-UF'!$K$11:$K$109,'TAB-UF'!$C$11:$C$109,B100)","v":0},{"$f":"SUMIFS('TAB-UF'!$L$11:$L$109,'TAB-UF'!$C$11:$C$109,B100)","v":0},{"$f":"SUMIFS('TAB-UF'!$M$11:$M$109,'TAB-UF'!$C$11:$C$109,B100)","v":0}]
[91,{"$f":"UI!B101","v":"U91"},{"$f":"IF(UI!C101<>\"\",UI!C101,\"\")","v":""},{"$f":"IF(UI!D101<>\"\",UI!D101,\"\")","v":""},{"$f":"IF(UI!E101<>\"\",UI!E101,\"\")","v":""},{"$f":"SUMIFS('TAB-UF'!$D$11:$D$109,'TAB-UF'!$C$11:$C$109,B101)","v":0},{"$f":"SUMIFS('TAB-UF'!$E$11:$E$109,'TAB-UF'!$C$11:$C$109,B101)","v":0},{"$f":"SUMIFS('TAB-UF'!$F$11:$F$109,'TAB-UF'!$C$11:$C$109,B101)","v":0},{"$f":"SUMIFS('TAB-UF'!$G$11:$G$109,'TAB-UF'!$C$11:$C$109,B101)","v":0},{"$f":"SUMIFS('TAB-UF'!$H$11:$H$109,'TAB-UF'!$C$11:$C$109,B101)","v":0},{"$f":"SUMIFS('TAB-UF'!$I$11:$I$109,'TAB-UF'!$C$11:$C$109,B101)","v":0},{"$f":"SUMIFS('TAB-UF'!$J$11:$J$109,'TAB-UF'!$C$11:$C$109,B101)","v":0},{"$f":"SUMIFS('TAB-UF'!$K$11:$K$109,'TAB-UF'!$C$11:$C$109,B101)","v":0},{"$f":"SUMIFS('TAB-UF'!$L$11:$L$109,'TAB-UF'!$C$11:$C$109,B101)","v":0},{"$f":"SUMIFS('TAB-UF'!$M$11:$M$109,'TAB-UF'!$C$11:$C$109,B101)","v":0}]
[92,{"$f":"UI!B102","v":"U92"},{"$f":"IF(UI!C102<>\"\",UI!C102,\"\")","v":""},{"$f":"IF(UI!D102<>\"\",UI!D102,\"\")","v":""},{"$f":"IF(UI!E102<>\"\",UI!E102,\"\")","v":""},{"$f":"SUMIFS('TAB-UF'!$D$11:$D$109,'TAB-UF'!$C$11:$C$109,B102)","v":0},{"$f":"SUMIFS('TAB-UF'!$E$11:$E$109,'TAB-UF'!$C$11:$C$109,B102)","v":0},{"$f":"SUMIFS('TAB-UF'!$F$11:$F$109,'TAB-UF'!$C$11:$C$109,B102)","v":0},{"$f":"SUMIFS('TAB-UF'!$G$11:$G$109,'TAB-UF'!$C$11:$C$109,B102)","v":0},{"$f":"SUMIFS('TAB-UF'!$H$11:$H$109,'TAB-UF'!$C$11:$C$109,B102)","v":0},{"$f":"SUMIFS('TAB-UF'!$I$11:$I$109,'TAB-UF'!$C$11:$C$109,B102)","v":0},{"$f":"SUMIFS('TAB-UF'!$J$11:$J$109,'TAB-UF'!$C$11:$C$109,B102)","v":0},{"$f":"SUMIFS('TAB-UF'!$K$11:$K$109,'TAB-UF'!$C$11:$C$109,B102)","v":0},{"$f":"SUMIFS('TAB-UF'!$L$11:$L$109,'TAB-UF'!$C$11:$C$109,B102)","v":0},{"$f":"SUMIFS('TAB-UF'!$M$11:$M$109,'TAB-UF'!$C$11:$C$109,B102)","v":0}]
[93,{"$f":"UI!B103","v":"U93"},{"$f":"IF(UI!C103<>\"\",UI!C103,\"\")","v":""},{"$f":"IF(UI!D103<>\"\",UI!D103,\"\")","v":""},{"$f":"IF(UI!E103<>\"\",UI!E103,\"\")","v":""},{"$f":"SUMIFS('TAB-UF'!$D$11:$D$109,'TAB-UF'!$C$11:$C$109,B103)","v":0},{"$f":"SUMIFS('TAB-UF'!$E$11:$E$109,'TAB-UF'!$C$11:$C$109,B103)","v":0},{"$f":"SUMIFS('TAB-UF'!$F$11:$F$109,'TAB-UF'!$C$11:$C$109,B103)","v":0},{"$f":"SUMIFS('TAB-UF'!$G$11:$G$109,'TAB-UF'!$C$11:$C$109,B103)","v":0},{"$f":"SUMIFS('TAB-UF'!$H$11:$H$109,'TAB-UF'!$C$11:$C$109,B103)","v":0},{"$f":"SUMIFS('TAB-UF'!$I$11:$I$109,'TAB-UF'!$C$11:$C$109,B103)","v":0},{"$f":"SUMIFS('TAB-UF'!$J$11:$J$109,'TAB-UF'!$C$11:$C$109,B103)","v":0},{"$f":"SUMIFS('TAB-UF'!$K$11:$K$109,'TAB-UF'!$C$11:$C$109,B103)","v":0},{"$f":"SUMIFS('TAB-UF'!$L$11:$L$109,'TAB-UF'!$C$11:$C$109,B103)","v":0},{"$f":"SUMIFS('TAB-UF'!$M$11:$M$109,'TAB-UF'!$C$11:$C$109,B103)","v":0}]
[94,{"$f":"UI!B104","v":"U94"},{"$f":"IF(UI!C104<>\"\",UI!C104,\"\")","v":""},{"$f":"IF(UI!D104<>\"\",UI!D104,\"\")","v":""},{"$f":"IF(UI!E104<>\"\",UI!E104,\"\")","v":""},{"$f":"SUMIFS('TAB-UF'!$D$11:$D$109,'TAB-UF'!$C$11:$C$109,B104)","v":0},{"$f":"SUMIFS('TAB-UF'!$E$11:$E$109,'TAB-UF'!$C$11:$C$109,B104)","v":0},{"$f":"SUMIFS('TAB-UF'!$F$11:$F$109,'TAB-UF'!$C$11:$C$109,B104)","v":0},{"$f":"SUMIFS('TAB-UF'!$G$11:$G$109,'TAB-UF'!$C$11:$C$109,B104)","v":0},{"$f":"SUMIFS('TAB-UF'!$H$11:$H$109,'TAB-UF'!$C$11:$C$109,B104)","v":0},{"$f":"SUMIFS('TAB-UF'!$I$11:$I$109,'TAB-UF'!$C$11:$C$109,B104)","v":0},{"$f":"SUMIFS('TAB-UF'!$J$11:$J$109,'TAB-UF'!$C$11:$C$109,B104)","v":0},{"$f":"SUMIFS('TAB-UF'!$K$11:$K$109,'TAB-UF'!$C$11:$C$109,B104)","v":0},{"$f":"SUMIFS('TAB-UF'!$L$11:$L$109,'TAB-UF'!$C$11:$C$109,B104)","v":0},{"$f":"SUMIFS('TAB-UF'!$M$11:$M$109,'TAB-UF'!$C$11:$C$109,B104)","v":0}]
[95,{"$f":"UI!B105","v":"U95"},{"$f":"IF(UI!C105<>\"\",UI!C105,\"\")","v":""},{"$f":"IF(UI!D105<>\"\",UI!D105,\"\")","v":""},{"$f":"IF(UI!E105<>\"\",UI!E105,\"\")","v":""},{"$f":"SUMIFS('TAB-UF'!$D$11:$D$109,'TAB-UF'!$C$11:$C$109,B105)","v":0},{"$f":"SUMIFS('TAB-UF'!$E$11:$E$109,'TAB-UF'!$C$11:$C$109,B105)","v":0},{"$f":"SUMIFS('TAB-UF'!$F$11:$F$109,'TAB-UF'!$C$11:$C$109,B105)","v":0},{"$f":"SUMIFS('TAB-UF'!$G$11:$G$109,'TAB-UF'!$C$11:$C$109,B105)","v":0},{"$f":"SUMIFS('TAB-UF'!$H$11:$H$109,'TAB-UF'!$C$11:$C$109,B105)","v":0},{"$f":"SUMIFS('TAB-UF'!$I$11:$I$109,'TAB-UF'!$C$11:$C$109,B105)","v":0},{"$f":"SUMIFS('TAB-UF'!$J$11:$J$109,'TAB-UF'!$C$11:$C$109,B105)","v":0},{"$f":"SUMIFS('TAB-UF'!$K$11:$K$109,'TAB-UF'!$C$11:$C$109,B105)","v":0},{"$f":"SUMIFS('TAB-UF'!$L$11:$L$109,'TAB-UF'!$C$11:$C$109,B105)","v":0},{"$f":"SUMIFS('TAB-UF'!$M$11:$M$109,'TAB-UF'!$C$11:$C$109,B105)","v":0}]
[96,{"$f":"UI!B106","v":"U96"},{"$f":"IF(UI!C106<>\"\",UI!C106,\"\")","v":""},{"$f":"IF(UI!D106<>\"\",UI!D106,\"\")","v":""},{"$f":"IF(UI!E106<>\"\",UI!E106,\"\")","v":""},{"$f":"SUMIFS('TAB-UF'!$D$11:$D$109,'TAB-UF'!$C$11:$C$109,B106)","v":0},{"$f":"SUMIFS('TAB-UF'!$E$11:$E$109,'TAB-UF'!$C$11:$C$109,B106)","v":0},{"$f":"SUMIFS('TAB-UF'!$F$11:$F$109,'TAB-UF'!$C$11:$C$109,B106)","v":0},{"$f":"SUMIFS('TAB-UF'!$G$11:$G$109,'TAB-UF'!$C$11:$C$109,B106)","v":0},{"$f":"SUMIFS('TAB-UF'!$H$11:$H$109,'TAB-UF'!$C$11:$C$109,B106)","v":0},{"$f":"SUMIFS('TAB-UF'!$I$11:$I$109,'TAB-UF'!$C$11:$C$109,B106)","v":0},{"$f":"SUMIFS('TAB-UF'!$J$11:$J$109,'TAB-UF'!$C$11:$C$109,B106)","v":0},{"$f":"SUMIFS('TAB-UF'!$K$11:$K$109,'TAB-UF'!$C$11:$C$109,B106)","v":0},{"$f":"SUMIFS('TAB-UF'!$L$11:$L$109,'TAB-UF'!$C$11:$C$109,B106)","v":0},{"$f":"SUMIFS('TAB-UF'!$M$11:$M$109,'TAB-UF'!$C$11:$C$109,B106)","v":0}]
[97,{"$f":"UI!B107","v":"U97"},{"$f":"IF(UI!C107<>\"\",UI!C107,\"\")","v":""},{"$f":"IF(UI!D107<>\"\",UI!D107,\"\")","v":""},{"$f":"IF(UI!E107<>\"\",UI!E107,\"\")","v":""},{"$f":"SUMIFS('TAB-UF'!$D$11:$D$109,'TAB-UF'!$C$11:$C$109,B107)","v":0},{"$f":"SUMIFS('TAB-UF'!$E$11:$E$109,'TAB-UF'!$C$11:$C$109,B107)","v":0},{"$f":"SUMIFS('TAB-UF'!$F$11:$F$109,'TAB-UF'!$C$11:$C$109,B107)","v":0},{"$f":"SUMIFS('TAB-UF'!$G$11:$G$109,'TAB-UF'!$C$11:$C$109,B107)","v":0},{"$f":"SUMIFS('TAB-UF'!$H$11:$H$109,'TAB-UF'!$C$11:$C$109,B107)","v":0},{"$f":"SUMIFS('TAB-UF'!$I$11:$I$109,'TAB-UF'!$C$11:$C$109,B107)","v":0},{"$f":"SUMIFS('TAB-UF'!$J$11:$J$109,'TAB-UF'!$C$11:$C$109,B107)","v":0},{"$f":"SUMIFS('TAB-UF'!$K$11:$K$109,'TAB-UF'!$C$11:$C$109,B107)","v":0},{"$f":"SUMIFS('TAB-UF'!$L$11:$L$109,'TAB-UF'!$C$11:$C$109,B107)","v":0},{"$f":"SUMIFS('TAB-UF'!$M$11:$M$109,'TAB-UF'!$C$11:$C$109,B107)","v":0}]
[98,{"$f":"UI!B108","v":"U98"},{"$f":"IF(UI!C108<>\"\",UI!C108,\"\")","v":""},{"$f":"IF(UI!D108<>\"\",UI!D108,\"\")","v":""},{"$f":"IF(UI!E108<>\"\",UI!E108,\"\")","v":""},{"$f":"SUMIFS('TAB-UF'!$D$11:$D$109,'TAB-UF'!$C$11:$C$109,B108)","v":0},{"$f":"SUMIFS('TAB-UF'!$E$11:$E$109,'TAB-UF'!$C$11:$C$109,B108)","v":0},{"$f":"SUMIFS('TAB-UF'!$F$11:$F$109,'TAB-UF'!$C$11:$C$109,B108)","v":0},{"$f":"SUMIFS('TAB-UF'!$G$11:$G$109,'TAB-UF'!$C$11:$C$109,B108)","v":0},{"$f":"SUMIFS('TAB-UF'!$H$11:$H$109,'TAB-UF'!$C$11:$C$109,B108)","v":0},{"$f":"SUMIFS('TAB-UF'!$I$11:$I$109,'TAB-UF'!$C$11:$C$109,B108)","v":0},{"$f":"SUMIFS('TAB-UF'!$J$11:$J$109,'TAB-UF'!$C$11:$C$109,B108)","v":0},{"$f":"SUMIFS('TAB-UF'!$K$11:$K$109,'TAB-UF'!$C$11:$C$109,B108)","v":0},{"$f":"SUMIFS('TAB-UF'!$L$11:$L$109,'TAB-UF'!$C$11:$C$109,B108)","v":0},{"$f":"SUMIFS('TAB-UF'!$M$11:$M$109,'TAB-UF'!$C$11:$C$109,B108)","v":0}]
[99,{"$f":"UI!B109","v":"U99"},{"$f":"IF(UI!C109<>\"\",UI!C109,\"\")","v":""},{"$f":"IF(UI!D109<>\"\",UI!D109,\"\")","v":""},{"$f":"IF(UI!E109<>\"\",UI!E109,\"\")","v":""},{"$f":"SUMIFS('TAB-UF'!$D$11:$D$109,'TAB-UF'!$C$11:$C$109,B109)","v":0},{"$f":"SUMIFS('TAB-UF'!$E$11:$E$109,'TAB-UF'!$C$11:$C$109,B109)","v":0},{"$f":"SUMIFS('TAB-UF'!$F$11:$F$109,'TAB-UF'!$C$11:$C$109,B109)","v":0},{"$f":"SUMIFS('TAB-UF'!$G$11:$G$109,'TAB-UF'!$C$11:$C$109,B109)","v":0},{"$f":"SUMIFS('TAB-UF'!$H$11:$H$109,'TAB-UF'!$C$11:$C$109,B109)","v":0},{"$f":"SUMIFS('TAB-UF'!$I$11:$I$109,'TAB-UF'!$C$11:$C$109,B109)","v":0},{"$f":"SUMIFS('TAB-UF'!$J$11:$J$109,'TAB-UF'!$C$11:$C$109,B109)","v":0},{"$f":"SUMIFS('TAB-UF'!$K$11:$K$109,'TAB-UF'!$C$11:$C$109,B109)","v":0},{"$f":"SUMIFS('TAB-UF'!$L$11:$L$109,'TAB-UF'!$C$11:$C$109,B109)","v":0},{"$f":"SUMIFS('TAB-UF'!$M$11:$M$109,'TAB-UF'!$C$11:$C$109,B109)","v":0}]
[null,null,null,null,null,{"$f":"SUM(F11:F109)","v":1000},1000,1000,0,0,0,0,0,0,0]
[0,null,null,null,null,null,null,null,null,null,null,null,null,null,null,0]

{"sheet":"TAB-C","index":11,"n_rows":111,"n_cols":15,"rows_kept":111,"cut":false,"hidden":true,"merged":[[0,0,0,13],[8,0,9,0],[8,1,9,1],[8,3,9,3],[8,2,9,2]]}
["!!! Non variare il contenuto delle le celle con sfondo colorato.",null,null,null,null,null,null,null,null,null,null,null,null,null,0]
[]
[]
[]
[]
[]
[]
["TABELLE MILLESIMALI PER CONDOMINI"]
["n.\nCond.","Codice Condomino","Unità Immobiliari\ndi proprietà","Condomino","Tab. A","Tab. B","Tab. C","Tab. D","Tab. E","Tab. F","Tab. G","Tab. H","Tab. I","Tab. J"]
[null,null,null,null,"GENERALE","Lato NORD","Lato SUD"]
[1,{"$f":"CONDOMINI!B11","v":"C01"},"U01",{"$f":"IF(C11<>\"\",IFERROR(VLOOKUP(B11,CONDOMINI!$B$11:$C$109,2,FALSE),\"\"),\"\")","v":"CONDOMINO01"},{"$f":"IF(B11<>\"\",SUMIFS('TAB-UI'!$F$11:$F$109,'TAB-UI'!$D$11:$D$109,B11),0)","v":39.637},{"$f":"IF(B11<>\"\",SUMIFS('TAB-UI'!$G$11:$G$109,'TAB-UI'!$D$11:$D$109,B11),0)","v":0},{"$f":"IF(B11<>\"\",SUMIFS('TAB-UI'!$H$11:$H$109,'TAB-UI'!$D$11:$D$109,B11),0)","v":136.69},{"$f":"IF(B11<>\"\",SUMIFS('TAB-UI'!$I$11:$I$109,'TAB-UI'!$D$11:$D$109,B11),0)","v":0},{"$f":"IF(B11<>\"\",SUMIFS('TAB-UI'!$J$11:$J$109,'TAB-UI'!$D$11:$D$109,B11),0)","v":0},{"$f":"IF(B11<>\"\",SUMIFS('TAB-UI'!$K$11:$K$109,'TAB-UI'!$D$11:$D$109,B11),0)","v":0},{"$f":"IF(B11<>\"\",SUMIFS('TAB-UI'!$L$11:$L$109,'TAB-UI'!$D$11:$D$109,B11),0)","v":0},{"$f":"IF(B11<>\"\",SUMIFS('TAB-UI'!$M$11:$M$109,'TAB-UI'!$D$11:$D$109,B11),0)","v":0},{"$f":"IF(B11<>\"\",SUMIFS('TAB-UI'!$N$11:$N$109,'TAB-UI'!$D$11:$D$109,B11),0)","v":0},{"$f":"IF(B11<>\"\",SUMIFS('TAB-UI'!$O$11:$O$109,'TAB-UI'!$D$11:$D$109,B11),0)","v":0}]
[2,{"$f":"CONDOMINI!B12","v":"C02"},"U02",{"$f":"IF(C12<>\"\",IFERROR(VLOOKUP(B12,CONDOMINI!$B$11:$C$109,2,FALSE),\"\"),\"\")","v":"CONDOMINO02"},{"$f":"IF(B12<>\"\",SUMIFS('TAB-UI'!$F$11:$F$109,'TAB-UI'!$D$11:$D$109,B12),0)","v":47.566000000000003},{"$f":"IF(B12<>\"\",SUMIFS('TAB-UI'!$G$11:$G$109,'TAB-UI'!$D$11:$D$109,B12),0)","v":0},{"$f":"IF(B12<>\"\",SUMIFS('TAB-UI'!$H$11:$H$109,'TAB-UI'!$D$11:$D$109,B12),0)","v":164.036},{"$f":"IF(B12<>\"\",SUMIFS('TAB-UI'!$I$11:$I$109,'TAB-UI'!$D$11:$D$109,B12),0)","v":0},{"$f":"IF(B12<>\"\",SUMIFS('TAB-UI'!$J$11:$J$109,'TAB-UI'!$D$11:$D$109,B12),0)","v":0},{"$f":"IF(B12<>\"\",SUMIFS('TAB-UI'!$K$11:$K$109,'TAB-UI'!$D$11:$D$109,B12),0)","v":0},{"$f":"IF(B12<>\"\",SUMIFS('TAB-UI'!$L$11:$L$109,'TAB-UI'!$D$11:$D$109,B12),0)","v":0},{"$f":"IF(B12<>\"\",SUMIFS('TAB-UI'!$M$11:$M$109,'TAB-UI'!$D$11:$D$109,B12),0)","v":0},{"$f":"IF(B12<>\"\",SUMIFS('TAB-UI'!$N$11:$N$109,'TAB-UI'!$D$11:$D$109,B12),0)","v":0},{"$f":"IF(B12<>\"\",SUMIFS('TAB-UI'!$O$11:$O$109,'TAB-UI'!$D$11:$D$109,B12),0)","v":0}]
[3,{"$f":"CONDOMINI!B13","v":"C03"},"U03",{"$f":"IF(C13<>\"\",IFERROR(VLOOKUP(B13,CONDOMINI!$B$11:$C$109,2,FALSE),\"\"),\"\")","v":"CONDOMINO03"},{"$f":"IF(B13<>\"\",SUMIFS('TAB-UI'!$F$11:$F$109,'TAB-UI'!$D$11:$D$109,B13),0)","v":45.34},{"$f":"IF(B13<>\"\",SUMIFS('TAB-UI'!$G$11:$G$109,'TAB-UI'!$D$11:$D$109,B13),0)","v":0},{"$f":"IF(B13<>\"\",SUMIFS('TAB-UI'!$H$11:$H$109,'TAB-UI'!$D$11:$D$109,B13),0)","v":156.358},{"$f":"IF(B13<>\"\",SUMIFS('TAB-UI'!$I$11:$I$109,'TAB-UI'!$D$11:$D$109,B13),0)","v":0},{"$f":"IF(B13<>\"\",SUMIFS('TAB-UI'!$J$11:$J$109,'TAB-UI'!$D$11:$D$109,B13),0)","v":0},{"$f":"IF(B13<>\"\",SUMIFS('TAB-UI'!$K$11:$K$109,'TAB-UI'!$D$11:$D$109,B13),0)","v":0},{"$f":"IF(B13<>\"\",SUMIFS('TAB-UI'!$L$11:$L$109,'TAB-UI'!$D$11:$D$109,B13),0)","v":0},{"$f":"IF(B13<>\"\",SUMIFS('TAB-UI'!$M$11:$M$109,'TAB-UI'!$D$11:$D$109,B13),0)","v":0},{"$f":"IF(B13<>\"\",SUMIFS('TAB-UI'!$N$11:$N$109,'TAB-UI'!$D$11:$D$109,B13),0)","v":0},{"$f":"IF(B13<>\"\",SUMIFS('TAB-UI'!$O$11:$O$109,'TAB-UI'!$D$11:$D$109,B13),0)","v":0}]
[4,{"$f":"CONDOMINI!B14","v":"C04"},"U04",{"$f":"IF(C14<>\"\",IFERROR(VLOOKUP(B14,CONDOMINI!$B$11:$C$109,2,FALSE),\"\"),\"\")","v":"CONDOMINO04"},{"$f":"IF(B14<>\"\",SUMIFS('TAB-UI'!$F$11:$F$109,'TAB-UI'!$D$11:$D$109,B14),0)","v":41.103999999999999},{"$f":"IF(B14<>\"\",SUMIFS('TAB-UI'!$G$11:$G$109,'TAB-UI'!$D$11:$D$109,B14),0)","v":0},{"$f":"IF(B14<>\"\",SUMIFS('TAB-UI'!$H$11:$H$109,'TAB-UI'!$D$11:$D$109,B14),0)","v":94.5},{"$f":"IF(B14<>\"\",SUMIFS('TAB-UI'!$I$11:$I$109,'TAB-UI'!$D$11:$D$109,B14),0)","v":0},{"$f":"IF(B14<>\"\",SUMIFS('TAB-UI'!$J$11:$J$109,'TAB-UI'!$D$11:$D$109,B14),0)","v":0},{"$f":"IF(B14<>\"\",SUMIFS('TAB-UI'!$K$11:$K$109,'TAB-UI'!$D$11:$D$109,B14),0)","v":0},{"$f":"IF(B14<>\"\",SUMIFS('TAB-UI'!$L$11:$L$109,'TAB-UI'!$D$11:$D$109,B14),0)","v":0},{"$f":"IF(B14<>\"\",SUMIFS('TAB-UI'!$M$11:$M$109,'TAB-UI'!$D$11:$D$109,B14),0)","v":0},{"$f":"IF(B14<>\"\",SUMIFS('TAB-UI'!$N$11:$N$109,'TAB-UI'!$D$11:$D$109,B14),0)","v":0},{"$f":"IF(B14<>\"\",SUMIFS('TAB-UI'!$O$11:$O$109,'TAB-UI'!$D$11:$D$109,B14),0)","v":0}]
[5,{"$f":"CONDOMINI!B15","v":"C05"},"U05",{"$f":"IF(C15<>\"\",IFERROR(VLOOKUP(B15,CONDOMINI!$B$11:$C$109,2,FALSE),\"\"),\"\")","v":"CONDOMINO05"},{"$f":"IF(B15<>\"\",SUMIFS('TAB-UI'!$F$11:$F$109,'TAB-UI'!$D$11:$D$109,B15),0)","v":50.970999999999997},{"$f":"IF(B15<>\"\",SUMIFS('TAB-UI'!$G$11:$G$109,'TAB-UI'!$D$11:$D$109,B15),0)","v":0},{"$f":"IF(B15<>\"\",SUMIFS('TAB-UI'!$H$11:$H$109,'TAB-UI'!$D$11:$D$109,B15),0)","v":117.184},{"$f":"IF(B15<>\"\",SUMIFS('TAB-UI'!$I$11:$I$109,'TAB-UI'!$D$11:$D$109,B15),0)","v":0},{"$f":"IF(B15<>\"\",SUMIFS('TAB-UI'!$J$11:$J$109,'TAB-UI'!$D$11:$D$109,B15),0)","v":0},{"$f":"IF(B15<>\"\",SUMIFS('TAB-UI'!$K$11:$K$109,'TAB-UI'!$D$11:$D$109,B15),0)","v":0},{"$f":"IF(B15<>\"\",SUMIFS('TAB-UI'!$L$11:$L$109,'TAB-UI'!$D$11:$D$109,B15),0)","v":0},{"$f":"IF(B15<>\"\",SUMIFS('TAB-UI'!$M$11:$M$109,'TAB-UI'!$D$11:$D$109,B15),0)","v":0},{"$f":"IF(B15<>\"\",SUMIFS('TAB-UI'!$N$11:$N$109,'TAB-UI'!$D$11:$D$109,B15),0)","v":0},{"$f":"IF(B15<>\"\",SUMIFS('TAB-UI'!$O$11:$O$109,'TAB-UI'!$D$11:$D$109,B15),0)","v":0}]
[6,{"$f":"CONDOMINI!B16","v":"C06"},"U06",{"$f":"IF(C16<>\"\",IFERROR(VLOOKUP(B16,CONDOMINI!$B$11:$C$109,2,FALSE),\"\"),\"\")","v":"CONDOMINO06"},{"$f":"IF(B16<>\"\",SUMIFS('TAB-UI'!$F$11:$F$109,'TAB-UI'!$D$11:$D$109,B16),0)","v":48.350999999999999},{"$f":"IF(B16<>\"\",SUMIFS('TAB-UI'!$G$11:$G$109,'TAB-UI'!$D$11:$D$109,B16),0)","v":0},{"$f":"IF(B16<>\"\",SUMIFS('TAB-UI'!$H$11:$H$109,'TAB-UI'!$D$11:$D$109,B16),0)","v":111.16200000000001},{"$f":"IF(B16<>\"\",SUMIFS('TAB-UI'!$I$11:$I$109,'TAB-UI'!$D$11:$D$109,B16),0)","v":0},{"$f":"IF(B16<>\"\",SUMIFS('TAB-UI'!$J$11:$J$109,'TAB-UI'!$D$11:$D$109,B16),0)","v":0},{"$f":"IF(B16<>\"\",SUMIFS('TAB-UI'!$K$11:$K$109,'TAB-UI'!$D$11:$D$109,B16),0)","v":0},{"$f":"IF(B16<>\"\",SUMIFS('TAB-UI'!$L$11:$L$109,'TAB-UI'!$D$11:$D$109,B16),0)","v":0},{"$f":"IF(B16<>\"\",SUMIFS('TAB-UI'!$M$11:$M$109,'TAB-UI'!$D$11:$D$109,B16),0)","v":0},{"$f":"IF(B16<>\"\",SUMIFS('TAB-UI'!$N$11:$N$109,'TAB-UI'!$D$11:$D$109,B16),0)","v":0},{"$f":"IF(B16<>\"\",SUMIFS('TAB-UI'!$O$11:$O$109,'TAB-UI'!$D$11:$D$109,B16),0)","v":0}]
[7,{"$f":"CONDOMINI!B17","v":"C07"},"U07+U20",{"$f":"IF(C17<>\"\",IFERROR(VLOOKUP(B17,CONDOMINI!$B$11:$C$109,2,FALSE),\"\"),\"\")","v":"CONDOMINO07"},{"$f":"IF(B17<>\"\",SUMIFS('TAB-UI'!$F$11:$F$109,'TAB-UI'!$D$11:$D$109,B17),0)","v":126.621},{"$f":"IF(B17<>\"\",SUMIFS('TAB-UI'!$G$11:$G$109,'TAB-UI'!$D$11:$D$109,B17),0)","v":72.67},{"$f":"IF(B17<>\"\",SUMIFS('TAB-UI'!$H$11:$H$109,'TAB-UI'!$D$11:$D$109,B17),0)","v":46.514000000000003},{"$f":"IF(B17<>\"\",SUMIFS('TAB-UI'!$I$11:$I$109,'TAB-UI'!$D$11:$D$109,B17),0)","v":0},{"$f":"IF(B17<>\"\",SUMIFS('TAB-UI'!$J$11:$J$109,'TAB-UI'!$D$11:$D$109,B17),0)","v":0},{"$f":"IF(B17<>\"\",SUMIFS('TAB-UI'!$K$11:$K$109,'TAB-UI'!$D$11:$D$109,B17),0)","v":0},{"$f":"IF(B17<>\"\",SUMIFS('TAB-UI'!$L$11:$L$109,'TAB-UI'!$D$11:$D$109,B17),0)","v":0},{"$f":"IF(B17<>\"\",SUMIFS('TAB-UI'!$M$11:$M$109,'TAB-UI'!$D$11:$D$109,B17),0)","v":0},{"$f":"IF(B17<>\"\",SUMIFS('TAB-UI'!$N$11:$N$109,'TAB-UI'!$D$11:$D$109,B17),0)","v":0},{"$f":"IF(B17<>\"\",SUMIFS('TAB-UI'!$O$11:$O$109,'TAB-UI'!$D$11:$D$109,B17),0)","v":0}]
[8,{"$f":"CONDOMINI!B18","v":"C08"},"U08+U21",{"$f":"IF(C18<>\"\",IFERROR(VLOOKUP(B18,CONDOMINI!$B$11:$C$109,2,FALSE),\"\"),\"\")","v":"CONDOMINO08"},{"$f":"IF(B18<>\"\",SUMIFS('TAB-UI'!$F$11:$F$109,'TAB-UI'!$D$11:$D$109,B18),0)","v":87.942000000000007},{"$f":"IF(B18<>\"\",SUMIFS('TAB-UI'!$G$11:$G$109,'TAB-UI'!$D$11:$D$109,B18),0)","v":50.262},{"$f":"IF(B18<>\"\",SUMIFS('TAB-UI'!$H$11:$H$109,'TAB-UI'!$D$11:$D$109,B18),0)","v":56.945999999999998},{"$f":"IF(B18<>\"\",SUMIFS('TAB-UI'!$I$11:$I$109,'TAB-UI'!$D$11:$D$109,B18),0)","v":0},{"$f":"IF(B18<>\"\",SUMIFS('TAB-UI'!$J$11:$J$109,'TAB-UI'!$D$11:$D$109,B18),0)","v":0},{"$f":"IF(B18<>\"\",SUMIFS('TAB-UI'!$K$11:$K$109,'TAB-UI'!$D$11:$D$109,B18),0)","v":0},{"$f":"IF(B18<>\"\",SUMIFS('TAB-UI'!$L$11:$L$109,'TAB-UI'!$D$11:$D$109,B18),0)","v":0},{"$f":"IF(B18<>\"\",SUMIFS('TAB-UI'!$M$11:$M$109,'TAB-UI'!$D$11:$D$109,B18),0)","v":0},{"$f":"IF(B18<>\"\",SUMIFS('TAB-UI'!$N$11:$N$109,'TAB-UI'!$D$11:$D$109,B18),0)","v":0},{"$f":"IF(B18<>\"\",SUMIFS('TAB-UI'!$O$11:$O$109,'TAB-UI'!$D$11:$D$109,B18),0)","v":0}]
[9,{"$f":"CONDOMINI!B19","v":"C09"},"U09",{"$f":"IF(C19<>\"\",IFERROR(VLOOKUP(B19,CONDOMINI!$B$11:$C$109,2,FALSE),\"\"),\"\")","v":"CONDOMINO09"},{"$f":"IF(B19<>\"\",SUMIFS('TAB-UI'!$F$11:$F$109,'TAB-UI'!$D$11:$D$109,B19),0)","v":47.052},{"$f":"IF(B19<>\"\",SUMIFS('TAB-UI'!$G$11:$G$109,'TAB-UI'!$D$11:$D$109,B19),0)","v":0},{"$f":"IF(B19<>\"\",SUMIFS('TAB-UI'!$H$11:$H$109,'TAB-UI'!$D$11:$D$109,B19),0)","v":54.088000000000001},{"$f":"IF(B19<>\"\",SUMIFS('TAB-UI'!$I$11:$I$109,'TAB-UI'!$D$11:$D$109,B19),0)","v":0},{"$f":"IF(B19<>\"\",SUMIFS('TAB-UI'!$J$11:$J$109,'TAB-UI'!$D$11:$D$109,B19),0)","v":0},{"$f":"IF(B19<>\"\",SUMIFS('TAB-UI'!$K$11:$K$109,'TAB-UI'!$D$11:$D$109,B19),0)","v":0},{"$f":"IF(B19<>\"\",SUMIFS('TAB-UI'!$L$11:$L$109,'TAB-UI'!$D$11:$D$109,B19),0)","v":0},{"$f":"IF(B19<>\"\",SUMIFS('TAB-UI'!$M$11:$M$109,'TAB-UI'!$D$11:$D$109,B19),0)","v":0},{"$f":"IF(B19<>\"\",SUMIFS('TAB-UI'!$N$11:$N$109,'TAB-UI'!$D$11:$D$109,B19),0)","v":0},{"$f":"IF(B19<>\"\",SUMIFS('TAB-UI'!$O$11:$O$109,'TAB-UI'!$D$11:$D$109,B19),0)","v":0}]
[10,{"$f":"CONDOMINI!B20","v":"C10"},"U10",{"$f":"IF(C20<>\"\",IFERROR(VLOOKUP(B20,CONDOMINI!$B$11:$C$109,2,FALSE),\"\"),\"\")","v":"CONDOMINO10"},{"$f":"IF(B20<>\"\",SUMIFS('TAB-UI'!$F$11:$F$109,'TAB-UI'!$D$11:$D$109,B20),0)","v":35.484000000000002},{"$f":"IF(B20<>\"\",SUMIFS('TAB-UI'!$G$11:$G$109,'TAB-UI'!$D$11:$D$109,B20),0)","v":0},{"$f":"IF(B20<>\"\",SUMIFS('TAB-UI'!$H$11:$H$109,'TAB-UI'!$D$11:$D$109,B20),0)","v":4.1680000000000001},{"$f":"IF(B20<>\"\",SUMIFS('TAB-UI'!$I$11:$I$109,'TAB-UI'!$D$11:$D$109,B20),0)","v":0},{"$f":"IF(B20<>\"\",SUMIFS('TAB-UI'!$J$11:$J$109,'TAB-UI'!$D$11:$D$109,B20),0)","v":0},{"$f":"IF(B20<>\"\",SUMIFS('TAB-UI'!$K$11:$K$109,'TAB-UI'!$D$11:$D$109,B20),0)","v":0},{"$f":"IF(B20<>\"\",SUMIFS('TAB-UI'!$L$11:$L$109,'TAB-UI'!$D$11:$D$109,B20),0)","v":0},{"$f":"IF(B20<>\"\",SUMIFS('TAB-UI'!$M$11:$M$109,'TAB-UI'!$D$11:$D$109,B20),0)","v":0},{"$f":"IF(B20<>\"\",SUMIFS('TAB-UI'!$N$11:$N$109,'TAB-UI'!$D$11:$D$109,B20),0)","v":0},{"$f":"IF(B20<>\"\",SUMIFS('TAB-UI'!$O$11:$O$109,'TAB-UI'!$D$11:$D$109,B20),0)","v":0}]
[11,{"$f":"CONDOMINI!B21","v":"C11"},"U11",{"$f":"IF(C21<>\"\",IFERROR(VLOOKUP(B21,CONDOMINI!$B$11:$C$109,2,FALSE),\"\"),\"\")","v":"CONDOMINO11"},{"$f":"IF(B21<>\"\",SUMIFS('TAB-UI'!$F$11:$F$109,'TAB-UI'!$D$11:$D$109,B21),0)","v":45.631999999999998},{"$f":"IF(B21<>\"\",SUMIFS('TAB-UI'!$G$11:$G$109,'TAB-UI'!$D$11:$D$109,B21),0)","v":0},{"$f":"IF(B21<>\"\",SUMIFS('TAB-UI'!$H$11:$H$109,'TAB-UI'!$D$11:$D$109,B21),0)","v":4.4459999999999997},{"$f":"IF(B21<>\"\",SUMIFS('TAB-UI'!$I$11:$I$109,'TAB-UI'!$D$11:$D$109,B21),0)","v":0},{"$f":"IF(B21<>\"\",SUMIFS('TAB-UI'!$J$11:$J$109,'TAB-UI'!$D$11:$D$109,B21),0)","v":0},{"$f":"IF(B21<>\"\",SUMIFS('TAB-UI'!$K$11:$K$109,'TAB-UI'!$D$11:$D$109,B21),0)","v":0},{"$f":"IF(B21<>\"\",SUMIFS('TAB-UI'!$L$11:$L$109,'TAB-UI'!$D$11:$D$109,B21),0)","v":0},{"$f":"IF(B21<>\"\",SUMIFS('TAB-UI'!$M$11:$M$109,'TAB-UI'!$D$11:$D$109,B21),0)","v":0},{"$f":"IF(B21<>\"\",SUMIFS('TAB-UI'!$N$11:$N$109,'TAB-UI'!$D$11:$D$109,B21),0)","v":0},{"$f":"IF(B21<>\"\",SUMIFS('TAB-UI'!$O$11:$O$109,'TAB-UI'!$D$11:$D$109,B21),0)","v":0}]
[12,{"$f":"CONDOMINI!B22","v":"C12"},"U12",{"$f":"IF(C22<>\"\",IFERROR(VLOOKUP(B22,CONDOMINI!$B$11:$C$109,2,FALSE),\"\"),\"\")","v":"CONDOMINO12"},{"$f":"IF(B22<>\"\",SUMIFS('TAB-UI'!$F$11:$F$109,'TAB-UI'!$D$11:$D$109,B22),0)","v":32.654000000000003},{"$f":"IF(B22<>\"\",SUMIFS('TAB-UI'!$G$11:$G$109,'TAB-UI'!$D$11:$D$109,B22),0)","v":0},{"$f":"IF(B22<>\"\",SUMIFS('TAB-UI'!$H$11:$H$109,'TAB-UI'!$D$11:$D$109,B22),0)","v":4.8899999999999997},{"$f":"IF(B22<>\"\",SUMIFS('TAB-UI'!$I$11:$I$109,'TAB-UI'!$D$11:$D$109,B22),0)","v":0},{"$f":"IF(B22<>\"\",SUMIFS('TAB-UI'!$J$11:$J$109,'TAB-UI'!$D$11:$D$109,B22),0)","v":0},{"$f":"IF(B22<>\"\",SUMIFS('TAB-UI'!$K$11:$K$109,'TAB-UI'!$D$11:$D$109,B22),0)","v":0},{"$f":"IF(B22<>\"\",SUMIFS('TAB-UI'!$L$11:$L$109,'TAB-UI'!$D$11:$D$109,B22),0)","v":0},{"$f":"IF(B22<>\"\",SUMIFS('TAB-UI'!$M$11:$M$109,'TAB-UI'!$D$11:$D$109,B22),0)","v":0},{"$f":"IF(B22<>\"\",SUMIFS('TAB-UI'!$N$11:$N$109,'TAB-UI'!$D$11:$D$109,B22),0)","v":0},{"$f":"IF(B22<>\"\",SUMIFS('TAB-UI'!$O$11:$O$109,'TAB-UI'!$D$11:$D$109,B22),0)","v":0}]
[13,{"$f":"CONDOMINI!B23","v":"C13"},"U13",{"$f":"IF(C23<>\"\",IFERROR(VLOOKUP(B23,CONDOMINI!$B$11:$C$109,2,FALSE),\"\"),\"\")","v":"CONDOMINO13"},{"$f":"IF(B23<>\"\",SUMIFS('TAB-UI'!$F$11:$F$109,'TAB-UI'!$D$11:$D$109,B23),0)","v":10.153},{"$f":"IF(B23<>\"\",SUMIFS('TAB-UI'!$G$11:$G$109,'TAB-UI'!$D$11:$D$109,B23),0)","v":0},{"$f":"IF(B23<>\"\",SUMIFS('TAB-UI'!$H$11:$H$109,'TAB-UI'!$D$11:$D$109,B23),0)","v":11.67},{"$f":"IF(B23<>\"\",SUMIFS('TAB-UI'!$I$11:$I$109,'TAB-UI'!$D$11:$D$109,B23),0)","v":0},{"$f":"IF(B23<>\"\",SUMIFS('TAB-UI'!$J$11:$J$109,'TAB-UI'!$D$11:$D$109,B23),0)","v":0},{"$f":"IF(B23<>\"\",SUMIFS('TAB-UI'!$K$11:$K$109,'TAB-UI'!$D$11:$D$109,B23),0)","v":0},{"$f":"IF(B23<>\"\",SUMIFS('TAB-UI'!$L$11:$L$109,'TAB-UI'!$D$11:$D$109,B23),0)","v":0},{"$f":"IF(B23<>\"\",SUMIFS('TAB-UI'!$M$11:$M$109,'TAB-UI'!$D$11:$D$109,B23),0)","v":0},{"$f":"IF(B23<>\"\",SUMIFS('TAB-UI'!$N$11:$N$109,'TAB-UI'!$D$11:$D$109,B23),0)","v":0},{"$f":"IF(B23<>\"\",SUMIFS('TAB-UI'!$O$11:$O$109,'TAB-UI'!$D$11:$D$109,B23),0)","v":0}]
[14,{"$f":"CONDOMINI!B24","v":"C14"},"U14",{"$f":"IF(C24<>\"\",IFERROR(VLOOKUP(B24,CONDOMINI!$B$11:$C$109,2,FALSE),\"\"),\"\")","v":"CONDOMINO14"},{"$f":"IF(B24<>\"\",SUMIFS('TAB-UI'!$F$11:$F$109,'TAB-UI'!$D$11:$D$109,B24),0)","v":32.49},{"$f":"IF(B24<>\"\",SUMIFS('TAB-UI'!$G$11:$G$109,'TAB-UI'!$D$11:$D$109,B24),0)","v":0},{"$f":"IF(B24<>\"\",SUMIFS('TAB-UI'!$H$11:$H$109,'TAB-UI'!$D$11:$D$109,B24),0)","v":37.347999999999999},{"$f":"IF(B24<>\"\",SUMIFS('TAB-UI'!$I$11:$I$109,'TAB-UI'!$D$11:$D$109,B24),0)","v":0},{"$f":"IF(B24<>\"\",SUMIFS('TAB-UI'!$J$11:$J$109,'TAB-UI'!$D$11:$D$109,B24),0)","v":0},{"$f":"IF(B24<>\"\",SUMIFS('TAB-UI'!$K$11:$K$109,'TAB-UI'!$D$11:$D$109,B24),0)","v":0},{"$f":"IF(B24<>\"\",SUMIFS('TAB-UI'!$L$11:$L$109,'TAB-UI'!$D$11:$D$109,B24),0)","v":0},{"$f":"IF(B24<>\"\",SUMIFS('TAB-UI'!$M$11:$M$109,'TAB-UI'!$D$11:$D$109,B24),0)","v":0},{"$f":"IF(B24<>\"\",SUMIFS('TAB-UI'!$N$11:$N$109,'TAB-UI'!$D$11:$D$109,B24),0)","v":0},{"$f":"IF(B24<>\"\",SUMIFS('TAB-UI'!$O$11:$O$109,'TAB-UI'!$D$11:$D$109,B24),0)","v":0}]
[15,{"$f":"CONDOMINI!B25","v":"C15"},"U15",{"$f":"IF(C25<>\"\",IFERROR(VLOOKUP(B25,CONDOMINI!$B$11:$C$109,2,FALSE),\"\"),\"\")","v":"CONDOMINO15"},{"$f":"IF(B25<>\"\",SUMIFS('TAB-UI'!$F$11:$F$109,'TAB-UI'!$D$11:$D$109,B25),0)","v":86.68},{"$f":"IF(B25<>\"\",SUMIFS('TAB-UI'!$G$11:$G$109,'TAB-UI'!$D$11:$D$109,B25),0)","v":297.53200000000004},{"$f":"IF(B25<>\"\",SUMIFS('TAB-UI'!$H$11:$H$109,'TAB-UI'!$D$11:$D$109,B25),0)","v":0},{"$f":"IF(B25<>\"\",SUMIFS('TAB-UI'!$I$11:$I$109,'TAB-UI'!$D$11:$D$109,B25),0)","v":0},{"$f":"IF(B25<>\"\",SUMIFS('TAB-UI'!$J$11:$J$109,'TAB-UI'!$D$11:$D$109,B25),0)","v":0},{"$f":"IF(B25<>\"\",SUMIFS('TAB-UI'!$K$11:$K$109,'TAB-UI'!$D$11:$D$109,B25),0)","v":0},{"$f":"IF(B25<>\"\",SUMIFS('TAB-UI'!$L$11:$L$109,'TAB-UI'!$D$11:$D$109,B25),0)","v":0},{"$f":"IF(B25<>\"\",SUMIFS('TAB-UI'!$M$11:$M$109,'TAB-UI'!$D$11:$D$109,B25),0)","v":0},{"$f":"IF(B25<>\"\",SUMIFS('TAB-UI'!$N$11:$N$109,'TAB-UI'!$D$11:$D$109,B25),0)","v":0},{"$f":"IF(B25<>\"\",SUMIFS('TAB-UI'!$O$11:$O$109,'TAB-UI'!$D$11:$D$109,B25),0)","v":0}]
[16,{"$f":"CONDOMINI!B26","v":"C16"},"U16",{"$f":"IF(C26<>\"\",IFERROR(VLOOKUP(B26,CONDOMINI!$B$11:$C$109,2,FALSE),\"\"),\"\")","v":"CONDOMINO16"},{"$f":"IF(B26<>\"\",SUMIFS('TAB-UI'!$F$11:$F$109,'TAB-UI'!$D$11:$D$109,B26),0)","v":47.918999999999997},{"$f":"IF(B26<>\"\",SUMIFS('TAB-UI'!$G$11:$G$109,'TAB-UI'!$D$11:$D$109,B26),0)","v":188.15},{"$f":"IF(B26<>\"\",SUMIFS('TAB-UI'!$H$11:$H$109,'TAB-UI'!$D$11:$D$109,B26),0)","v":0},{"$f":"IF(B26<>\"\",SUMIFS('TAB-UI'!$I$11:$I$109,'TAB-UI'!$D$11:$D$109,B26),0)","v":0},{"$f":"IF(B26<>\"\",SUMIFS('TAB-UI'!$J$11:$J$109,'TAB-UI'!$D$11:$D$109,B26),0)","v":0},{"$f":"IF(B26<>\"\",SUMIFS('TAB-UI'!$K$11:$K$109,'TAB-UI'!$D$11:$D$109,B26),0)","v":0},{"$f":"IF(B26<>\"\",SUMIFS('TAB-UI'!$L$11:$L$109,'TAB-UI'!$D$11:$D$109,B26),0)","v":0},{"$f":"IF(B26<>\"\",SUMIFS('TAB-UI'!$M$11:$M$109,'TAB-UI'!$D$11:$D$109,B26),0)","v":0},{"$f":"IF(B26<>\"\",SUMIFS('TAB-UI'!$N$11:$N$109,'TAB-UI'!$D$11:$D$109,B26),0)","v":0},{"$f":"IF(B26<>\"\",SUMIFS('TAB-UI'!$O$11:$O$109,'TAB-UI'!$D$11:$D$109,B26),0)","v":0}]
[17,{"$f":"CONDOMINI!B27","v":"C17"},"U17",{"$f":"IF(C27<>\"\",IFERROR(VLOOKUP(B27,CONDOMINI!$B$11:$C$109,2,FALSE),\"\"),\"\")","v":"CONDOMINO17"},{"$f":"IF(B27<>\"\",SUMIFS('TAB-UI'!$F$11:$F$109,'TAB-UI'!$D$11:$D$109,B27),0)","v":37.720999999999997},{"$f":"IF(B27<>\"\",SUMIFS('TAB-UI'!$G$11:$G$109,'TAB-UI'!$D$11:$D$109,B27),0)","v":148.11000000000001},{"$f":"IF(B27<>\"\",SUMIFS('TAB-UI'!$H$11:$H$109,'TAB-UI'!$D$11:$D$109,B27),0)","v":0},{"$f":"IF(B27<>\"\",SUMIFS('TAB-UI'!$I$11:$I$109,'TAB-UI'!$D$11:$D$109,B27),0)","v":0},{"$f":"IF(B27<>\"\",SUMIFS('TAB-UI'!$J$11:$J$109,'TAB-UI'!$D$11:$D$109,B27),0)","v":0},{"$f":"IF(B27<>\"\",SUMIFS('TAB-UI'!$K$11:$K$109,'TAB-UI'!$D$11:$D$109,B27),0)","v":0},{"$f":"IF(B27<>\"\",SUMIFS('TAB-UI'!$L$11:$L$109,'TAB-UI'!$D$11:$D$109,B27),0)","v":0},{"$f":"IF(B27<>\"\",SUMIFS('TAB-UI'!$M$11:$M$109,'TAB-UI'!$D$11:$D$109,B27),0)","v":0},{"$f":"IF(B27<>\"\",SUMIFS('TAB-UI'!$N$11:$N$109,'TAB-UI'!$D$11:$D$109,B27),0)","v":0},{"$f":"IF(B27<>\"\",SUMIFS('TAB-UI'!$O$11:$O$109,'TAB-UI'!$D$11:$D$109,B27),0)","v":0}]
[18,{"$f":"CONDOMINI!B28","v":"C18"},"U18",{"$f":"IF(C28<>\"\",IFERROR(VLOOKUP(B28,CONDOMINI!$B$11:$C$109,2,FALSE),\"\"),\"\")","v":"CONDOMINO18"},{"$f":"IF(B28<>\"\",SUMIFS('TAB-UI'!$F$11:$F$109,'TAB-UI'!$D$11:$D$109,B28),0)","v":50.139000000000003},{"$f":"IF(B28<>\"\",SUMIFS('TAB-UI'!$G$11:$G$109,'TAB-UI'!$D$11:$D$109,B28),0)","v":131.244},{"$f":"IF(B28<>\"\",SUMIFS('TAB-UI'!$H$11:$H$109,'TAB-UI'!$D$11:$D$109,B28),0)","v":0},{"$f":"IF(B28<>\"\",SUMIFS('TAB-UI'!$I$11:$I$109,'TAB-UI'!$D$11:$D$109,B28),0)","v":0},{"$f":"IF(B28<>\"\",SUMIFS('TAB-UI'!$J$11:$J$109,'TAB-UI'!$D$11:$D$109,B28),0)","v":0},{"$f":"IF(B28<>\"\",SUMIFS('TAB-UI'!$K$11:$K$109,'TAB-UI'!$D$11:$D$109,B28),0)","v":0},{"$f":"IF(B28<>\"\",SUMIFS('TAB-UI'!$L$11:$L$109,'TAB-UI'!$D$11:$D$109,B28),0)","v":0},{"$f":"IF(B28<>\"\",SUMIFS('TAB-UI'!$M$11:$M$109,'TAB-UI'!$D$11:$D$109,B28),0)","v":0},{"$f":"IF(B28<>\"\",SUMIFS('TAB-UI'!$N$11:$N$109,'TAB-UI'!$D$11:$D$109,B28),0)","v":0},{"$f":"IF(B28<>\"\",SUMIFS('TAB-UI'!$O$11:$O$109,'TAB-UI'!$D$11:$D$109,B28),0)","v":0}]
[19,{"$f":"CONDOMINI!B29","v":"C19"},"U19+U22",{"$f":"IF(C29<>\"\",IFERROR(VLOOKUP(B29,CONDOMINI!$B$11:$C$109,2,FALSE),\"\"),\"\")","v":"CONDOMINO19"},{"$f":"IF(B29<>\"\",SUMIFS('TAB-UI'!$F$11:$F$109,'TAB-UI'!$D$11:$D$109,B29),0)","v":86.543999999999997},{"$f":"IF(B29<>\"\",SUMIFS('TAB-UI'!$G$11:$G$109,'TAB-UI'!$D$11:$D$109,B29),0)","v":112.032},{"$f":"IF(B29<>\"\",SUMIFS('TAB-UI'!$H$11:$H$109,'TAB-UI'!$D$11:$D$109,B29),0)","v":0},{"$f":"IF(B29<>\"\",SUMIFS('TAB-UI'!$I$11:$I$109,'TAB-UI'!$D$11:$D$109,B29),0)","v":0},{"$f":"IF(B29<>\"\",SUMIFS('TAB-UI'!$J$11:$J$109,'TAB-UI'!$D$11:$D$109,B29),0)","v":0},{"$f":"IF(B29<>\"\",SUMIFS('TAB-UI'!$K$11:$K$109,'TAB-UI'!$D$11:$D$109,B29),0)","v":0},{"$f":"IF(B29<>\"\",SUMIFS('TAB-UI'!$L$11:$L$109,'TAB-UI'!$D$11:$D$109,B29),0)","v":0},{"$f":"IF(B29<>\"\",SUMIFS('TAB-UI'!$M$11:$M$109,'TAB-UI'!$D$11:$D$109,B29),0)","v":0},{"$f":"IF(B29<>\"\",SUMIFS('TAB-UI'!$N$11:$N$109,'TAB-UI'!$D$11:$D$109,B29),0)","v":0},{"$f":"IF(B29<>\"\",SUMIFS('TAB-UI'!$O$11:$O$109,'TAB-UI'!$D$11:$D$109,B29),0)","v":0}]
[20,{"$f":"CONDOMINI!B30","v":"C20"},null,{"$f":"IF(C30<>\"\",IFERROR(VLOOKUP(B30,CONDOMINI!$B$11:$C$109,2,FALSE),\"\"),\"\")","v":""},{"$f":"IF(B30<>\"\",SUMIFS('TAB-UI'!$F$11:$F$109,'TAB-UI'!$D$11:$D$109,B30),0)","v":0},{"$f":"IF(B30<>\"\",SUMIFS('TAB-UI'!$G$11:$G$109,'TAB-UI'!$D$11:$D$109,B30),0)","v":0},{"$f":"IF(B30<>\"\",SUMIFS('TAB-UI'!$H$11:$H$109,'TAB-UI'!$D$11:$D$109,B30),0)","v":0},{"$f":"IF(B30<>\"\",SUMIFS('TAB-UI'!$I$11:$I$109,'TAB-UI'!$D$11:$D$109,B30),0)","v":0},{"$f":"IF(B30<>\"\",SUMIFS('TAB-UI'!$J$11:$J$109,'TAB-UI'!$D$11:$D$109,B30),0)","v":0},{"$f":"IF(B30<>\"\",SUMIFS('TAB-UI'!$K$11:$K$109,'TAB-UI'!$D$11:$D$109,B30),0)","v":0},{"$f":"IF(B30<>\"\",SUMIFS('TAB-UI'!$L$11:$L$109,'TAB-UI'!$D$11:$D$109,B30),0)","v":0},{"$f":"IF(B30<>\"\",SUMIFS('TAB-UI'!$M$11:$M$109,'TAB-UI'!$D$11:$D$109,B30),0)","v":0},{"$f":"IF(B30<>\"\",SUMIFS('TAB-UI'!$N$11:$N$109,'TAB-UI'!$D$11:$D$109,B30),0)","v":0},{"$f":"IF(B30<>\"\",SUMIFS('TAB-UI'!$O$11:$O$109,'TAB-UI'!$D$11:$D$109,B30),0)","v":0}]
[21,{"$f":"CONDOMINI!B31","v":"C21"},null,{"$f":"IF(C31<>\"\",IFERROR(VLOOKUP(B31,CONDOMINI!$B$11:$C$109,2,FALSE),\"\"),\"\")","v":""},{"$f":"IF(B31<>\"\",SUMIFS('TAB-UI'!$F$11:$F$109,'TAB-UI'!$D$11:$D$109,B31),0)","v":0},{"$f":"IF(B31<>\"\",SUMIFS('TAB-UI'!$G$11:$G$109,'TAB-UI'!$D$11:$D$109,B31),0)","v":0},{"$f":"IF(B31<>\"\",SUMIFS('TAB-UI'!$H$11:$H$109,'TAB-UI'!$D$11:$D$109,B31),0)","v":0},{"$f":"IF(B31<>\"\",SUMIFS('TAB-UI'!$I$11:$I$109,'TAB-UI'!$D$11:$D$109,B31),0)","v":0},{"$f":"IF(B31<>\"\",SUMIFS('TAB-UI'!$J$11:$J$109,'TAB-UI'!$D$11:$D$109,B31),0)","v":0},{"$f":"IF(B31<>\"\",SUMIFS('TAB-UI'!$K$11:$K$109,'TAB-UI'!$D$11:$D$109,B31),0)","v":0},{"$f":"IF(B31<>\"\",SUMIFS('TAB-UI'!$L$11:$L$109,'TAB-UI'!$D$11:$D$109,B31),0)","v":0},{"$f":"IF(B31<>\"\",SUMIFS('TAB-UI'!$M$11:$M$109,'TAB-UI'!$D$11:$D$109,B31),0)","v":0},{"$f":"IF(B31<>\"\",SUMIFS('TAB-UI'!$N$11:$N$109,'TAB-UI'!$D$11:$D$109,B31),0)","v":0},{"$f":"IF(B31<>\"\",SUMIFS('TAB-UI'!$O$11:$O$109,'TAB-UI'!$D$11:$D$109,B31),0)","v":0}]
[22,{"$f":"CONDOMINI!B32","v":"C22"},null,{"$f":"IF(C32<>\"\",IFERROR(VLOOKUP(B32,CONDOMINI!$B$11:$C$109,2,FALSE),\"\"),\"\")","v":""},{"$f":"IF(B32<>\"\",SUMIFS('TAB-UI'!$F$11:$F$109,'TAB-UI'!$D$11:$D$109,B32),0)","v":0},{"$f":"IF(B32<>\"\",SUMIFS('TAB-UI'!$G$11:$G$109,'TAB-UI'!$D$11:$D$109,B32),0)","v":0},{"$f":"IF(B32<>\"\",SUMIFS('TAB-UI'!$H$11:$H$109,'TAB-UI'!$D$11:$D$109,B32),0)","v":0},{"$f":"IF(B32<>\"\",SUMIFS('TAB-UI'!$I$11:$I$109,'TAB-UI'!$D$11:$D$109,B32),0)","v":0},{"$f":"IF(B32<>\"\",SUMIFS('TAB-UI'!$J$11:$J$109,'TAB-UI'!$D$11:$D$109,B32),0)","v":0},{"$f":"IF(B32<>\"\",SUMIFS('TAB-UI'!$K$11:$K$109,'TAB-UI'!$D$11:$D$109,B32),0)","v":0},{"$f":"IF(B32<>\"\",SUMIFS('TAB-UI'!$L$11:$L$109,'TAB-UI'!$D$11:$D$109,B32),0)","v":0},{"$f":"IF(B32<>\"\",SUMIFS('TAB-UI'!$M$11:$M$109,'TAB-UI'!$D$11:$D$109,B32),0)","v":0},{"$f":"IF(B32<>\"\",SUMIFS('TAB-UI'!$N$11:$N$109,'TAB-UI'!$D$11:$D$109,B32),0)","v":0},{"$f":"IF(B32<>\"\",SUMIFS('TAB-UI'!$O$11:$O$109,'TAB-UI'!$D$11:$D$109,B32),0)","v":0}]
[23,{"$f":"CONDOMINI!B33","v":"C23"},null,{"$f":"IF(C33<>\"\",IFERROR(VLOOKUP(B33,CONDOMINI!$B$11:$C$109,2,FALSE),\"\"),\"\")","v":""},{"$f":"IF(B33<>\"\",SUMIFS('TAB-UI'!$F$11:$F$109,'TAB-UI'!$D$11:$D$109,B33),0)","v":0},{"$f":"IF(B33<>\"\",SUMIFS('TAB-UI'!$G$11:$G$109,'TAB-UI'!$D$11:$D$109,B33),0)","v":0},{"$f":"IF(B33<>\"\",SUMIFS('TAB-UI'!$H$11:$H$109,'TAB-UI'!$D$11:$D$109,B33),0)","v":0},{"$f":"IF(B33<>\"\",SUMIFS('TAB-UI'!$I$11:$I$109,'TAB-UI'!$D$11:$D$109,B33),0)","v":0},{"$f":"IF(B33<>\"\",SUMIFS('TAB-UI'!$J$11:$J$109,'TAB-UI'!$D$11:$D$109,B33),0)","v":0},{"$f":"IF(B33<>\"\",SUMIFS('TAB-UI'!$K$11:$K$109,'TAB-UI'!$D$11:$D$109,B33),0)","v":0},{"$f":"IF(B33<>\"\",SUMIFS('TAB-UI'!$L$11:$L$109,'TAB-UI'!$D$11:$D$109,B33),0)","v":0},{"$f":"IF(B33<>\"\",SUMIFS('TAB-UI'!$M$11:$M$109,'TAB-UI'!$D$11:$D$109,B33),0)","v":0},{"$f":"IF(B33<>\"\",SUMIFS('TAB-UI'!$N$11:$N$109,'TAB-UI'!$D$11:$D$109,B33),0)","v":0},{"$f":"IF(B33<>\"\",SUMIFS('TAB-UI'!$O$11:$O$109,'TAB-UI'!$D$11:$D$109,B33),0)","v":0}]
[24,{"$f":"CONDOMINI!B34","v":"C24"},null,{"$f":"IF(C34<>\"\",IFERROR(VLOOKUP(B34,CONDOMINI!$B$11:$C$109,2,FALSE),\"\"),\"\")","v":""},{"$f":"IF(B34<>\"\",SUMIFS('TAB-UI'!$F$11:$F$109,'TAB-UI'!$D$11:$D$109,B34),0)","v":0},{"$f":"IF(B34<>\"\",SUMIFS('TAB-UI'!$G$11:$G$109,'TAB-UI'!$D$11:$D$109,B34),0)","v":0},{"$f":"IF(B34<>\"\",SUMIFS('TAB-UI'!$H$11:$H$109,'TAB-UI'!$D$11:$D$109,B34),0)","v":0},{"$f":"IF(B34<>\"\",SUMIFS('TAB-UI'!$I$11:$I$109,'TAB-UI'!$D$11:$D$109,B34),0)","v":0},{"$f":"IF(B34<>\"\",SUMIFS('TAB-UI'!$J$11:$J$109,'TAB-UI'!$D$11:$D$109,B34),0)","v":0},{"$f":"IF(B34<>\"\",SUMIFS('TAB-UI'!$K$11:$K$109,'TAB-UI'!$D$11:$D$109,B34),0)","v":0},{"$f":"IF(B34<>\"\",SUMIFS('TAB-UI'!$L$11:$L$109,'TAB-UI'!$D$11:$D$109,B34),0)","v":0},{"$f":"IF(B34<>\"\",SUMIFS('TAB-UI'!$M$11:$M$109,'TAB-UI'!$D$11:$D$109,B34),0)","v":0},{"$f":"IF(B34<>\"\",SUMIFS('TAB-UI'!$N$11:$N$109,'TAB-UI'!$D$11:$D$109,B34),0)","v":0},{"$f":"IF(B34<>\"\",SUMIFS('TAB-UI'!$O$11:$O$109,'TAB-UI'!$D$11:$D$109,B34),0)","v":0}]
[25,{"$f":"CONDOMINI!B35","v":"C25"},null,{"$f":"IF(C35<>\"\",IFERROR(VLOOKUP(B35,CONDOMINI!$B$11:$C$109,2,FALSE),\"\"),\"\")","v":""},{"$f":"IF(B35<>\"\",SUMIFS('TAB-UI'!$F$11:$F$109,'TAB-UI'!$D$11:$D$109,B35),0)","v":0},{"$f":"IF(B35<>\"\",SUMIFS('TAB-UI'!$G$11:$G$109,'TAB-UI'!$D$11:$D$109,B35),0)","v":0},{"$f":"IF(B35<>\"\",SUMIFS('TAB-UI'!$H$11:$H$109,'TAB-UI'!$D$11:$D$109,B35),0)","v":0},{"$f":"IF(B35<>\"\",SUMIFS('TAB-UI'!$I$11:$I$109,'TAB-UI'!$D$11:$D$109,B35),0)","v":0},{"$f":"IF(B35<>\"\",SUMIFS('TAB-UI'!$J$11:$J$109,'TAB-UI'!$D$11:$D$109,B35),0)","v":0},{"$f":"IF(B35<>\"\",SUMIFS('TAB-UI'!$K$11:$K$109,'TAB-UI'!$D$11:$D$109,B35),0)","v":0},{"$f":"IF(B35<>\"\",SUMIFS('TAB-UI'!$L$11:$L$109,'TAB-UI'!$D$11:$D$109,B35),0)","v":0},{"$f":"IF(B35<>\"\",SUMIFS('TAB-UI'!$M$11:$M$109,'TAB-UI'!$D$11:$D$109,B35),0)","v":0},{"$f":"IF(B35<>\"\",SUMIFS('TAB-UI'!$N$11:$N$109,'TAB-UI'!$D$11:$D$109,B35),0)","v":0},{"$f":"IF(B35<>\"\",SUMIFS('TAB-UI'!$O$11:$O$109,'TAB-UI'!$D$11:$D$109,B35),0)","v":0}]
[26,{"$f":"CONDOMINI!B36","v":"C26"},null,{"$f":"IF(C36<>\"\",IFERROR(VLOOKUP(B36,CONDOMINI!$B$11:$C$109,2,FALSE),\"\"),\"\")","v":""},{"$f":"IF(B36<>\"\",SUMIFS('TAB-UI'!$F$11:$F$109,'TAB-UI'!$D$11:$D$109,B36),0)","v":0},{"$f":"IF(B36<>\"\",SUMIFS('TAB-UI'!$G$11:$G$109,'TAB-UI'!$D$11:$D$109,B36),0)","v":0},{"$f":"IF(B36<>\"\",SUMIFS('TAB-UI'!$H$11:$H$109,'TAB-UI'!$D$11:$D$109,B36),0)","v":0},{"$f":"IF(B36<>\"\",SUMIFS('TAB-UI'!$I$11:$I$109,'TAB-UI'!$D$11:$D$109,B36),0)","v":0},{"$f":"IF(B36<>\"\",SUMIFS('TAB-UI'!$J$11:$J$109,'TAB-UI'!$D$11:$D$109,B36),0)","v":0},{"$f":"IF(B36<>\"\",SUMIFS('TAB-UI'!$K$11:$K$109,'TAB-UI'!$D$11:$D$109,B36),0)","v":0},{"$f":"IF(B36<>\"\",SUMIFS('TAB-UI'!$L$11:$L$109,'TAB-UI'!$D$11:$D$109,B36),0)","v":0},{"$f":"IF(B36<>\"\",SUMIFS('TAB-UI'!$M$11:$M$109,'TAB-UI'!$D$11:$D$109,B36),0)","v":0},{"$f":"IF(B36<>\"\",SUMIFS('TAB-UI'!$N$11:$N$109,'TAB-UI'!$D$11:$D$109,B36),0)","v":0},{"$f":"IF(B36<>\"\",SUMIFS('TAB-UI'!$O$11:$O$109,'TAB-UI'!$D$11:$D$109,B36),0)","v":0}]
[27,{"$f":"CONDOMINI!B37","v":"C27"},null,{"$f":"IF(C37<>\"\",IFERROR(VLOOKUP(B37,CONDOMINI!$B$11:$C$109,2,FALSE),\"\"),\"\")","v":""},{"$f":"IF(B37<>\"\",SUMIFS('TAB-UI'!$F$11:$F$109,'TAB-UI'!$D$11:$D$109,B37),0)","v":0},{"$f":"IF(B37<>\"\",SUMIFS('TAB-UI'!$G$11:$G$109,'TAB-UI'!$D$11:$D$109,B37),0)","v":0},{"$f":"IF(B37<>\"\",SUMIFS('TAB-UI'!$H$11:$H$109,'TAB-UI'!$D$11:$D$109,B37),0)","v":0},{"$f":"IF(B37<>\"\",SUMIFS('TAB-UI'!$I$11:$I$109,'TAB-UI'!$D$11:$D$109,B37),0)","v":0},{"$f":"IF(B37<>\"\",SUMIFS('TAB-UI'!$J$11:$J$109,'TAB-UI'!$D$11:$D$109,B37),0)","v":0},{"$f":"IF(B37<>\"\",SUMIFS('TAB-UI'!$K$11:$K$109,'TAB-UI'!$D$11:$D$109,B37),0)","v":0},{"$f":"IF(B37<>\"\",SUMIFS('TAB-UI'!$L$11:$L$109,'TAB-UI'!$D$11:$D$109,B37),0)","v":0},{"$f":"IF(B37<>\"\",SUMIFS('TAB-UI'!$M$11:$M$109,'TAB-UI'!$D$11:$D$109,B37),0)","v":0},{"$f":"IF(B37<>\"\",SUMIFS('TAB-UI'!$N$11:$N$109,'TAB-UI'!$D$11:$D$109,B37),0)","v":0},{"$f":"IF(B37<>\"\",SUMIFS('TAB-UI'!$O$11:$O$109,'TAB-UI'!$D$11:$D$109,B37),0)","v":0}]
[28,{"$f":"CONDOMINI!B38","v":"C28"},null,{"$f":"IF(C38<>\"\",IFERROR(VLOOKUP(B38,CONDOMINI!$B$11:$C$109,2,FALSE),\"\"),\"\")","v":""},{"$f":"IF(B38<>\"\",SUMIFS('TAB-UI'!$F$11:$F$109,'TAB-UI'!$D$11:$D$109,B38),0)","v":0},{"$f":"IF(B38<>\"\",SUMIFS('TAB-UI'!$G$11:$G$109,'TAB-UI'!$D$11:$D$109,B38),0)","v":0},{"$f":"IF(B38<>\"\",SUMIFS('TAB-UI'!$H$11:$H$109,'TAB-UI'!$D$11:$D$109,B38),0)","v":0},{"$f":"IF(B38<>\"\",SUMIFS('TAB-UI'!$I$11:$I$109,'TAB-UI'!$D$11:$D$109,B38),0)","v":0},{"$f":"IF(B38<>\"\",SUMIFS('TAB-UI'!$J$11:$J$109,'TAB-UI'!$D$11:$D$109,B38),0)","v":0},{"$f":"IF(B38<>\"\",SUMIFS('TAB-UI'!$K$11:$K$109,'TAB-UI'!$D$11:$D$109,B38),0)","v":0},{"$f":"IF(B38<>\"\",SUMIFS('TAB-UI'!$L$11:$L$109,'TAB-UI'!$D$11:$D$109,B38),0)","v":0},{"$f":"IF(B38<>\"\",SUMIFS('TAB-UI'!$M$11:$M$109,'TAB-UI'!$D$11:$D$109,B38),0)","v":0},{"$f":"IF(B38<>\"\",SUMIFS('TAB-UI'!$N$11:$N$109,'TAB-UI'!$D$11:$D$109,B38),0)","v":0},{"$f":"IF(B38<>\"\",SUMIFS('TAB-UI'!$O$11:$O$109,'TAB-UI'!$D$11:$D$109,B38),0)","v":0}]
[29,{"$f":"CONDOMINI!B39","v":"C29"},null,{"$f":"IF(C39<>\"\",IFERROR(VLOOKUP(B39,CONDOMINI!$B$11:$C$109,2,FALSE),\"\"),\"\")","v":""},{"$f":"IF(B39<>\"\",SUMIFS('TAB-UI'!$F$11:$F$109,'TAB-UI'!$D$11:$D$109,B39),0)","v":0},{"$f":"IF(B39<>\"\",SUMIFS('TAB-UI'!$G$11:$G$109,'TAB-UI'!$D$11:$D$109,B39),0)","v":0},{"$f":"IF(B39<>\"\",SUMIFS('TAB-UI'!$H$11:$H$109,'TAB-UI'!$D$11:$D$109,B39),0)","v":0},{"$f":"IF(B39<>\"\",SUMIFS('TAB-UI'!$I$11:$I$109,'TAB-UI'!$D$11:$D$109,B39),0)","v":0},{"$f":"IF(B39<>\"\",SUMIFS('TAB-UI'!$J$11:$J$109,'TAB-UI'!$D$11:$D$109,B39),0)","v":0},{"$f":"IF(B39<>\"\",SUMIFS('TAB-UI'!$K$11:$K$109,'TAB-UI'!$D$11:$D$109,B39),0)","v":0},{"$f":"IF(B39<>\"\",SUMIFS('TAB-UI'!$L$11:$L$109,'TAB-UI'!$D$11:$D$109,B39),0)","v":0},{"$f":"IF(B39<>\"\",SUMIFS('TAB-UI'!$M$11:$M$109,'TAB-UI'!$D$11:$D$109,B39),0)","v":0},{"$f":"IF(B39<>\"\",SUMIFS('TAB-UI'!$N$11:$N$109,'TAB-UI'!$D$11:$D$109,B39),0)","v":0},{"$f":"IF(B39<>\"\",SUMIFS('TAB-UI'!$O$11:$O$109,'TAB-UI'!$D$11:$D$109,B39),0)","v":0}]
[30,{"$f":"CONDOMINI!B40","v":"C30"},null,{"$f":"IF(C40<>\"\",IFERROR(VLOOKUP(B40,CONDOMINI!$B$11:$C$109,2,FALSE),\"\"),\"\")","v":""},{"$f":"IF(B40<>\"\",SUMIFS('TAB-UI'!$F$11:$F$109,'TAB-UI'!$D$11:$D$109,B40),0)","v":0},{"$f":"IF(B40<>\"\",SUMIFS('TAB-UI'!$G$11:$G$109,'TAB-UI'!$D$11:$D$109,B40),0)","v":0},{"$f":"IF(B40<>\"\",SUMIFS('TAB-UI'!$H$11:$H$109,'TAB-UI'!$D$11:$D$109,B40),0)","v":0},{"$f":"IF(B40<>\"\",SUMIFS('TAB-UI'!$I$11:$I$109,'TAB-UI'!$D$11:$D$109,B40),0)","v":0},{"$f":"IF(B40<>\"\",SUMIFS('TAB-UI'!$J$11:$J$109,'TAB-UI'!$D$11:$D$109,B40),0)","v":0},{"$f":"IF(B40<>\"\",SUMIFS('TAB-UI'!$K$11:$K$109,'TAB-UI'!$D$11:$D$109,B40),0)","v":0},{"$f":"IF(B40<>\"\",SUMIFS('TAB-UI'!$L$11:$L$109,'TAB-UI'!$D$11:$D$109,B40),0)","v":0},{"$f":"IF(B40<>\"\",SUMIFS('TAB-UI'!$M$11:$M$109,'TAB-UI'!$D$11:$D$109,B40),0)","v":0},{"$f":"IF(B40<>\"\",SUMIFS('TAB-UI'!$N$11:$N$109,'TAB-UI'!$D$11:$D$109,B40),0)","v":0},{"$f":"IF(B40<>\"\",SUMIFS('TAB-UI'!$O$11:$O$109,'TAB-UI'!$D$11:$D$109,B40),0)","v":0}]
[31,{"$f":"CONDOMINI!B41","v":"C31"},null,{"$f":"IF(C41<>\"\",IFERROR(VLOOKUP(B41,CONDOMINI!$B$11:$C$109,2,FALSE),\"\"),\"\")","v":""},{"$f":"IF(B41<>\"\",SUMIFS('TAB-UI'!$F$11:$F$109,'TAB-UI'!$D$11:$D$109,B41),0)","v":0},{"$f":"IF(B41<>\"\",SUMIFS('TAB-UI'!$G$11:$G$109,'TAB-UI'!$D$11:$D$109,B41),0)","v":0},{"$f":"IF(B41<>\"\",SUMIFS('TAB-UI'!$H$11:$H$109,'TAB-UI'!$D$11:$D$109,B41),0)","v":0},{"$f":"IF(B41<>\"\",SUMIFS('TAB-UI'!$I$11:$I$109,'TAB-UI'!$D$11:$D$109,B41),0)","v":0},{"$f":"IF(B41<>\"\",SUMIFS('TAB-UI'!$J$11:$J$109,'TAB-UI'!$D$11:$D$109,B41),0)","v":0},{"$f":"IF(B41<>\"\",SUMIFS('TAB-UI'!$K$11:$K$109,'TAB-UI'!$D$11:$D$109,B41),0)","v":0},{"$f":"IF(B41<>\"\",SUMIFS('TAB-UI'!$L$11:$L$109,'TAB-UI'!$D$11:$D$109,B41),0)","v":0},{"$f":"IF(B41<>\"\",SUMIFS('TAB-UI'!$M$11:$M$109,'TAB-UI'!$D$11:$D$109,B41),0)","v":0},{"$f":"IF(B41<>\"\",SUMIFS('TAB-UI'!$N$11:$N$109,'TAB-UI'!$D$11:$D$109,B41),0)","v":0},{"$f":"IF(B41<>\"\",SUMIFS('TAB-UI'!$O$11:$O$109,'TAB-UI'!$D$11:$D$109,B41),0)","v":0}]
[32,{"$f":"CONDOMINI!B42","v":"C32"},null,{"$f":"IF(C42<>\"\",IFERROR(VLOOKUP(B42,CONDOMINI!$B$11:$C$109,2,FALSE),\"\"),\"\")","v":""},{"$f":"IF(B42<>\"\",SUMIFS('TAB-UI'!$F$11:$F$109,'TAB-UI'!$D$11:$D$109,B42),0)","v":0},{"$f":"IF(B42<>\"\",SUMIFS('TAB-UI'!$G$11:$G$109,'TAB-UI'!$D$11:$D$109,B42),0)","v":0},{"$f":"IF(B42<>\"\",SUMIFS('TAB-UI'!$H$11:$H$109,'TAB-UI'!$D$11:$D$109,B42),0)","v":0},{"$f":"IF(B42<>\"\",SUMIFS('TAB-UI'!$I$11:$I$109,'TAB-UI'!$D$11:$D$109,B42),0)","v":0},{"$f":"IF(B42<>\"\",SUMIFS('TAB-UI'!$J$11:$J$109,'TAB-UI'!$D$11:$D$109,B42),0)","v":0},{"$f":"IF(B42<>\"\",SUMIFS('TAB-UI'!$K$11:$K$109,'TAB-UI'!$D$11:$D$109,B42),0)","v":0},{"$f":"IF(B42<>\"\",SUMIFS('TAB-UI'!$L$11:$L$109,'TAB-UI'!$D$11:$D$109,B42),0)","v":0},{"$f":"IF(B42<>\"\",SUMIFS('TAB-UI'!$M$11:$M$109,'TAB-UI'!$D$11:$D$109,B42),0)","v":0},{"$f":"IF(B42<>\"\",SUMIFS('TAB-UI'!$N$11:$N$109,'TAB-UI'!$D$11:$D$109,B42),0)","v":0},{"$f":"IF(B42<>\"\",SUMIFS('TAB-UI'!$O$11:$O$109,'TAB-UI'!$D$11:$D$109,B42),0)","v":0}]
[33,{"$f":"CONDOMINI!B43","v":"C33"},null,{"$f":"IF(C43<>\"\",IFERROR(VLOOKUP(B43,CONDOMINI!$B$11:$C$109,2,FALSE),\"\"),\"\")","v":""},{"$f":"IF(B43<>\"\",SUMIFS('TAB-UI'!$F$11:$F$109,'TAB-UI'!$D$11:$D$109,B43),0)","v":0},{"$f":"IF(B43<>\"\",SUMIFS('TAB-UI'!$G$11:$G$109,'TAB-UI'!$D$11:$D$109,B43),0)","v":0},{"$f":"IF(B43<>\"\",SUMIFS('TAB-UI'!$H$11:$H$109,'TAB-UI'!$D$11:$D$109,B43),0)","v":0},{"$f":"IF(B43<>\"\",SUMIFS('TAB-UI'!$I$11:$I$109,'TAB-UI'!$D$11:$D$109,B43),0)","v":0},{"$f":"IF(B43<>\"\",SUMIFS('TAB-UI'!$J$11:$J$109,'TAB-UI'!$D$11:$D$109,B43),0)","v":0},{"$f":"IF(B43<>\"\",SUMIFS('TAB-UI'!$K$11:$K$109,'TAB-UI'!$D$11:$D$109,B43),0)","v":0},{"$f":"IF(B43<>\"\",SUMIFS('TAB-UI'!$L$11:$L$109,'TAB-UI'!$D$11:$D$109,B43),0)","v":0},{"$f":"IF(B43<>\"\",SUMIFS('TAB-UI'!$M$11:$M$109,'TAB-UI'!$D$11:$D$109,B43),0)","v":0},{"$f":"IF(B43<>\"\",SUMIFS('TAB-UI'!$N$11:$N$109,'TAB-UI'!$D$11:$D$109,B43),0)","v":0},{"$f":"IF(B43<>\"\",SUMIFS('TAB-UI'!$O$11:$O$109,'TAB-UI'!$D$11:$D$109,B43),0)","v":0}]
[34,{"$f":"CONDOMINI!B44","v":"C34"},null,{"$f":"IF(C44<>\"\",IFERROR(VLOOKUP(B44,CONDOMINI!$B$11:$C$109,2,FALSE),\"\"),\"\")","v":""},{"$f":"IF(B44<>\"\",SUMIFS('TAB-UI'!$F$11:$F$109,'TAB-UI'!$D$11:$D$109,B44),0)","v":0},{"$f":"IF(B44<>\"\",SUMIFS('TAB-UI'!$G$11:$G$109,'TAB-UI'!$D$11:$D$109,B44),0)","v":0},{"$f":"IF(B44<>\"\",SUMIFS('TAB-UI'!$H$11:$H$109,'TAB-UI'!$D$11:$D$109,B44),0)","v":0},{"$f":"IF(B44<>\"\",SUMIFS('TAB-UI'!$I$11:$I$109,'TAB-UI'!$D$11:$D$109,B44),0)","v":0},{"$f":"IF(B44<>\"\",SUMIFS('TAB-UI'!$J$11:$J$109,'TAB-UI'!$D$11:$D$109,B44),0)","v":0},{"$f":"IF(B44<>\"\",SUMIFS('TAB-UI'!$K$11:$K$109,'TAB-UI'!$D$11:$D$109,B44),0)","v":0},{"$f":"IF(B44<>\"\",SUMIFS('TAB-UI'!$L$11:$L$109,'TAB-UI'!$D$11:$D$109,B44),0)","v":0},{"$f":"IF(B44<>\"\",SUMIFS('TAB-UI'!$M$11:$M$109,'TAB-UI'!$D$11:$D$109,B44),0)","v":0},{"$f":"IF(B44<>\"\",SUMIFS('TAB-UI'!$N$11:$N$109,'TAB-UI'!$D$11:$D$109,B44),0)","v":0},{"$f":"IF(B44<>\"\",SUMIFS('TAB-UI'!$O$11:$O$109,'TAB-UI'!$D$11:$D$109,B44),0)","v":0}]
[35,{"$f":"CONDOMINI!B45","v":"C35"},null,{"$f":"IF(C45<>\"\",IFERROR(VLOOKUP(B45,CONDOMINI!$B$11:$C$109,2,FALSE),\"\"),\"\")","v":""},{"$f":"IF(B45<>\"\",SUMIFS('TAB-UI'!$F$11:$F$109,'TAB-UI'!$D$11:$D$109,B45),0)","v":0},{"$f":"IF(B45<>\"\",SUMIFS('TAB-UI'!$G$11:$G$109,'TAB-UI'!$D$11:$D$109,B45),0)","v":0},{"$f":"IF(B45<>\"\",SUMIFS('TAB-UI'!$H$11:$H$109,'TAB-UI'!$D$11:$D$109,B45),0)","v":0},{"$f":"IF(B45<>\"\",SUMIFS('TAB-UI'!$I$11:$I$109,'TAB-UI'!$D$11:$D$109,B45),0)","v":0},{"$f":"IF(B45<>\"\",SUMIFS('TAB-UI'!$J$11:$J$109,'TAB-UI'!$D$11:$D$109,B45),0)","v":0},{"$f":"IF(B45<>\"\",SUMIFS('TAB-UI'!$K$11:$K$109,'TAB-UI'!$D$11:$D$109,B45),0)","v":0},{"$f":"IF(B45<>\"\",SUMIFS('TAB-UI'!$L$11:$L$109,'TAB-UI'!$D$11:$D$109,B45),0)","v":0},{"$f":"IF(B45<>\"\",SUMIFS('TAB-UI'!$M$11:$M$109,'TAB-UI'!$D$11:$D$109,B45),0)","v":0},{"$f":"IF(B45<>\"\",SUMIFS('TAB-UI'!$N$11:$N$109,'TAB-UI'!$D$11:$D$109,B45),0)","v":0},{"$f":"IF(B45<>\"\",SUMIFS('TAB-UI'!$O$11:$O$109,'TAB-UI'!$D$11:$D$109,B45),0)","v":0}]
[36,{"$f":"CONDOMINI!B46","v":"C36"},null,{"$f":"IF(C46<>\"\",IFERROR(VLOOKUP(B46,CONDOMINI!$B$11:$C$109,2,FALSE),\"\"),\"\")","v":""},{"$f":"IF(B46<>\"\",SUMIFS('TAB-UI'!$F$11:$F$109,'TAB-UI'!$D$11:$D$109,B46),0)","v":0},{"$f":"IF(B46<>\"\",SUMIFS('TAB-UI'!$G$11:$G$109,'TAB-UI'!$D$11:$D$109,B46),0)","v":0},{"$f":"IF(B46<>\"\",SUMIFS('TAB-UI'!$H$11:$H$109,'TAB-UI'!$D$11:$D$109,B46),0)","v":0},{"$f":"IF(B46<>\"\",SUMIFS('TAB-UI'!$I$11:$I$109,'TAB-UI'!$D$11:$D$109,B46),0)","v":0},{"$f":"IF(B46<>\"\",SUMIFS('TAB-UI'!$J$11:$J$109,'TAB-UI'!$D$11:$D$109,B46),0)","v":0},{"$f":"IF(B46<>\"\",SUMIFS('TAB-UI'!$K$11:$K$109,'TAB-UI'!$D$11:$D$109,B46),0)","v":0},{"$f":"IF(B46<>\"\",SUMIFS('TAB-UI'!$L$11:$L$109,'TAB-UI'!$D$11:$D$109,B46),0)","v":0},{"$f":"IF(B46<>\"\",SUMIFS('TAB-UI'!$M$11:$M$109,'TAB-UI'!$D$11:$D$109,B46),0)","v":0},{"$f":"IF(B46<>\"\",SUMIFS('TAB-UI'!$N$11:$N$109,'TAB-UI'!$D$11:$D$109,B46),0)","v":0},{"$f":"IF(B46<>\"\",SUMIFS('TAB-UI'!$O$11:$O$109,'TAB-UI'!$D$11:$D$109,B46),0)","v":0}]
[37,{"$f":"CONDOMINI!B47","v":"C37"},null,{"$f":"IF(C47<>\"\",IFERROR(VLOOKUP(B47,CONDOMINI!$B$11:$C$109,2,FALSE),\"\"),\"\")","v":""},{"$f":"IF(B47<>\"\",SUMIFS('TAB-UI'!$F$11:$F$109,'TAB-UI'!$D$11:$D$109,B47),0)","v":0},{"$f":"IF(B47<>\"\",SUMIFS('TAB-UI'!$G$11:$G$109,'TAB-UI'!$D$11:$D$109,B47),0)","v":0},{"$f":"IF(B47<>\"\",SUMIFS('TAB-UI'!$H$11:$H$109,'TAB-UI'!$D$11:$D$109,B47),0)","v":0},{"$f":"IF(B47<>\"\",SUMIFS('TAB-UI'!$I$11:$I$109,'TAB-UI'!$D$11:$D$109,B47),0)","v":0},{"$f":"IF(B47<>\"\",SUMIFS('TAB-UI'!$J$11:$J$109,'TAB-UI'!$D$11:$D$109,B47),0)","v":0},{"$f":"IF(B47<>\"\",SUMIFS('TAB-UI'!$K$11:$K$109,'TAB-UI'!$D$11:$D$109,B47),0)","v":0},{"$f":"IF(B47<>\"\",SUMIFS('TAB-UI'!$L$11:$L$109,'TAB-UI'!$D$11:$D$109,B47),0)","v":0},{"$f":"IF(B47<>\"\",SUMIFS('TAB-UI'!$M$11:$M$109,'TAB-UI'!$D$11:$D$109,B47),0)","v":0},{"$f":"IF(B47<>\"\",SUMIFS('TAB-UI'!$N$11:$N$109,'TAB-UI'!$D$11:$D$109,B47),0)","v":0},{"$f":"IF(B47<>\"\",SUMIFS('TAB-UI'!$O$11:$O$109,'TAB-UI'!$D$11:$D$109,B47),0)","v":0}]
[38,{"$f":"CONDOMINI!B48","v":"C38"},null,{"$f":"IF(C48<>\"\",IFERROR(VLOOKUP(B48,CONDOMINI!$B$11:$C$109,2,FALSE),\"\"),\"\")","v":""},{"$f":"IF(B48<>\"\",SUMIFS('TAB-UI'!$F$11:$F$109,'TAB-UI'!$D$11:$D$109,B48),0)","v":0},{"$f":"IF(B48<>\"\",SUMIFS('TAB-UI'!$G$11:$G$109,'TAB-UI'!$D$11:$D$109,B48),0)","v":0},{"$f":"IF(B48<>\"\",SUMIFS('TAB-UI'!$H$11:$H$109,'TAB-UI'!$D$11:$D$109,B48),0)","v":0},{"$f":"IF(B48<>\"\",SUMIFS('TAB-UI'!$I$11:$I$109,'TAB-UI'!$D$11:$D$109,B48),0)","v":0},{"$f":"IF(B48<>\"\",SUMIFS('TAB-UI'!$J$11:$J$109,'TAB-UI'!$D$11:$D$109,B48),0)","v":0},{"$f":"IF(B48<>\"\",SUMIFS('TAB-UI'!$K$11:$K$109,'TAB-UI'!$D$11:$D$109,B48),0)","v":0},{"$f":"IF(B48<>\"\",SUMIFS('TAB-UI'!$L$11:$L$109,'TAB-UI'!$D$11:$D$109,B48),0)","v":0},{"$f":"IF(B48<>\"\",SUMIFS('TAB-UI'!$M$11:$M$109,'TAB-UI'!$D$11:$D$109,B48),0)","v":0},{"$f":"IF(B48<>\"\",SUMIFS('TAB-UI'!$N$11:$N$109,'TAB-UI'!$D$11:$D$109,B48),0)","v":0},{"$f":"IF(B48<>\"\",SUMIFS('TAB-UI'!$O$11:$O$109,'TAB-UI'!$D$11:$D$109,B48),0)","v":0}]
[39,{"$f":"CONDOMINI!B49","v":"C39"},null,{"$f":"IF(C49<>\"\",IFERROR(VLOOKUP(B49,CONDOMINI!$B$11:$C$109,2,FALSE),\"\"),\"\")","v":""},{"$f":"IF(B49<>\"\",SUMIFS('TAB-UI'!$F$11:$F$109,'TAB-UI'!$D$11:$D$109,B49),0)","v":0},{"$f":"IF(B49<>\"\",SUMIFS('TAB-UI'!$G$11:$G$109,'TAB-UI'!$D$11:$D$109,B49),0)","v":0},{"$f":"IF(B49<>\"\",SUMIFS('TAB-UI'!$H$11:$H$109,'TAB-UI'!$D$11:$D$109,B49),0)","v":0},{"$f":"IF(B49<>\"\",SUMIFS('TAB-UI'!$I$11:$I$109,'TAB-UI'!$D$11:$D$109,B49),0)","v":0},{"$f":"IF(B49<>\"\",SUMIFS('TAB-UI'!$J$11:$J$109,'TAB-UI'!$D$11:$D$109,B49),0)","v":0},{"$f":"IF(B49<>\"\",SUMIFS('TAB-UI'!$K$11:$K$109,'TAB-UI'!$D$11:$D$109,B49),0)","v":0},{"$f":"IF(B49<>\"\",SUMIFS('TAB-UI'!$L$11:$L$109,'TAB-UI'!$D$11:$D$109,B49),0)","v":0},{"$f":"IF(B49<>\"\",SUMIFS('TAB-UI'!$M$11:$M$109,'TAB-UI'!$D$11:$D$109,B49),0)","v":0},{"$f":"IF(B49<>\"\",SUMIFS('TAB-UI'!$N$11:$N$109,'TAB-UI'!$D$11:$D$109,B49),0)","v":0},{"$f":"IF(B49<>\"\",SUMIFS('TAB-UI'!$O$11:$O$109,'TAB-UI'!$D$11:$D$109,B49),0)","v":0}]
[40,{"$f":"CONDOMINI!B50","v":"C40"},null,{"$f":"IF(C50<>\"\",IFERROR(VLOOKUP(B50,CONDOMINI!$B$11:$C$109,2,FALSE),\"\"),\"\")","v":""},{"$f":"IF(B50<>\"\",SUMIFS('TAB-UI'!$F$11:$F$109,'TAB-UI'!$D$11:$D$109,B50),0)","v":0},{"$f":"IF(B50<>\"\",SUMIFS('TAB-UI'!$G$11:$G$109,'TAB-UI'!$D$11:$D$109,B50),0)","v":0},{"$f":"IF(B50<>\"\",SUMIFS('TAB-UI'!$H$11:$H$109,'TAB-UI'!$D$11:$D$109,B50),0)","v":0},{"$f":"IF(B50<>\"\",SUMIFS('TAB-UI'!$I$11:$I$109,'TAB-UI'!$D$11:$D$109,B50),0)","v":0},{"$f":"IF(B50<>\"\",SUMIFS('TAB-UI'!$J$11:$J$109,'TAB-UI'!$D$11:$D$109,B50),0)","v":0},{"$f":"IF(B50<>\"\",SUMIFS('TAB-UI'!$K$11:$K$109,'TAB-UI'!$D$11:$D$109,B50),0)","v":0},{"$f":"IF(B50<>\"\",SUMIFS('TAB-UI'!$L$11:$L$109,'TAB-UI'!$D$11:$D$109,B50),0)","v":0},{"$f":"IF(B50<>\"\",SUMIFS('TAB-UI'!$M$11:$M$109,'TAB-UI'!$D$11:$D$109,B50),0)","v":0},{"$f":"IF(B50<>\"\",SUMIFS('TAB-UI'!$N$11:$N$109,'TAB-UI'!$D$11:$D$109,B50),0)","v":0},{"$f":"IF(B50<>\"\",SUMIFS('TAB-UI'!$O$11:$O$109,'TAB-UI'!$D$11:$D$109,B50),0)","v":0}]
[41,{"$f":"CONDOMINI!B51","v":"C41"},null,{"$f":"IF(C51<>\"\",IFERROR(VLOOKUP(B51,CONDOMINI!$B$11:$C$109,2,FALSE),\"\"),\"\")","v":""},{"$f":"IF(B51<>\"\",SUMIFS('TAB-UI'!$F$11:$F$109,'TAB-UI'!$D$11:$D$109,B51),0)","v":0},{"$f":"IF(B51<>\"\",SUMIFS('TAB-UI'!$G$11:$G$109,'TAB-UI'!$D$11:$D$109,B51),0)","v":0},{"$f":"IF(B51<>\"\",SUMIFS('TAB-UI'!$H$11:$H$109,'TAB-UI'!$D$11:$D$109,B51),0)","v":0},{"$f":"IF(B51<>\"\",SUMIFS('TAB-UI'!$I$11:$I$109,'TAB-UI'!$D$11:$D$109,B51),0)","v":0},{"$f":"IF(B51<>\"\",SUMIFS('TAB-UI'!$J$11:$J$109,'TAB-UI'!$D$11:$D$109,B51),0)","v":0},{"$f":"IF(B51<>\"\",SUMIFS('TAB-UI'!$K$11:$K$109,'TAB-UI'!$D$11:$D$109,B51),0)","v":0},{"$f":"IF(B51<>\"\",SUMIFS('TAB-UI'!$L$11:$L$109,'TAB-UI'!$D$11:$D$109,B51),0)","v":0},{"$f":"IF(B51<>\"\",SUMIFS('TAB-UI'!$M$11:$M$109,'TAB-UI'!$D$11:$D$109,B51),0)","v":0},{"$f":"IF(B51<>\"\",SUMIFS('TAB-UI'!$N$11:$N$109,'TAB-UI'!$D$11:$D$109,B51),0)","v":0},{"$f":"IF(B51<>\"\",SUMIFS('TAB-UI'!$O$11:$O$109,'TAB-UI'!$D$11:$D$109,B51),0)","v":0}]
[42,{"$f":"CONDOMINI!B52","v":"C42"},null,{"$f":"IF(C52<>\"\",IFERROR(VLOOKUP(B52,CONDOMINI!$B$11:$C$109,2,FALSE),\"\"),\"\")","v":""},{"$f":"IF(B52<>\"\",SUMIFS('TAB-UI'!$F$11:$F$109,'TAB-UI'!$D$11:$D$109,B52),0)","v":0},{"$f":"IF(B52<>\"\",SUMIFS('TAB-UI'!$G$11:$G$109,'TAB-UI'!$D$11:$D$109,B52),0)","v":0},{"$f":"IF(B52<>\"\",SUMIFS('TAB-UI'!$H$11:$H$109,'TAB-UI'!$D$11:$D$109,B52),0)","v":0},{"$f":"IF(B52<>\"\",SUMIFS('TAB-UI'!$I$11:$I$109,'TAB-UI'!$D$11:$D$109,B52),0)","v":0},{"$f":"IF(B52<>\"\",SUMIFS('TAB-UI'!$J$11:$J$109,'TAB-UI'!$D$11:$D$109,B52),0)","v":0},{"$f":"IF(B52<>\"\",SUMIFS('TAB-UI'!$K$11:$K$109,'TAB-UI'!$D$11:$D$109,B52),0)","v":0},{"$f":"IF(B52<>\"\",SUMIFS('TAB-UI'!$L$11:$L$109,'TAB-UI'!$D$11:$D$109,B52),0)","v":0},{"$f":"IF(B52<>\"\",SUMIFS('TAB-UI'!$M$11:$M$109,'TAB-UI'!$D$11:$D$109,B52),0)","v":0},{"$f":"IF(B52<>\"\",SUMIFS('TAB-UI'!$N$11:$N$109,'TAB-UI'!$D$11:$D$109,B52),0)","v":0},{"$f":"IF(B52<>\"\",SUMIFS('TAB-UI'!$O$11:$O$109,'TAB-UI'!$D$11:$D$109,B52),0)","v":0}]
[43,{"$f":"CONDOMINI!B53","v":"C43"},null,{"$f":"IF(C53<>\"\",IFERROR(VLOOKUP(B53,CONDOMINI!$B$11:$C$109,2,FALSE),\"\"),\"\")","v":""},{"$f":"IF(B53<>\"\",SUMIFS('TAB-UI'!$F$11:$F$109,'TAB-UI'!$D$11:$D$109,B53),0)","v":0},{"$f":"IF(B53<>\"\",SUMIFS('TAB-UI'!$G$11:$G$109,'TAB-UI'!$D$11:$D$109,B53),0)","v":0},{"$f":"IF(B53<>\"\",SUMIFS('TAB-UI'!$H$11:$H$109,'TAB-UI'!$D$11:$D$109,B53),0)","v":0},{"$f":"IF(B53<>\"\",SUMIFS('TAB-UI'!$I$11:$I$109,'TAB-UI'!$D$11:$D$109,B53),0)","v":0},{"$f":"IF(B53<>\"\",SUMIFS('TAB-UI'!$J$11:$J$109,'TAB-UI'!$D$11:$D$109,B53),0)","v":0},{"$f":"IF(B53<>\"\",SUMIFS('TAB-UI'!$K$11:$K$109,'TAB-UI'!$D$11:$D$109,B53),0)","v":0},{"$f":"IF(B53<>\"\",SUMIFS('TAB-UI'!$L$11:$L$109,'TAB-UI'!$D$11:$D$109,B53),0)","v":0},{"$f":"IF(B53<>\"\",SUMIFS('TAB-UI'!$M$11:$M$109,'TAB-UI'!$D$11:$D$109,B53),0)","v":0},{"$f":"IF(B53<>\"\",SUMIFS('TAB-UI'!$N$11:$N$109,'TAB-UI'!$D$11:$D$109,B53),0)","v":0},{"$f":"IF(B53<>\"\",SUMIFS('TAB-UI'!$O$11:$O$109,'TAB-UI'!$D$11:$D$109,B53),0)","v":0}]
[44,{"$f":"CONDOMINI!B54","v":"C44"},null,{"$f":"IF(C54<>\"\",IFERROR(VLOOKUP(B54,CONDOMINI!$B$11:$C$109,2,FALSE),\"\"),\"\")","v":""},{"$f":"IF(B54<>\"\",SUMIFS('TAB-UI'!$F$11:$F$109,'TAB-UI'!$D$11:$D$109,B54),0)","v":0},{"$f":"IF(B54<>\"\",SUMIFS('TAB-UI'!$G$11:$G$109,'TAB-UI'!$D$11:$D$109,B54),0)","v":0},{"$f":"IF(B54<>\"\",SUMIFS('TAB-UI'!$H$11:$H$109,'TAB-UI'!$D$11:$D$109,B54),0)","v":0},{"$f":"IF(B54<>\"\",SUMIFS('TAB-UI'!$I$11:$I$109,'TAB-UI'!$D$11:$D$109,B54),0)","v":0},{"$f":"IF(B54<>\"\",SUMIFS('TAB-UI'!$J$11:$J$109,'TAB-UI'!$D$11:$D$109,B54),0)","v":0},{"$f":"IF(B54<>\"\",SUMIFS('TAB-UI'!$K$11:$K$109,'TAB-UI'!$D$11:$D$109,B54),0)","v":0},{"$f":"IF(B54<>\"\",SUMIFS('TAB-UI'!$L$11:$L$109,'TAB-UI'!$D$11:$D$109,B54),0)","v":0},{"$f":"IF(B54<>\"\",SUMIFS('TAB-UI'!$M$11:$M$109,'TAB-UI'!$D$11:$D$109,B54),0)","v":0},{"$f":"IF(B54<>\"\",SUMIFS('TAB-UI'!$N$11:$N$109,'TAB-UI'!$D$11:$D$109,B54),0)","v":0},{"$f":"IF(B54<>\"\",SUMIFS('TAB-UI'!$O$11:$O$109,'TAB-UI'!$D$11:$D$109,B54),0)","v":0}]
[45,{"$f":"CONDOMINI!B55","v":"C45"},null,{"$f":"IF(C55<>\"\",IFERROR(VLOOKUP(B55,CONDOMINI!$B$11:$C$109,2,FALSE),\"\"),\"\")","v":""},{"$f":"IF(B55<>\"\",SUMIFS('TAB-UI'!$F$11:$F$109,'TAB-UI'!$D$11:$D$109,B55),0)","v":0},{"$f":"IF(B55<>\"\",SUMIFS('TAB-UI'!$G$11:$G$109,'TAB-UI'!$D$11:$D$109,B55),0)","v":0},{"$f":"IF(B55<>\"\",SUMIFS('TAB-UI'!$H$11:$H$109,'TAB-UI'!$D$11:$D$109,B55),0)","v":0},{"$f":"IF(B55<>\"\",SUMIFS('TAB-UI'!$I$11:$I$109,'TAB-UI'!$D$11:$D$109,B55),0)","v":0},{"$f":"IF(B55<>\"\",SUMIFS('TAB-UI'!$J$11:$J$109,'TAB-UI'!$D$11:$D$109,B55),0)","v":0},{"$f":"IF(B55<>\"\",SUMIFS('TAB-UI'!$K$11:$K$109,'TAB-UI'!$D$11:$D$109,B55),0)","v":0},{"$f":"IF(B55<>\"\",SUMIFS('TAB-UI'!$L$11:$L$109,'TAB-UI'!$D$11:$D$109,B55),0)","v":0},{"$f":"IF(B55<>\"\",SUMIFS('TAB-UI'!$M$11:$M$109,'TAB-UI'!$D$11:$D$109,B55),0)","v":0},{"$f":"IF(B55<>\"\",SUMIFS('TAB-UI'!$N$11:$N$109,'TAB-UI'!$D$11:$D$109,B55),0)","v":0},{"$f":"IF(B55<>\"\",SUMIFS('TAB-UI'!$O$11:$O$109,'TAB-UI'!$D$11:$D$109,B55),0)","v":0}]
[46,{"$f":"CONDOMINI!B56","v":"C46"},null,{"$f":"IF(C56<>\"\",IFERROR(VLOOKUP(B56,CONDOMINI!$B$11:$C$109,2,FALSE),\"\"),\"\")","v":""},{"$f":"IF(B56<>\"\",SUMIFS('TAB-UI'!$F$11:$F$109,'TAB-UI'!$D$11:$D$109,B56),0)","v":0},{"$f":"IF(B56<>\"\",SUMIFS('TAB-UI'!$G$11:$G$109,'TAB-UI'!$D$11:$D$109,B56),0)","v":0},{"$f":"IF(B56<>\"\",SUMIFS('TAB-UI'!$H$11:$H$109,'TAB-UI'!$D$11:$D$109,B56),0)","v":0},{"$f":"IF(B56<>\"\",SUMIFS('TAB-UI'!$I$11:$I$109,'TAB-UI'!$D$11:$D$109,B56),0)","v":0},{"$f":"IF(B56<>\"\",SUMIFS('TAB-UI'!$J$11:$J$109,'TAB-UI'!$D$11:$D$109,B56),0)","v":0},{"$f":"IF(B56<>\"\",SUMIFS('TAB-UI'!$K$11:$K$109,'TAB-UI'!$D$11:$D$109,B56),0)","v":0},{"$f":"IF(B56<>\"\",SUMIFS('TAB-UI'!$L$11:$L$109,'TAB-UI'!$D$11:$D$109,B56),0)","v":0},{"$f":"IF(B56<>\"\",SUMIFS('TAB-UI'!$M$11:$M$109,'TAB-UI'!$D$11:$D$109,B56),0)","v":0},{"$f":"IF(B56<>\"\",SUMIFS('TAB-UI'!$N$11:$N$109,'TAB-UI'!$D$11:$D$109,B56),0)","v":0},{"$f":"IF(B56<>\"\",SUMIFS('TAB-UI'!$O$11:$O$109,'TAB-UI'!$D$11:$D$109,B56),0)","v":0}]
[47,{"$f":"CONDOMINI!B57","v":"C47"},null,{"$f":"IF(C57<>\"\",IFERROR(VLOOKUP(B57,CONDOMINI!$B$11:$C$109,2,FALSE),\"\"),\"\")","v":""},{"$f":"IF(B57<>\"\",SUMIFS('TAB-UI'!$F$11:$F$109,'TAB-UI'!$D$11:$D$109,B57),0)","v":0},{"$f":"IF(B57<>\"\",SUMIFS('TAB-UI'!$G$11:$G$109,'TAB-UI'!$D$11:$D$109,B57),0)","v":0},{"$f":"IF(B57<>\"\",SUMIFS('TAB-UI'!$H$11:$H$109,'TAB-UI'!$D$11:$D$109,B57),0)","v":0},{"$f":"IF(B57<>\"\",SUMIFS('TAB-UI'!$I$11:$I$109,'TAB-UI'!$D$11:$D$109,B57),0)","v":0},{"$f":"IF(B57<>\"\",SUMIFS('TAB-UI'!$J$11:$J$109,'TAB-UI'!$D$11:$D$109,B57),0)","v":0},{"$f":"IF(B57<>\"\",SUMIFS('TAB-UI'!$K$11:$K$109,'TAB-UI'!$D$11:$D$109,B57),0)","v":0},{"$f":"IF(B57<>\"\",SUMIFS('TAB-UI'!$L$11:$L$109,'TAB-UI'!$D$11:$D$109,B57),0)","v":0},{"$f":"IF(B57<>\"\",SUMIFS('TAB-UI'!$M$11:$M$109,'TAB-UI'!$D$11:$D$109,B57),0)","v":0},{"$f":"IF(B57<>\"\",SUMIFS('TAB-UI'!$N$11:$N$109,'TAB-UI'!$D$11:$D$109,B57),0)","v":0},{"$f":"IF(B57<>\"\",SUMIFS('TAB-UI'!$O$11:$O$109,'TAB-UI'!$D$11:$D$109,B57),0)","v":0}]
[48,{"$f":"CONDOMINI!B58","v":"C48"},null,{"$f":"IF(C58<>\"\",IFERROR(VLOOKUP(B58,CONDOMINI!$B$11:$C$109,2,FALSE),\"\"),\"\")","v":""},{"$f":"IF(B58<>\"\",SUMIFS('TAB-UI'!$F$11:$F$109,'TAB-UI'!$D$11:$D$109,B58),0)","v":0},{"$f":"IF(B58<>\"\",SUMIFS('TAB-UI'!$G$11:$G$109,'TAB-UI'!$D$11:$D$109,B58),0)","v":0},{"$f":"IF(B58<>\"\",SUMIFS('TAB-UI'!$H$11:$H$109,'TAB-UI'!$D$11:$D$109,B58),0)","v":0},{"$f":"IF(B58<>\"\",SUMIFS('TAB-UI'!$I$11:$I$109,'TAB-UI'!$D$11:$D$109,B58),0)","v":0},{"$f":"IF(B58<>\"\",SUMIFS('TAB-UI'!$J$11:$J$109,'TAB-UI'!$D$11:$D$109,B58),0)","v":0},{"$f":"IF(B58<>\"\",SUMIFS('TAB-UI'!$K$11:$K$109,'TAB-UI'!$D$11:$D$109,B58),0)","v":0},{"$f":"IF(B58<>\"\",SUMIFS('TAB-UI'!$L$11:$L$109,'TAB-UI'!$D$11:$D$109,B58),0)","v":0},{"$f":"IF(B58<>\"\",SUMIFS('TAB-UI'!$M$11:$M$109,'TAB-UI'!$D$11:$D$109,B58),0)","v":0},{"$f":"IF(B58<>\"\",SUMIFS('TAB-UI'!$N$11:$N$109,'TAB-UI'!$D$11:$D$109,B58),0)","v":0},{"$f":"IF(B58<>\"\",SUMIFS('TAB-UI'!$O$11:$O$109,'TAB-UI'!$D$11:$D$109,B58),0)","v":0}]
[49,{"$f":"CONDOMINI!B59","v":"C49"},null,{"$f":"IF(C59<>\"\",IFERROR(VLOOKUP(B59,CONDOMINI!$B$11:$C$109,2,FALSE),\"\"),\"\")","v":""},{"$f":"IF(B59<>\"\",SUMIFS('TAB-UI'!$F$11:$F$109,'TAB-UI'!$D$11:$D$109,B59),0)","v":0},{"$f":"IF(B59<>\"\",SUMIFS('TAB-UI'!$G$11:$G$109,'TAB-UI'!$D$11:$D$109,B59),0)","v":0},{"$f":"IF(B59<>\"\",SUMIFS('TAB-UI'!$H$11:$H$109,'TAB-UI'!$D$11:$D$109,B59),0)","v":0},{"$f":"IF(B59<>\"\",SUMIFS('TAB-UI'!$I$11:$I$109,'TAB-UI'!$D$11:$D$109,B59),0)","v":0},{"$f":"IF(B59<>\"\",SUMIFS('TAB-UI'!$J$11:$J$109,'TAB-UI'!$D$11:$D$109,B59),0)","v":0},{"$f":"IF(B59<>\"\",SUMIFS('TAB-UI'!$K$11:$K$109,'TAB-UI'!$D$11:$D$109,B59),0)","v":0},{"$f":"IF(B59<>\"\",SUMIFS('TAB-UI'!$L$11:$L$109,'TAB-UI'!$D$11:$D$109,B59),0)","v":0},{"$f":"IF(B59<>\"\",SUMIFS('TAB-UI'!$M$11:$M$109,'TAB-UI'!$D$11:$D$109,B59),0)","v":0},{"$f":"IF(B59<>\"\",SUMIFS('TAB-UI'!$N$11:$N$109,'TAB-UI'!$D$11:$D$109,B59),0)","v":0},{"$f":"IF(B59<>\"\",SUMIFS('TAB-UI'!$O$11:$O$109,'TAB-UI'!$D$11:$D$109,B59),0)","v":0}]
[50,{"$f":"CONDOMINI!B60","v":"C50"},null,{"$f":"IF(C60<>\"\",IFERROR(VLOOKUP(B60,CONDOMINI!$B$11:$C$109,2,FALSE),\"\"),\"\")","v":""},{"$f":"IF(B60<>\"\",SUMIFS('TAB-UI'!$F$11:$F$109,'TAB-UI'!$D$11:$D$109,B60),0)","v":0},{"$f":"IF(B60<>\"\",SUMIFS('TAB-UI'!$G$11:$G$109,'TAB-UI'!$D$11:$D$109,B60),0)","v":0},{"$f":"IF(B60<>\"\",SUMIFS('TAB-UI'!$H$11:$H$109,'TAB-UI'!$D$11:$D$109,B60),0)","v":0},{"$f":"IF(B60<>\"\",SUMIFS('TAB-UI'!$I$11:$I$109,'TAB-UI'!$D$11:$D$109,B60),0)","v":0},{"$f":"IF(B60<>\"\",SUMIFS('TAB-UI'!$J$11:$J$109,'TAB-UI'!$D$11:$D$109,B60),0)","v":0},{"$f":"IF(B60<>\"\",SUMIFS('TAB-UI'!$K$11:$K$109,'TAB-UI'!$D$11:$D$109,B60),0)","v":0},{"$f":"IF(B60<>\"\",SUMIFS('TAB-UI'!$L$11:$L$109,'TAB-UI'!$D$11:$D$109,B60),0)","v":0},{"$f":"IF(B60<>\"\",SUMIFS('TAB-UI'!$M$11:$M$109,'TAB-UI'!$D$11:$D$109,B60),0)","v":0},{"$f":"IF(B60<>\"\",SUMIFS('TAB-UI'!$N$11:$N$109,'TAB-UI'!$D$11:$D$109,B60),0)","v":0},{"$f":"IF(B60<>\"\",SUMIFS('TAB-UI'!$O$11:$O$109,'TAB-UI'!$D$11:$D$109,B60),0)","v":0}]
[51,{"$f":"CONDOMINI!B61","v":"C51"},null,{"$f":"IF(C61<>\"\",IFERROR(VLOOKUP(B61,CONDOMINI!$B$11:$C$109,2,FALSE),\"\"),\"\")","v":""},{"$f":"IF(B61<>\"\",SUMIFS('TAB-UI'!$F$11:$F$109,'TAB-UI'!$D$11:$D$109,B61),0)","v":0},{"$f":"IF(B61<>\"\",SUMIFS('TAB-UI'!$G$11:$G$109,'TAB-UI'!$D$11:$D$109,B61),0)","v":0},{"$f":"IF(B61<>\"\",SUMIFS('TAB-UI'!$H$11:$H$109,'TAB-UI'!$D$11:$D$109,B61),0)","v":0},{"$f":"IF(B61<>\"\",SUMIFS('TAB-UI'!$I$11:$I$109,'TAB-UI'!$D$11:$D$109,B61),0)","v":0},{"$f":"IF(B61<>\"\",SUMIFS('TAB-UI'!$J$11:$J$109,'TAB-UI'!$D$11:$D$109,B61),0)","v":0},{"$f":"IF(B61<>\"\",SUMIFS('TAB-UI'!$K$11:$K$109,'TAB-UI'!$D$11:$D$109,B61),0)","v":0},{"$f":"IF(B61<>\"\",SUMIFS('TAB-UI'!$L$11:$L$109,'TAB-UI'!$D$11:$D$109,B61),0)","v":0},{"$f":"IF(B61<>\"\",SUMIFS('TAB-UI'!$M$11:$M$109,'TAB-UI'!$D$11:$D$109,B61),0)","v":0},{"$f":"IF(B61<>\"\",SUMIFS('TAB-UI'!$N$11:$N$109,'TAB-UI'!$D$11:$D$109,B61),0)","v":0},{"$f":"IF(B61<>\"\",SUMIFS('TAB-UI'!$O$11:$O$109,'TAB-UI'!$D$11:$D$109,B61),0)","v":0}]
[52,{"$f":"CONDOMINI!B62","v":"C52"},null,{"$f":"IF(C62<>\"\",IFERROR(VLOOKUP(B62,CONDOMINI!$B$11:$C$109,2,FALSE),\"\"),\"\")","v":""},{"$f":"IF(B62<>\"\",SUMIFS('TAB-UI'!$F$11:$F$109,'TAB-UI'!$D$11:$D$109,B62),0)","v":0},{"$f":"IF(B62<>\"\",SUMIFS('TAB-UI'!$G$11:$G$109,'TAB-UI'!$D$11:$D$109,B62),0)","v":0},{"$f":"IF(B62<>\"\",SUMIFS('TAB-UI'!$H$11:$H$109,'TAB-UI'!$D$11:$D$109,B62),0)","v":0},{"$f":"IF(B62<>\"\",SUMIFS('TAB-UI'!$I$11:$I$109,'TAB-UI'!$D$11:$D$109,B62),0)","v":0},{"$f":"IF(B62<>\"\",SUMIFS('TAB-UI'!$J$11:$J$109,'TAB-UI'!$D$11:$D$109,B62),0)","v":0},{"$f":"IF(B62<>\"\",SUMIFS('TAB-UI'!$K$11:$K$109,'TAB-UI'!$D$11:$D$109,B62),0)","v":0},{"$f":"IF(B62<>\"\",SUMIFS('TAB-UI'!$L$11:$L$109,'TAB-UI'!$D$11:$D$109,B62),0)","v":0},{"$f":"IF(B62<>\"\",SUMIFS('TAB-UI'!$M$11:$M$109,'TAB-UI'!$D$11:$D$109,B62),0)","v":0},{"$f":"IF(B62<>\"\",SUMIFS('TAB-UI'!$N$11:$N$109,'TAB-UI'!$D$11:$D$109,B62),0)","v":0},{"$f":"IF(B62<>\"\",SUMIFS('TAB-UI'!$O$11:$O$109,'TAB-UI'!$D$11:$D$109,B62),0)","v":0}]
[53,{"$f":"CONDOMINI!B63","v":"C53"},null,{"$f":"IF(C63<>\"\",IFERROR(VLOOKUP(B63,CONDOMINI!$B$11:$C$109,2,FALSE),\"\"),\"\")","v":""},{"$f":"IF(B63<>\"\",SUMIFS('TAB-UI'!$F$11:$F$109,'TAB-UI'!$D$11:$D$109,B63),0)","v":0},{"$f":"IF(B63<>\"\",SUMIFS('TAB-UI'!$G$11:$G$109,'TAB-UI'!$D$11:$D$109,B63),0)","v":0},{"$f":"IF(B63<>\"\",SUMIFS('TAB-UI'!$H$11:$H$109,'TAB-UI'!$D$11:$D$109,B63),0)","v":0},{"$f":"IF(B63<>\"\",SUMIFS('TAB-UI'!$I$11:$I$109,'TAB-UI'!$D$11:$D$109,B63),0)","v":0},{"$f":"IF(B63<>\"\",SUMIFS('TAB-UI'!$J$11:$J$109,'TAB-UI'!$D$11:$D$109,B63),0)","v":0},{"$f":"IF(B63<>\"\",SUMIFS('TAB-UI'!$K$11:$K$109,'TAB-UI'!$D$11:$D$109,B63),0)","v":0},{"$f":"IF(B63<>\"\",SUMIFS('TAB-UI'!$L$11:$L$109,'TAB-UI'!$D$11:$D$109,B63),0)","v":0},{"$f":"IF(B63<>\"\",SUMIFS('TAB-UI'!$M$11:$M$109,'TAB-UI'!$D$11:$D$109,B63),0)","v":0},{"$f":"IF(B63<>\"\",SUMIFS('TAB-UI'!$N$11:$N$109,'TAB-UI'!$D$11:$D$109,B63),0)","v":0},{"$f":"IF(B63<>\"\",SUMIFS('TAB-UI'!$O$11:$O$109,'TAB-UI'!$D$11:$D$109,B63),0)","v":0}]
[54,{"$f":"CONDOMINI!B64","v":"C54"},null,{"$f":"IF(C64<>\"\",IFERROR(VLOOKUP(B64,CONDOMINI!$B$11:$C$109,2,FALSE),\"\"),\"\")","v":""},{"$f":"IF(B64<>\"\",SUMIFS('TAB-UI'!$F$11:$F$109,'TAB-UI'!$D$11:$D$109,B64),0)","v":0},{"$f":"IF(B64<>\"\",SUMIFS('TAB-UI'!$G$11:$G$109,'TAB-UI'!$D$11:$D$109,B64),0)","v":0},{"$f":"IF(B64<>\"\",SUMIFS('TAB-UI'!$H$11:$H$109,'TAB-UI'!$D$11:$D$109,B64),0)","v":0},{"$f":"IF(B64<>\"\",SUMIFS('TAB-UI'!$I$11:$I$109,'TAB-UI'!$D$11:$D$109,B64),0)","v":0},{"$f":"IF(B64<>\"\",SUMIFS('TAB-UI'!$J$11:$J$109,'TAB-UI'!$D$11:$D$109,B64),0)","v":0},{"$f":"IF(B64<>\"\",SUMIFS('TAB-UI'!$K$11:$K$109,'TAB-UI'!$D$11:$D$109,B64),0)","v":0},{"$f":"IF(B64<>\"\",SUMIFS('TAB-UI'!$L$11:$L$109,'TAB-UI'!$D$11:$D$109,B64),0)","v":0},{"$f":"IF(B64<>\"\",SUMIFS('TAB-UI'!$M$11:$M$109,'TAB-UI'!$D$11:$D$109,B64),0)","v":0},{"$f":"IF(B64<>\"\",SUMIFS('TAB-UI'!$N$11:$N$109,'TAB-UI'!$D$11:$D$109,B64),0)","v":0},{"$f":"IF(B64<>\"\",SUMIFS('TAB-UI'!$O$11:$O$109,'TAB-UI'!$D$11:$D$109,B64),0)","v":0}]
[55,{"$f":"CONDOMINI!B65","v":"C55"},null,{"$f":"IF(C65<>\"\",IFERROR(VLOOKUP(B65,CONDOMINI!$B$11:$C$109,2,FALSE),\"\"),\"\")","v":""},{"$f":"IF(B65<>\"\",SUMIFS('TAB-UI'!$F$11:$F$109,'TAB-UI'!$D$11:$D$109,B65),0)","v":0},{"$f":"IF(B65<>\"\",SUMIFS('TAB-UI'!$G$11:$G$109,'TAB-UI'!$D$11:$D$109,B65),0)","v":0},{"$f":"IF(B65<>\"\",SUMIFS('TAB-UI'!$H$11:$H$109,'TAB-UI'!$D$11:$D$109,B65),0)","v":0},{"$f":"IF(B65<>\"\",SUMIFS('TAB-UI'!$I$11:$I$109,'TAB-UI'!$D$11:$D$109,B65),0)","v":0},{"$f":"IF(B65<>\"\",SUMIFS('TAB-UI'!$J$11:$J$109,'TAB-UI'!$D$11:$D$109,B65),0)","v":0},{"$f":"IF(B65<>\"\",SUMIFS('TAB-UI'!$K$11:$K$109,'TAB-UI'!$D$11:$D$109,B65),0)","v":0},{"$f":"IF(B65<>\"\",SUMIFS('TAB-UI'!$L$11:$L$109,'TAB-UI'!$D$11:$D$109,B65),0)","v":0},{"$f":"IF(B65<>\"\",SUMIFS('TAB-UI'!$M$11:$M$109,'TAB-UI'!$D$11:$D$109,B65),0)","v":0},{"$f":"IF(B65<>\"\",SUMIFS('TAB-UI'!$N$11:$N$109,'TAB-UI'!$D$11:$D$109,B65),0)","v":0},{"$f":"IF(B65<>\"\",SUMIFS('TAB-UI'!$O$11:$O$109,'TAB-UI'!$D$11:$D$109,B65),0)","v":0}]
[56,{"$f":"CONDOMINI!B66","v":"C56"},null,{"$f":"IF(C66<>\"\",IFERROR(VLOOKUP(B66,CONDOMINI!$B$11:$C$109,2,FALSE),\"\"),\"\")","v":""},{"$f":"IF(B66<>\"\",SUMIFS('TAB-UI'!$F$11:$F$109,'TAB-UI'!$D$11:$D$109,B66),0)","v":0},{"$f":"IF(B66<>\"\",SUMIFS('TAB-UI'!$G$11:$G$109,'TAB-UI'!$D$11:$D$109,B66),0)","v":0},{"$f":"IF(B66<>\"\",SUMIFS('TAB-UI'!$H$11:$H$109,'TAB-UI'!$D$11:$D$109,B66),0)","v":0},{"$f":"IF(B66<>\"\",SUMIFS('TAB-UI'!$I$11:$I$109,'TAB-UI'!$D$11:$D$109,B66),0)","v":0},{"$f":"IF(B66<>\"\",SUMIFS('TAB-UI'!$J$11:$J$109,'TAB-UI'!$D$11:$D$109,B66),0)","v":0},{"$f":"IF(B66<>\"\",SUMIFS('TAB-UI'!$K$11:$K$109,'TAB-UI'!$D$11:$D$109,B66),0)","v":0},{"$f":"IF(B66<>\"\",SUMIFS('TAB-UI'!$L$11:$L$109,'TAB-UI'!$D$11:$D$109,B66),0)","v":0},{"$f":"IF(B66<>\"\",SUMIFS('TAB-UI'!$M$11:$M$109,'TAB-UI'!$D$11:$D$109,B66),0)","v":0},{"$f":"IF(B66<>\"\",SUMIFS('TAB-UI'!$N$11:$N$109,'TAB-UI'!$D$11:$D$109,B66),0)","v":0},{"$f":"IF(B66<>\"\",SUMIFS('TAB-UI'!$O$11:$O$109,'TAB-UI'!$D$11:$D$109,B66),0)","v":0}]
[57,{"$f":"CONDOMINI!B67","v":"C57"},null,{"$f":"IF(C67<>\"\",IFERROR(VLOOKUP(B67,CONDOMINI!$B$11:$C$109,2,FALSE),\"\"),\"\")","v":""},{"$f":"IF(B67<>\"\",SUMIFS('TAB-UI'!$F$11:$F$109,'TAB-UI'!$D$11:$D$109,B67),0)","v":0},{"$f":"IF(B67<>\"\",SUMIFS('TAB-UI'!$G$11:$G$109,'TAB-UI'!$D$11:$D$109,B67),0)","v":0},{"$f":"IF(B67<>\"\",SUMIFS('TAB-UI'!$H$11:$H$109,'TAB-UI'!$D$11:$D$109,B67),0)","v":0},{"$f":"IF(B67<>\"\",SUMIFS('TAB-UI'!$I$11:$I$109,'TAB-UI'!$D$11:$D$109,B67),0)","v":0},{"$f":"IF(B67<>\"\",SUMIFS('TAB-UI'!$J$11:$J$109,'TAB-UI'!$D$11:$D$109,B67),0)","v":0},{"$f":"IF(B67<>\"\",SUMIFS('TAB-UI'!$K$11:$K$109,'TAB-UI'!$D$11:$D$109,B67),0)","v":0},{"$f":"IF(B67<>\"\",SUMIFS('TAB-UI'!$L$11:$L$109,'TAB-UI'!$D$11:$D$109,B67),0)","v":0},{"$f":"IF(B67<>\"\",SUMIFS('TAB-UI'!$M$11:$M$109,'TAB-UI'!$D$11:$D$109,B67),0)","v":0},{"$f":"IF(B67<>\"\",SUMIFS('TAB-UI'!$N$11:$N$109,'TAB-UI'!$D$11:$D$109,B67),0)","v":0},{"$f":"IF(B67<>\"\",SUMIFS('TAB-UI'!$O$11:$O$109,'TAB-UI'!$D$11:$D$109,B67),0)","v":0}]
[58,{"$f":"CONDOMINI!B68","v":"C58"},null,{"$f":"IF(C68<>\"\",IFERROR(VLOOKUP(B68,CONDOMINI!$B$11:$C$109,2,FALSE),\"\"),\"\")","v":""},{"$f":"IF(B68<>\"\",SUMIFS('TAB-UI'!$F$11:$F$109,'TAB-UI'!$D$11:$D$109,B68),0)","v":0},{"$f":"IF(B68<>\"\",SUMIFS('TAB-UI'!$G$11:$G$109,'TAB-UI'!$D$11:$D$109,B68),0)","v":0},{"$f":"IF(B68<>\"\",SUMIFS('TAB-UI'!$H$11:$H$109,'TAB-UI'!$D$11:$D$109,B68),0)","v":0},{"$f":"IF(B68<>\"\",SUMIFS('TAB-UI'!$I$11:$I$109,'TAB-UI'!$D$11:$D$109,B68),0)","v":0},{"$f":"IF(B68<>\"\",SUMIFS('TAB-UI'!$J$11:$J$109,'TAB-UI'!$D$11:$D$109,B68),0)","v":0},{"$f":"IF(B68<>\"\",SUMIFS('TAB-UI'!$K$11:$K$109,'TAB-UI'!$D$11:$D$109,B68),0)","v":0},{"$f":"IF(B68<>\"\",SUMIFS('TAB-UI'!$L$11:$L$109,'TAB-UI'!$D$11:$D$109,B68),0)","v":0},{"$f":"IF(B68<>\"\",SUMIFS('TAB-UI'!$M$11:$M$109,'TAB-UI'!$D$11:$D$109,B68),0)","v":0},{"$f":"IF(B68<>\"\",SUMIFS('TAB-UI'!$N$11:$N$109,'TAB-UI'!$D$11:$D$109,B68),0)","v":0},{"$f":"IF(B68<>\"\",SUMIFS('TAB-UI'!$O$11:$O$109,'TAB-UI'!$D$11:$D$109,B68),0)","v":0}]
[59,{"$f":"CONDOMINI!B69","v":"C59"},null,{"$f":"IF(C69<>\"\",IFERROR(VLOOKUP(B69,CONDOMINI!$B$11:$C$109,2,FALSE),\"\"),\"\")","v":""},{"$f":"IF(B69<>\"\",SUMIFS('TAB-UI'!$F$11:$F$109,'TAB-UI'!$D$11:$D$109,B69),0)","v":0},{"$f":"IF(B69<>\"\",SUMIFS('TAB-UI'!$G$11:$G$109,'TAB-UI'!$D$11:$D$109,B69),0)","v":0},{"$f":"IF(B69<>\"\",SUMIFS('TAB-UI'!$H$11:$H$109,'TAB-UI'!$D$11:$D$109,B69),0)","v":0},{"$f":"IF(B69<>\"\",SUMIFS('TAB-UI'!$I$11:$I$109,'TAB-UI'!$D$11:$D$109,B69),0)","v":0},{"$f":"IF(B69<>\"\",SUMIFS('TAB-UI'!$J$11:$J$109,'TAB-UI'!$D$11:$D$109,B69),0)","v":0},{"$f":"IF(B69<>\"\",SUMIFS('TAB-UI'!$K$11:$K$109,'TAB-UI'!$D$11:$D$109,B69),0)","v":0},{"$f":"IF(B69<>\"\",SUMIFS('TAB-UI'!$L$11:$L$109,'TAB-UI'!$D$11:$D$109,B69),0)","v":0},{"$f":"IF(B69<>\"\",SUMIFS('TAB-UI'!$M$11:$M$109,'TAB-UI'!$D$11:$D$109,B69),0)","v":0},{"$f":"IF(B69<>\"\",SUMIFS('TAB-UI'!$N$11:$N$109,'TAB-UI'!$D$11:$D$109,B69),0)","v":0},{"$f":"IF(B69<>\"\",SUMIFS('TAB-UI'!$O$11:$O$109,'TAB-UI'!$D$11:$D$109,B69),0)","v":0}]
[60,{"$f":"CONDOMINI!B70","v":"C60"},null,{"$f":"IF(C70<>\"\",IFERROR(VLOOKUP(B70,CONDOMINI!$B$11:$C$109,2,FALSE),\"\"),\"\")","v":""},{"$f":"IF(B70<>\"\",SUMIFS('TAB-UI'!$F$11:$F$109,'TAB-UI'!$D$11:$D$109,B70),0)","v":0},{"$f":"IF(B70<>\"\",SUMIFS('TAB-UI'!$G$11:$G$109,'TAB-UI'!$D$11:$D$109,B70),0)","v":0},{"$f":"IF(B70<>\"\",SUMIFS('TAB-UI'!$H$11:$H$109,'TAB-UI'!$D$11:$D$109,B70),0)","v":0},{"$f":"IF(B70<>\"\",SUMIFS('TAB-UI'!$I$11:$I$109,'TAB-UI'!$D$11:$D$109,B70),0)","v":0},{"$f":"IF(B70<>\"\",SUMIFS('TAB-UI'!$J$11:$J$109,'TAB-UI'!$D$11:$D$109,B70),0)","v":0},{"$f":"IF(B70<>\"\",SUMIFS('TAB-UI'!$K$11:$K$109,'TAB-UI'!$D$11:$D$109,B70),0)","v":0},{"$f":"IF(B70<>\"\",SUMIFS('TAB-UI'!$L$11:$L$109,'TAB-UI'!$D$11:$D$109,B70),0)","v":0},{"$f":"IF(B70<>\"\",SUMIFS('TAB-UI'!$M$11:$M$109,'TAB-UI'!$D$11:$D$109,B70),0)","v":0},{"$f":"IF(B70<>\"\",SUMIFS('TAB-UI'!$N$11:$N$109,'TAB-UI'!$D$11:$D$109,B70),0)","v":0},{"$f":"IF(B70<>\"\",SUMIFS('TAB-UI'!$O$11:$O$109,'TAB-UI'!$D$11:$D$109,B70),0)","v":0}]
[61,{"$f":"CONDOMINI!B71","v":"C61"},null,{"$f":"IF(C71<>\"\",IFERROR(VLOOKUP(B71,CONDOMINI!$B$11:$C$109,2,FALSE),\"\"),\"\")","v":""},{"$f":"IF(B71<>\"\",SUMIFS('TAB-UI'!$F$11:$F$109,'TAB-UI'!$D$11:$D$109,B71),0)","v":0},{"$f":"IF(B71<>\"\",SUMIFS('TAB-UI'!$G$11:$G$109,'TAB-UI'!$D$11:$D$109,B71),0)","v":0},{"$f":"IF(B71<>\"\",SUMIFS('TAB-UI'!$H$11:$H$109,'TAB-UI'!$D$11:$D$109,B71),0)","v":0},{"$f":"IF(B71<>\"\",SUMIFS('TAB-UI'!$I$11:$I$109,'TAB-UI'!$D$11:$D$109,B71),0)","v":0},{"$f":"IF(B71<>\"\",SUMIFS('TAB-UI'!$J$11:$J$109,'TAB-UI'!$D$11:$D$109,B71),0)","v":0},{"$f":"IF(B71<>\"\",SUMIFS('TAB-UI'!$K$11:$K$109,'TAB-UI'!$D$11:$D$109,B71),0)","v":0},{"$f":"IF(B71<>\"\",SUMIFS('TAB-UI'!$L$11:$L$109,'TAB-UI'!$D$11:$D$109,B71),0)","v":0},{"$f":"IF(B71<>\"\",SUMIFS('TAB-UI'!$M$11:$M$109,'TAB-UI'!$D$11:$D$109,B71),0)","v":0},{"$f":"IF(B71<>\"\",SUMIFS('TAB-UI'!$N$11:$N$109,'TAB-UI'!$D$11:$D$109,B71),0)","v":0},{"$f":"IF(B71<>\"\",SUMIFS('TAB-UI'!$O$11:$O$109,'TAB-UI'!$D$11:$D$109,B71),0)","v":0}]
[62,{"$f":"CONDOMINI!B72","v":"C62"},null,{"$f":"IF(C72<>\"\",IFERROR(VLOOKUP(B72,CONDOMINI!$B$11:$C$109,2,FALSE),\"\"),\"\")","v":""},{"$f":"IF(B72<>\"\",SUMIFS('TAB-UI'!$F$11:$F$109,'TAB-UI'!$D$11:$D$109,B72),0)","v":0},{"$f":"IF(B72<>\"\",SUMIFS('TAB-UI'!$G$11:$G$109,'TAB-UI'!$D$11:$D$109,B72),0)","v":0},{"$f":"IF(B72<>\"\",SUMIFS('TAB-UI'!$H$11:$H$109,'TAB-UI'!$D$11:$D$109,B72),0)","v":0},{"$f":"IF(B72<>\"\",SUMIFS('TAB-UI'!$I$11:$I$109,'TAB-UI'!$D$11:$D$109,B72),0)","v":0},{"$f":"IF(B72<>\"\",SUMIFS('TAB-UI'!$J$11:$J$109,'TAB-UI'!$D$11:$D$109,B72),0)","v":0},{"$f":"IF(B72<>\"\",SUMIFS('TAB-UI'!$K$11:$K$109,'TAB-UI'!$D$11:$D$109,B72),0)","v":0},{"$f":"IF(B72<>\"\",SUMIFS('TAB-UI'!$L$11:$L$109,'TAB-UI'!$D$11:$D$109,B72),0)","v":0},{"$f":"IF(B72<>\"\",SUMIFS('TAB-UI'!$M$11:$M$109,'TAB-UI'!$D$11:$D$109,B72),0)","v":0},{"$f":"IF(B72<>\"\",SUMIFS('TAB-UI'!$N$11:$N$109,'TAB-UI'!$D$11:$D$109,B72),0)","v":0},{"$f":"IF(B72<>\"\",SUMIFS('TAB-UI'!$O$11:$O$109,'TAB-UI'!$D$11:$D$109,B72),0)","v":0}]
[63,{"$f":"CONDOMINI!B73","v":"C63"},null,{"$f":"IF(C73<>\"\",IFERROR(VLOOKUP(B73,CONDOMINI!$B$11:$C$109,2,FALSE),\"\"),\"\")","v":""},{"$f":"IF(B73<>\"\",SUMIFS('TAB-UI'!$F$11:$F$109,'TAB-UI'!$D$11:$D$109,B73),0)","v":0},{"$f":"IF(B73<>\"\",SUMIFS('TAB-UI'!$G$11:$G$109,'TAB-UI'!$D$11:$D$109,B73),0)","v":0},{"$f":"IF(B73<>\"\",SUMIFS('TAB-UI'!$H$11:$H$109,'TAB-UI'!$D$11:$D$109,B73),0)","v":0},{"$f":"IF(B73<>\"\",SUMIFS('TAB-UI'!$I$11:$I$109,'TAB-UI'!$D$11:$D$109,B73),0)","v":0},{"$f":"IF(B73<>\"\",SUMIFS('TAB-UI'!$J$11:$J$109,'TAB-UI'!$D$11:$D$109,B73),0)","v":0},{"$f":"IF(B73<>\"\",SUMIFS('TAB-UI'!$K$11:$K$109,'TAB-UI'!$D$11:$D$109,B73),0)","v":0},{"$f":"IF(B73<>\"\",SUMIFS('TAB-UI'!$L$11:$L$109,'TAB-UI'!$D$11:$D$109,B73),0)","v":0},{"$f":"IF(B73<>\"\",SUMIFS('TAB-UI'!$M$11:$M$109,'TAB-UI'!$D$11:$D$109,B73),0)","v":0},{"$f":"IF(B73<>\"\",SUMIFS('TAB-UI'!$N$11:$N$109,'TAB-UI'!$D$11:$D$109,B73),0)","v":0},{"$f":"IF(B73<>\"\",SUMIFS('TAB-UI'!$O$11:$O$109,'TAB-UI'!$D$11:$D$109,B73),0)","v":0}]
[64,{"$f":"CONDOMINI!B74","v":"C64"},null,{"$f":"IF(C74<>\"\",IFERROR(VLOOKUP(B74,CONDOMINI!$B$11:$C$109,2,FALSE),\"\"),\"\")","v":""},{"$f":"IF(B74<>\"\",SUMIFS('TAB-UI'!$F$11:$F$109,'TAB-UI'!$D$11:$D$109,B74),0)","v":0},{"$f":"IF(B74<>\"\",SUMIFS('TAB-UI'!$G$11:$G$109,'TAB-UI'!$D$11:$D$109,B74),0)","v":0},{"$f":"IF(B74<>\"\",SUMIFS('TAB-UI'!$H$11:$H$109,'TAB-UI'!$D$11:$D$109,B74),0)","v":0},{"$f":"IF(B74<>\"\",SUMIFS('TAB-UI'!$I$11:$I$109,'TAB-UI'!$D$11:$D$109,B74),0)","v":0},{"$f":"IF(B74<>\"\",SUMIFS('TAB-UI'!$J$11:$J$109,'TAB-UI'!$D$11:$D$109,B74),0)","v":0},{"$f":"IF(B74<>\"\",SUMIFS('TAB-UI'!$K$11:$K$109,'TAB-UI'!$D$11:$D$109,B74),0)","v":0},{"$f":"IF(B74<>\"\",SUMIFS('TAB-UI'!$L$11:$L$109,'TAB-UI'!$D$11:$D$109,B74),0)","v":0},{"$f":"IF(B74<>\"\",SUMIFS('TAB-UI'!$M$11:$M$109,'TAB-UI'!$D$11:$D$109,B74),0)","v":0},{"$f":"IF(B74<>\"\",SUMIFS('TAB-UI'!$N$11:$N$109,'TAB-UI'!$D$11:$D$109,B74),0)","v":0},{"$f":"IF(B74<>\"\",SUMIFS('TAB-UI'!$O$11:$O$109,'TAB-UI'!$D$11:$D$109,B74),0)","v":0}]
[65,{"$f":"CONDOMINI!B75","v":"C65"},null,{"$f":"IF(C75<>\"\",IFERROR(VLOOKUP(B75,CONDOMINI!$B$11:$C$109,2,FALSE),\"\"),\"\")","v":""},{"$f":"IF(B75<>\"\",SUMIFS('TAB-UI'!$F$11:$F$109,'TAB-UI'!$D$11:$D$109,B75),0)","v":0},{"$f":"IF(B75<>\"\",SUMIFS('TAB-UI'!$G$11:$G$109,'TAB-UI'!$D$11:$D$109,B75),0)","v":0},{"$f":"IF(B75<>\"\",SUMIFS('TAB-UI'!$H$11:$H$109,'TAB-UI'!$D$11:$D$109,B75),0)","v":0},{"$f":"IF(B75<>\"\",SUMIFS('TAB-UI'!$I$11:$I$109,'TAB-UI'!$D$11:$D$109,B75),0)","v":0},{"$f":"IF(B75<>\"\",SUMIFS('TAB-UI'!$J$11:$J$109,'TAB-UI'!$D$11:$D$109,B75),0)","v":0},{"$f":"IF(B75<>\"\",SUMIFS('TAB-UI'!$K$11:$K$109,'TAB-UI'!$D$11:$D$109,B75),0)","v":0},{"$f":"IF(B75<>\"\",SUMIFS('TAB-UI'!$L$11:$L$109,'TAB-UI'!$D$11:$D$109,B75),0)","v":0},{"$f":"IF(B75<>\"\",SUMIFS('TAB-UI'!$M$11:$M$109,'TAB-UI'!$D$11:$D$109,B75),0)","v":0},{"$f":"IF(B75<>\"\",SUMIFS('TAB-UI'!$N$11:$N$109,'TAB-UI'!$D$11:$D$109,B75),0)","v":0},{"$f":"IF(B75<>\"\",SUMIFS('TAB-UI'!$O$11:$O$109,'TAB-UI'!$D$11:$D$109,B75),0)","v":0}]
[66,{"$f":"CONDOMINI!B76","v":"C66"},null,{"$f":"IF(C76<>\"\",IFERROR(VLOOKUP(B76,CONDOMINI!$B$11:$C$109,2,FALSE),\"\"),\"\")","v":""},{"$f":"IF(B76<>\"\",SUMIFS('TAB-UI'!$F$11:$F$109,'TAB-UI'!$D$11:$D$109,B76),0)","v":0},{"$f":"IF(B76<>\"\",SUMIFS('TAB-UI'!$G$11:$G$109,'TAB-UI'!$D$11:$D$109,B76),0)","v":0},{"$f":"IF(B76<>\"\",SUMIFS('TAB-UI'!$H$11:$H$109,'TAB-UI'!$D$11:$D$109,B76),0)","v":0},{"$f":"IF(B76<>\"\",SUMIFS('TAB-UI'!$I$11:$I$109,'TAB-UI'!$D$11:$D$109,B76),0)","v":0},{"$f":"IF(B76<>\"\",SUMIFS('TAB-UI'!$J$11:$J$109,'TAB-UI'!$D$11:$D$109,B76),0)","v":0},{"$f":"IF(B76<>\"\",SUMIFS('TAB-UI'!$K$11:$K$109,'TAB-UI'!$D$11:$D$109,B76),0)","v":0},{"$f":"IF(B76<>\"\",SUMIFS('TAB-UI'!$L$11:$L$109,'TAB-UI'!$D$11:$D$109,B76),0)","v":0},{"$f":"IF(B76<>\"\",SUMIFS('TAB-UI'!$M$11:$M$109,'TAB-UI'!$D$11:$D$109,B76),0)","v":0},{"$f":"IF(B76<>\"\",SUMIFS('TAB-UI'!$N$11:$N$109,'TAB-UI'!$D$11:$D$109,B76),0)","v":0},{"$f":"IF(B76<>\"\",SUMIFS('TAB-UI'!$O$11:$O$109,'TAB-UI'!$D$11:$D$109,B76),0)","v":0}]
[67,{"$f":"CONDOMINI!B77","v":"C67"},null,{"$f":"IF(C77<>\"\",IFERROR(VLOOKUP(B77,CONDOMINI!$B$11:$C$109,2,FALSE),\"\"),\"\")","v":""},{"$f":"IF(B77<>\"\",SUMIFS('TAB-UI'!$F$11:$F$109,'TAB-UI'!$D$11:$D$109,B77),0)","v":0},{"$f":"IF(B77<>\"\",SUMIFS('TAB-UI'!$G$11:$G$109,'TAB-UI'!$D$11:$D$109,B77),0)","v":0},{"$f":"IF(B77<>\"\",SUMIFS('TAB-UI'!$H$11:$H$109,'TAB-UI'!$D$11:$D$109,B77),0)","v":0},{"$f":"IF(B77<>\"\",SUMIFS('TAB-UI'!$I$11:$I$109,'TAB-UI'!$D$11:$D$109,B77),0)","v":0},{"$f":"IF(B77<>\"\",SUMIFS('TAB-UI'!$J$11:$J$109,'TAB-UI'!$D$11:$D$109,B77),0)","v":0},{"$f":"IF(B77<>\"\",SUMIFS('TAB-UI'!$K$11:$K$109,'TAB-UI'!$D$11:$D$109,B77),0)","v":0},{"$f":"IF(B77<>\"\",SUMIFS('TAB-UI'!$L$11:$L$109,'TAB-UI'!$D$11:$D$109,B77),0)","v":0},{"$f":"IF(B77<>\"\",SUMIFS('TAB-UI'!$M$11:$M$109,'TAB-UI'!$D$11:$D$109,B77),0)","v":0},{"$f":"IF(B77<>\"\",SUMIFS('TAB-UI'!$N$11:$N$109,'TAB-UI'!$D$11:$D$109,B77),0)","v":0},{"$f":"IF(B77<>\"\",SUMIFS('TAB-UI'!$O$11:$O$109,'TAB-UI'!$D$11:$D$109,B77),0)","v":0}]
[68,{"$f":"CONDOMINI!B78","v":"C68"},null,{"$f":"IF(C78<>\"\",IFERROR(VLOOKUP(B78,CONDOMINI!$B$11:$C$109,2,FALSE),\"\"),\"\")","v":""},{"$f":"IF(B78<>\"\",SUMIFS('TAB-UI'!$F$11:$F$109,'TAB-UI'!$D$11:$D$109,B78),0)","v":0},{"$f":"IF(B78<>\"\",SUMIFS('TAB-UI'!$G$11:$G$109,'TAB-UI'!$D$11:$D$109,B78),0)","v":0},{"$f":"IF(B78<>\"\",SUMIFS('TAB-UI'!$H$11:$H$109,'TAB-UI'!$D$11:$D$109,B78),0)","v":0},{"$f":"IF(B78<>\"\",SUMIFS('TAB-UI'!$I$11:$I$109,'TAB-UI'!$D$11:$D$109,B78),0)","v":0},{"$f":"IF(B78<>\"\",SUMIFS('TAB-UI'!$J$11:$J$109,'TAB-UI'!$D$11:$D$109,B78),0)","v":0},{"$f":"IF(B78<>\"\",SUMIFS('TAB-UI'!$K$11:$K$109,'TAB-UI'!$D$11:$D$109,B78),0)","v":0},{"$f":"IF(B78<>\"\",SUMIFS('TAB-UI'!$L$11:$L$109,'TAB-UI'!$D$11:$D$109,B78),0)","v":0},{"$f":"IF(B78<>\"\",SUMIFS('TAB-UI'!$M$11:$M$109,'TAB-UI'!$D$11:$D$109,B78),0)","v":0},{"$f":"IF(B78<>\"\",SUMIFS('TAB-UI'!$N$11:$N$109,'TAB-UI'!$D$11:$D$109,B78),0)","v":0},{"$f":"IF(B78<>\"\",SUMIFS('TAB-UI'!$O$11:$O$109,'TAB-UI'!$D$11:$D$109,B78),0)","v":0}]
[69,{"$f":"CONDOMINI!B79","v":"C69"},null,{"$f":"IF(C79<>\"\",IFERROR(VLOOKUP(B79,CONDOMINI!$B$11:$C$109,2,FALSE),\"\"),\"\")","v":""},{"$f":"IF(B79<>\"\",SUMIFS('TAB-UI'!$F$11:$F$109,'TAB-UI'!$D$11:$D$109,B79),0)","v":0},{"$f":"IF(B79<>\"\",SUMIFS('TAB-UI'!$G$11:$G$109,'TAB-UI'!$D$11:$D$109,B79),0)","v":0},{"$f":"IF(B79<>\"\",SUMIFS('TAB-UI'!$H$11:$H$109,'TAB-UI'!$D$11:$D$109,B79),0)","v":0},{"$f":"IF(B79<>\"\",SUMIFS('TAB-UI'!$I$11:$I$109,'TAB-UI'!$D$11:$D$109,B79),0)","v":0},{"$f":"IF(B79<>\"\",SUMIFS('TAB-UI'!$J$11:$J$109,'TAB-UI'!$D$11:$D$109,B79),0)","v":0},{"$f":"IF(B79<>\"\",SUMIFS('TAB-UI'!$K$11:$K$109,'TAB-UI'!$D$11:$D$109,B79),0)","v":0},{"$f":"IF(B79<>\"\",SUMIFS('TAB-UI'!$L$11:$L$109,'TAB-UI'!$D$11:$D$109,B79),0)","v":0},{"$f":"IF(B79<>\"\",SUMIFS('TAB-UI'!$M$11:$M$109,'TAB-UI'!$D$11:$D$109,B79),0)","v":0},{"$f":"IF(B79<>\"\",SUMIFS('TAB-UI'!$N$11:$N$109,'TAB-UI'!$D$11:$D$109,B79),0)","v":0},{"$f":"IF(B79<>\"\",SUMIFS('TAB-UI'!$O$11:$O$109,'TAB-UI'!$D$11:$D$109,B79),0)","v":0}]
[70,{"$f":"CONDOMINI!B80","v":"C70"},null,{"$f":"IF(C80<>\"\",IFERROR(VLOOKUP(B80,CONDOMINI!$B$11:$C$109,2,FALSE),\"\"),\"\")","v":""},{"$f":"IF(B80<>\"\",SUMIFS('TAB-UI'!$F$11:$F$109,'TAB-UI'!$D$11:$D$109,B80),0)","v":0},{"$f":"IF(B80<>\"\",SUMIFS('TAB-UI'!$G$11:$G$109,'TAB-UI'!$D$11:$D$109,B80),0)","v":0},{"$f":"IF(B80<>\"\",SUMIFS('TAB-UI'!$H$11:$H$109,'TAB-UI'!$D$11:$D$109,B80),0)","v":0},{"$f":"IF(B80<>\"\",SUMIFS('TAB-UI'!$I$11:$I$109,'TAB-UI'!$D$11:$D$109,B80),0)","v":0},{"$f":"IF(B80<>\"\",SUMIFS('TAB-UI'!$J$11:$J$109,'TAB-UI'!$D$11:$D$109,B80),0)","v":0},{"$f":"IF(B80<>\"\",SUMIFS('TAB-UI'!$K$11:$K$109,'TAB-UI'!$D$11:$D$109,B80),0)","v":0},{"$f":"IF(B80<>\"\",SUMIFS('TAB-UI'!$L$11:$L$109,'TAB-UI'!$D$11:$D$109,B80),0)","v":0},{"$f":"IF(B80<>\"\",SUMIFS('TAB-UI'!$M$11:$M$109,'TAB-UI'!$D$11:$D$109,B80),0)","v":0},{"$f":"IF(B80<>\"\",SUMIFS('TAB-UI'!$N$11:$N$109,'TAB-UI'!$D$11:$D$109,B80),0)","v":0},{"$f":"IF(B80<>\"\",SUMIFS('TAB-UI'!$O$11:$O$109,'TAB-UI'!$D$11:$D$109,B80),0)","v":0}]
[71,{"$f":"CONDOMINI!B81","v":"C71"},null,{"$f":"IF(C81<>\"\",IFERROR(VLOOKUP(B81,CONDOMINI!$B$11:$C$109,2,FALSE),\"\"),\"\")","v":""},{"$f":"IF(B81<>\"\",SUMIFS('TAB-UI'!$F$11:$F$109,'TAB-UI'!$D$11:$D$109,B81),0)","v":0},{"$f":"IF(B81<>\"\",SUMIFS('TAB-UI'!$G$11:$G$109,'TAB-UI'!$D$11:$D$109,B81),0)","v":0},{"$f":"IF(B81<>\"\",SUMIFS('TAB-UI'!$H$11:$H$109,'TAB-UI'!$D$11:$D$109,B81),0)","v":0},{"$f":"IF(B81<>\"\",SUMIFS('TAB-UI'!$I$11:$I$109,'TAB-UI'!$D$11:$D$109,B81),0)","v":0},{"$f":"IF(B81<>\"\",SUMIFS('TAB-UI'!$J$11:$J$109,'TAB-UI'!$D$11:$D$109,B81),0)","v":0},{"$f":"IF(B81<>\"\",SUMIFS('TAB-UI'!$K$11:$K$109,'TAB-UI'!$D$11:$D$109,B81),0)","v":0},{"$f":"IF(B81<>\"\",SUMIFS('TAB-UI'!$L$11:$L$109,'TAB-UI'!$D$11:$D$109,B81),0)","v":0},{"$f":"IF(B81<>\"\",SUMIFS('TAB-UI'!$M$11:$M$109,'TAB-UI'!$D$11:$D$109,B81),0)","v":0},{"$f":"IF(B81<>\"\",SUMIFS('TAB-UI'!$N$11:$N$109,'TAB-UI'!$D$11:$D$109,B81),0)","v":0},{"$f":"IF(B81<>\"\",SUMIFS('TAB-UI'!$O$11:$O$109,'TAB-UI'!$D$11:$D$109,B81),0)","v":0}]
[72,{"$f":"CONDOMINI!B82","v":"C72"},null,{"$f":"IF(C82<>\"\",IFERROR(VLOOKUP(B82,CONDOMINI!$B$11:$C$109,2,FALSE),\"\"),\"\")","v":""},{"$f":"IF(B82<>\"\",SUMIFS('TAB-UI'!$F$11:$F$109,'TAB-UI'!$D$11:$D$109,B82),0)","v":0},{"$f":"IF(B82<>\"\",SUMIFS('TAB-UI'!$G$11:$G$109,'TAB-UI'!$D$11:$D$109,B82),0)","v":0},{"$f":"IF(B82<>\"\",SUMIFS('TAB-UI'!$H$11:$H$109,'TAB-UI'!$D$11:$D$109,B82),0)","v":0},{"$f":"IF(B82<>\"\",SUMIFS('TAB-UI'!$I$11:$I$109,'TAB-UI'!$D$11:$D$109,B82),0)","v":0},{"$f":"IF(B82<>\"\",SUMIFS('TAB-UI'!$J$11:$J$109,'TAB-UI'!$D$11:$D$109,B82),0)","v":0},{"$f":"IF(B82<>\"\",SUMIFS('TAB-UI'!$K$11:$K$109,'TAB-UI'!$D$11:$D$109,B82),0)","v":0},{"$f":"IF(B82<>\"\",SUMIFS('TAB-UI'!$L$11:$L$109,'TAB-UI'!$D$11:$D$109,B82),0)","v":0},{"$f":"IF(B82<>\"\",SUMIFS('TAB-UI'!$M$11:$M$109,'TAB-UI'!$D$11:$D$109,B82),0)","v":0},{"$f":"IF(B82<>\"\",SUMIFS('TAB-UI'!$N$11:$N$109,'TAB-UI'!$D$11:$D$109,B82),0)","v":0},{"$f":"IF(B82<>\"\",SUMIFS('TAB-UI'!$O$11:$O$109,'TAB-UI'!$D$11:$D$109,B82),0)","v":0}]
[73,{"$f":"CONDOMINI!B83","v":"C73"},null,{"$f":"IF(C83<>\"\",IFERROR(VLOOKUP(B83,CONDOMINI!$B$11:$C$109,2,FALSE),\"\"),\"\")","v":""},{"$f":"IF(B83<>\"\",SUMIFS('TAB-UI'!$F$11:$F$109,'TAB-UI'!$D$11:$D$109,B83),0)","v":0},{"$f":"IF(B83<>\"\",SUMIFS('TAB-UI'!$G$11:$G$109,'TAB-UI'!$D$11:$D$109,B83),0)","v":0},{"$f":"IF(B83<>\"\",SUMIFS('TAB-UI'!$H$11:$H$109,'TAB-UI'!$D$11:$D$109,B83),0)","v":0},{"$f":"IF(B83<>\"\",SUMIFS('TAB-UI'!$I$11:$I$109,'TAB-UI'!$D$11:$D$109,B83),0)","v":0},{"$f":"IF(B83<>\"\",SUMIFS('TAB-UI'!$J$11:$J$109,'TAB-UI'!$D$11:$D$109,B83),0)","v":0},{"$f":"IF(B83<>\"\",SUMIFS('TAB-UI'!$K$11:$K$109,'TAB-UI'!$D$11:$D$109,B83),0)","v":0},{"$f":"IF(B83<>\"\",SUMIFS('TAB-UI'!$L$11:$L$109,'TAB-UI'!$D$11:$D$109,B83),0)","v":0},{"$f":"IF(B83<>\"\",SUMIFS('TAB-UI'!$M$11:$M$109,'TAB-UI'!$D$11:$D$109,B83),0)","v":0},{"$f":"IF(B83<>\"\",SUMIFS('TAB-UI'!$N$11:$N$109,'TAB-UI'!$D$11:$D$109,B83),0)","v":0},{"$f":"IF(B83<>\"\",SUMIFS('TAB-UI'!$O$11:$O$109,'TAB-UI'!$D$11:$D$109,B83),0)","v":0}]
[74,{"$f":"CONDOMINI!B84","v":"C74"},null,{"$f":"IF(C84<>\"\",IFERROR(VLOOKUP(B84,CONDOMINI!$B$11:$C$109,2,FALSE),\"\"),\"\")","v":""},{"$f":"IF(B84<>\"\",SUMIFS('TAB-UI'!$F$11:$F$109,'TAB-UI'!$D$11:$D$109,B84),0)","v":0},{"$f":"IF(B84<>\"\",SUMIFS('TAB-UI'!$G$11:$G$109,'TAB-UI'!$D$11:$D$109,B84),0)","v":0},{"$f":"IF(B84<>\"\",SUMIFS('TAB-UI'!$H$11:$H$109,'TAB-UI'!$D$11:$D$109,B84),0)","v":0},{"$f":"IF(B84<>\"\",SUMIFS('TAB-UI'!$I$11:$I$109,'TAB-UI'!$D$11:$D$109,B84),0)","v":0},{"$f":"IF(B84<>\"\",SUMIFS('TAB-UI'!$J$11:$J$109,'TAB-UI'!$D$11:$D$109,B84),0)","v":0},{"$f":"IF(B84<>\"\",SUMIFS('TAB-UI'!$K$11:$K$109,'TAB-UI'!$D$11:$D$109,B84),0)","v":0},{"$f":"IF(B84<>\"\",SUMIFS('TAB-UI'!$L$11:$L$109,'TAB-UI'!$D$11:$D$109,B84),0)","v":0},{"$f":"IF(B84<>\"\",SUMIFS('TAB-UI'!$M$11:$M$109,'TAB-UI'!$D$11:$D$109,B84),0)","v":0},{"$f":"IF(B84<>\"\",SUMIFS('TAB-UI'!$N$11:$N$109,'TAB-UI'!$D$11:$D$109,B84),0)","v":0},{"$f":"IF(B84<>\"\",SUMIFS('TAB-UI'!$O$11:$O$109,'TAB-UI'!$D$11:$D$109,B84),0)","v":0}]
[75,{"$f":"CONDOMINI!B85","v":"C75"},null,{"$f":"IF(C85<>\"\",IFERROR(VLOOKUP(B85,CONDOMINI!$B$11:$C$109,2,FALSE),\"\"),\"\")","v":""},{"$f":"IF(B85<>\"\",SUMIFS('TAB-UI'!$F$11:$F$109,'TAB-UI'!$D$11:$D$109,B85),0)","v":0},{"$f":"IF(B85<>\"\",SUMIFS('TAB-UI'!$G$11:$G$109,'TAB-UI'!$D$11:$D$109,B85),0)","v":0},{"$f":"IF(B85<>\"\",SUMIFS('TAB-UI'!$H$11:$H$109,'TAB-UI'!$D$11:$D$109,B85),0)","v":0},{"$f":"IF(B85<>\"\",SUMIFS('TAB-UI'!$I$11:$I$109,'TAB-UI'!$D$11:$D$109,B85),0)","v":0},{"$f":"IF(B85<>\"\",SUMIFS('TAB-UI'!$J$11:$J$109,'TAB-UI'!$D$11:$D$109,B85),0)","v":0},{"$f":"IF(B85<>\"\",SUMIFS('TAB-UI'!$K$11:$K$109,'TAB-UI'!$D$11:$D$109,B85),0)","v":0},{"$f":"IF(B85<>\"\",SUMIFS('TAB-UI'!$L$11:$L$109,'TAB-UI'!$D$11:$D$109,B85),0)","v":0},{"$f":"IF(B85<>\"\",SUMIFS('TAB-UI'!$M$11:$M$109,'TAB-UI'!$D$11:$D$109,B85),0)","v":0},{"$f":"IF(B85<>\"\",SUMIFS('TAB-UI'!$N$11:$N$109,'TAB-UI'!$D$11:$D$109,B85),0)","v":0},{"$f":"IF(B85<>\"\",SUMIFS('TAB-UI'!$O$11:$O$109,'TAB-UI'!$D$11:$D$109,B85),0)","v":0}]
[76,{"$f":"CONDOMINI!B86","v":"C76"},null,{"$f":"IF(C86<>\"\",IFERROR(VLOOKUP(B86,CONDOMINI!$B$11:$C$109,2,FALSE),\"\"),\"\")","v":""},{"$f":"IF(B86<>\"\",SUMIFS('TAB-UI'!$F$11:$F$109,'TAB-UI'!$D$11:$D$109,B86),0)","v":0},{"$f":"IF(B86<>\"\",SUMIFS('TAB-UI'!$G$11:$G$109,'TAB-UI'!$D$11:$D$109,B86),0)","v":0},{"$f":"IF(B86<>\"\",SUMIFS('TAB-UI'!$H$11:$H$109,'TAB-UI'!$D$11:$D$109,B86),0)","v":0},{"$f":"IF(B86<>\"\",SUMIFS('TAB-UI'!$I$11:$I$109,'TAB-UI'!$D$11:$D$109,B86),0)","v":0},{"$f":"IF(B86<>\"\",SUMIFS('TAB-UI'!$J$11:$J$109,'TAB-UI'!$D$11:$D$109,B86),0)","v":0},{"$f":"IF(B86<>\"\",SUMIFS('TAB-UI'!$K$11:$K$109,'TAB-UI'!$D$11:$D$109,B86),0)","v":0},{"$f":"IF(B86<>\"\",SUMIFS('TAB-UI'!$L$11:$L$109,'TAB-UI'!$D$11:$D$109,B86),0)","v":0},{"$f":"IF(B86<>\"\",SUMIFS('TAB-UI'!$M$11:$M$109,'TAB-UI'!$D$11:$D$109,B86),0)","v":0},{"$f":"IF(B86<>\"\",SUMIFS('TAB-UI'!$N$11:$N$109,'TAB-UI'!$D$11:$D$109,B86),0)","v":0},{"$f":"IF(B86<>\"\",SUMIFS('TAB-UI'!$O$11:$O$109,'TAB-UI'!$D$11:$D$109,B86),0)","v":0}]
[77,{"$f":"CONDOMINI!B87","v":"C77"},null,{"$f":"IF(C87<>\"\",IFERROR(VLOOKUP(B87,CONDOMINI!$B$11:$C$109,2,FALSE),\"\"),\"\")","v":""},{"$f":"IF(B87<>\"\",SUMIFS('TAB-UI'!$F$11:$F$109,'TAB-UI'!$D$11:$D$109,B87),0)","v":0},{"$f":"IF(B87<>\"\",SUMIFS('TAB-UI'!$G$11:$G$109,'TAB-UI'!$D$11:$D$109,B87),0)","v":0},{"$f":"IF(B87<>\"\",SUMIFS('TAB-UI'!$H$11:$H$109,'TAB-UI'!$D$11:$D$109,B87),0)","v":0},{"$f":"IF(B87<>\"\",SUMIFS('TAB-UI'!$I$11:$I$109,'TAB-UI'!$D$11:$D$109,B87),0)","v":0},{"$f":"IF(B87<>\"\",SUMIFS('TAB-UI'!$J$11:$J$109,'TAB-UI'!$D$11:$D$109,B87),0)","v":0},{"$f":"IF(B87<>\"\",SUMIFS('TAB-UI'!$K$11:$K$109,'TAB-UI'!$D$11:$D$109,B87),0)","v":0},{"$f":"IF(B87<>\"\",SUMIFS('TAB-UI'!$L$11:$L$109,'TAB-UI'!$D$11:$D$109,B87),0)","v":0},{"$f":"IF(B87<>\"\",SUMIFS('TAB-UI'!$M$11:$M$109,'TAB-UI'!$D$11:$D$109,B87),0)","v":0},{"$f":"IF(B87<>\"\",SUMIFS('TAB-UI'!$N$11:$N$109,'TAB-UI'!$D$11:$D$109,B87),0)","v":0},{"$f":"IF(B87<>\"\",SUMIFS('TAB-UI'!$O$11:$O$109,'TAB-UI'!$D$11:$D$109,B87),0)","v":0}]
[78,{"$f":"CONDOMINI!B88","v":"C78"},null,{"$f":"IF(C88<>\"\",IFERROR(VLOOKUP(B88,CONDOMINI!$B$11:$C$109,2,FALSE),\"\"),\"\")","v":""},{"$f":"IF(B88<>\"\",SUMIFS('TAB-UI'!$F$11:$F$109,'TAB-UI'!$D$11:$D$109,B88),0)","v":0},{"$f":"IF(B88<>\"\",SUMIFS('TAB-UI'!$G$11:$G$109,'TAB-UI'!$D$11:$D$109,B88),0)","v":0},{"$f":"IF(B88<>\"\",SUMIFS('TAB-UI'!$H$11:$H$109,'TAB-UI'!$D$11:$D$109,B88),0)","v":0},{"$f":"IF(B88<>\"\",SUMIFS('TAB-UI'!$I$11:$I$109,'TAB-UI'!$D$11:$D$109,B88),0)","v":0},{"$f":"IF(B88<>\"\",SUMIFS('TAB-UI'!$J$11:$J$109,'TAB-UI'!$D$11:$D$109,B88),0)","v":0},{"$f":"IF(B88<>\"\",SUMIFS('TAB-UI'!$K$11:$K$109,'TAB-UI'!$D$11:$D$109,B88),0)","v":0},{"$f":"IF(B88<>\"\",SUMIFS('TAB-UI'!$L$11:$L$109,'TAB-UI'!$D$11:$D$109,B88),0)","v":0},{"$f":"IF(B88<>\"\",SUMIFS('TAB-UI'!$M$11:$M$109,'TAB-UI'!$D$11:$D$109,B88),0)","v":0},{"$f":"IF(B88<>\"\",SUMIFS('TAB-UI'!$N$11:$N$109,'TAB-UI'!$D$11:$D$109,B88),0)","v":0},{"$f":"IF(B88<>\"\",SUMIFS('TAB-UI'!$O$11:$O$109,'TAB-UI'!$D$11:$D$109,B88),0)","v":0}]
[79,{"$f":"CONDOMINI!B89","v":"C79"},null,{"$f":"IF(C89<>\"\",IFERROR(VLOOKUP(B89,CONDOMINI!$B$11:$C$109,2,FALSE),\"\"),\"\")","v":""},{"$f":"IF(B89<>\"\",SUMIFS('TAB-UI'!$F$11:$F$109,'TAB-UI'!$D$11:$D$109,B89),0)","v":0},{"$f":"IF(B89<>\"\",SUMIFS('TAB-UI'!$G$11:$G$109,'TAB-UI'!$D$11:$D$109,B89),0)","v":0},{"$f":"IF(B89<>\"\",SUMIFS('TAB-UI'!$H$11:$H$109,'TAB-UI'!$D$11:$D$109,B89),0)","v":0},{"$f":"IF(B89<>\"\",SUMIFS('TAB-UI'!$I$11:$I$109,'TAB-UI'!$D$11:$D$109,B89),0)","v":0},{"$f":"IF(B89<>\"\",SUMIFS('TAB-UI'!$J$11:$J$109,'TAB-UI'!$D$11:$D$109,B89),0)","v":0},{"$f":"IF(B89<>\"\",SUMIFS('TAB-UI'!$K$11:$K$109,'TAB-UI'!$D$11:$D$109,B89),0)","v":0},{"$f":"IF(B89<>\"\",SUMIFS('TAB-UI'!$L$11:$L$109,'TAB-UI'!$D$11:$D$109,B89),0)","v":0},{"$f":"IF(B89<>\"\",SUMIFS('TAB-UI'!$M$11:$M$109,'TAB-UI'!$D$11:$D$109,B89),0)","v":0},{"$f":"IF(B89<>\"\",SUMIFS('TAB-UI'!$N$11:$N$109,'TAB-UI'!$D$11:$D$109,B89),0)","v":0},{"$f":"IF(B89<>\"\",SUMIFS('TAB-UI'!$O$11:$O$109,'TAB-UI'!$D$11:$D$109,B89),0)","v":0}]
[80,{"$f":"CONDOMINI!B90","v":"C80"},null,{"$f":"IF(C90<>\"\",IFERROR(VLOOKUP(B90,CONDOMINI!$B$11:$C$109,2,FALSE),\"\"),\"\")","v":""},{"$f":"IF(B90<>\"\",SUMIFS('TAB-UI'!$F$11:$F$109,'TAB-UI'!$D$11:$D$109,B90),0)","v":0},{"$f":"IF(B90<>\"\",SUMIFS('TAB-UI'!$G$11:$G$109,'TAB-UI'!$D$11:$D$109,B90),0)","v":0},{"$f":"IF(B90<>\"\",SUMIFS('TAB-UI'!$H$11:$H$109,'TAB-UI'!$D$11:$D$109,B90),0)","v":0},{"$f":"IF(B90<>\"\",SUMIFS('TAB-UI'!$I$11:$I$109,'TAB-UI'!$D$11:$D$109,B90),0)","v":0},{"$f":"IF(B90<>\"\",SUMIFS('TAB-UI'!$J$11:$J$109,'TAB-UI'!$D$11:$D$109,B90),0)","v":0},{"$f":"IF(B90<>\"\",SUMIFS('TAB-UI'!$K$11:$K$109,'TAB-UI'!$D$11:$D$109,B90),0)","v":0},{"$f":"IF(B90<>\"\",SUMIFS('TAB-UI'!$L$11:$L$109,'TAB-UI'!$D$11:$D$109,B90),0)","v":0},{"$f":"IF(B90<>\"\",SUMIFS('TAB-UI'!$M$11:$M$109,'TAB-UI'!$D$11:$D$109,B90),0)","v":0},{"$f":"IF(B90<>\"\",SUMIFS('TAB-UI'!$N$11:$N$109,'TAB-UI'!$D$11:$D$109,B90),0)","v":0},{"$f":"IF(B90<>\"\",SUMIFS('TAB-UI'!$O$11:$O$109,'TAB-UI'!$D$11:$D$109,B90),0)","v":0}]
[81,{"$f":"CONDOMINI!B91","v":"C81"},null,{"$f":"IF(C91<>\"\",IFERROR(VLOOKUP(B91,CONDOMINI!$B$11:$C$109,2,FALSE),\"\"),\"\")","v":""},{"$f":"IF(B91<>\"\",SUMIFS('TAB-UI'!$F$11:$F$109,'TAB-UI'!$D$11:$D$109,B91),0)","v":0},{"$f":"IF(B91<>\"\",SUMIFS('TAB-UI'!$G$11:$G$109,'TAB-UI'!$D$11:$D$109,B91),0)","v":0},{"$f":"IF(B91<>\"\",SUMIFS('TAB-UI'!$H$11:$H$109,'TAB-UI'!$D$11:$D$109,B91),0)","v":0},{"$f":"IF(B91<>\"\",SUMIFS('TAB-UI'!$I$11:$I$109,'TAB-UI'!$D$11:$D$109,B91),0)","v":0},{"$f":"IF(B91<>\"\",SUMIFS('TAB-UI'!$J$11:$J$109,'TAB-UI'!$D$11:$D$109,B91),0)","v":0},{"$f":"IF(B91<>\"\",SUMIFS('TAB-UI'!$K$11:$K$109,'TAB-UI'!$D$11:$D$109,B91),0)","v":0},{"$f":"IF(B91<>\"\",SUMIFS('TAB-UI'!$L$11:$L$109,'TAB-UI'!$D$11:$D$109,B91),0)","v":0},{"$f":"IF(B91<>\"\",SUMIFS('TAB-UI'!$M$11:$M$109,'TAB-UI'!$D$11:$D$109,B91),0)","v":0},{"$f":"IF(B91<>\"\",SUMIFS('TAB-UI'!$N$11:$N$109,'TAB-UI'!$D$11:$D$109,B91),0)","v":0},{"$f":"IF(B91<>\"\",SUMIFS('TAB-UI'!$O$11:$O$109,'TAB-UI'!$D$11:$D$109,B91),0)","v":0}]
[82,{"$f":"CONDOMINI!B92","v":"C82"},null,{"$f":"IF(C92<>\"\",IFERROR(VLOOKUP(B92,CONDOMINI!$B$11:$C$109,2,FALSE),\"\"),\"\")","v":""},{"$f":"IF(B92<>\"\",SUMIFS('TAB-UI'!$F$11:$F$109,'TAB-UI'!$D$11:$D$109,B92),0)","v":0},{"$f":"IF(B92<>\"\",SUMIFS('TAB-UI'!$G$11:$G$109,'TAB-UI'!$D$11:$D$109,B92),0)","v":0},{"$f":"IF(B92<>\"\",SUMIFS('TAB-UI'!$H$11:$H$109,'TAB-UI'!$D$11:$D$109,B92),0)","v":0},{"$f":"IF(B92<>\"\",SUMIFS('TAB-UI'!$I$11:$I$109,'TAB-UI'!$D$11:$D$109,B92),0)","v":0},{"$f":"IF(B92<>\"\",SUMIFS('TAB-UI'!$J$11:$J$109,'TAB-UI'!$D$11:$D$109,B92),0)","v":0},{"$f":"IF(B92<>\"\",SUMIFS('TAB-UI'!$K$11:$K$109,'TAB-UI'!$D$11:$D$109,B92),0)","v":0},{"$f":"IF(B92<>\"\",SUMIFS('TAB-UI'!$L$11:$L$109,'TAB-UI'!$D$11:$D$109,B92),0)","v":0},{"$f":"IF(B92<>\"\",SUMIFS('TAB-UI'!$M$11:$M$109,'TAB-UI'!$D$11:$D$109,B92),0)","v":0},{"$f":"IF(B92<>\"\",SUMIFS('TAB-UI'!$N$11:$N$109,'TAB-UI'!$D$11:$D$109,B92),0)","v":0},{"$f":"IF(B92<>\"\",SUMIFS('TAB-UI'!$O$11:$O$109,'TAB-UI'!$D$11:$D$109,B92),0)","v":0}]
[83,{"$f":"CONDOMINI!B93","v":"C83"},null,{"$f":"IF(C93<>\"\",IFERROR(VLOOKUP(B93,CONDOMINI!$B$11:$C$109,2,FALSE),\"\"),\"\")","v":""},{"$f":"IF(B93<>\"\",SUMIFS('TAB-UI'!$F$11:$F$109,'TAB-UI'!$D$11:$D$109,B93),0)","v":0},{"$f":"IF(B93<>\"\",SUMIFS('TAB-UI'!$G$11:$G$109,'TAB-UI'!$D$11:$D$109,B93),0)","v":0},{"$f":"IF(B93<>\"\",SUMIFS('TAB-UI'!$H$11:$H$109,'TAB-UI'!$D$11:$D$109,B93),0)","v":0},{"$f":"IF(B93<>\"\",SUMIFS('TAB-UI'!$I$11:$I$109,'TAB-UI'!$D$11:$D$109,B93),0)","v":0},{"$f":"IF(B93<>\"\",SUMIFS('TAB-UI'!$J$11:$J$109,'TAB-UI'!$D$11:$D$109,B93),0)","v":0},{"$f":"IF(B93<>\"\",SUMIFS('TAB-UI'!$K$11:$K$109,'TAB-UI'!$D$11:$D$109,B93),0)","v":0},{"$f":"IF(B93<>\"\",SUMIFS('TAB-UI'!$L$11:$L$109,'TAB-UI'!$D$11:$D$109,B93),0)","v":0},{"$f":"IF(B93<>\"\",SUMIFS('TAB-UI'!$M$11:$M$109,'TAB-UI'!$D$11:$D$109,B93),0)","v":0},{"$f":"IF(B93<>\"\",SUMIFS('TAB-UI'!$N$11:$N$109,'TAB-UI'!$D$11:$D$109,B93),0)","v":0},{"$f":"IF(B93<>\"\",SUMIFS('TAB-UI'!$O$11:$O$109,'TAB-UI'!$D$11:$D$109,B93),0)","v":0}]
[84,{"$f":"CONDOMINI!B94","v":"C84"},null,{"$f":"IF(C94<>\"\",IFERROR(VLOOKUP(B94,CONDOMINI!$B$11:$C$109,2,FALSE),\"\"),\"\")","v":""},{"$f":"IF(B94<>\"\",SUMIFS('TAB-UI'!$F$11:$F$109,'TAB-UI'!$D$11:$D$109,B94),0)","v":0},{"$f":"IF(B94<>\"\",SUMIFS('TAB-UI'!$G$11:$G$109,'TAB-UI'!$D$11:$D$109,B94),0)","v":0},{"$f":"IF(B94<>\"\",SUMIFS('TAB-UI'!$H$11:$H$109,'TAB-UI'!$D$11:$D$109,B94),0)","v":0},{"$f":"IF(B94<>\"\",SUMIFS('TAB-UI'!$I$11:$I$109,'TAB-UI'!$D$11:$D$109,B94),0)","v":0},{"$f":"IF(B94<>\"\",SUMIFS('TAB-UI'!$J$11:$J$109,'TAB-UI'!$D$11:$D$109,B94),0)","v":0},{"$f":"IF(B94<>\"\",SUMIFS('TAB-UI'!$K$11:$K$109,'TAB-UI'!$D$11:$D$109,B94),0)","v":0},{"$f":"IF(B94<>\"\",SUMIFS('TAB-UI'!$L$11:$L$109,'TAB-UI'!$D$11:$D$109,B94),0)","v":0},{"$f":"IF(B94<>\"\",SUMIFS('TAB-UI'!$M$11:$M$109,'TAB-UI'!$D$11:$D$109,B94),0)","v":0},{"$f":"IF(B94<>\"\",SUMIFS('TAB-UI'!$N$11:$N$109,'TAB-UI'!$D$11:$D$109,B94),0)","v":0},{"$f":"IF(B94<>\"\",SUMIFS('TAB-UI'!$O$11:$O$109,'TAB-UI'!$D$11:$D$109,B94),0)","v":0}]
[85,{"$f":"CONDOMINI!B95","v":"C85"},null,{"$f":"IF(C95<>\"\",IFERROR(VLOOKUP(B95,CONDOMINI!$B$11:$C$109,2,FALSE),\"\"),\"\")","v":""},{"$f":"IF(B95<>\"\",SUMIFS('TAB-UI'!$F$11:$F$109,'TAB-UI'!$D$11:$D$109,B95),0)","v":0},{"$f":"IF(B95<>\"\",SUMIFS('TAB-UI'!$G$11:$G$109,'TAB-UI'!$D$11:$D$109,B95),0)","v":0},{"$f":"IF(B95<>\"\",SUMIFS('TAB-UI'!$H$11:$H$109,'TAB-UI'!$D$11:$D$109,B95),0)","v":0},{"$f":"IF(B95<>\"\",SUMIFS('TAB-UI'!$I$11:$I$109,'TAB-UI'!$D$11:$D$109,B95),0)","v":0},{"$f":"IF(B95<>\"\",SUMIFS('TAB-UI'!$J$11:$J$109,'TAB-UI'!$D$11:$D$109,B95),0)","v":0},{"$f":"IF(B95<>\"\",SUMIFS('TAB-UI'!$K$11:$K$109,'TAB-UI'!$D$11:$D$109,B95),0)","v":0},{"$f":"IF(B95<>\"\",SUMIFS('TAB-UI'!$L$11:$L$109,'TAB-UI'!$D$11:$D$109,B95),0)","v":0},{"$f":"IF(B95<>\"\",SUMIFS('TAB-UI'!$M$11:$M$109,'TAB-UI'!$D$11:$D$109,B95),0)","v":0},{"$f":"IF(B95<>\"\",SUMIFS('TAB-UI'!$N$11:$N$109,'TAB-UI'!$D$11:$D$109,B95),0)","v":0},{"$f":"IF(B95<>\"\",SUMIFS('TAB-UI'!$O$11:$O$109,'TAB-UI'!$D$11:$D$109,B95),0)","v":0}]
[86,{"$f":"CONDOMINI!B96","v":"C86"},null,{"$f":"IF(C96<>\"\",IFERROR(VLOOKUP(B96,CONDOMINI!$B$11:$C$109,2,FALSE),\"\"),\"\")","v":""},{"$f":"IF(B96<>\"\",SUMIFS('TAB-UI'!$F$11:$F$109,'TAB-UI'!$D$11:$D$109,B96),0)","v":0},{"$f":"IF(B96<>\"\",SUMIFS('TAB-UI'!$G$11:$G$109,'TAB-UI'!$D$11:$D$109,B96),0)","v":0},{"$f":"IF(B96<>\"\",SUMIFS('TAB-UI'!$H$11:$H$109,'TAB-UI'!$D$11:$D$109,B96),0)","v":0},{"$f":"IF(B96<>\"\",SUMIFS('TAB-UI'!$I$11:$I$109,'TAB-UI'!$D$11:$D$109,B96),0)","v":0},{"$f":"IF(B96<>\"\",SUMIFS('TAB-UI'!$J$11:$J$109,'TAB-UI'!$D$11:$D$109,B96),0)","v":0},{"$f":"IF(B96<>\"\",SUMIFS('TAB-UI'!$K$11:$K$109,'TAB-UI'!$D$11:$D$109,B96),0)","v":0},{"$f":"IF(B96<>\"\",SUMIFS('TAB-UI'!$L$11:$L$109,'TAB-UI'!$D$11:$D$109,B96),0)","v":0},{"$f":"IF(B96<>\"\",SUMIFS('TAB-UI'!$M$11:$M$109,'TAB-UI'!$D$11:$D$109,B96),0)","v":0},{"$f":"IF(B96<>\"\",SUMIFS('TAB-UI'!$N$11:$N$109,'TAB-UI'!$D$11:$D$109,B96),0)","v":0},{"$f":"IF(B96<>\"\",SUMIFS('TAB-UI'!$O$11:$O$109,'TAB-UI'!$D$11:$D$109,B96),0)","v":0}]
[87,{"$f":"CONDOMINI!B97","v":"C87"},null,{"$f":"IF(C97<>\"\",IFERROR(VLOOKUP(B97,CONDOMINI!$B$11:$C$109,2,FALSE),\"\"),\"\")","v":""},{"$f":"IF(B97<>\"\",SUMIFS('TAB-UI'!$F$11:$F$109,'TAB-UI'!$D$11:$D$109,B97),0)","v":0},{"$f":"IF(B97<>\"\",SUMIFS('TAB-UI'!$G$11:$G$109,'TAB-UI'!$D$11:$D$109,B97),0)","v":0},{"$f":"IF(B97<>\"\",SUMIFS('TAB-UI'!$H$11:$H$109,'TAB-UI'!$D$11:$D$109,B97),0)","v":0},{"$f":"IF(B97<>\"\",SUMIFS('TAB-UI'!$I$11:$I$109,'TAB-UI'!$D$11:$D$109,B97),0)","v":0},{"$f":"IF(B97<>\"\",SUMIFS('TAB-UI'!$J$11:$J$109,'TAB-UI'!$D$11:$D$109,B97),0)","v":0},{"$f":"IF(B97<>\"\",SUMIFS('TAB-UI'!$K$11:$K$109,'TAB-UI'!$D$11:$D$109,B97),0)","v":0},{"$f":"IF(B97<>\"\",SUMIFS('TAB-UI'!$L$11:$L$109,'TAB-UI'!$D$11:$D$109,B97),0)","v":0},{"$f":"IF(B97<>\"\",SUMIFS('TAB-UI'!$M$11:$M$109,'TAB-UI'!$D$11:$D$109,B97),0)","v":0},{"$f":"IF(B97<>\"\",SUMIFS('TAB-UI'!$N$11:$N$109,'TAB-UI'!$D$11:$D$109,B97),0)","v":0},{"$f":"IF(B97<>\"\",SUMIFS('TAB-UI'!$O$11:$O$109,'TAB-UI'!$D$11:$D$109,B97),0)","v":0}]
[88,{"$f":"CONDOMINI!B98","v":"C88"},null,{"$f":"IF(C98<>\"\",IFERROR(VLOOKUP(B98,CONDOMINI!$B$11:$C$109,2,FALSE),\"\"),\"\")","v":""},{"$f":"IF(B98<>\"\",SUMIFS('TAB-UI'!$F$11:$F$109,'TAB-UI'!$D$11:$D$109,B98),0)","v":0},{"$f":"IF(B98<>\"\",SUMIFS('TAB-UI'!$G$11:$G$109,'TAB-UI'!$D$11:$D$109,B98),0)","v":0},{"$f":"IF(B98<>\"\",SUMIFS('TAB-UI'!$H$11:$H$109,'TAB-UI'!$D$11:$D$109,B98),0)","v":0},{"$f":"IF(B98<>\"\",SUMIFS('TAB-UI'!$I$11:$I$109,'TAB-UI'!$D$11:$D$109,B98),0)","v":0},{"$f":"IF(B98<>\"\",SUMIFS('TAB-UI'!$J$11:$J$109,'TAB-UI'!$D$11:$D$109,B98),0)","v":0},{"$f":"IF(B98<>\"\",SUMIFS('TAB-UI'!$K$11:$K$109,'TAB-UI'!$D$11:$D$109,B98),0)","v":0},{"$f":"IF(B98<>\"\",SUMIFS('TAB-UI'!$L$11:$L$109,'TAB-UI'!$D$11:$D$109,B98),0)","v":0},{"$f":"IF(B98<>\"\",SUMIFS('TAB-UI'!$M$11:$M$109,'TAB-UI'!$D$11:$D$109,B98),0)","v":0},{"$f":"IF(B98<>\"\",SUMIFS('TAB-UI'!$N$11:$N$109,'TAB-UI'!$D$11:$D$109,B98),0)","v":0},{"$f":"IF(B98<>\"\",SUMIFS('TAB-UI'!$O$11:$O$109,'TAB-UI'!$D$11:$D$109,B98),0)","v":0}]
[89,{"$f":"CONDOMINI!B99","v":"C89"},null,{"$f":"IF(C99<>\"\",IFERROR(VLOOKUP(B99,CONDOMINI!$B$11:$C$109,2,FALSE),\"\"),\"\")","v":""},{"$f":"IF(B99<>\"\",SUMIFS('TAB-UI'!$F$11:$F$109,'TAB-UI'!$D$11:$D$109,B99),0)","v":0},{"$f":"IF(B99<>\"\",SUMIFS('TAB-UI'!$G$11:$G$109,'TAB-UI'!$D$11:$D$109,B99),0)","v":0},{"$f":"IF(B99<>\"\",SUMIFS('TAB-UI'!$H$11:$H$109,'TAB-UI'!$D$11:$D$109,B99),0)","v":0},{"$f":"IF(B99<>\"\",SUMIFS('TAB-UI'!$I$11:$I$109,'TAB-UI'!$D$11:$D$109,B99),0)","v":0},{"$f":"IF(B99<>\"\",SUMIFS('TAB-UI'!$J$11:$J$109,'TAB-UI'!$D$11:$D$109,B99),0)","v":0},{"$f":"IF(B99<>\"\",SUMIFS('TAB-UI'!$K$11:$K$109,'TAB-UI'!$D$11:$D$109,B99),0)","v":0},{"$f":"IF(B99<>\"\",SUMIFS('TAB-UI'!$L$11:$L$109,'TAB-UI'!$D$11:$D$109,B99),0)","v":0},{"$f":"IF(B99<>\"\",SUMIFS('TAB-UI'!$M$11:$M$109,'TAB-UI'!$D$11:$D$109,B99),0)","v":0},{"$f":"IF(B99<>\"\",SUMIFS('TAB-UI'!$N$11:$N$109,'TAB-UI'!$D$11:$D$109,B99),0)","v":0},{"$f":"IF(B99<>\"\",SUMIFS('TAB-UI'!$O$11:$O$109,'TAB-UI'!$D$11:$D$109,B99),0)","v":0}]
[90,{"$f":"CONDOMINI!B100","v":"C90"},null,{"$f":"IF(C100<>\"\",IFERROR(VLOOKUP(B100,CONDOMINI!$B$11:$C$109,2,FALSE),\"\"),\"\")","v":""},{"$f":"IF(B100<>\"\",SUMIFS('TAB-UI'!$F$11:$F$109,'TAB-UI'!$D$11:$D$109,B100),0)","v":0},{"$f":"IF(B100<>\"\",SUMIFS('TAB-UI'!$G$11:$G$109,'TAB-UI'!$D$11:$D$109,B100),0)","v":0},{"$f":"IF(B100<>\"\",SUMIFS('TAB-UI'!$H$11:$H$109,'TAB-UI'!$D$11:$D$109,B100),0)","v":0},{"$f":"IF(B100<>\"\",SUMIFS('TAB-UI'!$I$11:$I$109,'TAB-UI'!$D$11:$D$109,B100),0)","v":0},{"$f":"IF(B100<>\"\",SUMIFS('TAB-UI'!$J$11:$J$109,'TAB-UI'!$D$11:$D$109,B100),0)","v":0},{"$f":"IF(B100<>\"\",SUMIFS('TAB-UI'!$K$11:$K$109,'TAB-UI'!$D$11:$D$109,B100),0)","v":0},{"$f":"IF(B100<>\"\",SUMIFS('TAB-UI'!$L$11:$L$109,'TAB-UI'!$D$11:$D$109,B100),0)","v":0},{"$f":"IF(B100<>\"\",SUMIFS('TAB-UI'!$M$11:$M$109,'TAB-UI'!$D$11:$D$109,B100),0)","v":0},{"$f":"IF(B100<>\"\",SUMIFS('TAB-UI'!$N$11:$N$109,'TAB-UI'!$D$11:$D$109,B100),0)","v":0},{"$f":"IF(B100<>\"\",SUMIFS('TAB-UI'!$O$11:$O$109,'TAB-UI'!$D$11:$D$109,B100),0)","v":0}]
[91,{"$f":"CONDOMINI!B101","v":"C91"},null,{"$f":"IF(C101<>\"\",IFERROR(VLOOKUP(B101,CONDOMINI!$B$11:$C$109,2,FALSE),\"\"),\"\")","v":""},{"$f":"IF(B101<>\"\",SUMIFS('TAB-UI'!$F$11:$F$109,'TAB-UI'!$D$11:$D$109,B101),0)","v":0},{"$f":"IF(B101<>\"\",SUMIFS('TAB-UI'!$G$11:$G$109,'TAB-UI'!$D$11:$D$109,B101),0)","v":0},{"$f":"IF(B101<>\"\",SUMIFS('TAB-UI'!$H$11:$H$109,'TAB-UI'!$D$11:$D$109,B101),0)","v":0},{"$f":"IF(B101<>\"\",SUMIFS('TAB-UI'!$I$11:$I$109,'TAB-UI'!$D$11:$D$109,B101),0)","v":0},{"$f":"IF(B101<>\"\",SUMIFS('TAB-UI'!$J$11:$J$109,'TAB-UI'!$D$11:$D$109,B101),0)","v":0},{"$f":"IF(B101<>\"\",SUMIFS('TAB-UI'!$K$11:$K$109,'TAB-UI'!$D$11:$D$109,B101),0)","v":0},{"$f":"IF(B101<>\"\",SUMIFS('TAB-UI'!$L$11:$L$109,'TAB-UI'!$D$11:$D$109,B101),0)","v":0},{"$f":"IF(B101<>\"\",SUMIFS('TAB-UI'!$M$11:$M$109,'TAB-UI'!$D$11:$D$109,B101),0)","v":0},{"$f":"IF(B101<>\"\",SUMIFS('TAB-UI'!$N$11:$N$109,'TAB-UI'!$D$11:$D$109,B101),0)","v":0},{"$f":"IF(B101<>\"\",SUMIFS('TAB-UI'!$O$11:$O$109,'TAB-UI'!$D$11:$D$109,B101),0)","v":0}]
[92,{"$f":"CONDOMINI!B102","v":"C92"},null,{"$f":"IF(C102<>\"\",IFERROR(VLOOKUP(B102,CONDOMINI!$B$11:$C$109,2,FALSE),\"\"),\"\")","v":""},{"$f":"IF(B102<>\"\",SUMIFS('TAB-UI'!$F$11:$F$109,'TAB-UI'!$D$11:$D$109,B102),0)","v":0},{"$f":"IF(B102<>\"\",SUMIFS('TAB-UI'!$G$11:$G$109,'TAB-UI'!$D$11:$D$109,B102),0)","v":0},{"$f":"IF(B102<>\"\",SUMIFS('TAB-UI'!$H$11:$H$109,'TAB-UI'!$D$11:$D$109,B102),0)","v":0},{"$f":"IF(B102<>\"\",SUMIFS('TAB-UI'!$I$11:$I$109,'TAB-UI'!$D$11:$D$109,B102),0)","v":0},{"$f":"IF(B102<>\"\",SUMIFS('TAB-UI'!$J$11:$J$109,'TAB-UI'!$D$11:$D$109,B102),0)","v":0},{"$f":"IF(B102<>\"\",SUMIFS('TAB-UI'!$K$11:$K$109,'TAB-UI'!$D$11:$D$109,B102),0)","v":0},{"$f":"IF(B102<>\"\",SUMIFS('TAB-UI'!$L$11:$L$109,'TAB-UI'!$D$11:$D$109,B102),0)","v":0},{"$f":"IF(B102<>\"\",SUMIFS('TAB-UI'!$M$11:$M$109,'TAB-UI'!$D$11:$D$109,B102),0)","v":0},{"$f":"IF(B102<>\"\",SUMIFS('TAB-UI'!$N$11:$N$109,'TAB-UI'!$D$11:$D$109,B102),0)","v":0},{"$f":"IF(B102<>\"\",SUMIFS('TAB-UI'!$O$11:$O$109,'TAB-UI'!$D$11:$D$109,B102),0)","v":0}]
[93,{"$f":"CONDOMINI!B103","v":"C93"},null,{"$f":"IF(C103<>\"\",IFERROR(VLOOKUP(B103,CONDOMINI!$B$11:$C$109,2,FALSE),\"\"),\"\")","v":""},{"$f":"IF(B103<>\"\",SUMIFS('TAB-UI'!$F$11:$F$109,'TAB-UI'!$D$11:$D$109,B103),0)","v":0},{"$f":"IF(B103<>\"\",SUMIFS('TAB-UI'!$G$11:$G$109,'TAB-UI'!$D$11:$D$109,B103),0)","v":0},{"$f":"IF(B103<>\"\",SUMIFS('TAB-UI'!$H$11:$H$109,'TAB-UI'!$D$11:$D$109,B103),0)","v":0},{"$f":"IF(B103<>\"\",SUMIFS('TAB-UI'!$I$11:$I$109,'TAB-UI'!$D$11:$D$109,B103),0)","v":0},{"$f":"IF(B103<>\"\",SUMIFS('TAB-UI'!$J$11:$J$109,'TAB-UI'!$D$11:$D$109,B103),0)","v":0},{"$f":"IF(B103<>\"\",SUMIFS('TAB-UI'!$K$11:$K$109,'TAB-UI'!$D$11:$D$109,B103),0)","v":0},{"$f":"IF(B103<>\"\",SUMIFS('TAB-UI'!$L$11:$L$109,'TAB-UI'!$D$11:$D$109,B103),0)","v":0},{"$f":"IF(B103<>\"\",SUMIFS('TAB-UI'!$M$11:$M$109,'TAB-UI'!$D$11:$D$109,B103),0)","v":0},{"$f":"IF(B103<>\"\",SUMIFS('TAB-UI'!$N$11:$N$109,'TAB-UI'!$D$11:$D$109,B103),0)","v":0},{"$f":"IF(B103<>\"\",SUMIFS('TAB-UI'!$O$11:$O$109,'TAB-UI'!$D$11:$D$109,B103),0)","v":0}]
[94,{"$f":"CONDOMINI!B104","v":"C94"},null,{"$f":"IF(C104<>\"\",IFERROR(VLOOKUP(B104,CONDOMINI!$B$11:$C$109,2,FALSE),\"\"),\"\")","v":""},{"$f":"IF(B104<>\"\",SUMIFS('TAB-UI'!$F$11:$F$109,'TAB-UI'!$D$11:$D$109,B104),0)","v":0},{"$f":"IF(B104<>\"\",SUMIFS('TAB-UI'!$G$11:$G$109,'TAB-UI'!$D$11:$D$109,B104),0)","v":0},{"$f":"IF(B104<>\"\",SUMIFS('TAB-UI'!$H$11:$H$109,'TAB-UI'!$D$11:$D$109,B104),0)","v":0},{"$f":"IF(B104<>\"\",SUMIFS('TAB-UI'!$I$11:$I$109,'TAB-UI'!$D$11:$D$109,B104),0)","v":0},{"$f":"IF(B104<>\"\",SUMIFS('TAB-UI'!$J$11:$J$109,'TAB-UI'!$D$11:$D$109,B104),0)","v":0},{"$f":"IF(B104<>\"\",SUMIFS('TAB-UI'!$K$11:$K$109,'TAB-UI'!$D$11:$D$109,B104),0)","v":0},{"$f":"IF(B104<>\"\",SUMIFS('TAB-UI'!$L$11:$L$109,'TAB-UI'!$D$11:$D$109,B104),0)","v":0},{"$f":"IF(B104<>\"\",SUMIFS('TAB-UI'!$M$11:$M$109,'TAB-UI'!$D$11:$D$109,B104),0)","v":0},{"$f":"IF(B104<>\"\",SUMIFS('TAB-UI'!$N$11:$N$109,'TAB-UI'!$D$11:$D$109,B104),0)","v":0},{"$f":"IF(B104<>\"\",SUMIFS('TAB-UI'!$O$11:$O$109,'TAB-UI'!$D$11:$D$109,B104),0)","v":0}]
[95,{"$f":"CONDOMINI!B105","v":"C95"},null,{"$f":"IF(C105<>\"\",IFERROR(VLOOKUP(B105,CONDOMINI!$B$11:$C$109,2,FALSE),\"\"),\"\")","v":""},{"$f":"IF(B105<>\"\",SUMIFS('TAB-UI'!$F$11:$F$109,'TAB-UI'!$D$11:$D$109,B105),0)","v":0},{"$f":"IF(B105<>\"\",SUMIFS('TAB-UI'!$G$11:$G$109,'TAB-UI'!$D$11:$D$109,B105),0)","v":0},{"$f":"IF(B105<>\"\",SUMIFS('TAB-UI'!$H$11:$H$109,'TAB-UI'!$D$11:$D$109,B105),0)","v":0},{"$f":"IF(B105<>\"\",SUMIFS('TAB-UI'!$I$11:$I$109,'TAB-UI'!$D$11:$D$109,B105),0)","v":0},{"$f":"IF(B105<>\"\",SUMIFS('TAB-UI'!$J$11:$J$109,'TAB-UI'!$D$11:$D$109,B105),0)","v":0},{"$f":"IF(B105<>\"\",SUMIFS('TAB-UI'!$K$11:$K$109,'TAB-UI'!$D$11:$D$109,B105),0)","v":0},{"$f":"IF(B105<>\"\",SUMIFS('TAB-UI'!$L$11:$L$109,'TAB-UI'!$D$11:$D$109,B105),0)","v":0},{"$f":"IF(B105<>\"\",SUMIFS('TAB-UI'!$M$11:$M$109,'TAB-UI'!$D$11:$D$109,B105),0)","v":0},{"$f":"IF(B105<>\"\",SUMIFS('TAB-UI'!$N$11:$N$109,'TAB-UI'!$D$11:$D$109,B105),0)","v":0},{"$f":"IF(B105<>\"\",SUMIFS('TAB-UI'!$O$11:$O$109,'TAB-UI'!$D$11:$D$109,B105),0)","v":0}]
[96,{"$f":"CONDOMINI!B106","v":"C96"},null,{"$f":"IF(C106<>\"\",IFERROR(VLOOKUP(B106,CONDOMINI!$B$11:$C$109,2,FALSE),\"\"),\"\")","v":""},{"$f":"IF(B106<>\"\",SUMIFS('TAB-UI'!$F$11:$F$109,'TAB-UI'!$D$11:$D$109,B106),0)","v":0},{"$f":"IF(B106<>\"\",SUMIFS('TAB-UI'!$G$11:$G$109,'TAB-UI'!$D$11:$D$109,B106),0)","v":0},{"$f":"IF(B106<>\"\",SUMIFS('TAB-UI'!$H$11:$H$109,'TAB-UI'!$D$11:$D$109,B106),0)","v":0},{"$f":"IF(B106<>\"\",SUMIFS('TAB-UI'!$I$11:$I$109,'TAB-UI'!$D$11:$D$109,B106),0)","v":0},{"$f":"IF(B106<>\"\",SUMIFS('TAB-UI'!$J$11:$J$109,'TAB-UI'!$D$11:$D$109,B106),0)","v":0},{"$f":"IF(B106<>\"\",SUMIFS('TAB-UI'!$K$11:$K$109,'TAB-UI'!$D$11:$D$109,B106),0)","v":0},{"$f":"IF(B106<>\"\",SUMIFS('TAB-UI'!$L$11:$L$109,'TAB-UI'!$D$11:$D$109,B106),0)","v":0},{"$f":"IF(B106<>\"\",SUMIFS('TAB-UI'!$M$11:$M$109,'TAB-UI'!$D$11:$D$109,B106),0)","v":0},{"$f":"IF(B106<>\"\",SUMIFS('TAB-UI'!$N$11:$N$109,'TAB-UI'!$D$11:$D$109,B106),0)","v":0},{"$f":"IF(B106<>\"\",SUMIFS('TAB-UI'!$O$11:$O$109,'TAB-UI'!$D$11:$D$109,B106),0)","v":0}]
[97,{"$f":"CONDOMINI!B107","v":"C97"},null,{"$f":"IF(C107<>\"\",IFERROR(VLOOKUP(B107,CONDOMINI!$B$11:$C$109,2,FALSE),\"\"),\"\")","v":""},{"$f":"IF(B107<>\"\",SUMIFS('TAB-UI'!$F$11:$F$109,'TAB-UI'!$D$11:$D$109,B107),0)","v":0},{"$f":"IF(B107<>\"\",SUMIFS('TAB-UI'!$G$11:$G$109,'TAB-UI'!$D$11:$D$109,B107),0)","v":0},{"$f":"IF(B107<>\"\",SUMIFS('TAB-UI'!$H$11:$H$109,'TAB-UI'!$D$11:$D$109,B107),0)","v":0},{"$f":"IF(B107<>\"\",SUMIFS('TAB-UI'!$I$11:$I$109,'TAB-UI'!$D$11:$D$109,B107),0)","v":0},{"$f":"IF(B107<>\"\",SUMIFS('TAB-UI'!$J$11:$J$109,'TAB-UI'!$D$11:$D$109,B107),0)","v":0},{"$f":"IF(B107<>\"\",SUMIFS('TAB-UI'!$K$11:$K$109,'TAB-UI'!$D$11:$D$109,B107),0)","v":0},{"$f":"IF(B107<>\"\",SUMIFS('TAB-UI'!$L$11:$L$109,'TAB-UI'!$D$11:$D$109,B107),0)","v":0},{"$f":"IF(B107<>\"\",SUMIFS('TAB-UI'!$M$11:$M$109,'TAB-UI'!$D$11:$D$109,B107),0)","v":0},{"$f":"IF(B107<>\"\",SUMIFS('TAB-UI'!$N$11:$N$109,'TAB-UI'!$D$11:$D$109,B107),0)","v":0},{"$f":"IF(B107<>\"\",SUMIFS('TAB-UI'!$O$11:$O$109,'TAB-UI'!$D$11:$D$109,B107),0)","v":0}]
[98,{"$f":"CONDOMINI!B108","v":"C98"},null,{"$f":"IF(C108<>\"\",IFERROR(VLOOKUP(B108,CONDOMINI!$B$11:$C$109,2,FALSE),\"\"),\"\")","v":""},{"$f":"IF(B108<>\"\",SUMIFS('TAB-UI'!$F$11:$F$109,'TAB-UI'!$D$11:$D$109,B108),0)","v":0},{"$f":"IF(B108<>\"\",SUMIFS('TAB-UI'!$G$11:$G$109,'TAB-UI'!$D$11:$D$109,B108),0)","v":0},{"$f":"IF(B108<>\"\",SUMIFS('TAB-UI'!$H$11:$H$109,'TAB-UI'!$D$11:$D$109,B108),0)","v":0},{"$f":"IF(B108<>\"\",SUMIFS('TAB-UI'!$I$11:$I$109,'TAB-UI'!$D$11:$D$109,B108),0)","v":0},{"$f":"IF(B108<>\"\",SUMIFS('TAB-UI'!$J$11:$J$109,'TAB-UI'!$D$11:$D$109,B108),0)","v":0},{"$f":"IF(B108<>\"\",SUMIFS('TAB-UI'!$K$11:$K$109,'TAB-UI'!$D$11:$D$109,B108),0)","v":0},{"$f":"IF(B108<>\"\",SUMIFS('TAB-UI'!$L$11:$L$109,'TAB-UI'!$D$11:$D$109,B108),0)","v":0},{"$f":"IF(B108<>\"\",SUMIFS('TAB-UI'!$M$11:$M$109,'TAB-UI'!$D$11:$D$109,B108),0)","v":0},{"$f":"IF(B108<>\"\",SUMIFS('TAB-UI'!$N$11:$N$109,'TAB-UI'!$D$11:$D$109,B108),0)","v":0},{"$f":"IF(B108<>\"\",SUMIFS('TAB-UI'!$O$11:$O$109,'TAB-UI'!$D$11:$D$109,B108),0)","v":0}]
[99,{"$f":"CONDOMINI!B109","v":"C99"},null,{"$f":"IF(C109<>\"\",IFERROR(VLOOKUP(B109,CONDOMINI!$B$11:$C$109,2,FALSE),\"\"),\"\")","v":""},{"$f":"IF(B109<>\"\",SUMIFS('TAB-UI'!$F$11:$F$109,'TAB-UI'!$D$11:$D$109,B109),0)","v":0},{"$f":"IF(B109<>\"\",SUMIFS('TAB-UI'!$G$11:$G$109,'TAB-UI'!$D$11:$D$109,B109),0)","v":0},{"$f":"IF(B109<>\"\",SUMIFS('TAB-UI'!$H$11:$H$109,'TAB-UI'!$D$11:$D$109,B109),0)","v":0},{"$f":"IF(B109<>\"\",SUMIFS('TAB-UI'!$I$11:$I$109,'TAB-UI'!$D$11:$D$109,B109),0)","v":0},{"$f":"IF(B109<>\"\",SUMIFS('TAB-UI'!$J$11:$J$109,'TAB-UI'!$D$11:$D$109,B109),0)","v":0},{"$f":"IF(B109<>\"\",SUMIFS('TAB-UI'!$K$11:$K$109,'TAB-UI'!$D$11:$D$109,B109),0)","v":0},{"$f":"IF(B109<>\"\",SUMIFS('TAB-UI'!$L$11:$L$109,'TAB-UI'!$D$11:$D$109,B109),0)","v":0},{"$f":"IF(B109<>\"\",SUMIFS('TAB-UI'!$M$11:$M$109,'TAB-UI'!$D$11:$D$109,B109),0)","v":0},{"$f":"IF(B109<>\"\",SUMIFS('TAB-UI'!$N$11:$N$109,'TAB-UI'!$D$11:$D$109,B109),0)","v":0},{"$f":"IF(B109<>\"\",SUMIFS('TAB-UI'!$O$11:$O$109,'TAB-UI'!$D$11:$D$109,B109),0)","v":0}]
[null,null,null,"TOTALI",{"$f":"SUM(E11:E109)","v":999.99999999999989},{"$f":"SUM(F11:F109)","v":1000.0000000000001},1000,0,0,{"$f":"SUM(J11:J109)","v":0},0,0,0,0]
[0,null,null,null,null,null,null,null,null,null,null,null,null,null,0]

{"sheet":"PIANOCONTI_U","index":12,"n_rows":202,"n_cols":4,"rows_kept":202,"cut":false,"hidden":true,"merged":[[0,0,0,2],[7,0,7,2],[8,0,9,0],[8,1,9,1],[8,2,9,2],[4,0,4,2]]}
["!!! Non variare il contenuto delle celle con sfondo colorato.",null,null,0]
[]
[]
[]
["PIANI DEI CONTI DEL FONDO LAVORI"]
[{"$f":"DATIG!A40","v":"Lavori messa in sicurezza fondazioni da infiltrazioni fognarie"}]
[{"$f":"\"Codice del fondo: \" & DATIG!A37","v":"Codice del fondo: LAVORO-01"}]
["PIANO DELLE USCITE"]
["CAPITOLI e VOCI","TABELLA","CODICE"]
[]
["SPESE GENERALI e NON DETRABILI","RIPART.","S.01"]
["SPESE VARIE AMMINISTRATIVE (tabella A)","A","S.01.01"]
["SPESE VARIE AMMINISTRATIVE (tabella B)","B","S.01.02"]
["SPESE VARIE AMMINISTRATIVE (tabella C)","C","S.01.03"]
["DIRITTI BOLLI TASSE (tabella A)","A","S.01.04"]
["DIRITTI BOLLI TASSE (tabella B)","B","S.01.05"]
["DIRITTI BOLLI TASSE (tabella C)","C","S.01.06"]
["COMPENSI A TERZI (tabella A)","A","S.01.07"]
["COMPENSI A TERZI (tabella B)","B","S.01.08"]
["COMPENSI A TERZI (tabella C)","C","S.01.09"]
["ALTRE SPESE DOCUMENTATI (tabella A)","A","S.01.10"]
["ALTRE SPESE DOCUMENTATI (tabella B)","B","S.01.11"]
["ALTRE SPESE DOCUMENTATI (tabella C)","C","S.01.12"]
[null,null,"S.01.11"]
[null,null,"S.01.12"]
[null,null,"S.01.13"]
["COMPETENZE TECNICHE - Prog., D.L. e collaudi (detr.)",null,"S.02"]
["Ricadenti in Tabella A","A","S.02.01"]
["Ricadenti in Tabella B","B","S.02.02"]
["Ricadenti in Tabella C","C","S.02.03"]
[null,null,"S.02.04"]
[null,null,"S.02.05"]
[null,null,"S.02.06"]
[null,null,"S.02.07"]
[null,null,"S.02.08"]
[null,null,"S.02.09"]
[null,null,"S.02.10"]
["LAVORI (detraibili)",null,"S.03"]
["Importo lavori ricadenti in tabella A","A","S.03.01"]
["Importo lavori ricadenti in tabella B","B","S.03.02"]
["Importo lavori ricadenti in tabella C","C","S.03.03"]
[null,null,"S.03.04"]
[null,null,"S.03.05"]
[null,null,"S.03.06"]
[null,null,"S.03.07"]
[null,null,"S.03.08"]
[null,null,"S.03.09"]
[null,null,"S.03.10"]
["SPESE VARIE E IMPREVISTI (detraibili)",null,"S.04"]
["Ricadenti in Tabella A","A","S.04.01"]
["Ricadenti in Tabella B","B","S.04.02"]
["Ricadenti in Tabella C","C","S.04.03"]
[null,null,"S.04.04"]
[null,null,"S.04.05"]
[null,null,"S.04.06"]
[null,null,"S.04.07"]
[null,null,"S.04.08"]
[null,null,"S.04.09"]
[null,null,"S.04.10"]
["LAVORI (non detraibili)",null,"S.05"]
["Ricadenti in Tabella A","A","S.05.01"]
["Ricadenti in Tabella B","B","S.05.02"]
[null,null,"S.05.03"]
[null,null,"S.05.04"]
[null,null,"S.05.05"]
[null,null,"S.05.06"]
[null,null,"S.05.07"]
[null,null,"S.05.08"]
[null,null,"S.05.09"]
[null,null,"S.05.10"]
[null,null,"S.06"]
[null,null,"S.06.01"]
[null,null,"S.06.02"]
[null,null,"S.06.03"]
[null,null,"S.06.04"]
[null,null,"S.06.05"]
[null,null,"S.07"]
[null,null,"S.07.01"]
[null,null,"S.07.02"]
[null,null,"S.07.03"]
[null,null,"S.07.04"]
[null,null,"S.07.05"]
[null,null,"L"]
[null,null,"L.00.01"]
[null,null,"L.00.02"]
[null,null,"L.00.03"]
[null,null,"L.00.04"]
[null,null,"L.00.05"]
[null,null,"G"]
[null,null,"G.00.01"]
[null,null,"G.00.02"]
[null,null,"G.00.03"]
[null,null,"G.00.04"]
[null,null,"G.00.05"]
["SPESE PERSONALI PER UNITÀ FUNZIONALE (detraibili)",null,"P"]
[{"$f":"\"Unità funzionale condominiale \" & UF!B11","v":"Unità funzionale condominiale UFC01"},null,"P.00.01"]
[{"$f":"\"Unità funzionale condominiale \" & UF!B12","v":"Unità funzionale condominiale UFC02"},null,"P.00.02"]
[{"$f":"\"Unità funzionale condominiale \" & UF!B13","v":"Unità funzionale condominiale UFC03"},null,"P.00.03"]
[{"$f":"\"Unità funzionale condominiale \" & UF!B14","v":"Unità funzionale condominiale UFC04"},null,"P.00.04"]
[{"$f":"\"Unità funzionale condominiale \" & UF!B15","v":"Unità funzionale condominiale UFC05"},null,"P.00.05"]
[{"$f":"\"Unità funzionale condominiale \" & UF!B16","v":"Unità funzionale condominiale UFC06"},null,"P.00.06"]
[{"$f":"\"Unità funzionale condominiale \" & UF!B17","v":"Unità funzionale condominiale UFC07"},null,"P.00.07"]
[{"$f":"\"Unità funzionale condominiale \" & UF!B18","v":"Unità funzionale condominiale UFC08"},null,"P.00.08"]
[{"$f":"\"Unità funzionale condominiale \" & UF!B19","v":"Unità funzionale condominiale UFC09"},null,"P.00.09"]
[{"$f":"\"Unità funzionale condominiale \" & UF!B20","v":"Unità funzionale condominiale UFC10"},null,"P.00.10"]
[{"$f":"\"Unità funzionale condominiale \" & UF!B21","v":"Unità funzionale condominiale UFC11"},null,"P.00.11"]
[{"$f":"\"Unità funzionale condominiale \" & UF!B22","v":"Unità funzionale condominiale UFC12"},null,"P.00.12"]
[{"$f":"\"Unità funzionale condominiale \" & UF!B23","v":"Unità funzionale condominiale UFC13"},null,"P.00.13"]
[{"$f":"\"Unità funzionale condominiale \" & UF!B24","v":"Unità funzionale condominiale UFC14"},null,"P.00.14"]
[{"$f":"\"Unità funzionale condominiale \" & UF!B25","v":"Unità funzionale condominiale UFC15"},null,"P.00.15"]
[{"$f":"\"Unità funzionale condominiale \" & UF!B26","v":"Unità funzionale condominiale UFC16"},null,"P.00.16"]
[{"$f":"\"Unità funzionale condominiale \" & UF!B27","v":"Unità funzionale condominiale UFC17"},null,"P.00.17"]
[{"$f":"\"Unità funzionale condominiale \" & UF!B28","v":"Unità funzionale condominiale UFC18"},null,"P.00.18"]
[{"$f":"\"Unità funzionale condominiale \" & UF!B29","v":"Unità funzionale condominiale UFC19"},null,"P.00.19"]
[{"$f":"\"Unità funzionale condominiale \" & UF!B30","v":"Unità funzionale condominiale UFC20"},null,"P.00.20"]
[{"$f":"\"Unità funzionale condominiale \" & UF!B31","v":"Unità funzionale condominiale UFC21"},null,"P.00.21"]
[{"$f":"\"Unità funzionale condominiale \" & UF!B32","v":"Unità funzionale condominiale UFC22"},null,"P.00.22"]
[{"$f":"\"Unità funzionale condominiale \" & UF!B33","v":"Unità funzionale condominiale UFC23"},null,"P.00.23"]
[{"$f":"\"Unità funzionale condominiale \" & UF!B34","v":"Unità funzionale condominiale UFC24"},null,"P.00.24"]
[{"$f":"\"Unità funzionale condominiale \" & UF!B35","v":"Unità funzionale condominiale UFC25"},null,"P.00.25"]
[{"$f":"\"Unità funzionale condominiale \" & UF!B36","v":"Unità funzionale condominiale UFC26"},null,"P.00.26"]
[{"$f":"\"Unità funzionale condominiale \" & UF!B37","v":"Unità funzionale condominiale UFC27"},null,"P.00.27"]
[{"$f":"\"Unità funzionale condominiale \" & UF!B38","v":"Unità funzionale condominiale UFC28"},null,"P.00.28"]
[{"$f":"\"Unità funzionale condominiale \" & UF!B39","v":"Unità funzionale condominiale UFC29"},null,"P.00.29"]
[{"$f":"\"Unità funzionale condominiale \" & UF!B40","v":"Unità funzionale condominiale UFC30"},null,"P.00.30"]
[{"$f":"\"Unità funzionale condominiale \" & UF!B41","v":"Unità funzionale condominiale UFC31"},null,"P.00.31"]
[{"$f":"\"Unità funzionale condominiale \" & UF!B42","v":"Unità funzionale condominiale UFC32"},null,"P.00.32"]
[{"$f":"\"Unità funzionale condominiale \" & UF!B43","v":"Unità funzionale condominiale UFC33"},null,"P.00.33"]
[{"$f":"\"Unità funzionale condominiale \" & UF!B44","v":"Unità funzionale condominiale UFC34"},null,"P.00.34"]
[{"$f":"\"Unità funzionale condominiale \" & UF!B45","v":"Unità funzionale condominiale UFC35"},null,"P.00.35"]
[{"$f":"\"Unità funzionale condominiale \" & UF!B46","v":"Unità funzionale condominiale UFC36"},null,"P.00.36"]
[{"$f":"\"Unità funzionale condominiale \" & UF!B47","v":"Unità funzionale condominiale UFC37"},null,"P.00.37"]
[{"$f":"\"Unità funzionale condominiale \" & UF!B48","v":"Unità funzionale condominiale UFC38"},null,"P.00.38"]
[{"$f":"\"Unità funzionale condominiale \" & UF!B49","v":"Unità funzionale condominiale UFC39"},null,"P.00.39"]
[{"$f":"\"Unità funzionale condominiale \" & UF!B50","v":"Unità funzionale condominiale UFC40"},null,"P.00.40"]
[{"$f":"\"Unità funzionale condominiale \" & UF!B51","v":"Unità funzionale condominiale UFC41"},null,"P.00.41"]
[{"$f":"\"Unità funzionale condominiale \" & UF!B52","v":"Unità funzionale condominiale UFC42"},null,"P.00.42"]
[{"$f":"\"Unità funzionale condominiale \" & UF!B53","v":"Unità funzionale condominiale UFC43"},null,"P.00.43"]
[{"$f":"\"Unità funzionale condominiale \" & UF!B54","v":"Unità funzionale condominiale UFC44"},null,"P.00.44"]
[{"$f":"\"Unità funzionale condominiale \" & UF!B55","v":"Unità funzionale condominiale UFC45"},null,"P.00.45"]
[{"$f":"\"Unità funzionale condominiale \" & UF!B56","v":"Unità funzionale condominiale UFC46"},null,"P.00.46"]
[{"$f":"\"Unità funzionale condominiale \" & UF!B57","v":"Unità funzionale condominiale UFC47"},null,"P.00.47"]
[{"$f":"\"Unità funzionale condominiale \" & UF!B58","v":"Unità funzionale condominiale UFC48"},null,"P.00.48"]
[{"$f":"\"Unità funzionale condominiale \" & UF!B59","v":"Unità funzionale condominiale UFC49"},null,"P.00.49"]
[{"$f":"\"Unità funzionale condominiale \" & UF!B60","v":"Unità funzionale condominiale UFC50"},null,"P.00.50"]
[{"$f":"\"Unità funzionale condominiale \" & UF!B61","v":"Unità funzionale condominiale UFC51"},null,"P.00.51"]
[{"$f":"\"Unità funzionale condominiale \" & UF!B62","v":"Unità funzionale condominiale UFC52"},null,"P.00.52"]
[{"$f":"\"Unità funzionale condominiale \" & UF!B63","v":"Unità funzionale condominiale UFC53"},null,"P.00.53"]
[{"$f":"\"Unità funzionale condominiale \" & UF!B64","v":"Unità funzionale condominiale UFC54"},null,"P.00.54"]
[{"$f":"\"Unità funzionale condominiale \" & UF!B65","v":"Unità funzionale condominiale UFC55"},null,"P.00.55"]
[{"$f":"\"Unità funzionale condominiale \" & UF!B66","v":"Unità funzionale condominiale UFC56"},null,"P.00.56"]
[{"$f":"\"Unità funzionale condominiale \" & UF!B67","v":"Unità funzionale condominiale UFC57"},null,"P.00.57"]
[{"$f":"\"Unità funzionale condominiale \" & UF!B68","v":"Unità funzionale condominiale UFC58"},null,"P.00.58"]
[{"$f":"\"Unità funzionale condominiale \" & UF!B69","v":"Unità funzionale condominiale UFC59"},null,"P.00.59"]
[{"$f":"\"Unità funzionale condominiale \" & UF!B70","v":"Unità funzionale condominiale UFC60"},null,"P.00.60"]
[{"$f":"\"Unità funzionale condominiale \" & UF!B71","v":"Unità funzionale condominiale UFC61"},null,"P.00.61"]
[{"$f":"\"Unità funzionale condominiale \" & UF!B72","v":"Unità funzionale condominiale UFC62"},null,"P.00.62"]
[{"$f":"\"Unità funzionale condominiale \" & UF!B73","v":"Unità funzionale condominiale UFC63"},null,"P.00.63"]
[{"$f":"\"Unità funzionale condominiale \" & UF!B74","v":"Unità funzionale condominiale UFC64"},null,"P.00.64"]
[{"$f":"\"Unità funzionale condominiale \" & UF!B75","v":"Unità funzionale condominiale UFC65"},null,"P.00.65"]
[{"$f":"\"Unità funzionale condominiale \" & UF!B76","v":"Unità funzionale condominiale UFC66"},null,"P.00.66"]
[{"$f":"\"Unità funzionale condominiale \" & UF!B77","v":"Unità funzionale condominiale UFC67"},null,"P.00.67"]
[{"$f":"\"Unità funzionale condominiale \" & UF!B78","v":"Unità funzionale condominiale UFC68"},null,"P.00.68"]
[{"$f":"\"Unità funzionale condominiale \" & UF!B79","v":"Unità funzionale condominiale UFC69"},null,"P.00.69"]
[{"$f":"\"Unità funzionale condominiale \" & UF!B80","v":"Unità funzionale condominiale UFC70"},null,"P.00.70"]
[{"$f":"\"Unità funzionale condominiale \" & UF!B81","v":"Unità funzionale condominiale UFC71"},null,"P.00.71"]
[{"$f":"\"Unità funzionale condominiale \" & UF!B82","v":"Unità funzionale condominiale UFC72"},null,"P.00.72"]
[{"$f":"\"Unità funzionale condominiale \" & UF!B83","v":"Unità funzionale condominiale UFC73"},null,"P.00.73"]
[{"$f":"\"Unità funzionale condominiale \" & UF!B84","v":"Unità funzionale condominiale UFC74"},null,"P.00.74"]
[{"$f":"\"Unità funzionale condominiale \" & UF!B85","v":"Unità funzionale condominiale UFC75"},null,"P.00.75"]
[{"$f":"\"Unità funzionale condominiale \" & UF!B86","v":"Unità funzionale condominiale UFC76"},null,"P.00.76"]
[{"$f":"\"Unità funzionale condominiale \" & UF!B87","v":"Unità funzionale condominiale UFC77"},null,"P.00.77"]
[{"$f":"\"Unità funzionale condominiale \" & UF!B88","v":"Unità funzionale condominiale UFC78"},null,"P.00.78"]
[{"$f":"\"Unità funzionale condominiale \" & UF!B89","v":"Unità funzionale condominiale UFC79"},null,"P.00.79"]
[{"$f":"\"Unità funzionale condominiale \" & UF!B90","v":"Unità funzionale condominiale UFC80"},null,"P.00.80"]
[{"$f":"\"Unità funzionale condominiale \" & UF!B91","v":"Unità funzionale condominiale UFC81"},null,"P.00.81"]
[{"$f":"\"Unità funzionale condominiale \" & UF!B92","v":"Unità funzionale condominiale UFC82"},null,"P.00.82"]
[{"$f":"\"Unità funzionale condominiale \" & UF!B93","v":"Unità funzionale condominiale UFC83"},null,"P.00.83"]
[{"$f":"\"Unità funzionale condominiale \" & UF!B94","v":"Unità funzionale condominiale UFC84"},null,"P.00.84"]
[{"$f":"\"Unità funzionale condominiale \" & UF!B95","v":"Unità funzionale condominiale UFC85"},null,"P.00.85"]
[{"$f":"\"Unità funzionale condominiale \" & UF!B96","v":"Unità funzionale condominiale UFC86"},null,"P.00.86"]
[{"$f":"\"Unità funzionale condominiale \" & UF!B97","v":"Unità funzionale condominiale UFC87"},null,"P.00.87"]
[{"$f":"\"Unità funzionale condominiale \" & UF!B98","v":"Unità funzionale condominiale UFC88"},null,"P.00.88"]
[{"$f":"\"Unità funzionale condominiale \" & UF!B99","v":"Unità funzionale condominiale UFC89"},null,"P.00.89"]
[{"$f":"\"Unità funzionale condominiale \" & UF!B100","v":"Unità funzionale condominiale UFC90"},null,"P.00.90"]
[{"$f":"\"Unità funzionale condominiale \" & UF!B101","v":"Unità funzionale condominiale UFC91"},null,"P.00.91"]
[{"$f":"\"Unità funzionale condominiale \" & UF!B102","v":"Unità funzionale condominiale UFC92"},null,"P.00.92"]
[{"$f":"\"Unità funzionale condominiale \" & UF!B103","v":"Unità funzionale condominiale UFC93"},null,"P.00.93"]
[{"$f":"\"Unità funzionale condominiale \" & UF!B104","v":"Unità funzionale condominiale UFC94"},null,"P.00.94"]
[{"$f":"\"Unità funzionale condominiale \" & UF!B105","v":"Unità funzionale condominiale UFC95"},null,"P.00.95"]
[{"$f":"\"Unità funzionale condominiale \" & UF!B106","v":"Unità funzionale condominiale UFC96"},null,"P.00.96"]
[{"$f":"\"Unità funzionale condominiale \" & UF!B107","v":"Unità funzionale condominiale UFC97"},null,"P.00.97"]
[{"$f":"\"Unità funzionale condominiale \" & UF!B108","v":"Unità funzionale condominiale UFC98"},null,"P.00.98"]
[{"$f":"\"Unità funzionale condominiale \" & UF!B109","v":"Unità funzionale condominiale UFC99"},null,"P.00.99"]
["PAGAMENTI DEBITI E RESTITUZIONI VARIE",null,"U"]
["Restituzioni a Condomini (versamenti in eccesso)",null,"U.00.01"]
["Restituzioni Prestiti (a Gestione Ordinaria)",null,"U.00.02"]
["Restituzione Prestiti (a Terzi)",null,"U.00.03"]
[null,null,"U.00.04"]
[null,null,"U.00.05"]
[]
[0,null,null,0]

{"sheet":"PIANOCONTI_E","index":13,"n_rows":146,"n_cols":3,"rows_kept":146,"cut":false,"hidden":true,"merged":[[0,0,0,1],[8,0,8,1]]}
["!!! Non variare il contenuto delle celle con sfondo colorato.",null,0]
[]
[]
[]
[]
["PIANO DEI CONTI DEL FONDO LAVORI"]
[{"$f":"DATIG!A40","v":"Lavori messa in sicurezza fondazioni da infiltrazioni fognarie"}]
[{"$f":"\"Codice del fondo: \" & DATIG!A37","v":"Codice del fondo: LAVORO-01"}]
["PIANO DELLE ENTRATE"]
["VOCE","CODICI"]
["PROVENTI DIVERSI","E"]
["Rimborso da Assicurazione","E.01.01"]
[null,"E.01.02"]
[null,"E.01.03"]
[null,"E.01.04"]
[null,"E.01.05"]
[]
[]
[]
[]
[]
[]
[]
[]
[]
[]
[]
[]
[]
[]
[]
[]
[]
[]
[]
[]
[]
[]
["INCASSO QUOTE PER UNITÀ IMMOBILIARE ","Q (QUOTE)"]
[{"$f":"IF(UI!E11<>\"\",\"QUOTA Unità \" & UI!B11 & \" di proprietà \"& UI!E11,\"\")","v":"QUOTA Unità U01 di proprietà CONDOMINO01"},{"$f":"IF(UI!E11<>\"\",\"Q.\" & RIGHT(UI!B11,2) & \".\" & RIGHT(UI!E11,2),\"\")","v":"Q.01.01"}]
[{"$f":"IF(UI!E12<>\"\",\"QUOTA Unità \" & UI!B12 & \" di proprietà \"& UI!E12,\"\")","v":"QUOTA Unità U02 di proprietà CONDOMINO02"},{"$f":"IF(UI!E12<>\"\",\"Q.\" & RIGHT(UI!B12,2) & \".\" & RIGHT(UI!E12,2),\"\")","v":"Q.02.02"}]
[{"$f":"IF(UI!E13<>\"\",\"QUOTA Unità \" & UI!B13 & \" di proprietà \"& UI!E13,\"\")","v":"QUOTA Unità U03 di proprietà CONDOMINO03"},{"$f":"IF(UI!E13<>\"\",\"Q.\" & RIGHT(UI!B13,2) & \".\" & RIGHT(UI!E13,2),\"\")","v":"Q.03.03"}]
[{"$f":"IF(UI!E14<>\"\",\"QUOTA Unità \" & UI!B14 & \" di proprietà \"& UI!E14,\"\")","v":"QUOTA Unità U04 di proprietà CONDOMINO04"},{"$f":"IF(UI!E14<>\"\",\"Q.\" & RIGHT(UI!B14,2) & \".\" & RIGHT(UI!E14,2),\"\")","v":"Q.04.04"}]
[{"$f":"IF(UI!E15<>\"\",\"QUOTA Unità \" & UI!B15 & \" di proprietà \"& UI!E15,\"\")","v":"QUOTA Unità U05 di proprietà CONDOMINO05"},{"$f":"IF(UI!E15<>\"\",\"Q.\" & RIGHT(UI!B15,2) & \".\" & RIGHT(UI!E15,2),\"\")","v":"Q.05.05"}]
[{"$f":"IF(UI!E16<>\"\",\"QUOTA Unità \" & UI!B16 & \" di proprietà \"& UI!E16,\"\")","v":"QUOTA Unità U06 di proprietà CONDOMINO06"},{"$f":"IF(UI!E16<>\"\",\"Q.\" & RIGHT(UI!B16,2) & \".\" & RIGHT(UI!E16,2),\"\")","v":"Q.06.06"}]
[{"$f":"IF(UI!E17<>\"\",\"QUOTA Unità \" & UI!B17 & \" di proprietà \"& UI!E17,\"\")","v":"QUOTA Unità U07 di proprietà CONDOMINO07"},{"$f":"IF(UI!E17<>\"\",\"Q.\" & RIGHT(UI!B17,2) & \".\" & RIGHT(UI!E17,2),\"\")","v":"Q.07.07"}]
[{"$f":"IF(UI!E18<>\"\",\"QUOTA Unità \" & UI!B18 & \" di proprietà \"& UI!E18,\"\")","v":"QUOTA Unità U08 di proprietà CONDOMINO08"},{"$f":"IF(UI!E18<>\"\",\"Q.\" & RIGHT(UI!B18,2) & \".\" & RIGHT(UI!E18,2),\"\")","v":"Q.08.08"}]
[{"$f":"IF(UI!E19<>\"\",\"QUOTA Unità \" & UI!B19 & \" di proprietà \"& UI!E19,\"\")","v":"QUOTA Unità U09 di proprietà CONDOMINO09"},{"$f":"IF(UI!E19<>\"\",\"Q.\" & RIGHT(UI!B19,2) & \".\" & RIGHT(UI!E19,2),\"\")","v":"Q.09.09"}]
[{"$f":"IF(UI!E20<>\"\",\"QUOTA Unità \" & UI!B20 & \" di proprietà \"& UI!E20,\"\")","v":"QUOTA Unità U10 di proprietà CONDOMINO10"},{"$f":"IF(UI!E20<>\"\",\"Q.\" & RIGHT(UI!B20,2) & \".\" & RIGHT(UI!E20,2),\"\")","v":"Q.10.10"}]
[{"$f":"IF(UI!E21<>\"\",\"QUOTA Unità \" & UI!B21 & \" di proprietà \"& UI!E21,\"\")","v":"QUOTA Unità U11 di proprietà CONDOMINO11"},{"$f":"IF(UI!E21<>\"\",\"Q.\" & RIGHT(UI!B21,2) & \".\" & RIGHT(UI!E21,2),\"\")","v":"Q.11.11"}]
[{"$f":"IF(UI!E22<>\"\",\"QUOTA Unità \" & UI!B22 & \" di proprietà \"& UI!E22,\"\")","v":"QUOTA Unità U12 di proprietà CONDOMINO12"},{"$f":"IF(UI!E22<>\"\",\"Q.\" & RIGHT(UI!B22,2) & \".\" & RIGHT(UI!E22,2),\"\")","v":"Q.12.12"}]
[{"$f":"IF(UI!E23<>\"\",\"QUOTA Unità \" & UI!B23 & \" di proprietà \"& UI!E23,\"\")","v":"QUOTA Unità U13 di proprietà CONDOMINO13"},{"$f":"IF(UI!E23<>\"\",\"Q.\" & RIGHT(UI!B23,2) & \".\" & RIGHT(UI!E23,2),\"\")","v":"Q.13.13"}]
[{"$f":"IF(UI!E24<>\"\",\"QUOTA Unità \" & UI!B24 & \" di proprietà \"& UI!E24,\"\")","v":"QUOTA Unità U14 di proprietà CONDOMINO14"},{"$f":"IF(UI!E24<>\"\",\"Q.\" & RIGHT(UI!B24,2) & \".\" & RIGHT(UI!E24,2),\"\")","v":"Q.14.14"}]
[{"$f":"IF(UI!E25<>\"\",\"QUOTA Unità \" & UI!B25 & \" di proprietà \"& UI!E25,\"\")","v":"QUOTA Unità U15 di proprietà CONDOMINO15"},{"$f":"IF(UI!E25<>\"\",\"Q.\" & RIGHT(UI!B25,2) & \".\" & RIGHT(UI!E25,2),\"\")","v":"Q.15.15"}]
[{"$f":"IF(UI!E26<>\"\",\"QUOTA Unità \" & UI!B26 & \" di proprietà \"& UI!E26,\"\")","v":"QUOTA Unità U16 di proprietà CONDOMINO16"},{"$f":"IF(UI!E26<>\"\",\"Q.\" & RIGHT(UI!B26,2) & \".\" & RIGHT(UI!E26,2),\"\")","v":"Q.16.16"}]
[{"$f":"IF(UI!E27<>\"\",\"QUOTA Unità \" & UI!B27 & \" di proprietà \"& UI!E27,\"\")","v":"QUOTA Unità U17 di proprietà CONDOMINO17"},{"$f":"IF(UI!E27<>\"\",\"Q.\" & RIGHT(UI!B27,2) & \".\" & RIGHT(UI!E27,2),\"\")","v":"Q.17.17"}]
[{"$f":"IF(UI!E28<>\"\",\"QUOTA Unità \" & UI!B28 & \" di proprietà \"& UI!E28,\"\")","v":"QUOTA Unità U18 di proprietà CONDOMINO18"},{"$f":"IF(UI!E28<>\"\",\"Q.\" & RIGHT(UI!B28,2) & \".\" & RIGHT(UI!E28,2),\"\")","v":"Q.18.18"}]
[{"$f":"IF(UI!E29<>\"\",\"QUOTA Unità \" & UI!B29 & \" di proprietà \"& UI!E29,\"\")","v":"QUOTA Unità U19 di proprietà CONDOMINO19"},{"$f":"IF(UI!E29<>\"\",\"Q.\" & RIGHT(UI!B29,2) & \".\" & RIGHT(UI!E29,2),\"\")","v":"Q.19.19"}]
[{"$f":"IF(UI!E30<>\"\",\"QUOTA Unità \" & UI!B30 & \" di proprietà \"& UI!E30,\"\")","v":"QUOTA Unità U20 di proprietà CONDOMINO07"},{"$f":"IF(UI!E30<>\"\",\"Q.\" & RIGHT(UI!B30,2) & \".\" & RIGHT(UI!E30,2),\"\")","v":"Q.20.07"}]
[{"$f":"IF(UI!E31<>\"\",\"QUOTA Unità \" & UI!B31 & \" di proprietà \"& UI!E31,\"\")","v":"QUOTA Unità U21 di proprietà CONDOMINO08"},{"$f":"IF(UI!E31<>\"\",\"Q.\" & RIGHT(UI!B31,2) & \".\" & RIGHT(UI!E31,2),\"\")","v":"Q.21.08"}]
[{"$f":"IF(UI!E32<>\"\",\"QUOTA Unità \" & UI!B32 & \" di proprietà \"& UI!E32,\"\")","v":"QUOTA Unità U22 di proprietà CONDOMINO19"},{"$f":"IF(UI!E32<>\"\",\"Q.\" & RIGHT(UI!B32,2) & \".\" & RIGHT(UI!E32,2),\"\")","v":"Q.22.19"}]
[{"$f":"IF(UI!E33<>\"\",\"QUOTA Unità \" & UI!B33 & \" di proprietà \"& UI!E33,\"\")","v":""},{"$f":"IF(UI!E33<>\"\",\"Q.\" & RIGHT(UI!B33,2) & \".\" & RIGHT(UI!E33,2),\"\")","v":""}]
[{"$f":"IF(UI!E34<>\"\",\"QUOTA Unità \" & UI!B34 & \" di proprietà \"& UI!E34,\"\")","v":""},{"$f":"IF(UI!E34<>\"\",\"Q.\" & RIGHT(UI!B34,2) & \".\" & RIGHT(UI!E34,2),\"\")","v":""}]
[{"$f":"IF(UI!E35<>\"\",\"QUOTA Unità \" & UI!B35 & \" di proprietà \"& UI!E35,\"\")","v":""},{"$f":"IF(UI!E35<>\"\",\"Q.\" & RIGHT(UI!B35,2) & \".\" & RIGHT(UI!E35,2),\"\")","v":""}]
[{"$f":"IF(UI!E36<>\"\",\"QUOTA Unità \" & UI!B36 & \" di proprietà \"& UI!E36,\"\")","v":""},{"$f":"IF(UI!E36<>\"\",\"Q.\" & RIGHT(UI!B36,2) & \".\" & RIGHT(UI!E36,2),\"\")","v":""}]
[{"$f":"IF(UI!E37<>\"\",\"QUOTA Unità \" & UI!B37 & \" di proprietà \"& UI!E37,\"\")","v":""},{"$f":"IF(UI!E37<>\"\",\"Q.\" & RIGHT(UI!B37,2) & \".\" & RIGHT(UI!E37,2),\"\")","v":""}]
[{"$f":"IF(UI!E38<>\"\",\"QUOTA Unità \" & UI!B38 & \" di proprietà \"& UI!E38,\"\")","v":""},{"$f":"IF(UI!E38<>\"\",\"Q.\" & RIGHT(UI!B38,2) & \".\" & RIGHT(UI!E38,2),\"\")","v":""}]
[{"$f":"IF(UI!E39<>\"\",\"QUOTA Unità \" & UI!B39 & \" di proprietà \"& UI!E39,\"\")","v":""},{"$f":"IF(UI!E39<>\"\",\"Q.\" & RIGHT(UI!B39,2) & \".\" & RIGHT(UI!E39,2),\"\")","v":""}]
[{"$f":"IF(UI!E40<>\"\",\"QUOTA Unità \" & UI!B40 & \" di proprietà \"& UI!E40,\"\")","v":""},{"$f":"IF(UI!E40<>\"\",\"Q.\" & RIGHT(UI!B40,2) & \".\" & RIGHT(UI!E40,2),\"\")","v":""}]
[{"$f":"IF(UI!E41<>\"\",\"QUOTA Unità \" & UI!B41 & \" di proprietà \"& UI!E41,\"\")","v":""},{"$f":"IF(UI!E41<>\"\",\"Q.\" & RIGHT(UI!B41,2) & \".\" & RIGHT(UI!E41,2),\"\")","v":""}]
[{"$f":"IF(UI!E42<>\"\",\"QUOTA Unità \" & UI!B42 & \" di proprietà \"& UI!E42,\"\")","v":""},{"$f":"IF(UI!E42<>\"\",\"Q.\" & RIGHT(UI!B42,2) & \".\" & RIGHT(UI!E42,2),\"\")","v":""}]
[{"$f":"IF(UI!E43<>\"\",\"QUOTA Unità \" & UI!B43 & \" di proprietà \"& UI!E43,\"\")","v":""},{"$f":"IF(UI!E43<>\"\",\"Q.\" & RIGHT(UI!B43,2) & \".\" & RIGHT(UI!E43,2),\"\")","v":""}]
[{"$f":"IF(UI!E44<>\"\",\"QUOTA Unità \" & UI!B44 & \" di proprietà \"& UI!E44,\"\")","v":""},{"$f":"IF(UI!E44<>\"\",\"Q.\" & RIGHT(UI!B44,2) & \".\" & RIGHT(UI!E44,2),\"\")","v":""}]
[{"$f":"IF(UI!E45<>\"\",\"QUOTA Unità \" & UI!B45 & \" di proprietà \"& UI!E45,\"\")","v":""},{"$f":"IF(UI!E45<>\"\",\"Q.\" & RIGHT(UI!B45,2) & \".\" & RIGHT(UI!E45,2),\"\")","v":""}]
[{"$f":"IF(UI!E46<>\"\",\"QUOTA Unità \" & UI!B46 & \" di proprietà \"& UI!E46,\"\")","v":""},{"$f":"IF(UI!E46<>\"\",\"Q.\" & RIGHT(UI!B46,2) & \".\" & RIGHT(UI!E46,2),\"\")","v":""}]
[{"$f":"IF(UI!E47<>\"\",\"QUOTA Unità \" & UI!B47 & \" di proprietà \"& UI!E47,\"\")","v":""},{"$f":"IF(UI!E47<>\"\",\"Q.\" & RIGHT(UI!B47,2) & \".\" & RIGHT(UI!E47,2),\"\")","v":""}]
[{"$f":"IF(UI!E48<>\"\",\"QUOTA Unità \" & UI!B48 & \" di proprietà \"& UI!E48,\"\")","v":""},{"$f":"IF(UI!E48<>\"\",\"Q.\" & RIGHT(UI!B48,2) & \".\" & RIGHT(UI!E48,2),\"\")","v":""}]
[{"$f":"IF(UI!E49<>\"\",\"QUOTA Unità \" & UI!B49 & \" di proprietà \"& UI!E49,\"\")","v":""},{"$f":"IF(UI!E49<>\"\",\"Q.\" & RIGHT(UI!B49,2) & \".\" & RIGHT(UI!E49,2),\"\")","v":""}]
[{"$f":"IF(UI!E50<>\"\",\"QUOTA Unità \" & UI!B50 & \" di proprietà \"& UI!E50,\"\")","v":""},{"$f":"IF(UI!E50<>\"\",\"Q.\" & RIGHT(UI!B50,2) & \".\" & RIGHT(UI!E50,2),\"\")","v":""}]
[{"$f":"IF(UI!E51<>\"\",\"QUOTA Unità \" & UI!B51 & \" di proprietà \"& UI!E51,\"\")","v":""},{"$f":"IF(UI!E51<>\"\",\"Q.\" & RIGHT(UI!B51,2) & \".\" & RIGHT(UI!E51,2),\"\")","v":""}]
[{"$f":"IF(UI!E52<>\"\",\"QUOTA Unità \" & UI!B52 & \" di proprietà \"& UI!E52,\"\")","v":""},{"$f":"IF(UI!E52<>\"\",\"Q.\" & RIGHT(UI!B52,2) & \".\" & RIGHT(UI!E52,2),\"\")","v":""}]
[{"$f":"IF(UI!E53<>\"\",\"QUOTA Unità \" & UI!B53 & \" di proprietà \"& UI!E53,\"\")","v":""},{"$f":"IF(UI!E53<>\"\",\"Q.\" & RIGHT(UI!B53,2) & \".\" & RIGHT(UI!E53,2),\"\")","v":""}]
[{"$f":"IF(UI!E54<>\"\",\"QUOTA Unità \" & UI!B54 & \" di proprietà \"& UI!E54,\"\")","v":""},{"$f":"IF(UI!E54<>\"\",\"Q.\" & RIGHT(UI!B54,2) & \".\" & RIGHT(UI!E54,2),\"\")","v":""}]
[{"$f":"IF(UI!E55<>\"\",\"QUOTA Unità \" & UI!B55 & \" di proprietà \"& UI!E55,\"\")","v":""},{"$f":"IF(UI!E55<>\"\",\"Q.\" & RIGHT(UI!B55,2) & \".\" & RIGHT(UI!E55,2),\"\")","v":""}]
[{"$f":"IF(UI!E56<>\"\",\"QUOTA Unità \" & UI!B56 & \" di proprietà \"& UI!E56,\"\")","v":""},{"$f":"IF(UI!E56<>\"\",\"Q.\" & RIGHT(UI!B56,2) & \".\" & RIGHT(UI!E56,2),\"\")","v":""}]
[{"$f":"IF(UI!E57<>\"\",\"QUOTA Unità \" & UI!B57 & \" di proprietà \"& UI!E57,\"\")","v":""},{"$f":"IF(UI!E57<>\"\",\"Q.\" & RIGHT(UI!B57,2) & \".\" & RIGHT(UI!E57,2),\"\")","v":""}]
[{"$f":"IF(UI!E58<>\"\",\"QUOTA Unità \" & UI!B58 & \" di proprietà \"& UI!E58,\"\")","v":""},{"$f":"IF(UI!E58<>\"\",\"Q.\" & RIGHT(UI!B58,2) & \".\" & RIGHT(UI!E58,2),\"\")","v":""}]
[{"$f":"IF(UI!E59<>\"\",\"QUOTA Unità \" & UI!B59 & \" di proprietà \"& UI!E59,\"\")","v":""},{"$f":"IF(UI!E59<>\"\",\"Q.\" & RIGHT(UI!B59,2) & \".\" & RIGHT(UI!E59,2),\"\")","v":""}]
[{"$f":"IF(UI!E60<>\"\",\"QUOTA Unità \" & UI!B60 & \" di proprietà \"& UI!E60,\"\")","v":""},{"$f":"IF(UI!E60<>\"\",\"Q.\" & RIGHT(UI!B60,2) & \".\" & RIGHT(UI!E60,2),\"\")","v":""}]
[{"$f":"IF(UI!E61<>\"\",\"QUOTA Unità \" & UI!B61 & \" di proprietà \"& UI!E61,\"\")","v":""},{"$f":"IF(UI!E61<>\"\",\"Q.\" & RIGHT(UI!B61,2) & \".\" & RIGHT(UI!E61,2),\"\")","v":""}]
[{"$f":"IF(UI!E62<>\"\",\"QUOTA Unità \" & UI!B62 & \" di proprietà \"& UI!E62,\"\")","v":""},{"$f":"IF(UI!E62<>\"\",\"Q.\" & RIGHT(UI!B62,2) & \".\" & RIGHT(UI!E62,2),\"\")","v":""}]
[{"$f":"IF(UI!E63<>\"\",\"QUOTA Unità \" & UI!B63 & \" di proprietà \"& UI!E63,\"\")","v":""},{"$f":"IF(UI!E63<>\"\",\"Q.\" & RIGHT(UI!B63,2) & \".\" & RIGHT(UI!E63,2),\"\")","v":""}]
[{"$f":"IF(UI!E64<>\"\",\"QUOTA Unità \" & UI!B64 & \" di proprietà \"& UI!E64,\"\")","v":""},{"$f":"IF(UI!E64<>\"\",\"Q.\" & RIGHT(UI!B64,2) & \".\" & RIGHT(UI!E64,2),\"\")","v":""}]
[{"$f":"IF(UI!E65<>\"\",\"QUOTA Unità \" & UI!B65 & \" di proprietà \"& UI!E65,\"\")","v":""},{"$f":"IF(UI!E65<>\"\",\"Q.\" & RIGHT(UI!B65,2) & \".\" & RIGHT(UI!E65,2),\"\")","v":""}]
[{"$f":"IF(UI!E66<>\"\",\"QUOTA Unità \" & UI!B66 & \" di proprietà \"& UI!E66,\"\")","v":""},{"$f":"IF(UI!E66<>\"\",\"Q.\" & RIGHT(UI!B66,2) & \".\" & RIGHT(UI!E66,2),\"\")","v":""}]
[{"$f":"IF(UI!E67<>\"\",\"QUOTA Unità \" & UI!B67 & \" di proprietà \"& UI!E67,\"\")","v":""},{"$f":"IF(UI!E67<>\"\",\"Q.\" & RIGHT(UI!B67,2) & \".\" & RIGHT(UI!E67,2),\"\")","v":""}]
[{"$f":"IF(UI!E68<>\"\",\"QUOTA Unità \" & UI!B68 & \" di proprietà \"& UI!E68,\"\")","v":""},{"$f":"IF(UI!E68<>\"\",\"Q.\" & RIGHT(UI!B68,2) & \".\" & RIGHT(UI!E68,2),\"\")","v":""}]
[{"$f":"IF(UI!E69<>\"\",\"QUOTA Unità \" & UI!B69 & \" di proprietà \"& UI!E69,\"\")","v":""},{"$f":"IF(UI!E69<>\"\",\"Q.\" & RIGHT(UI!B69,2) & \".\" & RIGHT(UI!E69,2),\"\")","v":""}]
[{"$f":"IF(UI!E70<>\"\",\"QUOTA Unità \" & UI!B70 & \" di proprietà \"& UI!E70,\"\")","v":""},{"$f":"IF(UI!E70<>\"\",\"Q.\" & RIGHT(UI!B70,2) & \".\" & RIGHT(UI!E70,2),\"\")","v":""}]
[{"$f":"IF(UI!E71<>\"\",\"QUOTA Unità \" & UI!B71 & \" di proprietà \"& UI!E71,\"\")","v":""},{"$f":"IF(UI!E71<>\"\",\"Q.\" & RIGHT(UI!B71,2) & \".\" & RIGHT(UI!E71,2),\"\")","v":""}]
[{"$f":"IF(UI!E72<>\"\",\"QUOTA Unità \" & UI!B72 & \" di proprietà \"& UI!E72,\"\")","v":""},{"$f":"IF(UI!E72<>\"\",\"Q.\" & RIGHT(UI!B72,2) & \".\" & RIGHT(UI!E72,2),\"\")","v":""}]
[{"$f":"IF(UI!E73<>\"\",\"QUOTA Unità \" & UI!B73 & \" di proprietà \"& UI!E73,\"\")","v":""},{"$f":"IF(UI!E73<>\"\",\"Q.\" & RIGHT(UI!B73,2) & \".\" & RIGHT(UI!E73,2),\"\")","v":""}]
[{"$f":"IF(UI!E74<>\"\",\"QUOTA Unità \" & UI!B74 & \" di proprietà \"& UI!E74,\"\")","v":""},{"$f":"IF(UI!E74<>\"\",\"Q.\" & RIGHT(UI!B74,2) & \".\" & RIGHT(UI!E74,2),\"\")","v":""}]
[{"$f":"IF(UI!E75<>\"\",\"QUOTA Unità \" & UI!B75 & \" di proprietà \"& UI!E75,\"\")","v":""},{"$f":"IF(UI!E75<>\"\",\"Q.\" & RIGHT(UI!B75,2) & \".\" & RIGHT(UI!E75,2),\"\")","v":""}]
[{"$f":"IF(UI!E76<>\"\",\"QUOTA Unità \" & UI!B76 & \" di proprietà \"& UI!E76,\"\")","v":""},{"$f":"IF(UI!E76<>\"\",\"Q.\" & RIGHT(UI!B76,2) & \".\" & RIGHT(UI!E76,2),\"\")","v":""}]
[{"$f":"IF(UI!E77<>\"\",\"QUOTA Unità \" & UI!B77 & \" di proprietà \"& UI!E77,\"\")","v":""},{"$f":"IF(UI!E77<>\"\",\"Q.\" & RIGHT(UI!B77,2) & \".\" & RIGHT(UI!E77,2),\"\")","v":""}]
[{"$f":"IF(UI!E78<>\"\",\"QUOTA Unità \" & UI!B78 & \" di proprietà \"& UI!E78,\"\")","v":""},{"$f":"IF(UI!E78<>\"\",\"Q.\" & RIGHT(UI!B78,2) & \".\" & RIGHT(UI!E78,2),\"\")","v":""}]
[{"$f":"IF(UI!E79<>\"\",\"QUOTA Unità \" & UI!B79 & \" di proprietà \"& UI!E79,\"\")","v":""},{"$f":"IF(UI!E79<>\"\",\"Q.\" & RIGHT(UI!B79,2) & \".\" & RIGHT(UI!E79,2),\"\")","v":""}]
[{"$f":"IF(UI!E80<>\"\",\"QUOTA Unità \" & UI!B80 & \" di proprietà \"& UI!E80,\"\")","v":""},{"$f":"IF(UI!E80<>\"\",\"Q.\" & RIGHT(UI!B80,2) & \".\" & RIGHT(UI!E80,2),\"\")","v":""}]
[{"$f":"IF(UI!E81<>\"\",\"QUOTA Unità \" & UI!B81 & \" di proprietà \"& UI!E81,\"\")","v":""},{"$f":"IF(UI!E81<>\"\",\"Q.\" & RIGHT(UI!B81,2) & \".\" & RIGHT(UI!E81,2),\"\")","v":""}]
[{"$f":"IF(UI!E82<>\"\",\"QUOTA Unità \" & UI!B82 & \" di proprietà \"& UI!E82,\"\")","v":""},{"$f":"IF(UI!E82<>\"\",\"Q.\" & RIGHT(UI!B82,2) & \".\" & RIGHT(UI!E82,2),\"\")","v":""}]
[{"$f":"IF(UI!E83<>\"\",\"QUOTA Unità \" & UI!B83 & \" di proprietà \"& UI!E83,\"\")","v":""},{"$f":"IF(UI!E83<>\"\",\"Q.\" & RIGHT(UI!B83,2) & \".\" & RIGHT(UI!E83,2),\"\")","v":""}]
[{"$f":"IF(UI!E84<>\"\",\"QUOTA Unità \" & UI!B84 & \" di proprietà \"& UI!E84,\"\")","v":""},{"$f":"IF(UI!E84<>\"\",\"Q.\" & RIGHT(UI!B84,2) & \".\" & RIGHT(UI!E84,2),\"\")","v":""}]
[{"$f":"IF(UI!E85<>\"\",\"QUOTA Unità \" & UI!B85 & \" di proprietà \"& UI!E85,\"\")","v":""},{"$f":"IF(UI!E85<>\"\",\"Q.\" & RIGHT(UI!B85,2) & \".\" & RIGHT(UI!E85,2),\"\")","v":""}]
[{"$f":"IF(UI!E86<>\"\",\"QUOTA Unità \" & UI!B86 & \" di proprietà \"& UI!E86,\"\")","v":""},{"$f":"IF(UI!E86<>\"\",\"Q.\" & RIGHT(UI!B86,2) & \".\" & RIGHT(UI!E86,2),\"\")","v":""}]
[{"$f":"IF(UI!E87<>\"\",\"QUOTA Unità \" & UI!B87 & \" di proprietà \"& UI!E87,\"\")","v":""},{"$f":"IF(UI!E87<>\"\",\"Q.\" & RIGHT(UI!B87,2) & \".\" & RIGHT(UI!E87,2),\"\")","v":""}]
[{"$f":"IF(UI!E88<>\"\",\"QUOTA Unità \" & UI!B88 & \" di proprietà \"& UI!E88,\"\")","v":""},{"$f":"IF(UI!E88<>\"\",\"Q.\" & RIGHT(UI!B88,2) & \".\" & RIGHT(UI!E88,2),\"\")","v":""}]
[{"$f":"IF(UI!E89<>\"\",\"QUOTA Unità \" & UI!B89 & \" di proprietà \"& UI!E89,\"\")","v":""},{"$f":"IF(UI!E89<>\"\",\"Q.\" & RIGHT(UI!B89,2) & \".\" & RIGHT(UI!E89,2),\"\")","v":""}]
[{"$f":"IF(UI!E90<>\"\",\"QUOTA Unità \" & UI!B90 & \" di proprietà \"& UI!E90,\"\")","v":""},{"$f":"IF(UI!E90<>\"\",\"Q.\" & RIGHT(UI!B90,2) & \".\" & RIGHT(UI!E90,2),\"\")","v":""}]
[{"$f":"IF(UI!E91<>\"\",\"QUOTA Unità \" & UI!B91 & \" di proprietà \"& UI!E91,\"\")","v":""},{"$f":"IF(UI!E91<>\"\",\"Q.\" & RIGHT(UI!B91,2) & \".\" & RIGHT(UI!E91,2),\"\")","v":""}]
[{"$f":"IF(UI!E92<>\"\",\"QUOTA Unità \" & UI!B92 & \" di proprietà \"& UI!E92,\"\")","v":""},{"$f":"IF(UI!E92<>\"\",\"Q.\" & RIGHT(UI!B92,2) & \".\" & RIGHT(UI!E92,2),\"\")","v":""}]
[{"$f":"IF(UI!E93<>\"\",\"QUOTA Unità \" & UI!B93 & \" di proprietà \"& UI!E93,\"\")","v":""},{"$f":"IF(UI!E93<>\"\",\"Q.\" & RIGHT(UI!B93,2) & \".\" & RIGHT(UI!E93,2),\"\")","v":""}]
[{"$f":"IF(UI!E94<>\"\",\"QUOTA Unità \" & UI!B94 & \" di proprietà \"& UI!E94,\"\")","v":""},{"$f":"IF(UI!E94<>\"\",\"Q.\" & RIGHT(UI!B94,2) & \".\" & RIGHT(UI!E94,2),\"\")","v":""}]
[{"$f":"IF(UI!E95<>\"\",\"QUOTA Unità \" & UI!B95 & \" di proprietà \"& UI!E95,\"\")","v":""},{"$f":"IF(UI!E95<>\"\",\"Q.\" & RIGHT(UI!B95,2) & \".\" & RIGHT(UI!E95,2),\"\")","v":""}]
[{"$f":"IF(UI!E96<>\"\",\"QUOTA Unità \" & UI!B96 & \" di proprietà \"& UI!E96,\"\")","v":""},{"$f":"IF(UI!E96<>\"\",\"Q.\" & RIGHT(UI!B96,2) & \".\" & RIGHT(UI!E96,2),\"\")","v":""}]
[{"$f":"IF(UI!E97<>\"\",\"QUOTA Unità \" & UI!B97 & \" di proprietà \"& UI!E97,\"\")","v":""},{"$f":"IF(UI!E97<>\"\",\"Q.\" & RIGHT(UI!B97,2) & \".\" & RIGHT(UI!E97,2),\"\")","v":""}]
[{"$f":"IF(UI!E98<>\"\",\"QUOTA Unità \" & UI!B98 & \" di proprietà \"& UI!E98,\"\")","v":""},{"$f":"IF(UI!E98<>\"\",\"Q.\" & RIGHT(UI!B98,2) & \".\" & RIGHT(UI!E98,2),\"\")","v":""}]
[{"$f":"IF(UI!E99<>\"\",\"QUOTA Unità \" & UI!B99 & \" di proprietà \"& UI!E99,\"\")","v":""},{"$f":"IF(UI!E99<>\"\",\"Q.\" & RIGHT(UI!B99,2) & \".\" & RIGHT(UI!E99,2),\"\")","v":""}]
[{"$f":"IF(UI!E100<>\"\",\"QUOTA Unità \" & UI!B100 & \" di proprietà \"& UI!E100,\"\")","v":""},{"$f":"IF(UI!E100<>\"\",\"Q.\" & RIGHT(UI!B100,2) & \".\" & RIGHT(UI!E100,2),\"\")","v":""}]
[{"$f":"IF(UI!E101<>\"\",\"QUOTA Unità \" & UI!B101 & \" di proprietà \"& UI!E101,\"\")","v":""},{"$f":"IF(UI!E101<>\"\",\"Q.\" & RIGHT(UI!B101,2) & \".\" & RIGHT(UI!E101,2),\"\")","v":""}]
[{"$f":"IF(UI!E102<>\"\",\"QUOTA Unità \" & UI!B102 & \" di proprietà \"& UI!E102,\"\")","v":""},{"$f":"IF(UI!E102<>\"\",\"Q.\" & RIGHT(UI!B102,2) & \".\" & RIGHT(UI!E102,2),\"\")","v":""}]
[{"$f":"IF(UI!E103<>\"\",\"QUOTA Unità \" & UI!B103 & \" di proprietà \"& UI!E103,\"\")","v":""},{"$f":"IF(UI!E103<>\"\",\"Q.\" & RIGHT(UI!B103,2) & \".\" & RIGHT(UI!E103,2),\"\")","v":""}]
[{"$f":"IF(UI!E104<>\"\",\"QUOTA Unità \" & UI!B104 & \" di proprietà \"& UI!E104,\"\")","v":""},{"$f":"IF(UI!E104<>\"\",\"Q.\" & RIGHT(UI!B104,2) & \".\" & RIGHT(UI!E104,2),\"\")","v":""}]
[{"$f":"IF(UI!E105<>\"\",\"QUOTA Unità \" & UI!B105 & \" di proprietà \"& UI!E105,\"\")","v":""},{"$f":"IF(UI!E105<>\"\",\"Q.\" & RIGHT(UI!B105,2) & \".\" & RIGHT(UI!E105,2),\"\")","v":""}]
[{"$f":"IF(UI!E106<>\"\",\"QUOTA Unità \" & UI!B106 & \" di proprietà \"& UI!E106,\"\")","v":""},{"$f":"IF(UI!E106<>\"\",\"Q.\" & RIGHT(UI!B106,2) & \".\" & RIGHT(UI!E106,2),\"\")","v":""}]
[{"$f":"IF(UI!E107<>\"\",\"QUOTA Unità \" & UI!B107 & \" di proprietà \"& UI!E107,\"\")","v":""},{"$f":"IF(UI!E107<>\"\",\"Q.\" & RIGHT(UI!B107,2) & \".\" & RIGHT(UI!E107,2),\"\")","v":""}]
[{"$f":"IF(UI!E108<>\"\",\"QUOTA Unità \" & UI!B108 & \" di proprietà \"& UI!E108,\"\")","v":""},{"$f":"IF(UI!E108<>\"\",\"Q.\" & RIGHT(UI!B108,2) & \".\" & RIGHT(UI!E108,2),\"\")","v":""}]
[{"$f":"IF(UI!E109<>\"\",\"QUOTA Unità \" & UI!B109 & \" di proprietà \"& UI!E109,\"\")","v":""},{"$f":"IF(UI!E109<>\"\",\"Q.\" & RIGHT(UI!B109,2) & \".\" & RIGHT(UI!E109,2),\"\")","v":""}]
["PRESTITI RICEVUTI ED ENTRATE VARIE DI GIRO","V"]
["Prestiti ricevuti (da Gestione Ordinaria)","V.00.01"]
["Prestiti ricevuti (da Terzi)","V.00.02"]
[null,"V.00.03"]
[null,"V.00.04"]
[null,"V.00.05"]
[]
[0,null,0]

{"sheet":"PIANOCONTI_CD","index":14,"n_rows":130,"n_cols":6,"rows_kept":130,"cut":false,"hidden":true,"merged":[[128,0,128,1],[128,3,128,4],[0,0,0,4],[7,0,7,1],[7,3,7,4],[8,0,9,0],[8,3,9,3]]}
["!!! Non variare il contenuto delle celle con sfondo colorato.",null,null,null,null,0]
[]
[]
[]
["PIANO DEI CONTI DEL FONDO LAVORI",null,null,"PIANO DEI CONTI DEL FONDO LAVORI"]
[{"$f":"DATIG!A40","v":"Lavori messa in sicurezza fondazioni da infiltrazioni fognarie"},null,null,{"$f":"DATIG!A40","v":"Lavori messa in sicurezza fondazioni da infiltrazioni fognarie"}]
[{"$f":"\"Codice del fondo: \" & DATIG!A37","v":"Codice del fondo: LAVORO-01"},null,null,{"$f":"\"Codice del fondo: \" & DATIG!A37","v":"Codice del fondo: LAVORO-01"}]
["PIANO DEI CREDITI",null,null,"PIANO DEI DEBITI"]
["VOCE",null,null,"VOCE"]
[null,"Codice",null,null,"Codice"]
[null,"C.01",null,null,"D.01"]
[]
[]
[]
[]
[]
["da TERZI PRIVATI","C.02",null,"v/s TERZI PRIVATI","D.02"]
["da FORNITORI","C.02.01",null,"v/s FORNITORI per FATTURE RICEVUTE","D.02.01"]
["da DEBITORI DIVERSI","C.02.02",null,"v/s FORNITORI per AVVISI DI FATTURA RICEVUTI","D.02.02"]
[null,"C.02.03",null,"v/s FORNITORI per PREVISIONE DI SPESA","D.02.03"]
[null,"C.02.04",null,"v/s CREDITORI DIVERSI","D.02.04"]
[null,"C.02.05",null,"v/s GESTIONE ORDINARIA","D.02.05"]
[null,null,null,"v/s TERZI PUBBLICI","D.03"]
[null,null,null,"v/s ERARIO per  ritenute d'acconto operate","D.03.01"]
[null,null,null,null,"D.03.02"]
[null,null,null,null,"D.03.03"]
[null,null,null,null,"D.03.04"]
[null,null,null,null,"D.03.05"]
["da CONDOMINI","C.04\nper quote da versare",null," v/s CONDOMINI","D.04\nper quote in eccedenza"]
[{"$f":"IF(CONDOMINI!C11<>\"\",CONDOMINI!C11,\"\")","v":"CONDOMINO01"},"C.04.01",null,{"$f":"IF(CONDOMINI!C11<>\"\",CONDOMINI!C11,\"\")","v":"CONDOMINO01"},"D.04.01"]
[{"$f":"IF(CONDOMINI!C12<>\"\",CONDOMINI!C12,\"\")","v":"CONDOMINO02"},"C.04.02",null,{"$f":"IF(CONDOMINI!C12<>\"\",CONDOMINI!C12,\"\")","v":"CONDOMINO02"},"D.04.02"]
[{"$f":"IF(CONDOMINI!C13<>\"\",CONDOMINI!C13,\"\")","v":"CONDOMINO03"},"C.04.03",null,{"$f":"IF(CONDOMINI!C13<>\"\",CONDOMINI!C13,\"\")","v":"CONDOMINO03"},"D.04.03"]
[{"$f":"IF(CONDOMINI!C14<>\"\",CONDOMINI!C14,\"\")","v":"CONDOMINO04"},"C.04.04",null,{"$f":"IF(CONDOMINI!C14<>\"\",CONDOMINI!C14,\"\")","v":"CONDOMINO04"},"D.04.04"]
[{"$f":"IF(CONDOMINI!C15<>\"\",CONDOMINI!C15,\"\")","v":"CONDOMINO05"},"C.04.05",null,{"$f":"IF(CONDOMINI!C15<>\"\",CONDOMINI!C15,\"\")","v":"CONDOMINO05"},"D.04.05"]
[{"$f":"IF(CONDOMINI!C16<>\"\",CONDOMINI!C16,\"\")","v":"CONDOMINO06"},"C.04.06",null,{"$f":"IF(CONDOMINI!C16<>\"\",CONDOMINI!C16,\"\")","v":"CONDOMINO06"},"D.04.06"]
[{"$f":"IF(CONDOMINI!C17<>\"\",CONDOMINI!C17,\"\")","v":"CONDOMINO07"},"C.04.07",null,{"$f":"IF(CONDOMINI!C17<>\"\",CONDOMINI!C17,\"\")","v":"CONDOMINO07"},"D.04.07"]
[{"$f":"IF(CONDOMINI!C18<>\"\",CONDOMINI!C18,\"\")","v":"CONDOMINO08"},"C.04.08",null,{"$f":"IF(CONDOMINI!C18<>\"\",CONDOMINI!C18,\"\")","v":"CONDOMINO08"},"D.04.08"]
[{"$f":"IF(CONDOMINI!C19<>\"\",CONDOMINI!C19,\"\")","v":"CONDOMINO09"},"C.04.09",null,{"$f":"IF(CONDOMINI!C19<>\"\",CONDOMINI!C19,\"\")","v":"CONDOMINO09"},"D.04.09"]
[{"$f":"IF(CONDOMINI!C20<>\"\",CONDOMINI!C20,\"\")","v":"CONDOMINO10"},"C.04.10",null,{"$f":"IF(CONDOMINI!C20<>\"\",CONDOMINI!C20,\"\")","v":"CONDOMINO10"},"D.04.10"]
[{"$f":"IF(CONDOMINI!C21<>\"\",CONDOMINI!C21,\"\")","v":"CONDOMINO11"},"C.04.11",null,{"$f":"IF(CONDOMINI!C21<>\"\",CONDOMINI!C21,\"\")","v":"CONDOMINO11"},"D.04.11"]
[{"$f":"IF(CONDOMINI!C22<>\"\",CONDOMINI!C22,\"\")","v":"CONDOMINO12"},"C.04.12",null,{"$f":"IF(CONDOMINI!C22<>\"\",CONDOMINI!C22,\"\")","v":"CONDOMINO12"},"D.04.12"]
[{"$f":"IF(CONDOMINI!C23<>\"\",CONDOMINI!C23,\"\")","v":"CONDOMINO13"},"C.04.13",null,{"$f":"IF(CONDOMINI!C23<>\"\",CONDOMINI!C23,\"\")","v":"CONDOMINO13"},"D.04.13"]
[{"$f":"IF(CONDOMINI!C24<>\"\",CONDOMINI!C24,\"\")","v":"CONDOMINO14"},"C.04.14",null,{"$f":"IF(CONDOMINI!C24<>\"\",CONDOMINI!C24,\"\")","v":"CONDOMINO14"},"D.04.14"]
[{"$f":"IF(CONDOMINI!C25<>\"\",CONDOMINI!C25,\"\")","v":"CONDOMINO15"},"C.04.15",null,{"$f":"IF(CONDOMINI!C25<>\"\",CONDOMINI!C25,\"\")","v":"CONDOMINO15"},"D.04.15"]
[{"$f":"IF(CONDOMINI!C26<>\"\",CONDOMINI!C26,\"\")","v":"CONDOMINO16"},"C.04.16",null,{"$f":"IF(CONDOMINI!C26<>\"\",CONDOMINI!C26,\"\")","v":"CONDOMINO16"},"D.04.16"]
[{"$f":"IF(CONDOMINI!C27<>\"\",CONDOMINI!C27,\"\")","v":"CONDOMINO17"},"C.04.17",null,{"$f":"IF(CONDOMINI!C27<>\"\",CONDOMINI!C27,\"\")","v":"CONDOMINO17"},"D.04.17"]
[{"$f":"IF(CONDOMINI!C28<>\"\",CONDOMINI!C28,\"\")","v":"CONDOMINO18"},"C.04.18",null,{"$f":"IF(CONDOMINI!C28<>\"\",CONDOMINI!C28,\"\")","v":"CONDOMINO18"},"D.04.18"]
[{"$f":"IF(CONDOMINI!C29<>\"\",CONDOMINI!C29,\"\")","v":"CONDOMINO19"},"C.04.19",null,{"$f":"IF(CONDOMINI!C29<>\"\",CONDOMINI!C29,\"\")","v":"CONDOMINO19"},"D.04.19"]
[{"$f":"IF(CONDOMINI!C30<>\"\",CONDOMINI!C30,\"\")","v":""},"C.04.20",null,{"$f":"IF(CONDOMINI!C30<>\"\",CONDOMINI!C30,\"\")","v":""},"D.04.20"]
[{"$f":"IF(CONDOMINI!C31<>\"\",CONDOMINI!C31,\"\")","v":""},"C.04.21",null,{"$f":"IF(CONDOMINI!C31<>\"\",CONDOMINI!C31,\"\")","v":""},"D.04.21"]
[{"$f":"IF(CONDOMINI!C32<>\"\",CONDOMINI!C32,\"\")","v":""},"C.04.22",null,{"$f":"IF(CONDOMINI!C32<>\"\",CONDOMINI!C32,\"\")","v":""},"D.04.22"]
[{"$f":"IF(CONDOMINI!C33<>\"\",CONDOMINI!C33,\"\")","v":""},"C.04.23",null,{"$f":"IF(CONDOMINI!C33<>\"\",CONDOMINI!C33,\"\")","v":""},"D.04.23"]
[{"$f":"IF(CONDOMINI!C34<>\"\",CONDOMINI!C34,\"\")","v":""},"C.04.24",null,{"$f":"IF(CONDOMINI!C34<>\"\",CONDOMINI!C34,\"\")","v":""},"D.04.24"]
[{"$f":"IF(CONDOMINI!C35<>\"\",CONDOMINI!C35,\"\")","v":""},"C.04.25",null,{"$f":"IF(CONDOMINI!C35<>\"\",CONDOMINI!C35,\"\")","v":""},"D.04.25"]
[{"$f":"IF(CONDOMINI!C36<>\"\",CONDOMINI!C36,\"\")","v":""},"C.04.26",null,{"$f":"IF(CONDOMINI!C36<>\"\",CONDOMINI!C36,\"\")","v":""},"D.04.26"]
[{"$f":"IF(CONDOMINI!C37<>\"\",CONDOMINI!C37,\"\")","v":""},"C.04.27",null,{"$f":"IF(CONDOMINI!C37<>\"\",CONDOMINI!C37,\"\")","v":""},"D.04.27"]
[{"$f":"IF(CONDOMINI!C38<>\"\",CONDOMINI!C38,\"\")","v":""},"C.04.28",null,{"$f":"IF(CONDOMINI!C38<>\"\",CONDOMINI!C38,\"\")","v":""},"D.04.28"]
[{"$f":"IF(CONDOMINI!C39<>\"\",CONDOMINI!C39,\"\")","v":""},"C.04.29",null,{"$f":"IF(CONDOMINI!C39<>\"\",CONDOMINI!C39,\"\")","v":""},"D.04.29"]
[{"$f":"IF(CONDOMINI!C40<>\"\",CONDOMINI!C40,\"\")","v":""},"C.04.30",null,{"$f":"IF(CONDOMINI!C40<>\"\",CONDOMINI!C40,\"\")","v":""},"D.04.30"]
[{"$f":"IF(CONDOMINI!C41<>\"\",CONDOMINI!C41,\"\")","v":""},"C.04.31",null,{"$f":"IF(CONDOMINI!C41<>\"\",CONDOMINI!C41,\"\")","v":""},"D.04.31"]
[{"$f":"IF(CONDOMINI!C42<>\"\",CONDOMINI!C42,\"\")","v":""},"C.04.32",null,{"$f":"IF(CONDOMINI!C42<>\"\",CONDOMINI!C42,\"\")","v":""},"D.04.32"]
[{"$f":"IF(CONDOMINI!C43<>\"\",CONDOMINI!C43,\"\")","v":""},"C.04.33",null,{"$f":"IF(CONDOMINI!C43<>\"\",CONDOMINI!C43,\"\")","v":""},"D.04.33"]
[{"$f":"IF(CONDOMINI!C44<>\"\",CONDOMINI!C44,\"\")","v":""},"C.04.34",null,{"$f":"IF(CONDOMINI!C44<>\"\",CONDOMINI!C44,\"\")","v":""},"D.04.34"]
[{"$f":"IF(CONDOMINI!C45<>\"\",CONDOMINI!C45,\"\")","v":""},"C.04.35",null,{"$f":"IF(CONDOMINI!C45<>\"\",CONDOMINI!C45,\"\")","v":""},"D.04.35"]
[{"$f":"IF(CONDOMINI!C46<>\"\",CONDOMINI!C46,\"\")","v":""},"C.04.36",null,{"$f":"IF(CONDOMINI!C46<>\"\",CONDOMINI!C46,\"\")","v":""},"D.04.36"]
[{"$f":"IF(CONDOMINI!C47<>\"\",CONDOMINI!C47,\"\")","v":""},"C.04.37",null,{"$f":"IF(CONDOMINI!C47<>\"\",CONDOMINI!C47,\"\")","v":""},"D.04.37"]
[{"$f":"IF(CONDOMINI!C48<>\"\",CONDOMINI!C48,\"\")","v":""},"C.04.38",null,{"$f":"IF(CONDOMINI!C48<>\"\",CONDOMINI!C48,\"\")","v":""},"D.04.38"]
[{"$f":"IF(CONDOMINI!C49<>\"\",CONDOMINI!C49,\"\")","v":""},"C.04.39",null,{"$f":"IF(CONDOMINI!C49<>\"\",CONDOMINI!C49,\"\")","v":""},"D.04.39"]
[{"$f":"IF(CONDOMINI!C50<>\"\",CONDOMINI!C50,\"\")","v":""},"C.04.40",null,{"$f":"IF(CONDOMINI!C50<>\"\",CONDOMINI!C50,\"\")","v":""},"D.04.40"]
[{"$f":"IF(CONDOMINI!C51<>\"\",CONDOMINI!C51,\"\")","v":""},"C.04.41",null,{"$f":"IF(CONDOMINI!C51<>\"\",CONDOMINI!C51,\"\")","v":""},"D.04.41"]
[{"$f":"IF(CONDOMINI!C52<>\"\",CONDOMINI!C52,\"\")","v":""},"C.04.42",null,{"$f":"IF(CONDOMINI!C52<>\"\",CONDOMINI!C52,\"\")","v":""},"D.04.42"]
[{"$f":"IF(CONDOMINI!C53<>\"\",CONDOMINI!C53,\"\")","v":""},"C.04.43",null,{"$f":"IF(CONDOMINI!C53<>\"\",CONDOMINI!C53,\"\")","v":""},"D.04.43"]
[{"$f":"IF(CONDOMINI!C54<>\"\",CONDOMINI!C54,\"\")","v":""},"C.04.44",null,{"$f":"IF(CONDOMINI!C54<>\"\",CONDOMINI!C54,\"\")","v":""},"D.04.44"]
[{"$f":"IF(CONDOMINI!C55<>\"\",CONDOMINI!C55,\"\")","v":""},"C.04.45",null,{"$f":"IF(CONDOMINI!C55<>\"\",CONDOMINI!C55,\"\")","v":""},"D.04.45"]
[{"$f":"IF(CONDOMINI!C56<>\"\",CONDOMINI!C56,\"\")","v":""},"C.04.46",null,{"$f":"IF(CONDOMINI!C56<>\"\",CONDOMINI!C56,\"\")","v":""},"D.04.46"]
[{"$f":"IF(CONDOMINI!C57<>\"\",CONDOMINI!C57,\"\")","v":""},"C.04.47",null,{"$f":"IF(CONDOMINI!C57<>\"\",CONDOMINI!C57,\"\")","v":""},"D.04.47"]
[{"$f":"IF(CONDOMINI!C58<>\"\",CONDOMINI!C58,\"\")","v":""},"C.04.48",null,{"$f":"IF(CONDOMINI!C58<>\"\",CONDOMINI!C58,\"\")","v":""},"D.04.48"]
[{"$f":"IF(CONDOMINI!C59<>\"\",CONDOMINI!C59,\"\")","v":""},"C.04.49",null,{"$f":"IF(CONDOMINI!C59<>\"\",CONDOMINI!C59,\"\")","v":""},"D.04.49"]
[{"$f":"IF(CONDOMINI!C60<>\"\",CONDOMINI!C60,\"\")","v":""},"C.04.50",null,{"$f":"IF(CONDOMINI!C60<>\"\",CONDOMINI!C60,\"\")","v":""},"D.04.50"]
[{"$f":"IF(CONDOMINI!C61<>\"\",CONDOMINI!C61,\"\")","v":""},"C.04.51",null,{"$f":"IF(CONDOMINI!C61<>\"\",CONDOMINI!C61,\"\")","v":""},"D.04.51"]
[{"$f":"IF(CONDOMINI!C62<>\"\",CONDOMINI!C62,\"\")","v":""},"C.04.52",null,{"$f":"IF(CONDOMINI!C62<>\"\",CONDOMINI!C62,\"\")","v":""},"D.04.52"]
[{"$f":"IF(CONDOMINI!C63<>\"\",CONDOMINI!C63,\"\")","v":""},"C.04.53",null,{"$f":"IF(CONDOMINI!C63<>\"\",CONDOMINI!C63,\"\")","v":""},"D.04.53"]
[{"$f":"IF(CONDOMINI!C64<>\"\",CONDOMINI!C64,\"\")","v":""},"C.04.54",null,{"$f":"IF(CONDOMINI!C64<>\"\",CONDOMINI!C64,\"\")","v":""},"D.04.54"]
[{"$f":"IF(CONDOMINI!C65<>\"\",CONDOMINI!C65,\"\")","v":""},"C.04.55",null,{"$f":"IF(CONDOMINI!C65<>\"\",CONDOMINI!C65,\"\")","v":""},"D.04.55"]
[{"$f":"IF(CONDOMINI!C66<>\"\",CONDOMINI!C66,\"\")","v":""},"C.04.56",null,{"$f":"IF(CONDOMINI!C66<>\"\",CONDOMINI!C66,\"\")","v":""},"D.04.56"]
[{"$f":"IF(CONDOMINI!C67<>\"\",CONDOMINI!C67,\"\")","v":""},"C.04.57",null,{"$f":"IF(CONDOMINI!C67<>\"\",CONDOMINI!C67,\"\")","v":""},"D.04.57"]
[{"$f":"IF(CONDOMINI!C68<>\"\",CONDOMINI!C68,\"\")","v":""},"C.04.58",null,{"$f":"IF(CONDOMINI!C68<>\"\",CONDOMINI!C68,\"\")","v":""},"D.04.58"]
[{"$f":"IF(CONDOMINI!C69<>\"\",CONDOMINI!C69,\"\")","v":""},"C.04.59",null,{"$f":"IF(CONDOMINI!C69<>\"\",CONDOMINI!C69,\"\")","v":""},"D.04.59"]
[{"$f":"IF(CONDOMINI!C70<>\"\",CONDOMINI!C70,\"\")","v":""},"C.04.60",null,{"$f":"IF(CONDOMINI!C70<>\"\",CONDOMINI!C70,\"\")","v":""},"D.04.60"]
[{"$f":"IF(CONDOMINI!C71<>\"\",CONDOMINI!C71,\"\")","v":""},"C.04.61",null,{"$f":"IF(CONDOMINI!C71<>\"\",CONDOMINI!C71,\"\")","v":""},"D.04.61"]
[{"$f":"IF(CONDOMINI!C72<>\"\",CONDOMINI!C72,\"\")","v":""},"C.04.62",null,{"$f":"IF(CONDOMINI!C72<>\"\",CONDOMINI!C72,\"\")","v":""},"D.04.62"]
[{"$f":"IF(CONDOMINI!C73<>\"\",CONDOMINI!C73,\"\")","v":""},"C.04.63",null,{"$f":"IF(CONDOMINI!C73<>\"\",CONDOMINI!C73,\"\")","v":""},"D.04.63"]
[{"$f":"IF(CONDOMINI!C74<>\"\",CONDOMINI!C74,\"\")","v":""},"C.04.64",null,{"$f":"IF(CONDOMINI!C74<>\"\",CONDOMINI!C74,\"\")","v":""},"D.04.64"]
[{"$f":"IF(CONDOMINI!C75<>\"\",CONDOMINI!C75,\"\")","v":""},"C.04.65",null,{"$f":"IF(CONDOMINI!C75<>\"\",CONDOMINI!C75,\"\")","v":""},"D.04.65"]
[{"$f":"IF(CONDOMINI!C76<>\"\",CONDOMINI!C76,\"\")","v":""},"C.04.66",null,{"$f":"IF(CONDOMINI!C76<>\"\",CONDOMINI!C76,\"\")","v":""},"D.04.66"]
[{"$f":"IF(CONDOMINI!C77<>\"\",CONDOMINI!C77,\"\")","v":""},"C.04.67",null,{"$f":"IF(CONDOMINI!C77<>\"\",CONDOMINI!C77,\"\")","v":""},"D.04.67"]
[{"$f":"IF(CONDOMINI!C78<>\"\",CONDOMINI!C78,\"\")","v":""},"C.04.68",null,{"$f":"IF(CONDOMINI!C78<>\"\",CONDOMINI!C78,\"\")","v":""},"D.04.68"]
[{"$f":"IF(CONDOMINI!C79<>\"\",CONDOMINI!C79,\"\")","v":""},"C.04.69",null,{"$f":"IF(CONDOMINI!C79<>\"\",CONDOMINI!C79,\"\")","v":""},"D.04.69"]
[{"$f":"IF(CONDOMINI!C80<>\"\",CONDOMINI!C80,\"\")","v":""},"C.04.70",null,{"$f":"IF(CONDOMINI!C80<>\"\",CONDOMINI!C80,\"\")","v":""},"D.04.70"]
[{"$f":"IF(CONDOMINI!C81<>\"\",CONDOMINI!C81,\"\")","v":""},"C.04.71",null,{"$f":"IF(CONDOMINI!C81<>\"\",CONDOMINI!C81,\"\")","v":""},"D.04.71"]
[{"$f":"IF(CONDOMINI!C82<>\"\",CONDOMINI!C82,\"\")","v":""},"C.04.72",null,{"$f":"IF(CONDOMINI!C82<>\"\",CONDOMINI!C82,\"\")","v":""},"D.04.72"]
[{"$f":"IF(CONDOMINI!C83<>\"\",CONDOMINI!C83,\"\")","v":""},"C.04.73",null,{"$f":"IF(CONDOMINI!C83<>\"\",CONDOMINI!C83,\"\")","v":""},"D.04.73"]
[{"$f":"IF(CONDOMINI!C84<>\"\",CONDOMINI!C84,\"\")","v":""},"C.04.74",null,{"$f":"IF(CONDOMINI!C84<>\"\",CONDOMINI!C84,\"\")","v":""},"D.04.74"]
[{"$f":"IF(CONDOMINI!C85<>\"\",CONDOMINI!C85,\"\")","v":""},"C.04.75",null,{"$f":"IF(CONDOMINI!C85<>\"\",CONDOMINI!C85,\"\")","v":""},"D.04.75"]
[{"$f":"IF(CONDOMINI!C86<>\"\",CONDOMINI!C86,\"\")","v":""},"C.04.76",null,{"$f":"IF(CONDOMINI!C86<>\"\",CONDOMINI!C86,\"\")","v":""},"D.04.76"]
[{"$f":"IF(CONDOMINI!C87<>\"\",CONDOMINI!C87,\"\")","v":""},"C.04.77",null,{"$f":"IF(CONDOMINI!C87<>\"\",CONDOMINI!C87,\"\")","v":""},"D.04.77"]
[{"$f":"IF(CONDOMINI!C88<>\"\",CONDOMINI!C88,\"\")","v":""},"C.04.78",null,{"$f":"IF(CONDOMINI!C88<>\"\",CONDOMINI!C88,\"\")","v":""},"D.04.78"]
[{"$f":"IF(CONDOMINI!C89<>\"\",CONDOMINI!C89,\"\")","v":""},"C.04.79",null,{"$f":"IF(CONDOMINI!C89<>\"\",CONDOMINI!C89,\"\")","v":""},"D.04.79"]
[{"$f":"IF(CONDOMINI!C90<>\"\",CONDOMINI!C90,\"\")","v":""},"C.04.80",null,{"$f":"IF(CONDOMINI!C90<>\"\",CONDOMINI!C90,\"\")","v":""},"D.04.80"]
[{"$f":"IF(CONDOMINI!C91<>\"\",CONDOMINI!C91,\"\")","v":""},"C.04.81",null,{"$f":"IF(CONDOMINI!C91<>\"\",CONDOMINI!C91,\"\")","v":""},"D.04.81"]
[{"$f":"IF(CONDOMINI!C92<>\"\",CONDOMINI!C92,\"\")","v":""},"C.04.82",null,{"$f":"IF(CONDOMINI!C92<>\"\",CONDOMINI!C92,\"\")","v":""},"D.04.82"]
[{"$f":"IF(CONDOMINI!C93<>\"\",CONDOMINI!C93,\"\")","v":""},"C.04.83",null,{"$f":"IF(CONDOMINI!C93<>\"\",CONDOMINI!C93,\"\")","v":""},"D.04.83"]
[{"$f":"IF(CONDOMINI!C94<>\"\",CONDOMINI!C94,\"\")","v":""},"C.04.84",null,{"$f":"IF(CONDOMINI!C94<>\"\",CONDOMINI!C94,\"\")","v":""},"D.04.84"]
[{"$f":"IF(CONDOMINI!C95<>\"\",CONDOMINI!C95,\"\")","v":""},"C.04.85",null,{"$f":"IF(CONDOMINI!C95<>\"\",CONDOMINI!C95,\"\")","v":""},"D.04.85"]
[{"$f":"IF(CONDOMINI!C96<>\"\",CONDOMINI!C96,\"\")","v":""},"C.04.86",null,{"$f":"IF(CONDOMINI!C96<>\"\",CONDOMINI!C96,\"\")","v":""},"D.04.86"]
[{"$f":"IF(CONDOMINI!C97<>\"\",CONDOMINI!C97,\"\")","v":""},"C.04.87",null,{"$f":"IF(CONDOMINI!C97<>\"\",CONDOMINI!C97,\"\")","v":""},"D.04.87"]
[{"$f":"IF(CONDOMINI!C98<>\"\",CONDOMINI!C98,\"\")","v":""},"C.04.88",null,{"$f":"IF(CONDOMINI!C98<>\"\",CONDOMINI!C98,\"\")","v":""},"D.04.88"]
[{"$f":"IF(CONDOMINI!C99<>\"\",CONDOMINI!C99,\"\")","v":""},"C.04.89",null,{"$f":"IF(CONDOMINI!C99<>\"\",CONDOMINI!C99,\"\")","v":""},"D.04.89"]
[{"$f":"IF(CONDOMINI!C100<>\"\",CONDOMINI!C100,\"\")","v":""},"C.04.90",null,{"$f":"IF(CONDOMINI!C100<>\"\",CONDOMINI!C100,\"\")","v":""},"D.04.90"]
[{"$f":"IF(CONDOMINI!C101<>\"\",CONDOMINI!C101,\"\")","v":""},"C.04.91",null,{"$f":"IF(CONDOMINI!C101<>\"\",CONDOMINI!C101,\"\")","v":""},"D.04.91"]
[{"$f":"IF(CONDOMINI!C102<>\"\",CONDOMINI!C102,\"\")","v":""},"C.04.92",null,{"$f":"IF(CONDOMINI!C102<>\"\",CONDOMINI!C102,\"\")","v":""},"D.04.92"]
[{"$f":"IF(CONDOMINI!C103<>\"\",CONDOMINI!C103,\"\")","v":""},"C.04.93",null,{"$f":"IF(CONDOMINI!C103<>\"\",CONDOMINI!C103,\"\")","v":""},"D.04.93"]
[{"$f":"IF(CONDOMINI!C104<>\"\",CONDOMINI!C104,\"\")","v":""},"C.04.94",null,{"$f":"IF(CONDOMINI!C104<>\"\",CONDOMINI!C104,\"\")","v":""},"D.04.94"]
[{"$f":"IF(CONDOMINI!C105<>\"\",CONDOMINI!C105,\"\")","v":""},"C.04.95",null,{"$f":"IF(CONDOMINI!C105<>\"\",CONDOMINI!C105,\"\")","v":""},"D.04.95"]
[{"$f":"IF(CONDOMINI!C106<>\"\",CONDOMINI!C106,\"\")","v":""},"C.04.96",null,{"$f":"IF(CONDOMINI!C106<>\"\",CONDOMINI!C106,\"\")","v":""},"D.04.96"]
[{"$f":"IF(CONDOMINI!C107<>\"\",CONDOMINI!C107,\"\")","v":""},"C.04.97",null,{"$f":"IF(CONDOMINI!C107<>\"\",CONDOMINI!C107,\"\")","v":""},"D.04.97"]
[{"$f":"IF(CONDOMINI!C108<>\"\",CONDOMINI!C108,\"\")","v":""},"C.04.98",null,{"$f":"IF(CONDOMINI!C108<>\"\",CONDOMINI!C108,\"\")","v":""},"D.04.98"]
[{"$f":"IF(CONDOMINI!C109<>\"\",CONDOMINI!C109,\"\")","v":""},"C.04.99",null,{"$f":"IF(CONDOMINI!C109<>\"\",CONDOMINI!C109,\"\")","v":""},"D.04.99"]
[]
[0,null,null,null,null,0]

{"sheet":"SOM-BP","index":15,"n_rows":11,"n_cols":3,"rows_kept":11,"cut":false,"hidden":true,"merged":[[10,2,10,7],[1,0,1,7],[3,1,3,7],[4,2,4,7],[6,1,6,7],[7,2,7,7],[9,1,9,7]]}
[]
["Il fascicolo del bilancio preventivo è costituito dai seguenti prospetti:"]
[]
[1," - QUADRO ECONOMICO DI PREVENTIVAZIONE DELLE SPESE"]
[null,null,"Riporta gli importi delle spese che si stima occorre affrontare per eseguire i lavori, raggruppati per capitoli e voci.\nIl totale del quadro economico rappresenta l'importo del FONDO, che si costituisce per l'esecuzione dei Lavori."]
[]
[2," - RIPARTO DELLE SPESE PREVISTE FRA I CONDOMINI"]
[null,null,"Riporta le quote ovvero gli importi con i quali i singoli condomini devono concorrere al pagamento di quanto preventivato. Tali importi sono suddivisi fra le varie tabelle di spesa. "]
[]
[3," - QUOTE, RATEAZIONI E SCADENZE DEI PAGAMENTI DOVUTI DAI SINGOLI CONDOMINI"]
[null,null,"Riporta le quote dovute da ciascun condomino suddivise in rate, secondo i criteri della delibera assembleare di approvazione.\nDi ogni rata è riportata la data di scadenza del relativo pagamento."]

{"sheet":"USCITE_P","index":16,"n_rows":196,"n_cols":5,"rows_kept":196,"cut":false,"hidden":true,"merged":[[194,0,194,2],[0,0,0,3],[6,0,6,3],[7,0,7,3],[8,0,9,0],[8,1,9,1],[8,2,9,2]]}
["!!! Non variare il contenuto delle celle con sfondo colorato.",null,null,null,0]
[]
[]
[]
[]
[]
[]
[{"$f":"\"QUADRO ECONOMICO di PREVENTIVO del FONDO LAVORI\" & CHAR(10) &  DATIG!A40  & CHAR(10) & \"Codice FONDO:  \" & DATIG!A37","v":"QUADRO ECONOMICO di PREVENTIVO del FONDO LAVORI\nLavori messa in sicurezza fondazioni da infiltrazioni fognarie\nCodice FONDO:  LAVORO-01"}]
["CONTO","VOCI DI SPESA","TABELLA","IMPORTI"]
[null,null,null,"VOCE"]
[{"$f":"PIANOCONTI_U!C11","v":"S.01"},{"$f":"PIANOCONTI_U!A11","v":"SPESE GENERALI e NON DETRABILI"},null,{"$f":"SUMIFS(D12:D26,C12:C26,\"=?\")","v":1170}]
[{"$f":"PIANOCONTI_U!C12","v":"S.01.01"},{"$f":"PIANOCONTI_U!A12","v":"SPESE VARIE AMMINISTRATIVE (tabella A)"},{"$f":"PIANOCONTI_U!B12","v":"A"},100]
[{"$f":"PIANOCONTI_U!C13","v":"S.01.02"},{"$f":"PIANOCONTI_U!A13","v":"SPESE VARIE AMMINISTRATIVE (tabella B)"},{"$f":"PIANOCONTI_U!B13","v":"B"},100]
[{"$f":"PIANOCONTI_U!C14","v":"S.01.03"},{"$f":"PIANOCONTI_U!A14","v":"SPESE VARIE AMMINISTRATIVE (tabella C)"},{"$f":"PIANOCONTI_U!B14","v":"C"},100]
[{"$f":"PIANOCONTI_U!C15","v":"S.01.04"},{"$f":"PIANOCONTI_U!A15","v":"DIRITTI BOLLI TASSE (tabella A)"},{"$f":"PIANOCONTI_U!B15","v":"A"},80]
[{"$f":"PIANOCONTI_U!C16","v":"S.01.05"},{"$f":"PIANOCONTI_U!A16","v":"DIRITTI BOLLI TASSE (tabella B)"},{"$f":"PIANOCONTI_U!B16","v":"B"},80]
[{"$f":"PIANOCONTI_U!C17","v":"S.01.06"},{"$f":"PIANOCONTI_U!A17","v":"DIRITTI BOLLI TASSE (tabella C)"},{"$f":"PIANOCONTI_U!B17","v":"C"},80]
[{"$f":"PIANOCONTI_U!C18","v":"S.01.07"},{"$f":"PIANOCONTI_U!A18","v":"COMPENSI A TERZI (tabella A)"},{"$f":"PIANOCONTI_U!B18","v":"A"},200]
[{"$f":"PIANOCONTI_U!C19","v":"S.01.08"},{"$f":"PIANOCONTI_U!A19","v":"COMPENSI A TERZI (tabella B)"},{"$f":"PIANOCONTI_U!B19","v":"B"},200]
[{"$f":"PIANOCONTI_U!C20","v":"S.01.09"},{"$f":"PIANOCONTI_U!A20","v":"COMPENSI A TERZI (tabella C)"},{"$f":"PIANOCONTI_U!B20","v":"C"},200]
[{"$f":"PIANOCONTI_U!C21","v":"S.01.10"},{"$f":"PIANOCONTI_U!A21","v":"ALTRE SPESE DOCUMENTATI (tabella A)"},{"$f":"PIANOCONTI_U!B21","v":"A"},10]
[{"$f":"PIANOCONTI_U!C22","v":"S.01.11"},{"$f":"PIANOCONTI_U!A22","v":"ALTRE SPESE DOCUMENTATI (tabella B)"},{"$f":"PIANOCONTI_U!B22","v":"B"},10]
[{"$f":"PIANOCONTI_U!C23","v":"S.01.12"},{"$f":"PIANOCONTI_U!A23","v":"ALTRE SPESE DOCUMENTATI (tabella C)"},{"$f":"PIANOCONTI_U!B23","v":"C"},10]
[{"$f":"PIANOCONTI_U!C24","v":"S.01.11"},{"$f":"PIANOCONTI_U!A24","v":0},{"$f":"PIANOCONTI_U!B24","v":0},0]
[{"$f":"PIANOCONTI_U!C25","v":"S.01.12"},{"$f":"PIANOCONTI_U!A25","v":0},{"$f":"PIANOCONTI_U!B25","v":0},0]
[{"$f":"PIANOCONTI_U!C26","v":"S.01.13"},{"$f":"PIANOCONTI_U!A26","v":0},{"$f":"PIANOCONTI_U!B26","v":0}]
[{"$f":"PIANOCONTI_U!C27","v":"S.02"},{"$f":"PIANOCONTI_U!A27","v":"COMPETENZE TECNICHE - Prog., D.L. e collaudi (detr.)"},null,{"$f":"SUMIFS(D28:D37,C28:C37,\"=?\")","v":1500}]
[{"$f":"PIANOCONTI_U!C28","v":"S.02.01"},{"$f":"PIANOCONTI_U!A28","v":"Ricadenti in Tabella A"},{"$f":"PIANOCONTI_U!B28","v":"A"},450]
[{"$f":"PIANOCONTI_U!C29","v":"S.02.02"},{"$f":"PIANOCONTI_U!A29","v":"Ricadenti in Tabella B"},{"$f":"PIANOCONTI_U!B29","v":"B"},500]
[{"$f":"PIANOCONTI_U!C30","v":"S.02.03"},{"$f":"PIANOCONTI_U!A30","v":"Ricadenti in Tabella C"},{"$f":"PIANOCONTI_U!B30","v":"C"},550]
[{"$f":"PIANOCONTI_U!C31","v":"S.02.04"},{"$f":"PIANOCONTI_U!A31","v":0},{"$f":"PIANOCONTI_U!B31","v":0}]
[{"$f":"PIANOCONTI_U!C32","v":"S.02.05"},{"$f":"PIANOCONTI_U!A32","v":0},{"$f":"PIANOCONTI_U!B32","v":0}]
[{"$f":"PIANOCONTI_U!C33","v":"S.02.06"},{"$f":"PIANOCONTI_U!A33","v":0},{"$f":"PIANOCONTI_U!B33","v":0}]
[{"$f":"PIANOCONTI_U!C34","v":"S.02.07"},{"$f":"PIANOCONTI_U!A34","v":0},{"$f":"PIANOCONTI_U!B34","v":0}]
[{"$f":"PIANOCONTI_U!C35","v":"S.02.08"},{"$f":"PIANOCONTI_U!A35","v":0},{"$f":"PIANOCONTI_U!B35","v":0}]
[{"$f":"PIANOCONTI_U!C36","v":"S.02.09"},{"$f":"PIANOCONTI_U!A36","v":0},{"$f":"PIANOCONTI_U!B36","v":0}]
[{"$f":"PIANOCONTI_U!C37","v":"S.02.10"},{"$f":"PIANOCONTI_U!A37","v":0},{"$f":"PIANOCONTI_U!B37","v":0}]
[{"$f":"PIANOCONTI_U!C38","v":"S.03"},{"$f":"PIANOCONTI_U!A38","v":"LAVORI (detraibili)"},null,{"$f":"SUMIFS(D39:D48,C39:C48,\"=?\")","v":12370}]
[{"$f":"PIANOCONTI_U!C39","v":"S.03.01"},{"$f":"PIANOCONTI_U!A39","v":"Importo lavori ricadenti in tabella A"},{"$f":"PIANOCONTI_U!B39","v":"A"},3560]
[{"$f":"PIANOCONTI_U!C40","v":"S.03.02"},{"$f":"PIANOCONTI_U!A40","v":"Importo lavori ricadenti in tabella B"},{"$f":"PIANOCONTI_U!B40","v":"B"},3920]
[{"$f":"PIANOCONTI_U!C41","v":"S.03.03"},{"$f":"PIANOCONTI_U!A41","v":"Importo lavori ricadenti in tabella C"},{"$f":"PIANOCONTI_U!B41","v":"C"},4890]
[{"$f":"PIANOCONTI_U!C42","v":"S.03.04"},{"$f":"PIANOCONTI_U!A42","v":0},{"$f":"PIANOCONTI_U!B42","v":0}]
[{"$f":"PIANOCONTI_U!C43","v":"S.03.05"},{"$f":"PIANOCONTI_U!A43","v":0},{"$f":"PIANOCONTI_U!B43","v":0}]
[{"$f":"PIANOCONTI_U!C44","v":"S.03.06"},{"$f":"PIANOCONTI_U!A44","v":0},{"$f":"PIANOCONTI_U!B44","v":0}]
[{"$f":"PIANOCONTI_U!C45","v":"S.03.07"},{"$f":"PIANOCONTI_U!A45","v":0},{"$f":"PIANOCONTI_U!B45","v":0}]
[{"$f":"PIANOCONTI_U!C46","v":"S.03.08"},{"$f":"PIANOCONTI_U!A46","v":0},{"$f":"PIANOCONTI_U!B46","v":0}]
[{"$f":"PIANOCONTI_U!C47","v":"S.03.09"},{"$f":"PIANOCONTI_U!A47","v":0},{"$f":"PIANOCONTI_U!B47","v":0}]
[{"$f":"PIANOCONTI_U!C48","v":"S.03.10"},{"$f":"PIANOCONTI_U!A48","v":0},{"$f":"PIANOCONTI_U!B48","v":0},0]
[{"$f":"PIANOCONTI_U!C49","v":"S.04"},{"$f":"PIANOCONTI_U!A49","v":"SPESE VARIE E IMPREVISTI (detraibili)"},null,{"$f":"SUMIFS(D50:D59,C50:C59,\"=?\")","v":600}]
[{"$f":"PIANOCONTI_U!C50","v":"S.04.01"},{"$f":"PIANOCONTI_U!A50","v":"Ricadenti in Tabella A"},{"$f":"PIANOCONTI_U!B50","v":"A"},200]
[{"$f":"PIANOCONTI_U!C51","v":"S.04.02"},{"$f":"PIANOCONTI_U!A51","v":"Ricadenti in Tabella B"},{"$f":"PIANOCONTI_U!B51","v":"B"},200]
[{"$f":"PIANOCONTI_U!C52","v":"S.04.03"},{"$f":"PIANOCONTI_U!A52","v":"Ricadenti in Tabella C"},{"$f":"PIANOCONTI_U!B52","v":"C"},200]
[{"$f":"PIANOCONTI_U!C53","v":"S.04.04"},{"$f":"PIANOCONTI_U!A53","v":0},{"$f":"PIANOCONTI_U!B53","v":0}]
[{"$f":"PIANOCONTI_U!C54","v":"S.04.05"},{"$f":"PIANOCONTI_U!A54","v":0},{"$f":"PIANOCONTI_U!B54","v":0}]
[{"$f":"PIANOCONTI_U!C55","v":"S.04.06"},{"$f":"PIANOCONTI_U!A55","v":0},{"$f":"PIANOCONTI_U!B55","v":0}]
[{"$f":"PIANOCONTI_U!C56","v":"S.04.07"},{"$f":"PIANOCONTI_U!A56","v":0},{"$f":"PIANOCONTI_U!B56","v":0}]
[{"$f":"PIANOCONTI_U!C57","v":"S.04.08"},{"$f":"PIANOCONTI_U!A57","v":0},{"$f":"PIANOCONTI_U!B57","v":0}]
[{"$f":"PIANOCONTI_U!C58","v":"S.04.09"},{"$f":"PIANOCONTI_U!A58","v":0},{"$f":"PIANOCONTI_U!B58","v":0}]
[{"$f":"PIANOCONTI_U!C59","v":"S.04.10"},{"$f":"PIANOCONTI_U!A59","v":0},{"$f":"PIANOCONTI_U!B59","v":0}]
[{"$f":"PIANOCONTI_U!C60","v":"S.05"},{"$f":"PIANOCONTI_U!A60","v":"LAVORI (non detraibili)"},null,{"$f":"SUM(D61:D70)","v":600}]
[{"$f":"PIANOCONTI_U!C61","v":"S.05.01"},{"$f":"PIANOCONTI_U!A61","v":"Ricadenti in Tabella A"},{"$f":"PIANOCONTI_U!B61","v":"A"},400]
[{"$f":"PIANOCONTI_U!C62","v":"S.05.02"},{"$f":"PIANOCONTI_U!A62","v":"Ricadenti in Tabella B"},{"$f":"PIANOCONTI_U!B62","v":"B"},200]
[{"$f":"PIANOCONTI_U!C63","v":"S.05.03"},{"$f":"PIANOCONTI_U!A63","v":0},{"$f":"PIANOCONTI_U!B63","v":0}]
[{"$f":"PIANOCONTI_U!C64","v":"S.05.04"},{"$f":"PIANOCONTI_U!A64","v":0},{"$f":"PIANOCONTI_U!B64","v":0}]
[{"$f":"PIANOCONTI_U!C65","v":"S.05.05"},{"$f":"PIANOCONTI_U!A65","v":0},{"$f":"PIANOCONTI_U!B65","v":0}]
[{"$f":"PIANOCONTI_U!C66","v":"S.05.06"},{"$f":"PIANOCONTI_U!A66","v":0},{"$f":"PIANOCONTI_U!B66","v":0}]
[{"$f":"PIANOCONTI_U!C67","v":"S.05.07"},{"$f":"PIANOCONTI_U!A67","v":0},{"$f":"PIANOCONTI_U!B67","v":0}]
[{"$f":"PIANOCONTI_U!C68","v":"S.05.08"},{"$f":"PIANOCONTI_U!A68","v":0},{"$f":"PIANOCONTI_U!B68","v":0}]
[{"$f":"PIANOCONTI_U!C69","v":"S.05.09"},{"$f":"PIANOCONTI_U!A69","v":0},{"$f":"PIANOCONTI_U!B69","v":0}]
[{"$f":"PIANOCONTI_U!C70","v":"S.05.10"},{"$f":"PIANOCONTI_U!A70","v":0},{"$f":"PIANOCONTI_U!B70","v":0}]
[{"$f":"PIANOCONTI_U!C71","v":"S.06"},{"$f":"PIANOCONTI_U!A71","v":0},null,{"$f":"SUMIFS(D72:D76,C72:C76,\"=?\")","v":0}]
[{"$f":"PIANOCONTI_U!C72","v":"S.06.01"},{"$f":"PIANOCONTI_U!A72","v":0},{"$f":"PIANOCONTI_U!B72","v":0}]
[{"$f":"PIANOCONTI_U!C73","v":"S.06.02"},{"$f":"PIANOCONTI_U!A73","v":0},{"$f":"PIANOCONTI_U!B73","v":0}]
[{"$f":"PIANOCONTI_U!C74","v":"S.06.03"},{"$f":"PIANOCONTI_U!A74","v":0},{"$f":"PIANOCONTI_U!B74","v":0}]
[{"$f":"PIANOCONTI_U!C75","v":"S.06.04"},{"$f":"PIANOCONTI_U!A75","v":0},{"$f":"PIANOCONTI_U!B75","v":0}]
[{"$f":"PIANOCONTI_U!C76","v":"S.06.05"},{"$f":"PIANOCONTI_U!A76","v":0},{"$f":"PIANOCONTI_U!B76","v":0}]
[{"$f":"PIANOCONTI_U!C77","v":"S.07"},{"$f":"PIANOCONTI_U!A77","v":0},null,{"$f":"SUMIFS(D78:D82,C78:C82,\"=?\")","v":0}]
[{"$f":"PIANOCONTI_U!C78","v":"S.07.01"},{"$f":"PIANOCONTI_U!A78","v":0},{"$f":"PIANOCONTI_U!B78","v":0}]
[{"$f":"PIANOCONTI_U!C79","v":"S.07.02"},{"$f":"PIANOCONTI_U!A79","v":0},{"$f":"PIANOCONTI_U!B79","v":0}]
[{"$f":"PIANOCONTI_U!C80","v":"S.07.03"},{"$f":"PIANOCONTI_U!A80","v":0},{"$f":"PIANOCONTI_U!B80","v":0}]
[{"$f":"PIANOCONTI_U!C81","v":"S.07.04"},{"$f":"PIANOCONTI_U!A81","v":0},{"$f":"PIANOCONTI_U!B81","v":0}]
[{"$f":"PIANOCONTI_U!C82","v":"S.07.05"},{"$f":"PIANOCONTI_U!A82","v":0},{"$f":"PIANOCONTI_U!B82","v":0}]
[{"$f":"PIANOCONTI_U!C83","v":"L"},{"$f":"PIANOCONTI_U!A83","v":0},null,{"$f":"SUMIFS(D84:D96,C84:C96,\"=?\")","v":0}]
[{"$f":"PIANOCONTI_U!C84","v":"L.00.01"},{"$f":"PIANOCONTI_U!A84","v":0},{"$f":"PIANOCONTI_U!B84","v":0}]
[{"$f":"PIANOCONTI_U!C85","v":"L.00.02"},{"$f":"PIANOCONTI_U!A85","v":0},{"$f":"PIANOCONTI_U!B85","v":0}]
[{"$f":"PIANOCONTI_U!C86","v":"L.00.03"},{"$f":"PIANOCONTI_U!A86","v":0},{"$f":"PIANOCONTI_U!B86","v":0}]
[{"$f":"PIANOCONTI_U!C87","v":"L.00.04"},{"$f":"PIANOCONTI_U!A87","v":0},{"$f":"PIANOCONTI_U!B87","v":0}]
[{"$f":"PIANOCONTI_U!C88","v":"L.00.05"},{"$f":"PIANOCONTI_U!A88","v":0},{"$f":"PIANOCONTI_U!B88","v":0}]
[{"$f":"PIANOCONTI_U!C89","v":"G"},{"$f":"PIANOCONTI_U!A89","v":0},null,{"$f":"SUMIFS(D90:D102,C90:C102,\"=?\")","v":0}]
[{"$f":"PIANOCONTI_U!C90","v":"G.00.01"},{"$f":"PIANOCONTI_U!A90","v":0},{"$f":"PIANOCONTI_U!B90","v":0}]
[{"$f":"PIANOCONTI_U!C91","v":"G.00.02"},{"$f":"PIANOCONTI_U!A91","v":0},{"$f":"PIANOCONTI_U!B91","v":0}]
[{"$f":"PIANOCONTI_U!C92","v":"G.00.03"},{"$f":"PIANOCONTI_U!A92","v":0},{"$f":"PIANOCONTI_U!B92","v":0}]
[{"$f":"PIANOCONTI_U!C93","v":"G.00.04"},{"$f":"PIANOCONTI_U!A93","v":0},{"$f":"PIANOCONTI_U!B93","v":0}]
[{"$f":"PIANOCONTI_U!C94","v":"G.00.05"},{"$f":"PIANOCONTI_U!A94","v":0},{"$f":"PIANOCONTI_U!B94","v":0}]
[{"$f":"PIANOCONTI_U!C95","v":"P"},{"$f":"PIANOCONTI_U!A95","v":"SPESE PERSONALI PER UNITÀ FUNZIONALE (detraibili)"}]
[{"$f":"PIANOCONTI_U!C96","v":"P.00.01"},{"$f":"PIANOCONTI_U!A96","v":"Unità funzionale condominiale UFC01"},{"$f":"PIANOCONTI_U!B96","v":0}]
[{"$f":"PIANOCONTI_U!C97","v":"P.00.02"},{"$f":"PIANOCONTI_U!A97","v":"Unità funzionale condominiale UFC02"},{"$f":"PIANOCONTI_U!B97","v":0}]
[{"$f":"PIANOCONTI_U!C98","v":"P.00.03"},{"$f":"PIANOCONTI_U!A98","v":"Unità funzionale condominiale UFC03"},{"$f":"PIANOCONTI_U!B98","v":0},200]
[{"$f":"PIANOCONTI_U!C99","v":"P.00.04"},{"$f":"PIANOCONTI_U!A99","v":"Unità funzionale condominiale UFC04"},{"$f":"PIANOCONTI_U!B99","v":0}]
[{"$f":"PIANOCONTI_U!C100","v":"P.00.05"},{"$f":"PIANOCONTI_U!A100","v":"Unità funzionale condominiale UFC05"},{"$f":"PIANOCONTI_U!B100","v":0}]
[{"$f":"PIANOCONTI_U!C101","v":"P.00.06"},{"$f":"PIANOCONTI_U!A101","v":"Unità funzionale condominiale UFC06"},{"$f":"PIANOCONTI_U!B101","v":0}]
[{"$f":"PIANOCONTI_U!C102","v":"P.00.07"},{"$f":"PIANOCONTI_U!A102","v":"Unità funzionale condominiale UFC07"},{"$f":"PIANOCONTI_U!B102","v":0}]
[{"$f":"PIANOCONTI_U!C103","v":"P.00.08"},{"$f":"PIANOCONTI_U!A103","v":"Unità funzionale condominiale UFC08"},{"$f":"PIANOCONTI_U!B103","v":0}]
[{"$f":"PIANOCONTI_U!C104","v":"P.00.09"},{"$f":"PIANOCONTI_U!A104","v":"Unità funzionale condominiale UFC09"},{"$f":"PIANOCONTI_U!B104","v":0}]
[{"$f":"PIANOCONTI_U!C105","v":"P.00.10"},{"$f":"PIANOCONTI_U!A105","v":"Unità funzionale condominiale UFC10"},{"$f":"PIANOCONTI_U!B105","v":0}]
[{"$f":"PIANOCONTI_U!C106","v":"P.00.11"},{"$f":"PIANOCONTI_U!A106","v":"Unità funzionale condominiale UFC11"},{"$f":"PIANOCONTI_U!B106","v":0}]
[{"$f":"PIANOCONTI_U!C107","v":"P.00.12"},{"$f":"PIANOCONTI_U!A107","v":"Unità funzionale condominiale UFC12"},{"$f":"PIANOCONTI_U!B107","v":0},400]
[{"$f":"PIANOCONTI_U!C108","v":"P.00.13"},{"$f":"PIANOCONTI_U!A108","v":"Unità funzionale condominiale UFC13"},{"$f":"PIANOCONTI_U!B108","v":0}]
[{"$f":"PIANOCONTI_U!C109","v":"P.00.14"},{"$f":"PIANOCONTI_U!A109","v":"Unità funzionale condominiale UFC14"},{"$f":"PIANOCONTI_U!B109","v":0}]
[{"$f":"PIANOCONTI_U!C110","v":"P.00.15"},{"$f":"PIANOCONTI_U!A110","v":"Unità funzionale condominiale UFC15"},{"$f":"PIANOCONTI_U!B110","v":0}]
[{"$f":"PIANOCONTI_U!C111","v":"P.00.16"},{"$f":"PIANOCONTI_U!A111","v":"Unità funzionale condominiale UFC16"},{"$f":"PIANOCONTI_U!B111","v":0}]
[{"$f":"PIANOCONTI_U!C112","v":"P.00.17"},{"$f":"PIANOCONTI_U!A112","v":"Unità funzionale condominiale UFC17"},{"$f":"PIANOCONTI_U!B112","v":0}]
[{"$f":"PIANOCONTI_U!C113","v":"P.00.18"},{"$f":"PIANOCONTI_U!A113","v":"Unità funzionale condominiale UFC18"},{"$f":"PIANOCONTI_U!B113","v":0},350]
[{"$f":"PIANOCONTI_U!C114","v":"P.00.19"},{"$f":"PIANOCONTI_U!A114","v":"Unità funzionale condominiale UFC19"},{"$f":"PIANOCONTI_U!B114","v":0}]
[{"$f":"PIANOCONTI_U!C115","v":"P.00.20"},{"$f":"PIANOCONTI_U!A115","v":"Unità funzionale condominiale UFC20"},{"$f":"PIANOCONTI_U!B115","v":0}]
[{"$f":"PIANOCONTI_U!C116","v":"P.00.21"},{"$f":"PIANOCONTI_U!A116","v":"Unità funzionale condominiale UFC21"},{"$f":"PIANOCONTI_U!B116","v":0}]
[{"$f":"PIANOCONTI_U!C117","v":"P.00.22"},{"$f":"PIANOCONTI_U!A117","v":"Unità funzionale condominiale UFC22"},{"$f":"PIANOCONTI_U!B117","v":0}]
[{"$f":"PIANOCONTI_U!C118","v":"P.00.23"},{"$f":"PIANOCONTI_U!A118","v":"Unità funzionale condominiale UFC23"},{"$f":"PIANOCONTI_U!B118","v":0}]
[{"$f":"PIANOCONTI_U!C119","v":"P.00.24"},{"$f":"PIANOCONTI_U!A119","v":"Unità funzionale condominiale UFC24"},{"$f":"PIANOCONTI_U!B119","v":0}]
[{"$f":"PIANOCONTI_U!C120","v":"P.00.25"},{"$f":"PIANOCONTI_U!A120","v":"Unità funzionale condominiale UFC25"},{"$f":"PIANOCONTI_U!B120","v":0}]
[{"$f":"PIANOCONTI_U!C121","v":"P.00.26"},{"$f":"PIANOCONTI_U!A121","v":"Unità funzionale condominiale UFC26"},{"$f":"PIANOCONTI_U!B121","v":0}]
[{"$f":"PIANOCONTI_U!C122","v":"P.00.27"},{"$f":"PIANOCONTI_U!A122","v":"Unità funzionale condominiale UFC27"},{"$f":"PIANOCONTI_U!B122","v":0}]
[{"$f":"PIANOCONTI_U!C123","v":"P.00.28"},{"$f":"PIANOCONTI_U!A123","v":"Unità funzionale condominiale UFC28"},{"$f":"PIANOCONTI_U!B123","v":0}]
[{"$f":"PIANOCONTI_U!C124","v":"P.00.29"},{"$f":"PIANOCONTI_U!A124","v":"Unità funzionale condominiale UFC29"},{"$f":"PIANOCONTI_U!B124","v":0}]
[{"$f":"PIANOCONTI_U!C125","v":"P.00.30"},{"$f":"PIANOCONTI_U!A125","v":"Unità funzionale condominiale UFC30"},{"$f":"PIANOCONTI_U!B125","v":0}]
[{"$f":"PIANOCONTI_U!C126","v":"P.00.31"},{"$f":"PIANOCONTI_U!A126","v":"Unità funzionale condominiale UFC31"},{"$f":"PIANOCONTI_U!B126","v":0}]
[{"$f":"PIANOCONTI_U!C127","v":"P.00.32"},{"$f":"PIANOCONTI_U!A127","v":"Unità funzionale condominiale UFC32"},{"$f":"PIANOCONTI_U!B127","v":0}]
[{"$f":"PIANOCONTI_U!C128","v":"P.00.33"},{"$f":"PIANOCONTI_U!A128","v":"Unità funzionale condominiale UFC33"},{"$f":"PIANOCONTI_U!B128","v":0}]
[{"$f":"PIANOCONTI_U!C129","v":"P.00.34"},{"$f":"PIANOCONTI_U!A129","v":"Unità funzionale condominiale UFC34"},{"$f":"PIANOCONTI_U!B129","v":0}]
[{"$f":"PIANOCONTI_U!C130","v":"P.00.35"},{"$f":"PIANOCONTI_U!A130","v":"Unità funzionale condominiale UFC35"},{"$f":"PIANOCONTI_U!B130","v":0}]
[{"$f":"PIANOCONTI_U!C131","v":"P.00.36"},{"$f":"PIANOCONTI_U!A131","v":"Unità funzionale condominiale UFC36"},{"$f":"PIANOCONTI_U!B131","v":0}]
[{"$f":"PIANOCONTI_U!C132","v":"P.00.37"},{"$f":"PIANOCONTI_U!A132","v":"Unità funzionale condominiale UFC37"},{"$f":"PIANOCONTI_U!B132","v":0}]
[{"$f":"PIANOCONTI_U!C133","v":"P.00.38"},{"$f":"PIANOCONTI_U!A133","v":"Unità funzionale condominiale UFC38"},{"$f":"PIANOCONTI_U!B133","v":0}]
[{"$f":"PIANOCONTI_U!C134","v":"P.00.39"},{"$f":"PIANOCONTI_U!A134","v":"Unità funzionale condominiale UFC39"},{"$f":"PIANOCONTI_U!B134","v":0}]
[{"$f":"PIANOCONTI_U!C135","v":"P.00.40"},{"$f":"PIANOCONTI_U!A135","v":"Unità funzionale condominiale UFC40"},{"$f":"PIANOCONTI_U!B135","v":0}]
[{"$f":"PIANOCONTI_U!C136","v":"P.00.41"},{"$f":"PIANOCONTI_U!A136","v":"Unità funzionale condominiale UFC41"},{"$f":"PIANOCONTI_U!B136","v":0}]
[{"$f":"PIANOCONTI_U!C137","v":"P.00.42"},{"$f":"PIANOCONTI_U!A137","v":"Unità funzionale condominiale UFC42"},{"$f":"PIANOCONTI_U!B137","v":0}]
[{"$f":"PIANOCONTI_U!C138","v":"P.00.43"},{"$f":"PIANOCONTI_U!A138","v":"Unità funzionale condominiale UFC43"},{"$f":"PIANOCONTI_U!B138","v":0}]
[{"$f":"PIANOCONTI_U!C139","v":"P.00.44"},{"$f":"PIANOCONTI_U!A139","v":"Unità funzionale condominiale UFC44"},{"$f":"PIANOCONTI_U!B139","v":0}]
[{"$f":"PIANOCONTI_U!C140","v":"P.00.45"},{"$f":"PIANOCONTI_U!A140","v":"Unità funzionale condominiale UFC45"},{"$f":"PIANOCONTI_U!B140","v":0}]
[{"$f":"PIANOCONTI_U!C141","v":"P.00.46"},{"$f":"PIANOCONTI_U!A141","v":"Unità funzionale condominiale UFC46"},{"$f":"PIANOCONTI_U!B141","v":0}]
[{"$f":"PIANOCONTI_U!C142","v":"P.00.47"},{"$f":"PIANOCONTI_U!A142","v":"Unità funzionale condominiale UFC47"},{"$f":"PIANOCONTI_U!B142","v":0}]
[{"$f":"PIANOCONTI_U!C143","v":"P.00.48"},{"$f":"PIANOCONTI_U!A143","v":"Unità funzionale condominiale UFC48"},{"$f":"PIANOCONTI_U!B143","v":0}]
[{"$f":"PIANOCONTI_U!C144","v":"P.00.49"},{"$f":"PIANOCONTI_U!A144","v":"Unità funzionale condominiale UFC49"},{"$f":"PIANOCONTI_U!B144","v":0}]
[{"$f":"PIANOCONTI_U!C145","v":"P.00.50"},{"$f":"PIANOCONTI_U!A145","v":"Unità funzionale condominiale UFC50"},{"$f":"PIANOCONTI_U!B145","v":0}]
[{"$f":"PIANOCONTI_U!C146","v":"P.00.51"},{"$f":"PIANOCONTI_U!A146","v":"Unità funzionale condominiale UFC51"},{"$f":"PIANOCONTI_U!B146","v":0}]
[{"$f":"PIANOCONTI_U!C147","v":"P.00.52"},{"$f":"PIANOCONTI_U!A147","v":"Unità funzionale condominiale UFC52"},{"$f":"PIANOCONTI_U!B147","v":0}]
[{"$f":"PIANOCONTI_U!C148","v":"P.00.53"},{"$f":"PIANOCONTI_U!A148","v":"Unità funzionale condominiale UFC53"},{"$f":"PIANOCONTI_U!B148","v":0}]
[{"$f":"PIANOCONTI_U!C149","v":"P.00.54"},{"$f":"PIANOCONTI_U!A149","v":"Unità funzionale condominiale UFC54"},{"$f":"PIANOCONTI_U!B149","v":0}]
[{"$f":"PIANOCONTI_U!C150","v":"P.00.55"},{"$f":"PIANOCONTI_U!A150","v":"Unità funzionale condominiale UFC55"},{"$f":"PIANOCONTI_U!B150","v":0}]
[{"$f":"PIANOCONTI_U!C151","v":"P.00.56"},{"$f":"PIANOCONTI_U!A151","v":"Unità funzionale condominiale UFC56"},{"$f":"PIANOCONTI_U!B151","v":0}]
[{"$f":"PIANOCONTI_U!C152","v":"P.00.57"},{"$f":"PIANOCONTI_U!A152","v":"Unità funzionale condominiale UFC57"},{"$f":"PIANOCONTI_U!B152","v":0}]
[{"$f":"PIANOCONTI_U!C153","v":"P.00.58"},{"$f":"PIANOCONTI_U!A153","v":"Unità funzionale condominiale UFC58"},{"$f":"PIANOCONTI_U!B153","v":0}]
[{"$f":"PIANOCONTI_U!C154","v":"P.00.59"},{"$f":"PIANOCONTI_U!A154","v":"Unità funzionale condominiale UFC59"},{"$f":"PIANOCONTI_U!B154","v":0}]
[{"$f":"PIANOCONTI_U!C155","v":"P.00.60"},{"$f":"PIANOCONTI_U!A155","v":"Unità funzionale condominiale UFC60"},{"$f":"PIANOCONTI_U!B155","v":0}]
[{"$f":"PIANOCONTI_U!C156","v":"P.00.61"},{"$f":"PIANOCONTI_U!A156","v":"Unità funzionale condominiale UFC61"},{"$f":"PIANOCONTI_U!B156","v":0}]
[{"$f":"PIANOCONTI_U!C157","v":"P.00.62"},{"$f":"PIANOCONTI_U!A157","v":"Unità funzionale condominiale UFC62"},{"$f":"PIANOCONTI_U!B157","v":0}]
[{"$f":"PIANOCONTI_U!C158","v":"P.00.63"},{"$f":"PIANOCONTI_U!A158","v":"Unità funzionale condominiale UFC63"},{"$f":"PIANOCONTI_U!B158","v":0}]
[{"$f":"PIANOCONTI_U!C159","v":"P.00.64"},{"$f":"PIANOCONTI_U!A159","v":"Unità funzionale condominiale UFC64"},{"$f":"PIANOCONTI_U!B159","v":0}]
[{"$f":"PIANOCONTI_U!C160","v":"P.00.65"},{"$f":"PIANOCONTI_U!A160","v":"Unità funzionale condominiale UFC65"},{"$f":"PIANOCONTI_U!B160","v":0}]
[{"$f":"PIANOCONTI_U!C161","v":"P.00.66"},{"$f":"PIANOCONTI_U!A161","v":"Unità funzionale condominiale UFC66"},{"$f":"PIANOCONTI_U!B161","v":0}]
[{"$f":"PIANOCONTI_U!C162","v":"P.00.67"},{"$f":"PIANOCONTI_U!A162","v":"Unità funzionale condominiale UFC67"},{"$f":"PIANOCONTI_U!B162","v":0}]
[{"$f":"PIANOCONTI_U!C163","v":"P.00.68"},{"$f":"PIANOCONTI_U!A163","v":"Unità funzionale condominiale UFC68"},{"$f":"PIANOCONTI_U!B163","v":0}]
[{"$f":"PIANOCONTI_U!C164","v":"P.00.69"},{"$f":"PIANOCONTI_U!A164","v":"Unità funzionale condominiale UFC69"},{"$f":"PIANOCONTI_U!B164","v":0}]
[{"$f":"PIANOCONTI_U!C165","v":"P.00.70"},{"$f":"PIANOCONTI_U!A165","v":"Unità funzionale condominiale UFC70"},{"$f":"PIANOCONTI_U!B165","v":0}]
[{"$f":"PIANOCONTI_U!C166","v":"P.00.71"},{"$f":"PIANOCONTI_U!A166","v":"Unità funzionale condominiale UFC71"},{"$f":"PIANOCONTI_U!B166","v":0}]
[{"$f":"PIANOCONTI_U!C167","v":"P.00.72"},{"$f":"PIANOCONTI_U!A167","v":"Unità funzionale condominiale UFC72"},{"$f":"PIANOCONTI_U!B167","v":0}]
[{"$f":"PIANOCONTI_U!C168","v":"P.00.73"},{"$f":"PIANOCONTI_U!A168","v":"Unità funzionale condominiale UFC73"},{"$f":"PIANOCONTI_U!B168","v":0}]
[{"$f":"PIANOCONTI_U!C169","v":"P.00.74"},{"$f":"PIANOCONTI_U!A169","v":"Unità funzionale condominiale UFC74"},{"$f":"PIANOCONTI_U!B169","v":0}]
[{"$f":"PIANOCONTI_U!C170","v":"P.00.75"},{"$f":"PIANOCONTI_U!A170","v":"Unità funzionale condominiale UFC75"},{"$f":"PIANOCONTI_U!B170","v":0}]
[{"$f":"PIANOCONTI_U!C171","v":"P.00.76"},{"$f":"PIANOCONTI_U!A171","v":"Unità funzionale condominiale UFC76"},{"$f":"PIANOCONTI_U!B171","v":0}]
[{"$f":"PIANOCONTI_U!C172","v":"P.00.77"},{"$f":"PIANOCONTI_U!A172","v":"Unità funzionale condominiale UFC77"},{"$f":"PIANOCONTI_U!B172","v":0}]
[{"$f":"PIANOCONTI_U!C173","v":"P.00.78"},{"$f":"PIANOCONTI_U!A173","v":"Unità funzionale condominiale UFC78"},{"$f":"PIANOCONTI_U!B173","v":0}]
[{"$f":"PIANOCONTI_U!C174","v":"P.00.79"},{"$f":"PIANOCONTI_U!A174","v":"Unità funzionale condominiale UFC79"},{"$f":"PIANOCONTI_U!B174","v":0}]
[{"$f":"PIANOCONTI_U!C175","v":"P.00.80"},{"$f":"PIANOCONTI_U!A175","v":"Unità funzionale condominiale UFC80"},{"$f":"PIANOCONTI_U!B175","v":0}]
[{"$f":"PIANOCONTI_U!C176","v":"P.00.81"},{"$f":"PIANOCONTI_U!A176","v":"Unità funzionale condominiale UFC81"},{"$f":"PIANOCONTI_U!B176","v":0}]
[{"$f":"PIANOCONTI_U!C177","v":"P.00.82"},{"$f":"PIANOCONTI_U!A177","v":"Unità funzionale condominiale UFC82"},{"$f":"PIANOCONTI_U!B177","v":0}]
[{"$f":"PIANOCONTI_U!C178","v":"P.00.83"},{"$f":"PIANOCONTI_U!A178","v":"Unità funzionale condominiale UFC83"},{"$f":"PIANOCONTI_U!B178","v":0}]
[{"$f":"PIANOCONTI_U!C179","v":"P.00.84"},{"$f":"PIANOCONTI_U!A179","v":"Unità funzionale condominiale UFC84"},{"$f":"PIANOCONTI_U!B179","v":0}]
[{"$f":"PIANOCONTI_U!C180","v":"P.00.85"},{"$f":"PIANOCONTI_U!A180","v":"Unità funzionale condominiale UFC85"},{"$f":"PIANOCONTI_U!B180","v":0}]
[{"$f":"PIANOCONTI_U!C181","v":"P.00.86"},{"$f":"PIANOCONTI_U!A181","v":"Unità funzionale condominiale UFC86"},{"$f":"PIANOCONTI_U!B181","v":0}]
[{"$f":"PIANOCONTI_U!C182","v":"P.00.87"},{"$f":"PIANOCONTI_U!A182","v":"Unità funzionale condominiale UFC87"},{"$f":"PIANOCONTI_U!B182","v":0}]
[{"$f":"PIANOCONTI_U!C183","v":"P.00.88"},{"$f":"PIANOCONTI_U!A183","v":"Unità funzionale condominiale UFC88"},{"$f":"PIANOCONTI_U!B183","v":0}]
[{"$f":"PIANOCONTI_U!C184","v":"P.00.89"},{"$f":"PIANOCONTI_U!A184","v":"Unità funzionale condominiale UFC89"},{"$f":"PIANOCONTI_U!B184","v":0}]
[{"$f":"PIANOCONTI_U!C185","v":"P.00.90"},{"$f":"PIANOCONTI_U!A185","v":"Unità funzionale condominiale UFC90"},{"$f":"PIANOCONTI_U!B185","v":0}]
[{"$f":"PIANOCONTI_U!C186","v":"P.00.91"},{"$f":"PIANOCONTI_U!A186","v":"Unità funzionale condominiale UFC91"},{"$f":"PIANOCONTI_U!B186","v":0}]
[{"$f":"PIANOCONTI_U!C187","v":"P.00.92"},{"$f":"PIANOCONTI_U!A187","v":"Unità funzionale condominiale UFC92"},{"$f":"PIANOCONTI_U!B187","v":0}]
[{"$f":"PIANOCONTI_U!C188","v":"P.00.93"},{"$f":"PIANOCONTI_U!A188","v":"Unità funzionale condominiale UFC93"},{"$f":"PIANOCONTI_U!B188","v":0}]
[{"$f":"PIANOCONTI_U!C189","v":"P.00.94"},{"$f":"PIANOCONTI_U!A189","v":"Unità funzionale condominiale UFC94"},{"$f":"PIANOCONTI_U!B189","v":0}]
[{"$f":"PIANOCONTI_U!C190","v":"P.00.95"},{"$f":"PIANOCONTI_U!A190","v":"Unità funzionale condominiale UFC95"},{"$f":"PIANOCONTI_U!B190","v":0}]
[{"$f":"PIANOCONTI_U!C191","v":"P.00.96"},{"$f":"PIANOCONTI_U!A191","v":"Unità funzionale condominiale UFC96"},{"$f":"PIANOCONTI_U!B191","v":0}]
[{"$f":"PIANOCONTI_U!C192","v":"P.00.97"},{"$f":"PIANOCONTI_U!A192","v":"Unità funzionale condominiale UFC97"},{"$f":"PIANOCONTI_U!B192","v":0}]
[{"$f":"PIANOCONTI_U!C193","v":"P.00.98"},{"$f":"PIANOCONTI_U!A193","v":"Unità funzionale condominiale UFC98"},{"$f":"PIANOCONTI_U!B193","v":0}]
[{"$f":"PIANOCONTI_U!C194","v":"P.00.99"},{"$f":"PIANOCONTI_U!A194","v":"Unità funzionale condominiale UFC99"},{"$f":"PIANOCONTI_U!B194","v":0}]
["TOTALE SPESE PREVISTE",null,null,{"$f":"SUMIFS(D11:D95,C11:C95,\"\")+SUM(D96:D194)","v":17190}]
[0,null,null,null,0]

{"sheet":"RP-UF","index":17,"n_rows":111,"n_cols":15,"rows_kept":111,"cut":false,"hidden":true,"merged":[[110,3,110,13],[7,0,9,0],[7,14,9,14],[7,1,9,1],[7,2,9,2]]}
[]
[]
[]
[]
[]
[]
[{"$f":"\"RIPARTO fra le UNITÀ FUNZIONALI delle SPESE PREVENTIVATE da sostenere con il FONDO LAVORI\"  & CHAR(10) & DATIG!A40  & CHAR(10) & \"Codice FONDO:  \" & DATIG!A37","v":"RIPARTO fra le UNITÀ FUNZIONALI delle SPESE PREVENTIVATE da sostenere con il FONDO LAVORI\nLavori messa in sicurezza fondazioni da infiltrazioni fognarie\nCodice FONDO:  LAVORO-01"}]
["N. UFC","Codice Unità\nFunzionale\nCondominiale","Codice Unità\nImmobiliare\nCatastale\ncui appartiene","SPESE","SPESE","SPESE","SPESE","SPESE","SPESE","SPESE","SPESE","SPESE","SPESE","SPESE","TOTALE DOVUTO"]
[null,null,null,{"$f":"\"Tab. \" & DATIG!$D16","v":"Tab. A"},{"$f":"\"Tab. \" & DATIG!$D17","v":"Tab. B"},{"$f":"\"Tab. \" & DATIG!$D18","v":"Tab. C"},{"$f":"\"Tab. \" & DATIG!$D19","v":"Tab. D"},{"$f":"\"Tab. \" & DATIG!$D20","v":"Tab. E"},{"$f":"\"Tab. \" & DATIG!$D21","v":"Tab. F"},{"$f":"\"Tab. \" & DATIG!$D22","v":"Tab. G"},{"$f":"\"Tab. \" & DATIG!$D23","v":"Tab. H"},{"$f":"\"Tab. \" & DATIG!$D24","v":"Tab. I"},{"$f":"\"Tab. \" & DATIG!$D25","v":"Tab. J"},"PERSON."]
[null,null,null,{"$f":"DATIG!$A16","v":"GENERALE"},{"$f":"DATIG!$A17","v":"Lato NORD"},{"$f":"DATIG!$A18","v":"Lato SUD"},{"$f":"DATIG!$A19","v":0},{"$f":"DATIG!$A20","v":0},{"$f":"DATIG!$A21","v":0},{"$f":"DATIG!$A22","v":0},{"$f":"DATIG!$A23","v":0},{"$f":"DATIG!$A24","v":0},{"$f":"DATIG!$A25","v":0}]
[1,{"$f":"UF!B11","v":"UFC01"},{"$f":"IF(UF!C11<>\"\",UF!C11,\"\")","v":"U01"},198.19,0,824.24,null,null,null,null,null,null,null,{"$f":"USCITE_P!D96","v":0},{"$f":"SUM(D11:N11)","v":1022.4300000000001}]
[2,{"$f":"UF!B12","v":"UFC02"},{"$f":"IF(UF!C12<>\"\",UF!C12,\"\")","v":"U02"},237.83,0,989.13,null,null,null,null,null,null,null,{"$f":"USCITE_P!D97","v":0},{"$f":"SUM(D12:N12)","v":1226.96}]
[3,{"$f":"UF!B13","v":"UFC03"},{"$f":"IF(UF!C13<>\"\",UF!C13,\"\")","v":"U03"},226.70000000000002,0,942.84,null,null,null,null,null,null,null,{"$f":"USCITE_P!D98","v":200},1369.54]
[4,{"$f":"UF!B14","v":"UFC04"},{"$f":"IF(UF!C14<>\"\",UF!C14,\"\")","v":"U04"},205.52,0,569.84,null,null,null,null,null,null,null,{"$f":"USCITE_P!D99","v":0},775.36]
[5,{"$f":"UF!B15","v":"UFC05"},{"$f":"IF(UF!C15<>\"\",UF!C15,\"\")","v":"U05"},254.81,0,706.62,null,null,null,null,null,null,null,{"$f":"USCITE_P!D100","v":0},961.43000000000006]
[6,{"$f":"UF!B16","v":"UFC06"},{"$f":"IF(UF!C16<>\"\",UF!C16,\"\")","v":"U06"},241.76,0,670.31000000000006,null,null,null,null,null,null,null,{"$f":"USCITE_P!D101","v":0},912.07]
[7,{"$f":"UF!B17","v":"UFC07"},{"$f":"IF(UF!C17<>\"\",UF!C17,\"\")","v":"U07"},202.32,0,280.48,null,null,null,null,null,null,null,{"$f":"USCITE_P!D102","v":0},482.8]
[8,{"$f":"UF!B18","v":"UFC08"},{"$f":"IF(UF!C18<>\"\",UF!C18,\"\")","v":"U08"},247.70000000000002,0,343.38,null,null,null,null,null,null,null,{"$f":"USCITE_P!D103","v":0},591.08000000000004]
[9,{"$f":"UF!B19","v":"UFC09"},{"$f":"IF(UF!C19<>\"\",UF!C19,\"\")","v":"U09"},235.26,0,326.15000000000003,null,null,null,null,null,null,null,{"$f":"USCITE_P!D104","v":0},561.41000000000008]
[10,{"$f":"UF!B20","v":"UFC10"},{"$f":"IF(UF!C20<>\"\",UF!C20,\"\")","v":"U10"},177.42,0,25.13,null,null,null,null,null,null,null,{"$f":"USCITE_P!D105","v":0},202.54999999999998]
[11,{"$f":"UF!B21","v":"UFC11"},{"$f":"IF(UF!C21<>\"\",UF!C21,\"\")","v":"U11"},228.16,0,26.810000000000002,null,null,null,null,null,null,null,{"$f":"USCITE_P!D106","v":0},254.97]
[12,{"$f":"UF!B22","v":"UFC12"},{"$f":"IF(UF!C22<>\"\",UF!C22,\"\")","v":"U12"},163.27000000000001,0,29.490000000000002,null,null,null,null,null,null,null,{"$f":"USCITE_P!D107","v":400},592.76]
[13,{"$f":"UF!B23","v":"UFC13"},{"$f":"IF(UF!C23<>\"\",UF!C23,\"\")","v":"U13"},50.77,0,70.37,null,null,null,null,null,null,null,{"$f":"USCITE_P!D108","v":0},121.14000000000001]
[14,{"$f":"UF!B24","v":"UFC14"},{"$f":"IF(UF!C24<>\"\",UF!C24,\"\")","v":"U14"},162.45000000000002,0,225.21,null,null,null,null,null,null,null,{"$f":"USCITE_P!D109","v":0},387.66]
[15,{"$f":"UF!B25","v":"UFC15"},{"$f":"IF(UF!C25<>\"\",UF!C25,\"\")","v":"U15"},234.42,1278.79,0,null,null,null,null,null,null,null,{"$f":"USCITE_P!D110","v":0},1513.21]
[16,{"$f":"UF!B26","v":"UFC16"},{"$f":"IF(UF!C26<>\"\",UF!C26,\"\")","v":"U16"},239.6,980.26,0,null,null,null,null,null,null,null,{"$f":"USCITE_P!D111","v":0},1219.8599999999999]
[17,{"$f":"UF!B27","v":"UFC17"},{"$f":"IF(UF!C27<>\"\",UF!C27,\"\")","v":"U17"},188.61,771.65,0,null,null,null,null,null,null,null,{"$f":"USCITE_P!D112","v":0},960.26]
[18,{"$f":"UF!B28","v":"UFC18"},{"$f":"IF(UF!C28<>\"\",UF!C28,\"\")","v":"U18"},250.70000000000002,683.78,0,null,null,null,null,null,null,null,{"$f":"USCITE_P!D113","v":350},1284.48]
[19,{"$f":"UF!B29","v":"UFC19"},{"$f":"IF(UF!C29<>\"\",UF!C29,\"\")","v":"U19"},205.14,559.53,0,null,null,null,null,null,null,null,{"$f":"USCITE_P!D114","v":0},764.67]
[20,{"$f":"UF!B30","v":"UFC20"},{"$f":"IF(UF!C30<>\"\",UF!C30,\"\")","v":"U20"},254.6,347.2,0,null,null,null,null,null,null,null,{"$f":"USCITE_P!D115","v":0},601.79999999999995]
[21,{"$f":"UF!B31","v":"UFC21"},{"$f":"IF(UF!C31<>\"\",UF!C31,\"\")","v":"U21"},192.02,261.87,0,null,null,null,null,null,null,null,{"$f":"USCITE_P!D116","v":0},453.89]
[22,{"$f":"UF!B32","v":"UFC22"},{"$f":"IF(UF!C32<>\"\",UF!C32,\"\")","v":"U22"},227.58,24.150000000000002,0,null,null,null,null,null,null,null,{"$f":"USCITE_P!D117","v":0},251.73000000000002]
[23,{"$f":"UF!B33","v":"UFC23"},{"$f":"IF(UF!C33<>\"\",UF!C33,\"\")","v":"U20"},176.19,31.41,0,null,null,null,null,null,null,null,{"$f":"USCITE_P!D118","v":0},207.6]
[24,{"$f":"UF!B34","v":"UFC24"},{"$f":"IF(UF!C34<>\"\",UF!C34,\"\")","v":"U15"},198.98000000000002,271.36,0,null,null,null,null,null,null,null,{"$f":"USCITE_P!D119","v":0},470.34000000000003]
[25,{"$f":"UF!B35","v":"UFC25"},{"$f":"IF(UF!C35<>\"\",UF!C35,\"\")","v":""},null,null,null,null,null,null,null,null,null,null,{"$f":"USCITE_P!D120","v":0},0]
[26,{"$f":"UF!B36","v":"UFC26"},{"$f":"IF(UF!C36<>\"\",UF!C36,\"\")","v":""},null,null,null,null,null,null,null,null,null,null,{"$f":"USCITE_P!D121","v":0},0]
[27,{"$f":"UF!B37","v":"UFC27"},{"$f":"IF(UF!C37<>\"\",UF!C37,\"\")","v":""},null,null,null,null,null,null,null,null,null,null,{"$f":"USCITE_P!D122","v":0},0]
[28,{"$f":"UF!B38","v":"UFC28"},{"$f":"IF(UF!C38<>\"\",UF!C38,\"\")","v":""},null,null,null,null,null,null,null,null,null,null,{"$f":"USCITE_P!D123","v":0},0]
[29,{"$f":"UF!B39","v":"UFC29"},{"$f":"IF(UF!C39<>\"\",UF!C39,\"\")","v":""},null,null,null,null,null,null,null,null,null,null,{"$f":"USCITE_P!D124","v":0},0]
[30,{"$f":"UF!B40","v":"UFC30"},{"$f":"IF(UF!C40<>\"\",UF!C40,\"\")","v":""},null,null,null,null,null,null,null,null,null,null,{"$f":"USCITE_P!D125","v":0},0]
[31,{"$f":"UF!B41","v":"UFC31"},{"$f":"IF(UF!C41<>\"\",UF!C41,\"\")","v":""},null,null,null,null,null,null,null,null,null,null,{"$f":"USCITE_P!D126","v":0},0]
[32,{"$f":"UF!B42","v":"UFC32"},{"$f":"IF(UF!C42<>\"\",UF!C42,\"\")","v":""},null,null,null,null,null,null,null,null,null,null,{"$f":"USCITE_P!D127","v":0},0]
[33,{"$f":"UF!B43","v":"UFC33"},{"$f":"IF(UF!C43<>\"\",UF!C43,\"\")","v":""},null,null,null,null,null,null,null,null,null,null,{"$f":"USCITE_P!D128","v":0},0]
[34,{"$f":"UF!B44","v":"UFC34"},{"$f":"IF(UF!C44<>\"\",UF!C44,\"\")","v":""},null,null,null,null,null,null,null,null,null,null,{"$f":"USCITE_P!D129","v":0},0]
[35,{"$f":"UF!B45","v":"UFC35"},{"$f":"IF(UF!C45<>\"\",UF!C45,\"\")","v":""},null,null,null,null,null,null,null,null,null,null,{"$f":"USCITE_P!D130","v":0},0]
[36,{"$f":"UF!B46","v":"UFC36"},{"$f":"IF(UF!C46<>\"\",UF!C46,\"\")","v":""},null,null,null,null,null,null,null,null,null,null,{"$f":"USCITE_P!D131","v":0},0]
[37,{"$f":"UF!B47","v":"UFC37"},{"$f":"IF(UF!C47<>\"\",UF!C47,\"\")","v":""},null,null,null,null,null,null,null,null,null,null,{"$f":"USCITE_P!D132","v":0},0]
[38,{"$f":"UF!B48","v":"UFC38"},{"$f":"IF(UF!C48<>\"\",UF!C48,\"\")","v":""},null,null,null,null,null,null,null,null,null,null,{"$f":"USCITE_P!D133","v":0},0]
[39,{"$f":"UF!B49","v":"UFC39"},{"$f":"IF(UF!C49<>\"\",UF!C49,\"\")","v":""},null,null,null,null,null,null,null,null,null,null,{"$f":"USCITE_P!D134","v":0},0]
[40,{"$f":"UF!B50","v":"UFC40"},{"$f":"IF(UF!C50<>\"\",UF!C50,\"\")","v":""},null,null,null,null,null,null,null,null,null,null,{"$f":"USCITE_P!D135","v":0},0]
[41,{"$f":"UF!B51","v":"UFC41"},{"$f":"IF(UF!C51<>\"\",UF!C51,\"\")","v":""},null,null,null,null,null,null,null,null,null,null,{"$f":"USCITE_P!D136","v":0},0]
[42,{"$f":"UF!B52","v":"UFC42"},{"$f":"IF(UF!C52<>\"\",UF!C52,\"\")","v":""},null,null,null,null,null,null,null,null,null,null,{"$f":"USCITE_P!D137","v":0},0]
[43,{"$f":"UF!B53","v":"UFC43"},{"$f":"IF(UF!C53<>\"\",UF!C53,\"\")","v":""},null,null,null,null,null,null,null,null,null,null,{"$f":"USCITE_P!D138","v":0},0]
[44,{"$f":"UF!B54","v":"UFC44"},{"$f":"IF(UF!C54<>\"\",UF!C54,\"\")","v":""},null,null,null,null,null,null,null,null,null,null,{"$f":"USCITE_P!D139","v":0},0]
[45,{"$f":"UF!B55","v":"UFC45"},{"$f":"IF(UF!C55<>\"\",UF!C55,\"\")","v":""},null,null,null,null,null,null,null,null,null,null,{"$f":"USCITE_P!D140","v":0},0]
[46,{"$f":"UF!B56","v":"UFC46"},{"$f":"IF(UF!C56<>\"\",UF!C56,\"\")","v":""},null,null,null,null,null,null,null,null,null,null,{"$f":"USCITE_P!D141","v":0},0]
[47,{"$f":"UF!B57","v":"UFC47"},{"$f":"IF(UF!C57<>\"\",UF!C57,\"\")","v":""},null,null,null,null,null,null,null,null,null,null,{"$f":"USCITE_P!D142","v":0},0]
[48,{"$f":"UF!B58","v":"UFC48"},{"$f":"IF(UF!C58<>\"\",UF!C58,\"\")","v":""},null,null,null,null,null,null,null,null,null,null,{"$f":"USCITE_P!D143","v":0},0]
[49,{"$f":"UF!B59","v":"UFC49"},{"$f":"IF(UF!C59<>\"\",UF!C59,\"\")","v":""},null,null,null,null,null,null,null,null,null,null,{"$f":"USCITE_P!D144","v":0},0]
[50,{"$f":"UF!B60","v":"UFC50"},{"$f":"IF(UF!C60<>\"\",UF!C60,\"\")","v":""},null,null,null,null,null,null,null,null,null,null,{"$f":"USCITE_P!D145","v":0},0]
[51,{"$f":"UF!B61","v":"UFC51"},{"$f":"IF(UF!C61<>\"\",UF!C61,\"\")","v":""},null,null,null,null,null,null,null,null,null,null,{"$f":"USCITE_P!D146","v":0},0]
[52,{"$f":"UF!B62","v":"UFC52"},{"$f":"IF(UF!C62<>\"\",UF!C62,\"\")","v":""},null,null,null,null,null,null,null,null,null,null,{"$f":"USCITE_P!D147","v":0},0]
[53,{"$f":"UF!B63","v":"UFC53"},{"$f":"IF(UF!C63<>\"\",UF!C63,\"\")","v":""},null,null,null,null,null,null,null,null,null,null,{"$f":"USCITE_P!D148","v":0},0]
[54,{"$f":"UF!B64","v":"UFC54"},{"$f":"IF(UF!C64<>\"\",UF!C64,\"\")","v":""},null,null,null,null,null,null,null,null,null,null,{"$f":"USCITE_P!D149","v":0},0]
[55,{"$f":"UF!B65","v":"UFC55"},{"$f":"IF(UF!C65<>\"\",UF!C65,\"\")","v":""},null,null,null,null,null,null,null,null,null,null,{"$f":"USCITE_P!D150","v":0},0]
[56,{"$f":"UF!B66","v":"UFC56"},{"$f":"IF(UF!C66<>\"\",UF!C66,\"\")","v":""},null,null,null,null,null,null,null,null,null,null,{"$f":"USCITE_P!D151","v":0},0]
[57,{"$f":"UF!B67","v":"UFC57"},{"$f":"IF(UF!C67<>\"\",UF!C67,\"\")","v":""},null,null,null,null,null,null,null,null,null,null,{"$f":"USCITE_P!D152","v":0},0]
[58,{"$f":"UF!B68","v":"UFC58"},{"$f":"IF(UF!C68<>\"\",UF!C68,\"\")","v":""},null,null,null,null,null,null,null,null,null,null,{"$f":"USCITE_P!D153","v":0},0]
[59,{"$f":"UF!B69","v":"UFC59"},{"$f":"IF(UF!C69<>\"\",UF!C69,\"\")","v":""},null,null,null,null,null,null,null,null,null,null,{"$f":"USCITE_P!D154","v":0},0]
[60,{"$f":"UF!B70","v":"UFC60"},{"$f":"IF(UF!C70<>\"\",UF!C70,\"\")","v":""},null,null,null,null,null,null,null,null,null,null,{"$f":"USCITE_P!D155","v":0},0]
[61,{"$f":"UF!B71","v":"UFC61"},{"$f":"IF(UF!C71<>\"\",UF!C71,\"\")","v":""},null,null,null,null,null,null,null,null,null,null,{"$f":"USCITE_P!D156","v":0},0]
[62,{"$f":"UF!B72","v":"UFC62"},{"$f":"IF(UF!C72<>\"\",UF!C72,\"\")","v":""},null,null,null,null,null,null,null,null,null,null,{"$f":"USCITE_P!D157","v":0},0]
[63,{"$f":"UF!B73","v":"UFC63"},{"$f":"IF(UF!C73<>\"\",UF!C73,\"\")","v":""},null,null,null,null,null,null,null,null,null,null,{"$f":"USCITE_P!D158","v":0},0]
[64,{"$f":"UF!B74","v":"UFC64"},{"$f":"IF(UF!C74<>\"\",UF!C74,\"\")","v":""},null,null,null,null,null,null,null,null,null,null,{"$f":"USCITE_P!D159","v":0},0]
[65,{"$f":"UF!B75","v":"UFC65"},{"$f":"IF(UF!C75<>\"\",UF!C75,\"\")","v":""},null,null,null,null,null,null,null,null,null,null,{"$f":"USCITE_P!D160","v":0},0]
[66,{"$f":"UF!B76","v":"UFC66"},{"$f":"IF(UF!C76<>\"\",UF!C76,\"\")","v":""},null,null,null,null,null,null,null,null,null,null,{"$f":"USCITE_P!D161","v":0},{"$f":"SUM(D76:N76)","v":0}]
[67,{"$f":"UF!B77","v":"UFC67"},{"$f":"IF(UF!C77<>\"\",UF!C77,\"\")","v":""},null,null,null,null,null,null,null,null,null,null,{"$f":"USCITE_P!D162","v":0},0]
[68,{"$f":"UF!B78","v":"UFC68"},{"$f":"IF(UF!C78<>\"\",UF!C78,\"\")","v":""},null,null,null,null,null,null,null,null,null,null,{"$f":"USCITE_P!D163","v":0},0]
[69,{"$f":"UF!B79","v":"UFC69"},{"$f":"IF(UF!C79<>\"\",UF!C79,\"\")","v":""},null,null,null,null,null,null,null,null,null,null,{"$f":"USCITE_P!D164","v":0},0]
[70,{"$f":"UF!B80","v":"UFC70"},{"$f":"IF(UF!C80<>\"\",UF!C80,\"\")","v":""},null,null,null,null,null,null,null,null,null,null,{"$f":"USCITE_P!D165","v":0},0]
[71,{"$f":"UF!B81","v":"UFC71"},{"$f":"IF(UF!C81<>\"\",UF!C81,\"\")","v":""},null,null,null,null,null,null,null,null,null,null,{"$f":"USCITE_P!D166","v":0},0]
[72,{"$f":"UF!B82","v":"UFC72"},{"$f":"IF(UF!C82<>\"\",UF!C82,\"\")","v":""},null,null,null,null,null,null,null,null,null,null,{"$f":"USCITE_P!D167","v":0},0]
[73,{"$f":"UF!B83","v":"UFC73"},{"$f":"IF(UF!C83<>\"\",UF!C83,\"\")","v":""},null,null,null,null,null,null,null,null,null,null,{"$f":"USCITE_P!D168","v":0},0]
[74,{"$f":"UF!B84","v":"UFC74"},{"$f":"IF(UF!C84<>\"\",UF!C84,\"\")","v":""},null,null,null,null,null,null,null,null,null,null,{"$f":"USCITE_P!D169","v":0},0]
[75,{"$f":"UF!B85","v":"UFC75"},{"$f":"IF(UF!C85<>\"\",UF!C85,\"\")","v":""},null,null,null,null,null,null,null,null,null,null,{"$f":"USCITE_P!D170","v":0},0]
[76,{"$f":"UF!B86","v":"UFC76"},{"$f":"IF(UF!C86<>\"\",UF!C86,\"\")","v":""},null,null,null,null,null,null,null,null,null,null,{"$f":"USCITE_P!D171","v":0},0]
[77,{"$f":"UF!B87","v":"UFC77"},{"$f":"IF(UF!C87<>\"\",UF!C87,\"\")","v":""},null,null,null,null,null,null,null,null,null,null,{"$f":"USCITE_P!D172","v":0},0]
[78,{"$f":"UF!B88","v":"UFC78"},{"$f":"IF(UF!C88<>\"\",UF!C88,\"\")","v":""},null,null,null,null,null,null,null,null,null,null,{"$f":"USCITE_P!D173","v":0},0]
[79,{"$f":"UF!B89","v":"UFC79"},{"$f":"IF(UF!C89<>\"\",UF!C89,\"\")","v":""},null,null,null,null,null,null,null,null,null,null,{"$f":"USCITE_P!D174","v":0},0]
[80,{"$f":"UF!B90","v":"UFC80"},{"$f":"IF(UF!C90<>\"\",UF!C90,\"\")","v":""},null,null,null,null,null,null,null,null,null,null,{"$f":"USCITE_P!D175","v":0},0]
[81,{"$f":"UF!B91","v":"UFC81"},{"$f":"IF(UF!C91<>\"\",UF!C91,\"\")","v":""},null,null,null,null,null,null,null,null,null,null,{"$f":"USCITE_P!D176","v":0},0]
[82,{"$f":"UF!B92","v":"UFC82"},{"$f":"IF(UF!C92<>\"\",UF!C92,\"\")","v":""},null,null,null,null,null,null,null,null,null,null,{"$f":"USCITE_P!D177","v":0},0]
[83,{"$f":"UF!B93","v":"UFC83"},{"$f":"IF(UF!C93<>\"\",UF!C93,\"\")","v":""},null,null,null,null,null,null,null,null,null,null,{"$f":"USCITE_P!D178","v":0},0]
[84,{"$f":"UF!B94","v":"UFC84"},{"$f":"IF(UF!C94<>\"\",UF!C94,\"\")","v":""},null,null,null,null,null,null,null,null,null,null,{"$f":"USCITE_P!D179","v":0},0]
[85,{"$f":"UF!B95","v":"UFC85"},{"$f":"IF(UF!C95<>\"\",UF!C95,\"\")","v":""},null,null,null,null,null,null,null,null,null,null,{"$f":"USCITE_P!D180","v":0},0]
[86,{"$f":"UF!B96","v":"UFC86"},{"$f":"IF(UF!C96<>\"\",UF!C96,\"\")","v":""},null,null,null,null,null,null,null,null,null,null,{"$f":"USCITE_P!D181","v":0},0]
[87,{"$f":"UF!B97","v":"UFC87"},{"$f":"IF(UF!C97<>\"\",UF!C97,\"\")","v":""},null,null,null,null,null,null,null,null,null,null,{"$f":"USCITE_P!D182","v":0},0]
[88,{"$f":"UF!B98","v":"UFC88"},{"$f":"IF(UF!C98<>\"\",UF!C98,\"\")","v":""},null,null,null,null,null,null,null,null,null,null,{"$f":"USCITE_P!D183","v":0},0]
[89,{"$f":"UF!B99","v":"UFC89"},{"$f":"IF(UF!C99<>\"\",UF!C99,\"\")","v":""},null,null,null,null,null,null,null,null,null,null,{"$f":"USCITE_P!D184","v":0},0]
[90,{"$f":"UF!B100","v":"UFC90"},{"$f":"IF(UF!C100<>\"\",UF!C100,\"\")","v":""},null,null,null,null,null,null,null,null,null,null,{"$f":"USCITE_P!D185","v":0},0]
[91,{"$f":"UF!B101","v":"UFC91"},{"$f":"IF(UF!C101<>\"\",UF!C101,\"\")","v":""},null,null,null,null,null,null,null,null,null,null,{"$f":"USCITE_P!D186","v":0},0]
[92,{"$f":"UF!B102","v":"UFC92"},{"$f":"IF(UF!C102<>\"\",UF!C102,\"\")","v":""},null,null,null,null,null,null,null,null,null,null,{"$f":"USCITE_P!D187","v":0},0]
[93,{"$f":"UF!B103","v":"UFC93"},{"$f":"IF(UF!C103<>\"\",UF!C103,\"\")","v":""},null,null,null,null,null,null,null,null,null,null,{"$f":"USCITE_P!D188","v":0},0]
[94,{"$f":"UF!B104","v":"UFC94"},{"$f":"IF(UF!C104<>\"\",UF!C104,\"\")","v":""},null,null,null,null,null,null,null,null,null,null,{"$f":"USCITE_P!D189","v":0},0]
[95,{"$f":"UF!B105","v":"UFC95"},{"$f":"IF(UF!C105<>\"\",UF!C105,\"\")","v":""},null,null,null,null,null,null,null,null,null,null,{"$f":"USCITE_P!D190","v":0},0]
[96,{"$f":"UF!B106","v":"UFC96"},{"$f":"IF(UF!C106<>\"\",UF!C106,\"\")","v":""},null,null,null,null,null,null,null,null,null,null,{"$f":"USCITE_P!D191","v":0},0]
[97,{"$f":"UF!B107","v":"UFC97"},{"$f":"IF(UF!C107<>\"\",UF!C107,\"\")","v":""},null,null,null,null,null,null,null,null,null,null,{"$f":"USCITE_P!D192","v":0},0]
[98,{"$f":"UF!B108","v":"UFC98"},{"$f":"IF(UF!C108<>\"\",UF!C108,\"\")","v":""},null,null,null,null,null,null,null,null,null,null,{"$f":"USCITE_P!D193","v":0},0]
[99,{"$f":"UF!B109","v":"UFC99"},{"$f":"IF(UF!C109<>\"\",UF!C109,\"\")","v":""},null,null,null,null,null,null,null,null,null,null,{"$f":"USCITE_P!D194","v":0},0]
[null,null,null,{"$f":"SUM(D11:D109)","v":5000},{"$f":"SUM(E11:E109)","v":5209.9999999999991},{"$f":"SUM(F11:F109)","v":6030.0000000000009},{"$f":"SUM(G11:G109)","v":0},0,0,0,0,0,0,950,{"$f":"SUM(O11:O109)","v":17189.999999999996}]
[null,"controllo uscite",null,{"$f":"SUM(D110:N110)","v":17190}]

{"sheet":"RP-UI","index":18,"n_rows":111,"n_cols":17,"rows_kept":111,"cut":false,"hidden":true,"merged":[[7,16,9,16],[110,5,110,15],[7,0,9,0],[7,1,9,1],[7,3,9,3],[7,4,9,4],[7,2,9,2]]}
[]
[]
[]
[]
[]
[]
[{"$f":"\"RIPARTO fra le UNITÀ FUNZIONALI delle SPESE PREVENTIVATE da sostenere con il FONDO LAVORI\"  & CHAR(10) & DATIG!A40  & CHAR(10) & \"Codice FONDO:  \" & DATIG!A37","v":"RIPARTO fra le UNITÀ FUNZIONALI delle SPESE PREVENTIVATE da sostenere con il FONDO LAVORI\nLavori messa in sicurezza fondazioni da infiltrazioni fognarie\nCodice FONDO:  LAVORO-01"}]
["N. UI","Codice Unità\nImmobiliare\nCatastale","UFC\ncostituenti","CODICE CONDOMINO","CONDOMINO","SPESE","SPESE","SPESE","SPESE","SPESE","SPESE","SPESE","SPESE","SPESE","SPESE","SPESE","TOTALE DOVUTO"]
[null,null,null,null,null,{"$f":"\"Tab. \" & DATIG!$D16","v":"Tab. A"},{"$f":"\"Tab. \" & DATIG!$D17","v":"Tab. B"},{"$f":"\"Tab. \" & DATIG!$D18","v":"Tab. C"},{"$f":"\"Tab. \" & DATIG!$D19","v":"Tab. D"},{"$f":"\"Tab. \" & DATIG!$D20","v":"Tab. E"},{"$f":"\"Tab. \" & DATIG!$D21","v":"Tab. F"},{"$f":"\"Tab. \" & DATIG!$D22","v":"Tab. G"},{"$f":"\"Tab. \" & DATIG!$D23","v":"Tab. H"},{"$f":"\"Tab. \" & DATIG!$D24","v":"Tab. I"},{"$f":"\"Tab. \" & DATIG!$D25","v":"Tab. J"},"PERSON."]
[null,null,null,null,null,{"$f":"DATIG!$A16","v":"GENERALE"},{"$f":"DATIG!$A17","v":"Lato NORD"},{"$f":"DATIG!$A18","v":"Lato SUD"},{"$f":"DATIG!$A19","v":0},{"$f":"DATIG!$A20","v":0},{"$f":"DATIG!$A21","v":0},{"$f":"DATIG!$A22","v":0},{"$f":"DATIG!$A23","v":0},{"$f":"DATIG!$A24","v":0},{"$f":"DATIG!$A25","v":0}]
[1,{"$f":"UI!B11","v":"U01"},{"$f":"IF(UI!C11<>\"\",UI!C11,\"\")","v":"UFC01"},{"$f":"IF(UI!D11<>\"\",UI!D11,\"\")","v":"C01"},{"$f":"IF('TAB-UI'!E11<>\"\",'TAB-UI'!E11,\"\")","v":"CONDOMINO01"},{"$f":"SUMIFS('RP-UF'!$D$11:$D$109,'RP-UF'!$C$11:$C$109,'RP-UI'!B11)","v":198.19},{"$f":"SUMIFS('RP-UF'!$E$11:$E$109,'RP-UF'!$C$11:$C$109,'RP-UI'!B11)","v":0},{"$f":"SUMIFS('RP-UF'!$F$11:$F$109,'RP-UF'!$C$11:$C$109,'RP-UI'!B11)","v":824.24},{"$f":"SUMIFS('RP-UF'!$G$11:$G$109,'RP-UF'!$C$11:$C$109,'RP-UI'!B11)","v":0},{"$f":"SUMIFS('RP-UF'!$H$11:$H$109,'RP-UF'!$C$11:$C$109,'RP-UI'!B11)","v":0},{"$f":"SUMIFS('RP-UF'!$I$11:$I$109,'RP-UF'!$C$11:$C$109,'RP-UI'!B11)","v":0},{"$f":"SUMIFS('RP-UF'!$J$11:$J$109,'RP-UF'!$C$11:$C$109,'RP-UI'!B11)","v":0},{"$f":"SUMIFS('RP-UF'!$K$11:$K$109,'RP-UF'!$C$11:$C$109,'RP-UI'!B11)","v":0},{"$f":"SUMIFS('RP-UF'!$L$11:$L$109,'RP-UF'!$C$11:$C$109,'RP-UI'!B11)","v":0},{"$f":"SUMIFS('RP-UF'!$M$11:$M$109,'RP-UF'!$C$11:$C$109,'RP-UI'!B11)","v":0},{"$f":"SUMIFS('RP-UF'!$N$11:$N$109,'RP-UF'!$C$11:$C$109,'RP-UI'!B11)","v":0},{"$f":"SUM(F11:P11)","v":1022.4300000000001}]
[2,{"$f":"UI!B12","v":"U02"},{"$f":"IF(UI!C12<>\"\",UI!C12,\"\")","v":"UFC02"},{"$f":"IF(UI!D12<>\"\",UI!D12,\"\")","v":"C02"},{"$f":"IF('TAB-UI'!E12<>\"\",'TAB-UI'!E12,\"\")","v":"CONDOMINO02"},{"$f":"SUMIFS('RP-UF'!$D$11:$D$109,'RP-UF'!$C$11:$C$109,'RP-UI'!B12)","v":237.83},{"$f":"SUMIFS('RP-UF'!$E$11:$E$109,'RP-UF'!$C$11:$C$109,'RP-UI'!B12)","v":0},{"$f":"SUMIFS('RP-UF'!$F$11:$F$109,'RP-UF'!$C$11:$C$109,'RP-UI'!B12)","v":989.13},{"$f":"SUMIFS('RP-UF'!$G$11:$G$109,'RP-UF'!$C$11:$C$109,'RP-UI'!B12)","v":0},{"$f":"SUMIFS('RP-UF'!$H$11:$H$109,'RP-UF'!$C$11:$C$109,'RP-UI'!B12)","v":0},{"$f":"SUMIFS('RP-UF'!$I$11:$I$109,'RP-UF'!$C$11:$C$109,'RP-UI'!B12)","v":0},{"$f":"SUMIFS('RP-UF'!$J$11:$J$109,'RP-UF'!$C$11:$C$109,'RP-UI'!B12)","v":0},{"$f":"SUMIFS('RP-UF'!$K$11:$K$109,'RP-UF'!$C$11:$C$109,'RP-UI'!B12)","v":0},{"$f":"SUMIFS('RP-UF'!$L$11:$L$109,'RP-UF'!$C$11:$C$109,'RP-UI'!B12)","v":0},{"$f":"SUMIFS('RP-UF'!$M$11:$M$109,'RP-UF'!$C$11:$C$109,'RP-UI'!B12)","v":0},{"$f":"SUMIFS('RP-UF'!$N$11:$N$109,'RP-UF'!$C$11:$C$109,'RP-UI'!B12)","v":0},{"$f":"SUM(F12:P12)","v":1226.96}]
[3,{"$f":"UI!B13","v":"U03"},{"$f":"IF(UI!C13<>\"\",UI!C13,\"\")","v":"UFC03"},{"$f":"IF(UI!D13<>\"\",UI!D13,\"\")","v":"C03"},{"$f":"IF('TAB-UI'!E13<>\"\",'TAB-UI'!E13,\"\")","v":"CONDOMINO03"},{"$f":"SUMIFS('RP-UF'!$D$11:$D$109,'RP-UF'!$C$11:$C$109,'RP-UI'!B13)","v":226.70000000000002},{"$f":"SUMIFS('RP-UF'!$E$11:$E$109,'RP-UF'!$C$11:$C$109,'RP-UI'!B13)","v":0},{"$f":"SUMIFS('RP-UF'!$F$11:$F$109,'RP-UF'!$C$11:$C$109,'RP-UI'!B13)","v":942.84},{"$f":"SUMIFS('RP-UF'!$G$11:$G$109,'RP-UF'!$C$11:$C$109,'RP-UI'!B13)","v":0},{"$f":"SUMIFS('RP-UF'!$H$11:$H$109,'RP-UF'!$C$11:$C$109,'RP-UI'!B13)","v":0},{"$f":"SUMIFS('RP-UF'!$I$11:$I$109,'RP-UF'!$C$11:$C$109,'RP-UI'!B13)","v":0},{"$f":"SUMIFS('RP-UF'!$J$11:$J$109,'RP-UF'!$C$11:$C$109,'RP-UI'!B13)","v":0},{"$f":"SUMIFS('RP-UF'!$K$11:$K$109,'RP-UF'!$C$11:$C$109,'RP-UI'!B13)","v":0},{"$f":"SUMIFS('RP-UF'!$L$11:$L$109,'RP-UF'!$C$11:$C$109,'RP-UI'!B13)","v":0},{"$f":"SUMIFS('RP-UF'!$M$11:$M$109,'RP-UF'!$C$11:$C$109,'RP-UI'!B13)","v":0},{"$f":"SUMIFS('RP-UF'!$N$11:$N$109,'RP-UF'!$C$11:$C$109,'RP-UI'!B13)","v":200},1369.54]
[4,{"$f":"UI!B14","v":"U04"},{"$f":"IF(UI!C14<>\"\",UI!C14,\"\")","v":"UFC04"},{"$f":"IF(UI!D14<>\"\",UI!D14,\"\")","v":"C04"},{"$f":"IF('TAB-UI'!E14<>\"\",'TAB-UI'!E14,\"\")","v":"CONDOMINO04"},{"$f":"SUMIFS('RP-UF'!$D$11:$D$109,'RP-UF'!$C$11:$C$109,'RP-UI'!B14)","v":205.52},{"$f":"SUMIFS('RP-UF'!$E$11:$E$109,'RP-UF'!$C$11:$C$109,'RP-UI'!B14)","v":0},{"$f":"SUMIFS('RP-UF'!$F$11:$F$109,'RP-UF'!$C$11:$C$109,'RP-UI'!B14)","v":569.84},{"$f":"SUMIFS('RP-UF'!$G$11:$G$109,'RP-UF'!$C$11:$C$109,'RP-UI'!B14)","v":0},{"$f":"SUMIFS('RP-UF'!$H$11:$H$109,'RP-UF'!$C$11:$C$109,'RP-UI'!B14)","v":0},{"$f":"SUMIFS('RP-UF'!$I$11:$I$109,'RP-UF'!$C$11:$C$109,'RP-UI'!B14)","v":0},{"$f":"SUMIFS('RP-UF'!$J$11:$J$109,'RP-UF'!$C$11:$C$109,'RP-UI'!B14)","v":0},{"$f":"SUMIFS('RP-UF'!$K$11:$K$109,'RP-UF'!$C$11:$C$109,'RP-UI'!B14)","v":0},{"$f":"SUMIFS('RP-UF'!$L$11:$L$109,'RP-UF'!$C$11:$C$109,'RP-UI'!B14)","v":0},{"$f":"SUMIFS('RP-UF'!$M$11:$M$109,'RP-UF'!$C$11:$C$109,'RP-UI'!B14)","v":0},{"$f":"SUMIFS('RP-UF'!$N$11:$N$109,'RP-UF'!$C$11:$C$109,'RP-UI'!B14)","v":0},775.36]
[5,{"$f":"UI!B15","v":"U05"},{"$f":"IF(UI!C15<>\"\",UI!C15,\"\")","v":"UFC05"},{"$f":"IF(UI!D15<>\"\",UI!D15,\"\")","v":"C05"},{"$f":"IF('TAB-UI'!E15<>\"\",'TAB-UI'!E15,\"\")","v":"CONDOMINO05"},{"$f":"SUMIFS('RP-UF'!$D$11:$D$109,'RP-UF'!$C$11:$C$109,'RP-UI'!B15)","v":254.81},{"$f":"SUMIFS('RP-UF'!$E$11:$E$109,'RP-UF'!$C$11:$C$109,'RP-UI'!B15)","v":0},{"$f":"SUMIFS('RP-UF'!$F$11:$F$109,'RP-UF'!$C$11:$C$109,'RP-UI'!B15)","v":706.62},{"$f":"SUMIFS('RP-UF'!$G$11:$G$109,'RP-UF'!$C$11:$C$109,'RP-UI'!B15)","v":0},{"$f":"SUMIFS('RP-UF'!$H$11:$H$109,'RP-UF'!$C$11:$C$109,'RP-UI'!B15)","v":0},{"$f":"SUMIFS('RP-UF'!$I$11:$I$109,'RP-UF'!$C$11:$C$109,'RP-UI'!B15)","v":0},{"$f":"SUMIFS('RP-UF'!$J$11:$J$109,'RP-UF'!$C$11:$C$109,'RP-UI'!B15)","v":0},{"$f":"SUMIFS('RP-UF'!$K$11:$K$109,'RP-UF'!$C$11:$C$109,'RP-UI'!B15)","v":0},{"$f":"SUMIFS('RP-UF'!$L$11:$L$109,'RP-UF'!$C$11:$C$109,'RP-UI'!B15)","v":0},{"$f":"SUMIFS('RP-UF'!$M$11:$M$109,'RP-UF'!$C$11:$C$109,'RP-UI'!B15)","v":0},{"$f":"SUMIFS('RP-UF'!$N$11:$N$109,'RP-UF'!$C$11:$C$109,'RP-UI'!B15)","v":0},961.43000000000006]
[6,{"$f":"UI!B16","v":"U06"},{"$f":"IF(UI!C16<>\"\",UI!C16,\"\")","v":"UFC06"},{"$f":"IF(UI!D16<>\"\",UI!D16,\"\")","v":"C06"},{"$f":"IF('TAB-UI'!E16<>\"\",'TAB-UI'!E16,\"\")","v":"CONDOMINO06"},{"$f":"SUMIFS('RP-UF'!$D$11:$D$109,'RP-UF'!$C$11:$C$109,'RP-UI'!B16)","v":241.76},{"$f":"SUMIFS('RP-UF'!$E$11:$E$109,'RP-UF'!$C$11:$C$109,'RP-UI'!B16)","v":0},{"$f":"SUMIFS('RP-UF'!$F$11:$F$109,'RP-UF'!$C$11:$C$109,'RP-UI'!B16)","v":670.31000000000006},{"$f":"SUMIFS('RP-UF'!$G$11:$G$109,'RP-UF'!$C$11:$C$109,'RP-UI'!B16)","v":0},{"$f":"SUMIFS('RP-UF'!$H$11:$H$109,'RP-UF'!$C$11:$C$109,'RP-UI'!B16)","v":0},{"$f":"SUMIFS('RP-UF'!$I$11:$I$109,'RP-UF'!$C$11:$C$109,'RP-UI'!B16)","v":0},{"$f":"SUMIFS('RP-UF'!$J$11:$J$109,'RP-UF'!$C$11:$C$109,'RP-UI'!B16)","v":0},{"$f":"SUMIFS('RP-UF'!$K$11:$K$109,'RP-UF'!$C$11:$C$109,'RP-UI'!B16)","v":0},{"$f":"SUMIFS('RP-UF'!$L$11:$L$109,'RP-UF'!$C$11:$C$109,'RP-UI'!B16)","v":0},{"$f":"SUMIFS('RP-UF'!$M$11:$M$109,'RP-UF'!$C$11:$C$109,'RP-UI'!B16)","v":0},{"$f":"SUMIFS('RP-UF'!$N$11:$N$109,'RP-UF'!$C$11:$C$109,'RP-UI'!B16)","v":0},912.07]
[7,{"$f":"UI!B17","v":"U07"},{"$f":"IF(UI!C17<>\"\",UI!C17,\"\")","v":"UFC07"},{"$f":"IF(UI!D17<>\"\",UI!D17,\"\")","v":"C07"},{"$f":"IF('TAB-UI'!E17<>\"\",'TAB-UI'!E17,\"\")","v":"CONDOMINO07"},{"$f":"SUMIFS('RP-UF'!$D$11:$D$109,'RP-UF'!$C$11:$C$109,'RP-UI'!B17)","v":202.32},{"$f":"SUMIFS('RP-UF'!$E$11:$E$109,'RP-UF'!$C$11:$C$109,'RP-UI'!B17)","v":0},{"$f":"SUMIFS('RP-UF'!$F$11:$F$109,'RP-UF'!$C$11:$C$109,'RP-UI'!B17)","v":280.48},{"$f":"SUMIFS('RP-UF'!$G$11:$G$109,'RP-UF'!$C$11:$C$109,'RP-UI'!B17)","v":0},{"$f":"SUMIFS('RP-UF'!$H$11:$H$109,'RP-UF'!$C$11:$C$109,'RP-UI'!B17)","v":0},{"$f":"SUMIFS('RP-UF'!$I$11:$I$109,'RP-UF'!$C$11:$C$109,'RP-UI'!B17)","v":0},{"$f":"SUMIFS('RP-UF'!$J$11:$J$109,'RP-UF'!$C$11:$C$109,'RP-UI'!B17)","v":0},{"$f":"SUMIFS('RP-UF'!$K$11:$K$109,'RP-UF'!$C$11:$C$109,'RP-UI'!B17)","v":0},{"$f":"SUMIFS('RP-UF'!$L$11:$L$109,'RP-UF'!$C$11:$C$109,'RP-UI'!B17)","v":0},{"$f":"SUMIFS('RP-UF'!$M$11:$M$109,'RP-UF'!$C$11:$C$109,'RP-UI'!B17)","v":0},{"$f":"SUMIFS('RP-UF'!$N$11:$N$109,'RP-UF'!$C$11:$C$109,'RP-UI'!B17)","v":0},482.8]
[8,{"$f":"UI!B18","v":"U08"},{"$f":"IF(UI!C18<>\"\",UI!C18,\"\")","v":"UFC08"},{"$f":"IF(UI!D18<>\"\",UI!D18,\"\")","v":"C08"},{"$f":"IF('TAB-UI'!E18<>\"\",'TAB-UI'!E18,\"\")","v":"CONDOMINO08"},{"$f":"SUMIFS('RP-UF'!$D$11:$D$109,'RP-UF'!$C$11:$C$109,'RP-UI'!B18)","v":247.70000000000002},{"$f":"SUMIFS('RP-UF'!$E$11:$E$109,'RP-UF'!$C$11:$C$109,'RP-UI'!B18)","v":0},{"$f":"SUMIFS('RP-UF'!$F$11:$F$109,'RP-UF'!$C$11:$C$109,'RP-UI'!B18)","v":343.38},{"$f":"SUMIFS('RP-UF'!$G$11:$G$109,'RP-UF'!$C$11:$C$109,'RP-UI'!B18)","v":0},{"$f":"SUMIFS('RP-UF'!$H$11:$H$109,'RP-UF'!$C$11:$C$109,'RP-UI'!B18)","v":0},{"$f":"SUMIFS('RP-UF'!$I$11:$I$109,'RP-UF'!$C$11:$C$109,'RP-UI'!B18)","v":0},{"$f":"SUMIFS('RP-UF'!$J$11:$J$109,'RP-UF'!$C$11:$C$109,'RP-UI'!B18)","v":0},{"$f":"SUMIFS('RP-UF'!$K$11:$K$109,'RP-UF'!$C$11:$C$109,'RP-UI'!B18)","v":0},{"$f":"SUMIFS('RP-UF'!$L$11:$L$109,'RP-UF'!$C$11:$C$109,'RP-UI'!B18)","v":0},{"$f":"SUMIFS('RP-UF'!$M$11:$M$109,'RP-UF'!$C$11:$C$109,'RP-UI'!B18)","v":0},{"$f":"SUMIFS('RP-UF'!$N$11:$N$109,'RP-UF'!$C$11:$C$109,'RP-UI'!B18)","v":0},591.08000000000004]
[9,{"$f":"UI!B19","v":"U09"},{"$f":"IF(UI!C19<>\"\",UI!C19,\"\")","v":"UFC09"},{"$f":"IF(UI!D19<>\"\",UI!D19,\"\")","v":"C09"},{"$f":"IF('TAB-UI'!E19<>\"\",'TAB-UI'!E19,\"\")","v":"CONDOMINO09"},{"$f":"SUMIFS('RP-UF'!$D$11:$D$109,'RP-UF'!$C$11:$C$109,'RP-UI'!B19)","v":235.26},{"$f":"SUMIFS('RP-UF'!$E$11:$E$109,'RP-UF'!$C$11:$C$109,'RP-UI'!B19)","v":0},{"$f":"SUMIFS('RP-UF'!$F$11:$F$109,'RP-UF'!$C$11:$C$109,'RP-UI'!B19)","v":326.15000000000003},{"$f":"SUMIFS('RP-UF'!$G$11:$G$109,'RP-UF'!$C$11:$C$109,'RP-UI'!B19)","v":0},{"$f":"SUMIFS('RP-UF'!$H$11:$H$109,'RP-UF'!$C$11:$C$109,'RP-UI'!B19)","v":0},{"$f":"SUMIFS('RP-UF'!$I$11:$I$109,'RP-UF'!$C$11:$C$109,'RP-UI'!B19)","v":0},{"$f":"SUMIFS('RP-UF'!$J$11:$J$109,'RP-UF'!$C$11:$C$109,'RP-UI'!B19)","v":0},{"$f":"SUMIFS('RP-UF'!$K$11:$K$109,'RP-UF'!$C$11:$C$109,'RP-UI'!B19)","v":0},{"$f":"SUMIFS('RP-UF'!$L$11:$L$109,'RP-UF'!$C$11:$C$109,'RP-UI'!B19)","v":0},{"$f":"SUMIFS('RP-UF'!$M$11:$M$109,'RP-UF'!$C$11:$C$109,'RP-UI'!B19)","v":0},{"$f":"SUMIFS('RP-UF'!$N$11:$N$109,'RP-UF'!$C$11:$C$109,'RP-UI'!B19)","v":0},561.41000000000008]
[10,{"$f":"UI!B20","v":"U10"},{"$f":"IF(UI!C20<>\"\",UI!C20,\"\")","v":"UFC10"},{"$f":"IF(UI!D20<>\"\",UI!D20,\"\")","v":"C10"},{"$f":"IF('TAB-UI'!E20<>\"\",'TAB-UI'!E20,\"\")","v":"CONDOMINO10"},{"$f":"SUMIFS('RP-UF'!$D$11:$D$109,'RP-UF'!$C$11:$C$109,'RP-UI'!B20)","v":177.42},{"$f":"SUMIFS('RP-UF'!$E$11:$E$109,'RP-UF'!$C$11:$C$109,'RP-UI'!B20)","v":0},{"$f":"SUMIFS('RP-UF'!$F$11:$F$109,'RP-UF'!$C$11:$C$109,'RP-UI'!B20)","v":25.13},{"$f":"SUMIFS('RP-UF'!$G$11:$G$109,'RP-UF'!$C$11:$C$109,'RP-UI'!B20)","v":0},{"$f":"SUMIFS('RP-UF'!$H$11:$H$109,'RP-UF'!$C$11:$C$109,'RP-UI'!B20)","v":0},{"$f":"SUMIFS('RP-UF'!$I$11:$I$109,'RP-UF'!$C$11:$C$109,'RP-UI'!B20)","v":0},{"$f":"SUMIFS('RP-UF'!$J$11:$J$109,'RP-UF'!$C$11:$C$109,'RP-UI'!B20)","v":0},{"$f":"SUMIFS('RP-UF'!$K$11:$K$109,'RP-UF'!$C$11:$C$109,'RP-UI'!B20)","v":0},{"$f":"SUMIFS('RP-UF'!$L$11:$L$109,'RP-UF'!$C$11:$C$109,'RP-UI'!B20)","v":0},{"$f":"SUMIFS('RP-UF'!$M$11:$M$109,'RP-UF'!$C$11:$C$109,'RP-UI'!B20)","v":0},{"$f":"SUMIFS('RP-UF'!$N$11:$N$109,'RP-UF'!$C$11:$C$109,'RP-UI'!B20)","v":0},202.54999999999998]
[11,{"$f":"UI!B21","v":"U11"},{"$f":"IF(UI!C21<>\"\",UI!C21,\"\")","v":"UFC11"},{"$f":"IF(UI!D21<>\"\",UI!D21,\"\")","v":"C11"},{"$f":"IF('TAB-UI'!E21<>\"\",'TAB-UI'!E21,\"\")","v":"CONDOMINO11"},{"$f":"SUMIFS('RP-UF'!$D$11:$D$109,'RP-UF'!$C$11:$C$109,'RP-UI'!B21)","v":228.16},{"$f":"SUMIFS('RP-UF'!$E$11:$E$109,'RP-UF'!$C$11:$C$109,'RP-UI'!B21)","v":0},{"$f":"SUMIFS('RP-UF'!$F$11:$F$109,'RP-UF'!$C$11:$C$109,'RP-UI'!B21)","v":26.810000000000002},{"$f":"SUMIFS('RP-UF'!$G$11:$G$109,'RP-UF'!$C$11:$C$109,'RP-UI'!B21)","v":0},{"$f":"SUMIFS('RP-UF'!$H$11:$H$109,'RP-UF'!$C$11:$C$109,'RP-UI'!B21)","v":0},{"$f":"SUMIFS('RP-UF'!$I$11:$I$109,'RP-UF'!$C$11:$C$109,'RP-UI'!B21)","v":0},{"$f":"SUMIFS('RP-UF'!$J$11:$J$109,'RP-UF'!$C$11:$C$109,'RP-UI'!B21)","v":0},{"$f":"SUMIFS('RP-UF'!$K$11:$K$109,'RP-UF'!$C$11:$C$109,'RP-UI'!B21)","v":0},{"$f":"SUMIFS('RP-UF'!$L$11:$L$109,'RP-UF'!$C$11:$C$109,'RP-UI'!B21)","v":0},{"$f":"SUMIFS('RP-UF'!$M$11:$M$109,'RP-UF'!$C$11:$C$109,'RP-UI'!B21)","v":0},{"$f":"SUMIFS('RP-UF'!$N$11:$N$109,'RP-UF'!$C$11:$C$109,'RP-UI'!B21)","v":0},254.97]
[12,{"$f":"UI!B22","v":"U12"},{"$f":"IF(UI!C22<>\"\",UI!C22,\"\")","v":"UFC12"},{"$f":"IF(UI!D22<>\"\",UI!D22,\"\")","v":"C12"},{"$f":"IF('TAB-UI'!E22<>\"\",'TAB-UI'!E22,\"\")","v":"CONDOMINO12"},{"$f":"SUMIFS('RP-UF'!$D$11:$D$109,'RP-UF'!$C$11:$C$109,'RP-UI'!B22)","v":163.27000000000001},{"$f":"SUMIFS('RP-UF'!$E$11:$E$109,'RP-UF'!$C$11:$C$109,'RP-UI'!B22)","v":0},{"$f":"SUMIFS('RP-UF'!$F$11:$F$109,'RP-UF'!$C$11:$C$109,'RP-UI'!B22)","v":29.490000000000002},{"$f":"SUMIFS('RP-UF'!$G$11:$G$109,'RP-UF'!$C$11:$C$109,'RP-UI'!B22)","v":0},{"$f":"SUMIFS('RP-UF'!$H$11:$H$109,'RP-UF'!$C$11:$C$109,'RP-UI'!B22)","v":0},{"$f":"SUMIFS('RP-UF'!$I$11:$I$109,'RP-UF'!$C$11:$C$109,'RP-UI'!B22)","v":0},{"$f":"SUMIFS('RP-UF'!$J$11:$J$109,'RP-UF'!$C$11:$C$109,'RP-UI'!B22)","v":0},{"$f":"SUMIFS('RP-UF'!$K$11:$K$109,'RP-UF'!$C$11:$C$109,'RP-UI'!B22)","v":0},{"$f":"SUMIFS('RP-UF'!$L$11:$L$109,'RP-UF'!$C$11:$C$109,'RP-UI'!B22)","v":0},{"$f":"SUMIFS('RP-UF'!$M$11:$M$109,'RP-UF'!$C$11:$C$109,'RP-UI'!B22)","v":0},{"$f":"SUMIFS('RP-UF'!$N$11:$N$109,'RP-UF'!$C$11:$C$109,'RP-UI'!B22)","v":400},592.76]
[13,{"$f":"UI!B23","v":"U13"},{"$f":"IF(UI!C23<>\"\",UI!C23,\"\")","v":"UFC13"},{"$f":"IF(UI!D23<>\"\",UI!D23,\"\")","v":"C13"},{"$f":"IF('TAB-UI'!E23<>\"\",'TAB-UI'!E23,\"\")","v":"CONDOMINO13"},{"$f":"SUMIFS('RP-UF'!$D$11:$D$109,'RP-UF'!$C$11:$C$109,'RP-UI'!B23)","v":50.77},{"$f":"SUMIFS('RP-UF'!$E$11:$E$109,'RP-UF'!$C$11:$C$109,'RP-UI'!B23)","v":0},{"$f":"SUMIFS('RP-UF'!$F$11:$F$109,'RP-UF'!$C$11:$C$109,'RP-UI'!B23)","v":70.37},{"$f":"SUMIFS('RP-UF'!$G$11:$G$109,'RP-UF'!$C$11:$C$109,'RP-UI'!B23)","v":0},{"$f":"SUMIFS('RP-UF'!$H$11:$H$109,'RP-UF'!$C$11:$C$109,'RP-UI'!B23)","v":0},{"$f":"SUMIFS('RP-UF'!$I$11:$I$109,'RP-UF'!$C$11:$C$109,'RP-UI'!B23)","v":0},{"$f":"SUMIFS('RP-UF'!$J$11:$J$109,'RP-UF'!$C$11:$C$109,'RP-UI'!B23)","v":0},{"$f":"SUMIFS('RP-UF'!$K$11:$K$109,'RP-UF'!$C$11:$C$109,'RP-UI'!B23)","v":0},{"$f":"SUMIFS('RP-UF'!$L$11:$L$109,'RP-UF'!$C$11:$C$109,'RP-UI'!B23)","v":0},{"$f":"SUMIFS('RP-UF'!$M$11:$M$109,'RP-UF'!$C$11:$C$109,'RP-UI'!B23)","v":0},{"$f":"SUMIFS('RP-UF'!$N$11:$N$109,'RP-UF'!$C$11:$C$109,'RP-UI'!B23)","v":0},121.14000000000001]
[14,{"$f":"UI!B24","v":"U14"},{"$f":"IF(UI!C24<>\"\",UI!C24,\"\")","v":"UFC14"},{"$f":"IF(UI!D24<>\"\",UI!D24,\"\")","v":"C14"},{"$f":"IF('TAB-UI'!E24<>\"\",'TAB-UI'!E24,\"\")","v":"CONDOMINO14"},{"$f":"SUMIFS('RP-UF'!$D$11:$D$109,'RP-UF'!$C$11:$C$109,'RP-UI'!B24)","v":162.45000000000002},{"$f":"SUMIFS('RP-UF'!$E$11:$E$109,'RP-UF'!$C$11:$C$109,'RP-UI'!B24)","v":0},{"$f":"SUMIFS('RP-UF'!$F$11:$F$109,'RP-UF'!$C$11:$C$109,'RP-UI'!B24)","v":225.21},{"$f":"SUMIFS('RP-UF'!$G$11:$G$109,'RP-UF'!$C$11:$C$109,'RP-UI'!B24)","v":0},{"$f":"SUMIFS('RP-UF'!$H$11:$H$109,'RP-UF'!$C$11:$C$109,'RP-UI'!B24)","v":0},{"$f":"SUMIFS('RP-UF'!$I$11:$I$109,'RP-UF'!$C$11:$C$109,'RP-UI'!B24)","v":0},{"$f":"SUMIFS('RP-UF'!$J$11:$J$109,'RP-UF'!$C$11:$C$109,'RP-UI'!B24)","v":0},{"$f":"SUMIFS('RP-UF'!$K$11:$K$109,'RP-UF'!$C$11:$C$109,'RP-UI'!B24)","v":0},{"$f":"SUMIFS('RP-UF'!$L$11:$L$109,'RP-UF'!$C$11:$C$109,'RP-UI'!B24)","v":0},{"$f":"SUMIFS('RP-UF'!$M$11:$M$109,'RP-UF'!$C$11:$C$109,'RP-UI'!B24)","v":0},{"$f":"SUMIFS('RP-UF'!$N$11:$N$109,'RP-UF'!$C$11:$C$109,'RP-UI'!B24)","v":0},387.66]
[15,{"$f":"UI!B25","v":"U15"},{"$f":"IF(UI!C25<>\"\",UI!C25,\"\")","v":"UFC15+UFC24"},{"$f":"IF(UI!D25<>\"\",UI!D25,\"\")","v":"C15"},{"$f":"IF('TAB-UI'!E25<>\"\",'TAB-UI'!E25,\"\")","v":"CONDOMINO15"},{"$f":"SUMIFS('RP-UF'!$D$11:$D$109,'RP-UF'!$C$11:$C$109,'RP-UI'!B25)","v":433.4},{"$f":"SUMIFS('RP-UF'!$E$11:$E$109,'RP-UF'!$C$11:$C$109,'RP-UI'!B25)","v":1550.15},{"$f":"SUMIFS('RP-UF'!$F$11:$F$109,'RP-UF'!$C$11:$C$109,'RP-UI'!B25)","v":0},{"$f":"SUMIFS('RP-UF'!$G$11:$G$109,'RP-UF'!$C$11:$C$109,'RP-UI'!B25)","v":0},{"$f":"SUMIFS('RP-UF'!$H$11:$H$109,'RP-UF'!$C$11:$C$109,'RP-UI'!B25)","v":0},{"$f":"SUMIFS('RP-UF'!$I$11:$I$109,'RP-UF'!$C$11:$C$109,'RP-UI'!B25)","v":0},{"$f":"SUMIFS('RP-UF'!$J$11:$J$109,'RP-UF'!$C$11:$C$109,'RP-UI'!B25)","v":0},{"$f":"SUMIFS('RP-UF'!$K$11:$K$109,'RP-UF'!$C$11:$C$109,'RP-UI'!B25)","v":0},{"$f":"SUMIFS('RP-UF'!$L$11:$L$109,'RP-UF'!$C$11:$C$109,'RP-UI'!B25)","v":0},{"$f":"SUMIFS('RP-UF'!$M$11:$M$109,'RP-UF'!$C$11:$C$109,'RP-UI'!B25)","v":0},{"$f":"SUMIFS('RP-UF'!$N$11:$N$109,'RP-UF'!$C$11:$C$109,'RP-UI'!B25)","v":0},1983.5500000000002]
[16,{"$f":"UI!B26","v":"U16"},{"$f":"IF(UI!C26<>\"\",UI!C26,\"\")","v":"UFC16"},{"$f":"IF(UI!D26<>\"\",UI!D26,\"\")","v":"C16"},{"$f":"IF('TAB-UI'!E26<>\"\",'TAB-UI'!E26,\"\")","v":"CONDOMINO16"},{"$f":"SUMIFS('RP-UF'!$D$11:$D$109,'RP-UF'!$C$11:$C$109,'RP-UI'!B26)","v":239.6},{"$f":"SUMIFS('RP-UF'!$E$11:$E$109,'RP-UF'!$C$11:$C$109,'RP-UI'!B26)","v":980.26},{"$f":"SUMIFS('RP-UF'!$F$11:$F$109,'RP-UF'!$C$11:$C$109,'RP-UI'!B26)","v":0},{"$f":"SUMIFS('RP-UF'!$G$11:$G$109,'RP-UF'!$C$11:$C$109,'RP-UI'!B26)","v":0},{"$f":"SUMIFS('RP-UF'!$H$11:$H$109,'RP-UF'!$C$11:$C$109,'RP-UI'!B26)","v":0},{"$f":"SUMIFS('RP-UF'!$I$11:$I$109,'RP-UF'!$C$11:$C$109,'RP-UI'!B26)","v":0},{"$f":"SUMIFS('RP-UF'!$J$11:$J$109,'RP-UF'!$C$11:$C$109,'RP-UI'!B26)","v":0},{"$f":"SUMIFS('RP-UF'!$K$11:$K$109,'RP-UF'!$C$11:$C$109,'RP-UI'!B26)","v":0},{"$f":"SUMIFS('RP-UF'!$L$11:$L$109,'RP-UF'!$C$11:$C$109,'RP-UI'!B26)","v":0},{"$f":"SUMIFS('RP-UF'!$M$11:$M$109,'RP-UF'!$C$11:$C$109,'RP-UI'!B26)","v":0},{"$f":"SUMIFS('RP-UF'!$N$11:$N$109,'RP-UF'!$C$11:$C$109,'RP-UI'!B26)","v":0},1219.8599999999999]
[17,{"$f":"UI!B27","v":"U17"},{"$f":"IF(UI!C27<>\"\",UI!C27,\"\")","v":"UFC17"},{"$f":"IF(UI!D27<>\"\",UI!D27,\"\")","v":"C17"},{"$f":"IF('TAB-UI'!E27<>\"\",'TAB-UI'!E27,\"\")","v":"CONDOMINO17"},{"$f":"SUMIFS('RP-UF'!$D$11:$D$109,'RP-UF'!$C$11:$C$109,'RP-UI'!B27)","v":188.61},{"$f":"SUMIFS('RP-UF'!$E$11:$E$109,'RP-UF'!$C$11:$C$109,'RP-UI'!B27)","v":771.65},{"$f":"SUMIFS('RP-UF'!$F$11:$F$109,'RP-UF'!$C$11:$C$109,'RP-UI'!B27)","v":0},{"$f":"SUMIFS('RP-UF'!$G$11:$G$109,'RP-UF'!$C$11:$C$109,'RP-UI'!B27)","v":0},{"$f":"SUMIFS('RP-UF'!$H$11:$H$109,'RP-UF'!$C$11:$C$109,'RP-UI'!B27)","v":0},{"$f":"SUMIFS('RP-UF'!$I$11:$I$109,'RP-UF'!$C$11:$C$109,'RP-UI'!B27)","v":0},{"$f":"SUMIFS('RP-UF'!$J$11:$J$109,'RP-UF'!$C$11:$C$109,'RP-UI'!B27)","v":0},{"$f":"SUMIFS('RP-UF'!$K$11:$K$109,'RP-UF'!$C$11:$C$109,'RP-UI'!B27)","v":0},{"$f":"SUMIFS('RP-UF'!$L$11:$L$109,'RP-UF'!$C$11:$C$109,'RP-UI'!B27)","v":0},{"$f":"SUMIFS('RP-UF'!$M$11:$M$109,'RP-UF'!$C$11:$C$109,'RP-UI'!B27)","v":0},{"$f":"SUMIFS('RP-UF'!$N$11:$N$109,'RP-UF'!$C$11:$C$109,'RP-UI'!B27)","v":0},960.26]
[18,{"$f":"UI!B28","v":"U18"},{"$f":"IF(UI!C28<>\"\",UI!C28,\"\")","v":"UFC18"},{"$f":"IF(UI!D28<>\"\",UI!D28,\"\")","v":"C18"},{"$f":"IF('TAB-UI'!E28<>\"\",'TAB-UI'!E28,\"\")","v":"CONDOMINO18"},{"$f":"SUMIFS('RP-UF'!$D$11:$D$109,'RP-UF'!$C$11:$C$109,'RP-UI'!B28)","v":250.70000000000002},{"$f":"SUMIFS('RP-UF'!$E$11:$E$109,'RP-UF'!$C$11:$C$109,'RP-UI'!B28)","v":683.78},{"$f":"SUMIFS('RP-UF'!$F$11:$F$109,'RP-UF'!$C$11:$C$109,'RP-UI'!B28)","v":0},{"$f":"SUMIFS('RP-UF'!$G$11:$G$109,'RP-UF'!$C$11:$C$109,'RP-UI'!B28)","v":0},{"$f":"SUMIFS('RP-UF'!$H$11:$H$109,'RP-UF'!$C$11:$C$109,'RP-UI'!B28)","v":0},{"$f":"SUMIFS('RP-UF'!$I$11:$I$109,'RP-UF'!$C$11:$C$109,'RP-UI'!B28)","v":0},{"$f":"SUMIFS('RP-UF'!$J$11:$J$109,'RP-UF'!$C$11:$C$109,'RP-UI'!B28)","v":0},{"$f":"SUMIFS('RP-UF'!$K$11:$K$109,'RP-UF'!$C$11:$C$109,'RP-UI'!B28)","v":0},{"$f":"SUMIFS('RP-UF'!$L$11:$L$109,'RP-UF'!$C$11:$C$109,'RP-UI'!B28)","v":0},{"$f":"SUMIFS('RP-UF'!$M$11:$M$109,'RP-UF'!$C$11:$C$109,'RP-UI'!B28)","v":0},{"$f":"SUMIFS('RP-UF'!$N$11:$N$109,'RP-UF'!$C$11:$C$109,'RP-UI'!B28)","v":350},1284.48]
[19,{"$f":"UI!B29","v":"U19"},{"$f":"IF(UI!C29<>\"\",UI!C29,\"\")","v":"UFC19"},{"$f":"IF(UI!D29<>\"\",UI!D29,\"\")","v":"C19"},{"$f":"IF('TAB-UI'!E29<>\"\",'TAB-UI'!E29,\"\")","v":"CONDOMINO19"},{"$f":"SUMIFS('RP-UF'!$D$11:$D$109,'RP-UF'!$C$11:$C$109,'RP-UI'!B29)","v":205.14},{"$f":"SUMIFS('RP-UF'!$E$11:$E$109,'RP-UF'!$C$11:$C$109,'RP-UI'!B29)","v":559.53},{"$f":"SUMIFS('RP-UF'!$F$11:$F$109,'RP-UF'!$C$11:$C$109,'RP-UI'!B29)","v":0},{"$f":"SUMIFS('RP-UF'!$G$11:$G$109,'RP-UF'!$C$11:$C$109,'RP-UI'!B29)","v":0},{"$f":"SUMIFS('RP-UF'!$H$11:$H$109,'RP-UF'!$C$11:$C$109,'RP-UI'!B29)","v":0},{"$f":"SUMIFS('RP-UF'!$I$11:$I$109,'RP-UF'!$C$11:$C$109,'RP-UI'!B29)","v":0},{"$f":"SUMIFS('RP-UF'!$J$11:$J$109,'RP-UF'!$C$11:$C$109,'RP-UI'!B29)","v":0},{"$f":"SUMIFS('RP-UF'!$K$11:$K$109,'RP-UF'!$C$11:$C$109,'RP-UI'!B29)","v":0},{"$f":"SUMIFS('RP-UF'!$L$11:$L$109,'RP-UF'!$C$11:$C$109,'RP-UI'!B29)","v":0},{"$f":"SUMIFS('RP-UF'!$M$11:$M$109,'RP-UF'!$C$11:$C$109,'RP-UI'!B29)","v":0},{"$f":"SUMIFS('RP-UF'!$N$11:$N$109,'RP-UF'!$C$11:$C$109,'RP-UI'!B29)","v":0},764.67]
[20,{"$f":"UI!B30","v":"U20"},{"$f":"IF(UI!C30<>\"\",UI!C30,\"\")","v":"UFC20+UFC23"},{"$f":"IF(UI!D30<>\"\",UI!D30,\"\")","v":"C07"},{"$f":"IF('TAB-UI'!E30<>\"\",'TAB-UI'!E30,\"\")","v":"CONDOMINO07"},{"$f":"SUMIFS('RP-UF'!$D$11:$D$109,'RP-UF'!$C$11:$C$109,'RP-UI'!B30)","v":430.78999999999996},{"$f":"SUMIFS('RP-UF'!$E$11:$E$109,'RP-UF'!$C$11:$C$109,'RP-UI'!B30)","v":378.61},{"$f":"SUMIFS('RP-UF'!$F$11:$F$109,'RP-UF'!$C$11:$C$109,'RP-UI'!B30)","v":0},{"$f":"SUMIFS('RP-UF'!$G$11:$G$109,'RP-UF'!$C$11:$C$109,'RP-UI'!B30)","v":0},{"$f":"SUMIFS('RP-UF'!$H$11:$H$109,'RP-UF'!$C$11:$C$109,'RP-UI'!B30)","v":0},{"$f":"SUMIFS('RP-UF'!$I$11:$I$109,'RP-UF'!$C$11:$C$109,'RP-UI'!B30)","v":0},{"$f":"SUMIFS('RP-UF'!$J$11:$J$109,'RP-UF'!$C$11:$C$109,'RP-UI'!B30)","v":0},{"$f":"SUMIFS('RP-UF'!$K$11:$K$109,'RP-UF'!$C$11:$C$109,'RP-UI'!B30)","v":0},{"$f":"SUMIFS('RP-UF'!$L$11:$L$109,'RP-UF'!$C$11:$C$109,'RP-UI'!B30)","v":0},{"$f":"SUMIFS('RP-UF'!$M$11:$M$109,'RP-UF'!$C$11:$C$109,'RP-UI'!B30)","v":0},{"$f":"SUMIFS('RP-UF'!$N$11:$N$109,'RP-UF'!$C$11:$C$109,'RP-UI'!B30)","v":0},809.4]
[21,{"$f":"UI!B31","v":"U21"},{"$f":"IF(UI!C31<>\"\",UI!C31,\"\")","v":"UFC21"},{"$f":"IF(UI!D31<>\"\",UI!D31,\"\")","v":"C08"},{"$f":"IF('TAB-UI'!E31<>\"\",'TAB-UI'!E31,\"\")","v":"CONDOMINO08"},{"$f":"SUMIFS('RP-UF'!$D$11:$D$109,'RP-UF'!$C$11:$C$109,'RP-UI'!B31)","v":192.02},{"$f":"SUMIFS('RP-UF'!$E$11:$E$109,'RP-UF'!$C$11:$C$109,'RP-UI'!B31)","v":261.87},{"$f":"SUMIFS('RP-UF'!$F$11:$F$109,'RP-UF'!$C$11:$C$109,'RP-UI'!B31)","v":0},{"$f":"SUMIFS('RP-UF'!$G$11:$G$109,'RP-UF'!$C$11:$C$109,'RP-UI'!B31)","v":0},{"$f":"SUMIFS('RP-UF'!$H$11:$H$109,'RP-UF'!$C$11:$C$109,'RP-UI'!B31)","v":0},{"$f":"SUMIFS('RP-UF'!$I$11:$I$109,'RP-UF'!$C$11:$C$109,'RP-UI'!B31)","v":0},{"$f":"SUMIFS('RP-UF'!$J$11:$J$109,'RP-UF'!$C$11:$C$109,'RP-UI'!B31)","v":0},{"$f":"SUMIFS('RP-UF'!$K$11:$K$109,'RP-UF'!$C$11:$C$109,'RP-UI'!B31)","v":0},{"$f":"SUMIFS('RP-UF'!$L$11:$L$109,'RP-UF'!$C$11:$C$109,'RP-UI'!B31)","v":0},{"$f":"SUMIFS('RP-UF'!$M$11:$M$109,'RP-UF'!$C$11:$C$109,'RP-UI'!B31)","v":0},{"$f":"SUMIFS('RP-UF'!$N$11:$N$109,'RP-UF'!$C$11:$C$109,'RP-UI'!B31)","v":0},453.89]
[22,{"$f":"UI!B32","v":"U22"},{"$f":"IF(UI!C32<>\"\",UI!C32,\"\")","v":"UFC22"},{"$f":"IF(UI!D32<>\"\",UI!D32,\"\")","v":"C19"},{"$f":"IF('TAB-UI'!E32<>\"\",'TAB-UI'!E32,\"\")","v":"CONDOMINO19"},{"$f":"SUMIFS('RP-UF'!$D$11:$D$109,'RP-UF'!$C$11:$C$109,'RP-UI'!B32)","v":227.58},{"$f":"SUMIFS('RP-UF'!$E$11:$E$109,'RP-UF'!$C$11:$C$109,'RP-UI'!B32)","v":24.150000000000002},{"$f":"SUMIFS('RP-UF'!$F$11:$F$109,'RP-UF'!$C$11:$C$109,'RP-UI'!B32)","v":0},{"$f":"SUMIFS('RP-UF'!$G$11:$G$109,'RP-UF'!$C$11:$C$109,'RP-UI'!B32)","v":0},{"$f":"SUMIFS('RP-UF'!$H$11:$H$109,'RP-UF'!$C$11:$C$109,'RP-UI'!B32)","v":0},{"$f":"SUMIFS('RP-UF'!$I$11:$I$109,'RP-UF'!$C$11:$C$109,'RP-UI'!B32)","v":0},{"$f":"SUMIFS('RP-UF'!$J$11:$J$109,'RP-UF'!$C$11:$C$109,'RP-UI'!B32)","v":0},{"$f":"SUMIFS('RP-UF'!$K$11:$K$109,'RP-UF'!$C$11:$C$109,'RP-UI'!B32)","v":0},{"$f":"SUMIFS('RP-UF'!$L$11:$L$109,'RP-UF'!$C$11:$C$109,'RP-UI'!B32)","v":0},{"$f":"SUMIFS('RP-UF'!$M$11:$M$109,'RP-UF'!$C$11:$C$109,'RP-UI'!B32)","v":0},{"$f":"SUMIFS('RP-UF'!$N$11:$N$109,'RP-UF'!$C$11:$C$109,'RP-UI'!B32)","v":0},251.73000000000002]
[23,{"$f":"UI!B33","v":"U23"},{"$f":"IF(UI!C33<>\"\",UI!C33,\"\")","v":""},{"$f":"IF(UI!D33<>\"\",UI!D33,\"\")","v":""},{"$f":"IF('TAB-UI'!E33<>\"\",'TAB-UI'!E33,\"\")","v":""},{"$f":"SUMIFS('RP-UF'!$D$11:$D$109,'RP-UF'!$C$11:$C$109,'RP-UI'!B33)","v":0},{"$f":"SUMIFS('RP-UF'!$E$11:$E$109,'RP-UF'!$C$11:$C$109,'RP-UI'!B33)","v":0},{"$f":"SUMIFS('RP-UF'!$F$11:$F$109,'RP-UF'!$C$11:$C$109,'RP-UI'!B33)","v":0},{"$f":"SUMIFS('RP-UF'!$G$11:$G$109,'RP-UF'!$C$11:$C$109,'RP-UI'!B33)","v":0},{"$f":"SUMIFS('RP-UF'!$H$11:$H$109,'RP-UF'!$C$11:$C$109,'RP-UI'!B33)","v":0},{"$f":"SUMIFS('RP-UF'!$I$11:$I$109,'RP-UF'!$C$11:$C$109,'RP-UI'!B33)","v":0},{"$f":"SUMIFS('RP-UF'!$J$11:$J$109,'RP-UF'!$C$11:$C$109,'RP-UI'!B33)","v":0},{"$f":"SUMIFS('RP-UF'!$K$11:$K$109,'RP-UF'!$C$11:$C$109,'RP-UI'!B33)","v":0},{"$f":"SUMIFS('RP-UF'!$L$11:$L$109,'RP-UF'!$C$11:$C$109,'RP-UI'!B33)","v":0},{"$f":"SUMIFS('RP-UF'!$M$11:$M$109,'RP-UF'!$C$11:$C$109,'RP-UI'!B33)","v":0},{"$f":"SUMIFS('RP-UF'!$N$11:$N$109,'RP-UF'!$C$11:$C$109,'RP-UI'!B33)","v":0},0]
[24,{"$f":"UI!B34","v":"U24"},{"$f":"IF(UI!C34<>\"\",UI!C34,\"\")","v":""},{"$f":"IF(UI!D34<>\"\",UI!D34,\"\")","v":""},{"$f":"IF('TAB-UI'!E34<>\"\",'TAB-UI'!E34,\"\")","v":""},{"$f":"SUMIFS('RP-UF'!$D$11:$D$109,'RP-UF'!$C$11:$C$109,'RP-UI'!B34)","v":0},{"$f":"SUMIFS('RP-UF'!$E$11:$E$109,'RP-UF'!$C$11:$C$109,'RP-UI'!B34)","v":0},{"$f":"SUMIFS('RP-UF'!$F$11:$F$109,'RP-UF'!$C$11:$C$109,'RP-UI'!B34)","v":0},{"$f":"SUMIFS('RP-UF'!$G$11:$G$109,'RP-UF'!$C$11:$C$109,'RP-UI'!B34)","v":0},{"$f":"SUMIFS('RP-UF'!$H$11:$H$109,'RP-UF'!$C$11:$C$109,'RP-UI'!B34)","v":0},{"$f":"SUMIFS('RP-UF'!$I$11:$I$109,'RP-UF'!$C$11:$C$109,'RP-UI'!B34)","v":0},{"$f":"SUMIFS('RP-UF'!$J$11:$J$109,'RP-UF'!$C$11:$C$109,'RP-UI'!B34)","v":0},{"$f":"SUMIFS('RP-UF'!$K$11:$K$109,'RP-UF'!$C$11:$C$109,'RP-UI'!B34)","v":0},{"$f":"SUMIFS('RP-UF'!$L$11:$L$109,'RP-UF'!$C$11:$C$109,'RP-UI'!B34)","v":0},{"$f":"SUMIFS('RP-UF'!$M$11:$M$109,'RP-UF'!$C$11:$C$109,'RP-UI'!B34)","v":0},{"$f":"SUMIFS('RP-UF'!$N$11:$N$109,'RP-UF'!$C$11:$C$109,'RP-UI'!B34)","v":0},0]
[25,{"$f":"UI!B35","v":"U25"},{"$f":"IF(UI!C35<>\"\",UI!C35,\"\")","v":""},{"$f":"IF(UI!D35<>\"\",UI!D35,\"\")","v":""},{"$f":"IF('TAB-UI'!E35<>\"\",'TAB-UI'!E35,\"\")","v":""},{"$f":"SUMIFS('RP-UF'!$D$11:$D$109,'RP-UF'!$C$11:$C$109,'RP-UI'!B35)","v":0},{"$f":"SUMIFS('RP-UF'!$E$11:$E$109,'RP-UF'!$C$11:$C$109,'RP-UI'!B35)","v":0},{"$f":"SUMIFS('RP-UF'!$F$11:$F$109,'RP-UF'!$C$11:$C$109,'RP-UI'!B35)","v":0},{"$f":"SUMIFS('RP-UF'!$G$11:$G$109,'RP-UF'!$C$11:$C$109,'RP-UI'!B35)","v":0},{"$f":"SUMIFS('RP-UF'!$H$11:$H$109,'RP-UF'!$C$11:$C$109,'RP-UI'!B35)","v":0},{"$f":"SUMIFS('RP-UF'!$I$11:$I$109,'RP-UF'!$C$11:$C$109,'RP-UI'!B35)","v":0},{"$f":"SUMIFS('RP-UF'!$J$11:$J$109,'RP-UF'!$C$11:$C$109,'RP-UI'!B35)","v":0},{"$f":"SUMIFS('RP-UF'!$K$11:$K$109,'RP-UF'!$C$11:$C$109,'RP-UI'!B35)","v":0},{"$f":"SUMIFS('RP-UF'!$L$11:$L$109,'RP-UF'!$C$11:$C$109,'RP-UI'!B35)","v":0},{"$f":"SUMIFS('RP-UF'!$M$11:$M$109,'RP-UF'!$C$11:$C$109,'RP-UI'!B35)","v":0},{"$f":"SUMIFS('RP-UF'!$N$11:$N$109,'RP-UF'!$C$11:$C$109,'RP-UI'!B35)","v":0},0]
[26,{"$f":"UI!B36","v":"U26"},{"$f":"IF(UI!C36<>\"\",UI!C36,\"\")","v":""},{"$f":"IF(UI!D36<>\"\",UI!D36,\"\")","v":""},{"$f":"IF('TAB-UI'!E36<>\"\",'TAB-UI'!E36,\"\")","v":""},{"$f":"SUMIFS('RP-UF'!$D$11:$D$109,'RP-UF'!$C$11:$C$109,'RP-UI'!B36)","v":0},{"$f":"SUMIFS('RP-UF'!$E$11:$E$109,'RP-UF'!$C$11:$C$109,'RP-UI'!B36)","v":0},{"$f":"SUMIFS('RP-UF'!$F$11:$F$109,'RP-UF'!$C$11:$C$109,'RP-UI'!B36)","v":0},{"$f":"SUMIFS('RP-UF'!$G$11:$G$109,'RP-UF'!$C$11:$C$109,'RP-UI'!B36)","v":0},{"$f":"SUMIFS('RP-UF'!$H$11:$H$109,'RP-UF'!$C$11:$C$109,'RP-UI'!B36)","v":0},{"$f":"SUMIFS('RP-UF'!$I$11:$I$109,'RP-UF'!$C$11:$C$109,'RP-UI'!B36)","v":0},{"$f":"SUMIFS('RP-UF'!$J$11:$J$109,'RP-UF'!$C$11:$C$109,'RP-UI'!B36)","v":0},{"$f":"SUMIFS('RP-UF'!$K$11:$K$109,'RP-UF'!$C$11:$C$109,'RP-UI'!B36)","v":0},{"$f":"SUMIFS('RP-UF'!$L$11:$L$109,'RP-UF'!$C$11:$C$109,'RP-UI'!B36)","v":0},{"$f":"SUMIFS('RP-UF'!$M$11:$M$109,'RP-UF'!$C$11:$C$109,'RP-UI'!B36)","v":0},{"$f":"SUMIFS('RP-UF'!$N$11:$N$109,'RP-UF'!$C$11:$C$109,'RP-UI'!B36)","v":0},0]
[27,{"$f":"UI!B37","v":"U27"},{"$f":"IF(UI!C37<>\"\",UI!C37,\"\")","v":""},{"$f":"IF(UI!D37<>\"\",UI!D37,\"\")","v":""},{"$f":"IF('TAB-UI'!E37<>\"\",'TAB-UI'!E37,\"\")","v":""},{"$f":"SUMIFS('RP-UF'!$D$11:$D$109,'RP-UF'!$C$11:$C$109,'RP-UI'!B37)","v":0},{"$f":"SUMIFS('RP-UF'!$E$11:$E$109,'RP-UF'!$C$11:$C$109,'RP-UI'!B37)","v":0},{"$f":"SUMIFS('RP-UF'!$F$11:$F$109,'RP-UF'!$C$11:$C$109,'RP-UI'!B37)","v":0},{"$f":"SUMIFS('RP-UF'!$G$11:$G$109,'RP-UF'!$C$11:$C$109,'RP-UI'!B37)","v":0},{"$f":"SUMIFS('RP-UF'!$H$11:$H$109,'RP-UF'!$C$11:$C$109,'RP-UI'!B37)","v":0},{"$f":"SUMIFS('RP-UF'!$I$11:$I$109,'RP-UF'!$C$11:$C$109,'RP-UI'!B37)","v":0},{"$f":"SUMIFS('RP-UF'!$J$11:$J$109,'RP-UF'!$C$11:$C$109,'RP-UI'!B37)","v":0},{"$f":"SUMIFS('RP-UF'!$K$11:$K$109,'RP-UF'!$C$11:$C$109,'RP-UI'!B37)","v":0},{"$f":"SUMIFS('RP-UF'!$L$11:$L$109,'RP-UF'!$C$11:$C$109,'RP-UI'!B37)","v":0},{"$f":"SUMIFS('RP-UF'!$M$11:$M$109,'RP-UF'!$C$11:$C$109,'RP-UI'!B37)","v":0},{"$f":"SUMIFS('RP-UF'!$N$11:$N$109,'RP-UF'!$C$11:$C$109,'RP-UI'!B37)","v":0},0]
[28,{"$f":"UI!B38","v":"U28"},{"$f":"IF(UI!C38<>\"\",UI!C38,\"\")","v":""},{"$f":"IF(UI!D38<>\"\",UI!D38,\"\")","v":""},{"$f":"IF('TAB-UI'!E38<>\"\",'TAB-UI'!E38,\"\")","v":""},{"$f":"SUMIFS('RP-UF'!$D$11:$D$109,'RP-UF'!$C$11:$C$109,'RP-UI'!B38)","v":0},{"$f":"SUMIFS('RP-UF'!$E$11:$E$109,'RP-UF'!$C$11:$C$109,'RP-UI'!B38)","v":0},{"$f":"SUMIFS('RP-UF'!$F$11:$F$109,'RP-UF'!$C$11:$C$109,'RP-UI'!B38)","v":0},{"$f":"SUMIFS('RP-UF'!$G$11:$G$109,'RP-UF'!$C$11:$C$109,'RP-UI'!B38)","v":0},{"$f":"SUMIFS('RP-UF'!$H$11:$H$109,'RP-UF'!$C$11:$C$109,'RP-UI'!B38)","v":0},{"$f":"SUMIFS('RP-UF'!$I$11:$I$109,'RP-UF'!$C$11:$C$109,'RP-UI'!B38)","v":0},{"$f":"SUMIFS('RP-UF'!$J$11:$J$109,'RP-UF'!$C$11:$C$109,'RP-UI'!B38)","v":0},{"$f":"SUMIFS('RP-UF'!$K$11:$K$109,'RP-UF'!$C$11:$C$109,'RP-UI'!B38)","v":0},{"$f":"SUMIFS('RP-UF'!$L$11:$L$109,'RP-UF'!$C$11:$C$109,'RP-UI'!B38)","v":0},{"$f":"SUMIFS('RP-UF'!$M$11:$M$109,'RP-UF'!$C$11:$C$109,'RP-UI'!B38)","v":0},{"$f":"SUMIFS('RP-UF'!$N$11:$N$109,'RP-UF'!$C$11:$C$109,'RP-UI'!B38)","v":0},0]
[29,{"$f":"UI!B39","v":"U29"},{"$f":"IF(UI!C39<>\"\",UI!C39,\"\")","v":""},{"$f":"IF(UI!D39<>\"\",UI!D39,\"\")","v":""},{"$f":"IF('TAB-UI'!E39<>\"\",'TAB-UI'!E39,\"\")","v":""},{"$f":"SUMIFS('RP-UF'!$D$11:$D$109,'RP-UF'!$C$11:$C$109,'RP-UI'!B39)","v":0},{"$f":"SUMIFS('RP-UF'!$E$11:$E$109,'RP-UF'!$C$11:$C$109,'RP-UI'!B39)","v":0},{"$f":"SUMIFS('RP-UF'!$F$11:$F$109,'RP-UF'!$C$11:$C$109,'RP-UI'!B39)","v":0},{"$f":"SUMIFS('RP-UF'!$G$11:$G$109,'RP-UF'!$C$11:$C$109,'RP-UI'!B39)","v":0},{"$f":"SUMIFS('RP-UF'!$H$11:$H$109,'RP-UF'!$C$11:$C$109,'RP-UI'!B39)","v":0},{"$f":"SUMIFS('RP-UF'!$I$11:$I$109,'RP-UF'!$C$11:$C$109,'RP-UI'!B39)","v":0},{"$f":"SUMIFS('RP-UF'!$J$11:$J$109,'RP-UF'!$C$11:$C$109,'RP-UI'!B39)","v":0},{"$f":"SUMIFS('RP-UF'!$K$11:$K$109,'RP-UF'!$C$11:$C$109,'RP-UI'!B39)","v":0},{"$f":"SUMIFS('RP-UF'!$L$11:$L$109,'RP-UF'!$C$11:$C$109,'RP-UI'!B39)","v":0},{"$f":"SUMIFS('RP-UF'!$M$11:$M$109,'RP-UF'!$C$11:$C$109,'RP-UI'!B39)","v":0},{"$f":"SUMIFS('RP-UF'!$N$11:$N$109,'RP-UF'!$C$11:$C$109,'RP-UI'!B39)","v":0},0]
[30,{"$f":"UI!B40","v":"U30"},{"$f":"IF(UI!C40<>\"\",UI!C40,\"\")","v":""},{"$f":"IF(UI!D40<>\"\",UI!D40,\"\")","v":""},{"$f":"IF('TAB-UI'!E40<>\"\",'TAB-UI'!E40,\"\")","v":""},{"$f":"SUMIFS('RP-UF'!$D$11:$D$109,'RP-UF'!$C$11:$C$109,'RP-UI'!B40)","v":0},{"$f":"SUMIFS('RP-UF'!$E$11:$E$109,'RP-UF'!$C$11:$C$109,'RP-UI'!B40)","v":0},{"$f":"SUMIFS('RP-UF'!$F$11:$F$109,'RP-UF'!$C$11:$C$109,'RP-UI'!B40)","v":0},{"$f":"SUMIFS('RP-UF'!$G$11:$G$109,'RP-UF'!$C$11:$C$109,'RP-UI'!B40)","v":0},{"$f":"SUMIFS('RP-UF'!$H$11:$H$109,'RP-UF'!$C$11:$C$109,'RP-UI'!B40)","v":0},{"$f":"SUMIFS('RP-UF'!$I$11:$I$109,'RP-UF'!$C$11:$C$109,'RP-UI'!B40)","v":0},{"$f":"SUMIFS('RP-UF'!$J$11:$J$109,'RP-UF'!$C$11:$C$109,'RP-UI'!B40)","v":0},{"$f":"SUMIFS('RP-UF'!$K$11:$K$109,'RP-UF'!$C$11:$C$109,'RP-UI'!B40)","v":0},{"$f":"SUMIFS('RP-UF'!$L$11:$L$109,'RP-UF'!$C$11:$C$109,'RP-UI'!B40)","v":0},{"$f":"SUMIFS('RP-UF'!$M$11:$M$109,'RP-UF'!$C$11:$C$109,'RP-UI'!B40)","v":0},{"$f":"SUMIFS('RP-UF'!$N$11:$N$109,'RP-UF'!$C$11:$C$109,'RP-UI'!B40)","v":0},0]
[31,{"$f":"UI!B41","v":"U31"},{"$f":"IF(UI!C41<>\"\",UI!C41,\"\")","v":""},{"$f":"IF(UI!D41<>\"\",UI!D41,\"\")","v":""},{"$f":"IF('TAB-UI'!E41<>\"\",'TAB-UI'!E41,\"\")","v":""},{"$f":"SUMIFS('RP-UF'!$D$11:$D$109,'RP-UF'!$C$11:$C$109,'RP-UI'!B41)","v":0},{"$f":"SUMIFS('RP-UF'!$E$11:$E$109,'RP-UF'!$C$11:$C$109,'RP-UI'!B41)","v":0},{"$f":"SUMIFS('RP-UF'!$F$11:$F$109,'RP-UF'!$C$11:$C$109,'RP-UI'!B41)","v":0},{"$f":"SUMIFS('RP-UF'!$G$11:$G$109,'RP-UF'!$C$11:$C$109,'RP-UI'!B41)","v":0},{"$f":"SUMIFS('RP-UF'!$H$11:$H$109,'RP-UF'!$C$11:$C$109,'RP-UI'!B41)","v":0},{"$f":"SUMIFS('RP-UF'!$I$11:$I$109,'RP-UF'!$C$11:$C$109,'RP-UI'!B41)","v":0},{"$f":"SUMIFS('RP-UF'!$J$11:$J$109,'RP-UF'!$C$11:$C$109,'RP-UI'!B41)","v":0},{"$f":"SUMIFS('RP-UF'!$K$11:$K$109,'RP-UF'!$C$11:$C$109,'RP-UI'!B41)","v":0},{"$f":"SUMIFS('RP-UF'!$L$11:$L$109,'RP-UF'!$C$11:$C$109,'RP-UI'!B41)","v":0},{"$f":"SUMIFS('RP-UF'!$M$11:$M$109,'RP-UF'!$C$11:$C$109,'RP-UI'!B41)","v":0},{"$f":"SUMIFS('RP-UF'!$N$11:$N$109,'RP-UF'!$C$11:$C$109,'RP-UI'!B41)","v":0},0]
[32,{"$f":"UI!B42","v":"U32"},{"$f":"IF(UI!C42<>\"\",UI!C42,\"\")","v":""},{"$f":"IF(UI!D42<>\"\",UI!D42,\"\")","v":""},{"$f":"IF('TAB-UI'!E42<>\"\",'TAB-UI'!E42,\"\")","v":""},{"$f":"SUMIFS('RP-UF'!$D$11:$D$109,'RP-UF'!$C$11:$C$109,'RP-UI'!B42)","v":0},{"$f":"SUMIFS('RP-UF'!$E$11:$E$109,'RP-UF'!$C$11:$C$109,'RP-UI'!B42)","v":0},{"$f":"SUMIFS('RP-UF'!$F$11:$F$109,'RP-UF'!$C$11:$C$109,'RP-UI'!B42)","v":0},{"$f":"SUMIFS('RP-UF'!$G$11:$G$109,'RP-UF'!$C$11:$C$109,'RP-UI'!B42)","v":0},{"$f":"SUMIFS('RP-UF'!$H$11:$H$109,'RP-UF'!$C$11:$C$109,'RP-UI'!B42)","v":0},{"$f":"SUMIFS('RP-UF'!$I$11:$I$109,'RP-UF'!$C$11:$C$109,'RP-UI'!B42)","v":0},{"$f":"SUMIFS('RP-UF'!$J$11:$J$109,'RP-UF'!$C$11:$C$109,'RP-UI'!B42)","v":0},{"$f":"SUMIFS('RP-UF'!$K$11:$K$109,'RP-UF'!$C$11:$C$109,'RP-UI'!B42)","v":0},{"$f":"SUMIFS('RP-UF'!$L$11:$L$109,'RP-UF'!$C$11:$C$109,'RP-UI'!B42)","v":0},{"$f":"SUMIFS('RP-UF'!$M$11:$M$109,'RP-UF'!$C$11:$C$109,'RP-UI'!B42)","v":0},{"$f":"SUMIFS('RP-UF'!$N$11:$N$109,'RP-UF'!$C$11:$C$109,'RP-UI'!B42)","v":0},0]
[33,{"$f":"UI!B43","v":"U33"},{"$f":"IF(UI!C43<>\"\",UI!C43,\"\")","v":""},{"$f":"IF(UI!D43<>\"\",UI!D43,\"\")","v":""},{"$f":"IF('TAB-UI'!E43<>\"\",'TAB-UI'!E43,\"\")","v":""},{"$f":"SUMIFS('RP-UF'!$D$11:$D$109,'RP-UF'!$C$11:$C$109,'RP-UI'!B43)","v":0},{"$f":"SUMIFS('RP-UF'!$E$11:$E$109,'RP-UF'!$C$11:$C$109,'RP-UI'!B43)","v":0},{"$f":"SUMIFS('RP-UF'!$F$11:$F$109,'RP-UF'!$C$11:$C$109,'RP-UI'!B43)","v":0},{"$f":"SUMIFS('RP-UF'!$G$11:$G$109,'RP-UF'!$C$11:$C$109,'RP-UI'!B43)","v":0},{"$f":"SUMIFS('RP-UF'!$H$11:$H$109,'RP-UF'!$C$11:$C$109,'RP-UI'!B43)","v":0},{"$f":"SUMIFS('RP-UF'!$I$11:$I$109,'RP-UF'!$C$11:$C$109,'RP-UI'!B43)","v":0},{"$f":"SUMIFS('RP-UF'!$J$11:$J$109,'RP-UF'!$C$11:$C$109,'RP-UI'!B43)","v":0},{"$f":"SUMIFS('RP-UF'!$K$11:$K$109,'RP-UF'!$C$11:$C$109,'RP-UI'!B43)","v":0},{"$f":"SUMIFS('RP-UF'!$L$11:$L$109,'RP-UF'!$C$11:$C$109,'RP-UI'!B43)","v":0},{"$f":"SUMIFS('RP-UF'!$M$11:$M$109,'RP-UF'!$C$11:$C$109,'RP-UI'!B43)","v":0},{"$f":"SUMIFS('RP-UF'!$N$11:$N$109,'RP-UF'!$C$11:$C$109,'RP-UI'!B43)","v":0},0]
[34,{"$f":"UI!B44","v":"U34"},{"$f":"IF(UI!C44<>\"\",UI!C44,\"\")","v":""},{"$f":"IF(UI!D44<>\"\",UI!D44,\"\")","v":""},{"$f":"IF('TAB-UI'!E44<>\"\",'TAB-UI'!E44,\"\")","v":""},{"$f":"SUMIFS('RP-UF'!$D$11:$D$109,'RP-UF'!$C$11:$C$109,'RP-UI'!B44)","v":0},{"$f":"SUMIFS('RP-UF'!$E$11:$E$109,'RP-UF'!$C$11:$C$109,'RP-UI'!B44)","v":0},{"$f":"SUMIFS('RP-UF'!$F$11:$F$109,'RP-UF'!$C$11:$C$109,'RP-UI'!B44)","v":0},{"$f":"SUMIFS('RP-UF'!$G$11:$G$109,'RP-UF'!$C$11:$C$109,'RP-UI'!B44)","v":0},{"$f":"SUMIFS('RP-UF'!$H$11:$H$109,'RP-UF'!$C$11:$C$109,'RP-UI'!B44)","v":0},{"$f":"SUMIFS('RP-UF'!$I$11:$I$109,'RP-UF'!$C$11:$C$109,'RP-UI'!B44)","v":0},{"$f":"SUMIFS('RP-UF'!$J$11:$J$109,'RP-UF'!$C$11:$C$109,'RP-UI'!B44)","v":0},{"$f":"SUMIFS('RP-UF'!$K$11:$K$109,'RP-UF'!$C$11:$C$109,'RP-UI'!B44)","v":0},{"$f":"SUMIFS('RP-UF'!$L$11:$L$109,'RP-UF'!$C$11:$C$109,'RP-UI'!B44)","v":0},{"$f":"SUMIFS('RP-UF'!$M$11:$M$109,'RP-UF'!$C$11:$C$109,'RP-UI'!B44)","v":0},{"$f":"SUMIFS('RP-UF'!$N$11:$N$109,'RP-UF'!$C$11:$C$109,'RP-UI'!B44)","v":0},0]
[35,{"$f":"UI!B45","v":"U35"},{"$f":"IF(UI!C45<>\"\",UI!C45,\"\")","v":""},{"$f":"IF(UI!D45<>\"\",UI!D45,\"\")","v":""},{"$f":"IF('TAB-UI'!E45<>\"\",'TAB-UI'!E45,\"\")","v":""},{"$f":"SUMIFS('RP-UF'!$D$11:$D$109,'RP-UF'!$C$11:$C$109,'RP-UI'!B45)","v":0},{"$f":"SUMIFS('RP-UF'!$E$11:$E$109,'RP-UF'!$C$11:$C$109,'RP-UI'!B45)","v":0},{"$f":"SUMIFS('RP-UF'!$F$11:$F$109,'RP-UF'!$C$11:$C$109,'RP-UI'!B45)","v":0},{"$f":"SUMIFS('RP-UF'!$G$11:$G$109,'RP-UF'!$C$11:$C$109,'RP-UI'!B45)","v":0},{"$f":"SUMIFS('RP-UF'!$H$11:$H$109,'RP-UF'!$C$11:$C$109,'RP-UI'!B45)","v":0},{"$f":"SUMIFS('RP-UF'!$I$11:$I$109,'RP-UF'!$C$11:$C$109,'RP-UI'!B45)","v":0},{"$f":"SUMIFS('RP-UF'!$J$11:$J$109,'RP-UF'!$C$11:$C$109,'RP-UI'!B45)","v":0},{"$f":"SUMIFS('RP-UF'!$K$11:$K$109,'RP-UF'!$C$11:$C$109,'RP-UI'!B45)","v":0},{"$f":"SUMIFS('RP-UF'!$L$11:$L$109,'RP-UF'!$C$11:$C$109,'RP-UI'!B45)","v":0},{"$f":"SUMIFS('RP-UF'!$M$11:$M$109,'RP-UF'!$C$11:$C$109,'RP-UI'!B45)","v":0},{"$f":"SUMIFS('RP-UF'!$N$11:$N$109,'RP-UF'!$C$11:$C$109,'RP-UI'!B45)","v":0},0]
[36,{"$f":"UI!B46","v":"U36"},{"$f":"IF(UI!C46<>\"\",UI!C46,\"\")","v":""},{"$f":"IF(UI!D46<>\"\",UI!D46,\"\")","v":""},{"$f":"IF('TAB-UI'!E46<>\"\",'TAB-UI'!E46,\"\")","v":""},{"$f":"SUMIFS('RP-UF'!$D$11:$D$109,'RP-UF'!$C$11:$C$109,'RP-UI'!B46)","v":0},{"$f":"SUMIFS('RP-UF'!$E$11:$E$109,'RP-UF'!$C$11:$C$109,'RP-UI'!B46)","v":0},{"$f":"SUMIFS('RP-UF'!$F$11:$F$109,'RP-UF'!$C$11:$C$109,'RP-UI'!B46)","v":0},{"$f":"SUMIFS('RP-UF'!$G$11:$G$109,'RP-UF'!$C$11:$C$109,'RP-UI'!B46)","v":0},{"$f":"SUMIFS('RP-UF'!$H$11:$H$109,'RP-UF'!$C$11:$C$109,'RP-UI'!B46)","v":0},{"$f":"SUMIFS('RP-UF'!$I$11:$I$109,'RP-UF'!$C$11:$C$109,'RP-UI'!B46)","v":0},{"$f":"SUMIFS('RP-UF'!$J$11:$J$109,'RP-UF'!$C$11:$C$109,'RP-UI'!B46)","v":0},{"$f":"SUMIFS('RP-UF'!$K$11:$K$109,'RP-UF'!$C$11:$C$109,'RP-UI'!B46)","v":0},{"$f":"SUMIFS('RP-UF'!$L$11:$L$109,'RP-UF'!$C$11:$C$109,'RP-UI'!B46)","v":0},{"$f":"SUMIFS('RP-UF'!$M$11:$M$109,'RP-UF'!$C$11:$C$109,'RP-UI'!B46)","v":0},{"$f":"SUMIFS('RP-UF'!$N$11:$N$109,'RP-UF'!$C$11:$C$109,'RP-UI'!B46)","v":0},0]
[37,{"$f":"UI!B47","v":"U37"},{"$f":"IF(UI!C47<>\"\",UI!C47,\"\")","v":""},{"$f":"IF(UI!D47<>\"\",UI!D47,\"\")","v":""},{"$f":"IF('TAB-UI'!E47<>\"\",'TAB-UI'!E47,\"\")","v":""},{"$f":"SUMIFS('RP-UF'!$D$11:$D$109,'RP-UF'!$C$11:$C$109,'RP-UI'!B47)","v":0},{"$f":"SUMIFS('RP-UF'!$E$11:$E$109,'RP-UF'!$C$11:$C$109,'RP-UI'!B47)","v":0},{"$f":"SUMIFS('RP-UF'!$F$11:$F$109,'RP-UF'!$C$11:$C$109,'RP-UI'!B47)","v":0},{"$f":"SUMIFS('RP-UF'!$G$11:$G$109,'RP-UF'!$C$11:$C$109,'RP-UI'!B47)","v":0},{"$f":"SUMIFS('RP-UF'!$H$11:$H$109,'RP-UF'!$C$11:$C$109,'RP-UI'!B47)","v":0},{"$f":"SUMIFS('RP-UF'!$I$11:$I$109,'RP-UF'!$C$11:$C$109,'RP-UI'!B47)","v":0},{"$f":"SUMIFS('RP-UF'!$J$11:$J$109,'RP-UF'!$C$11:$C$109,'RP-UI'!B47)","v":0},{"$f":"SUMIFS('RP-UF'!$K$11:$K$109,'RP-UF'!$C$11:$C$109,'RP-UI'!B47)","v":0},{"$f":"SUMIFS('RP-UF'!$L$11:$L$109,'RP-UF'!$C$11:$C$109,'RP-UI'!B47)","v":0},{"$f":"SUMIFS('RP-UF'!$M$11:$M$109,'RP-UF'!$C$11:$C$109,'RP-UI'!B47)","v":0},{"$f":"SUMIFS('RP-UF'!$N$11:$N$109,'RP-UF'!$C$11:$C$109,'RP-UI'!B47)","v":0},0]
[38,{"$f":"UI!B48","v":"U38"},{"$f":"IF(UI!C48<>\"\",UI!C48,\"\")","v":""},{"$f":"IF(UI!D48<>\"\",UI!D48,\"\")","v":""},{"$f":"IF('TAB-UI'!E48<>\"\",'TAB-UI'!E48,\"\")","v":""},{"$f":"SUMIFS('RP-UF'!$D$11:$D$109,'RP-UF'!$C$11:$C$109,'RP-UI'!B48)","v":0},{"$f":"SUMIFS('RP-UF'!$E$11:$E$109,'RP-UF'!$C$11:$C$109,'RP-UI'!B48)","v":0},{"$f":"SUMIFS('RP-UF'!$F$11:$F$109,'RP-UF'!$C$11:$C$109,'RP-UI'!B48)","v":0},{"$f":"SUMIFS('RP-UF'!$G$11:$G$109,'RP-UF'!$C$11:$C$109,'RP-UI'!B48)","v":0},{"$f":"SUMIFS('RP-UF'!$H$11:$H$109,'RP-UF'!$C$11:$C$109,'RP-UI'!B48)","v":0},{"$f":"SUMIFS('RP-UF'!$I$11:$I$109,'RP-UF'!$C$11:$C$109,'RP-UI'!B48)","v":0},{"$f":"SUMIFS('RP-UF'!$J$11:$J$109,'RP-UF'!$C$11:$C$109,'RP-UI'!B48)","v":0},{"$f":"SUMIFS('RP-UF'!$K$11:$K$109,'RP-UF'!$C$11:$C$109,'RP-UI'!B48)","v":0},{"$f":"SUMIFS('RP-UF'!$L$11:$L$109,'RP-UF'!$C$11:$C$109,'RP-UI'!B48)","v":0},{"$f":"SUMIFS('RP-UF'!$M$11:$M$109,'RP-UF'!$C$11:$C$109,'RP-UI'!B48)","v":0},{"$f":"SUMIFS('RP-UF'!$N$11:$N$109,'RP-UF'!$C$11:$C$109,'RP-UI'!B48)","v":0},0]
[39,{"$f":"UI!B49","v":"U39"},{"$f":"IF(UI!C49<>\"\",UI!C49,\"\")","v":""},{"$f":"IF(UI!D49<>\"\",UI!D49,\"\")","v":""},{"$f":"IF('TAB-UI'!E49<>\"\",'TAB-UI'!E49,\"\")","v":""},{"$f":"SUMIFS('RP-UF'!$D$11:$D$109,'RP-UF'!$C$11:$C$109,'RP-UI'!B49)","v":0},{"$f":"SUMIFS('RP-UF'!$E$11:$E$109,'RP-UF'!$C$11:$C$109,'RP-UI'!B49)","v":0},{"$f":"SUMIFS('RP-UF'!$F$11:$F$109,'RP-UF'!$C$11:$C$109,'RP-UI'!B49)","v":0},{"$f":"SUMIFS('RP-UF'!$G$11:$G$109,'RP-UF'!$C$11:$C$109,'RP-UI'!B49)","v":0},{"$f":"SUMIFS('RP-UF'!$H$11:$H$109,'RP-UF'!$C$11:$C$109,'RP-UI'!B49)","v":0},{"$f":"SUMIFS('RP-UF'!$I$11:$I$109,'RP-UF'!$C$11:$C$109,'RP-UI'!B49)","v":0},{"$f":"SUMIFS('RP-UF'!$J$11:$J$109,'RP-UF'!$C$11:$C$109,'RP-UI'!B49)","v":0},{"$f":"SUMIFS('RP-UF'!$K$11:$K$109,'RP-UF'!$C$11:$C$109,'RP-UI'!B49)","v":0},{"$f":"SUMIFS('RP-UF'!$L$11:$L$109,'RP-UF'!$C$11:$C$109,'RP-UI'!B49)","v":0},{"$f":"SUMIFS('RP-UF'!$M$11:$M$109,'RP-UF'!$C$11:$C$109,'RP-UI'!B49)","v":0},{"$f":"SUMIFS('RP-UF'!$N$11:$N$109,'RP-UF'!$C$11:$C$109,'RP-UI'!B49)","v":0},0]
[40,{"$f":"UI!B50","v":"U40"},{"$f":"IF(UI!C50<>\"\",UI!C50,\"\")","v":""},{"$f":"IF(UI!D50<>\"\",UI!D50,\"\")","v":""},{"$f":"IF('TAB-UI'!E50<>\"\",'TAB-UI'!E50,\"\")","v":""},{"$f":"SUMIFS('RP-UF'!$D$11:$D$109,'RP-UF'!$C$11:$C$109,'RP-UI'!B50)","v":0},{"$f":"SUMIFS('RP-UF'!$E$11:$E$109,'RP-UF'!$C$11:$C$109,'RP-UI'!B50)","v":0},{"$f":"SUMIFS('RP-UF'!$F$11:$F$109,'RP-UF'!$C$11:$C$109,'RP-UI'!B50)","v":0},{"$f":"SUMIFS('RP-UF'!$G$11:$G$109,'RP-UF'!$C$11:$C$109,'RP-UI'!B50)","v":0},{"$f":"SUMIFS('RP-UF'!$H$11:$H$109,'RP-UF'!$C$11:$C$109,'RP-UI'!B50)","v":0},{"$f":"SUMIFS('RP-UF'!$I$11:$I$109,'RP-UF'!$C$11:$C$109,'RP-UI'!B50)","v":0},{"$f":"SUMIFS('RP-UF'!$J$11:$J$109,'RP-UF'!$C$11:$C$109,'RP-UI'!B50)","v":0},{"$f":"SUMIFS('RP-UF'!$K$11:$K$109,'RP-UF'!$C$11:$C$109,'RP-UI'!B50)","v":0},{"$f":"SUMIFS('RP-UF'!$L$11:$L$109,'RP-UF'!$C$11:$C$109,'RP-UI'!B50)","v":0},{"$f":"SUMIFS('RP-UF'!$M$11:$M$109,'RP-UF'!$C$11:$C$109,'RP-UI'!B50)","v":0},{"$f":"SUMIFS('RP-UF'!$N$11:$N$109,'RP-UF'!$C$11:$C$109,'RP-UI'!B50)","v":0},0]
[41,{"$f":"UI!B51","v":"U41"},{"$f":"IF(UI!C51<>\"\",UI!C51,\"\")","v":""},{"$f":"IF(UI!D51<>\"\",UI!D51,\"\")","v":""},{"$f":"IF('TAB-UI'!E51<>\"\",'TAB-UI'!E51,\"\")","v":""},{"$f":"SUMIFS('RP-UF'!$D$11:$D$109,'RP-UF'!$C$11:$C$109,'RP-UI'!B51)","v":0},{"$f":"SUMIFS('RP-UF'!$E$11:$E$109,'RP-UF'!$C$11:$C$109,'RP-UI'!B51)","v":0},{"$f":"SUMIFS('RP-UF'!$F$11:$F$109,'RP-UF'!$C$11:$C$109,'RP-UI'!B51)","v":0},{"$f":"SUMIFS('RP-UF'!$G$11:$G$109,'RP-UF'!$C$11:$C$109,'RP-UI'!B51)","v":0},{"$f":"SUMIFS('RP-UF'!$H$11:$H$109,'RP-UF'!$C$11:$C$109,'RP-UI'!B51)","v":0},{"$f":"SUMIFS('RP-UF'!$I$11:$I$109,'RP-UF'!$C$11:$C$109,'RP-UI'!B51)","v":0},{"$f":"SUMIFS('RP-UF'!$J$11:$J$109,'RP-UF'!$C$11:$C$109,'RP-UI'!B51)","v":0},{"$f":"SUMIFS('RP-UF'!$K$11:$K$109,'RP-UF'!$C$11:$C$109,'RP-UI'!B51)","v":0},{"$f":"SUMIFS('RP-UF'!$L$11:$L$109,'RP-UF'!$C$11:$C$109,'RP-UI'!B51)","v":0},{"$f":"SUMIFS('RP-UF'!$M$11:$M$109,'RP-UF'!$C$11:$C$109,'RP-UI'!B51)","v":0},{"$f":"SUMIFS('RP-UF'!$N$11:$N$109,'RP-UF'!$C$11:$C$109,'RP-UI'!B51)","v":0},0]
[42,{"$f":"UI!B52","v":"U42"},{"$f":"IF(UI!C52<>\"\",UI!C52,\"\")","v":""},{"$f":"IF(UI!D52<>\"\",UI!D52,\"\")","v":""},{"$f":"IF('TAB-UI'!E52<>\"\",'TAB-UI'!E52,\"\")","v":""},{"$f":"SUMIFS('RP-UF'!$D$11:$D$109,'RP-UF'!$C$11:$C$109,'RP-UI'!B52)","v":0},{"$f":"SUMIFS('RP-UF'!$E$11:$E$109,'RP-UF'!$C$11:$C$109,'RP-UI'!B52)","v":0},{"$f":"SUMIFS('RP-UF'!$F$11:$F$109,'RP-UF'!$C$11:$C$109,'RP-UI'!B52)","v":0},{"$f":"SUMIFS('RP-UF'!$G$11:$G$109,'RP-UF'!$C$11:$C$109,'RP-UI'!B52)","v":0},{"$f":"SUMIFS('RP-UF'!$H$11:$H$109,'RP-UF'!$C$11:$C$109,'RP-UI'!B52)","v":0},{"$f":"SUMIFS('RP-UF'!$I$11:$I$109,'RP-UF'!$C$11:$C$109,'RP-UI'!B52)","v":0},{"$f":"SUMIFS('RP-UF'!$J$11:$J$109,'RP-UF'!$C$11:$C$109,'RP-UI'!B52)","v":0},{"$f":"SUMIFS('RP-UF'!$K$11:$K$109,'RP-UF'!$C$11:$C$109,'RP-UI'!B52)","v":0},{"$f":"SUMIFS('RP-UF'!$L$11:$L$109,'RP-UF'!$C$11:$C$109,'RP-UI'!B52)","v":0},{"$f":"SUMIFS('RP-UF'!$M$11:$M$109,'RP-UF'!$C$11:$C$109,'RP-UI'!B52)","v":0},{"$f":"SUMIFS('RP-UF'!$N$11:$N$109,'RP-UF'!$C$11:$C$109,'RP-UI'!B52)","v":0},0]
[43,{"$f":"UI!B53","v":"U43"},{"$f":"IF(UI!C53<>\"\",UI!C53,\"\")","v":""},{"$f":"IF(UI!D53<>\"\",UI!D53,\"\")","v":""},{"$f":"IF('TAB-UI'!E53<>\"\",'TAB-UI'!E53,\"\")","v":""},{"$f":"SUMIFS('RP-UF'!$D$11:$D$109,'RP-UF'!$C$11:$C$109,'RP-UI'!B53)","v":0},{"$f":"SUMIFS('RP-UF'!$E$11:$E$109,'RP-UF'!$C$11:$C$109,'RP-UI'!B53)","v":0},{"$f":"SUMIFS('RP-UF'!$F$11:$F$109,'RP-UF'!$C$11:$C$109,'RP-UI'!B53)","v":0},{"$f":"SUMIFS('RP-UF'!$G$11:$G$109,'RP-UF'!$C$11:$C$109,'RP-UI'!B53)","v":0},{"$f":"SUMIFS('RP-UF'!$H$11:$H$109,'RP-UF'!$C$11:$C$109,'RP-UI'!B53)","v":0},{"$f":"SUMIFS('RP-UF'!$I$11:$I$109,'RP-UF'!$C$11:$C$109,'RP-UI'!B53)","v":0},{"$f":"SUMIFS('RP-UF'!$J$11:$J$109,'RP-UF'!$C$11:$C$109,'RP-UI'!B53)","v":0},{"$f":"SUMIFS('RP-UF'!$K$11:$K$109,'RP-UF'!$C$11:$C$109,'RP-UI'!B53)","v":0},{"$f":"SUMIFS('RP-UF'!$L$11:$L$109,'RP-UF'!$C$11:$C$109,'RP-UI'!B53)","v":0},{"$f":"SUMIFS('RP-UF'!$M$11:$M$109,'RP-UF'!$C$11:$C$109,'RP-UI'!B53)","v":0},{"$f":"SUMIFS('RP-UF'!$N$11:$N$109,'RP-UF'!$C$11:$C$109,'RP-UI'!B53)","v":0},0]
[44,{"$f":"UI!B54","v":"U44"},{"$f":"IF(UI!C54<>\"\",UI!C54,\"\")","v":""},{"$f":"IF(UI!D54<>\"\",UI!D54,\"\")","v":""},{"$f":"IF('TAB-UI'!E54<>\"\",'TAB-UI'!E54,\"\")","v":""},{"$f":"SUMIFS('RP-UF'!$D$11:$D$109,'RP-UF'!$C$11:$C$109,'RP-UI'!B54)","v":0},{"$f":"SUMIFS('RP-UF'!$E$11:$E$109,'RP-UF'!$C$11:$C$109,'RP-UI'!B54)","v":0},{"$f":"SUMIFS('RP-UF'!$F$11:$F$109,'RP-UF'!$C$11:$C$109,'RP-UI'!B54)","v":0},{"$f":"SUMIFS('RP-UF'!$G$11:$G$109,'RP-UF'!$C$11:$C$109,'RP-UI'!B54)","v":0},{"$f":"SUMIFS('RP-UF'!$H$11:$H$109,'RP-UF'!$C$11:$C$109,'RP-UI'!B54)","v":0},{"$f":"SUMIFS('RP-UF'!$I$11:$I$109,'RP-UF'!$C$11:$C$109,'RP-UI'!B54)","v":0},{"$f":"SUMIFS('RP-UF'!$J$11:$J$109,'RP-UF'!$C$11:$C$109,'RP-UI'!B54)","v":0},{"$f":"SUMIFS('RP-UF'!$K$11:$K$109,'RP-UF'!$C$11:$C$109,'RP-UI'!B54)","v":0},{"$f":"SUMIFS('RP-UF'!$L$11:$L$109,'RP-UF'!$C$11:$C$109,'RP-UI'!B54)","v":0},{"$f":"SUMIFS('RP-UF'!$M$11:$M$109,'RP-UF'!$C$11:$C$109,'RP-UI'!B54)","v":0},{"$f":"SUMIFS('RP-UF'!$N$11:$N$109,'RP-UF'!$C$11:$C$109,'RP-UI'!B54)","v":0},0]
[45,{"$f":"UI!B55","v":"U45"},{"$f":"IF(UI!C55<>\"\",UI!C55,\"\")","v":""},{"$f":"IF(UI!D55<>\"\",UI!D55,\"\")","v":""},{"$f":"IF('TAB-UI'!E55<>\"\",'TAB-UI'!E55,\"\")","v":""},{"$f":"SUMIFS('RP-UF'!$D$11:$D$109,'RP-UF'!$C$11:$C$109,'RP-UI'!B55)","v":0},{"$f":"SUMIFS('RP-UF'!$E$11:$E$109,'RP-UF'!$C$11:$C$109,'RP-UI'!B55)","v":0},{"$f":"SUMIFS('RP-UF'!$F$11:$F$109,'RP-UF'!$C$11:$C$109,'RP-UI'!B55)","v":0},{"$f":"SUMIFS('RP-UF'!$G$11:$G$109,'RP-UF'!$C$11:$C$109,'RP-UI'!B55)","v":0},{"$f":"SUMIFS('RP-UF'!$H$11:$H$109,'RP-UF'!$C$11:$C$109,'RP-UI'!B55)","v":0},{"$f":"SUMIFS('RP-UF'!$I$11:$I$109,'RP-UF'!$C$11:$C$109,'RP-UI'!B55)","v":0},{"$f":"SUMIFS('RP-UF'!$J$11:$J$109,'RP-UF'!$C$11:$C$109,'RP-UI'!B55)","v":0},{"$f":"SUMIFS('RP-UF'!$K$11:$K$109,'RP-UF'!$C$11:$C$109,'RP-UI'!B55)","v":0},{"$f":"SUMIFS('RP-UF'!$L$11:$L$109,'RP-UF'!$C$11:$C$109,'RP-UI'!B55)","v":0},{"$f":"SUMIFS('RP-UF'!$M$11:$M$109,'RP-UF'!$C$11:$C$109,'RP-UI'!B55)","v":0},{"$f":"SUMIFS('RP-UF'!$N$11:$N$109,'RP-UF'!$C$11:$C$109,'RP-UI'!B55)","v":0},0]
[46,{"$f":"UI!B56","v":"U46"},{"$f":"IF(UI!C56<>\"\",UI!C56,\"\")","v":""},{"$f":"IF(UI!D56<>\"\",UI!D56,\"\")","v":""},{"$f":"IF('TAB-UI'!E56<>\"\",'TAB-UI'!E56,\"\")","v":""},{"$f":"SUMIFS('RP-UF'!$D$11:$D$109,'RP-UF'!$C$11:$C$109,'RP-UI'!B56)","v":0},{"$f":"SUMIFS('RP-UF'!$E$11:$E$109,'RP-UF'!$C$11:$C$109,'RP-UI'!B56)","v":0},{"$f":"SUMIFS('RP-UF'!$F$11:$F$109,'RP-UF'!$C$11:$C$109,'RP-UI'!B56)","v":0},{"$f":"SUMIFS('RP-UF'!$G$11:$G$109,'RP-UF'!$C$11:$C$109,'RP-UI'!B56)","v":0},{"$f":"SUMIFS('RP-UF'!$H$11:$H$109,'RP-UF'!$C$11:$C$109,'RP-UI'!B56)","v":0},{"$f":"SUMIFS('RP-UF'!$I$11:$I$109,'RP-UF'!$C$11:$C$109,'RP-UI'!B56)","v":0},{"$f":"SUMIFS('RP-UF'!$J$11:$J$109,'RP-UF'!$C$11:$C$109,'RP-UI'!B56)","v":0},{"$f":"SUMIFS('RP-UF'!$K$11:$K$109,'RP-UF'!$C$11:$C$109,'RP-UI'!B56)","v":0},{"$f":"SUMIFS('RP-UF'!$L$11:$L$109,'RP-UF'!$C$11:$C$109,'RP-UI'!B56)","v":0},{"$f":"SUMIFS('RP-UF'!$M$11:$M$109,'RP-UF'!$C$11:$C$109,'RP-UI'!B56)","v":0},{"$f":"SUMIFS('RP-UF'!$N$11:$N$109,'RP-UF'!$C$11:$C$109,'RP-UI'!B56)","v":0},0]
[47,{"$f":"UI!B57","v":"U47"},{"$f":"IF(UI!C57<>\"\",UI!C57,\"\")","v":""},{"$f":"IF(UI!D57<>\"\",UI!D57,\"\")","v":""},{"$f":"IF('TAB-UI'!E57<>\"\",'TAB-UI'!E57,\"\")","v":""},{"$f":"SUMIFS('RP-UF'!$D$11:$D$109,'RP-UF'!$C$11:$C$109,'RP-UI'!B57)","v":0},{"$f":"SUMIFS('RP-UF'!$E$11:$E$109,'RP-UF'!$C$11:$C$109,'RP-UI'!B57)","v":0},{"$f":"SUMIFS('RP-UF'!$F$11:$F$109,'RP-UF'!$C$11:$C$109,'RP-UI'!B57)","v":0},{"$f":"SUMIFS('RP-UF'!$G$11:$G$109,'RP-UF'!$C$11:$C$109,'RP-UI'!B57)","v":0},{"$f":"SUMIFS('RP-UF'!$H$11:$H$109,'RP-UF'!$C$11:$C$109,'RP-UI'!B57)","v":0},{"$f":"SUMIFS('RP-UF'!$I$11:$I$109,'RP-UF'!$C$11:$C$109,'RP-UI'!B57)","v":0},{"$f":"SUMIFS('RP-UF'!$J$11:$J$109,'RP-UF'!$C$11:$C$109,'RP-UI'!B57)","v":0},{"$f":"SUMIFS('RP-UF'!$K$11:$K$109,'RP-UF'!$C$11:$C$109,'RP-UI'!B57)","v":0},{"$f":"SUMIFS('RP-UF'!$L$11:$L$109,'RP-UF'!$C$11:$C$109,'RP-UI'!B57)","v":0},{"$f":"SUMIFS('RP-UF'!$M$11:$M$109,'RP-UF'!$C$11:$C$109,'RP-UI'!B57)","v":0},{"$f":"SUMIFS('RP-UF'!$N$11:$N$109,'RP-UF'!$C$11:$C$109,'RP-UI'!B57)","v":0},0]
[48,{"$f":"UI!B58","v":"U48"},{"$f":"IF(UI!C58<>\"\",UI!C58,\"\")","v":""},{"$f":"IF(UI!D58<>\"\",UI!D58,\"\")","v":""},{"$f":"IF('TAB-UI'!E58<>\"\",'TAB-UI'!E58,\"\")","v":""},{"$f":"SUMIFS('RP-UF'!$D$11:$D$109,'RP-UF'!$C$11:$C$109,'RP-UI'!B58)","v":0},{"$f":"SUMIFS('RP-UF'!$E$11:$E$109,'RP-UF'!$C$11:$C$109,'RP-UI'!B58)","v":0},{"$f":"SUMIFS('RP-UF'!$F$11:$F$109,'RP-UF'!$C$11:$C$109,'RP-UI'!B58)","v":0},{"$f":"SUMIFS('RP-UF'!$G$11:$G$109,'RP-UF'!$C$11:$C$109,'RP-UI'!B58)","v":0},{"$f":"SUMIFS('RP-UF'!$H$11:$H$109,'RP-UF'!$C$11:$C$109,'RP-UI'!B58)","v":0},{"$f":"SUMIFS('RP-UF'!$I$11:$I$109,'RP-UF'!$C$11:$C$109,'RP-UI'!B58)","v":0},{"$f":"SUMIFS('RP-UF'!$J$11:$J$109,'RP-UF'!$C$11:$C$109,'RP-UI'!B58)","v":0},{"$f":"SUMIFS('RP-UF'!$K$11:$K$109,'RP-UF'!$C$11:$C$109,'RP-UI'!B58)","v":0},{"$f":"SUMIFS('RP-UF'!$L$11:$L$109,'RP-UF'!$C$11:$C$109,'RP-UI'!B58)","v":0},{"$f":"SUMIFS('RP-UF'!$M$11:$M$109,'RP-UF'!$C$11:$C$109,'RP-UI'!B58)","v":0},{"$f":"SUMIFS('RP-UF'!$N$11:$N$109,'RP-UF'!$C$11:$C$109,'RP-UI'!B58)","v":0},0]
[49,{"$f":"UI!B59","v":"U49"},{"$f":"IF(UI!C59<>\"\",UI!C59,\"\")","v":""},{"$f":"IF(UI!D59<>\"\",UI!D59,\"\")","v":""},{"$f":"IF('TAB-UI'!E59<>\"\",'TAB-UI'!E59,\"\")","v":""},{"$f":"SUMIFS('RP-UF'!$D$11:$D$109,'RP-UF'!$C$11:$C$109,'RP-UI'!B59)","v":0},{"$f":"SUMIFS('RP-UF'!$E$11:$E$109,'RP-UF'!$C$11:$C$109,'RP-UI'!B59)","v":0},{"$f":"SUMIFS('RP-UF'!$F$11:$F$109,'RP-UF'!$C$11:$C$109,'RP-UI'!B59)","v":0},{"$f":"SUMIFS('RP-UF'!$G$11:$G$109,'RP-UF'!$C$11:$C$109,'RP-UI'!B59)","v":0},{"$f":"SUMIFS('RP-UF'!$H$11:$H$109,'RP-UF'!$C$11:$C$109,'RP-UI'!B59)","v":0},{"$f":"SUMIFS('RP-UF'!$I$11:$I$109,'RP-UF'!$C$11:$C$109,'RP-UI'!B59)","v":0},{"$f":"SUMIFS('RP-UF'!$J$11:$J$109,'RP-UF'!$C$11:$C$109,'RP-UI'!B59)","v":0},{"$f":"SUMIFS('RP-UF'!$K$11:$K$109,'RP-UF'!$C$11:$C$109,'RP-UI'!B59)","v":0},{"$f":"SUMIFS('RP-UF'!$L$11:$L$109,'RP-UF'!$C$11:$C$109,'RP-UI'!B59)","v":0},{"$f":"SUMIFS('RP-UF'!$M$11:$M$109,'RP-UF'!$C$11:$C$109,'RP-UI'!B59)","v":0},{"$f":"SUMIFS('RP-UF'!$N$11:$N$109,'RP-UF'!$C$11:$C$109,'RP-UI'!B59)","v":0},0]
[50,{"$f":"UI!B60","v":"U50"},{"$f":"IF(UI!C60<>\"\",UI!C60,\"\")","v":""},{"$f":"IF(UI!D60<>\"\",UI!D60,\"\")","v":""},{"$f":"IF('TAB-UI'!E60<>\"\",'TAB-UI'!E60,\"\")","v":""},{"$f":"SUMIFS('RP-UF'!$D$11:$D$109,'RP-UF'!$C$11:$C$109,'RP-UI'!B60)","v":0},{"$f":"SUMIFS('RP-UF'!$E$11:$E$109,'RP-UF'!$C$11:$C$109,'RP-UI'!B60)","v":0},{"$f":"SUMIFS('RP-UF'!$F$11:$F$109,'RP-UF'!$C$11:$C$109,'RP-UI'!B60)","v":0},{"$f":"SUMIFS('RP-UF'!$G$11:$G$109,'RP-UF'!$C$11:$C$109,'RP-UI'!B60)","v":0},{"$f":"SUMIFS('RP-UF'!$H$11:$H$109,'RP-UF'!$C$11:$C$109,'RP-UI'!B60)","v":0},{"$f":"SUMIFS('RP-UF'!$I$11:$I$109,'RP-UF'!$C$11:$C$109,'RP-UI'!B60)","v":0},{"$f":"SUMIFS('RP-UF'!$J$11:$J$109,'RP-UF'!$C$11:$C$109,'RP-UI'!B60)","v":0},{"$f":"SUMIFS('RP-UF'!$K$11:$K$109,'RP-UF'!$C$11:$C$109,'RP-UI'!B60)","v":0},{"$f":"SUMIFS('RP-UF'!$L$11:$L$109,'RP-UF'!$C$11:$C$109,'RP-UI'!B60)","v":0},{"$f":"SUMIFS('RP-UF'!$M$11:$M$109,'RP-UF'!$C$11:$C$109,'RP-UI'!B60)","v":0},{"$f":"SUMIFS('RP-UF'!$N$11:$N$109,'RP-UF'!$C$11:$C$109,'RP-UI'!B60)","v":0},0]
[51,{"$f":"UI!B61","v":"U51"},{"$f":"IF(UI!C61<>\"\",UI!C61,\"\")","v":""},{"$f":"IF(UI!D61<>\"\",UI!D61,\"\")","v":""},{"$f":"IF('TAB-UI'!E61<>\"\",'TAB-UI'!E61,\"\")","v":""},{"$f":"SUMIFS('RP-UF'!$D$11:$D$109,'RP-UF'!$C$11:$C$109,'RP-UI'!B61)","v":0},{"$f":"SUMIFS('RP-UF'!$E$11:$E$109,'RP-UF'!$C$11:$C$109,'RP-UI'!B61)","v":0},{"$f":"SUMIFS('RP-UF'!$F$11:$F$109,'RP-UF'!$C$11:$C$109,'RP-UI'!B61)","v":0},{"$f":"SUMIFS('RP-UF'!$G$11:$G$109,'RP-UF'!$C$11:$C$109,'RP-UI'!B61)","v":0},{"$f":"SUMIFS('RP-UF'!$H$11:$H$109,'RP-UF'!$C$11:$C$109,'RP-UI'!B61)","v":0},{"$f":"SUMIFS('RP-UF'!$I$11:$I$109,'RP-UF'!$C$11:$C$109,'RP-UI'!B61)","v":0},{"$f":"SUMIFS('RP-UF'!$J$11:$J$109,'RP-UF'!$C$11:$C$109,'RP-UI'!B61)","v":0},{"$f":"SUMIFS('RP-UF'!$K$11:$K$109,'RP-UF'!$C$11:$C$109,'RP-UI'!B61)","v":0},{"$f":"SUMIFS('RP-UF'!$L$11:$L$109,'RP-UF'!$C$11:$C$109,'RP-UI'!B61)","v":0},{"$f":"SUMIFS('RP-UF'!$M$11:$M$109,'RP-UF'!$C$11:$C$109,'RP-UI'!B61)","v":0},{"$f":"SUMIFS('RP-UF'!$N$11:$N$109,'RP-UF'!$C$11:$C$109,'RP-UI'!B61)","v":0},0]
[52,{"$f":"UI!B62","v":"U52"},{"$f":"IF(UI!C62<>\"\",UI!C62,\"\")","v":""},{"$f":"IF(UI!D62<>\"\",UI!D62,\"\")","v":""},{"$f":"IF('TAB-UI'!E62<>\"\",'TAB-UI'!E62,\"\")","v":""},{"$f":"SUMIFS('RP-UF'!$D$11:$D$109,'RP-UF'!$C$11:$C$109,'RP-UI'!B62)","v":0},{"$f":"SUMIFS('RP-UF'!$E$11:$E$109,'RP-UF'!$C$11:$C$109,'RP-UI'!B62)","v":0},{"$f":"SUMIFS('RP-UF'!$F$11:$F$109,'RP-UF'!$C$11:$C$109,'RP-UI'!B62)","v":0},{"$f":"SUMIFS('RP-UF'!$G$11:$G$109,'RP-UF'!$C$11:$C$109,'RP-UI'!B62)","v":0},{"$f":"SUMIFS('RP-UF'!$H$11:$H$109,'RP-UF'!$C$11:$C$109,'RP-UI'!B62)","v":0},{"$f":"SUMIFS('RP-UF'!$I$11:$I$109,'RP-UF'!$C$11:$C$109,'RP-UI'!B62)","v":0},{"$f":"SUMIFS('RP-UF'!$J$11:$J$109,'RP-UF'!$C$11:$C$109,'RP-UI'!B62)","v":0},{"$f":"SUMIFS('RP-UF'!$K$11:$K$109,'RP-UF'!$C$11:$C$109,'RP-UI'!B62)","v":0},{"$f":"SUMIFS('RP-UF'!$L$11:$L$109,'RP-UF'!$C$11:$C$109,'RP-UI'!B62)","v":0},{"$f":"SUMIFS('RP-UF'!$M$11:$M$109,'RP-UF'!$C$11:$C$109,'RP-UI'!B62)","v":0},{"$f":"SUMIFS('RP-UF'!$N$11:$N$109,'RP-UF'!$C$11:$C$109,'RP-UI'!B62)","v":0},0]
[53,{"$f":"UI!B63","v":"U53"},{"$f":"IF(UI!C63<>\"\",UI!C63,\"\")","v":""},{"$f":"IF(UI!D63<>\"\",UI!D63,\"\")","v":""},{"$f":"IF('TAB-UI'!E63<>\"\",'TAB-UI'!E63,\"\")","v":""},{"$f":"SUMIFS('RP-UF'!$D$11:$D$109,'RP-UF'!$C$11:$C$109,'RP-UI'!B63)","v":0},{"$f":"SUMIFS('RP-UF'!$E$11:$E$109,'RP-UF'!$C$11:$C$109,'RP-UI'!B63)","v":0},{"$f":"SUMIFS('RP-UF'!$F$11:$F$109,'RP-UF'!$C$11:$C$109,'RP-UI'!B63)","v":0},{"$f":"SUMIFS('RP-UF'!$G$11:$G$109,'RP-UF'!$C$11:$C$109,'RP-UI'!B63)","v":0},{"$f":"SUMIFS('RP-UF'!$H$11:$H$109,'RP-UF'!$C$11:$C$109,'RP-UI'!B63)","v":0},{"$f":"SUMIFS('RP-UF'!$I$11:$I$109,'RP-UF'!$C$11:$C$109,'RP-UI'!B63)","v":0},{"$f":"SUMIFS('RP-UF'!$J$11:$J$109,'RP-UF'!$C$11:$C$109,'RP-UI'!B63)","v":0},{"$f":"SUMIFS('RP-UF'!$K$11:$K$109,'RP-UF'!$C$11:$C$109,'RP-UI'!B63)","v":0},{"$f":"SUMIFS('RP-UF'!$L$11:$L$109,'RP-UF'!$C$11:$C$109,'RP-UI'!B63)","v":0},{"$f":"SUMIFS('RP-UF'!$M$11:$M$109,'RP-UF'!$C$11:$C$109,'RP-UI'!B63)","v":0},{"$f":"SUMIFS('RP-UF'!$N$11:$N$109,'RP-UF'!$C$11:$C$109,'RP-UI'!B63)","v":0},0]
[54,{"$f":"UI!B64","v":"U54"},{"$f":"IF(UI!C64<>\"\",UI!C64,\"\")","v":""},{"$f":"IF(UI!D64<>\"\",UI!D64,\"\")","v":""},{"$f":"IF('TAB-UI'!E64<>\"\",'TAB-UI'!E64,\"\")","v":""},{"$f":"SUMIFS('RP-UF'!$D$11:$D$109,'RP-UF'!$C$11:$C$109,'RP-UI'!B64)","v":0},{"$f":"SUMIFS('RP-UF'!$E$11:$E$109,'RP-UF'!$C$11:$C$109,'RP-UI'!B64)","v":0},{"$f":"SUMIFS('RP-UF'!$F$11:$F$109,'RP-UF'!$C$11:$C$109,'RP-UI'!B64)","v":0},{"$f":"SUMIFS('RP-UF'!$G$11:$G$109,'RP-UF'!$C$11:$C$109,'RP-UI'!B64)","v":0},{"$f":"SUMIFS('RP-UF'!$H$11:$H$109,'RP-UF'!$C$11:$C$109,'RP-UI'!B64)","v":0},{"$f":"SUMIFS('RP-UF'!$I$11:$I$109,'RP-UF'!$C$11:$C$109,'RP-UI'!B64)","v":0},{"$f":"SUMIFS('RP-UF'!$J$11:$J$109,'RP-UF'!$C$11:$C$109,'RP-UI'!B64)","v":0},{"$f":"SUMIFS('RP-UF'!$K$11:$K$109,'RP-UF'!$C$11:$C$109,'RP-UI'!B64)","v":0},{"$f":"SUMIFS('RP-UF'!$L$11:$L$109,'RP-UF'!$C$11:$C$109,'RP-UI'!B64)","v":0},{"$f":"SUMIFS('RP-UF'!$M$11:$M$109,'RP-UF'!$C$11:$C$109,'RP-UI'!B64)","v":0},{"$f":"SUMIFS('RP-UF'!$N$11:$N$109,'RP-UF'!$C$11:$C$109,'RP-UI'!B64)","v":0},0]
[55,{"$f":"UI!B65","v":"U55"},{"$f":"IF(UI!C65<>\"\",UI!C65,\"\")","v":""},{"$f":"IF(UI!D65<>\"\",UI!D65,\"\")","v":""},{"$f":"IF('TAB-UI'!E65<>\"\",'TAB-UI'!E65,\"\")","v":""},{"$f":"SUMIFS('RP-UF'!$D$11:$D$109,'RP-UF'!$C$11:$C$109,'RP-UI'!B65)","v":0},{"$f":"SUMIFS('RP-UF'!$E$11:$E$109,'RP-UF'!$C$11:$C$109,'RP-UI'!B65)","v":0},{"$f":"SUMIFS('RP-UF'!$F$11:$F$109,'RP-UF'!$C$11:$C$109,'RP-UI'!B65)","v":0},{"$f":"SUMIFS('RP-UF'!$G$11:$G$109,'RP-UF'!$C$11:$C$109,'RP-UI'!B65)","v":0},{"$f":"SUMIFS('RP-UF'!$H$11:$H$109,'RP-UF'!$C$11:$C$109,'RP-UI'!B65)","v":0},{"$f":"SUMIFS('RP-UF'!$I$11:$I$109,'RP-UF'!$C$11:$C$109,'RP-UI'!B65)","v":0},{"$f":"SUMIFS('RP-UF'!$J$11:$J$109,'RP-UF'!$C$11:$C$109,'RP-UI'!B65)","v":0},{"$f":"SUMIFS('RP-UF'!$K$11:$K$109,'RP-UF'!$C$11:$C$109,'RP-UI'!B65)","v":0},{"$f":"SUMIFS('RP-UF'!$L$11:$L$109,'RP-UF'!$C$11:$C$109,'RP-UI'!B65)","v":0},{"$f":"SUMIFS('RP-UF'!$M$11:$M$109,'RP-UF'!$C$11:$C$109,'RP-UI'!B65)","v":0},{"$f":"SUMIFS('RP-UF'!$N$11:$N$109,'RP-UF'!$C$11:$C$109,'RP-UI'!B65)","v":0},0]
[56,{"$f":"UI!B66","v":"U56"},{"$f":"IF(UI!C66<>\"\",UI!C66,\"\")","v":""},{"$f":"IF(UI!D66<>\"\",UI!D66,\"\")","v":""},{"$f":"IF('TAB-UI'!E66<>\"\",'TAB-UI'!E66,\"\")","v":""},{"$f":"SUMIFS('RP-UF'!$D$11:$D$109,'RP-UF'!$C$11:$C$109,'RP-UI'!B66)","v":0},{"$f":"SUMIFS('RP-UF'!$E$11:$E$109,'RP-UF'!$C$11:$C$109,'RP-UI'!B66)","v":0},{"$f":"SUMIFS('RP-UF'!$F$11:$F$109,'RP-UF'!$C$11:$C$109,'RP-UI'!B66)","v":0},{"$f":"SUMIFS('RP-UF'!$G$11:$G$109,'RP-UF'!$C$11:$C$109,'RP-UI'!B66)","v":0},{"$f":"SUMIFS('RP-UF'!$H$11:$H$109,'RP-UF'!$C$11:$C$109,'RP-UI'!B66)","v":0},{"$f":"SUMIFS('RP-UF'!$I$11:$I$109,'RP-UF'!$C$11:$C$109,'RP-UI'!B66)","v":0},{"$f":"SUMIFS('RP-UF'!$J$11:$J$109,'RP-UF'!$C$11:$C$109,'RP-UI'!B66)","v":0},{"$f":"SUMIFS('RP-UF'!$K$11:$K$109,'RP-UF'!$C$11:$C$109,'RP-UI'!B66)","v":0},{"$f":"SUMIFS('RP-UF'!$L$11:$L$109,'RP-UF'!$C$11:$C$109,'RP-UI'!B66)","v":0},{"$f":"SUMIFS('RP-UF'!$M$11:$M$109,'RP-UF'!$C$11:$C$109,'RP-UI'!B66)","v":0},{"$f":"SUMIFS('RP-UF'!$N$11:$N$109,'RP-UF'!$C$11:$C$109,'RP-UI'!B66)","v":0},0]
[57,{"$f":"UI!B67","v":"U57"},{"$f":"IF(UI!C67<>\"\",UI!C67,\"\")","v":""},{"$f":"IF(UI!D67<>\"\",UI!D67,\"\")","v":""},{"$f":"IF('TAB-UI'!E67<>\"\",'TAB-UI'!E67,\"\")","v":""},{"$f":"SUMIFS('RP-UF'!$D$11:$D$109,'RP-UF'!$C$11:$C$109,'RP-UI'!B67)","v":0},{"$f":"SUMIFS('RP-UF'!$E$11:$E$109,'RP-UF'!$C$11:$C$109,'RP-UI'!B67)","v":0},{"$f":"SUMIFS('RP-UF'!$F$11:$F$109,'RP-UF'!$C$11:$C$109,'RP-UI'!B67)","v":0},{"$f":"SUMIFS('RP-UF'!$G$11:$G$109,'RP-UF'!$C$11:$C$109,'RP-UI'!B67)","v":0},{"$f":"SUMIFS('RP-UF'!$H$11:$H$109,'RP-UF'!$C$11:$C$109,'RP-UI'!B67)","v":0},{"$f":"SUMIFS('RP-UF'!$I$11:$I$109,'RP-UF'!$C$11:$C$109,'RP-UI'!B67)","v":0},{"$f":"SUMIFS('RP-UF'!$J$11:$J$109,'RP-UF'!$C$11:$C$109,'RP-UI'!B67)","v":0},{"$f":"SUMIFS('RP-UF'!$K$11:$K$109,'RP-UF'!$C$11:$C$109,'RP-UI'!B67)","v":0},{"$f":"SUMIFS('RP-UF'!$L$11:$L$109,'RP-UF'!$C$11:$C$109,'RP-UI'!B67)","v":0},{"$f":"SUMIFS('RP-UF'!$M$11:$M$109,'RP-UF'!$C$11:$C$109,'RP-UI'!B67)","v":0},{"$f":"SUMIFS('RP-UF'!$N$11:$N$109,'RP-UF'!$C$11:$C$109,'RP-UI'!B67)","v":0},0]
[58,{"$f":"UI!B68","v":"U58"},{"$f":"IF(UI!C68<>\"\",UI!C68,\"\")","v":""},{"$f":"IF(UI!D68<>\"\",UI!D68,\"\")","v":""},{"$f":"IF('TAB-UI'!E68<>\"\",'TAB-UI'!E68,\"\")","v":""},{"$f":"SUMIFS('RP-UF'!$D$11:$D$109,'RP-UF'!$C$11:$C$109,'RP-UI'!B68)","v":0},{"$f":"SUMIFS('RP-UF'!$E$11:$E$109,'RP-UF'!$C$11:$C$109,'RP-UI'!B68)","v":0},{"$f":"SUMIFS('RP-UF'!$F$11:$F$109,'RP-UF'!$C$11:$C$109,'RP-UI'!B68)","v":0},{"$f":"SUMIFS('RP-UF'!$G$11:$G$109,'RP-UF'!$C$11:$C$109,'RP-UI'!B68)","v":0},{"$f":"SUMIFS('RP-UF'!$H$11:$H$109,'RP-UF'!$C$11:$C$109,'RP-UI'!B68)","v":0},{"$f":"SUMIFS('RP-UF'!$I$11:$I$109,'RP-UF'!$C$11:$C$109,'RP-UI'!B68)","v":0},{"$f":"SUMIFS('RP-UF'!$J$11:$J$109,'RP-UF'!$C$11:$C$109,'RP-UI'!B68)","v":0},{"$f":"SUMIFS('RP-UF'!$K$11:$K$109,'RP-UF'!$C$11:$C$109,'RP-UI'!B68)","v":0},{"$f":"SUMIFS('RP-UF'!$L$11:$L$109,'RP-UF'!$C$11:$C$109,'RP-UI'!B68)","v":0},{"$f":"SUMIFS('RP-UF'!$M$11:$M$109,'RP-UF'!$C$11:$C$109,'RP-UI'!B68)","v":0},{"$f":"SUMIFS('RP-UF'!$N$11:$N$109,'RP-UF'!$C$11:$C$109,'RP-UI'!B68)","v":0},0]
[59,{"$f":"UI!B69","v":"U59"},{"$f":"IF(UI!C69<>\"\",UI!C69,\"\")","v":""},{"$f":"IF(UI!D69<>\"\",UI!D69,\"\")","v":""},{"$f":"IF('TAB-UI'!E69<>\"\",'TAB-UI'!E69,\"\")","v":""},{"$f":"SUMIFS('RP-UF'!$D$11:$D$109,'RP-UF'!$C$11:$C$109,'RP-UI'!B69)","v":0},{"$f":"SUMIFS('RP-UF'!$E$11:$E$109,'RP-UF'!$C$11:$C$109,'RP-UI'!B69)","v":0},{"$f":"SUMIFS('RP-UF'!$F$11:$F$109,'RP-UF'!$C$11:$C$109,'RP-UI'!B69)","v":0},{"$f":"SUMIFS('RP-UF'!$G$11:$G$109,'RP-UF'!$C$11:$C$109,'RP-UI'!B69)","v":0},{"$f":"SUMIFS('RP-UF'!$H$11:$H$109,'RP-UF'!$C$11:$C$109,'RP-UI'!B69)","v":0},{"$f":"SUMIFS('RP-UF'!$I$11:$I$109,'RP-UF'!$C$11:$C$109,'RP-UI'!B69)","v":0},{"$f":"SUMIFS('RP-UF'!$J$11:$J$109,'RP-UF'!$C$11:$C$109,'RP-UI'!B69)","v":0},{"$f":"SUMIFS('RP-UF'!$K$11:$K$109,'RP-UF'!$C$11:$C$109,'RP-UI'!B69)","v":0},{"$f":"SUMIFS('RP-UF'!$L$11:$L$109,'RP-UF'!$C$11:$C$109,'RP-UI'!B69)","v":0},{"$f":"SUMIFS('RP-UF'!$M$11:$M$109,'RP-UF'!$C$11:$C$109,'RP-UI'!B69)","v":0},{"$f":"SUMIFS('RP-UF'!$N$11:$N$109,'RP-UF'!$C$11:$C$109,'RP-UI'!B69)","v":0},0]
[60,{"$f":"UI!B70","v":"U60"},{"$f":"IF(UI!C70<>\"\",UI!C70,\"\")","v":""},{"$f":"IF(UI!D70<>\"\",UI!D70,\"\")","v":""},{"$f":"IF('TAB-UI'!E70<>\"\",'TAB-UI'!E70,\"\")","v":""},{"$f":"SUMIFS('RP-UF'!$D$11:$D$109,'RP-UF'!$C$11:$C$109,'RP-UI'!B70)","v":0},{"$f":"SUMIFS('RP-UF'!$E$11:$E$109,'RP-UF'!$C$11:$C$109,'RP-UI'!B70)","v":0},{"$f":"SUMIFS('RP-UF'!$F$11:$F$109,'RP-UF'!$C$11:$C$109,'RP-UI'!B70)","v":0},{"$f":"SUMIFS('RP-UF'!$G$11:$G$109,'RP-UF'!$C$11:$C$109,'RP-UI'!B70)","v":0},{"$f":"SUMIFS('RP-UF'!$H$11:$H$109,'RP-UF'!$C$11:$C$109,'RP-UI'!B70)","v":0},{"$f":"SUMIFS('RP-UF'!$I$11:$I$109,'RP-UF'!$C$11:$C$109,'RP-UI'!B70)","v":0},{"$f":"SUMIFS('RP-UF'!$J$11:$J$109,'RP-UF'!$C$11:$C$109,'RP-UI'!B70)","v":0},{"$f":"SUMIFS('RP-UF'!$K$11:$K$109,'RP-UF'!$C$11:$C$109,'RP-UI'!B70)","v":0},{"$f":"SUMIFS('RP-UF'!$L$11:$L$109,'RP-UF'!$C$11:$C$109,'RP-UI'!B70)","v":0},{"$f":"SUMIFS('RP-UF'!$M$11:$M$109,'RP-UF'!$C$11:$C$109,'RP-UI'!B70)","v":0},{"$f":"SUMIFS('RP-UF'!$N$11:$N$109,'RP-UF'!$C$11:$C$109,'RP-UI'!B70)","v":0},0]
[61,{"$f":"UI!B71","v":"U61"},{"$f":"IF(UI!C71<>\"\",UI!C71,\"\")","v":""},{"$f":"IF(UI!D71<>\"\",UI!D71,\"\")","v":""},{"$f":"IF('TAB-UI'!E71<>\"\",'TAB-UI'!E71,\"\")","v":""},{"$f":"SUMIFS('RP-UF'!$D$11:$D$109,'RP-UF'!$C$11:$C$109,'RP-UI'!B71)","v":0},{"$f":"SUMIFS('RP-UF'!$E$11:$E$109,'RP-UF'!$C$11:$C$109,'RP-UI'!B71)","v":0},{"$f":"SUMIFS('RP-UF'!$F$11:$F$109,'RP-UF'!$C$11:$C$109,'RP-UI'!B71)","v":0},{"$f":"SUMIFS('RP-UF'!$G$11:$G$109,'RP-UF'!$C$11:$C$109,'RP-UI'!B71)","v":0},{"$f":"SUMIFS('RP-UF'!$H$11:$H$109,'RP-UF'!$C$11:$C$109,'RP-UI'!B71)","v":0},{"$f":"SUMIFS('RP-UF'!$I$11:$I$109,'RP-UF'!$C$11:$C$109,'RP-UI'!B71)","v":0},{"$f":"SUMIFS('RP-UF'!$J$11:$J$109,'RP-UF'!$C$11:$C$109,'RP-UI'!B71)","v":0},{"$f":"SUMIFS('RP-UF'!$K$11:$K$109,'RP-UF'!$C$11:$C$109,'RP-UI'!B71)","v":0},{"$f":"SUMIFS('RP-UF'!$L$11:$L$109,'RP-UF'!$C$11:$C$109,'RP-UI'!B71)","v":0},{"$f":"SUMIFS('RP-UF'!$M$11:$M$109,'RP-UF'!$C$11:$C$109,'RP-UI'!B71)","v":0},{"$f":"SUMIFS('RP-UF'!$N$11:$N$109,'RP-UF'!$C$11:$C$109,'RP-UI'!B71)","v":0},0]
[62,{"$f":"UI!B72","v":"U62"},{"$f":"IF(UI!C72<>\"\",UI!C72,\"\")","v":""},{"$f":"IF(UI!D72<>\"\",UI!D72,\"\")","v":""},{"$f":"IF('TAB-UI'!E72<>\"\",'TAB-UI'!E72,\"\")","v":""},{"$f":"SUMIFS('RP-UF'!$D$11:$D$109,'RP-UF'!$C$11:$C$109,'RP-UI'!B72)","v":0},{"$f":"SUMIFS('RP-UF'!$E$11:$E$109,'RP-UF'!$C$11:$C$109,'RP-UI'!B72)","v":0},{"$f":"SUMIFS('RP-UF'!$F$11:$F$109,'RP-UF'!$C$11:$C$109,'RP-UI'!B72)","v":0},{"$f":"SUMIFS('RP-UF'!$G$11:$G$109,'RP-UF'!$C$11:$C$109,'RP-UI'!B72)","v":0},{"$f":"SUMIFS('RP-UF'!$H$11:$H$109,'RP-UF'!$C$11:$C$109,'RP-UI'!B72)","v":0},{"$f":"SUMIFS('RP-UF'!$I$11:$I$109,'RP-UF'!$C$11:$C$109,'RP-UI'!B72)","v":0},{"$f":"SUMIFS('RP-UF'!$J$11:$J$109,'RP-UF'!$C$11:$C$109,'RP-UI'!B72)","v":0},{"$f":"SUMIFS('RP-UF'!$K$11:$K$109,'RP-UF'!$C$11:$C$109,'RP-UI'!B72)","v":0},{"$f":"SUMIFS('RP-UF'!$L$11:$L$109,'RP-UF'!$C$11:$C$109,'RP-UI'!B72)","v":0},{"$f":"SUMIFS('RP-UF'!$M$11:$M$109,'RP-UF'!$C$11:$C$109,'RP-UI'!B72)","v":0},{"$f":"SUMIFS('RP-UF'!$N$11:$N$109,'RP-UF'!$C$11:$C$109,'RP-UI'!B72)","v":0},0]
[63,{"$f":"UI!B73","v":"U63"},{"$f":"IF(UI!C73<>\"\",UI!C73,\"\")","v":""},{"$f":"IF(UI!D73<>\"\",UI!D73,\"\")","v":""},{"$f":"IF('TAB-UI'!E73<>\"\",'TAB-UI'!E73,\"\")","v":""},{"$f":"SUMIFS('RP-UF'!$D$11:$D$109,'RP-UF'!$C$11:$C$109,'RP-UI'!B73)","v":0},{"$f":"SUMIFS('RP-UF'!$E$11:$E$109,'RP-UF'!$C$11:$C$109,'RP-UI'!B73)","v":0},{"$f":"SUMIFS('RP-UF'!$F$11:$F$109,'RP-UF'!$C$11:$C$109,'RP-UI'!B73)","v":0},{"$f":"SUMIFS('RP-UF'!$G$11:$G$109,'RP-UF'!$C$11:$C$109,'RP-UI'!B73)","v":0},{"$f":"SUMIFS('RP-UF'!$H$11:$H$109,'RP-UF'!$C$11:$C$109,'RP-UI'!B73)","v":0},{"$f":"SUMIFS('RP-UF'!$I$11:$I$109,'RP-UF'!$C$11:$C$109,'RP-UI'!B73)","v":0},{"$f":"SUMIFS('RP-UF'!$J$11:$J$109,'RP-UF'!$C$11:$C$109,'RP-UI'!B73)","v":0},{"$f":"SUMIFS('RP-UF'!$K$11:$K$109,'RP-UF'!$C$11:$C$109,'RP-UI'!B73)","v":0},{"$f":"SUMIFS('RP-UF'!$L$11:$L$109,'RP-UF'!$C$11:$C$109,'RP-UI'!B73)","v":0},{"$f":"SUMIFS('RP-UF'!$M$11:$M$109,'RP-UF'!$C$11:$C$109,'RP-UI'!B73)","v":0},{"$f":"SUMIFS('RP-UF'!$N$11:$N$109,'RP-UF'!$C$11:$C$109,'RP-UI'!B73)","v":0},0]
[64,{"$f":"UI!B74","v":"U64"},{"$f":"IF(UI!C74<>\"\",UI!C74,\"\")","v":""},{"$f":"IF(UI!D74<>\"\",UI!D74,\"\")","v":""},{"$f":"IF('TAB-UI'!E74<>\"\",'TAB-UI'!E74,\"\")","v":""},{"$f":"SUMIFS('RP-UF'!$D$11:$D$109,'RP-UF'!$C$11:$C$109,'RP-UI'!B74)","v":0},{"$f":"SUMIFS('RP-UF'!$E$11:$E$109,'RP-UF'!$C$11:$C$109,'RP-UI'!B74)","v":0},{"$f":"SUMIFS('RP-UF'!$F$11:$F$109,'RP-UF'!$C$11:$C$109,'RP-UI'!B74)","v":0},{"$f":"SUMIFS('RP-UF'!$G$11:$G$109,'RP-UF'!$C$11:$C$109,'RP-UI'!B74)","v":0},{"$f":"SUMIFS('RP-UF'!$H$11:$H$109,'RP-UF'!$C$11:$C$109,'RP-UI'!B74)","v":0},{"$f":"SUMIFS('RP-UF'!$I$11:$I$109,'RP-UF'!$C$11:$C$109,'RP-UI'!B74)","v":0},{"$f":"SUMIFS('RP-UF'!$J$11:$J$109,'RP-UF'!$C$11:$C$109,'RP-UI'!B74)","v":0},{"$f":"SUMIFS('RP-UF'!$K$11:$K$109,'RP-UF'!$C$11:$C$109,'RP-UI'!B74)","v":0},{"$f":"SUMIFS('RP-UF'!$L$11:$L$109,'RP-UF'!$C$11:$C$109,'RP-UI'!B74)","v":0},{"$f":"SUMIFS('RP-UF'!$M$11:$M$109,'RP-UF'!$C$11:$C$109,'RP-UI'!B74)","v":0},{"$f":"SUMIFS('RP-UF'!$N$11:$N$109,'RP-UF'!$C$11:$C$109,'RP-UI'!B74)","v":0},0]
[65,{"$f":"UI!B75","v":"U65"},{"$f":"IF(UI!C75<>\"\",UI!C75,\"\")","v":""},{"$f":"IF(UI!D75<>\"\",UI!D75,\"\")","v":""},{"$f":"IF('TAB-UI'!E75<>\"\",'TAB-UI'!E75,\"\")","v":""},{"$f":"SUMIFS('RP-UF'!$D$11:$D$109,'RP-UF'!$C$11:$C$109,'RP-UI'!B75)","v":0},{"$f":"SUMIFS('RP-UF'!$E$11:$E$109,'RP-UF'!$C$11:$C$109,'RP-UI'!B75)","v":0},{"$f":"SUMIFS('RP-UF'!$F$11:$F$109,'RP-UF'!$C$11:$C$109,'RP-UI'!B75)","v":0},{"$f":"SUMIFS('RP-UF'!$G$11:$G$109,'RP-UF'!$C$11:$C$109,'RP-UI'!B75)","v":0},{"$f":"SUMIFS('RP-UF'!$H$11:$H$109,'RP-UF'!$C$11:$C$109,'RP-UI'!B75)","v":0},{"$f":"SUMIFS('RP-UF'!$I$11:$I$109,'RP-UF'!$C$11:$C$109,'RP-UI'!B75)","v":0},{"$f":"SUMIFS('RP-UF'!$J$11:$J$109,'RP-UF'!$C$11:$C$109,'RP-UI'!B75)","v":0},{"$f":"SUMIFS('RP-UF'!$K$11:$K$109,'RP-UF'!$C$11:$C$109,'RP-UI'!B75)","v":0},{"$f":"SUMIFS('RP-UF'!$L$11:$L$109,'RP-UF'!$C$11:$C$109,'RP-UI'!B75)","v":0},{"$f":"SUMIFS('RP-UF'!$M$11:$M$109,'RP-UF'!$C$11:$C$109,'RP-UI'!B75)","v":0},{"$f":"SUMIFS('RP-UF'!$N$11:$N$109,'RP-UF'!$C$11:$C$109,'RP-UI'!B75)","v":0},0]
[66,{"$f":"UI!B76","v":"U66"},{"$f":"IF(UI!C76<>\"\",UI!C76,\"\")","v":""},{"$f":"IF(UI!D76<>\"\",UI!D76,\"\")","v":""},{"$f":"IF('TAB-UI'!E76<>\"\",'TAB-UI'!E76,\"\")","v":""},{"$f":"SUMIFS('RP-UF'!$D$11:$D$109,'RP-UF'!$C$11:$C$109,'RP-UI'!B76)","v":0},{"$f":"SUMIFS('RP-UF'!$E$11:$E$109,'RP-UF'!$C$11:$C$109,'RP-UI'!B76)","v":0},{"$f":"SUMIFS('RP-UF'!$F$11:$F$109,'RP-UF'!$C$11:$C$109,'RP-UI'!B76)","v":0},{"$f":"SUMIFS('RP-UF'!$G$11:$G$109,'RP-UF'!$C$11:$C$109,'RP-UI'!B76)","v":0},{"$f":"SUMIFS('RP-UF'!$H$11:$H$109,'RP-UF'!$C$11:$C$109,'RP-UI'!B76)","v":0},{"$f":"SUMIFS('RP-UF'!$I$11:$I$109,'RP-UF'!$C$11:$C$109,'RP-UI'!B76)","v":0},{"$f":"SUMIFS('RP-UF'!$J$11:$J$109,'RP-UF'!$C$11:$C$109,'RP-UI'!B76)","v":0},{"$f":"SUMIFS('RP-UF'!$K$11:$K$109,'RP-UF'!$C$11:$C$109,'RP-UI'!B76)","v":0},{"$f":"SUMIFS('RP-UF'!$L$11:$L$109,'RP-UF'!$C$11:$C$109,'RP-UI'!B76)","v":0},{"$f":"SUMIFS('RP-UF'!$M$11:$M$109,'RP-UF'!$C$11:$C$109,'RP-UI'!B76)","v":0},{"$f":"SUMIFS('RP-UF'!$N$11:$N$109,'RP-UF'!$C$11:$C$109,'RP-UI'!B76)","v":0},{"$f":"SUM(F76:P76)","v":0}]
[67,{"$f":"UI!B77","v":"U67"},{"$f":"IF(UI!C77<>\"\",UI!C77,\"\")","v":""},{"$f":"IF(UI!D77<>\"\",UI!D77,\"\")","v":""},{"$f":"IF('TAB-UI'!E77<>\"\",'TAB-UI'!E77,\"\")","v":""},{"$f":"SUMIFS('RP-UF'!$D$11:$D$109,'RP-UF'!$C$11:$C$109,'RP-UI'!B77)","v":0},{"$f":"SUMIFS('RP-UF'!$E$11:$E$109,'RP-UF'!$C$11:$C$109,'RP-UI'!B77)","v":0},{"$f":"SUMIFS('RP-UF'!$F$11:$F$109,'RP-UF'!$C$11:$C$109,'RP-UI'!B77)","v":0},{"$f":"SUMIFS('RP-UF'!$G$11:$G$109,'RP-UF'!$C$11:$C$109,'RP-UI'!B77)","v":0},{"$f":"SUMIFS('RP-UF'!$H$11:$H$109,'RP-UF'!$C$11:$C$109,'RP-UI'!B77)","v":0},{"$f":"SUMIFS('RP-UF'!$I$11:$I$109,'RP-UF'!$C$11:$C$109,'RP-UI'!B77)","v":0},{"$f":"SUMIFS('RP-UF'!$J$11:$J$109,'RP-UF'!$C$11:$C$109,'RP-UI'!B77)","v":0},{"$f":"SUMIFS('RP-UF'!$K$11:$K$109,'RP-UF'!$C$11:$C$109,'RP-UI'!B77)","v":0},{"$f":"SUMIFS('RP-UF'!$L$11:$L$109,'RP-UF'!$C$11:$C$109,'RP-UI'!B77)","v":0},{"$f":"SUMIFS('RP-UF'!$M$11:$M$109,'RP-UF'!$C$11:$C$109,'RP-UI'!B77)","v":0},{"$f":"SUMIFS('RP-UF'!$N$11:$N$109,'RP-UF'!$C$11:$C$109,'RP-UI'!B77)","v":0},0]
[68,{"$f":"UI!B78","v":"U68"},{"$f":"IF(UI!C78<>\"\",UI!C78,\"\")","v":""},{"$f":"IF(UI!D78<>\"\",UI!D78,\"\")","v":""},{"$f":"IF('TAB-UI'!E78<>\"\",'TAB-UI'!E78,\"\")","v":""},{"$f":"SUMIFS('RP-UF'!$D$11:$D$109,'RP-UF'!$C$11:$C$109,'RP-UI'!B78)","v":0},{"$f":"SUMIFS('RP-UF'!$E$11:$E$109,'RP-UF'!$C$11:$C$109,'RP-UI'!B78)","v":0},{"$f":"SUMIFS('RP-UF'!$F$11:$F$109,'RP-UF'!$C$11:$C$109,'RP-UI'!B78)","v":0},{"$f":"SUMIFS('RP-UF'!$G$11:$G$109,'RP-UF'!$C$11:$C$109,'RP-UI'!B78)","v":0},{"$f":"SUMIFS('RP-UF'!$H$11:$H$109,'RP-UF'!$C$11:$C$109,'RP-UI'!B78)","v":0},{"$f":"SUMIFS('RP-UF'!$I$11:$I$109,'RP-UF'!$C$11:$C$109,'RP-UI'!B78)","v":0},{"$f":"SUMIFS('RP-UF'!$J$11:$J$109,'RP-UF'!$C$11:$C$109,'RP-UI'!B78)","v":0},{"$f":"SUMIFS('RP-UF'!$K$11:$K$109,'RP-UF'!$C$11:$C$109,'RP-UI'!B78)","v":0},{"$f":"SUMIFS('RP-UF'!$L$11:$L$109,'RP-UF'!$C$11:$C$109,'RP-UI'!B78)","v":0},{"$f":"SUMIFS('RP-UF'!$M$11:$M$109,'RP-UF'!$C$11:$C$109,'RP-UI'!B78)","v":0},{"$f":"SUMIFS('RP-UF'!$N$11:$N$109,'RP-UF'!$C$11:$C$109,'RP-UI'!B78)","v":0},0]
[69,{"$f":"UI!B79","v":"U69"},{"$f":"IF(UI!C79<>\"\",UI!C79,\"\")","v":""},{"$f":"IF(UI!D79<>\"\",UI!D79,\"\")","v":""},{"$f":"IF('TAB-UI'!E79<>\"\",'TAB-UI'!E79,\"\")","v":""},{"$f":"SUMIFS('RP-UF'!$D$11:$D$109,'RP-UF'!$C$11:$C$109,'RP-UI'!B79)","v":0},{"$f":"SUMIFS('RP-UF'!$E$11:$E$109,'RP-UF'!$C$11:$C$109,'RP-UI'!B79)","v":0},{"$f":"SUMIFS('RP-UF'!$F$11:$F$109,'RP-UF'!$C$11:$C$109,'RP-UI'!B79)","v":0},{"$f":"SUMIFS('RP-UF'!$G$11:$G$109,'RP-UF'!$C$11:$C$109,'RP-UI'!B79)","v":0},{"$f":"SUMIFS('RP-UF'!$H$11:$H$109,'RP-UF'!$C$11:$C$109,'RP-UI'!B79)","v":0},{"$f":"SUMIFS('RP-UF'!$I$11:$I$109,'RP-UF'!$C$11:$C$109,'RP-UI'!B79)","v":0},{"$f":"SUMIFS('RP-UF'!$J$11:$J$109,'RP-UF'!$C$11:$C$109,'RP-UI'!B79)","v":0},{"$f":"SUMIFS('RP-UF'!$K$11:$K$109,'RP-UF'!$C$11:$C$109,'RP-UI'!B79)","v":0},{"$f":"SUMIFS('RP-UF'!$L$11:$L$109,'RP-UF'!$C$11:$C$109,'RP-UI'!B79)","v":0},{"$f":"SUMIFS('RP-UF'!$M$11:$M$109,'RP-UF'!$C$11:$C$109,'RP-UI'!B79)","v":0},{"$f":"SUMIFS('RP-UF'!$N$11:$N$109,'RP-UF'!$C$11:$C$109,'RP-UI'!B79)","v":0},0]
[70,{"$f":"UI!B80","v":"U70"},{"$f":"IF(UI!C80<>\"\",UI!C80,\"\")","v":""},{"$f":"IF(UI!D80<>\"\",UI!D80,\"\")","v":""},{"$f":"IF('TAB-UI'!E80<>\"\",'TAB-UI'!E80,\"\")","v":""},{"$f":"SUMIFS('RP-UF'!$D$11:$D$109,'RP-UF'!$C$11:$C$109,'RP-UI'!B80)","v":0},{"$f":"SUMIFS('RP-UF'!$E$11:$E$109,'RP-UF'!$C$11:$C$109,'RP-UI'!B80)","v":0},{"$f":"SUMIFS('RP-UF'!$F$11:$F$109,'RP-UF'!$C$11:$C$109,'RP-UI'!B80)","v":0},{"$f":"SUMIFS('RP-UF'!$G$11:$G$109,'RP-UF'!$C$11:$C$109,'RP-UI'!B80)","v":0},{"$f":"SUMIFS('RP-UF'!$H$11:$H$109,'RP-UF'!$C$11:$C$109,'RP-UI'!B80)","v":0},{"$f":"SUMIFS('RP-UF'!$I$11:$I$109,'RP-UF'!$C$11:$C$109,'RP-UI'!B80)","v":0},{"$f":"SUMIFS('RP-UF'!$J$11:$J$109,'RP-UF'!$C$11:$C$109,'RP-UI'!B80)","v":0},{"$f":"SUMIFS('RP-UF'!$K$11:$K$109,'RP-UF'!$C$11:$C$109,'RP-UI'!B80)","v":0},{"$f":"SUMIFS('RP-UF'!$L$11:$L$109,'RP-UF'!$C$11:$C$109,'RP-UI'!B80)","v":0},{"$f":"SUMIFS('RP-UF'!$M$11:$M$109,'RP-UF'!$C$11:$C$109,'RP-UI'!B80)","v":0},{"$f":"SUMIFS('RP-UF'!$N$11:$N$109,'RP-UF'!$C$11:$C$109,'RP-UI'!B80)","v":0},0]
[71,{"$f":"UI!B81","v":"U71"},{"$f":"IF(UI!C81<>\"\",UI!C81,\"\")","v":""},{"$f":"IF(UI!D81<>\"\",UI!D81,\"\")","v":""},{"$f":"IF('TAB-UI'!E81<>\"\",'TAB-UI'!E81,\"\")","v":""},{"$f":"SUMIFS('RP-UF'!$D$11:$D$109,'RP-UF'!$C$11:$C$109,'RP-UI'!B81)","v":0},{"$f":"SUMIFS('RP-UF'!$E$11:$E$109,'RP-UF'!$C$11:$C$109,'RP-UI'!B81)","v":0},{"$f":"SUMIFS('RP-UF'!$F$11:$F$109,'RP-UF'!$C$11:$C$109,'RP-UI'!B81)","v":0},{"$f":"SUMIFS('RP-UF'!$G$11:$G$109,'RP-UF'!$C$11:$C$109,'RP-UI'!B81)","v":0},{"$f":"SUMIFS('RP-UF'!$H$11:$H$109,'RP-UF'!$C$11:$C$109,'RP-UI'!B81)","v":0},{"$f":"SUMIFS('RP-UF'!$I$11:$I$109,'RP-UF'!$C$11:$C$109,'RP-UI'!B81)","v":0},{"$f":"SUMIFS('RP-UF'!$J$11:$J$109,'RP-UF'!$C$11:$C$109,'RP-UI'!B81)","v":0},{"$f":"SUMIFS('RP-UF'!$K$11:$K$109,'RP-UF'!$C$11:$C$109,'RP-UI'!B81)","v":0},{"$f":"SUMIFS('RP-UF'!$L$11:$L$109,'RP-UF'!$C$11:$C$109,'RP-UI'!B81)","v":0},{"$f":"SUMIFS('RP-UF'!$M$11:$M$109,'RP-UF'!$C$11:$C$109,'RP-UI'!B81)","v":0},{"$f":"SUMIFS('RP-UF'!$N$11:$N$109,'RP-UF'!$C$11:$C$109,'RP-UI'!B81)","v":0},0]
[72,{"$f":"UI!B82","v":"U72"},{"$f":"IF(UI!C82<>\"\",UI!C82,\"\")","v":""},{"$f":"IF(UI!D82<>\"\",UI!D82,\"\")","v":""},{"$f":"IF('TAB-UI'!E82<>\"\",'TAB-UI'!E82,\"\")","v":""},{"$f":"SUMIFS('RP-UF'!$D$11:$D$109,'RP-UF'!$C$11:$C$109,'RP-UI'!B82)","v":0},{"$f":"SUMIFS('RP-UF'!$E$11:$E$109,'RP-UF'!$C$11:$C$109,'RP-UI'!B82)","v":0},{"$f":"SUMIFS('RP-UF'!$F$11:$F$109,'RP-UF'!$C$11:$C$109,'RP-UI'!B82)","v":0},{"$f":"SUMIFS('RP-UF'!$G$11:$G$109,'RP-UF'!$C$11:$C$109,'RP-UI'!B82)","v":0},{"$f":"SUMIFS('RP-UF'!$H$11:$H$109,'RP-UF'!$C$11:$C$109,'RP-UI'!B82)","v":0},{"$f":"SUMIFS('RP-UF'!$I$11:$I$109,'RP-UF'!$C$11:$C$109,'RP-UI'!B82)","v":0},{"$f":"SUMIFS('RP-UF'!$J$11:$J$109,'RP-UF'!$C$11:$C$109,'RP-UI'!B82)","v":0},{"$f":"SUMIFS('RP-UF'!$K$11:$K$109,'RP-UF'!$C$11:$C$109,'RP-UI'!B82)","v":0},{"$f":"SUMIFS('RP-UF'!$L$11:$L$109,'RP-UF'!$C$11:$C$109,'RP-UI'!B82)","v":0},{"$f":"SUMIFS('RP-UF'!$M$11:$M$109,'RP-UF'!$C$11:$C$109,'RP-UI'!B82)","v":0},{"$f":"SUMIFS('RP-UF'!$N$11:$N$109,'RP-UF'!$C$11:$C$109,'RP-UI'!B82)","v":0},0]
[73,{"$f":"UI!B83","v":"U73"},{"$f":"IF(UI!C83<>\"\",UI!C83,\"\")","v":""},{"$f":"IF(UI!D83<>\"\",UI!D83,\"\")","v":""},{"$f":"IF('TAB-UI'!E83<>\"\",'TAB-UI'!E83,\"\")","v":""},{"$f":"SUMIFS('RP-UF'!$D$11:$D$109,'RP-UF'!$C$11:$C$109,'RP-UI'!B83)","v":0},{"$f":"SUMIFS('RP-UF'!$E$11:$E$109,'RP-UF'!$C$11:$C$109,'RP-UI'!B83)","v":0},{"$f":"SUMIFS('RP-UF'!$F$11:$F$109,'RP-UF'!$C$11:$C$109,'RP-UI'!B83)","v":0},{"$f":"SUMIFS('RP-UF'!$G$11:$G$109,'RP-UF'!$C$11:$C$109,'RP-UI'!B83)","v":0},{"$f":"SUMIFS('RP-UF'!$H$11:$H$109,'RP-UF'!$C$11:$C$109,'RP-UI'!B83)","v":0},{"$f":"SUMIFS('RP-UF'!$I$11:$I$109,'RP-UF'!$C$11:$C$109,'RP-UI'!B83)","v":0},{"$f":"SUMIFS('RP-UF'!$J$11:$J$109,'RP-UF'!$C$11:$C$109,'RP-UI'!B83)","v":0},{"$f":"SUMIFS('RP-UF'!$K$11:$K$109,'RP-UF'!$C$11:$C$109,'RP-UI'!B83)","v":0},{"$f":"SUMIFS('RP-UF'!$L$11:$L$109,'RP-UF'!$C$11:$C$109,'RP-UI'!B83)","v":0},{"$f":"SUMIFS('RP-UF'!$M$11:$M$109,'RP-UF'!$C$11:$C$109,'RP-UI'!B83)","v":0},{"$f":"SUMIFS('RP-UF'!$N$11:$N$109,'RP-UF'!$C$11:$C$109,'RP-UI'!B83)","v":0},0]
[74,{"$f":"UI!B84","v":"U74"},{"$f":"IF(UI!C84<>\"\",UI!C84,\"\")","v":""},{"$f":"IF(UI!D84<>\"\",UI!D84,\"\")","v":""},{"$f":"IF('TAB-UI'!E84<>\"\",'TAB-UI'!E84,\"\")","v":""},{"$f":"SUMIFS('RP-UF'!$D$11:$D$109,'RP-UF'!$C$11:$C$109,'RP-UI'!B84)","v":0},{"$f":"SUMIFS('RP-UF'!$E$11:$E$109,'RP-UF'!$C$11:$C$109,'RP-UI'!B84)","v":0},{"$f":"SUMIFS('RP-UF'!$F$11:$F$109,'RP-UF'!$C$11:$C$109,'RP-UI'!B84)","v":0},{"$f":"SUMIFS('RP-UF'!$G$11:$G$109,'RP-UF'!$C$11:$C$109,'RP-UI'!B84)","v":0},{"$f":"SUMIFS('RP-UF'!$H$11:$H$109,'RP-UF'!$C$11:$C$109,'RP-UI'!B84)","v":0},{"$f":"SUMIFS('RP-UF'!$I$11:$I$109,'RP-UF'!$C$11:$C$109,'RP-UI'!B84)","v":0},{"$f":"SUMIFS('RP-UF'!$J$11:$J$109,'RP-UF'!$C$11:$C$109,'RP-UI'!B84)","v":0},{"$f":"SUMIFS('RP-UF'!$K$11:$K$109,'RP-UF'!$C$11:$C$109,'RP-UI'!B84)","v":0},{"$f":"SUMIFS('RP-UF'!$L$11:$L$109,'RP-UF'!$C$11:$C$109,'RP-UI'!B84)","v":0},{"$f":"SUMIFS('RP-UF'!$M$11:$M$109,'RP-UF'!$C$11:$C$109,'RP-UI'!B84)","v":0},{"$f":"SUMIFS('RP-UF'!$N$11:$N$109,'RP-UF'!$C$11:$C$109,'RP-UI'!B84)","v":0},0]
[75,{"$f":"UI!B85","v":"U75"},{"$f":"IF(UI!C85<>\"\",UI!C85,\"\")","v":""},{"$f":"IF(UI!D85<>\"\",UI!D85,\"\")","v":""},{"$f":"IF('TAB-UI'!E85<>\"\",'TAB-UI'!E85,\"\")","v":""},{"$f":"SUMIFS('RP-UF'!$D$11:$D$109,'RP-UF'!$C$11:$C$109,'RP-UI'!B85)","v":0},{"$f":"SUMIFS('RP-UF'!$E$11:$E$109,'RP-UF'!$C$11:$C$109,'RP-UI'!B85)","v":0},{"$f":"SUMIFS('RP-UF'!$F$11:$F$109,'RP-UF'!$C$11:$C$109,'RP-UI'!B85)","v":0},{"$f":"SUMIFS('RP-UF'!$G$11:$G$109,'RP-UF'!$C$11:$C$109,'RP-UI'!B85)","v":0},{"$f":"SUMIFS('RP-UF'!$H$11:$H$109,'RP-UF'!$C$11:$C$109,'RP-UI'!B85)","v":0},{"$f":"SUMIFS('RP-UF'!$I$11:$I$109,'RP-UF'!$C$11:$C$109,'RP-UI'!B85)","v":0},{"$f":"SUMIFS('RP-UF'!$J$11:$J$109,'RP-UF'!$C$11:$C$109,'RP-UI'!B85)","v":0},{"$f":"SUMIFS('RP-UF'!$K$11:$K$109,'RP-UF'!$C$11:$C$109,'RP-UI'!B85)","v":0},{"$f":"SUMIFS('RP-UF'!$L$11:$L$109,'RP-UF'!$C$11:$C$109,'RP-UI'!B85)","v":0},{"$f":"SUMIFS('RP-UF'!$M$11:$M$109,'RP-UF'!$C$11:$C$109,'RP-UI'!B85)","v":0},{"$f":"SUMIFS('RP-UF'!$N$11:$N$109,'RP-UF'!$C$11:$C$109,'RP-UI'!B85)","v":0},0]
[76,{"$f":"UI!B86","v":"U76"},{"$f":"IF(UI!C86<>\"\",UI!C86,\"\")","v":""},{"$f":"IF(UI!D86<>\"\",UI!D86,\"\")","v":""},{"$f":"IF('TAB-UI'!E86<>\"\",'TAB-UI'!E86,\"\")","v":""},{"$f":"SUMIFS('RP-UF'!$D$11:$D$109,'RP-UF'!$C$11:$C$109,'RP-UI'!B86)","v":0},{"$f":"SUMIFS('RP-UF'!$E$11:$E$109,'RP-UF'!$C$11:$C$109,'RP-UI'!B86)","v":0},{"$f":"SUMIFS('RP-UF'!$F$11:$F$109,'RP-UF'!$C$11:$C$109,'RP-UI'!B86)","v":0},{"$f":"SUMIFS('RP-UF'!$G$11:$G$109,'RP-UF'!$C$11:$C$109,'RP-UI'!B86)","v":0},{"$f":"SUMIFS('RP-UF'!$H$11:$H$109,'RP-UF'!$C$11:$C$109,'RP-UI'!B86)","v":0},{"$f":"SUMIFS('RP-UF'!$I$11:$I$109,'RP-UF'!$C$11:$C$109,'RP-UI'!B86)","v":0},{"$f":"SUMIFS('RP-UF'!$J$11:$J$109,'RP-UF'!$C$11:$C$109,'RP-UI'!B86)","v":0},{"$f":"SUMIFS('RP-UF'!$K$11:$K$109,'RP-UF'!$C$11:$C$109,'RP-UI'!B86)","v":0},{"$f":"SUMIFS('RP-UF'!$L$11:$L$109,'RP-UF'!$C$11:$C$109,'RP-UI'!B86)","v":0},{"$f":"SUMIFS('RP-UF'!$M$11:$M$109,'RP-UF'!$C$11:$C$109,'RP-UI'!B86)","v":0},{"$f":"SUMIFS('RP-UF'!$N$11:$N$109,'RP-UF'!$C$11:$C$109,'RP-UI'!B86)","v":0},0]
[77,{"$f":"UI!B87","v":"U77"},{"$f":"IF(UI!C87<>\"\",UI!C87,\"\")","v":""},{"$f":"IF(UI!D87<>\"\",UI!D87,\"\")","v":""},{"$f":"IF('TAB-UI'!E87<>\"\",'TAB-UI'!E87,\"\")","v":""},{"$f":"SUMIFS('RP-UF'!$D$11:$D$109,'RP-UF'!$C$11:$C$109,'RP-UI'!B87)","v":0},{"$f":"SUMIFS('RP-UF'!$E$11:$E$109,'RP-UF'!$C$11:$C$109,'RP-UI'!B87)","v":0},{"$f":"SUMIFS('RP-UF'!$F$11:$F$109,'RP-UF'!$C$11:$C$109,'RP-UI'!B87)","v":0},{"$f":"SUMIFS('RP-UF'!$G$11:$G$109,'RP-UF'!$C$11:$C$109,'RP-UI'!B87)","v":0},{"$f":"SUMIFS('RP-UF'!$H$11:$H$109,'RP-UF'!$C$11:$C$109,'RP-UI'!B87)","v":0},{"$f":"SUMIFS('RP-UF'!$I$11:$I$109,'RP-UF'!$C$11:$C$109,'RP-UI'!B87)","v":0},{"$f":"SUMIFS('RP-UF'!$J$11:$J$109,'RP-UF'!$C$11:$C$109,'RP-UI'!B87)","v":0},{"$f":"SUMIFS('RP-UF'!$K$11:$K$109,'RP-UF'!$C$11:$C$109,'RP-UI'!B87)","v":0},{"$f":"SUMIFS('RP-UF'!$L$11:$L$109,'RP-UF'!$C$11:$C$109,'RP-UI'!B87)","v":0},{"$f":"SUMIFS('RP-UF'!$M$11:$M$109,'RP-UF'!$C$11:$C$109,'RP-UI'!B87)","v":0},{"$f":"SUMIFS('RP-UF'!$N$11:$N$109,'RP-UF'!$C$11:$C$109,'RP-UI'!B87)","v":0},0]
[78,{"$f":"UI!B88","v":"U78"},{"$f":"IF(UI!C88<>\"\",UI!C88,\"\")","v":""},{"$f":"IF(UI!D88<>\"\",UI!D88,\"\")","v":""},{"$f":"IF('TAB-UI'!E88<>\"\",'TAB-UI'!E88,\"\")","v":""},{"$f":"SUMIFS('RP-UF'!$D$11:$D$109,'RP-UF'!$C$11:$C$109,'RP-UI'!B88)","v":0},{"$f":"SUMIFS('RP-UF'!$E$11:$E$109,'RP-UF'!$C$11:$C$109,'RP-UI'!B88)","v":0},{"$f":"SUMIFS('RP-UF'!$F$11:$F$109,'RP-UF'!$C$11:$C$109,'RP-UI'!B88)","v":0},{"$f":"SUMIFS('RP-UF'!$G$11:$G$109,'RP-UF'!$C$11:$C$109,'RP-UI'!B88)","v":0},{"$f":"SUMIFS('RP-UF'!$H$11:$H$109,'RP-UF'!$C$11:$C$109,'RP-UI'!B88)","v":0},{"$f":"SUMIFS('RP-UF'!$I$11:$I$109,'RP-UF'!$C$11:$C$109,'RP-UI'!B88)","v":0},{"$f":"SUMIFS('RP-UF'!$J$11:$J$109,'RP-UF'!$C$11:$C$109,'RP-UI'!B88)","v":0},{"$f":"SUMIFS('RP-UF'!$K$11:$K$109,'RP-UF'!$C$11:$C$109,'RP-UI'!B88)","v":0},{"$f":"SUMIFS('RP-UF'!$L$11:$L$109,'RP-UF'!$C$11:$C$109,'RP-UI'!B88)","v":0},{"$f":"SUMIFS('RP-UF'!$M$11:$M$109,'RP-UF'!$C$11:$C$109,'RP-UI'!B88)","v":0},{"$f":"SUMIFS('RP-UF'!$N$11:$N$109,'RP-UF'!$C$11:$C$109,'RP-UI'!B88)","v":0},0]
[79,{"$f":"UI!B89","v":"U79"},{"$f":"IF(UI!C89<>\"\",UI!C89,\"\")","v":""},{"$f":"IF(UI!D89<>\"\",UI!D89,\"\")","v":""},{"$f":"IF('TAB-UI'!E89<>\"\",'TAB-UI'!E89,\"\")","v":""},{"$f":"SUMIFS('RP-UF'!$D$11:$D$109,'RP-UF'!$C$11:$C$109,'RP-UI'!B89)","v":0},{"$f":"SUMIFS('RP-UF'!$E$11:$E$109,'RP-UF'!$C$11:$C$109,'RP-UI'!B89)","v":0},{"$f":"SUMIFS('RP-UF'!$F$11:$F$109,'RP-UF'!$C$11:$C$109,'RP-UI'!B89)","v":0},{"$f":"SUMIFS('RP-UF'!$G$11:$G$109,'RP-UF'!$C$11:$C$109,'RP-UI'!B89)","v":0},{"$f":"SUMIFS('RP-UF'!$H$11:$H$109,'RP-UF'!$C$11:$C$109,'RP-UI'!B89)","v":0},{"$f":"SUMIFS('RP-UF'!$I$11:$I$109,'RP-UF'!$C$11:$C$109,'RP-UI'!B89)","v":0},{"$f":"SUMIFS('RP-UF'!$J$11:$J$109,'RP-UF'!$C$11:$C$109,'RP-UI'!B89)","v":0},{"$f":"SUMIFS('RP-UF'!$K$11:$K$109,'RP-UF'!$C$11:$C$109,'RP-UI'!B89)","v":0},{"$f":"SUMIFS('RP-UF'!$L$11:$L$109,'RP-UF'!$C$11:$C$109,'RP-UI'!B89)","v":0},{"$f":"SUMIFS('RP-UF'!$M$11:$M$109,'RP-UF'!$C$11:$C$109,'RP-UI'!B89)","v":0},{"$f":"SUMIFS('RP-UF'!$N$11:$N$109,'RP-UF'!$C$11:$C$109,'RP-UI'!B89)","v":0},0]
[80,{"$f":"UI!B90","v":"U80"},{"$f":"IF(UI!C90<>\"\",UI!C90,\"\")","v":""},{"$f":"IF(UI!D90<>\"\",UI!D90,\"\")","v":""},{"$f":"IF('TAB-UI'!E90<>\"\",'TAB-UI'!E90,\"\")","v":""},{"$f":"SUMIFS('RP-UF'!$D$11:$D$109,'RP-UF'!$C$11:$C$109,'RP-UI'!B90)","v":0},{"$f":"SUMIFS('RP-UF'!$E$11:$E$109,'RP-UF'!$C$11:$C$109,'RP-UI'!B90)","v":0},{"$f":"SUMIFS('RP-UF'!$F$11:$F$109,'RP-UF'!$C$11:$C$109,'RP-UI'!B90)","v":0},{"$f":"SUMIFS('RP-UF'!$G$11:$G$109,'RP-UF'!$C$11:$C$109,'RP-UI'!B90)","v":0},{"$f":"SUMIFS('RP-UF'!$H$11:$H$109,'RP-UF'!$C$11:$C$109,'RP-UI'!B90)","v":0},{"$f":"SUMIFS('RP-UF'!$I$11:$I$109,'RP-UF'!$C$11:$C$109,'RP-UI'!B90)","v":0},{"$f":"SUMIFS('RP-UF'!$J$11:$J$109,'RP-UF'!$C$11:$C$109,'RP-UI'!B90)","v":0},{"$f":"SUMIFS('RP-UF'!$K$11:$K$109,'RP-UF'!$C$11:$C$109,'RP-UI'!B90)","v":0},{"$f":"SUMIFS('RP-UF'!$L$11:$L$109,'RP-UF'!$C$11:$C$109,'RP-UI'!B90)","v":0},{"$f":"SUMIFS('RP-UF'!$M$11:$M$109,'RP-UF'!$C$11:$C$109,'RP-UI'!B90)","v":0},{"$f":"SUMIFS('RP-UF'!$N$11:$N$109,'RP-UF'!$C$11:$C$109,'RP-UI'!B90)","v":0},0]
[81,{"$f":"UI!B91","v":"U81"},{"$f":"IF(UI!C91<>\"\",UI!C91,\"\")","v":""},{"$f":"IF(UI!D91<>\"\",UI!D91,\"\")","v":""},{"$f":"IF('TAB-UI'!E91<>\"\",'TAB-UI'!E91,\"\")","v":""},{"$f":"SUMIFS('RP-UF'!$D$11:$D$109,'RP-UF'!$C$11:$C$109,'RP-UI'!B91)","v":0},{"$f":"SUMIFS('RP-UF'!$E$11:$E$109,'RP-UF'!$C$11:$C$109,'RP-UI'!B91)","v":0},{"$f":"SUMIFS('RP-UF'!$F$11:$F$109,'RP-UF'!$C$11:$C$109,'RP-UI'!B91)","v":0},{"$f":"SUMIFS('RP-UF'!$G$11:$G$109,'RP-UF'!$C$11:$C$109,'RP-UI'!B91)","v":0},{"$f":"SUMIFS('RP-UF'!$H$11:$H$109,'RP-UF'!$C$11:$C$109,'RP-UI'!B91)","v":0},{"$f":"SUMIFS('RP-UF'!$I$11:$I$109,'RP-UF'!$C$11:$C$109,'RP-UI'!B91)","v":0},{"$f":"SUMIFS('RP-UF'!$J$11:$J$109,'RP-UF'!$C$11:$C$109,'RP-UI'!B91)","v":0},{"$f":"SUMIFS('RP-UF'!$K$11:$K$109,'RP-UF'!$C$11:$C$109,'RP-UI'!B91)","v":0},{"$f":"SUMIFS('RP-UF'!$L$11:$L$109,'RP-UF'!$C$11:$C$109,'RP-UI'!B91)","v":0},{"$f":"SUMIFS('RP-UF'!$M$11:$M$109,'RP-UF'!$C$11:$C$109,'RP-UI'!B91)","v":0},{"$f":"SUMIFS('RP-UF'!$N$11:$N$109,'RP-UF'!$C$11:$C$109,'RP-UI'!B91)","v":0},0]
[82,{"$f":"UI!B92","v":"U82"},{"$f":"IF(UI!C92<>\"\",UI!C92,\"\")","v":""},{"$f":"IF(UI!D92<>\"\",UI!D92,\"\")","v":""},{"$f":"IF('TAB-UI'!E92<>\"\",'TAB-UI'!E92,\"\")","v":""},{"$f":"SUMIFS('RP-UF'!$D$11:$D$109,'RP-UF'!$C$11:$C$109,'RP-UI'!B92)","v":0},{"$f":"SUMIFS('RP-UF'!$E$11:$E$109,'RP-UF'!$C$11:$C$109,'RP-UI'!B92)","v":0},{"$f":"SUMIFS('RP-UF'!$F$11:$F$109,'RP-UF'!$C$11:$C$109,'RP-UI'!B92)","v":0},{"$f":"SUMIFS('RP-UF'!$G$11:$G$109,'RP-UF'!$C$11:$C$109,'RP-UI'!B92)","v":0},{"$f":"SUMIFS('RP-UF'!$H$11:$H$109,'RP-UF'!$C$11:$C$109,'RP-UI'!B92)","v":0},{"$f":"SUMIFS('RP-UF'!$I$11:$I$109,'RP-UF'!$C$11:$C$109,'RP-UI'!B92)","v":0},{"$f":"SUMIFS('RP-UF'!$J$11:$J$109,'RP-UF'!$C$11:$C$109,'RP-UI'!B92)","v":0},{"$f":"SUMIFS('RP-UF'!$K$11:$K$109,'RP-UF'!$C$11:$C$109,'RP-UI'!B92)","v":0},{"$f":"SUMIFS('RP-UF'!$L$11:$L$109,'RP-UF'!$C$11:$C$109,'RP-UI'!B92)","v":0},{"$f":"SUMIFS('RP-UF'!$M$11:$M$109,'RP-UF'!$C$11:$C$109,'RP-UI'!B92)","v":0},{"$f":"SUMIFS('RP-UF'!$N$11:$N$109,'RP-UF'!$C$11:$C$109,'RP-UI'!B92)","v":0},0]
[83,{"$f":"UI!B93","v":"U83"},{"$f":"IF(UI!C93<>\"\",UI!C93,\"\")","v":""},{"$f":"IF(UI!D93<>\"\",UI!D93,\"\")","v":""},{"$f":"IF('TAB-UI'!E93<>\"\",'TAB-UI'!E93,\"\")","v":""},{"$f":"SUMIFS('RP-UF'!$D$11:$D$109,'RP-UF'!$C$11:$C$109,'RP-UI'!B93)","v":0},{"$f":"SUMIFS('RP-UF'!$E$11:$E$109,'RP-UF'!$C$11:$C$109,'RP-UI'!B93)","v":0},{"$f":"SUMIFS('RP-UF'!$F$11:$F$109,'RP-UF'!$C$11:$C$109,'RP-UI'!B93)","v":0},{"$f":"SUMIFS('RP-UF'!$G$11:$G$109,'RP-UF'!$C$11:$C$109,'RP-UI'!B93)","v":0},{"$f":"SUMIFS('RP-UF'!$H$11:$H$109,'RP-UF'!$C$11:$C$109,'RP-UI'!B93)","v":0},{"$f":"SUMIFS('RP-UF'!$I$11:$I$109,'RP-UF'!$C$11:$C$109,'RP-UI'!B93)","v":0},{"$f":"SUMIFS('RP-UF'!$J$11:$J$109,'RP-UF'!$C$11:$C$109,'RP-UI'!B93)","v":0},{"$f":"SUMIFS('RP-UF'!$K$11:$K$109,'RP-UF'!$C$11:$C$109,'RP-UI'!B93)","v":0},{"$f":"SUMIFS('RP-UF'!$L$11:$L$109,'RP-UF'!$C$11:$C$109,'RP-UI'!B93)","v":0},{"$f":"SUMIFS('RP-UF'!$M$11:$M$109,'RP-UF'!$C$11:$C$109,'RP-UI'!B93)","v":0},{"$f":"SUMIFS('RP-UF'!$N$11:$N$109,'RP-UF'!$C$11:$C$109,'RP-UI'!B93)","v":0},0]
[84,{"$f":"UI!B94","v":"U84"},{"$f":"IF(UI!C94<>\"\",UI!C94,\"\")","v":""},{"$f":"IF(UI!D94<>\"\",UI!D94,\"\")","v":""},{"$f":"IF('TAB-UI'!E94<>\"\",'TAB-UI'!E94,\"\")","v":""},{"$f":"SUMIFS('RP-UF'!$D$11:$D$109,'RP-UF'!$C$11:$C$109,'RP-UI'!B94)","v":0},{"$f":"SUMIFS('RP-UF'!$E$11:$E$109,'RP-UF'!$C$11:$C$109,'RP-UI'!B94)","v":0},{"$f":"SUMIFS('RP-UF'!$F$11:$F$109,'RP-UF'!$C$11:$C$109,'RP-UI'!B94)","v":0},{"$f":"SUMIFS('RP-UF'!$G$11:$G$109,'RP-UF'!$C$11:$C$109,'RP-UI'!B94)","v":0},{"$f":"SUMIFS('RP-UF'!$H$11:$H$109,'RP-UF'!$C$11:$C$109,'RP-UI'!B94)","v":0},{"$f":"SUMIFS('RP-UF'!$I$11:$I$109,'RP-UF'!$C$11:$C$109,'RP-UI'!B94)","v":0},{"$f":"SUMIFS('RP-UF'!$J$11:$J$109,'RP-UF'!$C$11:$C$109,'RP-UI'!B94)","v":0},{"$f":"SUMIFS('RP-UF'!$K$11:$K$109,'RP-UF'!$C$11:$C$109,'RP-UI'!B94)","v":0},{"$f":"SUMIFS('RP-UF'!$L$11:$L$109,'RP-UF'!$C$11:$C$109,'RP-UI'!B94)","v":0},{"$f":"SUMIFS('RP-UF'!$M$11:$M$109,'RP-UF'!$C$11:$C$109,'RP-UI'!B94)","v":0},{"$f":"SUMIFS('RP-UF'!$N$11:$N$109,'RP-UF'!$C$11:$C$109,'RP-UI'!B94)","v":0},0]
[85,{"$f":"UI!B95","v":"U85"},{"$f":"IF(UI!C95<>\"\",UI!C95,\"\")","v":""},{"$f":"IF(UI!D95<>\"\",UI!D95,\"\")","v":""},{"$f":"IF('TAB-UI'!E95<>\"\",'TAB-UI'!E95,\"\")","v":""},{"$f":"SUMIFS('RP-UF'!$D$11:$D$109,'RP-UF'!$C$11:$C$109,'RP-UI'!B95)","v":0},{"$f":"SUMIFS('RP-UF'!$E$11:$E$109,'RP-UF'!$C$11:$C$109,'RP-UI'!B95)","v":0},{"$f":"SUMIFS('RP-UF'!$F$11:$F$109,'RP-UF'!$C$11:$C$109,'RP-UI'!B95)","v":0},{"$f":"SUMIFS('RP-UF'!$G$11:$G$109,'RP-UF'!$C$11:$C$109,'RP-UI'!B95)","v":0},{"$f":"SUMIFS('RP-UF'!$H$11:$H$109,'RP-UF'!$C$11:$C$109,'RP-UI'!B95)","v":0},{"$f":"SUMIFS('RP-UF'!$I$11:$I$109,'RP-UF'!$C$11:$C$109,'RP-UI'!B95)","v":0},{"$f":"SUMIFS('RP-UF'!$J$11:$J$109,'RP-UF'!$C$11:$C$109,'RP-UI'!B95)","v":0},{"$f":"SUMIFS('RP-UF'!$K$11:$K$109,'RP-UF'!$C$11:$C$109,'RP-UI'!B95)","v":0},{"$f":"SUMIFS('RP-UF'!$L$11:$L$109,'RP-UF'!$C$11:$C$109,'RP-UI'!B95)","v":0},{"$f":"SUMIFS('RP-UF'!$M$11:$M$109,'RP-UF'!$C$11:$C$109,'RP-UI'!B95)","v":0},{"$f":"SUMIFS('RP-UF'!$N$11:$N$109,'RP-UF'!$C$11:$C$109,'RP-UI'!B95)","v":0},0]
[86,{"$f":"UI!B96","v":"U86"},{"$f":"IF(UI!C96<>\"\",UI!C96,\"\")","v":""},{"$f":"IF(UI!D96<>\"\",UI!D96,\"\")","v":""},{"$f":"IF('TAB-UI'!E96<>\"\",'TAB-UI'!E96,\"\")","v":""},{"$f":"SUMIFS('RP-UF'!$D$11:$D$109,'RP-UF'!$C$11:$C$109,'RP-UI'!B96)","v":0},{"$f":"SUMIFS('RP-UF'!$E$11:$E$109,'RP-UF'!$C$11:$C$109,'RP-UI'!B96)","v":0},{"$f":"SUMIFS('RP-UF'!$F$11:$F$109,'RP-UF'!$C$11:$C$109,'RP-UI'!B96)","v":0},{"$f":"SUMIFS('RP-UF'!$G$11:$G$109,'RP-UF'!$C$11:$C$109,'RP-UI'!B96)","v":0},{"$f":"SUMIFS('RP-UF'!$H$11:$H$109,'RP-UF'!$C$11:$C$109,'RP-UI'!B96)","v":0},{"$f":"SUMIFS('RP-UF'!$I$11:$I$109,'RP-UF'!$C$11:$C$109,'RP-UI'!B96)","v":0},{"$f":"SUMIFS('RP-UF'!$J$11:$J$109,'RP-UF'!$C$11:$C$109,'RP-UI'!B96)","v":0},{"$f":"SUMIFS('RP-UF'!$K$11:$K$109,'RP-UF'!$C$11:$C$109,'RP-UI'!B96)","v":0},{"$f":"SUMIFS('RP-UF'!$L$11:$L$109,'RP-UF'!$C$11:$C$109,'RP-UI'!B96)","v":0},{"$f":"SUMIFS('RP-UF'!$M$11:$M$109,'RP-UF'!$C$11:$C$109,'RP-UI'!B96)","v":0},{"$f":"SUMIFS('RP-UF'!$N$11:$N$109,'RP-UF'!$C$11:$C$109,'RP-UI'!B96)","v":0},0]
[87,{"$f":"UI!B97","v":"U87"},{"$f":"IF(UI!C97<>\"\",UI!C97,\"\")","v":""},{"$f":"IF(UI!D97<>\"\",UI!D97,\"\")","v":""},{"$f":"IF('TAB-UI'!E97<>\"\",'TAB-UI'!E97,\"\")","v":""},{"$f":"SUMIFS('RP-UF'!$D$11:$D$109,'RP-UF'!$C$11:$C$109,'RP-UI'!B97)","v":0},{"$f":"SUMIFS('RP-UF'!$E$11:$E$109,'RP-UF'!$C$11:$C$109,'RP-UI'!B97)","v":0},{"$f":"SUMIFS('RP-UF'!$F$11:$F$109,'RP-UF'!$C$11:$C$109,'RP-UI'!B97)","v":0},{"$f":"SUMIFS('RP-UF'!$G$11:$G$109,'RP-UF'!$C$11:$C$109,'RP-UI'!B97)","v":0},{"$f":"SUMIFS('RP-UF'!$H$11:$H$109,'RP-UF'!$C$11:$C$109,'RP-UI'!B97)","v":0},{"$f":"SUMIFS('RP-UF'!$I$11:$I$109,'RP-UF'!$C$11:$C$109,'RP-UI'!B97)","v":0},{"$f":"SUMIFS('RP-UF'!$J$11:$J$109,'RP-UF'!$C$11:$C$109,'RP-UI'!B97)","v":0},{"$f":"SUMIFS('RP-UF'!$K$11:$K$109,'RP-UF'!$C$11:$C$109,'RP-UI'!B97)","v":0},{"$f":"SUMIFS('RP-UF'!$L$11:$L$109,'RP-UF'!$C$11:$C$109,'RP-UI'!B97)","v":0},{"$f":"SUMIFS('RP-UF'!$M$11:$M$109,'RP-UF'!$C$11:$C$109,'RP-UI'!B97)","v":0},{"$f":"SUMIFS('RP-UF'!$N$11:$N$109,'RP-UF'!$C$11:$C$109,'RP-UI'!B97)","v":0},0]
[88,{"$f":"UI!B98","v":"U88"},{"$f":"IF(UI!C98<>\"\",UI!C98,\"\")","v":""},{"$f":"IF(UI!D98<>\"\",UI!D98,\"\")","v":""},{"$f":"IF('TAB-UI'!E98<>\"\",'TAB-UI'!E98,\"\")","v":""},{"$f":"SUMIFS('RP-UF'!$D$11:$D$109,'RP-UF'!$C$11:$C$109,'RP-UI'!B98)","v":0},{"$f":"SUMIFS('RP-UF'!$E$11:$E$109,'RP-UF'!$C$11:$C$109,'RP-UI'!B98)","v":0},{"$f":"SUMIFS('RP-UF'!$F$11:$F$109,'RP-UF'!$C$11:$C$109,'RP-UI'!B98)","v":0},{"$f":"SUMIFS('RP-UF'!$G$11:$G$109,'RP-UF'!$C$11:$C$109,'RP-UI'!B98)","v":0},{"$f":"SUMIFS('RP-UF'!$H$11:$H$109,'RP-UF'!$C$11:$C$109,'RP-UI'!B98)","v":0},{"$f":"SUMIFS('RP-UF'!$I$11:$I$109,'RP-UF'!$C$11:$C$109,'RP-UI'!B98)","v":0},{"$f":"SUMIFS('RP-UF'!$J$11:$J$109,'RP-UF'!$C$11:$C$109,'RP-UI'!B98)","v":0},{"$f":"SUMIFS('RP-UF'!$K$11:$K$109,'RP-UF'!$C$11:$C$109,'RP-UI'!B98)","v":0},{"$f":"SUMIFS('RP-UF'!$L$11:$L$109,'RP-UF'!$C$11:$C$109,'RP-UI'!B98)","v":0},{"$f":"SUMIFS('RP-UF'!$M$11:$M$109,'RP-UF'!$C$11:$C$109,'RP-UI'!B98)","v":0},{"$f":"SUMIFS('RP-UF'!$N$11:$N$109,'RP-UF'!$C$11:$C$109,'RP-UI'!B98)","v":0},0]
[89,{"$f":"UI!B99","v":"U89"},{"$f":"IF(UI!C99<>\"\",UI!C99,\"\")","v":""},{"$f":"IF(UI!D99<>\"\",UI!D99,\"\")","v":""},{"$f":"IF('TAB-UI'!E99<>\"\",'TAB-UI'!E99,\"\")","v":""},{"$f":"SUMIFS('RP-UF'!$D$11:$D$109,'RP-UF'!$C$11:$C$109,'RP-UI'!B99)","v":0},{"$f":"SUMIFS('RP-UF'!$E$11:$E$109,'RP-UF'!$C$11:$C$109,'RP-UI'!B99)","v":0},{"$f":"SUMIFS('RP-UF'!$F$11:$F$109,'RP-UF'!$C$11:$C$109,'RP-UI'!B99)","v":0},{"$f":"SUMIFS('RP-UF'!$G$11:$G$109,'RP-UF'!$C$11:$C$109,'RP-UI'!B99)","v":0},{"$f":"SUMIFS('RP-UF'!$H$11:$H$109,'RP-UF'!$C$11:$C$109,'RP-UI'!B99)","v":0},{"$f":"SUMIFS('RP-UF'!$I$11:$I$109,'RP-UF'!$C$11:$C$109,'RP-UI'!B99)","v":0},{"$f":"SUMIFS('RP-UF'!$J$11:$J$109,'RP-UF'!$C$11:$C$109,'RP-UI'!B99)","v":0},{"$f":"SUMIFS('RP-UF'!$K$11:$K$109,'RP-UF'!$C$11:$C$109,'RP-UI'!B99)","v":0},{"$f":"SUMIFS('RP-UF'!$L$11:$L$109,'RP-UF'!$C$11:$C$109,'RP-UI'!B99)","v":0},{"$f":"SUMIFS('RP-UF'!$M$11:$M$109,'RP-UF'!$C$11:$C$109,'RP-UI'!B99)","v":0},{"$f":"SUMIFS('RP-UF'!$N$11:$N$109,'RP-UF'!$C$11:$C$109,'RP-UI'!B99)","v":0},0]
[90,{"$f":"UI!B100","v":"U90"},{"$f":"IF(UI!C100<>\"\",UI!C100,\"\")","v":""},{"$f":"IF(UI!D100<>\"\",UI!D100,\"\")","v":""},{"$f":"IF('TAB-UI'!E100<>\"\",'TAB-UI'!E100,\"\")","v":""},{"$f":"SUMIFS('RP-UF'!$D$11:$D$109,'RP-UF'!$C$11:$C$109,'RP-UI'!B100)","v":0},{"$f":"SUMIFS('RP-UF'!$E$11:$E$109,'RP-UF'!$C$11:$C$109,'RP-UI'!B100)","v":0},{"$f":"SUMIFS('RP-UF'!$F$11:$F$109,'RP-UF'!$C$11:$C$109,'RP-UI'!B100)","v":0},{"$f":"SUMIFS('RP-UF'!$G$11:$G$109,'RP-UF'!$C$11:$C$109,'RP-UI'!B100)","v":0},{"$f":"SUMIFS('RP-UF'!$H$11:$H$109,'RP-UF'!$C$11:$C$109,'RP-UI'!B100)","v":0},{"$f":"SUMIFS('RP-UF'!$I$11:$I$109,'RP-UF'!$C$11:$C$109,'RP-UI'!B100)","v":0},{"$f":"SUMIFS('RP-UF'!$J$11:$J$109,'RP-UF'!$C$11:$C$109,'RP-UI'!B100)","v":0},{"$f":"SUMIFS('RP-UF'!$K$11:$K$109,'RP-UF'!$C$11:$C$109,'RP-UI'!B100)","v":0},{"$f":"SUMIFS('RP-UF'!$L$11:$L$109,'RP-UF'!$C$11:$C$109,'RP-UI'!B100)","v":0},{"$f":"SUMIFS('RP-UF'!$M$11:$M$109,'RP-UF'!$C$11:$C$109,'RP-UI'!B100)","v":0},{"$f":"SUMIFS('RP-UF'!$N$11:$N$109,'RP-UF'!$C$11:$C$109,'RP-UI'!B100)","v":0},0]
[91,{"$f":"UI!B101","v":"U91"},{"$f":"IF(UI!C101<>\"\",UI!C101,\"\")","v":""},{"$f":"IF(UI!D101<>\"\",UI!D101,\"\")","v":""},{"$f":"IF('TAB-UI'!E101<>\"\",'TAB-UI'!E101,\"\")","v":""},{"$f":"SUMIFS('RP-UF'!$D$11:$D$109,'RP-UF'!$C$11:$C$109,'RP-UI'!B101)","v":0},{"$f":"SUMIFS('RP-UF'!$E$11:$E$109,'RP-UF'!$C$11:$C$109,'RP-UI'!B101)","v":0},{"$f":"SUMIFS('RP-UF'!$F$11:$F$109,'RP-UF'!$C$11:$C$109,'RP-UI'!B101)","v":0},{"$f":"SUMIFS('RP-UF'!$G$11:$G$109,'RP-UF'!$C$11:$C$109,'RP-UI'!B101)","v":0},{"$f":"SUMIFS('RP-UF'!$H$11:$H$109,'RP-UF'!$C$11:$C$109,'RP-UI'!B101)","v":0},{"$f":"SUMIFS('RP-UF'!$I$11:$I$109,'RP-UF'!$C$11:$C$109,'RP-UI'!B101)","v":0},{"$f":"SUMIFS('RP-UF'!$J$11:$J$109,'RP-UF'!$C$11:$C$109,'RP-UI'!B101)","v":0},{"$f":"SUMIFS('RP-UF'!$K$11:$K$109,'RP-UF'!$C$11:$C$109,'RP-UI'!B101)","v":0},{"$f":"SUMIFS('RP-UF'!$L$11:$L$109,'RP-UF'!$C$11:$C$109,'RP-UI'!B101)","v":0},{"$f":"SUMIFS('RP-UF'!$M$11:$M$109,'RP-UF'!$C$11:$C$109,'RP-UI'!B101)","v":0},{"$f":"SUMIFS('RP-UF'!$N$11:$N$109,'RP-UF'!$C$11:$C$109,'RP-UI'!B101)","v":0},0]
[92,{"$f":"UI!B102","v":"U92"},{"$f":"IF(UI!C102<>\"\",UI!C102,\"\")","v":""},{"$f":"IF(UI!D102<>\"\",UI!D102,\"\")","v":""},{"$f":"IF('TAB-UI'!E102<>\"\",'TAB-UI'!E102,\"\")","v":""},{"$f":"SUMIFS('RP-UF'!$D$11:$D$109,'RP-UF'!$C$11:$C$109,'RP-UI'!B102)","v":0},{"$f":"SUMIFS('RP-UF'!$E$11:$E$109,'RP-UF'!$C$11:$C$109,'RP-UI'!B102)","v":0},{"$f":"SUMIFS('RP-UF'!$F$11:$F$109,'RP-UF'!$C$11:$C$109,'RP-UI'!B102)","v":0},{"$f":"SUMIFS('RP-UF'!$G$11:$G$109,'RP-UF'!$C$11:$C$109,'RP-UI'!B102)","v":0},{"$f":"SUMIFS('RP-UF'!$H$11:$H$109,'RP-UF'!$C$11:$C$109,'RP-UI'!B102)","v":0},{"$f":"SUMIFS('RP-UF'!$I$11:$I$109,'RP-UF'!$C$11:$C$109,'RP-UI'!B102)","v":0},{"$f":"SUMIFS('RP-UF'!$J$11:$J$109,'RP-UF'!$C$11:$C$109,'RP-UI'!B102)","v":0},{"$f":"SUMIFS('RP-UF'!$K$11:$K$109,'RP-UF'!$C$11:$C$109,'RP-UI'!B102)","v":0},{"$f":"SUMIFS('RP-UF'!$L$11:$L$109,'RP-UF'!$C$11:$C$109,'RP-UI'!B102)","v":0},{"$f":"SUMIFS('RP-UF'!$M$11:$M$109,'RP-UF'!$C$11:$C$109,'RP-UI'!B102)","v":0},{"$f":"SUMIFS('RP-UF'!$N$11:$N$109,'RP-UF'!$C$11:$C$109,'RP-UI'!B102)","v":0},0]
[93,{"$f":"UI!B103","v":"U93"},{"$f":"IF(UI!C103<>\"\",UI!C103,\"\")","v":""},{"$f":"IF(UI!D103<>\"\",UI!D103,\"\")","v":""},{"$f":"IF('TAB-UI'!E103<>\"\",'TAB-UI'!E103,\"\")","v":""},{"$f":"SUMIFS('RP-UF'!$D$11:$D$109,'RP-UF'!$C$11:$C$109,'RP-UI'!B103)","v":0},{"$f":"SUMIFS('RP-UF'!$E$11:$E$109,'RP-UF'!$C$11:$C$109,'RP-UI'!B103)","v":0},{"$f":"SUMIFS('RP-UF'!$F$11:$F$109,'RP-UF'!$C$11:$C$109,'RP-UI'!B103)","v":0},{"$f":"SUMIFS('RP-UF'!$G$11:$G$109,'RP-UF'!$C$11:$C$109,'RP-UI'!B103)","v":0},{"$f":"SUMIFS('RP-UF'!$H$11:$H$109,'RP-UF'!$C$11:$C$109,'RP-UI'!B103)","v":0},{"$f":"SUMIFS('RP-UF'!$I$11:$I$109,'RP-UF'!$C$11:$C$109,'RP-UI'!B103)","v":0},{"$f":"SUMIFS('RP-UF'!$J$11:$J$109,'RP-UF'!$C$11:$C$109,'RP-UI'!B103)","v":0},{"$f":"SUMIFS('RP-UF'!$K$11:$K$109,'RP-UF'!$C$11:$C$109,'RP-UI'!B103)","v":0},{"$f":"SUMIFS('RP-UF'!$L$11:$L$109,'RP-UF'!$C$11:$C$109,'RP-UI'!B103)","v":0},{"$f":"SUMIFS('RP-UF'!$M$11:$M$109,'RP-UF'!$C$11:$C$109,'RP-UI'!B103)","v":0},{"$f":"SUMIFS('RP-UF'!$N$11:$N$109,'RP-UF'!$C$11:$C$109,'RP-UI'!B103)","v":0},0]
[94,{"$f":"UI!B104","v":"U94"},{"$f":"IF(UI!C104<>\"\",UI!C104,\"\")","v":""},{"$f":"IF(UI!D104<>\"\",UI!D104,\"\")","v":""},{"$f":"IF('TAB-UI'!E104<>\"\",'TAB-UI'!E104,\"\")","v":""},{"$f":"SUMIFS('RP-UF'!$D$11:$D$109,'RP-UF'!$C$11:$C$109,'RP-UI'!B104)","v":0},{"$f":"SUMIFS('RP-UF'!$E$11:$E$109,'RP-UF'!$C$11:$C$109,'RP-UI'!B104)","v":0},{"$f":"SUMIFS('RP-UF'!$F$11:$F$109,'RP-UF'!$C$11:$C$109,'RP-UI'!B104)","v":0},{"$f":"SUMIFS('RP-UF'!$G$11:$G$109,'RP-UF'!$C$11:$C$109,'RP-UI'!B104)","v":0},{"$f":"SUMIFS('RP-UF'!$H$11:$H$109,'RP-UF'!$C$11:$C$109,'RP-UI'!B104)","v":0},{"$f":"SUMIFS('RP-UF'!$I$11:$I$109,'RP-UF'!$C$11:$C$109,'RP-UI'!B104)","v":0},{"$f":"SUMIFS('RP-UF'!$J$11:$J$109,'RP-UF'!$C$11:$C$109,'RP-UI'!B104)","v":0},{"$f":"SUMIFS('RP-UF'!$K$11:$K$109,'RP-UF'!$C$11:$C$109,'RP-UI'!B104)","v":0},{"$f":"SUMIFS('RP-UF'!$L$11:$L$109,'RP-UF'!$C$11:$C$109,'RP-UI'!B104)","v":0},{"$f":"SUMIFS('RP-UF'!$M$11:$M$109,'RP-UF'!$C$11:$C$109,'RP-UI'!B104)","v":0},{"$f":"SUMIFS('RP-UF'!$N$11:$N$109,'RP-UF'!$C$11:$C$109,'RP-UI'!B104)","v":0},0]
[95,{"$f":"UI!B105","v":"U95"},{"$f":"IF(UI!C105<>\"\",UI!C105,\"\")","v":""},{"$f":"IF(UI!D105<>\"\",UI!D105,\"\")","v":""},{"$f":"IF('TAB-UI'!E105<>\"\",'TAB-UI'!E105,\"\")","v":""},{"$f":"SUMIFS('RP-UF'!$D$11:$D$109,'RP-UF'!$C$11:$C$109,'RP-UI'!B105)","v":0},{"$f":"SUMIFS('RP-UF'!$E$11:$E$109,'RP-UF'!$C$11:$C$109,'RP-UI'!B105)","v":0},{"$f":"SUMIFS('RP-UF'!$F$11:$F$109,'RP-UF'!$C$11:$C$109,'RP-UI'!B105)","v":0},{"$f":"SUMIFS('RP-UF'!$G$11:$G$109,'RP-UF'!$C$11:$C$109,'RP-UI'!B105)","v":0},{"$f":"SUMIFS('RP-UF'!$H$11:$H$109,'RP-UF'!$C$11:$C$109,'RP-UI'!B105)","v":0},{"$f":"SUMIFS('RP-UF'!$I$11:$I$109,'RP-UF'!$C$11:$C$109,'RP-UI'!B105)","v":0},{"$f":"SUMIFS('RP-UF'!$J$11:$J$109,'RP-UF'!$C$11:$C$109,'RP-UI'!B105)","v":0},{"$f":"SUMIFS('RP-UF'!$K$11:$K$109,'RP-UF'!$C$11:$C$109,'RP-UI'!B105)","v":0},{"$f":"SUMIFS('RP-UF'!$L$11:$L$109,'RP-UF'!$C$11:$C$109,'RP-UI'!B105)","v":0},{"$f":"SUMIFS('RP-UF'!$M$11:$M$109,'RP-UF'!$C$11:$C$109,'RP-UI'!B105)","v":0},{"$f":"SUMIFS('RP-UF'!$N$11:$N$109,'RP-UF'!$C$11:$C$109,'RP-UI'!B105)","v":0},0]
[96,{"$f":"UI!B106","v":"U96"},{"$f":"IF(UI!C106<>\"\",UI!C106,\"\")","v":""},{"$f":"IF(UI!D106<>\"\",UI!D106,\"\")","v":""},{"$f":"IF('TAB-UI'!E106<>\"\",'TAB-UI'!E106,\"\")","v":""},{"$f":"SUMIFS('RP-UF'!$D$11:$D$109,'RP-UF'!$C$11:$C$109,'RP-UI'!B106)","v":0},{"$f":"SUMIFS('RP-UF'!$E$11:$E$109,'RP-UF'!$C$11:$C$109,'RP-UI'!B106)","v":0},{"$f":"SUMIFS('RP-UF'!$F$11:$F$109,'RP-UF'!$C$11:$C$109,'RP-UI'!B106)","v":0},{"$f":"SUMIFS('RP-UF'!$G$11:$G$109,'RP-UF'!$C$11:$C$109,'RP-UI'!B106)","v":0},{"$f":"SUMIFS('RP-UF'!$H$11:$H$109,'RP-UF'!$C$11:$C$109,'RP-UI'!B106)","v":0},{"$f":"SUMIFS('RP-UF'!$I$11:$I$109,'RP-UF'!$C$11:$C$109,'RP-UI'!B106)","v":0},{"$f":"SUMIFS('RP-UF'!$J$11:$J$109,'RP-UF'!$C$11:$C$109,'RP-UI'!B106)","v":0},{"$f":"SUMIFS('RP-UF'!$K$11:$K$109,'RP-UF'!$C$11:$C$109,'RP-UI'!B106)","v":0},{"$f":"SUMIFS('RP-UF'!$L$11:$L$109,'RP-UF'!$C$11:$C$109,'RP-UI'!B106)","v":0},{"$f":"SUMIFS('RP-UF'!$M$11:$M$109,'RP-UF'!$C$11:$C$109,'RP-UI'!B106)","v":0},{"$f":"SUMIFS('RP-UF'!$N$11:$N$109,'RP-UF'!$C$11:$C$109,'RP-UI'!B106)","v":0},0]
[97,{"$f":"UI!B107","v":"U97"},{"$f":"IF(UI!C107<>\"\",UI!C107,\"\")","v":""},{"$f":"IF(UI!D107<>\"\",UI!D107,\"\")","v":""},{"$f":"IF('TAB-UI'!E107<>\"\",'TAB-UI'!E107,\"\")","v":""},{"$f":"SUMIFS('RP-UF'!$D$11:$D$109,'RP-UF'!$C$11:$C$109,'RP-UI'!B107)","v":0},{"$f":"SUMIFS('RP-UF'!$E$11:$E$109,'RP-UF'!$C$11:$C$109,'RP-UI'!B107)","v":0},{"$f":"SUMIFS('RP-UF'!$F$11:$F$109,'RP-UF'!$C$11:$C$109,'RP-UI'!B107)","v":0},{"$f":"SUMIFS('RP-UF'!$G$11:$G$109,'RP-UF'!$C$11:$C$109,'RP-UI'!B107)","v":0},{"$f":"SUMIFS('RP-UF'!$H$11:$H$109,'RP-UF'!$C$11:$C$109,'RP-UI'!B107)","v":0},{"$f":"SUMIFS('RP-UF'!$I$11:$I$109,'RP-UF'!$C$11:$C$109,'RP-UI'!B107)","v":0},{"$f":"SUMIFS('RP-UF'!$J$11:$J$109,'RP-UF'!$C$11:$C$109,'RP-UI'!B107)","v":0},{"$f":"SUMIFS('RP-UF'!$K$11:$K$109,'RP-UF'!$C$11:$C$109,'RP-UI'!B107)","v":0},{"$f":"SUMIFS('RP-UF'!$L$11:$L$109,'RP-UF'!$C$11:$C$109,'RP-UI'!B107)","v":0},{"$f":"SUMIFS('RP-UF'!$M$11:$M$109,'RP-UF'!$C$11:$C$109,'RP-UI'!B107)","v":0},{"$f":"SUMIFS('RP-UF'!$N$11:$N$109,'RP-UF'!$C$11:$C$109,'RP-UI'!B107)","v":0},0]
[98,{"$f":"UI!B108","v":"U98"},{"$f":"IF(UI!C108<>\"\",UI!C108,\"\")","v":""},{"$f":"IF(UI!D108<>\"\",UI!D108,\"\")","v":""},{"$f":"IF('TAB-UI'!E108<>\"\",'TAB-UI'!E108,\"\")","v":""},{"$f":"SUMIFS('RP-UF'!$D$11:$D$109,'RP-UF'!$C$11:$C$109,'RP-UI'!B108)","v":0},{"$f":"SUMIFS('RP-UF'!$E$11:$E$109,'RP-UF'!$C$11:$C$109,'RP-UI'!B108)","v":0},{"$f":"SUMIFS('RP-UF'!$F$11:$F$109,'RP-UF'!$C$11:$C$109,'RP-UI'!B108)","v":0},{"$f":"SUMIFS('RP-UF'!$G$11:$G$109,'RP-UF'!$C$11:$C$109,'RP-UI'!B108)","v":0},{"$f":"SUMIFS('RP-UF'!$H$11:$H$109,'RP-UF'!$C$11:$C$109,'RP-UI'!B108)","v":0},{"$f":"SUMIFS('RP-UF'!$I$11:$I$109,'RP-UF'!$C$11:$C$109,'RP-UI'!B108)","v":0},{"$f":"SUMIFS('RP-UF'!$J$11:$J$109,'RP-UF'!$C$11:$C$109,'RP-UI'!B108)","v":0},{"$f":"SUMIFS('RP-UF'!$K$11:$K$109,'RP-UF'!$C$11:$C$109,'RP-UI'!B108)","v":0},{"$f":"SUMIFS('RP-UF'!$L$11:$L$109,'RP-UF'!$C$11:$C$109,'RP-UI'!B108)","v":0},{"$f":"SUMIFS('RP-UF'!$M$11:$M$109,'RP-UF'!$C$11:$C$109,'RP-UI'!B108)","v":0},{"$f":"SUMIFS('RP-UF'!$N$11:$N$109,'RP-UF'!$C$11:$C$109,'RP-UI'!B108)","v":0},0]
[99,{"$f":"UI!B109","v":"U99"},{"$f":"IF(UI!C109<>\"\",UI!C109,\"\")","v":""},{"$f":"IF(UI!D109<>\"\",UI!D109,\"\")","v":""},{"$f":"IF('TAB-UI'!E109<>\"\",'TAB-UI'!E109,\"\")","v":""},{"$f":"SUMIFS('RP-UF'!$D$11:$D$109,'RP-UF'!$C$11:$C$109,'RP-UI'!B109)","v":0},{"$f":"SUMIFS('RP-UF'!$E$11:$E$109,'RP-UF'!$C$11:$C$109,'RP-UI'!B109)","v":0},{"$f":"SUMIFS('RP-UF'!$F$11:$F$109,'RP-UF'!$C$11:$C$109,'RP-UI'!B109)","v":0},{"$f":"SUMIFS('RP-UF'!$G$11:$G$109,'RP-UF'!$C$11:$C$109,'RP-UI'!B109)","v":0},{"$f":"SUMIFS('RP-UF'!$H$11:$H$109,'RP-UF'!$C$11:$C$109,'RP-UI'!B109)","v":0},{"$f":"SUMIFS('RP-UF'!$I$11:$I$109,'RP-UF'!$C$11:$C$109,'RP-UI'!B109)","v":0},{"$f":"SUMIFS('RP-UF'!$J$11:$J$109,'RP-UF'!$C$11:$C$109,'RP-UI'!B109)","v":0},{"$f":"SUMIFS('RP-UF'!$K$11:$K$109,'RP-UF'!$C$11:$C$109,'RP-UI'!B109)","v":0},{"$f":"SUMIFS('RP-UF'!$L$11:$L$109,'RP-UF'!$C$11:$C$109,'RP-UI'!B109)","v":0},{"$f":"SUMIFS('RP-UF'!$M$11:$M$109,'RP-UF'!$C$11:$C$109,'RP-UI'!B109)","v":0},{"$f":"SUMIFS('RP-UF'!$N$11:$N$109,'RP-UF'!$C$11:$C$109,'RP-UI'!B109)","v":0},0]
[null,null,null,null,"TOTALI",{"$f":"SUM(F11:F109)","v":5000},{"$f":"SUM(G11:G109)","v":5209.9999999999991},{"$f":"SUM(H11:H109)","v":6030.0000000000009},{"$f":"SUM(I11:I109)","v":0},0,0,0,0,0,0,950,{"$f":"SUM(Q11:Q109)","v":17190}]
[null,null,null,null,"controllo uscite",{"$f":"SUM(F110:P110)","v":17190}]

{"sheet":"RP-C","index":19,"n_rows":111,"n_cols":15,"rows_kept":111,"cut":false,"hidden":true,"merged":[[7,0,9,0],[7,1,9,1],[7,2,9,2],[7,14,9,14],[110,3,110,13]]}
[]
[]
[]
[]
[]
[]
[{"$f":"\"RIPARTO fra i CONDOMINI delle SPESE PREVENTIVATE da sostenere con il FONDO LAVORI\"  & CHAR(10) & DATIG!A40  & CHAR(10) & \"Codice FONDO:  \" & DATIG!A37","v":"RIPARTO fra i CONDOMINI delle SPESE PREVENTIVATE da sostenere con il FONDO LAVORI\nLavori messa in sicurezza fondazioni da infiltrazioni fognarie\nCodice FONDO:  LAVORO-01"}]
["n. condom.","CODICE CONDOMINO","CONDOMINO","SPESE","SPESE","SPESE","SPESE","SPESE","SPESE","SPESE","SPESE","SPESE","SPESE","SPESE","TOTALE DOVUTO"]
[null,null,null,{"$f":"\"Tab. \" & DATIG!$D$16","v":"Tab. A"},{"$f":"\"Tab. \" & DATIG!$D$17","v":"Tab. B"},{"$f":"\"Tab. \" & DATIG!$D$18","v":"Tab. C"},{"$f":"\"Tab. \" & DATIG!$D$19","v":"Tab. D"},{"$f":"\"Tab. \" & DATIG!$D$20","v":"Tab. E"},{"$f":"\"Tab. \" & DATIG!$D$21","v":"Tab. F"},{"$f":"\"Tab. \" & DATIG!$D$22","v":"Tab. G"},{"$f":"\"Tab. \" & DATIG!$D$23","v":"Tab. H"},{"$f":"\"Tab. \" & DATIG!$D$24","v":"Tab. I"},{"$f":"\"Tab. \" & DATIG!$D$25","v":"Tab. J"},"PERSON."]
[null,null,null,{"$f":"DATIG!$A$16","v":"GENERALE"},{"$f":"DATIG!$A$17","v":"Lato NORD"},{"$f":"DATIG!$A$18","v":"Lato SUD"},{"$f":"DATIG!$A$19","v":0},{"$f":"DATIG!$A$20","v":0},{"$f":"DATIG!$A$21","v":0},{"$f":"DATIG!$A$22","v":0},{"$f":"DATIG!$A$23","v":0},{"$f":"DATIG!$A$24","v":0},{"$f":"DATIG!$A$25","v":0}]
[1,{"$f":"'TAB-C'!B11","v":"C01"},{"$f":"'TAB-C'!D11","v":"CONDOMINO01"},{"$f":"SUMIFS('RP-UI'!$F$11:$F$109,'RP-UI'!$D$11:$D$109,B11)","v":198.19},{"$f":"SUMIFS('RP-UI'!$G$11:$G$109,'RP-UI'!$D$11:$D$109,B11)","v":0},{"$f":"SUMIFS('RP-UI'!$H$11:$H$109,'RP-UI'!$D$11:$D$109,B11)","v":824.24},{"$f":"SUMIFS('RP-UI'!$I$11:$I$109,'RP-UI'!$D$11:$D$109,B11)","v":0},{"$f":"SUMIFS('RP-UI'!$J$11:$J$109,'RP-UI'!$D$11:$D$109,B11)","v":0},{"$f":"SUMIFS('RP-UI'!$K$11:$K$109,'RP-UI'!$D$11:$D$109,B11)","v":0},{"$f":"SUMIFS('RP-UI'!$L$11:$L$109,'RP-UI'!$D$11:$D$109,B11)","v":0},{"$f":"SUMIFS('RP-UI'!$M$11:$M$109,'RP-UI'!$D$11:$D$109,B11)","v":0},{"$f":"SUMIFS('RP-UI'!$N$11:$N$109,'RP-UI'!$D$11:$D$109,B11)","v":0},{"$f":"SUMIFS('RP-UI'!$O$11:$O$109,'RP-UI'!$D$11:$D$109,B11)","v":0},{"$f":"SUMIFS('RP-UI'!$P$11:$P$109,'RP-UI'!$D$11:$D$109,B11)","v":0},{"$f":"SUM(D11:N11)","v":1022.4300000000001}]
[2,{"$f":"'TAB-C'!B12","v":"C02"},{"$f":"'TAB-C'!D12","v":"CONDOMINO02"},{"$f":"SUMIFS('RP-UI'!$F$11:$F$109,'RP-UI'!$D$11:$D$109,B12)","v":237.83},{"$f":"SUMIFS('RP-UI'!$G$11:$G$109,'RP-UI'!$D$11:$D$109,B12)","v":0},{"$f":"SUMIFS('RP-UI'!$H$11:$H$109,'RP-UI'!$D$11:$D$109,B12)","v":989.13},{"$f":"SUMIFS('RP-UI'!$I$11:$I$109,'RP-UI'!$D$11:$D$109,B12)","v":0},{"$f":"SUMIFS('RP-UI'!$J$11:$J$109,'RP-UI'!$D$11:$D$109,B12)","v":0},{"$f":"SUMIFS('RP-UI'!$K$11:$K$109,'RP-UI'!$D$11:$D$109,B12)","v":0},{"$f":"SUMIFS('RP-UI'!$L$11:$L$109,'RP-UI'!$D$11:$D$109,B12)","v":0},{"$f":"SUMIFS('RP-UI'!$M$11:$M$109,'RP-UI'!$D$11:$D$109,B12)","v":0},{"$f":"SUMIFS('RP-UI'!$N$11:$N$109,'RP-UI'!$D$11:$D$109,B12)","v":0},{"$f":"SUMIFS('RP-UI'!$O$11:$O$109,'RP-UI'!$D$11:$D$109,B12)","v":0},{"$f":"SUMIFS('RP-UI'!$P$11:$P$109,'RP-UI'!$D$11:$D$109,B12)","v":0},{"$f":"SUM(D12:N12)","v":1226.96}]
[3,{"$f":"'TAB-C'!B13","v":"C03"},{"$f":"'TAB-C'!D13","v":"CONDOMINO03"},{"$f":"SUMIFS('RP-UI'!$F$11:$F$109,'RP-UI'!$D$11:$D$109,B13)","v":226.70000000000002},{"$f":"SUMIFS('RP-UI'!$G$11:$G$109,'RP-UI'!$D$11:$D$109,B13)","v":0},{"$f":"SUMIFS('RP-UI'!$H$11:$H$109,'RP-UI'!$D$11:$D$109,B13)","v":942.84},{"$f":"SUMIFS('RP-UI'!$I$11:$I$109,'RP-UI'!$D$11:$D$109,B13)","v":0},{"$f":"SUMIFS('RP-UI'!$J$11:$J$109,'RP-UI'!$D$11:$D$109,B13)","v":0},{"$f":"SUMIFS('RP-UI'!$K$11:$K$109,'RP-UI'!$D$11:$D$109,B13)","v":0},{"$f":"SUMIFS('RP-UI'!$L$11:$L$109,'RP-UI'!$D$11:$D$109,B13)","v":0},{"$f":"SUMIFS('RP-UI'!$M$11:$M$109,'RP-UI'!$D$11:$D$109,B13)","v":0},{"$f":"SUMIFS('RP-UI'!$N$11:$N$109,'RP-UI'!$D$11:$D$109,B13)","v":0},{"$f":"SUMIFS('RP-UI'!$O$11:$O$109,'RP-UI'!$D$11:$D$109,B13)","v":0},{"$f":"SUMIFS('RP-UI'!$P$11:$P$109,'RP-UI'!$D$11:$D$109,B13)","v":200},1369.54]
[4,{"$f":"'TAB-C'!B14","v":"C04"},{"$f":"'TAB-C'!D14","v":"CONDOMINO04"},{"$f":"SUMIFS('RP-UI'!$F$11:$F$109,'RP-UI'!$D$11:$D$109,B14)","v":205.52},{"$f":"SUMIFS('RP-UI'!$G$11:$G$109,'RP-UI'!$D$11:$D$109,B14)","v":0},{"$f":"SUMIFS('RP-UI'!$H$11:$H$109,'RP-UI'!$D$11:$D$109,B14)","v":569.84},{"$f":"SUMIFS('RP-UI'!$I$11:$I$109,'RP-UI'!$D$11:$D$109,B14)","v":0},{"$f":"SUMIFS('RP-UI'!$J$11:$J$109,'RP-UI'!$D$11:$D$109,B14)","v":0},{"$f":"SUMIFS('RP-UI'!$K$11:$K$109,'RP-UI'!$D$11:$D$109,B14)","v":0},{"$f":"SUMIFS('RP-UI'!$L$11:$L$109,'RP-UI'!$D$11:$D$109,B14)","v":0},{"$f":"SUMIFS('RP-UI'!$M$11:$M$109,'RP-UI'!$D$11:$D$109,B14)","v":0},{"$f":"SUMIFS('RP-UI'!$N$11:$N$109,'RP-UI'!$D$11:$D$109,B14)","v":0},{"$f":"SUMIFS('RP-UI'!$O$11:$O$109,'RP-UI'!$D$11:$D$109,B14)","v":0},{"$f":"SUMIFS('RP-UI'!$P$11:$P$109,'RP-UI'!$D$11:$D$109,B14)","v":0},775.36]
[5,{"$f":"'TAB-C'!B15","v":"C05"},{"$f":"'TAB-C'!D15","v":"CONDOMINO05"},{"$f":"SUMIFS('RP-UI'!$F$11:$F$109,'RP-UI'!$D$11:$D$109,B15)","v":254.81},{"$f":"SUMIFS('RP-UI'!$G$11:$G$109,'RP-UI'!$D$11:$D$109,B15)","v":0},{"$f":"SUMIFS('RP-UI'!$H$11:$H$109,'RP-UI'!$D$11:$D$109,B15)","v":706.62},{"$f":"SUMIFS('RP-UI'!$I$11:$I$109,'RP-UI'!$D$11:$D$109,B15)","v":0},{"$f":"SUMIFS('RP-UI'!$J$11:$J$109,'RP-UI'!$D$11:$D$109,B15)","v":0},{"$f":"SUMIFS('RP-UI'!$K$11:$K$109,'RP-UI'!$D$11:$D$109,B15)","v":0},{"$f":"SUMIFS('RP-UI'!$L$11:$L$109,'RP-UI'!$D$11:$D$109,B15)","v":0},{"$f":"SUMIFS('RP-UI'!$M$11:$M$109,'RP-UI'!$D$11:$D$109,B15)","v":0},{"$f":"SUMIFS('RP-UI'!$N$11:$N$109,'RP-UI'!$D$11:$D$109,B15)","v":0},{"$f":"SUMIFS('RP-UI'!$O$11:$O$109,'RP-UI'!$D$11:$D$109,B15)","v":0},{"$f":"SUMIFS('RP-UI'!$P$11:$P$109,'RP-UI'!$D$11:$D$109,B15)","v":0},961.43000000000006]
[6,{"$f":"'TAB-C'!B16","v":"C06"},{"$f":"'TAB-C'!D16","v":"CONDOMINO06"},{"$f":"SUMIFS('RP-UI'!$F$11:$F$109,'RP-UI'!$D$11:$D$109,B16)","v":241.76},{"$f":"SUMIFS('RP-UI'!$G$11:$G$109,'RP-UI'!$D$11:$D$109,B16)","v":0},{"$f":"SUMIFS('RP-UI'!$H$11:$H$109,'RP-UI'!$D$11:$D$109,B16)","v":670.31000000000006},{"$f":"SUMIFS('RP-UI'!$I$11:$I$109,'RP-UI'!$D$11:$D$109,B16)","v":0},{"$f":"SUMIFS('RP-UI'!$J$11:$J$109,'RP-UI'!$D$11:$D$109,B16)","v":0},{"$f":"SUMIFS('RP-UI'!$K$11:$K$109,'RP-UI'!$D$11:$D$109,B16)","v":0},{"$f":"SUMIFS('RP-UI'!$L$11:$L$109,'RP-UI'!$D$11:$D$109,B16)","v":0},{"$f":"SUMIFS('RP-UI'!$M$11:$M$109,'RP-UI'!$D$11:$D$109,B16)","v":0},{"$f":"SUMIFS('RP-UI'!$N$11:$N$109,'RP-UI'!$D$11:$D$109,B16)","v":0},{"$f":"SUMIFS('RP-UI'!$O$11:$O$109,'RP-UI'!$D$11:$D$109,B16)","v":0},{"$f":"SUMIFS('RP-UI'!$P$11:$P$109,'RP-UI'!$D$11:$D$109,B16)","v":0},912.07]
[7,{"$f":"'TAB-C'!B17","v":"C07"},{"$f":"'TAB-C'!D17","v":"CONDOMINO07"},{"$f":"SUMIFS('RP-UI'!$F$11:$F$109,'RP-UI'!$D$11:$D$109,B17)","v":633.1099999999999},{"$f":"SUMIFS('RP-UI'!$G$11:$G$109,'RP-UI'!$D$11:$D$109,B17)","v":378.61},{"$f":"SUMIFS('RP-UI'!$H$11:$H$109,'RP-UI'!$D$11:$D$109,B17)","v":280.48},{"$f":"SUMIFS('RP-UI'!$I$11:$I$109,'RP-UI'!$D$11:$D$109,B17)","v":0},{"$f":"SUMIFS('RP-UI'!$J$11:$J$109,'RP-UI'!$D$11:$D$109,B17)","v":0},{"$f":"SUMIFS('RP-UI'!$K$11:$K$109,'RP-UI'!$D$11:$D$109,B17)","v":0},{"$f":"SUMIFS('RP-UI'!$L$11:$L$109,'RP-UI'!$D$11:$D$109,B17)","v":0},{"$f":"SUMIFS('RP-UI'!$M$11:$M$109,'RP-UI'!$D$11:$D$109,B17)","v":0},{"$f":"SUMIFS('RP-UI'!$N$11:$N$109,'RP-UI'!$D$11:$D$109,B17)","v":0},{"$f":"SUMIFS('RP-UI'!$O$11:$O$109,'RP-UI'!$D$11:$D$109,B17)","v":0},{"$f":"SUMIFS('RP-UI'!$P$11:$P$109,'RP-UI'!$D$11:$D$109,B17)","v":0},1292.1999999999998]
[8,{"$f":"'TAB-C'!B18","v":"C08"},{"$f":"'TAB-C'!D18","v":"CONDOMINO08"},{"$f":"SUMIFS('RP-UI'!$F$11:$F$109,'RP-UI'!$D$11:$D$109,B18)","v":439.72},{"$f":"SUMIFS('RP-UI'!$G$11:$G$109,'RP-UI'!$D$11:$D$109,B18)","v":261.87},{"$f":"SUMIFS('RP-UI'!$H$11:$H$109,'RP-UI'!$D$11:$D$109,B18)","v":343.38},{"$f":"SUMIFS('RP-UI'!$I$11:$I$109,'RP-UI'!$D$11:$D$109,B18)","v":0},{"$f":"SUMIFS('RP-UI'!$J$11:$J$109,'RP-UI'!$D$11:$D$109,B18)","v":0},{"$f":"SUMIFS('RP-UI'!$K$11:$K$109,'RP-UI'!$D$11:$D$109,B18)","v":0},{"$f":"SUMIFS('RP-UI'!$L$11:$L$109,'RP-UI'!$D$11:$D$109,B18)","v":0},{"$f":"SUMIFS('RP-UI'!$M$11:$M$109,'RP-UI'!$D$11:$D$109,B18)","v":0},{"$f":"SUMIFS('RP-UI'!$N$11:$N$109,'RP-UI'!$D$11:$D$109,B18)","v":0},{"$f":"SUMIFS('RP-UI'!$O$11:$O$109,'RP-UI'!$D$11:$D$109,B18)","v":0},{"$f":"SUMIFS('RP-UI'!$P$11:$P$109,'RP-UI'!$D$11:$D$109,B18)","v":0},1044.97]
[9,{"$f":"'TAB-C'!B19","v":"C09"},{"$f":"'TAB-C'!D19","v":"CONDOMINO09"},{"$f":"SUMIFS('RP-UI'!$F$11:$F$109,'RP-UI'!$D$11:$D$109,B19)","v":235.26},{"$f":"SUMIFS('RP-UI'!$G$11:$G$109,'RP-UI'!$D$11:$D$109,B19)","v":0},{"$f":"SUMIFS('RP-UI'!$H$11:$H$109,'RP-UI'!$D$11:$D$109,B19)","v":326.15000000000003},{"$f":"SUMIFS('RP-UI'!$I$11:$I$109,'RP-UI'!$D$11:$D$109,B19)","v":0},{"$f":"SUMIFS('RP-UI'!$J$11:$J$109,'RP-UI'!$D$11:$D$109,B19)","v":0},{"$f":"SUMIFS('RP-UI'!$K$11:$K$109,'RP-UI'!$D$11:$D$109,B19)","v":0},{"$f":"SUMIFS('RP-UI'!$L$11:$L$109,'RP-UI'!$D$11:$D$109,B19)","v":0},{"$f":"SUMIFS('RP-UI'!$M$11:$M$109,'RP-UI'!$D$11:$D$109,B19)","v":0},{"$f":"SUMIFS('RP-UI'!$N$11:$N$109,'RP-UI'!$D$11:$D$109,B19)","v":0},{"$f":"SUMIFS('RP-UI'!$O$11:$O$109,'RP-UI'!$D$11:$D$109,B19)","v":0},{"$f":"SUMIFS('RP-UI'!$P$11:$P$109,'RP-UI'!$D$11:$D$109,B19)","v":0},561.41000000000008]
[10,{"$f":"'TAB-C'!B20","v":"C10"},{"$f":"'TAB-C'!D20","v":"CONDOMINO10"},{"$f":"SUMIFS('RP-UI'!$F$11:$F$109,'RP-UI'!$D$11:$D$109,B20)","v":177.42},{"$f":"SUMIFS('RP-UI'!$G$11:$G$109,'RP-UI'!$D$11:$D$109,B20)","v":0},{"$f":"SUMIFS('RP-UI'!$H$11:$H$109,'RP-UI'!$D$11:$D$109,B20)","v":25.13},{"$f":"SUMIFS('RP-UI'!$I$11:$I$109,'RP-UI'!$D$11:$D$109,B20)","v":0},{"$f":"SUMIFS('RP-UI'!$J$11:$J$109,'RP-UI'!$D$11:$D$109,B20)","v":0},{"$f":"SUMIFS('RP-UI'!$K$11:$K$109,'RP-UI'!$D$11:$D$109,B20)","v":0},{"$f":"SUMIFS('RP-UI'!$L$11:$L$109,'RP-UI'!$D$11:$D$109,B20)","v":0},{"$f":"SUMIFS('RP-UI'!$M$11:$M$109,'RP-UI'!$D$11:$D$109,B20)","v":0},{"$f":"SUMIFS('RP-UI'!$N$11:$N$109,'RP-UI'!$D$11:$D$109,B20)","v":0},{"$f":"SUMIFS('RP-UI'!$O$11:$O$109,'RP-UI'!$D$11:$D$109,B20)","v":0},{"$f":"SUMIFS('RP-UI'!$P$11:$P$109,'RP-UI'!$D$11:$D$109,B20)","v":0},202.54999999999998]
[11,{"$f":"'TAB-C'!B21","v":"C11"},{"$f":"'TAB-C'!D21","v":"CONDOMINO11"},{"$f":"SUMIFS('RP-UI'!$F$11:$F$109,'RP-UI'!$D$11:$D$109,B21)","v":228.16},{"$f":"SUMIFS('RP-UI'!$G$11:$G$109,'RP-UI'!$D$11:$D$109,B21)","v":0},{"$f":"SUMIFS('RP-UI'!$H$11:$H$109,'RP-UI'!$D$11:$D$109,B21)","v":26.810000000000002},{"$f":"SUMIFS('RP-UI'!$I$11:$I$109,'RP-UI'!$D$11:$D$109,B21)","v":0},{"$f":"SUMIFS('RP-UI'!$J$11:$J$109,'RP-UI'!$D$11:$D$109,B21)","v":0},{"$f":"SUMIFS('RP-UI'!$K$11:$K$109,'RP-UI'!$D$11:$D$109,B21)","v":0},{"$f":"SUMIFS('RP-UI'!$L$11:$L$109,'RP-UI'!$D$11:$D$109,B21)","v":0},{"$f":"SUMIFS('RP-UI'!$M$11:$M$109,'RP-UI'!$D$11:$D$109,B21)","v":0},{"$f":"SUMIFS('RP-UI'!$N$11:$N$109,'RP-UI'!$D$11:$D$109,B21)","v":0},{"$f":"SUMIFS('RP-UI'!$O$11:$O$109,'RP-UI'!$D$11:$D$109,B21)","v":0},{"$f":"SUMIFS('RP-UI'!$P$11:$P$109,'RP-UI'!$D$11:$D$109,B21)","v":0},254.97]
[12,{"$f":"'TAB-C'!B22","v":"C12"},{"$f":"'TAB-C'!D22","v":"CONDOMINO12"},{"$f":"SUMIFS('RP-UI'!$F$11:$F$109,'RP-UI'!$D$11:$D$109,B22)","v":163.27000000000001},{"$f":"SUMIFS('RP-UI'!$G$11:$G$109,'RP-UI'!$D$11:$D$109,B22)","v":0},{"$f":"SUMIFS('RP-UI'!$H$11:$H$109,'RP-UI'!$D$11:$D$109,B22)","v":29.490000000000002},{"$f":"SUMIFS('RP-UI'!$I$11:$I$109,'RP-UI'!$D$11:$D$109,B22)","v":0},{"$f":"SUMIFS('RP-UI'!$J$11:$J$109,'RP-UI'!$D$11:$D$109,B22)","v":0},{"$f":"SUMIFS('RP-UI'!$K$11:$K$109,'RP-UI'!$D$11:$D$109,B22)","v":0},{"$f":"SUMIFS('RP-UI'!$L$11:$L$109,'RP-UI'!$D$11:$D$109,B22)","v":0},{"$f":"SUMIFS('RP-UI'!$M$11:$M$109,'RP-UI'!$D$11:$D$109,B22)","v":0},{"$f":"SUMIFS('RP-UI'!$N$11:$N$109,'RP-UI'!$D$11:$D$109,B22)","v":0},{"$f":"SUMIFS('RP-UI'!$O$11:$O$109,'RP-UI'!$D$11:$D$109,B22)","v":0},{"$f":"SUMIFS('RP-UI'!$P$11:$P$109,'RP-UI'!$D$11:$D$109,B22)","v":400},592.76]
[13,{"$f":"'TAB-C'!B23","v":"C13"},{"$f":"'TAB-C'!D23","v":"CONDOMINO13"},{"$f":"SUMIFS('RP-UI'!$F$11:$F$109,'RP-UI'!$D$11:$D$109,B23)","v":50.77},{"$f":"SUMIFS('RP-UI'!$G$11:$G$109,'RP-UI'!$D$11:$D$109,B23)","v":0},{"$f":"SUMIFS('RP-UI'!$H$11:$H$109,'RP-UI'!$D$11:$D$109,B23)","v":70.37},{"$f":"SUMIFS('RP-UI'!$I$11:$I$109,'RP-UI'!$D$11:$D$109,B23)","v":0},{"$f":"SUMIFS('RP-UI'!$J$11:$J$109,'RP-UI'!$D$11:$D$109,B23)","v":0},{"$f":"SUMIFS('RP-UI'!$K$11:$K$109,'RP-UI'!$D$11:$D$109,B23)","v":0},{"$f":"SUMIFS('RP-UI'!$L$11:$L$109,'RP-UI'!$D$11:$D$109,B23)","v":0},{"$f":"SUMIFS('RP-UI'!$M$11:$M$109,'RP-UI'!$D$11:$D$109,B23)","v":0},{"$f":"SUMIFS('RP-UI'!$N$11:$N$109,'RP-UI'!$D$11:$D$109,B23)","v":0},{"$f":"SUMIFS('RP-UI'!$O$11:$O$109,'RP-UI'!$D$11:$D$109,B23)","v":0},{"$f":"SUMIFS('RP-UI'!$P$11:$P$109,'RP-UI'!$D$11:$D$109,B23)","v":0},121.14000000000001]
[14,{"$f":"'TAB-C'!B24","v":"C14"},{"$f":"'TAB-C'!D24","v":"CONDOMINO14"},{"$f":"SUMIFS('RP-UI'!$F$11:$F$109,'RP-UI'!$D$11:$D$109,B24)","v":162.45000000000002},{"$f":"SUMIFS('RP-UI'!$G$11:$G$109,'RP-UI'!$D$11:$D$109,B24)","v":0},{"$f":"SUMIFS('RP-UI'!$H$11:$H$109,'RP-UI'!$D$11:$D$109,B24)","v":225.21},{"$f":"SUMIFS('RP-UI'!$I$11:$I$109,'RP-UI'!$D$11:$D$109,B24)","v":0},{"$f":"SUMIFS('RP-UI'!$J$11:$J$109,'RP-UI'!$D$11:$D$109,B24)","v":0},{"$f":"SUMIFS('RP-UI'!$K$11:$K$109,'RP-UI'!$D$11:$D$109,B24)","v":0},{"$f":"SUMIFS('RP-UI'!$L$11:$L$109,'RP-UI'!$D$11:$D$109,B24)","v":0},{"$f":"SUMIFS('RP-UI'!$M$11:$M$109,'RP-UI'!$D$11:$D$109,B24)","v":0},{"$f":"SUMIFS('RP-UI'!$N$11:$N$109,'RP-UI'!$D$11:$D$109,B24)","v":0},{"$f":"SUMIFS('RP-UI'!$O$11:$O$109,'RP-UI'!$D$11:$D$109,B24)","v":0},{"$f":"SUMIFS('RP-UI'!$P$11:$P$109,'RP-UI'!$D$11:$D$109,B24)","v":0},387.66]
[15,{"$f":"'TAB-C'!B25","v":"C15"},{"$f":"'TAB-C'!D25","v":"CONDOMINO15"},{"$f":"SUMIFS('RP-UI'!$F$11:$F$109,'RP-UI'!$D$11:$D$109,B25)","v":433.4},{"$f":"SUMIFS('RP-UI'!$G$11:$G$109,'RP-UI'!$D$11:$D$109,B25)","v":1550.15},{"$f":"SUMIFS('RP-UI'!$H$11:$H$109,'RP-UI'!$D$11:$D$109,B25)","v":0},{"$f":"SUMIFS('RP-UI'!$I$11:$I$109,'RP-UI'!$D$11:$D$109,B25)","v":0},{"$f":"SUMIFS('RP-UI'!$J$11:$J$109,'RP-UI'!$D$11:$D$109,B25)","v":0},{"$f":"SUMIFS('RP-UI'!$K$11:$K$109,'RP-UI'!$D$11:$D$109,B25)","v":0},{"$f":"SUMIFS('RP-UI'!$L$11:$L$109,'RP-UI'!$D$11:$D$109,B25)","v":0},{"$f":"SUMIFS('RP-UI'!$M$11:$M$109,'RP-UI'!$D$11:$D$109,B25)","v":0},{"$f":"SUMIFS('RP-UI'!$N$11:$N$109,'RP-UI'!$D$11:$D$109,B25)","v":0},{"$f":"SUMIFS('RP-UI'!$O$11:$O$109,'RP-UI'!$D$11:$D$109,B25)","v":0},{"$f":"SUMIFS('RP-UI'!$P$11:$P$109,'RP-UI'!$D$11:$D$109,B25)","v":0},1983.5500000000002]
[16,{"$f":"'TAB-C'!B26","v":"C16"},{"$f":"'TAB-C'!D26","v":"CONDOMINO16"},{"$f":"SUMIFS('RP-UI'!$F$11:$F$109,'RP-UI'!$D$11:$D$109,B26)","v":239.6},{"$f":"SUMIFS('RP-UI'!$G$11:$G$109,'RP-UI'!$D$11:$D$109,B26)","v":980.26},{"$f":"SUMIFS('RP-UI'!$H$11:$H$109,'RP-UI'!$D$11:$D$109,B26)","v":0},{"$f":"SUMIFS('RP-UI'!$I$11:$I$109,'RP-UI'!$D$11:$D$109,B26)","v":0},{"$f":"SUMIFS('RP-UI'!$J$11:$J$109,'RP-UI'!$D$11:$D$109,B26)","v":0},{"$f":"SUMIFS('RP-UI'!$K$11:$K$109,'RP-UI'!$D$11:$D$109,B26)","v":0},{"$f":"SUMIFS('RP-UI'!$L$11:$L$109,'RP-UI'!$D$11:$D$109,B26)","v":0},{"$f":"SUMIFS('RP-UI'!$M$11:$M$109,'RP-UI'!$D$11:$D$109,B26)","v":0},{"$f":"SUMIFS('RP-UI'!$N$11:$N$109,'RP-UI'!$D$11:$D$109,B26)","v":0},{"$f":"SUMIFS('RP-UI'!$O$11:$O$109,'RP-UI'!$D$11:$D$109,B26)","v":0},{"$f":"SUMIFS('RP-UI'!$P$11:$P$109,'RP-UI'!$D$11:$D$109,B26)","v":0},1219.8599999999999]
[17,{"$f":"'TAB-C'!B27","v":"C17"},{"$f":"'TAB-C'!D27","v":"CONDOMINO17"},{"$f":"SUMIFS('RP-UI'!$F$11:$F$109,'RP-UI'!$D$11:$D$109,B27)","v":188.61},{"$f":"SUMIFS('RP-UI'!$G$11:$G$109,'RP-UI'!$D$11:$D$109,B27)","v":771.65},{"$f":"SUMIFS('RP-UI'!$H$11:$H$109,'RP-UI'!$D$11:$D$109,B27)","v":0},{"$f":"SUMIFS('RP-UI'!$I$11:$I$109,'RP-UI'!$D$11:$D$109,B27)","v":0},{"$f":"SUMIFS('RP-UI'!$J$11:$J$109,'RP-UI'!$D$11:$D$109,B27)","v":0},{"$f":"SUMIFS('RP-UI'!$K$11:$K$109,'RP-UI'!$D$11:$D$109,B27)","v":0},{"$f":"SUMIFS('RP-UI'!$L$11:$L$109,'RP-UI'!$D$11:$D$109,B27)","v":0},{"$f":"SUMIFS('RP-UI'!$M$11:$M$109,'RP-UI'!$D$11:$D$109,B27)","v":0},{"$f":"SUMIFS('RP-UI'!$N$11:$N$109,'RP-UI'!$D$11:$D$109,B27)","v":0},{"$f":"SUMIFS('RP-UI'!$O$11:$O$109,'RP-UI'!$D$11:$D$109,B27)","v":0},{"$f":"SUMIFS('RP-UI'!$P$11:$P$109,'RP-UI'!$D$11:$D$109,B27)","v":0},960.26]
[18,{"$f":"'TAB-C'!B28","v":"C18"},{"$f":"'TAB-C'!D28","v":"CONDOMINO18"},{"$f":"SUMIFS('RP-UI'!$F$11:$F$109,'RP-UI'!$D$11:$D$109,B28)","v":250.70000000000002},{"$f":"SUMIFS('RP-UI'!$G$11:$G$109,'RP-UI'!$D$11:$D$109,B28)","v":683.78},{"$f":"SUMIFS('RP-UI'!$H$11:$H$109,'RP-UI'!$D$11:$D$109,B28)","v":0},{"$f":"SUMIFS('RP-UI'!$I$11:$I$109,'RP-UI'!$D$11:$D$109,B28)","v":0},{"$f":"SUMIFS('RP-UI'!$J$11:$J$109,'RP-UI'!$D$11:$D$109,B28)","v":0},{"$f":"SUMIFS('RP-UI'!$K$11:$K$109,'RP-UI'!$D$11:$D$109,B28)","v":0},{"$f":"SUMIFS('RP-UI'!$L$11:$L$109,'RP-UI'!$D$11:$D$109,B28)","v":0},{"$f":"SUMIFS('RP-UI'!$M$11:$M$109,'RP-UI'!$D$11:$D$109,B28)","v":0},{"$f":"SUMIFS('RP-UI'!$N$11:$N$109,'RP-UI'!$D$11:$D$109,B28)","v":0},{"$f":"SUMIFS('RP-UI'!$O$11:$O$109,'RP-UI'!$D$11:$D$109,B28)","v":0},{"$f":"SUMIFS('RP-UI'!$P$11:$P$109,'RP-UI'!$D$11:$D$109,B28)","v":350},1284.48]
[19,{"$f":"'TAB-C'!B29","v":"C19"},{"$f":"'TAB-C'!D29","v":"CONDOMINO19"},{"$f":"SUMIFS('RP-UI'!$F$11:$F$109,'RP-UI'!$D$11:$D$109,B29)","v":432.72},{"$f":"SUMIFS('RP-UI'!$G$11:$G$109,'RP-UI'!$D$11:$D$109,B29)","v":583.67999999999995},{"$f":"SUMIFS('RP-UI'!$H$11:$H$109,'RP-UI'!$D$11:$D$109,B29)","v":0},{"$f":"SUMIFS('RP-UI'!$I$11:$I$109,'RP-UI'!$D$11:$D$109,B29)","v":0},{"$f":"SUMIFS('RP-UI'!$J$11:$J$109,'RP-UI'!$D$11:$D$109,B29)","v":0},{"$f":"SUMIFS('RP-UI'!$K$11:$K$109,'RP-UI'!$D$11:$D$109,B29)","v":0},{"$f":"SUMIFS('RP-UI'!$L$11:$L$109,'RP-UI'!$D$11:$D$109,B29)","v":0},{"$f":"SUMIFS('RP-UI'!$M$11:$M$109,'RP-UI'!$D$11:$D$109,B29)","v":0},{"$f":"SUMIFS('RP-UI'!$N$11:$N$109,'RP-UI'!$D$11:$D$109,B29)","v":0},{"$f":"SUMIFS('RP-UI'!$O$11:$O$109,'RP-UI'!$D$11:$D$109,B29)","v":0},{"$f":"SUMIFS('RP-UI'!$P$11:$P$109,'RP-UI'!$D$11:$D$109,B29)","v":0},1016.4]
[20,{"$f":"'TAB-C'!B30","v":"C20"},{"$f":"'TAB-C'!D30","v":""},{"$f":"SUMIFS('RP-UI'!$F$11:$F$109,'RP-UI'!$D$11:$D$109,B30)","v":0},{"$f":"SUMIFS('RP-UI'!$G$11:$G$109,'RP-UI'!$D$11:$D$109,B30)","v":0},{"$f":"SUMIFS('RP-UI'!$H$11:$H$109,'RP-UI'!$D$11:$D$109,B30)","v":0},{"$f":"SUMIFS('RP-UI'!$I$11:$I$109,'RP-UI'!$D$11:$D$109,B30)","v":0},{"$f":"SUMIFS('RP-UI'!$J$11:$J$109,'RP-UI'!$D$11:$D$109,B30)","v":0},{"$f":"SUMIFS('RP-UI'!$K$11:$K$109,'RP-UI'!$D$11:$D$109,B30)","v":0},{"$f":"SUMIFS('RP-UI'!$L$11:$L$109,'RP-UI'!$D$11:$D$109,B30)","v":0},{"$f":"SUMIFS('RP-UI'!$M$11:$M$109,'RP-UI'!$D$11:$D$109,B30)","v":0},{"$f":"SUMIFS('RP-UI'!$N$11:$N$109,'RP-UI'!$D$11:$D$109,B30)","v":0},{"$f":"SUMIFS('RP-UI'!$O$11:$O$109,'RP-UI'!$D$11:$D$109,B30)","v":0},{"$f":"SUMIFS('RP-UI'!$P$11:$P$109,'RP-UI'!$D$11:$D$109,B30)","v":0},0]
[21,{"$f":"'TAB-C'!B31","v":"C21"},{"$f":"'TAB-C'!D31","v":""},{"$f":"SUMIFS('RP-UI'!$F$11:$F$109,'RP-UI'!$D$11:$D$109,B31)","v":0},{"$f":"SUMIFS('RP-UI'!$G$11:$G$109,'RP-UI'!$D$11:$D$109,B31)","v":0},{"$f":"SUMIFS('RP-UI'!$H$11:$H$109,'RP-UI'!$D$11:$D$109,B31)","v":0},{"$f":"SUMIFS('RP-UI'!$I$11:$I$109,'RP-UI'!$D$11:$D$109,B31)","v":0},{"$f":"SUMIFS('RP-UI'!$J$11:$J$109,'RP-UI'!$D$11:$D$109,B31)","v":0},{"$f":"SUMIFS('RP-UI'!$K$11:$K$109,'RP-UI'!$D$11:$D$109,B31)","v":0},{"$f":"SUMIFS('RP-UI'!$L$11:$L$109,'RP-UI'!$D$11:$D$109,B31)","v":0},{"$f":"SUMIFS('RP-UI'!$M$11:$M$109,'RP-UI'!$D$11:$D$109,B31)","v":0},{"$f":"SUMIFS('RP-UI'!$N$11:$N$109,'RP-UI'!$D$11:$D$109,B31)","v":0},{"$f":"SUMIFS('RP-UI'!$O$11:$O$109,'RP-UI'!$D$11:$D$109,B31)","v":0},{"$f":"SUMIFS('RP-UI'!$P$11:$P$109,'RP-UI'!$D$11:$D$109,B31)","v":0},0]
[22,{"$f":"'TAB-C'!B32","v":"C22"},{"$f":"'TAB-C'!D32","v":""},{"$f":"SUMIFS('RP-UI'!$F$11:$F$109,'RP-UI'!$D$11:$D$109,B32)","v":0},{"$f":"SUMIFS('RP-UI'!$G$11:$G$109,'RP-UI'!$D$11:$D$109,B32)","v":0},{"$f":"SUMIFS('RP-UI'!$H$11:$H$109,'RP-UI'!$D$11:$D$109,B32)","v":0},{"$f":"SUMIFS('RP-UI'!$I$11:$I$109,'RP-UI'!$D$11:$D$109,B32)","v":0},{"$f":"SUMIFS('RP-UI'!$J$11:$J$109,'RP-UI'!$D$11:$D$109,B32)","v":0},{"$f":"SUMIFS('RP-UI'!$K$11:$K$109,'RP-UI'!$D$11:$D$109,B32)","v":0},{"$f":"SUMIFS('RP-UI'!$L$11:$L$109,'RP-UI'!$D$11:$D$109,B32)","v":0},{"$f":"SUMIFS('RP-UI'!$M$11:$M$109,'RP-UI'!$D$11:$D$109,B32)","v":0},{"$f":"SUMIFS('RP-UI'!$N$11:$N$109,'RP-UI'!$D$11:$D$109,B32)","v":0},{"$f":"SUMIFS('RP-UI'!$O$11:$O$109,'RP-UI'!$D$11:$D$109,B32)","v":0},{"$f":"SUMIFS('RP-UI'!$P$11:$P$109,'RP-UI'!$D$11:$D$109,B32)","v":0},0]
[23,{"$f":"'TAB-C'!B33","v":"C23"},{"$f":"'TAB-C'!D33","v":""},{"$f":"SUMIFS('RP-UI'!$F$11:$F$109,'RP-UI'!$D$11:$D$109,B33)","v":0},{"$f":"SUMIFS('RP-UI'!$G$11:$G$109,'RP-UI'!$D$11:$D$109,B33)","v":0},{"$f":"SUMIFS('RP-UI'!$H$11:$H$109,'RP-UI'!$D$11:$D$109,B33)","v":0},{"$f":"SUMIFS('RP-UI'!$I$11:$I$109,'RP-UI'!$D$11:$D$109,B33)","v":0},{"$f":"SUMIFS('RP-UI'!$J$11:$J$109,'RP-UI'!$D$11:$D$109,B33)","v":0},{"$f":"SUMIFS('RP-UI'!$K$11:$K$109,'RP-UI'!$D$11:$D$109,B33)","v":0},{"$f":"SUMIFS('RP-UI'!$L$11:$L$109,'RP-UI'!$D$11:$D$109,B33)","v":0},{"$f":"SUMIFS('RP-UI'!$M$11:$M$109,'RP-UI'!$D$11:$D$109,B33)","v":0},{"$f":"SUMIFS('RP-UI'!$N$11:$N$109,'RP-UI'!$D$11:$D$109,B33)","v":0},{"$f":"SUMIFS('RP-UI'!$O$11:$O$109,'RP-UI'!$D$11:$D$109,B33)","v":0},{"$f":"SUMIFS('RP-UI'!$P$11:$P$109,'RP-UI'!$D$11:$D$109,B33)","v":0},0]
[24,{"$f":"'TAB-C'!B34","v":"C24"},{"$f":"'TAB-C'!D34","v":""},{"$f":"SUMIFS('RP-UI'!$F$11:$F$109,'RP-UI'!$D$11:$D$109,B34)","v":0},{"$f":"SUMIFS('RP-UI'!$G$11:$G$109,'RP-UI'!$D$11:$D$109,B34)","v":0},{"$f":"SUMIFS('RP-UI'!$H$11:$H$109,'RP-UI'!$D$11:$D$109,B34)","v":0},{"$f":"SUMIFS('RP-UI'!$I$11:$I$109,'RP-UI'!$D$11:$D$109,B34)","v":0},{"$f":"SUMIFS('RP-UI'!$J$11:$J$109,'RP-UI'!$D$11:$D$109,B34)","v":0},{"$f":"SUMIFS('RP-UI'!$K$11:$K$109,'RP-UI'!$D$11:$D$109,B34)","v":0},{"$f":"SUMIFS('RP-UI'!$L$11:$L$109,'RP-UI'!$D$11:$D$109,B34)","v":0},{"$f":"SUMIFS('RP-UI'!$M$11:$M$109,'RP-UI'!$D$11:$D$109,B34)","v":0},{"$f":"SUMIFS('RP-UI'!$N$11:$N$109,'RP-UI'!$D$11:$D$109,B34)","v":0},{"$f":"SUMIFS('RP-UI'!$O$11:$O$109,'RP-UI'!$D$11:$D$109,B34)","v":0},{"$f":"SUMIFS('RP-UI'!$P$11:$P$109,'RP-UI'!$D$11:$D$109,B34)","v":0},0]
[25,{"$f":"'TAB-C'!B35","v":"C25"},{"$f":"'TAB-C'!D35","v":""},{"$f":"SUMIFS('RP-UI'!$F$11:$F$109,'RP-UI'!$D$11:$D$109,B35)","v":0},{"$f":"SUMIFS('RP-UI'!$G$11:$G$109,'RP-UI'!$D$11:$D$109,B35)","v":0},{"$f":"SUMIFS('RP-UI'!$H$11:$H$109,'RP-UI'!$D$11:$D$109,B35)","v":0},{"$f":"SUMIFS('RP-UI'!$I$11:$I$109,'RP-UI'!$D$11:$D$109,B35)","v":0},{"$f":"SUMIFS('RP-UI'!$J$11:$J$109,'RP-UI'!$D$11:$D$109,B35)","v":0},{"$f":"SUMIFS('RP-UI'!$K$11:$K$109,'RP-UI'!$D$11:$D$109,B35)","v":0},{"$f":"SUMIFS('RP-UI'!$L$11:$L$109,'RP-UI'!$D$11:$D$109,B35)","v":0},{"$f":"SUMIFS('RP-UI'!$M$11:$M$109,'RP-UI'!$D$11:$D$109,B35)","v":0},{"$f":"SUMIFS('RP-UI'!$N$11:$N$109,'RP-UI'!$D$11:$D$109,B35)","v":0},{"$f":"SUMIFS('RP-UI'!$O$11:$O$109,'RP-UI'!$D$11:$D$109,B35)","v":0},{"$f":"SUMIFS('RP-UI'!$P$11:$P$109,'RP-UI'!$D$11:$D$109,B35)","v":0},0]
[26,{"$f":"'TAB-C'!B36","v":"C26"},{"$f":"'TAB-C'!D36","v":""},{"$f":"SUMIFS('RP-UI'!$F$11:$F$109,'RP-UI'!$D$11:$D$109,B36)","v":0},{"$f":"SUMIFS('RP-UI'!$G$11:$G$109,'RP-UI'!$D$11:$D$109,B36)","v":0},{"$f":"SUMIFS('RP-UI'!$H$11:$H$109,'RP-UI'!$D$11:$D$109,B36)","v":0},{"$f":"SUMIFS('RP-UI'!$I$11:$I$109,'RP-UI'!$D$11:$D$109,B36)","v":0},{"$f":"SUMIFS('RP-UI'!$J$11:$J$109,'RP-UI'!$D$11:$D$109,B36)","v":0},{"$f":"SUMIFS('RP-UI'!$K$11:$K$109,'RP-UI'!$D$11:$D$109,B36)","v":0},{"$f":"SUMIFS('RP-UI'!$L$11:$L$109,'RP-UI'!$D$11:$D$109,B36)","v":0},{"$f":"SUMIFS('RP-UI'!$M$11:$M$109,'RP-UI'!$D$11:$D$109,B36)","v":0},{"$f":"SUMIFS('RP-UI'!$N$11:$N$109,'RP-UI'!$D$11:$D$109,B36)","v":0},{"$f":"SUMIFS('RP-UI'!$O$11:$O$109,'RP-UI'!$D$11:$D$109,B36)","v":0},{"$f":"SUMIFS('RP-UI'!$P$11:$P$109,'RP-UI'!$D$11:$D$109,B36)","v":0},0]
[27,{"$f":"'TAB-C'!B37","v":"C27"},{"$f":"'TAB-C'!D37","v":""},{"$f":"SUMIFS('RP-UI'!$F$11:$F$109,'RP-UI'!$D$11:$D$109,B37)","v":0},{"$f":"SUMIFS('RP-UI'!$G$11:$G$109,'RP-UI'!$D$11:$D$109,B37)","v":0},{"$f":"SUMIFS('RP-UI'!$H$11:$H$109,'RP-UI'!$D$11:$D$109,B37)","v":0},{"$f":"SUMIFS('RP-UI'!$I$11:$I$109,'RP-UI'!$D$11:$D$109,B37)","v":0},{"$f":"SUMIFS('RP-UI'!$J$11:$J$109,'RP-UI'!$D$11:$D$109,B37)","v":0},{"$f":"SUMIFS('RP-UI'!$K$11:$K$109,'RP-UI'!$D$11:$D$109,B37)","v":0},{"$f":"SUMIFS('RP-UI'!$L$11:$L$109,'RP-UI'!$D$11:$D$109,B37)","v":0},{"$f":"SUMIFS('RP-UI'!$M$11:$M$109,'RP-UI'!$D$11:$D$109,B37)","v":0},{"$f":"SUMIFS('RP-UI'!$N$11:$N$109,'RP-UI'!$D$11:$D$109,B37)","v":0},{"$f":"SUMIFS('RP-UI'!$O$11:$O$109,'RP-UI'!$D$11:$D$109,B37)","v":0},{"$f":"SUMIFS('RP-UI'!$P$11:$P$109,'RP-UI'!$D$11:$D$109,B37)","v":0},0]
[28,{"$f":"'TAB-C'!B38","v":"C28"},{"$f":"'TAB-C'!D38","v":""},{"$f":"SUMIFS('RP-UI'!$F$11:$F$109,'RP-UI'!$D$11:$D$109,B38)","v":0},{"$f":"SUMIFS('RP-UI'!$G$11:$G$109,'RP-UI'!$D$11:$D$109,B38)","v":0},{"$f":"SUMIFS('RP-UI'!$H$11:$H$109,'RP-UI'!$D$11:$D$109,B38)","v":0},{"$f":"SUMIFS('RP-UI'!$I$11:$I$109,'RP-UI'!$D$11:$D$109,B38)","v":0},{"$f":"SUMIFS('RP-UI'!$J$11:$J$109,'RP-UI'!$D$11:$D$109,B38)","v":0},{"$f":"SUMIFS('RP-UI'!$K$11:$K$109,'RP-UI'!$D$11:$D$109,B38)","v":0},{"$f":"SUMIFS('RP-UI'!$L$11:$L$109,'RP-UI'!$D$11:$D$109,B38)","v":0},{"$f":"SUMIFS('RP-UI'!$M$11:$M$109,'RP-UI'!$D$11:$D$109,B38)","v":0},{"$f":"SUMIFS('RP-UI'!$N$11:$N$109,'RP-UI'!$D$11:$D$109,B38)","v":0},{"$f":"SUMIFS('RP-UI'!$O$11:$O$109,'RP-UI'!$D$11:$D$109,B38)","v":0},{"$f":"SUMIFS('RP-UI'!$P$11:$P$109,'RP-UI'!$D$11:$D$109,B38)","v":0},0]
[29,{"$f":"'TAB-C'!B39","v":"C29"},{"$f":"'TAB-C'!D39","v":""},{"$f":"SUMIFS('RP-UI'!$F$11:$F$109,'RP-UI'!$D$11:$D$109,B39)","v":0},{"$f":"SUMIFS('RP-UI'!$G$11:$G$109,'RP-UI'!$D$11:$D$109,B39)","v":0},{"$f":"SUMIFS('RP-UI'!$H$11:$H$109,'RP-UI'!$D$11:$D$109,B39)","v":0},{"$f":"SUMIFS('RP-UI'!$I$11:$I$109,'RP-UI'!$D$11:$D$109,B39)","v":0},{"$f":"SUMIFS('RP-UI'!$J$11:$J$109,'RP-UI'!$D$11:$D$109,B39)","v":0},{"$f":"SUMIFS('RP-UI'!$K$11:$K$109,'RP-UI'!$D$11:$D$109,B39)","v":0},{"$f":"SUMIFS('RP-UI'!$L$11:$L$109,'RP-UI'!$D$11:$D$109,B39)","v":0},{"$f":"SUMIFS('RP-UI'!$M$11:$M$109,'RP-UI'!$D$11:$D$109,B39)","v":0},{"$f":"SUMIFS('RP-UI'!$N$11:$N$109,'RP-UI'!$D$11:$D$109,B39)","v":0},{"$f":"SUMIFS('RP-UI'!$O$11:$O$109,'RP-UI'!$D$11:$D$109,B39)","v":0},{"$f":"SUMIFS('RP-UI'!$P$11:$P$109,'RP-UI'!$D$11:$D$109,B39)","v":0},0]
[30,{"$f":"'TAB-C'!B40","v":"C30"},{"$f":"'TAB-C'!D40","v":""},{"$f":"SUMIFS('RP-UI'!$F$11:$F$109,'RP-UI'!$D$11:$D$109,B40)","v":0},{"$f":"SUMIFS('RP-UI'!$G$11:$G$109,'RP-UI'!$D$11:$D$109,B40)","v":0},{"$f":"SUMIFS('RP-UI'!$H$11:$H$109,'RP-UI'!$D$11:$D$109,B40)","v":0},{"$f":"SUMIFS('RP-UI'!$I$11:$I$109,'RP-UI'!$D$11:$D$109,B40)","v":0},{"$f":"SUMIFS('RP-UI'!$J$11:$J$109,'RP-UI'!$D$11:$D$109,B40)","v":0},{"$f":"SUMIFS('RP-UI'!$K$11:$K$109,'RP-UI'!$D$11:$D$109,B40)","v":0},{"$f":"SUMIFS('RP-UI'!$L$11:$L$109,'RP-UI'!$D$11:$D$109,B40)","v":0},{"$f":"SUMIFS('RP-UI'!$M$11:$M$109,'RP-UI'!$D$11:$D$109,B40)","v":0},{"$f":"SUMIFS('RP-UI'!$N$11:$N$109,'RP-UI'!$D$11:$D$109,B40)","v":0},{"$f":"SUMIFS('RP-UI'!$O$11:$O$109,'RP-UI'!$D$11:$D$109,B40)","v":0},{"$f":"SUMIFS('RP-UI'!$P$11:$P$109,'RP-UI'!$D$11:$D$109,B40)","v":0},0]
[31,{"$f":"'TAB-C'!B41","v":"C31"},{"$f":"'TAB-C'!D41","v":""},{"$f":"SUMIFS('RP-UI'!$F$11:$F$109,'RP-UI'!$D$11:$D$109,B41)","v":0},{"$f":"SUMIFS('RP-UI'!$G$11:$G$109,'RP-UI'!$D$11:$D$109,B41)","v":0},{"$f":"SUMIFS('RP-UI'!$H$11:$H$109,'RP-UI'!$D$11:$D$109,B41)","v":0},{"$f":"SUMIFS('RP-UI'!$I$11:$I$109,'RP-UI'!$D$11:$D$109,B41)","v":0},{"$f":"SUMIFS('RP-UI'!$J$11:$J$109,'RP-UI'!$D$11:$D$109,B41)","v":0},{"$f":"SUMIFS('RP-UI'!$K$11:$K$109,'RP-UI'!$D$11:$D$109,B41)","v":0},{"$f":"SUMIFS('RP-UI'!$L$11:$L$109,'RP-UI'!$D$11:$D$109,B41)","v":0},{"$f":"SUMIFS('RP-UI'!$M$11:$M$109,'RP-UI'!$D$11:$D$109,B41)","v":0},{"$f":"SUMIFS('RP-UI'!$N$11:$N$109,'RP-UI'!$D$11:$D$109,B41)","v":0},{"$f":"SUMIFS('RP-UI'!$O$11:$O$109,'RP-UI'!$D$11:$D$109,B41)","v":0},{"$f":"SUMIFS('RP-UI'!$P$11:$P$109,'RP-UI'!$D$11:$D$109,B41)","v":0},0]
[32,{"$f":"'TAB-C'!B42","v":"C32"},{"$f":"'TAB-C'!D42","v":""},{"$f":"SUMIFS('RP-UI'!$F$11:$F$109,'RP-UI'!$D$11:$D$109,B42)","v":0},{"$f":"SUMIFS('RP-UI'!$G$11:$G$109,'RP-UI'!$D$11:$D$109,B42)","v":0},{"$f":"SUMIFS('RP-UI'!$H$11:$H$109,'RP-UI'!$D$11:$D$109,B42)","v":0},{"$f":"SUMIFS('RP-UI'!$I$11:$I$109,'RP-UI'!$D$11:$D$109,B42)","v":0},{"$f":"SUMIFS('RP-UI'!$J$11:$J$109,'RP-UI'!$D$11:$D$109,B42)","v":0},{"$f":"SUMIFS('RP-UI'!$K$11:$K$109,'RP-UI'!$D$11:$D$109,B42)","v":0},{"$f":"SUMIFS('RP-UI'!$L$11:$L$109,'RP-UI'!$D$11:$D$109,B42)","v":0},{"$f":"SUMIFS('RP-UI'!$M$11:$M$109,'RP-UI'!$D$11:$D$109,B42)","v":0},{"$f":"SUMIFS('RP-UI'!$N$11:$N$109,'RP-UI'!$D$11:$D$109,B42)","v":0},{"$f":"SUMIFS('RP-UI'!$O$11:$O$109,'RP-UI'!$D$11:$D$109,B42)","v":0},{"$f":"SUMIFS('RP-UI'!$P$11:$P$109,'RP-UI'!$D$11:$D$109,B42)","v":0},0]
[33,{"$f":"'TAB-C'!B43","v":"C33"},{"$f":"'TAB-C'!D43","v":""},{"$f":"SUMIFS('RP-UI'!$F$11:$F$109,'RP-UI'!$D$11:$D$109,B43)","v":0},{"$f":"SUMIFS('RP-UI'!$G$11:$G$109,'RP-UI'!$D$11:$D$109,B43)","v":0},{"$f":"SUMIFS('RP-UI'!$H$11:$H$109,'RP-UI'!$D$11:$D$109,B43)","v":0},{"$f":"SUMIFS('RP-UI'!$I$11:$I$109,'RP-UI'!$D$11:$D$109,B43)","v":0},{"$f":"SUMIFS('RP-UI'!$J$11:$J$109,'RP-UI'!$D$11:$D$109,B43)","v":0},{"$f":"SUMIFS('RP-UI'!$K$11:$K$109,'RP-UI'!$D$11:$D$109,B43)","v":0},{"$f":"SUMIFS('RP-UI'!$L$11:$L$109,'RP-UI'!$D$11:$D$109,B43)","v":0},{"$f":"SUMIFS('RP-UI'!$M$11:$M$109,'RP-UI'!$D$11:$D$109,B43)","v":0},{"$f":"SUMIFS('RP-UI'!$N$11:$N$109,'RP-UI'!$D$11:$D$109,B43)","v":0},{"$f":"SUMIFS('RP-UI'!$O$11:$O$109,'RP-UI'!$D$11:$D$109,B43)","v":0},{"$f":"SUMIFS('RP-UI'!$P$11:$P$109,'RP-UI'!$D$11:$D$109,B43)","v":0},0]
[34,{"$f":"'TAB-C'!B44","v":"C34"},{"$f":"'TAB-C'!D44","v":""},{"$f":"SUMIFS('RP-UI'!$F$11:$F$109,'RP-UI'!$D$11:$D$109,B44)","v":0},{"$f":"SUMIFS('RP-UI'!$G$11:$G$109,'RP-UI'!$D$11:$D$109,B44)","v":0},{"$f":"SUMIFS('RP-UI'!$H$11:$H$109,'RP-UI'!$D$11:$D$109,B44)","v":0},{"$f":"SUMIFS('RP-UI'!$I$11:$I$109,'RP-UI'!$D$11:$D$109,B44)","v":0},{"$f":"SUMIFS('RP-UI'!$J$11:$J$109,'RP-UI'!$D$11:$D$109,B44)","v":0},{"$f":"SUMIFS('RP-UI'!$K$11:$K$109,'RP-UI'!$D$11:$D$109,B44)","v":0},{"$f":"SUMIFS('RP-UI'!$L$11:$L$109,'RP-UI'!$D$11:$D$109,B44)","v":0},{"$f":"SUMIFS('RP-UI'!$M$11:$M$109,'RP-UI'!$D$11:$D$109,B44)","v":0},{"$f":"SUMIFS('RP-UI'!$N$11:$N$109,'RP-UI'!$D$11:$D$109,B44)","v":0},{"$f":"SUMIFS('RP-UI'!$O$11:$O$109,'RP-UI'!$D$11:$D$109,B44)","v":0},{"$f":"SUMIFS('RP-UI'!$P$11:$P$109,'RP-UI'!$D$11:$D$109,B44)","v":0},0]
[35,{"$f":"'TAB-C'!B45","v":"C35"},{"$f":"'TAB-C'!D45","v":""},{"$f":"SUMIFS('RP-UI'!$F$11:$F$109,'RP-UI'!$D$11:$D$109,B45)","v":0},{"$f":"SUMIFS('RP-UI'!$G$11:$G$109,'RP-UI'!$D$11:$D$109,B45)","v":0},{"$f":"SUMIFS('RP-UI'!$H$11:$H$109,'RP-UI'!$D$11:$D$109,B45)","v":0},{"$f":"SUMIFS('RP-UI'!$I$11:$I$109,'RP-UI'!$D$11:$D$109,B45)","v":0},{"$f":"SUMIFS('RP-UI'!$J$11:$J$109,'RP-UI'!$D$11:$D$109,B45)","v":0},{"$f":"SUMIFS('RP-UI'!$K$11:$K$109,'RP-UI'!$D$11:$D$109,B45)","v":0},{"$f":"SUMIFS('RP-UI'!$L$11:$L$109,'RP-UI'!$D$11:$D$109,B45)","v":0},{"$f":"SUMIFS('RP-UI'!$M$11:$M$109,'RP-UI'!$D$11:$D$109,B45)","v":0},{"$f":"SUMIFS('RP-UI'!$N$11:$N$109,'RP-UI'!$D$11:$D$109,B45)","v":0},{"$f":"SUMIFS('RP-UI'!$O$11:$O$109,'RP-UI'!$D$11:$D$109,B45)","v":0},{"$f":"SUMIFS('RP-UI'!$P$11:$P$109,'RP-UI'!$D$11:$D$109,B45)","v":0},0]
[36,{"$f":"'TAB-C'!B46","v":"C36"},{"$f":"'TAB-C'!D46","v":""},{"$f":"SUMIFS('RP-UI'!$F$11:$F$109,'RP-UI'!$D$11:$D$109,B46)","v":0},{"$f":"SUMIFS('RP-UI'!$G$11:$G$109,'RP-UI'!$D$11:$D$109,B46)","v":0},{"$f":"SUMIFS('RP-UI'!$H$11:$H$109,'RP-UI'!$D$11:$D$109,B46)","v":0},{"$f":"SUMIFS('RP-UI'!$I$11:$I$109,'RP-UI'!$D$11:$D$109,B46)","v":0},{"$f":"SUMIFS('RP-UI'!$J$11:$J$109,'RP-UI'!$D$11:$D$109,B46)","v":0},{"$f":"SUMIFS('RP-UI'!$K$11:$K$109,'RP-UI'!$D$11:$D$109,B46)","v":0},{"$f":"SUMIFS('RP-UI'!$L$11:$L$109,'RP-UI'!$D$11:$D$109,B46)","v":0},{"$f":"SUMIFS('RP-UI'!$M$11:$M$109,'RP-UI'!$D$11:$D$109,B46)","v":0},{"$f":"SUMIFS('RP-UI'!$N$11:$N$109,'RP-UI'!$D$11:$D$109,B46)","v":0},{"$f":"SUMIFS('RP-UI'!$O$11:$O$109,'RP-UI'!$D$11:$D$109,B46)","v":0},{"$f":"SUMIFS('RP-UI'!$P$11:$P$109,'RP-UI'!$D$11:$D$109,B46)","v":0},0]
[37,{"$f":"'TAB-C'!B47","v":"C37"},{"$f":"'TAB-C'!D47","v":""},{"$f":"SUMIFS('RP-UI'!$F$11:$F$109,'RP-UI'!$D$11:$D$109,B47)","v":0},{"$f":"SUMIFS('RP-UI'!$G$11:$G$109,'RP-UI'!$D$11:$D$109,B47)","v":0},{"$f":"SUMIFS('RP-UI'!$H$11:$H$109,'RP-UI'!$D$11:$D$109,B47)","v":0},{"$f":"SUMIFS('RP-UI'!$I$11:$I$109,'RP-UI'!$D$11:$D$109,B47)","v":0},{"$f":"SUMIFS('RP-UI'!$J$11:$J$109,'RP-UI'!$D$11:$D$109,B47)","v":0},{"$f":"SUMIFS('RP-UI'!$K$11:$K$109,'RP-UI'!$D$11:$D$109,B47)","v":0},{"$f":"SUMIFS('RP-UI'!$L$11:$L$109,'RP-UI'!$D$11:$D$109,B47)","v":0},{"$f":"SUMIFS('RP-UI'!$M$11:$M$109,'RP-UI'!$D$11:$D$109,B47)","v":0},{"$f":"SUMIFS('RP-UI'!$N$11:$N$109,'RP-UI'!$D$11:$D$109,B47)","v":0},{"$f":"SUMIFS('RP-UI'!$O$11:$O$109,'RP-UI'!$D$11:$D$109,B47)","v":0},{"$f":"SUMIFS('RP-UI'!$P$11:$P$109,'RP-UI'!$D$11:$D$109,B47)","v":0},0]
[38,{"$f":"'TAB-C'!B48","v":"C38"},{"$f":"'TAB-C'!D48","v":""},{"$f":"SUMIFS('RP-UI'!$F$11:$F$109,'RP-UI'!$D$11:$D$109,B48)","v":0},{"$f":"SUMIFS('RP-UI'!$G$11:$G$109,'RP-UI'!$D$11:$D$109,B48)","v":0},{"$f":"SUMIFS('RP-UI'!$H$11:$H$109,'RP-UI'!$D$11:$D$109,B48)","v":0},{"$f":"SUMIFS('RP-UI'!$I$11:$I$109,'RP-UI'!$D$11:$D$109,B48)","v":0},{"$f":"SUMIFS('RP-UI'!$J$11:$J$109,'RP-UI'!$D$11:$D$109,B48)","v":0},{"$f":"SUMIFS('RP-UI'!$K$11:$K$109,'RP-UI'!$D$11:$D$109,B48)","v":0},{"$f":"SUMIFS('RP-UI'!$L$11:$L$109,'RP-UI'!$D$11:$D$109,B48)","v":0},{"$f":"SUMIFS('RP-UI'!$M$11:$M$109,'RP-UI'!$D$11:$D$109,B48)","v":0},{"$f":"SUMIFS('RP-UI'!$N$11:$N$109,'RP-UI'!$D$11:$D$109,B48)","v":0},{"$f":"SUMIFS('RP-UI'!$O$11:$O$109,'RP-UI'!$D$11:$D$109,B48)","v":0},{"$f":"SUMIFS('RP-UI'!$P$11:$P$109,'RP-UI'!$D$11:$D$109,B48)","v":0},0]
[39,{"$f":"'TAB-C'!B49","v":"C39"},{"$f":"'TAB-C'!D49","v":""},{"$f":"SUMIFS('RP-UI'!$F$11:$F$109,'RP-UI'!$D$11:$D$109,B49)","v":0},{"$f":"SUMIFS('RP-UI'!$G$11:$G$109,'RP-UI'!$D$11:$D$109,B49)","v":0},{"$f":"SUMIFS('RP-UI'!$H$11:$H$109,'RP-UI'!$D$11:$D$109,B49)","v":0},{"$f":"SUMIFS('RP-UI'!$I$11:$I$109,'RP-UI'!$D$11:$D$109,B49)","v":0},{"$f":"SUMIFS('RP-UI'!$J$11:$J$109,'RP-UI'!$D$11:$D$109,B49)","v":0},{"$f":"SUMIFS('RP-UI'!$K$11:$K$109,'RP-UI'!$D$11:$D$109,B49)","v":0},{"$f":"SUMIFS('RP-UI'!$L$11:$L$109,'RP-UI'!$D$11:$D$109,B49)","v":0},{"$f":"SUMIFS('RP-UI'!$M$11:$M$109,'RP-UI'!$D$11:$D$109,B49)","v":0},{"$f":"SUMIFS('RP-UI'!$N$11:$N$109,'RP-UI'!$D$11:$D$109,B49)","v":0},{"$f":"SUMIFS('RP-UI'!$O$11:$O$109,'RP-UI'!$D$11:$D$109,B49)","v":0},{"$f":"SUMIFS('RP-UI'!$P$11:$P$109,'RP-UI'!$D$11:$D$109,B49)","v":0},0]
[40,{"$f":"'TAB-C'!B50","v":"C40"},{"$f":"'TAB-C'!D50","v":""},{"$f":"SUMIFS('RP-UI'!$F$11:$F$109,'RP-UI'!$D$11:$D$109,B50)","v":0},{"$f":"SUMIFS('RP-UI'!$G$11:$G$109,'RP-UI'!$D$11:$D$109,B50)","v":0},{"$f":"SUMIFS('RP-UI'!$H$11:$H$109,'RP-UI'!$D$11:$D$109,B50)","v":0},{"$f":"SUMIFS('RP-UI'!$I$11:$I$109,'RP-UI'!$D$11:$D$109,B50)","v":0},{"$f":"SUMIFS('RP-UI'!$J$11:$J$109,'RP-UI'!$D$11:$D$109,B50)","v":0},{"$f":"SUMIFS('RP-UI'!$K$11:$K$109,'RP-UI'!$D$11:$D$109,B50)","v":0},{"$f":"SUMIFS('RP-UI'!$L$11:$L$109,'RP-UI'!$D$11:$D$109,B50)","v":0},{"$f":"SUMIFS('RP-UI'!$M$11:$M$109,'RP-UI'!$D$11:$D$109,B50)","v":0},{"$f":"SUMIFS('RP-UI'!$N$11:$N$109,'RP-UI'!$D$11:$D$109,B50)","v":0},{"$f":"SUMIFS('RP-UI'!$O$11:$O$109,'RP-UI'!$D$11:$D$109,B50)","v":0},{"$f":"SUMIFS('RP-UI'!$P$11:$P$109,'RP-UI'!$D$11:$D$109,B50)","v":0},0]
[41,{"$f":"'TAB-C'!B51","v":"C41"},{"$f":"'TAB-C'!D51","v":""},{"$f":"SUMIFS('RP-UI'!$F$11:$F$109,'RP-UI'!$D$11:$D$109,B51)","v":0},{"$f":"SUMIFS('RP-UI'!$G$11:$G$109,'RP-UI'!$D$11:$D$109,B51)","v":0},{"$f":"SUMIFS('RP-UI'!$H$11:$H$109,'RP-UI'!$D$11:$D$109,B51)","v":0},{"$f":"SUMIFS('RP-UI'!$I$11:$I$109,'RP-UI'!$D$11:$D$109,B51)","v":0},{"$f":"SUMIFS('RP-UI'!$J$11:$J$109,'RP-UI'!$D$11:$D$109,B51)","v":0},{"$f":"SUMIFS('RP-UI'!$K$11:$K$109,'RP-UI'!$D$11:$D$109,B51)","v":0},{"$f":"SUMIFS('RP-UI'!$L$11:$L$109,'RP-UI'!$D$11:$D$109,B51)","v":0},{"$f":"SUMIFS('RP-UI'!$M$11:$M$109,'RP-UI'!$D$11:$D$109,B51)","v":0},{"$f":"SUMIFS('RP-UI'!$N$11:$N$109,'RP-UI'!$D$11:$D$109,B51)","v":0},{"$f":"SUMIFS('RP-UI'!$O$11:$O$109,'RP-UI'!$D$11:$D$109,B51)","v":0},{"$f":"SUMIFS('RP-UI'!$P$11:$P$109,'RP-UI'!$D$11:$D$109,B51)","v":0},0]
[42,{"$f":"'TAB-C'!B52","v":"C42"},{"$f":"'TAB-C'!D52","v":""},{"$f":"SUMIFS('RP-UI'!$F$11:$F$109,'RP-UI'!$D$11:$D$109,B52)","v":0},{"$f":"SUMIFS('RP-UI'!$G$11:$G$109,'RP-UI'!$D$11:$D$109,B52)","v":0},{"$f":"SUMIFS('RP-UI'!$H$11:$H$109,'RP-UI'!$D$11:$D$109,B52)","v":0},{"$f":"SUMIFS('RP-UI'!$I$11:$I$109,'RP-UI'!$D$11:$D$109,B52)","v":0},{"$f":"SUMIFS('RP-UI'!$J$11:$J$109,'RP-UI'!$D$11:$D$109,B52)","v":0},{"$f":"SUMIFS('RP-UI'!$K$11:$K$109,'RP-UI'!$D$11:$D$109,B52)","v":0},{"$f":"SUMIFS('RP-UI'!$L$11:$L$109,'RP-UI'!$D$11:$D$109,B52)","v":0},{"$f":"SUMIFS('RP-UI'!$M$11:$M$109,'RP-UI'!$D$11:$D$109,B52)","v":0},{"$f":"SUMIFS('RP-UI'!$N$11:$N$109,'RP-UI'!$D$11:$D$109,B52)","v":0},{"$f":"SUMIFS('RP-UI'!$O$11:$O$109,'RP-UI'!$D$11:$D$109,B52)","v":0},{"$f":"SUMIFS('RP-UI'!$P$11:$P$109,'RP-UI'!$D$11:$D$109,B52)","v":0},0]
[43,{"$f":"'TAB-C'!B53","v":"C43"},{"$f":"'TAB-C'!D53","v":""},{"$f":"SUMIFS('RP-UI'!$F$11:$F$109,'RP-UI'!$D$11:$D$109,B53)","v":0},{"$f":"SUMIFS('RP-UI'!$G$11:$G$109,'RP-UI'!$D$11:$D$109,B53)","v":0},{"$f":"SUMIFS('RP-UI'!$H$11:$H$109,'RP-UI'!$D$11:$D$109,B53)","v":0},{"$f":"SUMIFS('RP-UI'!$I$11:$I$109,'RP-UI'!$D$11:$D$109,B53)","v":0},{"$f":"SUMIFS('RP-UI'!$J$11:$J$109,'RP-UI'!$D$11:$D$109,B53)","v":0},{"$f":"SUMIFS('RP-UI'!$K$11:$K$109,'RP-UI'!$D$11:$D$109,B53)","v":0},{"$f":"SUMIFS('RP-UI'!$L$11:$L$109,'RP-UI'!$D$11:$D$109,B53)","v":0},{"$f":"SUMIFS('RP-UI'!$M$11:$M$109,'RP-UI'!$D$11:$D$109,B53)","v":0},{"$f":"SUMIFS('RP-UI'!$N$11:$N$109,'RP-UI'!$D$11:$D$109,B53)","v":0},{"$f":"SUMIFS('RP-UI'!$O$11:$O$109,'RP-UI'!$D$11:$D$109,B53)","v":0},{"$f":"SUMIFS('RP-UI'!$P$11:$P$109,'RP-UI'!$D$11:$D$109,B53)","v":0},0]
[44,{"$f":"'TAB-C'!B54","v":"C44"},{"$f":"'TAB-C'!D54","v":""},{"$f":"SUMIFS('RP-UI'!$F$11:$F$109,'RP-UI'!$D$11:$D$109,B54)","v":0},{"$f":"SUMIFS('RP-UI'!$G$11:$G$109,'RP-UI'!$D$11:$D$109,B54)","v":0},{"$f":"SUMIFS('RP-UI'!$H$11:$H$109,'RP-UI'!$D$11:$D$109,B54)","v":0},{"$f":"SUMIFS('RP-UI'!$I$11:$I$109,'RP-UI'!$D$11:$D$109,B54)","v":0},{"$f":"SUMIFS('RP-UI'!$J$11:$J$109,'RP-UI'!$D$11:$D$109,B54)","v":0},{"$f":"SUMIFS('RP-UI'!$K$11:$K$109,'RP-UI'!$D$11:$D$109,B54)","v":0},{"$f":"SUMIFS('RP-UI'!$L$11:$L$109,'RP-UI'!$D$11:$D$109,B54)","v":0},{"$f":"SUMIFS('RP-UI'!$M$11:$M$109,'RP-UI'!$D$11:$D$109,B54)","v":0},{"$f":"SUMIFS('RP-UI'!$N$11:$N$109,'RP-UI'!$D$11:$D$109,B54)","v":0},{"$f":"SUMIFS('RP-UI'!$O$11:$O$109,'RP-UI'!$D$11:$D$109,B54)","v":0},{"$f":"SUMIFS('RP-UI'!$P$11:$P$109,'RP-UI'!$D$11:$D$109,B54)","v":0},0]
[45,{"$f":"'TAB-C'!B55","v":"C45"},{"$f":"'TAB-C'!D55","v":""},{"$f":"SUMIFS('RP-UI'!$F$11:$F$109,'RP-UI'!$D$11:$D$109,B55)","v":0},{"$f":"SUMIFS('RP-UI'!$G$11:$G$109,'RP-UI'!$D$11:$D$109,B55)","v":0},{"$f":"SUMIFS('RP-UI'!$H$11:$H$109,'RP-UI'!$D$11:$D$109,B55)","v":0},{"$f":"SUMIFS('RP-UI'!$I$11:$I$109,'RP-UI'!$D$11:$D$109,B55)","v":0},{"$f":"SUMIFS('RP-UI'!$J$11:$J$109,'RP-UI'!$D$11:$D$109,B55)","v":0},{"$f":"SUMIFS('RP-UI'!$K$11:$K$109,'RP-UI'!$D$11:$D$109,B55)","v":0},{"$f":"SUMIFS('RP-UI'!$L$11:$L$109,'RP-UI'!$D$11:$D$109,B55)","v":0},{"$f":"SUMIFS('RP-UI'!$M$11:$M$109,'RP-UI'!$D$11:$D$109,B55)","v":0},{"$f":"SUMIFS('RP-UI'!$N$11:$N$109,'RP-UI'!$D$11:$D$109,B55)","v":0},{"$f":"SUMIFS('RP-UI'!$O$11:$O$109,'RP-UI'!$D$11:$D$109,B55)","v":0},{"$f":"SUMIFS('RP-UI'!$P$11:$P$109,'RP-UI'!$D$11:$D$109,B55)","v":0},0]
[46,{"$f":"'TAB-C'!B56","v":"C46"},{"$f":"'TAB-C'!D56","v":""},{"$f":"SUMIFS('RP-UI'!$F$11:$F$109,'RP-UI'!$D$11:$D$109,B56)","v":0},{"$f":"SUMIFS('RP-UI'!$G$11:$G$109,'RP-UI'!$D$11:$D$109,B56)","v":0},{"$f":"SUMIFS('RP-UI'!$H$11:$H$109,'RP-UI'!$D$11:$D$109,B56)","v":0},{"$f":"SUMIFS('RP-UI'!$I$11:$I$109,'RP-UI'!$D$11:$D$109,B56)","v":0},{"$f":"SUMIFS('RP-UI'!$J$11:$J$109,'RP-UI'!$D$11:$D$109,B56)","v":0},{"$f":"SUMIFS('RP-UI'!$K$11:$K$109,'RP-UI'!$D$11:$D$109,B56)","v":0},{"$f":"SUMIFS('RP-UI'!$L$11:$L$109,'RP-UI'!$D$11:$D$109,B56)","v":0},{"$f":"SUMIFS('RP-UI'!$M$11:$M$109,'RP-UI'!$D$11:$D$109,B56)","v":0},{"$f":"SUMIFS('RP-UI'!$N$11:$N$109,'RP-UI'!$D$11:$D$109,B56)","v":0},{"$f":"SUMIFS('RP-UI'!$O$11:$O$109,'RP-UI'!$D$11:$D$109,B56)","v":0},{"$f":"SUMIFS('RP-UI'!$P$11:$P$109,'RP-UI'!$D$11:$D$109,B56)","v":0},0]
[47,{"$f":"'TAB-C'!B57","v":"C47"},{"$f":"'TAB-C'!D57","v":""},{"$f":"SUMIFS('RP-UI'!$F$11:$F$109,'RP-UI'!$D$11:$D$109,B57)","v":0},{"$f":"SUMIFS('RP-UI'!$G$11:$G$109,'RP-UI'!$D$11:$D$109,B57)","v":0},{"$f":"SUMIFS('RP-UI'!$H$11:$H$109,'RP-UI'!$D$11:$D$109,B57)","v":0},{"$f":"SUMIFS('RP-UI'!$I$11:$I$109,'RP-UI'!$D$11:$D$109,B57)","v":0},{"$f":"SUMIFS('RP-UI'!$J$11:$J$109,'RP-UI'!$D$11:$D$109,B57)","v":0},{"$f":"SUMIFS('RP-UI'!$K$11:$K$109,'RP-UI'!$D$11:$D$109,B57)","v":0},{"$f":"SUMIFS('RP-UI'!$L$11:$L$109,'RP-UI'!$D$11:$D$109,B57)","v":0},{"$f":"SUMIFS('RP-UI'!$M$11:$M$109,'RP-UI'!$D$11:$D$109,B57)","v":0},{"$f":"SUMIFS('RP-UI'!$N$11:$N$109,'RP-UI'!$D$11:$D$109,B57)","v":0},{"$f":"SUMIFS('RP-UI'!$O$11:$O$109,'RP-UI'!$D$11:$D$109,B57)","v":0},{"$f":"SUMIFS('RP-UI'!$P$11:$P$109,'RP-UI'!$D$11:$D$109,B57)","v":0},0]
[48,{"$f":"'TAB-C'!B58","v":"C48"},{"$f":"'TAB-C'!D58","v":""},{"$f":"SUMIFS('RP-UI'!$F$11:$F$109,'RP-UI'!$D$11:$D$109,B58)","v":0},{"$f":"SUMIFS('RP-UI'!$G$11:$G$109,'RP-UI'!$D$11:$D$109,B58)","v":0},{"$f":"SUMIFS('RP-UI'!$H$11:$H$109,'RP-UI'!$D$11:$D$109,B58)","v":0},{"$f":"SUMIFS('RP-UI'!$I$11:$I$109,'RP-UI'!$D$11:$D$109,B58)","v":0},{"$f":"SUMIFS('RP-UI'!$J$11:$J$109,'RP-UI'!$D$11:$D$109,B58)","v":0},{"$f":"SUMIFS('RP-UI'!$K$11:$K$109,'RP-UI'!$D$11:$D$109,B58)","v":0},{"$f":"SUMIFS('RP-UI'!$L$11:$L$109,'RP-UI'!$D$11:$D$109,B58)","v":0},{"$f":"SUMIFS('RP-UI'!$M$11:$M$109,'RP-UI'!$D$11:$D$109,B58)","v":0},{"$f":"SUMIFS('RP-UI'!$N$11:$N$109,'RP-UI'!$D$11:$D$109,B58)","v":0},{"$f":"SUMIFS('RP-UI'!$O$11:$O$109,'RP-UI'!$D$11:$D$109,B58)","v":0},{"$f":"SUMIFS('RP-UI'!$P$11:$P$109,'RP-UI'!$D$11:$D$109,B58)","v":0},0]
[49,{"$f":"'TAB-C'!B59","v":"C49"},{"$f":"'TAB-C'!D59","v":""},{"$f":"SUMIFS('RP-UI'!$F$11:$F$109,'RP-UI'!$D$11:$D$109,B59)","v":0},{"$f":"SUMIFS('RP-UI'!$G$11:$G$109,'RP-UI'!$D$11:$D$109,B59)","v":0},{"$f":"SUMIFS('RP-UI'!$H$11:$H$109,'RP-UI'!$D$11:$D$109,B59)","v":0},{"$f":"SUMIFS('RP-UI'!$I$11:$I$109,'RP-UI'!$D$11:$D$109,B59)","v":0},{"$f":"SUMIFS('RP-UI'!$J$11:$J$109,'RP-UI'!$D$11:$D$109,B59)","v":0},{"$f":"SUMIFS('RP-UI'!$K$11:$K$109,'RP-UI'!$D$11:$D$109,B59)","v":0},{"$f":"SUMIFS('RP-UI'!$L$11:$L$109,'RP-UI'!$D$11:$D$109,B59)","v":0},{"$f":"SUMIFS('RP-UI'!$M$11:$M$109,'RP-UI'!$D$11:$D$109,B59)","v":0},{"$f":"SUMIFS('RP-UI'!$N$11:$N$109,'RP-UI'!$D$11:$D$109,B59)","v":0},{"$f":"SUMIFS('RP-UI'!$O$11:$O$109,'RP-UI'!$D$11:$D$109,B59)","v":0},{"$f":"SUMIFS('RP-UI'!$P$11:$P$109,'RP-UI'!$D$11:$D$109,B59)","v":0},0]
[50,{"$f":"'TAB-C'!B60","v":"C50"},{"$f":"'TAB-C'!D60","v":""},{"$f":"SUMIFS('RP-UI'!$F$11:$F$109,'RP-UI'!$D$11:$D$109,B60)","v":0},{"$f":"SUMIFS('RP-UI'!$G$11:$G$109,'RP-UI'!$D$11:$D$109,B60)","v":0},{"$f":"SUMIFS('RP-UI'!$H$11:$H$109,'RP-UI'!$D$11:$D$109,B60)","v":0},{"$f":"SUMIFS('RP-UI'!$I$11:$I$109,'RP-UI'!$D$11:$D$109,B60)","v":0},{"$f":"SUMIFS('RP-UI'!$J$11:$J$109,'RP-UI'!$D$11:$D$109,B60)","v":0},{"$f":"SUMIFS('RP-UI'!$K$11:$K$109,'RP-UI'!$D$11:$D$109,B60)","v":0},{"$f":"SUMIFS('RP-UI'!$L$11:$L$109,'RP-UI'!$D$11:$D$109,B60)","v":0},{"$f":"SUMIFS('RP-UI'!$M$11:$M$109,'RP-UI'!$D$11:$D$109,B60)","v":0},{"$f":"SUMIFS('RP-UI'!$N$11:$N$109,'RP-UI'!$D$11:$D$109,B60)","v":0},{"$f":"SUMIFS('RP-UI'!$O$11:$O$109,'RP-UI'!$D$11:$D$109,B60)","v":0},{"$f":"SUMIFS('RP-UI'!$P$11:$P$109,'RP-UI'!$D$11:$D$109,B60)","v":0},0]
[51,{"$f":"'TAB-C'!B61","v":"C51"},{"$f":"'TAB-C'!D61","v":""},{"$f":"SUMIFS('RP-UI'!$F$11:$F$109,'RP-UI'!$D$11:$D$109,B61)","v":0},{"$f":"SUMIFS('RP-UI'!$G$11:$G$109,'RP-UI'!$D$11:$D$109,B61)","v":0},{"$f":"SUMIFS('RP-UI'!$H$11:$H$109,'RP-UI'!$D$11:$D$109,B61)","v":0},{"$f":"SUMIFS('RP-UI'!$I$11:$I$109,'RP-UI'!$D$11:$D$109,B61)","v":0},{"$f":"SUMIFS('RP-UI'!$J$11:$J$109,'RP-UI'!$D$11:$D$109,B61)","v":0},{"$f":"SUMIFS('RP-UI'!$K$11:$K$109,'RP-UI'!$D$11:$D$109,B61)","v":0},{"$f":"SUMIFS('RP-UI'!$L$11:$L$109,'RP-UI'!$D$11:$D$109,B61)","v":0},{"$f":"SUMIFS('RP-UI'!$M$11:$M$109,'RP-UI'!$D$11:$D$109,B61)","v":0},{"$f":"SUMIFS('RP-UI'!$N$11:$N$109,'RP-UI'!$D$11:$D$109,B61)","v":0},{"$f":"SUMIFS('RP-UI'!$O$11:$O$109,'RP-UI'!$D$11:$D$109,B61)","v":0},{"$f":"SUMIFS('RP-UI'!$P$11:$P$109,'RP-UI'!$D$11:$D$109,B61)","v":0},0]
[52,{"$f":"'TAB-C'!B62","v":"C52"},{"$f":"'TAB-C'!D62","v":""},{"$f":"SUMIFS('RP-UI'!$F$11:$F$109,'RP-UI'!$D$11:$D$109,B62)","v":0},{"$f":"SUMIFS('RP-UI'!$G$11:$G$109,'RP-UI'!$D$11:$D$109,B62)","v":0},{"$f":"SUMIFS('RP-UI'!$H$11:$H$109,'RP-UI'!$D$11:$D$109,B62)","v":0},{"$f":"SUMIFS('RP-UI'!$I$11:$I$109,'RP-UI'!$D$11:$D$109,B62)","v":0},{"$f":"SUMIFS('RP-UI'!$J$11:$J$109,'RP-UI'!$D$11:$D$109,B62)","v":0},{"$f":"SUMIFS('RP-UI'!$K$11:$K$109,'RP-UI'!$D$11:$D$109,B62)","v":0},{"$f":"SUMIFS('RP-UI'!$L$11:$L$109,'RP-UI'!$D$11:$D$109,B62)","v":0},{"$f":"SUMIFS('RP-UI'!$M$11:$M$109,'RP-UI'!$D$11:$D$109,B62)","v":0},{"$f":"SUMIFS('RP-UI'!$N$11:$N$109,'RP-UI'!$D$11:$D$109,B62)","v":0},{"$f":"SUMIFS('RP-UI'!$O$11:$O$109,'RP-UI'!$D$11:$D$109,B62)","v":0},{"$f":"SUMIFS('RP-UI'!$P$11:$P$109,'RP-UI'!$D$11:$D$109,B62)","v":0},0]
[53,{"$f":"'TAB-C'!B63","v":"C53"},{"$f":"'TAB-C'!D63","v":""},{"$f":"SUMIFS('RP-UI'!$F$11:$F$109,'RP-UI'!$D$11:$D$109,B63)","v":0},{"$f":"SUMIFS('RP-UI'!$G$11:$G$109,'RP-UI'!$D$11:$D$109,B63)","v":0},{"$f":"SUMIFS('RP-UI'!$H$11:$H$109,'RP-UI'!$D$11:$D$109,B63)","v":0},{"$f":"SUMIFS('RP-UI'!$I$11:$I$109,'RP-UI'!$D$11:$D$109,B63)","v":0},{"$f":"SUMIFS('RP-UI'!$J$11:$J$109,'RP-UI'!$D$11:$D$109,B63)","v":0},{"$f":"SUMIFS('RP-UI'!$K$11:$K$109,'RP-UI'!$D$11:$D$109,B63)","v":0},{"$f":"SUMIFS('RP-UI'!$L$11:$L$109,'RP-UI'!$D$11:$D$109,B63)","v":0},{"$f":"SUMIFS('RP-UI'!$M$11:$M$109,'RP-UI'!$D$11:$D$109,B63)","v":0},{"$f":"SUMIFS('RP-UI'!$N$11:$N$109,'RP-UI'!$D$11:$D$109,B63)","v":0},{"$f":"SUMIFS('RP-UI'!$O$11:$O$109,'RP-UI'!$D$11:$D$109,B63)","v":0},{"$f":"SUMIFS('RP-UI'!$P$11:$P$109,'RP-UI'!$D$11:$D$109,B63)","v":0},0]
[54,{"$f":"'TAB-C'!B64","v":"C54"},{"$f":"'TAB-C'!D64","v":""},{"$f":"SUMIFS('RP-UI'!$F$11:$F$109,'RP-UI'!$D$11:$D$109,B64)","v":0},{"$f":"SUMIFS('RP-UI'!$G$11:$G$109,'RP-UI'!$D$11:$D$109,B64)","v":0},{"$f":"SUMIFS('RP-UI'!$H$11:$H$109,'RP-UI'!$D$11:$D$109,B64)","v":0},{"$f":"SUMIFS('RP-UI'!$I$11:$I$109,'RP-UI'!$D$11:$D$109,B64)","v":0},{"$f":"SUMIFS('RP-UI'!$J$11:$J$109,'RP-UI'!$D$11:$D$109,B64)","v":0},{"$f":"SUMIFS('RP-UI'!$K$11:$K$109,'RP-UI'!$D$11:$D$109,B64)","v":0},{"$f":"SUMIFS('RP-UI'!$L$11:$L$109,'RP-UI'!$D$11:$D$109,B64)","v":0},{"$f":"SUMIFS('RP-UI'!$M$11:$M$109,'RP-UI'!$D$11:$D$109,B64)","v":0},{"$f":"SUMIFS('RP-UI'!$N$11:$N$109,'RP-UI'!$D$11:$D$109,B64)","v":0},{"$f":"SUMIFS('RP-UI'!$O$11:$O$109,'RP-UI'!$D$11:$D$109,B64)","v":0},{"$f":"SUMIFS('RP-UI'!$P$11:$P$109,'RP-UI'!$D$11:$D$109,B64)","v":0},0]
[55,{"$f":"'TAB-C'!B65","v":"C55"},{"$f":"'TAB-C'!D65","v":""},{"$f":"SUMIFS('RP-UI'!$F$11:$F$109,'RP-UI'!$D$11:$D$109,B65)","v":0},{"$f":"SUMIFS('RP-UI'!$G$11:$G$109,'RP-UI'!$D$11:$D$109,B65)","v":0},{"$f":"SUMIFS('RP-UI'!$H$11:$H$109,'RP-UI'!$D$11:$D$109,B65)","v":0},{"$f":"SUMIFS('RP-UI'!$I$11:$I$109,'RP-UI'!$D$11:$D$109,B65)","v":0},{"$f":"SUMIFS('RP-UI'!$J$11:$J$109,'RP-UI'!$D$11:$D$109,B65)","v":0},{"$f":"SUMIFS('RP-UI'!$K$11:$K$109,'RP-UI'!$D$11:$D$109,B65)","v":0},{"$f":"SUMIFS('RP-UI'!$L$11:$L$109,'RP-UI'!$D$11:$D$109,B65)","v":0},{"$f":"SUMIFS('RP-UI'!$M$11:$M$109,'RP-UI'!$D$11:$D$109,B65)","v":0},{"$f":"SUMIFS('RP-UI'!$N$11:$N$109,'RP-UI'!$D$11:$D$109,B65)","v":0},{"$f":"SUMIFS('RP-UI'!$O$11:$O$109,'RP-UI'!$D$11:$D$109,B65)","v":0},{"$f":"SUMIFS('RP-UI'!$P$11:$P$109,'RP-UI'!$D$11:$D$109,B65)","v":0},0]
[56,{"$f":"'TAB-C'!B66","v":"C56"},{"$f":"'TAB-C'!D66","v":""},{"$f":"SUMIFS('RP-UI'!$F$11:$F$109,'RP-UI'!$D$11:$D$109,B66)","v":0},{"$f":"SUMIFS('RP-UI'!$G$11:$G$109,'RP-UI'!$D$11:$D$109,B66)","v":0},{"$f":"SUMIFS('RP-UI'!$H$11:$H$109,'RP-UI'!$D$11:$D$109,B66)","v":0},{"$f":"SUMIFS('RP-UI'!$I$11:$I$109,'RP-UI'!$D$11:$D$109,B66)","v":0},{"$f":"SUMIFS('RP-UI'!$J$11:$J$109,'RP-UI'!$D$11:$D$109,B66)","v":0},{"$f":"SUMIFS('RP-UI'!$K$11:$K$109,'RP-UI'!$D$11:$D$109,B66)","v":0},{"$f":"SUMIFS('RP-UI'!$L$11:$L$109,'RP-UI'!$D$11:$D$109,B66)","v":0},{"$f":"SUMIFS('RP-UI'!$M$11:$M$109,'RP-UI'!$D$11:$D$109,B66)","v":0},{"$f":"SUMIFS('RP-UI'!$N$11:$N$109,'RP-UI'!$D$11:$D$109,B66)","v":0},{"$f":"SUMIFS('RP-UI'!$O$11:$O$109,'RP-UI'!$D$11:$D$109,B66)","v":0},{"$f":"SUMIFS('RP-UI'!$P$11:$P$109,'RP-UI'!$D$11:$D$109,B66)","v":0},0]
[57,{"$f":"'TAB-C'!B67","v":"C57"},{"$f":"'TAB-C'!D67","v":""},{"$f":"SUMIFS('RP-UI'!$F$11:$F$109,'RP-UI'!$D$11:$D$109,B67)","v":0},{"$f":"SUMIFS('RP-UI'!$G$11:$G$109,'RP-UI'!$D$11:$D$109,B67)","v":0},{"$f":"SUMIFS('RP-UI'!$H$11:$H$109,'RP-UI'!$D$11:$D$109,B67)","v":0},{"$f":"SUMIFS('RP-UI'!$I$11:$I$109,'RP-UI'!$D$11:$D$109,B67)","v":0},{"$f":"SUMIFS('RP-UI'!$J$11:$J$109,'RP-UI'!$D$11:$D$109,B67)","v":0},{"$f":"SUMIFS('RP-UI'!$K$11:$K$109,'RP-UI'!$D$11:$D$109,B67)","v":0},{"$f":"SUMIFS('RP-UI'!$L$11:$L$109,'RP-UI'!$D$11:$D$109,B67)","v":0},{"$f":"SUMIFS('RP-UI'!$M$11:$M$109,'RP-UI'!$D$11:$D$109,B67)","v":0},{"$f":"SUMIFS('RP-UI'!$N$11:$N$109,'RP-UI'!$D$11:$D$109,B67)","v":0},{"$f":"SUMIFS('RP-UI'!$O$11:$O$109,'RP-UI'!$D$11:$D$109,B67)","v":0},{"$f":"SUMIFS('RP-UI'!$P$11:$P$109,'RP-UI'!$D$11:$D$109,B67)","v":0},0]
[58,{"$f":"'TAB-C'!B68","v":"C58"},{"$f":"'TAB-C'!D68","v":""},{"$f":"SUMIFS('RP-UI'!$F$11:$F$109,'RP-UI'!$D$11:$D$109,B68)","v":0},{"$f":"SUMIFS('RP-UI'!$G$11:$G$109,'RP-UI'!$D$11:$D$109,B68)","v":0},{"$f":"SUMIFS('RP-UI'!$H$11:$H$109,'RP-UI'!$D$11:$D$109,B68)","v":0},{"$f":"SUMIFS('RP-UI'!$I$11:$I$109,'RP-UI'!$D$11:$D$109,B68)","v":0},{"$f":"SUMIFS('RP-UI'!$J$11:$J$109,'RP-UI'!$D$11:$D$109,B68)","v":0},{"$f":"SUMIFS('RP-UI'!$K$11:$K$109,'RP-UI'!$D$11:$D$109,B68)","v":0},{"$f":"SUMIFS('RP-UI'!$L$11:$L$109,'RP-UI'!$D$11:$D$109,B68)","v":0},{"$f":"SUMIFS('RP-UI'!$M$11:$M$109,'RP-UI'!$D$11:$D$109,B68)","v":0},{"$f":"SUMIFS('RP-UI'!$N$11:$N$109,'RP-UI'!$D$11:$D$109,B68)","v":0},{"$f":"SUMIFS('RP-UI'!$O$11:$O$109,'RP-UI'!$D$11:$D$109,B68)","v":0},{"$f":"SUMIFS('RP-UI'!$P$11:$P$109,'RP-UI'!$D$11:$D$109,B68)","v":0},0]
[59,{"$f":"'TAB-C'!B69","v":"C59"},{"$f":"'TAB-C'!D69","v":""},{"$f":"SUMIFS('RP-UI'!$F$11:$F$109,'RP-UI'!$D$11:$D$109,B69)","v":0},{"$f":"SUMIFS('RP-UI'!$G$11:$G$109,'RP-UI'!$D$11:$D$109,B69)","v":0},{"$f":"SUMIFS('RP-UI'!$H$11:$H$109,'RP-UI'!$D$11:$D$109,B69)","v":0},{"$f":"SUMIFS('RP-UI'!$I$11:$I$109,'RP-UI'!$D$11:$D$109,B69)","v":0},{"$f":"SUMIFS('RP-UI'!$J$11:$J$109,'RP-UI'!$D$11:$D$109,B69)","v":0},{"$f":"SUMIFS('RP-UI'!$K$11:$K$109,'RP-UI'!$D$11:$D$109,B69)","v":0},{"$f":"SUMIFS('RP-UI'!$L$11:$L$109,'RP-UI'!$D$11:$D$109,B69)","v":0},{"$f":"SUMIFS('RP-UI'!$M$11:$M$109,'RP-UI'!$D$11:$D$109,B69)","v":0},{"$f":"SUMIFS('RP-UI'!$N$11:$N$109,'RP-UI'!$D$11:$D$109,B69)","v":0},{"$f":"SUMIFS('RP-UI'!$O$11:$O$109,'RP-UI'!$D$11:$D$109,B69)","v":0},{"$f":"SUMIFS('RP-UI'!$P$11:$P$109,'RP-UI'!$D$11:$D$109,B69)","v":0},0]
[60,{"$f":"'TAB-C'!B70","v":"C60"},{"$f":"'TAB-C'!D70","v":""},{"$f":"SUMIFS('RP-UI'!$F$11:$F$109,'RP-UI'!$D$11:$D$109,B70)","v":0},{"$f":"SUMIFS('RP-UI'!$G$11:$G$109,'RP-UI'!$D$11:$D$109,B70)","v":0},{"$f":"SUMIFS('RP-UI'!$H$11:$H$109,'RP-UI'!$D$11:$D$109,B70)","v":0},{"$f":"SUMIFS('RP-UI'!$I$11:$I$109,'RP-UI'!$D$11:$D$109,B70)","v":0},{"$f":"SUMIFS('RP-UI'!$J$11:$J$109,'RP-UI'!$D$11:$D$109,B70)","v":0},{"$f":"SUMIFS('RP-UI'!$K$11:$K$109,'RP-UI'!$D$11:$D$109,B70)","v":0},{"$f":"SUMIFS('RP-UI'!$L$11:$L$109,'RP-UI'!$D$11:$D$109,B70)","v":0},{"$f":"SUMIFS('RP-UI'!$M$11:$M$109,'RP-UI'!$D$11:$D$109,B70)","v":0},{"$f":"SUMIFS('RP-UI'!$N$11:$N$109,'RP-UI'!$D$11:$D$109,B70)","v":0},{"$f":"SUMIFS('RP-UI'!$O$11:$O$109,'RP-UI'!$D$11:$D$109,B70)","v":0},{"$f":"SUMIFS('RP-UI'!$P$11:$P$109,'RP-UI'!$D$11:$D$109,B70)","v":0},0]
[61,{"$f":"'TAB-C'!B71","v":"C61"},{"$f":"'TAB-C'!D71","v":""},{"$f":"SUMIFS('RP-UI'!$F$11:$F$109,'RP-UI'!$D$11:$D$109,B71)","v":0},{"$f":"SUMIFS('RP-UI'!$G$11:$G$109,'RP-UI'!$D$11:$D$109,B71)","v":0},{"$f":"SUMIFS('RP-UI'!$H$11:$H$109,'RP-UI'!$D$11:$D$109,B71)","v":0},{"$f":"SUMIFS('RP-UI'!$I$11:$I$109,'RP-UI'!$D$11:$D$109,B71)","v":0},{"$f":"SUMIFS('RP-UI'!$J$11:$J$109,'RP-UI'!$D$11:$D$109,B71)","v":0},{"$f":"SUMIFS('RP-UI'!$K$11:$K$109,'RP-UI'!$D$11:$D$109,B71)","v":0},{"$f":"SUMIFS('RP-UI'!$L$11:$L$109,'RP-UI'!$D$11:$D$109,B71)","v":0},{"$f":"SUMIFS('RP-UI'!$M$11:$M$109,'RP-UI'!$D$11:$D$109,B71)","v":0},{"$f":"SUMIFS('RP-UI'!$N$11:$N$109,'RP-UI'!$D$11:$D$109,B71)","v":0},{"$f":"SUMIFS('RP-UI'!$O$11:$O$109,'RP-UI'!$D$11:$D$109,B71)","v":0},{"$f":"SUMIFS('RP-UI'!$P$11:$P$109,'RP-UI'!$D$11:$D$109,B71)","v":0},0]
[62,{"$f":"'TAB-C'!B72","v":"C62"},{"$f":"'TAB-C'!D72","v":""},{"$f":"SUMIFS('RP-UI'!$F$11:$F$109,'RP-UI'!$D$11:$D$109,B72)","v":0},{"$f":"SUMIFS('RP-UI'!$G$11:$G$109,'RP-UI'!$D$11:$D$109,B72)","v":0},{"$f":"SUMIFS('RP-UI'!$H$11:$H$109,'RP-UI'!$D$11:$D$109,B72)","v":0},{"$f":"SUMIFS('RP-UI'!$I$11:$I$109,'RP-UI'!$D$11:$D$109,B72)","v":0},{"$f":"SUMIFS('RP-UI'!$J$11:$J$109,'RP-UI'!$D$11:$D$109,B72)","v":0},{"$f":"SUMIFS('RP-UI'!$K$11:$K$109,'RP-UI'!$D$11:$D$109,B72)","v":0},{"$f":"SUMIFS('RP-UI'!$L$11:$L$109,'RP-UI'!$D$11:$D$109,B72)","v":0},{"$f":"SUMIFS('RP-UI'!$M$11:$M$109,'RP-UI'!$D$11:$D$109,B72)","v":0},{"$f":"SUMIFS('RP-UI'!$N$11:$N$109,'RP-UI'!$D$11:$D$109,B72)","v":0},{"$f":"SUMIFS('RP-UI'!$O$11:$O$109,'RP-UI'!$D$11:$D$109,B72)","v":0},{"$f":"SUMIFS('RP-UI'!$P$11:$P$109,'RP-UI'!$D$11:$D$109,B72)","v":0},0]
[63,{"$f":"'TAB-C'!B73","v":"C63"},{"$f":"'TAB-C'!D73","v":""},{"$f":"SUMIFS('RP-UI'!$F$11:$F$109,'RP-UI'!$D$11:$D$109,B73)","v":0},{"$f":"SUMIFS('RP-UI'!$G$11:$G$109,'RP-UI'!$D$11:$D$109,B73)","v":0},{"$f":"SUMIFS('RP-UI'!$H$11:$H$109,'RP-UI'!$D$11:$D$109,B73)","v":0},{"$f":"SUMIFS('RP-UI'!$I$11:$I$109,'RP-UI'!$D$11:$D$109,B73)","v":0},{"$f":"SUMIFS('RP-UI'!$J$11:$J$109,'RP-UI'!$D$11:$D$109,B73)","v":0},{"$f":"SUMIFS('RP-UI'!$K$11:$K$109,'RP-UI'!$D$11:$D$109,B73)","v":0},{"$f":"SUMIFS('RP-UI'!$L$11:$L$109,'RP-UI'!$D$11:$D$109,B73)","v":0},{"$f":"SUMIFS('RP-UI'!$M$11:$M$109,'RP-UI'!$D$11:$D$109,B73)","v":0},{"$f":"SUMIFS('RP-UI'!$N$11:$N$109,'RP-UI'!$D$11:$D$109,B73)","v":0},{"$f":"SUMIFS('RP-UI'!$O$11:$O$109,'RP-UI'!$D$11:$D$109,B73)","v":0},{"$f":"SUMIFS('RP-UI'!$P$11:$P$109,'RP-UI'!$D$11:$D$109,B73)","v":0},0]
[64,{"$f":"'TAB-C'!B74","v":"C64"},{"$f":"'TAB-C'!D74","v":""},{"$f":"SUMIFS('RP-UI'!$F$11:$F$109,'RP-UI'!$D$11:$D$109,B74)","v":0},{"$f":"SUMIFS('RP-UI'!$G$11:$G$109,'RP-UI'!$D$11:$D$109,B74)","v":0},{"$f":"SUMIFS('RP-UI'!$H$11:$H$109,'RP-UI'!$D$11:$D$109,B74)","v":0},{"$f":"SUMIFS('RP-UI'!$I$11:$I$109,'RP-UI'!$D$11:$D$109,B74)","v":0},{"$f":"SUMIFS('RP-UI'!$J$11:$J$109,'RP-UI'!$D$11:$D$109,B74)","v":0},{"$f":"SUMIFS('RP-UI'!$K$11:$K$109,'RP-UI'!$D$11:$D$109,B74)","v":0},{"$f":"SUMIFS('RP-UI'!$L$11:$L$109,'RP-UI'!$D$11:$D$109,B74)","v":0},{"$f":"SUMIFS('RP-UI'!$M$11:$M$109,'RP-UI'!$D$11:$D$109,B74)","v":0},{"$f":"SUMIFS('RP-UI'!$N$11:$N$109,'RP-UI'!$D$11:$D$109,B74)","v":0},{"$f":"SUMIFS('RP-UI'!$O$11:$O$109,'RP-UI'!$D$11:$D$109,B74)","v":0},{"$f":"SUMIFS('RP-UI'!$P$11:$P$109,'RP-UI'!$D$11:$D$109,B74)","v":0},0]
[65,{"$f":"'TAB-C'!B75","v":"C65"},{"$f":"'TAB-C'!D75","v":""},{"$f":"SUMIFS('RP-UI'!$F$11:$F$109,'RP-UI'!$D$11:$D$109,B75)","v":0},{"$f":"SUMIFS('RP-UI'!$G$11:$G$109,'RP-UI'!$D$11:$D$109,B75)","v":0},{"$f":"SUMIFS('RP-UI'!$H$11:$H$109,'RP-UI'!$D$11:$D$109,B75)","v":0},{"$f":"SUMIFS('RP-UI'!$I$11:$I$109,'RP-UI'!$D$11:$D$109,B75)","v":0},{"$f":"SUMIFS('RP-UI'!$J$11:$J$109,'RP-UI'!$D$11:$D$109,B75)","v":0},{"$f":"SUMIFS('RP-UI'!$K$11:$K$109,'RP-UI'!$D$11:$D$109,B75)","v":0},{"$f":"SUMIFS('RP-UI'!$L$11:$L$109,'RP-UI'!$D$11:$D$109,B75)","v":0},{"$f":"SUMIFS('RP-UI'!$M$11:$M$109,'RP-UI'!$D$11:$D$109,B75)","v":0},{"$f":"SUMIFS('RP-UI'!$N$11:$N$109,'RP-UI'!$D$11:$D$109,B75)","v":0},{"$f":"SUMIFS('RP-UI'!$O$11:$O$109,'RP-UI'!$D$11:$D$109,B75)","v":0},{"$f":"SUMIFS('RP-UI'!$P$11:$P$109,'RP-UI'!$D$11:$D$109,B75)","v":0},0]
[66,{"$f":"'TAB-C'!B76","v":"C66"},{"$f":"'TAB-C'!D76","v":""},{"$f":"SUMIFS('RP-UI'!$F$11:$F$109,'RP-UI'!$D$11:$D$109,B76)","v":0},{"$f":"SUMIFS('RP-UI'!$G$11:$G$109,'RP-UI'!$D$11:$D$109,B76)","v":0},{"$f":"SUMIFS('RP-UI'!$H$11:$H$109,'RP-UI'!$D$11:$D$109,B76)","v":0},{"$f":"SUMIFS('RP-UI'!$I$11:$I$109,'RP-UI'!$D$11:$D$109,B76)","v":0},{"$f":"SUMIFS('RP-UI'!$J$11:$J$109,'RP-UI'!$D$11:$D$109,B76)","v":0},{"$f":"SUMIFS('RP-UI'!$K$11:$K$109,'RP-UI'!$D$11:$D$109,B76)","v":0},{"$f":"SUMIFS('RP-UI'!$L$11:$L$109,'RP-UI'!$D$11:$D$109,B76)","v":0},{"$f":"SUMIFS('RP-UI'!$M$11:$M$109,'RP-UI'!$D$11:$D$109,B76)","v":0},{"$f":"SUMIFS('RP-UI'!$N$11:$N$109,'RP-UI'!$D$11:$D$109,B76)","v":0},{"$f":"SUMIFS('RP-UI'!$O$11:$O$109,'RP-UI'!$D$11:$D$109,B76)","v":0},{"$f":"SUMIFS('RP-UI'!$P$11:$P$109,'RP-UI'!$D$11:$D$109,B76)","v":0},{"$f":"SUM(D76:N76)","v":0}]
[67,{"$f":"'TAB-C'!B77","v":"C67"},{"$f":"'TAB-C'!D77","v":""},{"$f":"SUMIFS('RP-UI'!$F$11:$F$109,'RP-UI'!$D$11:$D$109,B77)","v":0},{"$f":"SUMIFS('RP-UI'!$G$11:$G$109,'RP-UI'!$D$11:$D$109,B77)","v":0},{"$f":"SUMIFS('RP-UI'!$H$11:$H$109,'RP-UI'!$D$11:$D$109,B77)","v":0},{"$f":"SUMIFS('RP-UI'!$I$11:$I$109,'RP-UI'!$D$11:$D$109,B77)","v":0},{"$f":"SUMIFS('RP-UI'!$J$11:$J$109,'RP-UI'!$D$11:$D$109,B77)","v":0},{"$f":"SUMIFS('RP-UI'!$K$11:$K$109,'RP-UI'!$D$11:$D$109,B77)","v":0},{"$f":"SUMIFS('RP-UI'!$L$11:$L$109,'RP-UI'!$D$11:$D$109,B77)","v":0},{"$f":"SUMIFS('RP-UI'!$M$11:$M$109,'RP-UI'!$D$11:$D$109,B77)","v":0},{"$f":"SUMIFS('RP-UI'!$N$11:$N$109,'RP-UI'!$D$11:$D$109,B77)","v":0},{"$f":"SUMIFS('RP-UI'!$O$11:$O$109,'RP-UI'!$D$11:$D$109,B77)","v":0},{"$f":"SUMIFS('RP-UI'!$P$11:$P$109,'RP-UI'!$D$11:$D$109,B77)","v":0},0]
[68,{"$f":"'TAB-C'!B78","v":"C68"},{"$f":"'TAB-C'!D78","v":""},{"$f":"SUMIFS('RP-UI'!$F$11:$F$109,'RP-UI'!$D$11:$D$109,B78)","v":0},{"$f":"SUMIFS('RP-UI'!$G$11:$G$109,'RP-UI'!$D$11:$D$109,B78)","v":0},{"$f":"SUMIFS('RP-UI'!$H$11:$H$109,'RP-UI'!$D$11:$D$109,B78)","v":0},{"$f":"SUMIFS('RP-UI'!$I$11:$I$109,'RP-UI'!$D$11:$D$109,B78)","v":0},{"$f":"SUMIFS('RP-UI'!$J$11:$J$109,'RP-UI'!$D$11:$D$109,B78)","v":0},{"$f":"SUMIFS('RP-UI'!$K$11:$K$109,'RP-UI'!$D$11:$D$109,B78)","v":0},{"$f":"SUMIFS('RP-UI'!$L$11:$L$109,'RP-UI'!$D$11:$D$109,B78)","v":0},{"$f":"SUMIFS('RP-UI'!$M$11:$M$109,'RP-UI'!$D$11:$D$109,B78)","v":0},{"$f":"SUMIFS('RP-UI'!$N$11:$N$109,'RP-UI'!$D$11:$D$109,B78)","v":0},{"$f":"SUMIFS('RP-UI'!$O$11:$O$109,'RP-UI'!$D$11:$D$109,B78)","v":0},{"$f":"SUMIFS('RP-UI'!$P$11:$P$109,'RP-UI'!$D$11:$D$109,B78)","v":0},0]
[69,{"$f":"'TAB-C'!B79","v":"C69"},{"$f":"'TAB-C'!D79","v":""},{"$f":"SUMIFS('RP-UI'!$F$11:$F$109,'RP-UI'!$D$11:$D$109,B79)","v":0},{"$f":"SUMIFS('RP-UI'!$G$11:$G$109,'RP-UI'!$D$11:$D$109,B79)","v":0},{"$f":"SUMIFS('RP-UI'!$H$11:$H$109,'RP-UI'!$D$11:$D$109,B79)","v":0},{"$f":"SUMIFS('RP-UI'!$I$11:$I$109,'RP-UI'!$D$11:$D$109,B79)","v":0},{"$f":"SUMIFS('RP-UI'!$J$11:$J$109,'RP-UI'!$D$11:$D$109,B79)","v":0},{"$f":"SUMIFS('RP-UI'!$K$11:$K$109,'RP-UI'!$D$11:$D$109,B79)","v":0},{"$f":"SUMIFS('RP-UI'!$L$11:$L$109,'RP-UI'!$D$11:$D$109,B79)","v":0},{"$f":"SUMIFS('RP-UI'!$M$11:$M$109,'RP-UI'!$D$11:$D$109,B79)","v":0},{"$f":"SUMIFS('RP-UI'!$N$11:$N$109,'RP-UI'!$D$11:$D$109,B79)","v":0},{"$f":"SUMIFS('RP-UI'!$O$11:$O$109,'RP-UI'!$D$11:$D$109,B79)","v":0},{"$f":"SUMIFS('RP-UI'!$P$11:$P$109,'RP-UI'!$D$11:$D$109,B79)","v":0},0]
[70,{"$f":"'TAB-C'!B80","v":"C70"},{"$f":"'TAB-C'!D80","v":""},{"$f":"SUMIFS('RP-UI'!$F$11:$F$109,'RP-UI'!$D$11:$D$109,B80)","v":0},{"$f":"SUMIFS('RP-UI'!$G$11:$G$109,'RP-UI'!$D$11:$D$109,B80)","v":0},{"$f":"SUMIFS('RP-UI'!$H$11:$H$109,'RP-UI'!$D$11:$D$109,B80)","v":0},{"$f":"SUMIFS('RP-UI'!$I$11:$I$109,'RP-UI'!$D$11:$D$109,B80)","v":0},{"$f":"SUMIFS('RP-UI'!$J$11:$J$109,'RP-UI'!$D$11:$D$109,B80)","v":0},{"$f":"SUMIFS('RP-UI'!$K$11:$K$109,'RP-UI'!$D$11:$D$109,B80)","v":0},{"$f":"SUMIFS('RP-UI'!$L$11:$L$109,'RP-UI'!$D$11:$D$109,B80)","v":0},{"$f":"SUMIFS('RP-UI'!$M$11:$M$109,'RP-UI'!$D$11:$D$109,B80)","v":0},{"$f":"SUMIFS('RP-UI'!$N$11:$N$109,'RP-UI'!$D$11:$D$109,B80)","v":0},{"$f":"SUMIFS('RP-UI'!$O$11:$O$109,'RP-UI'!$D$11:$D$109,B80)","v":0},{"$f":"SUMIFS('RP-UI'!$P$11:$P$109,'RP-UI'!$D$11:$D$109,B80)","v":0},0]
[71,{"$f":"'TAB-C'!B81","v":"C71"},{"$f":"'TAB-C'!D81","v":""},{"$f":"SUMIFS('RP-UI'!$F$11:$F$109,'RP-UI'!$D$11:$D$109,B81)","v":0},{"$f":"SUMIFS('RP-UI'!$G$11:$G$109,'RP-UI'!$D$11:$D$109,B81)","v":0},{"$f":"SUMIFS('RP-UI'!$H$11:$H$109,'RP-UI'!$D$11:$D$109,B81)","v":0},{"$f":"SUMIFS('RP-UI'!$I$11:$I$109,'RP-UI'!$D$11:$D$109,B81)","v":0},{"$f":"SUMIFS('RP-UI'!$J$11:$J$109,'RP-UI'!$D$11:$D$109,B81)","v":0},{"$f":"SUMIFS('RP-UI'!$K$11:$K$109,'RP-UI'!$D$11:$D$109,B81)","v":0},{"$f":"SUMIFS('RP-UI'!$L$11:$L$109,'RP-UI'!$D$11:$D$109,B81)","v":0},{"$f":"SUMIFS('RP-UI'!$M$11:$M$109,'RP-UI'!$D$11:$D$109,B81)","v":0},{"$f":"SUMIFS('RP-UI'!$N$11:$N$109,'RP-UI'!$D$11:$D$109,B81)","v":0},{"$f":"SUMIFS('RP-UI'!$O$11:$O$109,'RP-UI'!$D$11:$D$109,B81)","v":0},{"$f":"SUMIFS('RP-UI'!$P$11:$P$109,'RP-UI'!$D$11:$D$109,B81)","v":0},0]
[72,{"$f":"'TAB-C'!B82","v":"C72"},{"$f":"'TAB-C'!D82","v":""},{"$f":"SUMIFS('RP-UI'!$F$11:$F$109,'RP-UI'!$D$11:$D$109,B82)","v":0},{"$f":"SUMIFS('RP-UI'!$G$11:$G$109,'RP-UI'!$D$11:$D$109,B82)","v":0},{"$f":"SUMIFS('RP-UI'!$H$11:$H$109,'RP-UI'!$D$11:$D$109,B82)","v":0},{"$f":"SUMIFS('RP-UI'!$I$11:$I$109,'RP-UI'!$D$11:$D$109,B82)","v":0},{"$f":"SUMIFS('RP-UI'!$J$11:$J$109,'RP-UI'!$D$11:$D$109,B82)","v":0},{"$f":"SUMIFS('RP-UI'!$K$11:$K$109,'RP-UI'!$D$11:$D$109,B82)","v":0},{"$f":"SUMIFS('RP-UI'!$L$11:$L$109,'RP-UI'!$D$11:$D$109,B82)","v":0},{"$f":"SUMIFS('RP-UI'!$M$11:$M$109,'RP-UI'!$D$11:$D$109,B82)","v":0},{"$f":"SUMIFS('RP-UI'!$N$11:$N$109,'RP-UI'!$D$11:$D$109,B82)","v":0},{"$f":"SUMIFS('RP-UI'!$O$11:$O$109,'RP-UI'!$D$11:$D$109,B82)","v":0},{"$f":"SUMIFS('RP-UI'!$P$11:$P$109,'RP-UI'!$D$11:$D$109,B82)","v":0},0]
[73,{"$f":"'TAB-C'!B83","v":"C73"},{"$f":"'TAB-C'!D83","v":""},{"$f":"SUMIFS('RP-UI'!$F$11:$F$109,'RP-UI'!$D$11:$D$109,B83)","v":0},{"$f":"SUMIFS('RP-UI'!$G$11:$G$109,'RP-UI'!$D$11:$D$109,B83)","v":0},{"$f":"SUMIFS('RP-UI'!$H$11:$H$109,'RP-UI'!$D$11:$D$109,B83)","v":0},{"$f":"SUMIFS('RP-UI'!$I$11:$I$109,'RP-UI'!$D$11:$D$109,B83)","v":0},{"$f":"SUMIFS('RP-UI'!$J$11:$J$109,'RP-UI'!$D$11:$D$109,B83)","v":0},{"$f":"SUMIFS('RP-UI'!$K$11:$K$109,'RP-UI'!$D$11:$D$109,B83)","v":0},{"$f":"SUMIFS('RP-UI'!$L$11:$L$109,'RP-UI'!$D$11:$D$109,B83)","v":0},{"$f":"SUMIFS('RP-UI'!$M$11:$M$109,'RP-UI'!$D$11:$D$109,B83)","v":0},{"$f":"SUMIFS('RP-UI'!$N$11:$N$109,'RP-UI'!$D$11:$D$109,B83)","v":0},{"$f":"SUMIFS('RP-UI'!$O$11:$O$109,'RP-UI'!$D$11:$D$109,B83)","v":0},{"$f":"SUMIFS('RP-UI'!$P$11:$P$109,'RP-UI'!$D$11:$D$109,B83)","v":0},0]
[74,{"$f":"'TAB-C'!B84","v":"C74"},{"$f":"'TAB-C'!D84","v":""},{"$f":"SUMIFS('RP-UI'!$F$11:$F$109,'RP-UI'!$D$11:$D$109,B84)","v":0},{"$f":"SUMIFS('RP-UI'!$G$11:$G$109,'RP-UI'!$D$11:$D$109,B84)","v":0},{"$f":"SUMIFS('RP-UI'!$H$11:$H$109,'RP-UI'!$D$11:$D$109,B84)","v":0},{"$f":"SUMIFS('RP-UI'!$I$11:$I$109,'RP-UI'!$D$11:$D$109,B84)","v":0},{"$f":"SUMIFS('RP-UI'!$J$11:$J$109,'RP-UI'!$D$11:$D$109,B84)","v":0},{"$f":"SUMIFS('RP-UI'!$K$11:$K$109,'RP-UI'!$D$11:$D$109,B84)","v":0},{"$f":"SUMIFS('RP-UI'!$L$11:$L$109,'RP-UI'!$D$11:$D$109,B84)","v":0},{"$f":"SUMIFS('RP-UI'!$M$11:$M$109,'RP-UI'!$D$11:$D$109,B84)","v":0},{"$f":"SUMIFS('RP-UI'!$N$11:$N$109,'RP-UI'!$D$11:$D$109,B84)","v":0},{"$f":"SUMIFS('RP-UI'!$O$11:$O$109,'RP-UI'!$D$11:$D$109,B84)","v":0},{"$f":"SUMIFS('RP-UI'!$P$11:$P$109,'RP-UI'!$D$11:$D$109,B84)","v":0},0]
[75,{"$f":"'TAB-C'!B85","v":"C75"},{"$f":"'TAB-C'!D85","v":""},{"$f":"SUMIFS('RP-UI'!$F$11:$F$109,'RP-UI'!$D$11:$D$109,B85)","v":0},{"$f":"SUMIFS('RP-UI'!$G$11:$G$109,'RP-UI'!$D$11:$D$109,B85)","v":0},{"$f":"SUMIFS('RP-UI'!$H$11:$H$109,'RP-UI'!$D$11:$D$109,B85)","v":0},{"$f":"SUMIFS('RP-UI'!$I$11:$I$109,'RP-UI'!$D$11:$D$109,B85)","v":0},{"$f":"SUMIFS('RP-UI'!$J$11:$J$109,'RP-UI'!$D$11:$D$109,B85)","v":0},{"$f":"SUMIFS('RP-UI'!$K$11:$K$109,'RP-UI'!$D$11:$D$109,B85)","v":0},{"$f":"SUMIFS('RP-UI'!$L$11:$L$109,'RP-UI'!$D$11:$D$109,B85)","v":0},{"$f":"SUMIFS('RP-UI'!$M$11:$M$109,'RP-UI'!$D$11:$D$109,B85)","v":0},{"$f":"SUMIFS('RP-UI'!$N$11:$N$109,'RP-UI'!$D$11:$D$109,B85)","v":0},{"$f":"SUMIFS('RP-UI'!$O$11:$O$109,'RP-UI'!$D$11:$D$109,B85)","v":0},{"$f":"SUMIFS('RP-UI'!$P$11:$P$109,'RP-UI'!$D$11:$D$109,B85)","v":0},0]
[76,{"$f":"'TAB-C'!B86","v":"C76"},{"$f":"'TAB-C'!D86","v":""},{"$f":"SUMIFS('RP-UI'!$F$11:$F$109,'RP-UI'!$D$11:$D$109,B86)","v":0},{"$f":"SUMIFS('RP-UI'!$G$11:$G$109,'RP-UI'!$D$11:$D$109,B86)","v":0},{"$f":"SUMIFS('RP-UI'!$H$11:$H$109,'RP-UI'!$D$11:$D$109,B86)","v":0},{"$f":"SUMIFS('RP-UI'!$I$11:$I$109,'RP-UI'!$D$11:$D$109,B86)","v":0},{"$f":"SUMIFS('RP-UI'!$J$11:$J$109,'RP-UI'!$D$11:$D$109,B86)","v":0},{"$f":"SUMIFS('RP-UI'!$K$11:$K$109,'RP-UI'!$D$11:$D$109,B86)","v":0},{"$f":"SUMIFS('RP-UI'!$L$11:$L$109,'RP-UI'!$D$11:$D$109,B86)","v":0},{"$f":"SUMIFS('RP-UI'!$M$11:$M$109,'RP-UI'!$D$11:$D$109,B86)","v":0},{"$f":"SUMIFS('RP-UI'!$N$11:$N$109,'RP-UI'!$D$11:$D$109,B86)","v":0},{"$f":"SUMIFS('RP-UI'!$O$11:$O$109,'RP-UI'!$D$11:$D$109,B86)","v":0},{"$f":"SUMIFS('RP-UI'!$P$11:$P$109,'RP-UI'!$D$11:$D$109,B86)","v":0},0]
[77,{"$f":"'TAB-C'!B87","v":"C77"},{"$f":"'TAB-C'!D87","v":""},{"$f":"SUMIFS('RP-UI'!$F$11:$F$109,'RP-UI'!$D$11:$D$109,B87)","v":0},{"$f":"SUMIFS('RP-UI'!$G$11:$G$109,'RP-UI'!$D$11:$D$109,B87)","v":0},{"$f":"SUMIFS('RP-UI'!$H$11:$H$109,'RP-UI'!$D$11:$D$109,B87)","v":0},{"$f":"SUMIFS('RP-UI'!$I$11:$I$109,'RP-UI'!$D$11:$D$109,B87)","v":0},{"$f":"SUMIFS('RP-UI'!$J$11:$J$109,'RP-UI'!$D$11:$D$109,B87)","v":0},{"$f":"SUMIFS('RP-UI'!$K$11:$K$109,'RP-UI'!$D$11:$D$109,B87)","v":0},{"$f":"SUMIFS('RP-UI'!$L$11:$L$109,'RP-UI'!$D$11:$D$109,B87)","v":0},{"$f":"SUMIFS('RP-UI'!$M$11:$M$109,'RP-UI'!$D$11:$D$109,B87)","v":0},{"$f":"SUMIFS('RP-UI'!$N$11:$N$109,'RP-UI'!$D$11:$D$109,B87)","v":0},{"$f":"SUMIFS('RP-UI'!$O$11:$O$109,'RP-UI'!$D$11:$D$109,B87)","v":0},{"$f":"SUMIFS('RP-UI'!$P$11:$P$109,'RP-UI'!$D$11:$D$109,B87)","v":0},0]
[78,{"$f":"'TAB-C'!B88","v":"C78"},{"$f":"'TAB-C'!D88","v":""},{"$f":"SUMIFS('RP-UI'!$F$11:$F$109,'RP-UI'!$D$11:$D$109,B88)","v":0},{"$f":"SUMIFS('RP-UI'!$G$11:$G$109,'RP-UI'!$D$11:$D$109,B88)","v":0},{"$f":"SUMIFS('RP-UI'!$H$11:$H$109,'RP-UI'!$D$11:$D$109,B88)","v":0},{"$f":"SUMIFS('RP-UI'!$I$11:$I$109,'RP-UI'!$D$11:$D$109,B88)","v":0},{"$f":"SUMIFS('RP-UI'!$J$11:$J$109,'RP-UI'!$D$11:$D$109,B88)","v":0},{"$f":"SUMIFS('RP-UI'!$K$11:$K$109,'RP-UI'!$D$11:$D$109,B88)","v":0},{"$f":"SUMIFS('RP-UI'!$L$11:$L$109,'RP-UI'!$D$11:$D$109,B88)","v":0},{"$f":"SUMIFS('RP-UI'!$M$11:$M$109,'RP-UI'!$D$11:$D$109,B88)","v":0},{"$f":"SUMIFS('RP-UI'!$N$11:$N$109,'RP-UI'!$D$11:$D$109,B88)","v":0},{"$f":"SUMIFS('RP-UI'!$O$11:$O$109,'RP-UI'!$D$11:$D$109,B88)","v":0},{"$f":"SUMIFS('RP-UI'!$P$11:$P$109,'RP-UI'!$D$11:$D$109,B88)","v":0},0]
[79,{"$f":"'TAB-C'!B89","v":"C79"},{"$f":"'TAB-C'!D89","v":""},{"$f":"SUMIFS('RP-UI'!$F$11:$F$109,'RP-UI'!$D$11:$D$109,B89)","v":0},{"$f":"SUMIFS('RP-UI'!$G$11:$G$109,'RP-UI'!$D$11:$D$109,B89)","v":0},{"$f":"SUMIFS('RP-UI'!$H$11:$H$109,'RP-UI'!$D$11:$D$109,B89)","v":0},{"$f":"SUMIFS('RP-UI'!$I$11:$I$109,'RP-UI'!$D$11:$D$109,B89)","v":0},{"$f":"SUMIFS('RP-UI'!$J$11:$J$109,'RP-UI'!$D$11:$D$109,B89)","v":0},{"$f":"SUMIFS('RP-UI'!$K$11:$K$109,'RP-UI'!$D$11:$D$109,B89)","v":0},{"$f":"SUMIFS('RP-UI'!$L$11:$L$109,'RP-UI'!$D$11:$D$109,B89)","v":0},{"$f":"SUMIFS('RP-UI'!$M$11:$M$109,'RP-UI'!$D$11:$D$109,B89)","v":0},{"$f":"SUMIFS('RP-UI'!$N$11:$N$109,'RP-UI'!$D$11:$D$109,B89)","v":0},{"$f":"SUMIFS('RP-UI'!$O$11:$O$109,'RP-UI'!$D$11:$D$109,B89)","v":0},{"$f":"SUMIFS('RP-UI'!$P$11:$P$109,'RP-UI'!$D$11:$D$109,B89)","v":0},0]
[80,{"$f":"'TAB-C'!B90","v":"C80"},{"$f":"'TAB-C'!D90","v":""},{"$f":"SUMIFS('RP-UI'!$F$11:$F$109,'RP-UI'!$D$11:$D$109,B90)","v":0},{"$f":"SUMIFS('RP-UI'!$G$11:$G$109,'RP-UI'!$D$11:$D$109,B90)","v":0},{"$f":"SUMIFS('RP-UI'!$H$11:$H$109,'RP-UI'!$D$11:$D$109,B90)","v":0},{"$f":"SUMIFS('RP-UI'!$I$11:$I$109,'RP-UI'!$D$11:$D$109,B90)","v":0},{"$f":"SUMIFS('RP-UI'!$J$11:$J$109,'RP-UI'!$D$11:$D$109,B90)","v":0},{"$f":"SUMIFS('RP-UI'!$K$11:$K$109,'RP-UI'!$D$11:$D$109,B90)","v":0},{"$f":"SUMIFS('RP-UI'!$L$11:$L$109,'RP-UI'!$D$11:$D$109,B90)","v":0},{"$f":"SUMIFS('RP-UI'!$M$11:$M$109,'RP-UI'!$D$11:$D$109,B90)","v":0},{"$f":"SUMIFS('RP-UI'!$N$11:$N$109,'RP-UI'!$D$11:$D$109,B90)","v":0},{"$f":"SUMIFS('RP-UI'!$O$11:$O$109,'RP-UI'!$D$11:$D$109,B90)","v":0},{"$f":"SUMIFS('RP-UI'!$P$11:$P$109,'RP-UI'!$D$11:$D$109,B90)","v":0},0]
[81,{"$f":"'TAB-C'!B91","v":"C81"},{"$f":"'TAB-C'!D91","v":""},{"$f":"SUMIFS('RP-UI'!$F$11:$F$109,'RP-UI'!$D$11:$D$109,B91)","v":0},{"$f":"SUMIFS('RP-UI'!$G$11:$G$109,'RP-UI'!$D$11:$D$109,B91)","v":0},{"$f":"SUMIFS('RP-UI'!$H$11:$H$109,'RP-UI'!$D$11:$D$109,B91)","v":0},{"$f":"SUMIFS('RP-UI'!$I$11:$I$109,'RP-UI'!$D$11:$D$109,B91)","v":0},{"$f":"SUMIFS('RP-UI'!$J$11:$J$109,'RP-UI'!$D$11:$D$109,B91)","v":0},{"$f":"SUMIFS('RP-UI'!$K$11:$K$109,'RP-UI'!$D$11:$D$109,B91)","v":0},{"$f":"SUMIFS('RP-UI'!$L$11:$L$109,'RP-UI'!$D$11:$D$109,B91)","v":0},{"$f":"SUMIFS('RP-UI'!$M$11:$M$109,'RP-UI'!$D$11:$D$109,B91)","v":0},{"$f":"SUMIFS('RP-UI'!$N$11:$N$109,'RP-UI'!$D$11:$D$109,B91)","v":0},{"$f":"SUMIFS('RP-UI'!$O$11:$O$109,'RP-UI'!$D$11:$D$109,B91)","v":0},{"$f":"SUMIFS('RP-UI'!$P$11:$P$109,'RP-UI'!$D$11:$D$109,B91)","v":0},0]
[82,{"$f":"'TAB-C'!B92","v":"C82"},{"$f":"'TAB-C'!D92","v":""},{"$f":"SUMIFS('RP-UI'!$F$11:$F$109,'RP-UI'!$D$11:$D$109,B92)","v":0},{"$f":"SUMIFS('RP-UI'!$G$11:$G$109,'RP-UI'!$D$11:$D$109,B92)","v":0},{"$f":"SUMIFS('RP-UI'!$H$11:$H$109,'RP-UI'!$D$11:$D$109,B92)","v":0},{"$f":"SUMIFS('RP-UI'!$I$11:$I$109,'RP-UI'!$D$11:$D$109,B92)","v":0},{"$f":"SUMIFS('RP-UI'!$J$11:$J$109,'RP-UI'!$D$11:$D$109,B92)","v":0},{"$f":"SUMIFS('RP-UI'!$K$11:$K$109,'RP-UI'!$D$11:$D$109,B92)","v":0},{"$f":"SUMIFS('RP-UI'!$L$11:$L$109,'RP-UI'!$D$11:$D$109,B92)","v":0},{"$f":"SUMIFS('RP-UI'!$M$11:$M$109,'RP-UI'!$D$11:$D$109,B92)","v":0},{"$f":"SUMIFS('RP-UI'!$N$11:$N$109,'RP-UI'!$D$11:$D$109,B92)","v":0},{"$f":"SUMIFS('RP-UI'!$O$11:$O$109,'RP-UI'!$D$11:$D$109,B92)","v":0},{"$f":"SUMIFS('RP-UI'!$P$11:$P$109,'RP-UI'!$D$11:$D$109,B92)","v":0},0]
[83,{"$f":"'TAB-C'!B93","v":"C83"},{"$f":"'TAB-C'!D93","v":""},{"$f":"SUMIFS('RP-UI'!$F$11:$F$109,'RP-UI'!$D$11:$D$109,B93)","v":0},{"$f":"SUMIFS('RP-UI'!$G$11:$G$109,'RP-UI'!$D$11:$D$109,B93)","v":0},{"$f":"SUMIFS('RP-UI'!$H$11:$H$109,'RP-UI'!$D$11:$D$109,B93)","v":0},{"$f":"SUMIFS('RP-UI'!$I$11:$I$109,'RP-UI'!$D$11:$D$109,B93)","v":0},{"$f":"SUMIFS('RP-UI'!$J$11:$J$109,'RP-UI'!$D$11:$D$109,B93)","v":0},{"$f":"SUMIFS('RP-UI'!$K$11:$K$109,'RP-UI'!$D$11:$D$109,B93)","v":0},{"$f":"SUMIFS('RP-UI'!$L$11:$L$109,'RP-UI'!$D$11:$D$109,B93)","v":0},{"$f":"SUMIFS('RP-UI'!$M$11:$M$109,'RP-UI'!$D$11:$D$109,B93)","v":0},{"$f":"SUMIFS('RP-UI'!$N$11:$N$109,'RP-UI'!$D$11:$D$109,B93)","v":0},{"$f":"SUMIFS('RP-UI'!$O$11:$O$109,'RP-UI'!$D$11:$D$109,B93)","v":0},{"$f":"SUMIFS('RP-UI'!$P$11:$P$109,'RP-UI'!$D$11:$D$109,B93)","v":0},0]
[84,{"$f":"'TAB-C'!B94","v":"C84"},{"$f":"'TAB-C'!D94","v":""},{"$f":"SUMIFS('RP-UI'!$F$11:$F$109,'RP-UI'!$D$11:$D$109,B94)","v":0},{"$f":"SUMIFS('RP-UI'!$G$11:$G$109,'RP-UI'!$D$11:$D$109,B94)","v":0},{"$f":"SUMIFS('RP-UI'!$H$11:$H$109,'RP-UI'!$D$11:$D$109,B94)","v":0},{"$f":"SUMIFS('RP-UI'!$I$11:$I$109,'RP-UI'!$D$11:$D$109,B94)","v":0},{"$f":"SUMIFS('RP-UI'!$J$11:$J$109,'RP-UI'!$D$11:$D$109,B94)","v":0},{"$f":"SUMIFS('RP-UI'!$K$11:$K$109,'RP-UI'!$D$11:$D$109,B94)","v":0},{"$f":"SUMIFS('RP-UI'!$L$11:$L$109,'RP-UI'!$D$11:$D$109,B94)","v":0},{"$f":"SUMIFS('RP-UI'!$M$11:$M$109,'RP-UI'!$D$11:$D$109,B94)","v":0},{"$f":"SUMIFS('RP-UI'!$N$11:$N$109,'RP-UI'!$D$11:$D$109,B94)","v":0},{"$f":"SUMIFS('RP-UI'!$O$11:$O$109,'RP-UI'!$D$11:$D$109,B94)","v":0},{"$f":"SUMIFS('RP-UI'!$P$11:$P$109,'RP-UI'!$D$11:$D$109,B94)","v":0},0]
[85,{"$f":"'TAB-C'!B95","v":"C85"},{"$f":"'TAB-C'!D95","v":""},{"$f":"SUMIFS('RP-UI'!$F$11:$F$109,'RP-UI'!$D$11:$D$109,B95)","v":0},{"$f":"SUMIFS('RP-UI'!$G$11:$G$109,'RP-UI'!$D$11:$D$109,B95)","v":0},{"$f":"SUMIFS('RP-UI'!$H$11:$H$109,'RP-UI'!$D$11:$D$109,B95)","v":0},{"$f":"SUMIFS('RP-UI'!$I$11:$I$109,'RP-UI'!$D$11:$D$109,B95)","v":0},{"$f":"SUMIFS('RP-UI'!$J$11:$J$109,'RP-UI'!$D$11:$D$109,B95)","v":0},{"$f":"SUMIFS('RP-UI'!$K$11:$K$109,'RP-UI'!$D$11:$D$109,B95)","v":0},{"$f":"SUMIFS('RP-UI'!$L$11:$L$109,'RP-UI'!$D$11:$D$109,B95)","v":0},{"$f":"SUMIFS('RP-UI'!$M$11:$M$109,'RP-UI'!$D$11:$D$109,B95)","v":0},{"$f":"SUMIFS('RP-UI'!$N$11:$N$109,'RP-UI'!$D$11:$D$109,B95)","v":0},{"$f":"SUMIFS('RP-UI'!$O$11:$O$109,'RP-UI'!$D$11:$D$109,B95)","v":0},{"$f":"SUMIFS('RP-UI'!$P$11:$P$109,'RP-UI'!$D$11:$D$109,B95)","v":0},0]
[86,{"$f":"'TAB-C'!B96","v":"C86"},{"$f":"'TAB-C'!D96","v":""},{"$f":"SUMIFS('RP-UI'!$F$11:$F$109,'RP-UI'!$D$11:$D$109,B96)","v":0},{"$f":"SUMIFS('RP-UI'!$G$11:$G$109,'RP-UI'!$D$11:$D$109,B96)","v":0},{"$f":"SUMIFS('RP-UI'!$H$11:$H$109,'RP-UI'!$D$11:$D$109,B96)","v":0},{"$f":"SUMIFS('RP-UI'!$I$11:$I$109,'RP-UI'!$D$11:$D$109,B96)","v":0},{"$f":"SUMIFS('RP-UI'!$J$11:$J$109,'RP-UI'!$D$11:$D$109,B96)","v":0},{"$f":"SUMIFS('RP-UI'!$K$11:$K$109,'RP-UI'!$D$11:$D$109,B96)","v":0},{"$f":"SUMIFS('RP-UI'!$L$11:$L$109,'RP-UI'!$D$11:$D$109,B96)","v":0},{"$f":"SUMIFS('RP-UI'!$M$11:$M$109,'RP-UI'!$D$11:$D$109,B96)","v":0},{"$f":"SUMIFS('RP-UI'!$N$11:$N$109,'RP-UI'!$D$11:$D$109,B96)","v":0},{"$f":"SUMIFS('RP-UI'!$O$11:$O$109,'RP-UI'!$D$11:$D$109,B96)","v":0},{"$f":"SUMIFS('RP-UI'!$P$11:$P$109,'RP-UI'!$D$11:$D$109,B96)","v":0},0]
[87,{"$f":"'TAB-C'!B97","v":"C87"},{"$f":"'TAB-C'!D97","v":""},{"$f":"SUMIFS('RP-UI'!$F$11:$F$109,'RP-UI'!$D$11:$D$109,B97)","v":0},{"$f":"SUMIFS('RP-UI'!$G$11:$G$109,'RP-UI'!$D$11:$D$109,B97)","v":0},{"$f":"SUMIFS('RP-UI'!$H$11:$H$109,'RP-UI'!$D$11:$D$109,B97)","v":0},{"$f":"SUMIFS('RP-UI'!$I$11:$I$109,'RP-UI'!$D$11:$D$109,B97)","v":0},{"$f":"SUMIFS('RP-UI'!$J$11:$J$109,'RP-UI'!$D$11:$D$109,B97)","v":0},{"$f":"SUMIFS('RP-UI'!$K$11:$K$109,'RP-UI'!$D$11:$D$109,B97)","v":0},{"$f":"SUMIFS('RP-UI'!$L$11:$L$109,'RP-UI'!$D$11:$D$109,B97)","v":0},{"$f":"SUMIFS('RP-UI'!$M$11:$M$109,'RP-UI'!$D$11:$D$109,B97)","v":0},{"$f":"SUMIFS('RP-UI'!$N$11:$N$109,'RP-UI'!$D$11:$D$109,B97)","v":0},{"$f":"SUMIFS('RP-UI'!$O$11:$O$109,'RP-UI'!$D$11:$D$109,B97)","v":0},{"$f":"SUMIFS('RP-UI'!$P$11:$P$109,'RP-UI'!$D$11:$D$109,B97)","v":0},0]
[88,{"$f":"'TAB-C'!B98","v":"C88"},{"$f":"'TAB-C'!D98","v":""},{"$f":"SUMIFS('RP-UI'!$F$11:$F$109,'RP-UI'!$D$11:$D$109,B98)","v":0},{"$f":"SUMIFS('RP-UI'!$G$11:$G$109,'RP-UI'!$D$11:$D$109,B98)","v":0},{"$f":"SUMIFS('RP-UI'!$H$11:$H$109,'RP-UI'!$D$11:$D$109,B98)","v":0},{"$f":"SUMIFS('RP-UI'!$I$11:$I$109,'RP-UI'!$D$11:$D$109,B98)","v":0},{"$f":"SUMIFS('RP-UI'!$J$11:$J$109,'RP-UI'!$D$11:$D$109,B98)","v":0},{"$f":"SUMIFS('RP-UI'!$K$11:$K$109,'RP-UI'!$D$11:$D$109,B98)","v":0},{"$f":"SUMIFS('RP-UI'!$L$11:$L$109,'RP-UI'!$D$11:$D$109,B98)","v":0},{"$f":"SUMIFS('RP-UI'!$M$11:$M$109,'RP-UI'!$D$11:$D$109,B98)","v":0},{"$f":"SUMIFS('RP-UI'!$N$11:$N$109,'RP-UI'!$D$11:$D$109,B98)","v":0},{"$f":"SUMIFS('RP-UI'!$O$11:$O$109,'RP-UI'!$D$11:$D$109,B98)","v":0},{"$f":"SUMIFS('RP-UI'!$P$11:$P$109,'RP-UI'!$D$11:$D$109,B98)","v":0},0]
[89,{"$f":"'TAB-C'!B99","v":"C89"},{"$f":"'TAB-C'!D99","v":""},{"$f":"SUMIFS('RP-UI'!$F$11:$F$109,'RP-UI'!$D$11:$D$109,B99)","v":0},{"$f":"SUMIFS('RP-UI'!$G$11:$G$109,'RP-UI'!$D$11:$D$109,B99)","v":0},{"$f":"SUMIFS('RP-UI'!$H$11:$H$109,'RP-UI'!$D$11:$D$109,B99)","v":0},{"$f":"SUMIFS('RP-UI'!$I$11:$I$109,'RP-UI'!$D$11:$D$109,B99)","v":0},{"$f":"SUMIFS('RP-UI'!$J$11:$J$109,'RP-UI'!$D$11:$D$109,B99)","v":0},{"$f":"SUMIFS('RP-UI'!$K$11:$K$109,'RP-UI'!$D$11:$D$109,B99)","v":0},{"$f":"SUMIFS('RP-UI'!$L$11:$L$109,'RP-UI'!$D$11:$D$109,B99)","v":0},{"$f":"SUMIFS('RP-UI'!$M$11:$M$109,'RP-UI'!$D$11:$D$109,B99)","v":0},{"$f":"SUMIFS('RP-UI'!$N$11:$N$109,'RP-UI'!$D$11:$D$109,B99)","v":0},{"$f":"SUMIFS('RP-UI'!$O$11:$O$109,'RP-UI'!$D$11:$D$109,B99)","v":0},{"$f":"SUMIFS('RP-UI'!$P$11:$P$109,'RP-UI'!$D$11:$D$109,B99)","v":0},0]
[90,{"$f":"'TAB-C'!B100","v":"C90"},{"$f":"'TAB-C'!D100","v":""},{"$f":"SUMIFS('RP-UI'!$F$11:$F$109,'RP-UI'!$D$11:$D$109,B100)","v":0},{"$f":"SUMIFS('RP-UI'!$G$11:$G$109,'RP-UI'!$D$11:$D$109,B100)","v":0},{"$f":"SUMIFS('RP-UI'!$H$11:$H$109,'RP-UI'!$D$11:$D$109,B100)","v":0},{"$f":"SUMIFS('RP-UI'!$I$11:$I$109,'RP-UI'!$D$11:$D$109,B100)","v":0},{"$f":"SUMIFS('RP-UI'!$J$11:$J$109,'RP-UI'!$D$11:$D$109,B100)","v":0},{"$f":"SUMIFS('RP-UI'!$K$11:$K$109,'RP-UI'!$D$11:$D$109,B100)","v":0},{"$f":"SUMIFS('RP-UI'!$L$11:$L$109,'RP-UI'!$D$11:$D$109,B100)","v":0},{"$f":"SUMIFS('RP-UI'!$M$11:$M$109,'RP-UI'!$D$11:$D$109,B100)","v":0},{"$f":"SUMIFS('RP-UI'!$N$11:$N$109,'RP-UI'!$D$11:$D$109,B100)","v":0},{"$f":"SUMIFS('RP-UI'!$O$11:$O$109,'RP-UI'!$D$11:$D$109,B100)","v":0},{"$f":"SUMIFS('RP-UI'!$P$11:$P$109,'RP-UI'!$D$11:$D$109,B100)","v":0},0]
[91,{"$f":"'TAB-C'!B101","v":"C91"},{"$f":"'TAB-C'!D101","v":""},{"$f":"SUMIFS('RP-UI'!$F$11:$F$109,'RP-UI'!$D$11:$D$109,B101)","v":0},{"$f":"SUMIFS('RP-UI'!$G$11:$G$109,'RP-UI'!$D$11:$D$109,B101)","v":0},{"$f":"SUMIFS('RP-UI'!$H$11:$H$109,'RP-UI'!$D$11:$D$109,B101)","v":0},{"$f":"SUMIFS('RP-UI'!$I$11:$I$109,'RP-UI'!$D$11:$D$109,B101)","v":0},{"$f":"SUMIFS('RP-UI'!$J$11:$J$109,'RP-UI'!$D$11:$D$109,B101)","v":0},{"$f":"SUMIFS('RP-UI'!$K$11:$K$109,'RP-UI'!$D$11:$D$109,B101)","v":0},{"$f":"SUMIFS('RP-UI'!$L$11:$L$109,'RP-UI'!$D$11:$D$109,B101)","v":0},{"$f":"SUMIFS('RP-UI'!$M$11:$M$109,'RP-UI'!$D$11:$D$109,B101)","v":0},{"$f":"SUMIFS('RP-UI'!$N$11:$N$109,'RP-UI'!$D$11:$D$109,B101)","v":0},{"$f":"SUMIFS('RP-UI'!$O$11:$O$109,'RP-UI'!$D$11:$D$109,B101)","v":0},{"$f":"SUMIFS('RP-UI'!$P$11:$P$109,'RP-UI'!$D$11:$D$109,B101)","v":0},0]
[92,{"$f":"'TAB-C'!B102","v":"C92"},{"$f":"'TAB-C'!D102","v":""},{"$f":"SUMIFS('RP-UI'!$F$11:$F$109,'RP-UI'!$D$11:$D$109,B102)","v":0},{"$f":"SUMIFS('RP-UI'!$G$11:$G$109,'RP-UI'!$D$11:$D$109,B102)","v":0},{"$f":"SUMIFS('RP-UI'!$H$11:$H$109,'RP-UI'!$D$11:$D$109,B102)","v":0},{"$f":"SUMIFS('RP-UI'!$I$11:$I$109,'RP-UI'!$D$11:$D$109,B102)","v":0},{"$f":"SUMIFS('RP-UI'!$J$11:$J$109,'RP-UI'!$D$11:$D$109,B102)","v":0},{"$f":"SUMIFS('RP-UI'!$K$11:$K$109,'RP-UI'!$D$11:$D$109,B102)","v":0},{"$f":"SUMIFS('RP-UI'!$L$11:$L$109,'RP-UI'!$D$11:$D$109,B102)","v":0},{"$f":"SUMIFS('RP-UI'!$M$11:$M$109,'RP-UI'!$D$11:$D$109,B102)","v":0},{"$f":"SUMIFS('RP-UI'!$N$11:$N$109,'RP-UI'!$D$11:$D$109,B102)","v":0},{"$f":"SUMIFS('RP-UI'!$O$11:$O$109,'RP-UI'!$D$11:$D$109,B102)","v":0},{"$f":"SUMIFS('RP-UI'!$P$11:$P$109,'RP-UI'!$D$11:$D$109,B102)","v":0},0]
[93,{"$f":"'TAB-C'!B103","v":"C93"},{"$f":"'TAB-C'!D103","v":""},{"$f":"SUMIFS('RP-UI'!$F$11:$F$109,'RP-UI'!$D$11:$D$109,B103)","v":0},{"$f":"SUMIFS('RP-UI'!$G$11:$G$109,'RP-UI'!$D$11:$D$109,B103)","v":0},{"$f":"SUMIFS('RP-UI'!$H$11:$H$109,'RP-UI'!$D$11:$D$109,B103)","v":0},{"$f":"SUMIFS('RP-UI'!$I$11:$I$109,'RP-UI'!$D$11:$D$109,B103)","v":0},{"$f":"SUMIFS('RP-UI'!$J$11:$J$109,'RP-UI'!$D$11:$D$109,B103)","v":0},{"$f":"SUMIFS('RP-UI'!$K$11:$K$109,'RP-UI'!$D$11:$D$109,B103)","v":0},{"$f":"SUMIFS('RP-UI'!$L$11:$L$109,'RP-UI'!$D$11:$D$109,B103)","v":0},{"$f":"SUMIFS('RP-UI'!$M$11:$M$109,'RP-UI'!$D$11:$D$109,B103)","v":0},{"$f":"SUMIFS('RP-UI'!$N$11:$N$109,'RP-UI'!$D$11:$D$109,B103)","v":0},{"$f":"SUMIFS('RP-UI'!$O$11:$O$109,'RP-UI'!$D$11:$D$109,B103)","v":0},{"$f":"SUMIFS('RP-UI'!$P$11:$P$109,'RP-UI'!$D$11:$D$109,B103)","v":0},0]
[94,{"$f":"'TAB-C'!B104","v":"C94"},{"$f":"'TAB-C'!D104","v":""},{"$f":"SUMIFS('RP-UI'!$F$11:$F$109,'RP-UI'!$D$11:$D$109,B104)","v":0},{"$f":"SUMIFS('RP-UI'!$G$11:$G$109,'RP-UI'!$D$11:$D$109,B104)","v":0},{"$f":"SUMIFS('RP-UI'!$H$11:$H$109,'RP-UI'!$D$11:$D$109,B104)","v":0},{"$f":"SUMIFS('RP-UI'!$I$11:$I$109,'RP-UI'!$D$11:$D$109,B104)","v":0},{"$f":"SUMIFS('RP-UI'!$J$11:$J$109,'RP-UI'!$D$11:$D$109,B104)","v":0},{"$f":"SUMIFS('RP-UI'!$K$11:$K$109,'RP-UI'!$D$11:$D$109,B104)","v":0},{"$f":"SUMIFS('RP-UI'!$L$11:$L$109,'RP-UI'!$D$11:$D$109,B104)","v":0},{"$f":"SUMIFS('RP-UI'!$M$11:$M$109,'RP-UI'!$D$11:$D$109,B104)","v":0},{"$f":"SUMIFS('RP-UI'!$N$11:$N$109,'RP-UI'!$D$11:$D$109,B104)","v":0},{"$f":"SUMIFS('RP-UI'!$O$11:$O$109,'RP-UI'!$D$11:$D$109,B104)","v":0},{"$f":"SUMIFS('RP-UI'!$P$11:$P$109,'RP-UI'!$D$11:$D$109,B104)","v":0},0]
[95,{"$f":"'TAB-C'!B105","v":"C95"},{"$f":"'TAB-C'!D105","v":""},{"$f":"SUMIFS('RP-UI'!$F$11:$F$109,'RP-UI'!$D$11:$D$109,B105)","v":0},{"$f":"SUMIFS('RP-UI'!$G$11:$G$109,'RP-UI'!$D$11:$D$109,B105)","v":0},{"$f":"SUMIFS('RP-UI'!$H$11:$H$109,'RP-UI'!$D$11:$D$109,B105)","v":0},{"$f":"SUMIFS('RP-UI'!$I$11:$I$109,'RP-UI'!$D$11:$D$109,B105)","v":0},{"$f":"SUMIFS('RP-UI'!$J$11:$J$109,'RP-UI'!$D$11:$D$109,B105)","v":0},{"$f":"SUMIFS('RP-UI'!$K$11:$K$109,'RP-UI'!$D$11:$D$109,B105)","v":0},{"$f":"SUMIFS('RP-UI'!$L$11:$L$109,'RP-UI'!$D$11:$D$109,B105)","v":0},{"$f":"SUMIFS('RP-UI'!$M$11:$M$109,'RP-UI'!$D$11:$D$109,B105)","v":0},{"$f":"SUMIFS('RP-UI'!$N$11:$N$109,'RP-UI'!$D$11:$D$109,B105)","v":0},{"$f":"SUMIFS('RP-UI'!$O$11:$O$109,'RP-UI'!$D$11:$D$109,B105)","v":0},{"$f":"SUMIFS('RP-UI'!$P$11:$P$109,'RP-UI'!$D$11:$D$109,B105)","v":0},0]
[96,{"$f":"'TAB-C'!B106","v":"C96"},{"$f":"'TAB-C'!D106","v":""},{"$f":"SUMIFS('RP-UI'!$F$11:$F$109,'RP-UI'!$D$11:$D$109,B106)","v":0},{"$f":"SUMIFS('RP-UI'!$G$11:$G$109,'RP-UI'!$D$11:$D$109,B106)","v":0},{"$f":"SUMIFS('RP-UI'!$H$11:$H$109,'RP-UI'!$D$11:$D$109,B106)","v":0},{"$f":"SUMIFS('RP-UI'!$I$11:$I$109,'RP-UI'!$D$11:$D$109,B106)","v":0},{"$f":"SUMIFS('RP-UI'!$J$11:$J$109,'RP-UI'!$D$11:$D$109,B106)","v":0},{"$f":"SUMIFS('RP-UI'!$K$11:$K$109,'RP-UI'!$D$11:$D$109,B106)","v":0},{"$f":"SUMIFS('RP-UI'!$L$11:$L$109,'RP-UI'!$D$11:$D$109,B106)","v":0},{"$f":"SUMIFS('RP-UI'!$M$11:$M$109,'RP-UI'!$D$11:$D$109,B106)","v":0},{"$f":"SUMIFS('RP-UI'!$N$11:$N$109,'RP-UI'!$D$11:$D$109,B106)","v":0},{"$f":"SUMIFS('RP-UI'!$O$11:$O$109,'RP-UI'!$D$11:$D$109,B106)","v":0},{"$f":"SUMIFS('RP-UI'!$P$11:$P$109,'RP-UI'!$D$11:$D$109,B106)","v":0},0]
[97,{"$f":"'TAB-C'!B107","v":"C97"},{"$f":"'TAB-C'!D107","v":""},{"$f":"SUMIFS('RP-UI'!$F$11:$F$109,'RP-UI'!$D$11:$D$109,B107)","v":0},{"$f":"SUMIFS('RP-UI'!$G$11:$G$109,'RP-UI'!$D$11:$D$109,B107)","v":0},{"$f":"SUMIFS('RP-UI'!$H$11:$H$109,'RP-UI'!$D$11:$D$109,B107)","v":0},{"$f":"SUMIFS('RP-UI'!$I$11:$I$109,'RP-UI'!$D$11:$D$109,B107)","v":0},{"$f":"SUMIFS('RP-UI'!$J$11:$J$109,'RP-UI'!$D$11:$D$109,B107)","v":0},{"$f":"SUMIFS('RP-UI'!$K$11:$K$109,'RP-UI'!$D$11:$D$109,B107)","v":0},{"$f":"SUMIFS('RP-UI'!$L$11:$L$109,'RP-UI'!$D$11:$D$109,B107)","v":0},{"$f":"SUMIFS('RP-UI'!$M$11:$M$109,'RP-UI'!$D$11:$D$109,B107)","v":0},{"$f":"SUMIFS('RP-UI'!$N$11:$N$109,'RP-UI'!$D$11:$D$109,B107)","v":0},{"$f":"SUMIFS('RP-UI'!$O$11:$O$109,'RP-UI'!$D$11:$D$109,B107)","v":0},{"$f":"SUMIFS('RP-UI'!$P$11:$P$109,'RP-UI'!$D$11:$D$109,B107)","v":0},0]
[98,{"$f":"'TAB-C'!B108","v":"C98"},{"$f":"'TAB-C'!D108","v":""},{"$f":"SUMIFS('RP-UI'!$F$11:$F$109,'RP-UI'!$D$11:$D$109,B108)","v":0},{"$f":"SUMIFS('RP-UI'!$G$11:$G$109,'RP-UI'!$D$11:$D$109,B108)","v":0},{"$f":"SUMIFS('RP-UI'!$H$11:$H$109,'RP-UI'!$D$11:$D$109,B108)","v":0},{"$f":"SUMIFS('RP-UI'!$I$11:$I$109,'RP-UI'!$D$11:$D$109,B108)","v":0},{"$f":"SUMIFS('RP-UI'!$J$11:$J$109,'RP-UI'!$D$11:$D$109,B108)","v":0},{"$f":"SUMIFS('RP-UI'!$K$11:$K$109,'RP-UI'!$D$11:$D$109,B108)","v":0},{"$f":"SUMIFS('RP-UI'!$L$11:$L$109,'RP-UI'!$D$11:$D$109,B108)","v":0},{"$f":"SUMIFS('RP-UI'!$M$11:$M$109,'RP-UI'!$D$11:$D$109,B108)","v":0},{"$f":"SUMIFS('RP-UI'!$N$11:$N$109,'RP-UI'!$D$11:$D$109,B108)","v":0},{"$f":"SUMIFS('RP-UI'!$O$11:$O$109,'RP-UI'!$D$11:$D$109,B108)","v":0},{"$f":"SUMIFS('RP-UI'!$P$11:$P$109,'RP-UI'!$D$11:$D$109,B108)","v":0},0]
[99,{"$f":"'TAB-C'!B109","v":"C99"},{"$f":"'TAB-C'!D109","v":""},{"$f":"SUMIFS('RP-UI'!$F$11:$F$109,'RP-UI'!$D$11:$D$109,B109)","v":0},{"$f":"SUMIFS('RP-UI'!$G$11:$G$109,'RP-UI'!$D$11:$D$109,B109)","v":0},{"$f":"SUMIFS('RP-UI'!$H$11:$H$109,'RP-UI'!$D$11:$D$109,B109)","v":0},{"$f":"SUMIFS('RP-UI'!$I$11:$I$109,'RP-UI'!$D$11:$D$109,B109)","v":0},{"$f":"SUMIFS('RP-UI'!$J$11:$J$109,'RP-UI'!$D$11:$D$109,B109)","v":0},{"$f":"SUMIFS('RP-UI'!$K$11:$K$109,'RP-UI'!$D$11:$D$109,B109)","v":0},{"$f":"SUMIFS('RP-UI'!$L$11:$L$109,'RP-UI'!$D$11:$D$109,B109)","v":0},{"$f":"SUMIFS('RP-UI'!$M$11:$M$109,'RP-UI'!$D$11:$D$109,B109)","v":0},{"$f":"SUMIFS('RP-UI'!$N$11:$N$109,'RP-UI'!$D$11:$D$109,B109)","v":0},{"$f":"SUMIFS('RP-UI'!$O$11:$O$109,'RP-UI'!$D$11:$D$109,B109)","v":0},{"$f":"SUMIFS('RP-UI'!$P$11:$P$109,'RP-UI'!$D$11:$D$109,B109)","v":0},0]
[null,null,"TOTALI",{"$f":"SUM(D11:D109)","v":4999.9999999999991},{"$f":"SUM(E11:E109)","v":5210.0000000000009},6030.0000000000009,0,0,0,0,0,0,0,950,17189.999999999996]
[null,null,"controllo uscite",{"$f":"SUM(D110:N110)","v":17190}]

{"sheet":"RATEAZIONE-C","index":20,"n_rows":110,"n_cols":7,"rows_kept":110,"cut":false,"hidden":true,"merged":[[8,2,9,2],[8,0,9,0],[8,1,9,1]]}
[]
[]
[]
[]
[]
[]
[]
[{"$f":"\"QUOTE PER CONDOMINI, RATEAZIONE e SCADENZE RATE del FONDO LAVORI\" & CHAR(10) & DATIG!A40  & CHAR(10) & \"Codice FONDO:  \" & DATIG!A37","v":"QUOTE PER CONDOMINI, RATEAZIONE e SCADENZE RATE del FONDO LAVORI\nLavori messa in sicurezza fondazioni da infiltrazioni fognarie\nCodice FONDO:  LAVORO-01"}]
["n.","CONDOMINO","QUOTA DA\nPREVENTIVO","RATA 1","RATA 2","RATA 3","RATA 4"]
[null,null,null,{"$f":"DATIG!A43","v":"2017-04-10"},{"$f":"DATIG!A44","v":"2018-04-10"},{"$f":"DATIG!A45","v":"2019-07-10"},{"$f":"DATIG!A46","v":"00:00:00"}]
[1,{"$f":"IF(CONDOMINI!C11<>\"\",CONDOMINI!C11,\"\")","v":"CONDOMINO01"},{"$f":"'RP-C'!O11","v":1022.4300000000001},340.81,340.81,340.81000000000006]
[2,{"$f":"IF(CONDOMINI!C12<>\"\",CONDOMINI!C12,\"\")","v":"CONDOMINO02"},{"$f":"'RP-C'!O12","v":1226.96},408.99,408.99,408.98]
[3,{"$f":"IF(CONDOMINI!C13<>\"\",CONDOMINI!C13,\"\")","v":"CONDOMINO03"},{"$f":"'RP-C'!O13","v":1369.54},456.52,456.52,456.5]
[4,{"$f":"IF(CONDOMINI!C14<>\"\",CONDOMINI!C14,\"\")","v":"CONDOMINO04"},{"$f":"'RP-C'!O14","v":775.36},258.45999999999998,258.45999999999998,258.44000000000005]
[5,{"$f":"IF(CONDOMINI!C15<>\"\",CONDOMINI!C15,\"\")","v":"CONDOMINO05"},{"$f":"'RP-C'!O15","v":961.43000000000006},320.48,320.48,320.47000000000003]
[6,{"$f":"IF(CONDOMINI!C16<>\"\",CONDOMINI!C16,\"\")","v":"CONDOMINO06"},{"$f":"'RP-C'!O16","v":912.07},304.03000000000003,304.03000000000003,304.01]
[7,{"$f":"IF(CONDOMINI!C17<>\"\",CONDOMINI!C17,\"\")","v":"CONDOMINO07"},{"$f":"'RP-C'!O17","v":1292.1999999999998},430.74,430.74,430.7199999999998]
[8,{"$f":"IF(CONDOMINI!C18<>\"\",CONDOMINI!C18,\"\")","v":"CONDOMINO08"},{"$f":"'RP-C'!O18","v":1044.97},348.33,348.33,348.31000000000006]
[9,{"$f":"IF(CONDOMINI!C19<>\"\",CONDOMINI!C19,\"\")","v":"CONDOMINO09"},{"$f":"'RP-C'!O19","v":561.41000000000008},187.14000000000001,187.14000000000001,187.13000000000005]
[10,{"$f":"IF(CONDOMINI!C20<>\"\",CONDOMINI!C20,\"\")","v":"CONDOMINO10"},{"$f":"'RP-C'!O20","v":202.54999999999998},67.52,67.52,67.509999999999991]
[11,{"$f":"IF(CONDOMINI!C21<>\"\",CONDOMINI!C21,\"\")","v":"CONDOMINO11"},{"$f":"'RP-C'!O21","v":254.97},84.99,84.99,84.990000000000009]
[12,{"$f":"IF(CONDOMINI!C22<>\"\",CONDOMINI!C22,\"\")","v":"CONDOMINO12"},{"$f":"'RP-C'!O22","v":592.76},197.59,197.59,197.57999999999998]
[13,{"$f":"IF(CONDOMINI!C23<>\"\",CONDOMINI!C23,\"\")","v":"CONDOMINO13"},{"$f":"'RP-C'!O23","v":121.14000000000001},40.380000000000003,40.380000000000003,40.38000000000001]
[14,{"$f":"IF(CONDOMINI!C24<>\"\",CONDOMINI!C24,\"\")","v":"CONDOMINO14"},{"$f":"'RP-C'!O24","v":387.66},129.22,129.22,129.22000000000003]
[15,{"$f":"IF(CONDOMINI!C25<>\"\",CONDOMINI!C25,\"\")","v":"CONDOMINO15"},{"$f":"'RP-C'!O25","v":1983.5500000000002},661.19,661.19,661.17000000000007]
[16,{"$f":"IF(CONDOMINI!C26<>\"\",CONDOMINI!C26,\"\")","v":"CONDOMINO16"},{"$f":"'RP-C'!O26","v":1219.8599999999999},406.62,406.62,406.61999999999989]
[17,{"$f":"IF(CONDOMINI!C27<>\"\",CONDOMINI!C27,\"\")","v":"CONDOMINO17"},{"$f":"'RP-C'!O27","v":960.26},320.09000000000003,320.09000000000003,320.07999999999993]
[18,{"$f":"IF(CONDOMINI!C28<>\"\",CONDOMINI!C28,\"\")","v":"CONDOMINO18"},{"$f":"'RP-C'!O28","v":1284.48},428.16,428.16,428.15999999999997]
[19,{"$f":"IF(CONDOMINI!C29<>\"\",CONDOMINI!C29,\"\")","v":"CONDOMINO19"},{"$f":"'RP-C'!O29","v":1016.4},338.8,338.8,338.79999999999995]
[20,{"$f":"IF(CONDOMINI!C30<>\"\",CONDOMINI!C30,\"\")","v":""},{"$f":"'RP-C'!O30","v":0}]
[21,{"$f":"IF(CONDOMINI!C31<>\"\",CONDOMINI!C31,\"\")","v":""},{"$f":"'RP-C'!O31","v":0}]
[22,{"$f":"IF(CONDOMINI!C32<>\"\",CONDOMINI!C32,\"\")","v":""},{"$f":"'RP-C'!O32","v":0}]
[23,{"$f":"IF(CONDOMINI!C33<>\"\",CONDOMINI!C33,\"\")","v":""},{"$f":"'RP-C'!O33","v":0}]
[24,{"$f":"IF(CONDOMINI!C34<>\"\",CONDOMINI!C34,\"\")","v":""},{"$f":"'RP-C'!O34","v":0}]
[25,{"$f":"IF(CONDOMINI!C35<>\"\",CONDOMINI!C35,\"\")","v":""},{"$f":"'RP-C'!O35","v":0}]
[26,{"$f":"IF(CONDOMINI!C36<>\"\",CONDOMINI!C36,\"\")","v":""},{"$f":"'RP-C'!O36","v":0}]
[27,{"$f":"IF(CONDOMINI!C37<>\"\",CONDOMINI!C37,\"\")","v":""},{"$f":"'RP-C'!O37","v":0}]
[28,{"$f":"IF(CONDOMINI!C38<>\"\",CONDOMINI!C38,\"\")","v":""},{"$f":"'RP-C'!O38","v":0}]
[29,{"$f":"IF(CONDOMINI!C39<>\"\",CONDOMINI!C39,\"\")","v":""},{"$f":"'RP-C'!O39","v":0}]
[30,{"$f":"IF(CONDOMINI!C40<>\"\",CONDOMINI!C40,\"\")","v":""},{"$f":"'RP-C'!O40","v":0}]
[31,{"$f":"IF(CONDOMINI!C41<>\"\",CONDOMINI!C41,\"\")","v":""},{"$f":"'RP-C'!O41","v":0}]
[32,{"$f":"IF(CONDOMINI!C42<>\"\",CONDOMINI!C42,\"\")","v":""},{"$f":"'RP-C'!O42","v":0}]
[33,{"$f":"IF(CONDOMINI!C43<>\"\",CONDOMINI!C43,\"\")","v":""},{"$f":"'RP-C'!O43","v":0}]
[34,{"$f":"IF(CONDOMINI!C44<>\"\",CONDOMINI!C44,\"\")","v":""},{"$f":"'RP-C'!O44","v":0}]
[35,{"$f":"IF(CONDOMINI!C45<>\"\",CONDOMINI!C45,\"\")","v":""},{"$f":"'RP-C'!O45","v":0}]
[36,{"$f":"IF(CONDOMINI!C46<>\"\",CONDOMINI!C46,\"\")","v":""},{"$f":"'RP-C'!O46","v":0}]
[37,{"$f":"IF(CONDOMINI!C47<>\"\",CONDOMINI!C47,\"\")","v":""},{"$f":"'RP-C'!O47","v":0}]
[38,{"$f":"IF(CONDOMINI!C48<>\"\",CONDOMINI!C48,\"\")","v":""},{"$f":"'RP-C'!O48","v":0}]
[39,{"$f":"IF(CONDOMINI!C49<>\"\",CONDOMINI!C49,\"\")","v":""},{"$f":"'RP-C'!O49","v":0}]
[40,{"$f":"IF(CONDOMINI!C50<>\"\",CONDOMINI!C50,\"\")","v":""},{"$f":"'RP-C'!O50","v":0}]
[41,{"$f":"IF(CONDOMINI!C51<>\"\",CONDOMINI!C51,\"\")","v":""},{"$f":"'RP-C'!O51","v":0}]
[42,{"$f":"IF(CONDOMINI!C52<>\"\",CONDOMINI!C52,\"\")","v":""},{"$f":"'RP-C'!O52","v":0}]
[43,{"$f":"IF(CONDOMINI!C53<>\"\",CONDOMINI!C53,\"\")","v":""},{"$f":"'RP-C'!O53","v":0}]
[44,{"$f":"IF(CONDOMINI!C54<>\"\",CONDOMINI!C54,\"\")","v":""},{"$f":"'RP-C'!O54","v":0}]
[45,{"$f":"IF(CONDOMINI!C55<>\"\",CONDOMINI!C55,\"\")","v":""},{"$f":"'RP-C'!O55","v":0}]
[46,{"$f":"IF(CONDOMINI!C56<>\"\",CONDOMINI!C56,\"\")","v":""},{"$f":"'RP-C'!O56","v":0}]
[47,{"$f":"IF(CONDOMINI!C57<>\"\",CONDOMINI!C57,\"\")","v":""},{"$f":"'RP-C'!O57","v":0}]
[48,{"$f":"IF(CONDOMINI!C58<>\"\",CONDOMINI!C58,\"\")","v":""},{"$f":"'RP-C'!O58","v":0}]
[49,{"$f":"IF(CONDOMINI!C59<>\"\",CONDOMINI!C59,\"\")","v":""},{"$f":"'RP-C'!O59","v":0}]
[50,{"$f":"IF(CONDOMINI!C60<>\"\",CONDOMINI!C60,\"\")","v":""},{"$f":"'RP-C'!O60","v":0}]
[51,{"$f":"IF(CONDOMINI!C61<>\"\",CONDOMINI!C61,\"\")","v":""},{"$f":"'RP-C'!O61","v":0}]
[52,{"$f":"IF(CONDOMINI!C62<>\"\",CONDOMINI!C62,\"\")","v":""},{"$f":"'RP-C'!O62","v":0}]
[53,{"$f":"IF(CONDOMINI!C63<>\"\",CONDOMINI!C63,\"\")","v":""},{"$f":"'RP-C'!O63","v":0}]
[54,{"$f":"IF(CONDOMINI!C64<>\"\",CONDOMINI!C64,\"\")","v":""},{"$f":"'RP-C'!O64","v":0}]
[55,{"$f":"IF(CONDOMINI!C65<>\"\",CONDOMINI!C65,\"\")","v":""},{"$f":"'RP-C'!O65","v":0}]
[56,{"$f":"IF(CONDOMINI!C66<>\"\",CONDOMINI!C66,\"\")","v":""},{"$f":"'RP-C'!O66","v":0}]
[57,{"$f":"IF(CONDOMINI!C67<>\"\",CONDOMINI!C67,\"\")","v":""},{"$f":"'RP-C'!O67","v":0}]
[58,{"$f":"IF(CONDOMINI!C68<>\"\",CONDOMINI!C68,\"\")","v":""},{"$f":"'RP-C'!O68","v":0}]
[59,{"$f":"IF(CONDOMINI!C69<>\"\",CONDOMINI!C69,\"\")","v":""},{"$f":"'RP-C'!O69","v":0}]
[60,{"$f":"IF(CONDOMINI!C70<>\"\",CONDOMINI!C70,\"\")","v":""},{"$f":"'RP-C'!O70","v":0}]
[61,{"$f":"IF(CONDOMINI!C71<>\"\",CONDOMINI!C71,\"\")","v":""},{"$f":"'RP-C'!O71","v":0}]
[62,{"$f":"IF(CONDOMINI!C72<>\"\",CONDOMINI!C72,\"\")","v":""},{"$f":"'RP-C'!O72","v":0}]
[63,{"$f":"IF(CONDOMINI!C73<>\"\",CONDOMINI!C73,\"\")","v":""},{"$f":"'RP-C'!O73","v":0}]
[64,{"$f":"IF(CONDOMINI!C74<>\"\",CONDOMINI!C74,\"\")","v":""},{"$f":"'RP-C'!O74","v":0}]
[65,{"$f":"IF(CONDOMINI!C75<>\"\",CONDOMINI!C75,\"\")","v":""},{"$f":"'RP-C'!O75","v":0}]
[66,{"$f":"IF(CONDOMINI!C76<>\"\",CONDOMINI!C76,\"\")","v":""},{"$f":"'RP-C'!O76","v":0}]
[67,{"$f":"IF(CONDOMINI!C77<>\"\",CONDOMINI!C77,\"\")","v":""},{"$f":"'RP-C'!O77","v":0}]
[68,{"$f":"IF(CONDOMINI!C78<>\"\",CONDOMINI!C78,\"\")","v":""},{"$f":"'RP-C'!O78","v":0}]
[69,{"$f":"IF(CONDOMINI!C79<>\"\",CONDOMINI!C79,\"\")","v":""},{"$f":"'RP-C'!O79","v":0}]
[70,{"$f":"IF(CONDOMINI!C80<>\"\",CONDOMINI!C80,\"\")","v":""},{"$f":"'RP-C'!O80","v":0}]
[71,{"$f":"IF(CONDOMINI!C81<>\"\",CONDOMINI!C81,\"\")","v":""},{"$f":"'RP-C'!O81","v":0}]
[72,{"$f":"IF(CONDOMINI!C82<>\"\",CONDOMINI!C82,\"\")","v":""},{"$f":"'RP-C'!O82","v":0}]
[73,{"$f":"IF(CONDOMINI!C83<>\"\",CONDOMINI!C83,\"\")","v":""},{"$f":"'RP-C'!O83","v":0}]
[74,{"$f":"IF(CONDOMINI!C84<>\"\",CONDOMINI!C84,\"\")","v":""},{"$f":"'RP-C'!O84","v":0}]
[75,{"$f":"IF(CONDOMINI!C85<>\"\",CONDOMINI!C85,\"\")","v":""},{"$f":"'RP-C'!O85","v":0}]
[76,{"$f":"IF(CONDOMINI!C86<>\"\",CONDOMINI!C86,\"\")","v":""},{"$f":"'RP-C'!O86","v":0}]
[77,{"$f":"IF(CONDOMINI!C87<>\"\",CONDOMINI!C87,\"\")","v":""},{"$f":"'RP-C'!O87","v":0}]
[78,{"$f":"IF(CONDOMINI!C88<>\"\",CONDOMINI!C88,\"\")","v":""},{"$f":"'RP-C'!O88","v":0}]
[79,{"$f":"IF(CONDOMINI!C89<>\"\",CONDOMINI!C89,\"\")","v":""},{"$f":"'RP-C'!O89","v":0}]
[80,{"$f":"IF(CONDOMINI!C90<>\"\",CONDOMINI!C90,\"\")","v":""},{"$f":"'RP-C'!O90","v":0}]
[81,{"$f":"IF(CONDOMINI!C91<>\"\",CONDOMINI!C91,\"\")","v":""},{"$f":"'RP-C'!O91","v":0}]
[82,{"$f":"IF(CONDOMINI!C92<>\"\",CONDOMINI!C92,\"\")","v":""},{"$f":"'RP-C'!O92","v":0}]
[83,{"$f":"IF(CONDOMINI!C93<>\"\",CONDOMINI!C93,\"\")","v":""},{"$f":"'RP-C'!O93","v":0}]
[84,{"$f":"IF(CONDOMINI!C94<>\"\",CONDOMINI!C94,\"\")","v":""},{"$f":"'RP-C'!O94","v":0}]
[85,{"$f":"IF(CONDOMINI!C95<>\"\",CONDOMINI!C95,\"\")","v":""},{"$f":"'RP-C'!O95","v":0}]
[86,{"$f":"IF(CONDOMINI!C96<>\"\",CONDOMINI!C96,\"\")","v":""},{"$f":"'RP-C'!O96","v":0}]
[87,{"$f":"IF(CONDOMINI!C97<>\"\",CONDOMINI!C97,\"\")","v":""},{"$f":"'RP-C'!O97","v":0}]
[88,{"$f":"IF(CONDOMINI!C98<>\"\",CONDOMINI!C98,\"\")","v":""},{"$f":"'RP-C'!O98","v":0}]
[89,{"$f":"IF(CONDOMINI!C99<>\"\",CONDOMINI!C99,\"\")","v":""},{"$f":"'RP-C'!O99","v":0}]
[90,{"$f":"IF(CONDOMINI!C100<>\"\",CONDOMINI!C100,\"\")","v":""},{"$f":"'RP-C'!O100","v":0}]
[91,{"$f":"IF(CONDOMINI!C101<>\"\",CONDOMINI!C101,\"\")","v":""},{"$f":"'RP-C'!O101","v":0}]
[92,{"$f":"IF(CONDOMINI!C102<>\"\",CONDOMINI!C102,\"\")","v":""},{"$f":"'RP-C'!O102","v":0}]
[93,{"$f":"IF(CONDOMINI!C103<>\"\",CONDOMINI!C103,\"\")","v":""},{"$f":"'RP-C'!O103","v":0}]
[94,{"$f":"IF(CONDOMINI!C104<>\"\",CONDOMINI!C104,\"\")","v":""},{"$f":"'RP-C'!O104","v":0}]
[95,{"$f":"IF(CONDOMINI!C105<>\"\",CONDOMINI!C105,\"\")","v":""},{"$f":"'RP-C'!O105","v":0}]
[96,{"$f":"IF(CONDOMINI!C106<>\"\",CONDOMINI!C106,\"\")","v":""},{"$f":"'RP-C'!O106","v":0}]
[97,{"$f":"IF(CONDOMINI!C107<>\"\",CONDOMINI!C107,\"\")","v":""},{"$f":"'RP-C'!O107","v":0}]
[98,{"$f":"IF(CONDOMINI!C108<>\"\",CONDOMINI!C108,\"\")","v":""},{"$f":"'RP-C'!O108","v":0}]
[99,{"$f":"IF(CONDOMINI!C109<>\"\",CONDOMINI!C109,\"\")","v":""},{"$f":"'RP-C'!O109","v":0}]
[null,"TOTALE",{"$f":"SUM(C11:C109)","v":17189.999999999996},5730.0599999999995,5730.0599999999995,5729.88,0]

{"sheet":"RATEAZIONE-UI","index":21,"n_rows":110,"n_cols":7,"rows_kept":110,"cut":false,"hidden":true,"merged":[[8,0,9,0],[8,1,9,1],[8,2,9,2]]}
[]
[]
[]
[]
[]
[]
[]
[{"$f":"\"QUOTE PER UNITÀ IMMOBILIARI, RATEAZIONE e SCADENZE RATE del FONDO LAVORI\" & CHAR(10) & DATIG!A40  & CHAR(10) & \"Codice FONDO:  \" & DATIG!A37","v":"QUOTE PER UNITÀ IMMOBILIARI, RATEAZIONE e SCADENZE RATE del FONDO LAVORI\nLavori messa in sicurezza fondazioni da infiltrazioni fognarie\nCodice FONDO:  LAVORO-01"}]
["n.","UNITÀ IMMOBILIARE","QUOTA DA\nPREVENTIVO","RATA 1","RATA 2","RATA 3","RATA 4"]
[null,null,null,{"$f":"DATIG!A43","v":"2017-04-10"},{"$f":"DATIG!A44","v":"2018-04-10"},{"$f":"DATIG!A45","v":"2019-07-10"},{"$f":"DATIG!A46","v":"00:00:00"}]
[1,{"$f":"IF(UI!E11<>\"\", UI!B11 & \"   (condomino \" & UI!E11 &\")\",\"\")","v":"U01   (condomino CONDOMINO01)"},{"$f":"'RP-UI'!Q11","v":1022.4300000000001},340.81,340.81,340.81000000000006]
[2,{"$f":"IF(UI!E12<>\"\", UI!B12 & \"   (condomino \" & UI!E12 &\")\",\"\")","v":"U02   (condomino CONDOMINO02)"},{"$f":"'RP-UI'!Q12","v":1226.96},408.99,408.99,408.98]
[3,{"$f":"IF(UI!E13<>\"\", UI!B13 & \"   (condomino \" & UI!E13 &\")\",\"\")","v":"U03   (condomino CONDOMINO03)"},{"$f":"'RP-UI'!Q13","v":1369.54},456.52,456.52,456.5]
[4,{"$f":"IF(UI!E14<>\"\", UI!B14 & \"   (condomino \" & UI!E14 &\")\",\"\")","v":"U04   (condomino CONDOMINO04)"},{"$f":"'RP-UI'!Q14","v":775.36},258.45999999999998,258.45999999999998,258.44000000000005]
[5,{"$f":"IF(UI!E15<>\"\", UI!B15 & \"   (condomino \" & UI!E15 &\")\",\"\")","v":"U05   (condomino CONDOMINO05)"},{"$f":"'RP-UI'!Q15","v":961.43000000000006},320.48,320.48,320.47000000000003]
[6,{"$f":"IF(UI!E16<>\"\", UI!B16 & \"   (condomino \" & UI!E16 &\")\",\"\")","v":"U06   (condomino CONDOMINO06)"},{"$f":"'RP-UI'!Q16","v":912.07},304.03000000000003,304.03000000000003,304.01]
[7,{"$f":"IF(UI!E17<>\"\", UI!B17 & \"   (condomino \" & UI!E17 &\")\",\"\")","v":"U07   (condomino CONDOMINO07)"},{"$f":"'RP-UI'!Q17","v":482.8},160.94,160.94,160.92000000000002]
[8,{"$f":"IF(UI!E18<>\"\", UI!B18 & \"   (condomino \" & UI!E18 &\")\",\"\")","v":"U08   (condomino CONDOMINO08)"},{"$f":"'RP-UI'!Q18","v":591.08000000000004},197.03,197.03,197.02000000000004]
[9,{"$f":"IF(UI!E19<>\"\", UI!B19 & \"   (condomino \" & UI!E19 &\")\",\"\")","v":"U09   (condomino CONDOMINO09)"},{"$f":"'RP-UI'!Q19","v":561.41000000000008},187.14000000000001,187.14000000000001,187.13000000000005]
[10,{"$f":"IF(UI!E20<>\"\", UI!B20 & \"   (condomino \" & UI!E20 &\")\",\"\")","v":"U10   (condomino CONDOMINO10)"},{"$f":"'RP-UI'!Q20","v":202.54999999999998},67.52,67.52,67.509999999999991]
[11,{"$f":"IF(UI!E21<>\"\", UI!B21 & \"   (condomino \" & UI!E21 &\")\",\"\")","v":"U11   (condomino CONDOMINO11)"},{"$f":"'RP-UI'!Q21","v":254.97},84.99,84.99,84.990000000000009]
[12,{"$f":"IF(UI!E22<>\"\", UI!B22 & \"   (condomino \" & UI!E22 &\")\",\"\")","v":"U12   (condomino CONDOMINO12)"},{"$f":"'RP-UI'!Q22","v":592.76},197.59,197.59,197.57999999999998]
[13,{"$f":"IF(UI!E23<>\"\", UI!B23 & \"   (condomino \" & UI!E23 &\")\",\"\")","v":"U13   (condomino CONDOMINO13)"},{"$f":"'RP-UI'!Q23","v":121.14000000000001},40.380000000000003,40.380000000000003,40.38000000000001]
[14,{"$f":"IF(UI!E24<>\"\", UI!B24 & \"   (condomino \" & UI!E24 &\")\",\"\")","v":"U14   (condomino CONDOMINO14)"},{"$f":"'RP-UI'!Q24","v":387.66},129.22,129.22,129.22000000000003]
[15,{"$f":"IF(UI!E25<>\"\", UI!B25 & \"   (condomino \" & UI!E25 &\")\",\"\")","v":"U15   (condomino CONDOMINO15)"},{"$f":"'RP-UI'!Q25","v":1983.5500000000002},661.19,661.19,661.17000000000007]
[16,{"$f":"IF(UI!E26<>\"\", UI!B26 & \"   (condomino \" & UI!E26 &\")\",\"\")","v":"U16   (condomino CONDOMINO16)"},{"$f":"'RP-UI'!Q26","v":1219.8599999999999},406.62,406.62,406.61999999999989]
[17,{"$f":"IF(UI!E27<>\"\", UI!B27 & \"   (condomino \" & UI!E27 &\")\",\"\")","v":"U17   (condomino CONDOMINO17)"},{"$f":"'RP-UI'!Q27","v":960.26},320.09000000000003,320.09000000000003,320.07999999999993]
[18,{"$f":"IF(UI!E28<>\"\", UI!B28 & \"   (condomino \" & UI!E28 &\")\",\"\")","v":"U18   (condomino CONDOMINO18)"},{"$f":"'RP-UI'!Q28","v":1284.48},428.16,428.16,428.15999999999997]
[19,{"$f":"IF(UI!E29<>\"\", UI!B29 & \"   (condomino \" & UI!E29 &\")\",\"\")","v":"U19   (condomino CONDOMINO19)"},{"$f":"'RP-UI'!Q29","v":764.67},254.89000000000001,254.89000000000001,254.88999999999993]
[20,{"$f":"IF(UI!E30<>\"\", UI!B30 & \"   (condomino \" & UI!E30 &\")\",\"\")","v":"U20   (condomino CONDOMINO07)"},{"$f":"'RP-UI'!Q30","v":809.4},269.8,269.8,269.79999999999995]
[21,{"$f":"IF(UI!E31<>\"\", UI!B31 & \"   (condomino \" & UI!E31 &\")\",\"\")","v":"U21   (condomino CONDOMINO08)"},{"$f":"'RP-UI'!Q31","v":453.89},151.30000000000001,151.30000000000001,151.28999999999996]
[22,{"$f":"IF(UI!E32<>\"\", UI!B32 & \"   (condomino \" & UI!E32 &\")\",\"\")","v":"U22   (condomino CONDOMINO19)"},{"$f":"'RP-UI'!Q32","v":251.73000000000002},83.910000000000011,83.910000000000011,83.91]
[23,{"$f":"IF(UI!E33<>\"\", UI!B33 & \"   (condomino \" & UI!E33 &\")\",\"\")","v":""},{"$f":"'RP-UI'!Q33","v":0}]
[24,{"$f":"IF(UI!E34<>\"\", UI!B34 & \"   (condomino \" & UI!E34 &\")\",\"\")","v":""},{"$f":"'RP-UI'!Q34","v":0}]
[25,{"$f":"IF(UI!E35<>\"\", UI!B35 & \"   (condomino \" & UI!E35 &\")\",\"\")","v":""},{"$f":"'RP-UI'!Q35","v":0}]
[26,{"$f":"IF(UI!E36<>\"\", UI!B36 & \"   (condomino \" & UI!E36 &\")\",\"\")","v":""},{"$f":"'RP-UI'!Q36","v":0}]
[27,{"$f":"IF(UI!E37<>\"\", UI!B37 & \"   (condomino \" & UI!E37 &\")\",\"\")","v":""},{"$f":"'RP-UI'!Q37","v":0}]
[28,{"$f":"IF(UI!E38<>\"\", UI!B38 & \"   (condomino \" & UI!E38 &\")\",\"\")","v":""},{"$f":"'RP-UI'!Q38","v":0}]
[29,{"$f":"IF(UI!E39<>\"\", UI!B39 & \"   (condomino \" & UI!E39 &\")\",\"\")","v":""},{"$f":"'RP-UI'!Q39","v":0}]
[30,{"$f":"IF(UI!E40<>\"\", UI!B40 & \"   (condomino \" & UI!E40 &\")\",\"\")","v":""},{"$f":"'RP-UI'!Q40","v":0}]
[31,{"$f":"IF(UI!E41<>\"\", UI!B41 & \"   (condomino \" & UI!E41 &\")\",\"\")","v":""},{"$f":"'RP-UI'!Q41","v":0}]
[32,{"$f":"IF(UI!E42<>\"\", UI!B42 & \"   (condomino \" & UI!E42 &\")\",\"\")","v":""},{"$f":"'RP-UI'!Q42","v":0}]
[33,{"$f":"IF(UI!E43<>\"\", UI!B43 & \"   (condomino \" & UI!E43 &\")\",\"\")","v":""},{"$f":"'RP-UI'!Q43","v":0}]
[34,{"$f":"IF(UI!E44<>\"\", UI!B44 & \"   (condomino \" & UI!E44 &\")\",\"\")","v":""},{"$f":"'RP-UI'!Q44","v":0}]
[35,{"$f":"IF(UI!E45<>\"\", UI!B45 & \"   (condomino \" & UI!E45 &\")\",\"\")","v":""},{"$f":"'RP-UI'!Q45","v":0}]
[36,{"$f":"IF(UI!E46<>\"\", UI!B46 & \"   (condomino \" & UI!E46 &\")\",\"\")","v":""},{"$f":"'RP-UI'!Q46","v":0}]
[37,{"$f":"IF(UI!E47<>\"\", UI!B47 & \"   (condomino \" & UI!E47 &\")\",\"\")","v":""},{"$f":"'RP-UI'!Q47","v":0}]
[38,{"$f":"IF(UI!E48<>\"\", UI!B48 & \"   (condomino \" & UI!E48 &\")\",\"\")","v":""},{"$f":"'RP-UI'!Q48","v":0}]
[39,{"$f":"IF(UI!E49<>\"\", UI!B49 & \"   (condomino \" & UI!E49 &\")\",\"\")","v":""},{"$f":"'RP-UI'!Q49","v":0}]
[40,{"$f":"IF(UI!E50<>\"\", UI!B50 & \"   (condomino \" & UI!E50 &\")\",\"\")","v":""},{"$f":"'RP-UI'!Q50","v":0}]
[41,{"$f":"IF(UI!E51<>\"\", UI!B51 & \"   (condomino \" & UI!E51 &\")\",\"\")","v":""},{"$f":"'RP-UI'!Q51","v":0}]
[42,{"$f":"IF(UI!E52<>\"\", UI!B52 & \"   (condomino \" & UI!E52 &\")\",\"\")","v":""},{"$f":"'RP-UI'!Q52","v":0}]
[43,{"$f":"IF(UI!E53<>\"\", UI!B53 & \"   (condomino \" & UI!E53 &\")\",\"\")","v":""},{"$f":"'RP-UI'!Q53","v":0}]
[44,{"$f":"IF(UI!E54<>\"\", UI!B54 & \"   (condomino \" & UI!E54 &\")\",\"\")","v":""},{"$f":"'RP-UI'!Q54","v":0}]
[45,{"$f":"IF(UI!E55<>\"\", UI!B55 & \"   (condomino \" & UI!E55 &\")\",\"\")","v":""},{"$f":"'RP-UI'!Q55","v":0}]
[46,{"$f":"IF(UI!E56<>\"\", UI!B56 & \"   (condomino \" & UI!E56 &\")\",\"\")","v":""},{"$f":"'RP-UI'!Q56","v":0}]
[47,{"$f":"IF(UI!E57<>\"\", UI!B57 & \"   (condomino \" & UI!E57 &\")\",\"\")","v":""},{"$f":"'RP-UI'!Q57","v":0}]
[48,{"$f":"IF(UI!E58<>\"\", UI!B58 & \"   (condomino \" & UI!E58 &\")\",\"\")","v":""},{"$f":"'RP-UI'!Q58","v":0}]
[49,{"$f":"IF(UI!E59<>\"\", UI!B59 & \"   (condomino \" & UI!E59 &\")\",\"\")","v":""},{"$f":"'RP-UI'!Q59","v":0}]
[50,{"$f":"IF(UI!E60<>\"\", UI!B60 & \"   (condomino \" & UI!E60 &\")\",\"\")","v":""},{"$f":"'RP-UI'!Q60","v":0}]
[51,{"$f":"IF(UI!E61<>\"\", UI!B61 & \"   (condomino \" & UI!E61 &\")\",\"\")","v":""},{"$f":"'RP-UI'!Q61","v":0}]
[52,{"$f":"IF(UI!E62<>\"\", UI!B62 & \"   (condomino \" & UI!E62 &\")\",\"\")","v":""},{"$f":"'RP-UI'!Q62","v":0}]
[53,{"$f":"IF(UI!E63<>\"\", UI!B63 & \"   (condomino \" & UI!E63 &\")\",\"\")","v":""},{"$f":"'RP-UI'!Q63","v":0}]
[54,{"$f":"IF(UI!E64<>\"\", UI!B64 & \"   (condomino \" & UI!E64 &\")\",\"\")","v":""},{"$f":"'RP-UI'!Q64","v":0}]
[55,{"$f":"IF(UI!E65<>\"\", UI!B65 & \"   (condomino \" & UI!E65 &\")\",\"\")","v":""},{"$f":"'RP-UI'!Q65","v":0}]
[56,{"$f":"IF(UI!E66<>\"\", UI!B66 & \"   (condomino \" & UI!E66 &\")\",\"\")","v":""},{"$f":"'RP-UI'!Q66","v":0}]
[57,{"$f":"IF(UI!E67<>\"\", UI!B67 & \"   (condomino \" & UI!E67 &\")\",\"\")","v":""},{"$f":"'RP-UI'!Q67","v":0}]
[58,{"$f":"IF(UI!E68<>\"\", UI!B68 & \"   (condomino \" & UI!E68 &\")\",\"\")","v":""},{"$f":"'RP-UI'!Q68","v":0}]
[59,{"$f":"IF(UI!E69<>\"\", UI!B69 & \"   (condomino \" & UI!E69 &\")\",\"\")","v":""},{"$f":"'RP-UI'!Q69","v":0}]
[60,{"$f":"IF(UI!E70<>\"\", UI!B70 & \"   (condomino \" & UI!E70 &\")\",\"\")","v":""},{"$f":"'RP-UI'!Q70","v":0}]
[61,{"$f":"IF(UI!E71<>\"\", UI!B71 & \"   (condomino \" & UI!E71 &\")\",\"\")","v":""},{"$f":"'RP-UI'!Q71","v":0}]
[62,{"$f":"IF(UI!E72<>\"\", UI!B72 & \"   (condomino \" & UI!E72 &\")\",\"\")","v":""},{"$f":"'RP-UI'!Q72","v":0}]
[63,{"$f":"IF(UI!E73<>\"\", UI!B73 & \"   (condomino \" & UI!E73 &\")\",\"\")","v":""},{"$f":"'RP-UI'!Q73","v":0}]
[64,{"$f":"IF(UI!E74<>\"\", UI!B74 & \"   (condomino \" & UI!E74 &\")\",\"\")","v":""},{"$f":"'RP-UI'!Q74","v":0}]
[65,{"$f":"IF(UI!E75<>\"\", UI!B75 & \"   (condomino \" & UI!E75 &\")\",\"\")","v":""},{"$f":"'RP-UI'!Q75","v":0}]
[66,{"$f":"IF(UI!E76<>\"\", UI!B76 & \"   (condomino \" & UI!E76 &\")\",\"\")","v":""},{"$f":"'RP-UI'!Q76","v":0}]
[67,{"$f":"IF(UI!E77<>\"\", UI!B77 & \"   (condomino \" & UI!E77 &\")\",\"\")","v":""},{"$f":"'RP-UI'!Q77","v":0}]
[68,{"$f":"IF(UI!E78<>\"\", UI!B78 & \"   (condomino \" & UI!E78 &\")\",\"\")","v":""},{"$f":"'RP-UI'!Q78","v":0}]
[69,{"$f":"IF(UI!E79<>\"\", UI!B79 & \"   (condomino \" & UI!E79 &\")\",\"\")","v":""},{"$f":"'RP-UI'!Q79","v":0}]
[70,{"$f":"IF(UI!E80<>\"\", UI!B80 & \"   (condomino \" & UI!E80 &\")\",\"\")","v":""},{"$f":"'RP-UI'!Q80","v":0}]
[71,{"$f":"IF(UI!E81<>\"\", UI!B81 & \"   (condomino \" & UI!E81 &\")\",\"\")","v":""},{"$f":"'RP-UI'!Q81","v":0}]
[72,{"$f":"IF(UI!E82<>\"\", UI!B82 & \"   (condomino \" & UI!E82 &\")\",\"\")","v":""},{"$f":"'RP-UI'!Q82","v":0}]
[73,{"$f":"IF(UI!E83<>\"\", UI!B83 & \"   (condomino \" & UI!E83 &\")\",\"\")","v":""},{"$f":"'RP-UI'!Q83","v":0}]
[74,{"$f":"IF(UI!E84<>\"\", UI!B84 & \"   (condomino \" & UI!E84 &\")\",\"\")","v":""},{"$f":"'RP-UI'!Q84","v":0}]
[75,{"$f":"IF(UI!E85<>\"\", UI!B85 & \"   (condomino \" & UI!E85 &\")\",\"\")","v":""},{"$f":"'RP-UI'!Q85","v":0}]
[76,{"$f":"IF(UI!E86<>\"\", UI!B86 & \"   (condomino \" & UI!E86 &\")\",\"\")","v":""},{"$f":"'RP-UI'!Q86","v":0}]
[77,{"$f":"IF(UI!E87<>\"\", UI!B87 & \"   (condomino \" & UI!E87 &\")\",\"\")","v":""},{"$f":"'RP-UI'!Q87","v":0}]
[78,{"$f":"IF(UI!E88<>\"\", UI!B88 & \"   (condomino \" & UI!E88 &\")\",\"\")","v":""},{"$f":"'RP-UI'!Q88","v":0}]
[79,{"$f":"IF(UI!E89<>\"\", UI!B89 & \"   (condomino \" & UI!E89 &\")\",\"\")","v":""},{"$f":"'RP-UI'!Q89","v":0}]
[80,{"$f":"IF(UI!E90<>\"\", UI!B90 & \"   (condomino \" & UI!E90 &\")\",\"\")","v":""},{"$f":"'RP-UI'!Q90","v":0}]
[81,{"$f":"IF(UI!E91<>\"\", UI!B91 & \"   (condomino \" & UI!E91 &\")\",\"\")","v":""},{"$f":"'RP-UI'!Q91","v":0}]
[82,{"$f":"IF(UI!E92<>\"\", UI!B92 & \"   (condomino \" & UI!E92 &\")\",\"\")","v":""},{"$f":"'RP-UI'!Q92","v":0}]
[83,{"$f":"IF(UI!E93<>\"\", UI!B93 & \"   (condomino \" & UI!E93 &\")\",\"\")","v":""},{"$f":"'RP-UI'!Q93","v":0}]
[84,{"$f":"IF(UI!E94<>\"\", UI!B94 & \"   (condomino \" & UI!E94 &\")\",\"\")","v":""},{"$f":"'RP-UI'!Q94","v":0}]
[85,{"$f":"IF(UI!E95<>\"\", UI!B95 & \"   (condomino \" & UI!E95 &\")\",\"\")","v":""},{"$f":"'RP-UI'!Q95","v":0}]
[86,{"$f":"IF(UI!E96<>\"\", UI!B96 & \"   (condomino \" & UI!E96 &\")\",\"\")","v":""},{"$f":"'RP-UI'!Q96","v":0}]
[87,{"$f":"IF(UI!E97<>\"\", UI!B97 & \"   (condomino \" & UI!E97 &\")\",\"\")","v":""},{"$f":"'RP-UI'!Q97","v":0}]
[88,{"$f":"IF(UI!E98<>\"\", UI!B98 & \"   (condomino \" & UI!E98 &\")\",\"\")","v":""},{"$f":"'RP-UI'!Q98","v":0}]
[89,{"$f":"IF(UI!E99<>\"\", UI!B99 & \"   (condomino \" & UI!E99 &\")\",\"\")","v":""},{"$f":"'RP-UI'!Q99","v":0}]
[90,{"$f":"IF(UI!E100<>\"\", UI!B100 & \"   (condomino \" & UI!E100 &\")\",\"\")","v":""},{"$f":"'RP-UI'!Q100","v":0}]
[91,{"$f":"IF(UI!E101<>\"\", UI!B101 & \"   (condomino \" & UI!E101 &\")\",\"\")","v":""},{"$f":"'RP-UI'!Q101","v":0}]
[92,{"$f":"IF(UI!E102<>\"\", UI!B102 & \"   (condomino \" & UI!E102 &\")\",\"\")","v":""},{"$f":"'RP-UI'!Q102","v":0}]
[93,{"$f":"IF(UI!E103<>\"\", UI!B103 & \"   (condomino \" & UI!E103 &\")\",\"\")","v":""},{"$f":"'RP-UI'!Q103","v":0}]
[94,{"$f":"IF(UI!E104<>\"\", UI!B104 & \"   (condomino \" & UI!E104 &\")\",\"\")","v":""},{"$f":"'RP-UI'!Q104","v":0}]
[95,{"$f":"IF(UI!E105<>\"\", UI!B105 & \"   (condomino \" & UI!E105 &\")\",\"\")","v":""},{"$f":"'RP-UI'!Q105","v":0}]
[96,{"$f":"IF(UI!E106<>\"\", UI!B106 & \"   (condomino \" & UI!E106 &\")\",\"\")","v":""},{"$f":"'RP-UI'!Q106","v":0}]
[97,{"$f":"IF(UI!E107<>\"\", UI!B107 & \"   (condomino \" & UI!E107 &\")\",\"\")","v":""},{"$f":"'RP-UI'!Q107","v":0}]
[98,{"$f":"IF(UI!E108<>\"\", UI!B108 & \"   (condomino \" & UI!E108 &\")\",\"\")","v":""},{"$f":"'RP-UI'!Q108","v":0}]
[99,{"$f":"IF(UI!E109<>\"\", UI!B109 & \"   (condomino \" & UI!E109 &\")\",\"\")","v":""},{"$f":"'RP-UI'!Q109","v":0}]
[null,"TOTALE",{"$f":"SUM(C11:C109)","v":17190},5730.06,5730.06,5729.88,0]

{"sheet":"SOM-BC","index":22,"n_rows":35,"n_cols":3,"rows_kept":35,"cut":false,"hidden":true,"merged":[[7,0,7,7],[1,0,1,7],[2,1,2,7],[3,1,3,7],[4,1,4,7],[5,1,5,7],[25,1,25,7],[9,1,9,7],[10,1,10,7],[12,1,12,7],[13,1,13,7],[15,1,15,7],[16,1,16,7],[18,1,18,7],[19,1,19,7],[21,1,21,7],[22,1,22,7],[24,1,24,7],[34,2,34,7],[31,2,31,7],[32,2,32,7],[27,1,27,7],[28,1,28,7],[29,2,29,7],[30,2,30,7],[33,2,33,7]]}
[]
["Il fascicolo del rendiconto dei lavori condominiale è costituito dai seguenti elaborati:"]
[1," - PIANO DEI CONTI"]
[2," - TABELLE DI RIPARTIZIONE "]
[3," - REGISTRO DI CONTABILITÀ"]
[4," - RIEPILOGO FINANZIARIO "]
[]
["Il fascicolo RIEPILOGO FINANZIARIO riporta i seguenti prospetti o quadri:"]
[]
["1 \n\n"," - RIEPILOGO A CONSUNTIVO DELLE SPESE"]
[null,"Riporta gli importi riepilogativi delle spese effettive sostenute per il lavoro suddivise per capitoli e voci.\nLe informazioni dettagliate sulle singole spese sono riportati nel registro di contabilità.\n\n"]
[]
[2," - QUADRO DI RAFFRONTO FRA CONSUNTIVO e PREVENTIVO"]
[null,"Riporta un confronte fra le spese preventivate e quelle effettivamente sostenute."]
[]
[3," - RIPARTO DELLE SPESE FRA I CONDOMINI"]
[null,"Riporta gli importi con i quali i singoli condomini devono concorrere al pagamento delle spese sostenute per il lavoro. Tali importi o quote sono ottenute ripartendo il totale delle spese in funzione dei millesimi assegnati a ciascun condomino dalle tabelle di ripartizioni."]
[]
[4," - RIEPILOGO A CONSUNTIVO DELLE ENTRATE"]
[null,"Riporta gli importi delle entrate in particolare le quote versate dai condomini per l'esecuzione del lavoro."]
[]
[5," - PROSPETTO DEI CREDITI"]
[null,"Riporta gli importi dei crediti che il condominio vanta nei confroti di terzi e degli stessi condomini."]
[]
[6," - PROSPETTO DEI DEBITI"]
[null,"Riporta gli importi dei crediti che il condominio ha nei confroti di terzi e degli stessi condomino."]
[]
[7," - QUADRO DI RENDICONTO"]
[null,"Contiene tre prospetti."]
[null,1,"RENDICONTO ECONOMICO DELLA GESTIONE DEL LAVORO"]
[null,null,"Riporta le entrate e le uscite."]
[null,2,"RENDICONTO FINANZIARIO o DEI FLUSSI DI CASSA"]
[null,null,"Riporta gli incassi e le spese."]
[null,3,"SITUAZIONE PATRIMONIALE"]
[null,null,"Sono riportati le attività e le passività. Si ricordi che per un condominio il saldo patrimoniale deve essere sempre nullo."]

{"sheet":"USCITE_C","index":23,"n_rows":203,"n_cols":8,"rows_kept":203,"cut":false,"hidden":true,"merged":[[202,0,202,2],[8,0,9,0],[8,1,9,1],[8,2,9,2],[8,3,9,3],[194,0,194,2],[201,0,201,2]]}
[]
[]
[]
[]
[]
[]
[]
[{"$f":"\"RIEPILOGO delle SPESE sostenute con il FONDO alla data \" & DataUltimaregistrazione() & CHAR(10) & DATIG!A40  & CHAR(10) & \"Codice FONDO:  \" & DATIG!A37","v":"RIEPILOGO delle SPESE sostenute con il FONDO alla data 13-novembre-2019\nLavori messa in sicurezza fondazioni da infiltrazioni fognarie\nCodice FONDO:  LAVORO-01"}]
["CONTO","VOCI DI SPESA","TABELLA","IMPORTI TOTALI","ESERCIZIO","ESERCIZIO","ESERCIZIO","ESERCIZIO"]
[null,null,null,null,{"$f":"DATIG!A51","v":2017},{"$f":"DATIG!A52","v":2018},{"$f":"DATIG!A53","v":2019},{"$f":"DATIG!A54","v":0}]
[{"$f":"PIANOCONTI_U!C11","v":"S.01"},{"$f":"PIANOCONTI_U!A11","v":"SPESE GENERALI e NON DETRABILI"},null,{"$f":"SUM(D12:D26)","v":50},{"$f":"SUM(E12:E26)","v":40},{"$f":"SUM(F12:F26)","v":0},{"$f":"SUM(G12:G26)","v":10},{"$f":"SUM(H12:H26)","v":0}]
[{"$f":"PIANOCONTI_U!C12","v":"S.01.01"},{"$f":"PIANOCONTI_U!A12","v":"SPESE VARIE AMMINISTRATIVE (tabella A)"},{"$f":"PIANOCONTI_U!B12","v":"A"}]
[{"$f":"PIANOCONTI_U!C13","v":"S.01.02"},{"$f":"PIANOCONTI_U!A13","v":"SPESE VARIE AMMINISTRATIVE (tabella B)"},{"$f":"PIANOCONTI_U!B13","v":"B"},10,null,null,10]
[{"$f":"PIANOCONTI_U!C14","v":"S.01.03"},{"$f":"PIANOCONTI_U!A14","v":"SPESE VARIE AMMINISTRATIVE (tabella C)"},{"$f":"PIANOCONTI_U!B14","v":"C"}]
[{"$f":"PIANOCONTI_U!C15","v":"S.01.04"},{"$f":"PIANOCONTI_U!A15","v":"DIRITTI BOLLI TASSE (tabella A)"},{"$f":"PIANOCONTI_U!B15","v":"A"}]
[{"$f":"PIANOCONTI_U!C16","v":"S.01.05"},{"$f":"PIANOCONTI_U!A16","v":"DIRITTI BOLLI TASSE (tabella B)"},{"$f":"PIANOCONTI_U!B16","v":"B"}]
[{"$f":"PIANOCONTI_U!C17","v":"S.01.06"},{"$f":"PIANOCONTI_U!A17","v":"DIRITTI BOLLI TASSE (tabella C)"},{"$f":"PIANOCONTI_U!B17","v":"C"}]
[{"$f":"PIANOCONTI_U!C18","v":"S.01.07"},{"$f":"PIANOCONTI_U!A18","v":"COMPENSI A TERZI (tabella A)"},{"$f":"PIANOCONTI_U!B18","v":"A"}]
[{"$f":"PIANOCONTI_U!C19","v":"S.01.08"},{"$f":"PIANOCONTI_U!A19","v":"COMPENSI A TERZI (tabella B)"},{"$f":"PIANOCONTI_U!B19","v":"B"}]
[{"$f":"PIANOCONTI_U!C20","v":"S.01.09"},{"$f":"PIANOCONTI_U!A20","v":"COMPENSI A TERZI (tabella C)"},{"$f":"PIANOCONTI_U!B20","v":"C"}]
[{"$f":"PIANOCONTI_U!C21","v":"S.01.10"},{"$f":"PIANOCONTI_U!A21","v":"ALTRE SPESE DOCUMENTATI (tabella A)"},{"$f":"PIANOCONTI_U!B21","v":"A"},40,40]
[{"$f":"PIANOCONTI_U!C22","v":"S.01.11"},{"$f":"PIANOCONTI_U!A22","v":"ALTRE SPESE DOCUMENTATI (tabella B)"},{"$f":"PIANOCONTI_U!B22","v":"B"}]
[{"$f":"PIANOCONTI_U!C23","v":"S.01.12"},{"$f":"PIANOCONTI_U!A23","v":"ALTRE SPESE DOCUMENTATI (tabella C)"},{"$f":"PIANOCONTI_U!B23","v":"C"}]
[{"$f":"PIANOCONTI_U!C24","v":"S.01.11"},{"$f":"PIANOCONTI_U!A24","v":0},{"$f":"PIANOCONTI_U!B24","v":0}]
[{"$f":"PIANOCONTI_U!C25","v":"S.01.12"},{"$f":"PIANOCONTI_U!A25","v":0},{"$f":"PIANOCONTI_U!B25","v":0}]
[{"$f":"PIANOCONTI_U!C26","v":"S.01.13"},{"$f":"PIANOCONTI_U!A26","v":0},{"$f":"PIANOCONTI_U!B26","v":0}]
[{"$f":"PIANOCONTI_U!C27","v":"S.02"},{"$f":"PIANOCONTI_U!A27","v":"COMPETENZE TECNICHE - Prog., D.L. e collaudi (detr.)"},null,{"$f":"SUM(D28:D37)","v":1700},{"$f":"SUM(E28:E37)","v":500},{"$f":"SUM(F28:F37)","v":450},{"$f":"SUM(G28:G37)","v":750},{"$f":"SUM(H28:H37)","v":0}]
[{"$f":"PIANOCONTI_U!C28","v":"S.02.01"},{"$f":"PIANOCONTI_U!A28","v":"Ricadenti in Tabella A"},{"$f":"PIANOCONTI_U!B28","v":"A"},500,500]
[{"$f":"PIANOCONTI_U!C29","v":"S.02.02"},{"$f":"PIANOCONTI_U!A29","v":"Ricadenti in Tabella B"},{"$f":"PIANOCONTI_U!B29","v":"B"},500,null,200,300]
[{"$f":"PIANOCONTI_U!C30","v":"S.02.03"},{"$f":"PIANOCONTI_U!A30","v":"Ricadenti in Tabella C"},{"$f":"PIANOCONTI_U!B30","v":"C"},700,null,250,450]
[{"$f":"PIANOCONTI_U!C31","v":"S.02.04"},{"$f":"PIANOCONTI_U!A31","v":0},{"$f":"PIANOCONTI_U!B31","v":0}]
[{"$f":"PIANOCONTI_U!C32","v":"S.02.05"},{"$f":"PIANOCONTI_U!A32","v":0},{"$f":"PIANOCONTI_U!B32","v":0}]
[{"$f":"PIANOCONTI_U!C33","v":"S.02.06"},{"$f":"PIANOCONTI_U!A33","v":0},{"$f":"PIANOCONTI_U!B33","v":0}]
[{"$f":"PIANOCONTI_U!C34","v":"S.02.07"},{"$f":"PIANOCONTI_U!A34","v":0},{"$f":"PIANOCONTI_U!B34","v":0}]
[{"$f":"PIANOCONTI_U!C35","v":"S.02.08"},{"$f":"PIANOCONTI_U!A35","v":0},{"$f":"PIANOCONTI_U!B35","v":0}]
[{"$f":"PIANOCONTI_U!C36","v":"S.02.09"},{"$f":"PIANOCONTI_U!A36","v":0},{"$f":"PIANOCONTI_U!B36","v":0}]
[{"$f":"PIANOCONTI_U!C37","v":"S.02.10"},{"$f":"PIANOCONTI_U!A37","v":0},{"$f":"PIANOCONTI_U!B37","v":0}]
[{"$f":"PIANOCONTI_U!C38","v":"S.03"},{"$f":"PIANOCONTI_U!A38","v":"LAVORI (detraibili)"},null,{"$f":"SUM(D39:D48)","v":5450},{"$f":"SUM(E39:E48)","v":0},{"$f":"SUM(F39:F48)","v":2100},{"$f":"SUM(G39:G48)","v":3350},{"$f":"SUM(H39:H48)","v":0}]
[{"$f":"PIANOCONTI_U!C39","v":"S.03.01"},{"$f":"PIANOCONTI_U!A39","v":"Importo lavori ricadenti in tabella A"},{"$f":"PIANOCONTI_U!B39","v":"A"},3100,null,900,2200]
[{"$f":"PIANOCONTI_U!C40","v":"S.03.02"},{"$f":"PIANOCONTI_U!A40","v":"Importo lavori ricadenti in tabella B"},{"$f":"PIANOCONTI_U!B40","v":"B"},950,null,400,550]
[{"$f":"PIANOCONTI_U!C41","v":"S.03.03"},{"$f":"PIANOCONTI_U!A41","v":"Importo lavori ricadenti in tabella C"},{"$f":"PIANOCONTI_U!B41","v":"C"},1400,null,800,600]
[{"$f":"PIANOCONTI_U!C42","v":"S.03.04"},{"$f":"PIANOCONTI_U!A42","v":0},{"$f":"PIANOCONTI_U!B42","v":0}]
[{"$f":"PIANOCONTI_U!C43","v":"S.03.05"},{"$f":"PIANOCONTI_U!A43","v":0},{"$f":"PIANOCONTI_U!B43","v":0}]
[{"$f":"PIANOCONTI_U!C44","v":"S.03.06"},{"$f":"PIANOCONTI_U!A44","v":0},{"$f":"PIANOCONTI_U!B44","v":0}]
[{"$f":"PIANOCONTI_U!C45","v":"S.03.07"},{"$f":"PIANOCONTI_U!A45","v":0},{"$f":"PIANOCONTI_U!B45","v":0}]
[{"$f":"PIANOCONTI_U!C46","v":"S.03.08"},{"$f":"PIANOCONTI_U!A46","v":0},{"$f":"PIANOCONTI_U!B46","v":0}]
[{"$f":"PIANOCONTI_U!C47","v":"S.03.09"},{"$f":"PIANOCONTI_U!A47","v":0},{"$f":"PIANOCONTI_U!B47","v":0}]
[{"$f":"PIANOCONTI_U!C48","v":"S.03.10"},{"$f":"PIANOCONTI_U!A48","v":0},{"$f":"PIANOCONTI_U!B48","v":0}]
[{"$f":"PIANOCONTI_U!C49","v":"S.04"},{"$f":"PIANOCONTI_U!A49","v":"SPESE VARIE E IMPREVISTI (detraibili)"},null,{"$f":"SUM(D50:D59)","v":0},{"$f":"SUM(E50:E59)","v":0},{"$f":"SUM(F50:F59)","v":0},{"$f":"SUM(G50:G59)","v":0},{"$f":"SUM(H50:H59)","v":0}]
[{"$f":"PIANOCONTI_U!C50","v":"S.04.01"},{"$f":"PIANOCONTI_U!A50","v":"Ricadenti in Tabella A"},{"$f":"PIANOCONTI_U!B50","v":"A"}]
[{"$f":"PIANOCONTI_U!C51","v":"S.04.02"},{"$f":"PIANOCONTI_U!A51","v":"Ricadenti in Tabella B"},{"$f":"PIANOCONTI_U!B51","v":"B"}]
[{"$f":"PIANOCONTI_U!C52","v":"S.04.03"},{"$f":"PIANOCONTI_U!A52","v":"Ricadenti in Tabella C"},{"$f":"PIANOCONTI_U!B52","v":"C"}]
[{"$f":"PIANOCONTI_U!C53","v":"S.04.04"},{"$f":"PIANOCONTI_U!A53","v":0},{"$f":"PIANOCONTI_U!B53","v":0}]
[{"$f":"PIANOCONTI_U!C54","v":"S.04.05"},{"$f":"PIANOCONTI_U!A54","v":0},{"$f":"PIANOCONTI_U!B54","v":0}]
[{"$f":"PIANOCONTI_U!C55","v":"S.04.06"},{"$f":"PIANOCONTI_U!A55","v":0},{"$f":"PIANOCONTI_U!B55","v":0}]
[{"$f":"PIANOCONTI_U!C56","v":"S.04.07"},{"$f":"PIANOCONTI_U!A56","v":0},{"$f":"PIANOCONTI_U!B56","v":0}]
[{"$f":"PIANOCONTI_U!C57","v":"S.04.08"},{"$f":"PIANOCONTI_U!A57","v":0},{"$f":"PIANOCONTI_U!B57","v":0}]
[{"$f":"PIANOCONTI_U!C58","v":"S.04.09"},{"$f":"PIANOCONTI_U!A58","v":0},{"$f":"PIANOCONTI_U!B58","v":0}]
[{"$f":"PIANOCONTI_U!C59","v":"S.04.10"},{"$f":"PIANOCONTI_U!A59","v":0},{"$f":"PIANOCONTI_U!B59","v":0}]
[{"$f":"PIANOCONTI_U!C60","v":"S.05"},{"$f":"PIANOCONTI_U!A60","v":"LAVORI (non detraibili)"},null,{"$f":"SUM(D61:D70)","v":0},{"$f":"SUM(E61:E70)","v":0},{"$f":"SUM(F61:F70)","v":0},{"$f":"SUM(G61:G70)","v":0},{"$f":"SUM(H61:H70)","v":0}]
[{"$f":"PIANOCONTI_U!C61","v":"S.05.01"},{"$f":"PIANOCONTI_U!A61","v":"Ricadenti in Tabella A"},{"$f":"PIANOCONTI_U!B61","v":"A"}]
[{"$f":"PIANOCONTI_U!C62","v":"S.05.02"},{"$f":"PIANOCONTI_U!A62","v":"Ricadenti in Tabella B"},{"$f":"PIANOCONTI_U!B62","v":"B"}]
[{"$f":"PIANOCONTI_U!C63","v":"S.05.03"},{"$f":"PIANOCONTI_U!A63","v":0},{"$f":"PIANOCONTI_U!B63","v":0}]
[{"$f":"PIANOCONTI_U!C64","v":"S.05.04"},{"$f":"PIANOCONTI_U!A64","v":0},{"$f":"PIANOCONTI_U!B64","v":0}]
[{"$f":"PIANOCONTI_U!C65","v":"S.05.05"},{"$f":"PIANOCONTI_U!A65","v":0},{"$f":"PIANOCONTI_U!B65","v":0}]
[{"$f":"PIANOCONTI_U!C66","v":"S.05.06"},{"$f":"PIANOCONTI_U!A66","v":0},{"$f":"PIANOCONTI_U!B66","v":0}]
[{"$f":"PIANOCONTI_U!C67","v":"S.05.07"},{"$f":"PIANOCONTI_U!A67","v":0},{"$f":"PIANOCONTI_U!B67","v":0}]
[{"$f":"PIANOCONTI_U!C68","v":"S.05.08"},{"$f":"PIANOCONTI_U!A68","v":0},{"$f":"PIANOCONTI_U!B68","v":0}]
[{"$f":"PIANOCONTI_U!C69","v":"S.05.09"},{"$f":"PIANOCONTI_U!A69","v":0},{"$f":"PIANOCONTI_U!B69","v":0}]
[{"$f":"PIANOCONTI_U!C70","v":"S.05.10"},{"$f":"PIANOCONTI_U!A70","v":0},{"$f":"PIANOCONTI_U!B70","v":0}]
[{"$f":"PIANOCONTI_U!C71","v":"S.06"},{"$f":"PIANOCONTI_U!A71","v":0},null,{"$f":"SUM(D72:D76)","v":0},{"$f":"SUM(E72:E76)","v":0},{"$f":"SUM(F72:F76)","v":0},{"$f":"SUM(G72:G76)","v":0},{"$f":"SUM(H72:H76)","v":0}]
[{"$f":"PIANOCONTI_U!C72","v":"S.06.01"},{"$f":"PIANOCONTI_U!A72","v":0},{"$f":"PIANOCONTI_U!B72","v":0}]
[{"$f":"PIANOCONTI_U!C73","v":"S.06.02"},{"$f":"PIANOCONTI_U!A73","v":0},{"$f":"PIANOCONTI_U!B73","v":0}]
[{"$f":"PIANOCONTI_U!C74","v":"S.06.03"},{"$f":"PIANOCONTI_U!A74","v":0},{"$f":"PIANOCONTI_U!B74","v":0}]
[{"$f":"PIANOCONTI_U!C75","v":"S.06.04"},{"$f":"PIANOCONTI_U!A75","v":0},{"$f":"PIANOCONTI_U!B75","v":0}]
[{"$f":"PIANOCONTI_U!C76","v":"S.06.05"},{"$f":"PIANOCONTI_U!A76","v":0},{"$f":"PIANOCONTI_U!B76","v":0}]
[{"$f":"PIANOCONTI_U!C77","v":"S.07"},{"$f":"PIANOCONTI_U!A77","v":0},null,{"$f":"SUM(D78:D82)","v":0},{"$f":"SUM(E78:E82)","v":0},{"$f":"SUM(F78:F82)","v":0},{"$f":"SUM(G78:G82)","v":0},{"$f":"SUM(H78:H82)","v":0}]
[{"$f":"PIANOCONTI_U!C78","v":"S.07.01"},{"$f":"PIANOCONTI_U!A78","v":0},{"$f":"PIANOCONTI_U!B78","v":0}]
[{"$f":"PIANOCONTI_U!C79","v":"S.07.02"},{"$f":"PIANOCONTI_U!A79","v":0},{"$f":"PIANOCONTI_U!B79","v":0}]
[{"$f":"PIANOCONTI_U!C80","v":"S.07.03"},{"$f":"PIANOCONTI_U!A80","v":0},{"$f":"PIANOCONTI_U!B80","v":0}]
[{"$f":"PIANOCONTI_U!C81","v":"S.07.04"},{"$f":"PIANOCONTI_U!A81","v":0},{"$f":"PIANOCONTI_U!B81","v":0}]
[{"$f":"PIANOCONTI_U!C82","v":"S.07.05"},{"$f":"PIANOCONTI_U!A82","v":0},{"$f":"PIANOCONTI_U!B82","v":0}]
[{"$f":"PIANOCONTI_U!C83","v":"L"},{"$f":"PIANOCONTI_U!A83","v":0},null,{"$f":"SUM(D84:D88)","v":0},{"$f":"SUM(E84:E88)","v":0},{"$f":"SUM(F84:F88)","v":0},{"$f":"SUM(G84:G88)","v":0},{"$f":"SUM(H84:H88)","v":0}]
[{"$f":"PIANOCONTI_U!C84","v":"L.00.01"},{"$f":"PIANOCONTI_U!A84","v":0},{"$f":"PIANOCONTI_U!B84","v":0}]
[{"$f":"PIANOCONTI_U!C85","v":"L.00.02"},{"$f":"PIANOCONTI_U!A85","v":0},{"$f":"PIANOCONTI_U!B85","v":0}]
[{"$f":"PIANOCONTI_U!C86","v":"L.00.03"},{"$f":"PIANOCONTI_U!A86","v":0},{"$f":"PIANOCONTI_U!B86","v":0}]
[{"$f":"PIANOCONTI_U!C87","v":"L.00.04"},{"$f":"PIANOCONTI_U!A87","v":0},{"$f":"PIANOCONTI_U!B87","v":0}]
[{"$f":"PIANOCONTI_U!C88","v":"L.00.05"},{"$f":"PIANOCONTI_U!A88","v":0},{"$f":"PIANOCONTI_U!B88","v":0}]
[{"$f":"PIANOCONTI_U!C89","v":"G"},{"$f":"PIANOCONTI_U!A89","v":0},null,{"$f":"SUM(D90:D94)","v":0},{"$f":"SUM(E90:E94)","v":0},{"$f":"SUM(F90:F94)","v":0},{"$f":"SUM(G90:G94)","v":0},{"$f":"SUM(H90:H94)","v":0}]
[{"$f":"PIANOCONTI_U!C90","v":"G.00.01"},{"$f":"PIANOCONTI_U!A90","v":0},{"$f":"PIANOCONTI_U!B90","v":0}]
[{"$f":"PIANOCONTI_U!C91","v":"G.00.02"},{"$f":"PIANOCONTI_U!A91","v":0},{"$f":"PIANOCONTI_U!B91","v":0}]
[{"$f":"PIANOCONTI_U!C92","v":"G.00.03"},{"$f":"PIANOCONTI_U!A92","v":0},{"$f":"PIANOCONTI_U!B92","v":0}]
[{"$f":"PIANOCONTI_U!C93","v":"G.00.04"},{"$f":"PIANOCONTI_U!A93","v":0},{"$f":"PIANOCONTI_U!B93","v":0}]
[{"$f":"PIANOCONTI_U!C94","v":"G.00.05"},{"$f":"PIANOCONTI_U!A94","v":0},{"$f":"PIANOCONTI_U!B94","v":0}]
[{"$f":"PIANOCONTI_U!C95","v":"P"},{"$f":"PIANOCONTI_U!A95","v":"SPESE PERSONALI PER UNITÀ FUNZIONALE (detraibili)"},null,{"$f":"SUM(D96:D194)","v":20},{"$f":"SUM(E96:E194)","v":0},{"$f":"SUM(F96:F194)","v":0},{"$f":"SUM(G96:G194)","v":20},{"$f":"SUM(H96:H194)","v":0}]
[{"$f":"PIANOCONTI_U!C96","v":"P.00.01"},{"$f":"PIANOCONTI_U!A96","v":"Unità funzionale condominiale UFC01"}]
[{"$f":"PIANOCONTI_U!C97","v":"P.00.02"},{"$f":"PIANOCONTI_U!A97","v":"Unità funzionale condominiale UFC02"}]
[{"$f":"PIANOCONTI_U!C98","v":"P.00.03"},{"$f":"PIANOCONTI_U!A98","v":"Unità funzionale condominiale UFC03"}]
[{"$f":"PIANOCONTI_U!C99","v":"P.00.04"},{"$f":"PIANOCONTI_U!A99","v":"Unità funzionale condominiale UFC04"}]
[{"$f":"PIANOCONTI_U!C100","v":"P.00.05"},{"$f":"PIANOCONTI_U!A100","v":"Unità funzionale condominiale UFC05"}]
[{"$f":"PIANOCONTI_U!C101","v":"P.00.06"},{"$f":"PIANOCONTI_U!A101","v":"Unità funzionale condominiale UFC06"}]
[{"$f":"PIANOCONTI_U!C102","v":"P.00.07"},{"$f":"PIANOCONTI_U!A102","v":"Unità funzionale condominiale UFC07"}]
[{"$f":"PIANOCONTI_U!C103","v":"P.00.08"},{"$f":"PIANOCONTI_U!A103","v":"Unità funzionale condominiale UFC08"}]
[{"$f":"PIANOCONTI_U!C104","v":"P.00.09"},{"$f":"PIANOCONTI_U!A104","v":"Unità funzionale condominiale UFC09"}]
[{"$f":"PIANOCONTI_U!C105","v":"P.00.10"},{"$f":"PIANOCONTI_U!A105","v":"Unità funzionale condominiale UFC10"}]
[{"$f":"PIANOCONTI_U!C106","v":"P.00.11"},{"$f":"PIANOCONTI_U!A106","v":"Unità funzionale condominiale UFC11"},null,20,null,null,20]
[{"$f":"PIANOCONTI_U!C107","v":"P.00.12"},{"$f":"PIANOCONTI_U!A107","v":"Unità funzionale condominiale UFC12"}]
[{"$f":"PIANOCONTI_U!C108","v":"P.00.13"},{"$f":"PIANOCONTI_U!A108","v":"Unità funzionale condominiale UFC13"}]
[{"$f":"PIANOCONTI_U!C109","v":"P.00.14"},{"$f":"PIANOCONTI_U!A109","v":"Unità funzionale condominiale UFC14"}]
[{"$f":"PIANOCONTI_U!C110","v":"P.00.15"},{"$f":"PIANOCONTI_U!A110","v":"Unità funzionale condominiale UFC15"}]
[{"$f":"PIANOCONTI_U!C111","v":"P.00.16"},{"$f":"PIANOCONTI_U!A111","v":"Unità funzionale condominiale UFC16"}]
[{"$f":"PIANOCONTI_U!C112","v":"P.00.17"},{"$f":"PIANOCONTI_U!A112","v":"Unità funzionale condominiale UFC17"}]
[{"$f":"PIANOCONTI_U!C113","v":"P.00.18"},{"$f":"PIANOCONTI_U!A113","v":"Unità funzionale condominiale UFC18"}]
[{"$f":"PIANOCONTI_U!C114","v":"P.00.19"},{"$f":"PIANOCONTI_U!A114","v":"Unità funzionale condominiale UFC19"}]
[{"$f":"PIANOCONTI_U!C115","v":"P.00.20"},{"$f":"PIANOCONTI_U!A115","v":"Unità funzionale condominiale UFC20"}]
[{"$f":"PIANOCONTI_U!C116","v":"P.00.21"},{"$f":"PIANOCONTI_U!A116","v":"Unità funzionale condominiale UFC21"}]
[{"$f":"PIANOCONTI_U!C117","v":"P.00.22"},{"$f":"PIANOCONTI_U!A117","v":"Unità funzionale condominiale UFC22"}]
[{"$f":"PIANOCONTI_U!C118","v":"P.00.23"},{"$f":"PIANOCONTI_U!A118","v":"Unità funzionale condominiale UFC23"}]
[{"$f":"PIANOCONTI_U!C119","v":"P.00.24"},{"$f":"PIANOCONTI_U!A119","v":"Unità funzionale condominiale UFC24"}]
[{"$f":"PIANOCONTI_U!C120","v":"P.00.25"},{"$f":"PIANOCONTI_U!A120","v":"Unità funzionale condominiale UFC25"}]
[{"$f":"PIANOCONTI_U!C121","v":"P.00.26"},{"$f":"PIANOCONTI_U!A121","v":"Unità funzionale condominiale UFC26"}]
[{"$f":"PIANOCONTI_U!C122","v":"P.00.27"},{"$f":"PIANOCONTI_U!A122","v":"Unità funzionale condominiale UFC27"}]
[{"$f":"PIANOCONTI_U!C123","v":"P.00.28"},{"$f":"PIANOCONTI_U!A123","v":"Unità funzionale condominiale UFC28"}]
[{"$f":"PIANOCONTI_U!C124","v":"P.00.29"},{"$f":"PIANOCONTI_U!A124","v":"Unità funzionale condominiale UFC29"}]
[{"$f":"PIANOCONTI_U!C125","v":"P.00.30"},{"$f":"PIANOCONTI_U!A125","v":"Unità funzionale condominiale UFC30"}]
[{"$f":"PIANOCONTI_U!C126","v":"P.00.31"},{"$f":"PIANOCONTI_U!A126","v":"Unità funzionale condominiale UFC31"}]
[{"$f":"PIANOCONTI_U!C127","v":"P.00.32"},{"$f":"PIANOCONTI_U!A127","v":"Unità funzionale condominiale UFC32"}]
[{"$f":"PIANOCONTI_U!C128","v":"P.00.33"},{"$f":"PIANOCONTI_U!A128","v":"Unità funzionale condominiale UFC33"}]
[{"$f":"PIANOCONTI_U!C129","v":"P.00.34"},{"$f":"PIANOCONTI_U!A129","v":"Unità funzionale condominiale UFC34"}]
[{"$f":"PIANOCONTI_U!C130","v":"P.00.35"},{"$f":"PIANOCONTI_U!A130","v":"Unità funzionale condominiale UFC35"}]
[{"$f":"PIANOCONTI_U!C131","v":"P.00.36"},{"$f":"PIANOCONTI_U!A131","v":"Unità funzionale condominiale UFC36"}]
[{"$f":"PIANOCONTI_U!C132","v":"P.00.37"},{"$f":"PIANOCONTI_U!A132","v":"Unità funzionale condominiale UFC37"}]
[{"$f":"PIANOCONTI_U!C133","v":"P.00.38"},{"$f":"PIANOCONTI_U!A133","v":"Unità funzionale condominiale UFC38"}]
[{"$f":"PIANOCONTI_U!C134","v":"P.00.39"},{"$f":"PIANOCONTI_U!A134","v":"Unità funzionale condominiale UFC39"}]
[{"$f":"PIANOCONTI_U!C135","v":"P.00.40"},{"$f":"PIANOCONTI_U!A135","v":"Unità funzionale condominiale UFC40"}]
[{"$f":"PIANOCONTI_U!C136","v":"P.00.41"},{"$f":"PIANOCONTI_U!A136","v":"Unità funzionale condominiale UFC41"}]
[{"$f":"PIANOCONTI_U!C137","v":"P.00.42"},{"$f":"PIANOCONTI_U!A137","v":"Unità funzionale condominiale UFC42"}]
[{"$f":"PIANOCONTI_U!C138","v":"P.00.43"},{"$f":"PIANOCONTI_U!A138","v":"Unità funzionale condominiale UFC43"}]
[{"$f":"PIANOCONTI_U!C139","v":"P.00.44"},{"$f":"PIANOCONTI_U!A139","v":"Unità funzionale condominiale UFC44"}]
[{"$f":"PIANOCONTI_U!C140","v":"P.00.45"},{"$f":"PIANOCONTI_U!A140","v":"Unità funzionale condominiale UFC45"}]
[{"$f":"PIANOCONTI_U!C141","v":"P.00.46"},{"$f":"PIANOCONTI_U!A141","v":"Unità funzionale condominiale UFC46"}]
[{"$f":"PIANOCONTI_U!C142","v":"P.00.47"},{"$f":"PIANOCONTI_U!A142","v":"Unità funzionale condominiale UFC47"}]
[{"$f":"PIANOCONTI_U!C143","v":"P.00.48"},{"$f":"PIANOCONTI_U!A143","v":"Unità funzionale condominiale UFC48"}]
[{"$f":"PIANOCONTI_U!C144","v":"P.00.49"},{"$f":"PIANOCONTI_U!A144","v":"Unità funzionale condominiale UFC49"}]
[{"$f":"PIANOCONTI_U!C145","v":"P.00.50"},{"$f":"PIANOCONTI_U!A145","v":"Unità funzionale condominiale UFC50"}]
[{"$f":"PIANOCONTI_U!C146","v":"P.00.51"},{"$f":"PIANOCONTI_U!A146","v":"Unità funzionale condominiale UFC51"}]
[{"$f":"PIANOCONTI_U!C147","v":"P.00.52"},{"$f":"PIANOCONTI_U!A147","v":"Unità funzionale condominiale UFC52"}]
[{"$f":"PIANOCONTI_U!C148","v":"P.00.53"},{"$f":"PIANOCONTI_U!A148","v":"Unità funzionale condominiale UFC53"}]
[{"$f":"PIANOCONTI_U!C149","v":"P.00.54"},{"$f":"PIANOCONTI_U!A149","v":"Unità funzionale condominiale UFC54"}]
[{"$f":"PIANOCONTI_U!C150","v":"P.00.55"},{"$f":"PIANOCONTI_U!A150","v":"Unità funzionale condominiale UFC55"}]
[{"$f":"PIANOCONTI_U!C151","v":"P.00.56"},{"$f":"PIANOCONTI_U!A151","v":"Unità funzionale condominiale UFC56"}]
[{"$f":"PIANOCONTI_U!C152","v":"P.00.57"},{"$f":"PIANOCONTI_U!A152","v":"Unità funzionale condominiale UFC57"}]
[{"$f":"PIANOCONTI_U!C153","v":"P.00.58"},{"$f":"PIANOCONTI_U!A153","v":"Unità funzionale condominiale UFC58"}]
[{"$f":"PIANOCONTI_U!C154","v":"P.00.59"},{"$f":"PIANOCONTI_U!A154","v":"Unità funzionale condominiale UFC59"}]
[{"$f":"PIANOCONTI_U!C155","v":"P.00.60"},{"$f":"PIANOCONTI_U!A155","v":"Unità funzionale condominiale UFC60"}]
[{"$f":"PIANOCONTI_U!C156","v":"P.00.61"},{"$f":"PIANOCONTI_U!A156","v":"Unità funzionale condominiale UFC61"}]
[{"$f":"PIANOCONTI_U!C157","v":"P.00.62"},{"$f":"PIANOCONTI_U!A157","v":"Unità funzionale condominiale UFC62"}]
[{"$f":"PIANOCONTI_U!C158","v":"P.00.63"},{"$f":"PIANOCONTI_U!A158","v":"Unità funzionale condominiale UFC63"}]
[{"$f":"PIANOCONTI_U!C159","v":"P.00.64"},{"$f":"PIANOCONTI_U!A159","v":"Unità funzionale condominiale UFC64"}]
[{"$f":"PIANOCONTI_U!C160","v":"P.00.65"},{"$f":"PIANOCONTI_U!A160","v":"Unità funzionale condominiale UFC65"}]
[{"$f":"PIANOCONTI_U!C161","v":"P.00.66"},{"$f":"PIANOCONTI_U!A161","v":"Unità funzionale condominiale UFC66"}]
[{"$f":"PIANOCONTI_U!C162","v":"P.00.67"},{"$f":"PIANOCONTI_U!A162","v":"Unità funzionale condominiale UFC67"}]
[{"$f":"PIANOCONTI_U!C163","v":"P.00.68"},{"$f":"PIANOCONTI_U!A163","v":"Unità funzionale condominiale UFC68"}]
[{"$f":"PIANOCONTI_U!C164","v":"P.00.69"},{"$f":"PIANOCONTI_U!A164","v":"Unità funzionale condominiale UFC69"}]
[{"$f":"PIANOCONTI_U!C165","v":"P.00.70"},{"$f":"PIANOCONTI_U!A165","v":"Unità funzionale condominiale UFC70"}]
[{"$f":"PIANOCONTI_U!C166","v":"P.00.71"},{"$f":"PIANOCONTI_U!A166","v":"Unità funzionale condominiale UFC71"}]
[{"$f":"PIANOCONTI_U!C167","v":"P.00.72"},{"$f":"PIANOCONTI_U!A167","v":"Unità funzionale condominiale UFC72"}]
[{"$f":"PIANOCONTI_U!C168","v":"P.00.73"},{"$f":"PIANOCONTI_U!A168","v":"Unità funzionale condominiale UFC73"}]
[{"$f":"PIANOCONTI_U!C169","v":"P.00.74"},{"$f":"PIANOCONTI_U!A169","v":"Unità funzionale condominiale UFC74"}]
[{"$f":"PIANOCONTI_U!C170","v":"P.00.75"},{"$f":"PIANOCONTI_U!A170","v":"Unità funzionale condominiale UFC75"}]
[{"$f":"PIANOCONTI_U!C171","v":"P.00.76"},{"$f":"PIANOCONTI_U!A171","v":"Unità funzionale condominiale UFC76"}]
[{"$f":"PIANOCONTI_U!C172","v":"P.00.77"},{"$f":"PIANOCONTI_U!A172","v":"Unità funzionale condominiale UFC77"}]
[{"$f":"PIANOCONTI_U!C173","v":"P.00.78"},{"$f":"PIANOCONTI_U!A173","v":"Unità funzionale condominiale UFC78"}]
[{"$f":"PIANOCONTI_U!C174","v":"P.00.79"},{"$f":"PIANOCONTI_U!A174","v":"Unità funzionale condominiale UFC79"}]
[{"$f":"PIANOCONTI_U!C175","v":"P.00.80"},{"$f":"PIANOCONTI_U!A175","v":"Unità funzionale condominiale UFC80"}]
[{"$f":"PIANOCONTI_U!C176","v":"P.00.81"},{"$f":"PIANOCONTI_U!A176","v":"Unità funzionale condominiale UFC81"}]
[{"$f":"PIANOCONTI_U!C177","v":"P.00.82"},{"$f":"PIANOCONTI_U!A177","v":"Unità funzionale condominiale UFC82"}]
[{"$f":"PIANOCONTI_U!C178","v":"P.00.83"},{"$f":"PIANOCONTI_U!A178","v":"Unità funzionale condominiale UFC83"}]
[{"$f":"PIANOCONTI_U!C179","v":"P.00.84"},{"$f":"PIANOCONTI_U!A179","v":"Unità funzionale condominiale UFC84"}]
[{"$f":"PIANOCONTI_U!C180","v":"P.00.85"},{"$f":"PIANOCONTI_U!A180","v":"Unità funzionale condominiale UFC85"}]
[{"$f":"PIANOCONTI_U!C181","v":"P.00.86"},{"$f":"PIANOCONTI_U!A181","v":"Unità funzionale condominiale UFC86"}]
[{"$f":"PIANOCONTI_U!C182","v":"P.00.87"},{"$f":"PIANOCONTI_U!A182","v":"Unità funzionale condominiale UFC87"}]
[{"$f":"PIANOCONTI_U!C183","v":"P.00.88"},{"$f":"PIANOCONTI_U!A183","v":"Unità funzionale condominiale UFC88"}]
[{"$f":"PIANOCONTI_U!C184","v":"P.00.89"},{"$f":"PIANOCONTI_U!A184","v":"Unità funzionale condominiale UFC89"}]
[{"$f":"PIANOCONTI_U!C185","v":"P.00.90"},{"$f":"PIANOCONTI_U!A185","v":"Unità funzionale condominiale UFC90"}]
[{"$f":"PIANOCONTI_U!C186","v":"P.00.91"},{"$f":"PIANOCONTI_U!A186","v":"Unità funzionale condominiale UFC91"}]
[{"$f":"PIANOCONTI_U!C187","v":"P.00.92"},{"$f":"PIANOCONTI_U!A187","v":"Unità funzionale condominiale UFC92"}]
[{"$f":"PIANOCONTI_U!C188","v":"P.00.93"},{"$f":"PIANOCONTI_U!A188","v":"Unità funzionale condominiale UFC93"}]
[{"$f":"PIANOCONTI_U!C189","v":"P.00.94"},{"$f":"PIANOCONTI_U!A189","v":"Unità funzionale condominiale UFC94"}]
[{"$f":"PIANOCONTI_U!C190","v":"P.00.95"},{"$f":"PIANOCONTI_U!A190","v":"Unità funzionale condominiale UFC95"}]
[{"$f":"PIANOCONTI_U!C191","v":"P.00.96"},{"$f":"PIANOCONTI_U!A191","v":"Unità funzionale condominiale UFC96"}]
[{"$f":"PIANOCONTI_U!C192","v":"P.00.97"},{"$f":"PIANOCONTI_U!A192","v":"Unità funzionale condominiale UFC97"}]
[{"$f":"PIANOCONTI_U!C193","v":"P.00.98"},{"$f":"PIANOCONTI_U!A193","v":"Unità funzionale condominiale UFC98"}]
[{"$f":"PIANOCONTI_U!C194","v":"P.00.99"},{"$f":"PIANOCONTI_U!A194","v":"Unità funzionale condominiale UFC99"}]
["TOTALE SPESE DA RIPARTIRE e ATTRIBUIRE",null,null,{"$f":"D11+D27+D38+D49+D60+D71+D77+D83+D95","v":7220},{"$f":"E11+E27+E38+E49+E60+E71+E77+E83+E95","v":540},{"$f":"F11+F27+F38+F49+F60+F71+F77+F83+F95","v":2550},{"$f":"G11+G27+G38+G49+G60+G71+G77+G83+G95","v":4130},{"$f":"H11+H27+H38+H49+H60+H71+H77+H83+H95","v":0}]
[{"$f":"PIANOCONTI_U!C195","v":"U"},{"$f":"PIANOCONTI_U!A195","v":"PAGAMENTI DEBITI E RESTITUZIONI VARIE"}]
[{"$f":"PIANOCONTI_U!C196","v":"U.00.01"},{"$f":"PIANOCONTI_U!A196","v":"Restituzioni a Condomini (versamenti in eccesso)"}]
[{"$f":"PIANOCONTI_U!C197","v":"U.00.02"},{"$f":"PIANOCONTI_U!A197","v":"Restituzioni Prestiti (a Gestione Ordinaria)"}]
[{"$f":"PIANOCONTI_U!C198","v":"U.00.03"},{"$f":"PIANOCONTI_U!A198","v":"Restituzione Prestiti (a Terzi)"}]
[{"$f":"PIANOCONTI_U!C199","v":"U.00.04"},{"$f":"PIANOCONTI_U!A199","v":0}]
[{"$f":"PIANOCONTI_U!C200","v":"U.00.05"},{"$f":"PIANOCONTI_U!A200","v":0}]
["TOTALE USCITE",null,null,{"$f":"D195+D196+D89","v":7220},{"$f":"E195+E196+E89","v":540},{"$f":"F195+F196+F89","v":2550},{"$f":"G195+G196+G89","v":4130},{"$f":"H195+H196+H89","v":0}]
["TOTALE USCITE DETRAIBILI",null,null,{"$f":"D195-D11-D60","v":7170},{"$f":"E195-E11-E60","v":500},2550,4120,0]

{"sheet":"ENTRATE-UI","index":24,"n_rows":149,"n_cols":7,"rows_kept":149,"cut":false,"hidden":true,"merged":[[8,0,9,0],[8,1,9,1],[8,2,9,2],[144,1,144,2]]}
[]
[]
[]
[]
[]
[]
[]
[{"$f":"\"RIEPILOGO delle ENTRATE del FONDO alla data \" & DataUltimaregistrazione() & CHAR(10) &DATIG!A40  & CHAR(10) & \"Codice FONDO:  \" & DATIG!A37","v":"RIEPILOGO delle ENTRATE del FONDO alla data 13-novembre-2019\nLavori messa in sicurezza fondazioni da infiltrazioni fognarie\nCodice FONDO:  LAVORO-01"}]
["VOCI DI ENTRATE","CONTO","IMPORTI\nTOTALI","ANNO","ANNO","ANNO","ANNO"]
[null,null,null,{"$f":"DATIG!A51","v":2017},{"$f":"DATIG!A52","v":2018},{"$f":"DATIG!A53","v":2019},{"$f":"DATIG!A54","v":0}]
[{"$f":"PIANOCONTI_E!A11","v":"PROVENTI DIVERSI"},null,{"$f":"SUM(C12:C16)","v":0},{"$f":"SUM(D12:D16)","v":0},{"$f":"SUM(E12:E16)","v":0},{"$f":"SUM(F12:F16)","v":0},{"$f":"SUM(G12:G16)","v":0}]
[{"$f":"PIANOCONTI_E!A12","v":"Rimborso da Assicurazione"},{"$f":"PIANOCONTI_E!B12","v":"E.01.01"}]
[{"$f":"PIANOCONTI_E!A13","v":0},"=PIANOCONTI_E!B13"]
[{"$f":"PIANOCONTI_E!A14","v":0},"=PIANOCONTI_E!B14"]
[{"$f":"PIANOCONTI_E!A15","v":0},"=PIANOCONTI_E!B15"]
[{"$f":"PIANOCONTI_E!A16","v":0},"=PIANOCONTI_E!B16"]
[null,null,{"$f":"SUM(C18:C27)","v":0}]
[]
[]
[]
[]
[]
[]
[]
[]
[]
[]
[null,null,{"$f":"SUM(C29:C38)","v":0}]
[]
[]
[]
[]
[]
[]
[]
[]
[]
[]
[{"$f":"PIANOCONTI_E!A39","v":"INCASSO QUOTE PER UNITÀ IMMOBILIARE "},"Quote",{"$f":"SUM(C40:C138)","v":8169.9500000000007},{"$f":"SUM(D40:D138)","v":2756},{"$f":"SUM(E40:E138)","v":1090},{"$f":"SUM(F40:F138)","v":4323.95},{"$f":"SUM(G40:G138)","v":0}]
[{"$f":"PIANOCONTI_E!A40","v":"QUOTA Unità U01 di proprietà CONDOMINO01"},{"$f":"PIANOCONTI_E!B40","v":"Q.01.01"},590,null,150,440]
[{"$f":"PIANOCONTI_E!A41","v":"QUOTA Unità U02 di proprietà CONDOMINO02"},{"$f":"PIANOCONTI_E!B41","v":"Q.02.02"},450,null,null,450]
[{"$f":"PIANOCONTI_E!A42","v":"QUOTA Unità U03 di proprietà CONDOMINO03"},{"$f":"PIANOCONTI_E!B42","v":"Q.03.03"},650,650]
[{"$f":"PIANOCONTI_E!A43","v":"QUOTA Unità U04 di proprietà CONDOMINO04"},{"$f":"PIANOCONTI_E!B43","v":"Q.04.04"},105,105]
[{"$f":"PIANOCONTI_E!A44","v":"QUOTA Unità U05 di proprietà CONDOMINO05"},{"$f":"PIANOCONTI_E!B44","v":"Q.05.05"},188.65,null,null,188.65]
[{"$f":"PIANOCONTI_E!A45","v":"QUOTA Unità U06 di proprietà CONDOMINO06"},{"$f":"PIANOCONTI_E!B45","v":"Q.06.06"},550,null,350,200]
[{"$f":"PIANOCONTI_E!A46","v":"QUOTA Unità U07 di proprietà CONDOMINO07"},{"$f":"PIANOCONTI_E!B46","v":"Q.07.07"},482.8,60,null,422.8]
[{"$f":"PIANOCONTI_E!A47","v":"QUOTA Unità U08 di proprietà CONDOMINO08"},{"$f":"PIANOCONTI_E!B47","v":"Q.08.08"},396,null,null,396]
[{"$f":"PIANOCONTI_E!A48","v":"QUOTA Unità U09 di proprietà CONDOMINO09"},{"$f":"PIANOCONTI_E!B48","v":"Q.09.09"},544,204,102,238]
[{"$f":"PIANOCONTI_E!A49","v":"QUOTA Unità U10 di proprietà CONDOMINO10"},{"$f":"PIANOCONTI_E!B49","v":"Q.10.10"},200,null,null,200]
[{"$f":"PIANOCONTI_E!A50","v":"QUOTA Unità U11 di proprietà CONDOMINO11"},{"$f":"PIANOCONTI_E!B50","v":"Q.11.11"}]
[{"$f":"PIANOCONTI_E!A51","v":"QUOTA Unità U12 di proprietà CONDOMINO12"},{"$f":"PIANOCONTI_E!B51","v":"Q.12.12"},177,157,null,20]
[{"$f":"PIANOCONTI_E!A52","v":"QUOTA Unità U13 di proprietà CONDOMINO13"},{"$f":"PIANOCONTI_E!B52","v":"Q.13.13"}]
[{"$f":"PIANOCONTI_E!A53","v":"QUOTA Unità U14 di proprietà CONDOMINO14"},{"$f":"PIANOCONTI_E!B53","v":"Q.14.14"},300,null,null,300]
[{"$f":"PIANOCONTI_E!A54","v":"QUOTA Unità U15 di proprietà CONDOMINO15"},{"$f":"PIANOCONTI_E!B54","v":"Q.15.15"},490,290,200]
[{"$f":"PIANOCONTI_E!A55","v":"QUOTA Unità U16 di proprietà CONDOMINO16"},{"$f":"PIANOCONTI_E!B55","v":"Q.16.16"},720,720]
[{"$f":"PIANOCONTI_E!A56","v":"QUOTA Unità U17 di proprietà CONDOMINO17"},{"$f":"PIANOCONTI_E!B56","v":"Q.17.17"},800,300,200,300]
[{"$f":"PIANOCONTI_E!A57","v":"QUOTA Unità U18 di proprietà CONDOMINO18"},{"$f":"PIANOCONTI_E!B57","v":"Q.18.18"},377,null,null,377]
[{"$f":"PIANOCONTI_E!A58","v":"QUOTA Unità U19 di proprietà CONDOMINO19"},{"$f":"PIANOCONTI_E!B58","v":"Q.19.19"},285,135,null,150]
[{"$f":"PIANOCONTI_E!A59","v":"QUOTA Unità U20 di proprietà CONDOMINO07"},{"$f":"PIANOCONTI_E!B59","v":"Q.20.07"},521.5,null,null,521.5]
[{"$f":"PIANOCONTI_E!A60","v":"QUOTA Unità U21 di proprietà CONDOMINO08"},{"$f":"PIANOCONTI_E!B60","v":"Q.21.08"},100,null,null,100]
[{"$f":"PIANOCONTI_E!A61","v":"QUOTA Unità U22 di proprietà CONDOMINO19"},{"$f":"PIANOCONTI_E!B61","v":"Q.22.19"},243,135,88,20]
[{"$f":"PIANOCONTI_E!A62","v":""},{"$f":"PIANOCONTI_E!B62","v":""}]
[{"$f":"PIANOCONTI_E!A63","v":""},{"$f":"PIANOCONTI_E!B63","v":""}]
[{"$f":"PIANOCONTI_E!A64","v":""},{"$f":"PIANOCONTI_E!B64","v":""}]
[{"$f":"PIANOCONTI_E!A65","v":""},{"$f":"PIANOCONTI_E!B65","v":""}]
[{"$f":"PIANOCONTI_E!A66","v":""},{"$f":"PIANOCONTI_E!B66","v":""}]
[{"$f":"PIANOCONTI_E!A67","v":""},{"$f":"PIANOCONTI_E!B67","v":""}]
[{"$f":"PIANOCONTI_E!A68","v":""},{"$f":"PIANOCONTI_E!B68","v":""}]
[{"$f":"PIANOCONTI_E!A69","v":""},{"$f":"PIANOCONTI_E!B69","v":""}]
[{"$f":"PIANOCONTI_E!A70","v":""},{"$f":"PIANOCONTI_E!B70","v":""}]
[{"$f":"PIANOCONTI_E!A71","v":""},{"$f":"PIANOCONTI_E!B71","v":""}]
[{"$f":"PIANOCONTI_E!A72","v":""},{"$f":"PIANOCONTI_E!B72","v":""}]
[{"$f":"PIANOCONTI_E!A73","v":""},{"$f":"PIANOCONTI_E!B73","v":""}]
[{"$f":"PIANOCONTI_E!A74","v":""},{"$f":"PIANOCONTI_E!B74","v":""}]
[{"$f":"PIANOCONTI_E!A75","v":""},{"$f":"PIANOCONTI_E!B75","v":""}]
[{"$f":"PIANOCONTI_E!A76","v":""},{"$f":"PIANOCONTI_E!B76","v":""}]
[{"$f":"PIANOCONTI_E!A77","v":""},{"$f":"PIANOCONTI_E!B77","v":""}]
[{"$f":"PIANOCONTI_E!A78","v":""},{"$f":"PIANOCONTI_E!B78","v":""}]
[{"$f":"PIANOCONTI_E!A79","v":""},{"$f":"PIANOCONTI_E!B79","v":""}]
[{"$f":"PIANOCONTI_E!A80","v":""},{"$f":"PIANOCONTI_E!B80","v":""}]
[{"$f":"PIANOCONTI_E!A81","v":""},{"$f":"PIANOCONTI_E!B81","v":""}]
[{"$f":"PIANOCONTI_E!A82","v":""},{"$f":"PIANOCONTI_E!B82","v":""}]
[{"$f":"PIANOCONTI_E!A83","v":""},{"$f":"PIANOCONTI_E!B83","v":""}]
[{"$f":"PIANOCONTI_E!A84","v":""},{"$f":"PIANOCONTI_E!B84","v":""}]
[{"$f":"PIANOCONTI_E!A85","v":""},{"$f":"PIANOCONTI_E!B85","v":""}]
[{"$f":"PIANOCONTI_E!A86","v":""},{"$f":"PIANOCONTI_E!B86","v":""}]
[{"$f":"PIANOCONTI_E!A87","v":""},{"$f":"PIANOCONTI_E!B87","v":""}]
[{"$f":"PIANOCONTI_E!A88","v":""},{"$f":"PIANOCONTI_E!B88","v":""}]
[{"$f":"PIANOCONTI_E!A89","v":""},{"$f":"PIANOCONTI_E!B89","v":""}]
[{"$f":"PIANOCONTI_E!A90","v":""},{"$f":"PIANOCONTI_E!B90","v":""}]
[{"$f":"PIANOCONTI_E!A91","v":""},{"$f":"PIANOCONTI_E!B91","v":""}]
[{"$f":"PIANOCONTI_E!A92","v":""},{"$f":"PIANOCONTI_E!B92","v":""}]
[{"$f":"PIANOCONTI_E!A93","v":""},{"$f":"PIANOCONTI_E!B93","v":""}]
[{"$f":"PIANOCONTI_E!A94","v":""},{"$f":"PIANOCONTI_E!B94","v":""}]
[{"$f":"PIANOCONTI_E!A95","v":""},{"$f":"PIANOCONTI_E!B95","v":""}]
[{"$f":"PIANOCONTI_E!A96","v":""},{"$f":"PIANOCONTI_E!B96","v":""}]
[{"$f":"PIANOCONTI_E!A97","v":""},{"$f":"PIANOCONTI_E!B97","v":""}]
[{"$f":"PIANOCONTI_E!A98","v":""},{"$f":"PIANOCONTI_E!B98","v":""}]
[{"$f":"PIANOCONTI_E!A99","v":""},{"$f":"PIANOCONTI_E!B99","v":""}]
[{"$f":"PIANOCONTI_E!A100","v":""},{"$f":"PIANOCONTI_E!B100","v":""}]
[{"$f":"PIANOCONTI_E!A101","v":""},{"$f":"PIANOCONTI_E!B101","v":""}]
[{"$f":"PIANOCONTI_E!A102","v":""},{"$f":"PIANOCONTI_E!B102","v":""}]
[{"$f":"PIANOCONTI_E!A103","v":""},{"$f":"PIANOCONTI_E!B103","v":""}]
[{"$f":"PIANOCONTI_E!A104","v":""},{"$f":"PIANOCONTI_E!B104","v":""}]
[{"$f":"PIANOCONTI_E!A105","v":""},{"$f":"PIANOCONTI_E!B105","v":""}]
[{"$f":"PIANOCONTI_E!A106","v":""},{"$f":"PIANOCONTI_E!B106","v":""}]
[{"$f":"PIANOCONTI_E!A107","v":""},{"$f":"PIANOCONTI_E!B107","v":""}]
[{"$f":"PIANOCONTI_E!A108","v":""},{"$f":"PIANOCONTI_E!B108","v":""}]
[{"$f":"PIANOCONTI_E!A109","v":""},{"$f":"PIANOCONTI_E!B109","v":""}]
[{"$f":"PIANOCONTI_E!A110","v":""},{"$f":"PIANOCONTI_E!B110","v":""}]
[{"$f":"PIANOCONTI_E!A111","v":""},{"$f":"PIANOCONTI_E!B111","v":""}]
[{"$f":"PIANOCONTI_E!A112","v":""},{"$f":"PIANOCONTI_E!B112","v":""}]
[{"$f":"PIANOCONTI_E!A113","v":""},{"$f":"PIANOCONTI_E!B113","v":""}]
[{"$f":"PIANOCONTI_E!A114","v":""},{"$f":"PIANOCONTI_E!B114","v":""}]
[{"$f":"PIANOCONTI_E!A115","v":""},{"$f":"PIANOCONTI_E!B115","v":""}]
[{"$f":"PIANOCONTI_E!A116","v":""},{"$f":"PIANOCONTI_E!B116","v":""}]
[{"$f":"PIANOCONTI_E!A117","v":""},{"$f":"PIANOCONTI_E!B117","v":""}]
[{"$f":"PIANOCONTI_E!A118","v":""},{"$f":"PIANOCONTI_E!B118","v":""}]
[{"$f":"PIANOCONTI_E!A119","v":""},{"$f":"PIANOCONTI_E!B119","v":""}]
[{"$f":"PIANOCONTI_E!A120","v":""},{"$f":"PIANOCONTI_E!B120","v":""}]
[{"$f":"PIANOCONTI_E!A121","v":""},{"$f":"PIANOCONTI_E!B121","v":""}]
[{"$f":"PIANOCONTI_E!A122","v":""},{"$f":"PIANOCONTI_E!B122","v":""}]
[{"$f":"PIANOCONTI_E!A123","v":""},{"$f":"PIANOCONTI_E!B123","v":""}]
[{"$f":"PIANOCONTI_E!A124","v":""},{"$f":"PIANOCONTI_E!B124","v":""}]
[{"$f":"PIANOCONTI_E!A125","v":""},{"$f":"PIANOCONTI_E!B125","v":""}]
[{"$f":"PIANOCONTI_E!A126","v":""},{"$f":"PIANOCONTI_E!B126","v":""}]
[{"$f":"PIANOCONTI_E!A127","v":""},{"$f":"PIANOCONTI_E!B127","v":""}]
[{"$f":"PIANOCONTI_E!A128","v":""},{"$f":"PIANOCONTI_E!B128","v":""}]
[{"$f":"PIANOCONTI_E!A129","v":""},{"$f":"PIANOCONTI_E!B129","v":""}]
[{"$f":"PIANOCONTI_E!A130","v":""},{"$f":"PIANOCONTI_E!B130","v":""}]
[{"$f":"PIANOCONTI_E!A131","v":""},{"$f":"PIANOCONTI_E!B131","v":""}]
[{"$f":"PIANOCONTI_E!A132","v":""},{"$f":"PIANOCONTI_E!B132","v":""}]
[{"$f":"PIANOCONTI_E!A133","v":""},{"$f":"PIANOCONTI_E!B133","v":""}]
[{"$f":"PIANOCONTI_E!A134","v":""},{"$f":"PIANOCONTI_E!B134","v":""}]
[{"$f":"PIANOCONTI_E!A135","v":""},{"$f":"PIANOCONTI_E!B135","v":""}]
[{"$f":"PIANOCONTI_E!A136","v":""},{"$f":"PIANOCONTI_E!B136","v":""}]
[{"$f":"PIANOCONTI_E!A137","v":""},{"$f":"PIANOCONTI_E!B137","v":""}]
[{"$f":"PIANOCONTI_E!A138","v":""},{"$f":"PIANOCONTI_E!B138","v":""}]
[{"$f":"PIANOCONTI_E!A139","v":"PRESTITI RICEVUTI ED ENTRATE VARIE DI GIRO"},null,{"$f":"SUM(C140:C144)","v":0}]
[{"$f":"PIANOCONTI_E!A140","v":"Prestiti ricevuti (da Gestione Ordinaria)"},{"$f":"PIANOCONTI_E!B140","v":"V.00.01"}]
[{"$f":"PIANOCONTI_E!A141","v":"Prestiti ricevuti (da Terzi)"},{"$f":"PIANOCONTI_E!B141","v":"V.00.02"}]
[{"$f":"PIANOCONTI_E!A142","v":0},{"$f":"PIANOCONTI_E!B142","v":"V.00.03"}]
[{"$f":"PIANOCONTI_E!A143","v":0},{"$f":"PIANOCONTI_E!B143","v":"V.00.04"}]
[{"$f":"PIANOCONTI_E!A144","v":0},{"$f":"PIANOCONTI_E!B144","v":"V.00.05"}]
["TOTALE ENTRATE",{"$f":"C11+C17+C28+C39+C139","v":8169.9500000000007}]
[null,null,0]
[]
[null,null,0]
[null,null,0]

{"sheet":"ENTRATE-C","index":25,"n_rows":149,"n_cols":7,"rows_kept":149,"cut":false,"hidden":true,"merged":[[8,0,9,0],[8,1,9,1],[8,2,9,2],[144,1,144,2]]}
[]
[]
[]
[]
[]
[]
[]
[{"$f":"\"RIEPILOGO delle ENTRATE del FONDO alla data \" & DataUltimaregistrazione() & CHAR(10) &DATIG!A40  & CHAR(10) & \"Codice FONDO:  \" & DATIG!A37","v":"RIEPILOGO delle ENTRATE del FONDO alla data 13-novembre-2019\nLavori messa in sicurezza fondazioni da infiltrazioni fognarie\nCodice FONDO:  LAVORO-01"}]
["VOCI DI ENTRATE","CONTO","IMPORTI\nTOTALI","ANNO","ANNO","ANNO","ANNO"]
[null,null,null,{"$f":"DATIG!A51","v":2017},{"$f":"DATIG!A52","v":2018},{"$f":"DATIG!A53","v":2019},{"$f":"DATIG!A54","v":0}]
[{"$f":"PIANOCONTI_E!A11","v":"PROVENTI DIVERSI"},null,{"$f":"SUM(C12:C16)","v":0},{"$f":"SUM(D12:D16)","v":0},{"$f":"SUM(E12:E16)","v":0},{"$f":"SUM(F12:F16)","v":0},{"$f":"SUM(G12:G16)","v":0}]
[{"$f":"PIANOCONTI_E!A12","v":"Rimborso da Assicurazione"},{"$f":"PIANOCONTI_E!B12","v":"E.01.01"}]
[{"$f":"PIANOCONTI_E!A13","v":0},"=PIANOCONTI_E!B13"]
[{"$f":"PIANOCONTI_E!A14","v":0},"=PIANOCONTI_E!B14"]
[{"$f":"PIANOCONTI_E!A15","v":0},"=PIANOCONTI_E!B15"]
[{"$f":"PIANOCONTI_E!A16","v":0},"=PIANOCONTI_E!B16"]
[null,null,{"$f":"SUM(C18:C27)","v":0}]
[]
[]
[]
[]
[]
[]
[]
[]
[]
[]
[null,null,{"$f":"SUM(C29:C38)","v":0}]
[]
[]
[]
[]
[]
[]
[]
[]
[]
[]
["INCASSO QUOTE PER UNITÀ IMMOBILIARE","Quote",{"$f":"SUM(C40:C138)","v":8169.95},{"$f":"SUM(D40:D138)","v":2756},{"$f":"SUM(E40:E138)","v":1090},{"$f":"SUM(F40:F138)","v":4323.95},{"$f":"SUM(G40:G138)","v":0}]
[{"$f":"IF(CONDOMINI!C11<>\"\",CONDOMINI!C11,\"\")","v":"CONDOMINO01"},{"$f":"IF(CONDOMINI!C11<>\"\",\"Q.nn.\" & RIGHT(CONDOMINI!B11,2),\"\")","v":"Q.nn.01"},{"$f":"IF(B40<>\"\",SUMIFS('ENTRATE-UI'!$C$40:$C$138,'ENTRATE-UI'!$B$40:$B$138,\"=*\" & RIGHT(B40,2)),\"\")","v":590},{"$f":"IF(B40<>\"\",SUMIFS('ENTRATE-UI'!$D$40:$D$138,'ENTRATE-UI'!$B$40:$B$138,\"=*\" & RIGHT(B40,2)),\"\")","v":0},{"$f":"IF(B40<>\"\",SUMIFS('ENTRATE-UI'!$E$40:$E$138,'ENTRATE-UI'!$B$40:$B$138,\"=*\" & RIGHT(B40,2)),\"\")","v":150},{"$f":"IF(B40<>\"\",SUMIFS('ENTRATE-UI'!$F$40:$F$138,'ENTRATE-UI'!$B$40:$B$138,\"=*\" & RIGHT(B40,2)),\"\")","v":440},{"$f":"IF(B40<>\"\",SUMIFS('ENTRATE-UI'!$G$40:$G$138,'ENTRATE-UI'!$B$40:$B$138,\"=*\" & RIGHT(B40,2)),\"\")","v":0}]
[{"$f":"IF(CONDOMINI!C12<>\"\",CONDOMINI!C12,\"\")","v":"CONDOMINO02"},{"$f":"IF(CONDOMINI!C12<>\"\",\"Q.nn.\" & RIGHT(CONDOMINI!B12,2),\"\")","v":"Q.nn.02"},{"$f":"IF(B41<>\"\",SUMIFS('ENTRATE-UI'!$C$40:$C$138,'ENTRATE-UI'!$B$40:$B$138,\"=*\" & RIGHT(B41,2)),\"\")","v":450},{"$f":"IF(B41<>\"\",SUMIFS('ENTRATE-UI'!$D$40:$D$138,'ENTRATE-UI'!$B$40:$B$138,\"=*\" & RIGHT(B41,2)),\"\")","v":0},{"$f":"IF(B41<>\"\",SUMIFS('ENTRATE-UI'!$E$40:$E$138,'ENTRATE-UI'!$B$40:$B$138,\"=*\" & RIGHT(B41,2)),\"\")","v":0},{"$f":"IF(B41<>\"\",SUMIFS('ENTRATE-UI'!$F$40:$F$138,'ENTRATE-UI'!$B$40:$B$138,\"=*\" & RIGHT(B41,2)),\"\")","v":450},{"$f":"IF(B41<>\"\",SUMIFS('ENTRATE-UI'!$G$40:$G$138,'ENTRATE-UI'!$B$40:$B$138,\"=*\" & RIGHT(B41,2)),\"\")","v":0}]
[{"$f":"IF(CONDOMINI!C13<>\"\",CONDOMINI!C13,\"\")","v":"CONDOMINO03"},{"$f":"IF(CONDOMINI!C13<>\"\",\"Q.nn.\" & RIGHT(CONDOMINI!B13,2),\"\")","v":"Q.nn.03"},{"$f":"IF(B42<>\"\",SUMIFS('ENTRATE-UI'!$C$40:$C$138,'ENTRATE-UI'!$B$40:$B$138,\"=*\" & RIGHT(B42,2)),\"\")","v":650},{"$f":"IF(B42<>\"\",SUMIFS('ENTRATE-UI'!$D$40:$D$138,'ENTRATE-UI'!$B$40:$B$138,\"=*\" & RIGHT(B42,2)),\"\")","v":650},{"$f":"IF(B42<>\"\",SUMIFS('ENTRATE-UI'!$E$40:$E$138,'ENTRATE-UI'!$B$40:$B$138,\"=*\" & RIGHT(B42,2)),\"\")","v":0},{"$f":"IF(B42<>\"\",SUMIFS('ENTRATE-UI'!$F$40:$F$138,'ENTRATE-UI'!$B$40:$B$138,\"=*\" & RIGHT(B42,2)),\"\")","v":0},{"$f":"IF(B42<>\"\",SUMIFS('ENTRATE-UI'!$G$40:$G$138,'ENTRATE-UI'!$B$40:$B$138,\"=*\" & RIGHT(B42,2)),\"\")","v":0}]
[{"$f":"IF(CONDOMINI!C14<>\"\",CONDOMINI!C14,\"\")","v":"CONDOMINO04"},{"$f":"IF(CONDOMINI!C14<>\"\",\"Q.nn.\" & RIGHT(CONDOMINI!B14,2),\"\")","v":"Q.nn.04"},{"$f":"IF(B43<>\"\",SUMIFS('ENTRATE-UI'!$C$40:$C$138,'ENTRATE-UI'!$B$40:$B$138,\"=*\" & RIGHT(B43,2)),\"\")","v":105},{"$f":"IF(B43<>\"\",SUMIFS('ENTRATE-UI'!$D$40:$D$138,'ENTRATE-UI'!$B$40:$B$138,\"=*\" & RIGHT(B43,2)),\"\")","v":105},{"$f":"IF(B43<>\"\",SUMIFS('ENTRATE-UI'!$E$40:$E$138,'ENTRATE-UI'!$B$40:$B$138,\"=*\" & RIGHT(B43,2)),\"\")","v":0},{"$f":"IF(B43<>\"\",SUMIFS('ENTRATE-UI'!$F$40:$F$138,'ENTRATE-UI'!$B$40:$B$138,\"=*\" & RIGHT(B43,2)),\"\")","v":0},{"$f":"IF(B43<>\"\",SUMIFS('ENTRATE-UI'!$G$40:$G$138,'ENTRATE-UI'!$B$40:$B$138,\"=*\" & RIGHT(B43,2)),\"\")","v":0}]
[{"$f":"IF(CONDOMINI!C15<>\"\",CONDOMINI!C15,\"\")","v":"CONDOMINO05"},{"$f":"IF(CONDOMINI!C15<>\"\",\"Q.nn.\" & RIGHT(CONDOMINI!B15,2),\"\")","v":"Q.nn.05"},{"$f":"IF(B44<>\"\",SUMIFS('ENTRATE-UI'!$C$40:$C$138,'ENTRATE-UI'!$B$40:$B$138,\"=*\" & RIGHT(B44,2)),\"\")","v":188.65},{"$f":"IF(B44<>\"\",SUMIFS('ENTRATE-UI'!$D$40:$D$138,'ENTRATE-UI'!$B$40:$B$138,\"=*\" & RIGHT(B44,2)),\"\")","v":0},{"$f":"IF(B44<>\"\",SUMIFS('ENTRATE-UI'!$E$40:$E$138,'ENTRATE-UI'!$B$40:$B$138,\"=*\" & RIGHT(B44,2)),\"\")","v":0},{"$f":"IF(B44<>\"\",SUMIFS('ENTRATE-UI'!$F$40:$F$138,'ENTRATE-UI'!$B$40:$B$138,\"=*\" & RIGHT(B44,2)),\"\")","v":188.65},{"$f":"IF(B44<>\"\",SUMIFS('ENTRATE-UI'!$G$40:$G$138,'ENTRATE-UI'!$B$40:$B$138,\"=*\" & RIGHT(B44,2)),\"\")","v":0}]
[{"$f":"IF(CONDOMINI!C16<>\"\",CONDOMINI!C16,\"\")","v":"CONDOMINO06"},{"$f":"IF(CONDOMINI!C16<>\"\",\"Q.nn.\" & RIGHT(CONDOMINI!B16,2),\"\")","v":"Q.nn.06"},{"$f":"IF(B45<>\"\",SUMIFS('ENTRATE-UI'!$C$40:$C$138,'ENTRATE-UI'!$B$40:$B$138,\"=*\" & RIGHT(B45,2)),\"\")","v":550},{"$f":"IF(B45<>\"\",SUMIFS('ENTRATE-UI'!$D$40:$D$138,'ENTRATE-UI'!$B$40:$B$138,\"=*\" & RIGHT(B45,2)),\"\")","v":0},{"$f":"IF(B45<>\"\",SUMIFS('ENTRATE-UI'!$E$40:$E$138,'ENTRATE-UI'!$B$40:$B$138,\"=*\" & RIGHT(B45,2)),\"\")","v":350},{"$f":"IF(B45<>\"\",SUMIFS('ENTRATE-UI'!$F$40:$F$138,'ENTRATE-UI'!$B$40:$B$138,\"=*\" & RIGHT(B45,2)),\"\")","v":200},{"$f":"IF(B45<>\"\",SUMIFS('ENTRATE-UI'!$G$40:$G$138,'ENTRATE-UI'!$B$40:$B$138,\"=*\" & RIGHT(B45,2)),\"\")","v":0}]
[{"$f":"IF(CONDOMINI!C17<>\"\",CONDOMINI!C17,\"\")","v":"CONDOMINO07"},{"$f":"IF(CONDOMINI!C17<>\"\",\"Q.nn.\" & RIGHT(CONDOMINI!B17,2),\"\")","v":"Q.nn.07"},{"$f":"IF(B46<>\"\",SUMIFS('ENTRATE-UI'!$C$40:$C$138,'ENTRATE-UI'!$B$40:$B$138,\"=*\" & RIGHT(B46,2)),\"\")","v":1004.3},{"$f":"IF(B46<>\"\",SUMIFS('ENTRATE-UI'!$D$40:$D$138,'ENTRATE-UI'!$B$40:$B$138,\"=*\" & RIGHT(B46,2)),\"\")","v":60},{"$f":"IF(B46<>\"\",SUMIFS('ENTRATE-UI'!$E$40:$E$138,'ENTRATE-UI'!$B$40:$B$138,\"=*\" & RIGHT(B46,2)),\"\")","v":0},{"$f":"IF(B46<>\"\",SUMIFS('ENTRATE-UI'!$F$40:$F$138,'ENTRATE-UI'!$B$40:$B$138,\"=*\" & RIGHT(B46,2)),\"\")","v":944.3},{"$f":"IF(B46<>\"\",SUMIFS('ENTRATE-UI'!$G$40:$G$138,'ENTRATE-UI'!$B$40:$B$138,\"=*\" & RIGHT(B46,2)),\"\")","v":0}]
[{"$f":"IF(CONDOMINI!C18<>\"\",CONDOMINI!C18,\"\")","v":"CONDOMINO08"},{"$f":"IF(CONDOMINI!C18<>\"\",\"Q.nn.\" & RIGHT(CONDOMINI!B18,2),\"\")","v":"Q.nn.08"},{"$f":"IF(B47<>\"\",SUMIFS('ENTRATE-UI'!$C$40:$C$138,'ENTRATE-UI'!$B$40:$B$138,\"=*\" & RIGHT(B47,2)),\"\")","v":496},{"$f":"IF(B47<>\"\",SUMIFS('ENTRATE-UI'!$D$40:$D$138,'ENTRATE-UI'!$B$40:$B$138,\"=*\" & RIGHT(B47,2)),\"\")","v":0},{"$f":"IF(B47<>\"\",SUMIFS('ENTRATE-UI'!$E$40:$E$138,'ENTRATE-UI'!$B$40:$B$138,\"=*\" & RIGHT(B47,2)),\"\")","v":0},{"$f":"IF(B47<>\"\",SUMIFS('ENTRATE-UI'!$F$40:$F$138,'ENTRATE-UI'!$B$40:$B$138,\"=*\" & RIGHT(B47,2)),\"\")","v":496},{"$f":"IF(B47<>\"\",SUMIFS('ENTRATE-UI'!$G$40:$G$138,'ENTRATE-UI'!$B$40:$B$138,\"=*\" & RIGHT(B47,2)),\"\")","v":0}]
[{"$f":"IF(CONDOMINI!C19<>\"\",CONDOMINI!C19,\"\")","v":"CONDOMINO09"},{"$f":"IF(CONDOMINI!C19<>\"\",\"Q.nn.\" & RIGHT(CONDOMINI!B19,2),\"\")","v":"Q.nn.09"},{"$f":"IF(B48<>\"\",SUMIFS('ENTRATE-UI'!$C$40:$C$138,'ENTRATE-UI'!$B$40:$B$138,\"=*\" & RIGHT(B48,2)),\"\")","v":544},{"$f":"IF(B48<>\"\",SUMIFS('ENTRATE-UI'!$D$40:$D$138,'ENTRATE-UI'!$B$40:$B$138,\"=*\" & RIGHT(B48,2)),\"\")","v":204},{"$f":"IF(B48<>\"\",SUMIFS('ENTRATE-UI'!$E$40:$E$138,'ENTRATE-UI'!$B$40:$B$138,\"=*\" & RIGHT(B48,2)),\"\")","v":102},{"$f":"IF(B48<>\"\",SUMIFS('ENTRATE-UI'!$F$40:$F$138,'ENTRATE-UI'!$B$40:$B$138,\"=*\" & RIGHT(B48,2)),\"\")","v":238},{"$f":"IF(B48<>\"\",SUMIFS('ENTRATE-UI'!$G$40:$G$138,'ENTRATE-UI'!$B$40:$B$138,\"=*\" & RIGHT(B48,2)),\"\")","v":0}]
[{"$f":"IF(CONDOMINI!C20<>\"\",CONDOMINI!C20,\"\")","v":"CONDOMINO10"},{"$f":"IF(CONDOMINI!C20<>\"\",\"Q.nn.\" & RIGHT(CONDOMINI!B20,2),\"\")","v":"Q.nn.10"},{"$f":"IF(B49<>\"\",SUMIFS('ENTRATE-UI'!$C$40:$C$138,'ENTRATE-UI'!$B$40:$B$138,\"=*\" & RIGHT(B49,2)),\"\")","v":200},{"$f":"IF(B49<>\"\",SUMIFS('ENTRATE-UI'!$D$40:$D$138,'ENTRATE-UI'!$B$40:$B$138,\"=*\" & RIGHT(B49,2)),\"\")","v":0},{"$f":"IF(B49<>\"\",SUMIFS('ENTRATE-UI'!$E$40:$E$138,'ENTRATE-UI'!$B$40:$B$138,\"=*\" & RIGHT(B49,2)),\"\")","v":0},{"$f":"IF(B49<>\"\",SUMIFS('ENTRATE-UI'!$F$40:$F$138,'ENTRATE-UI'!$B$40:$B$138,\"=*\" & RIGHT(B49,2)),\"\")","v":200},{"$f":"IF(B49<>\"\",SUMIFS('ENTRATE-UI'!$G$40:$G$138,'ENTRATE-UI'!$B$40:$B$138,\"=*\" & RIGHT(B49,2)),\"\")","v":0}]
[{"$f":"IF(CONDOMINI!C21<>\"\",CONDOMINI!C21,\"\")","v":"CONDOMINO11"},{"$f":"IF(CONDOMINI!C21<>\"\",\"Q.nn.\" & RIGHT(CONDOMINI!B21,2),\"\")","v":"Q.nn.11"},{"$f":"IF(B50<>\"\",SUMIFS('ENTRATE-UI'!$C$40:$C$138,'ENTRATE-UI'!$B$40:$B$138,\"=*\" & RIGHT(B50,2)),\"\")","v":0},{"$f":"IF(B50<>\"\",SUMIFS('ENTRATE-UI'!$D$40:$D$138,'ENTRATE-UI'!$B$40:$B$138,\"=*\" & RIGHT(B50,2)),\"\")","v":0},{"$f":"IF(B50<>\"\",SUMIFS('ENTRATE-UI'!$E$40:$E$138,'ENTRATE-UI'!$B$40:$B$138,\"=*\" & RIGHT(B50,2)),\"\")","v":0},{"$f":"IF(B50<>\"\",SUMIFS('ENTRATE-UI'!$F$40:$F$138,'ENTRATE-UI'!$B$40:$B$138,\"=*\" & RIGHT(B50,2)),\"\")","v":0},{"$f":"IF(B50<>\"\",SUMIFS('ENTRATE-UI'!$G$40:$G$138,'ENTRATE-UI'!$B$40:$B$138,\"=*\" & RIGHT(B50,2)),\"\")","v":0}]
[{"$f":"IF(CONDOMINI!C22<>\"\",CONDOMINI!C22,\"\")","v":"CONDOMINO12"},{"$f":"IF(CONDOMINI!C22<>\"\",\"Q.nn.\" & RIGHT(CONDOMINI!B22,2),\"\")","v":"Q.nn.12"},{"$f":"IF(B51<>\"\",SUMIFS('ENTRATE-UI'!$C$40:$C$138,'ENTRATE-UI'!$B$40:$B$138,\"=*\" & RIGHT(B51,2)),\"\")","v":177},{"$f":"IF(B51<>\"\",SUMIFS('ENTRATE-UI'!$D$40:$D$138,'ENTRATE-UI'!$B$40:$B$138,\"=*\" & RIGHT(B51,2)),\"\")","v":157},{"$f":"IF(B51<>\"\",SUMIFS('ENTRATE-UI'!$E$40:$E$138,'ENTRATE-UI'!$B$40:$B$138,\"=*\" & RIGHT(B51,2)),\"\")","v":0},{"$f":"IF(B51<>\"\",SUMIFS('ENTRATE-UI'!$F$40:$F$138,'ENTRATE-UI'!$B$40:$B$138,\"=*\" & RIGHT(B51,2)),\"\")","v":20},{"$f":"IF(B51<>\"\",SUMIFS('ENTRATE-UI'!$G$40:$G$138,'ENTRATE-UI'!$B$40:$B$138,\"=*\" & RIGHT(B51,2)),\"\")","v":0}]
[{"$f":"IF(CONDOMINI!C23<>\"\",CONDOMINI!C23,\"\")","v":"CONDOMINO13"},{"$f":"IF(CONDOMINI!C23<>\"\",\"Q.nn.\" & RIGHT(CONDOMINI!B23,2),\"\")","v":"Q.nn.13"},{"$f":"IF(B52<>\"\",SUMIFS('ENTRATE-UI'!$C$40:$C$138,'ENTRATE-UI'!$B$40:$B$138,\"=*\" & RIGHT(B52,2)),\"\")","v":0},{"$f":"IF(B52<>\"\",SUMIFS('ENTRATE-UI'!$D$40:$D$138,'ENTRATE-UI'!$B$40:$B$138,\"=*\" & RIGHT(B52,2)),\"\")","v":0},{"$f":"IF(B52<>\"\",SUMIFS('ENTRATE-UI'!$E$40:$E$138,'ENTRATE-UI'!$B$40:$B$138,\"=*\" & RIGHT(B52,2)),\"\")","v":0},{"$f":"IF(B52<>\"\",SUMIFS('ENTRATE-UI'!$F$40:$F$138,'ENTRATE-UI'!$B$40:$B$138,\"=*\" & RIGHT(B52,2)),\"\")","v":0},{"$f":"IF(B52<>\"\",SUMIFS('ENTRATE-UI'!$G$40:$G$138,'ENTRATE-UI'!$B$40:$B$138,\"=*\" & RIGHT(B52,2)),\"\")","v":0}]
[{"$f":"IF(CONDOMINI!C24<>\"\",CONDOMINI!C24,\"\")","v":"CONDOMINO14"},{"$f":"IF(CONDOMINI!C24<>\"\",\"Q.nn.\" & RIGHT(CONDOMINI!B24,2),\"\")","v":"Q.nn.14"},{"$f":"IF(B53<>\"\",SUMIFS('ENTRATE-UI'!$C$40:$C$138,'ENTRATE-UI'!$B$40:$B$138,\"=*\" & RIGHT(B53,2)),\"\")","v":300},{"$f":"IF(B53<>\"\",SUMIFS('ENTRATE-UI'!$D$40:$D$138,'ENTRATE-UI'!$B$40:$B$138,\"=*\" & RIGHT(B53,2)),\"\")","v":0},{"$f":"IF(B53<>\"\",SUMIFS('ENTRATE-UI'!$E$40:$E$138,'ENTRATE-UI'!$B$40:$B$138,\"=*\" & RIGHT(B53,2)),\"\")","v":0},{"$f":"IF(B53<>\"\",SUMIFS('ENTRATE-UI'!$F$40:$F$138,'ENTRATE-UI'!$B$40:$B$138,\"=*\" & RIGHT(B53,2)),\"\")","v":300},{"$f":"IF(B53<>\"\",SUMIFS('ENTRATE-UI'!$G$40:$G$138,'ENTRATE-UI'!$B$40:$B$138,\"=*\" & RIGHT(B53,2)),\"\")","v":0}]
[{"$f":"IF(CONDOMINI!C25<>\"\",CONDOMINI!C25,\"\")","v":"CONDOMINO15"},{"$f":"IF(CONDOMINI!C25<>\"\",\"Q.nn.\" & RIGHT(CONDOMINI!B25,2),\"\")","v":"Q.nn.15"},{"$f":"IF(B54<>\"\",SUMIFS('ENTRATE-UI'!$C$40:$C$138,'ENTRATE-UI'!$B$40:$B$138,\"=*\" & RIGHT(B54,2)),\"\")","v":490},{"$f":"IF(B54<>\"\",SUMIFS('ENTRATE-UI'!$D$40:$D$138,'ENTRATE-UI'!$B$40:$B$138,\"=*\" & RIGHT(B54,2)),\"\")","v":290},{"$f":"IF(B54<>\"\",SUMIFS('ENTRATE-UI'!$E$40:$E$138,'ENTRATE-UI'!$B$40:$B$138,\"=*\" & RIGHT(B54,2)),\"\")","v":200},{"$f":"IF(B54<>\"\",SUMIFS('ENTRATE-UI'!$F$40:$F$138,'ENTRATE-UI'!$B$40:$B$138,\"=*\" & RIGHT(B54,2)),\"\")","v":0},{"$f":"IF(B54<>\"\",SUMIFS('ENTRATE-UI'!$G$40:$G$138,'ENTRATE-UI'!$B$40:$B$138,\"=*\" & RIGHT(B54,2)),\"\")","v":0}]
[{"$f":"IF(CONDOMINI!C26<>\"\",CONDOMINI!C26,\"\")","v":"CONDOMINO16"},{"$f":"IF(CONDOMINI!C26<>\"\",\"Q.nn.\" & RIGHT(CONDOMINI!B26,2),\"\")","v":"Q.nn.16"},{"$f":"IF(B55<>\"\",SUMIFS('ENTRATE-UI'!$C$40:$C$138,'ENTRATE-UI'!$B$40:$B$138,\"=*\" & RIGHT(B55,2)),\"\")","v":720},{"$f":"IF(B55<>\"\",SUMIFS('ENTRATE-UI'!$D$40:$D$138,'ENTRATE-UI'!$B$40:$B$138,\"=*\" & RIGHT(B55,2)),\"\")","v":720},{"$f":"IF(B55<>\"\",SUMIFS('ENTRATE-UI'!$E$40:$E$138,'ENTRATE-UI'!$B$40:$B$138,\"=*\" & RIGHT(B55,2)),\"\")","v":0},{"$f":"IF(B55<>\"\",SUMIFS('ENTRATE-UI'!$F$40:$F$138,'ENTRATE-UI'!$B$40:$B$138,\"=*\" & RIGHT(B55,2)),\"\")","v":0},{"$f":"IF(B55<>\"\",SUMIFS('ENTRATE-UI'!$G$40:$G$138,'ENTRATE-UI'!$B$40:$B$138,\"=*\" & RIGHT(B55,2)),\"\")","v":0}]
[{"$f":"IF(CONDOMINI!C27<>\"\",CONDOMINI!C27,\"\")","v":"CONDOMINO17"},{"$f":"IF(CONDOMINI!C27<>\"\",\"Q.nn.\" & RIGHT(CONDOMINI!B27,2),\"\")","v":"Q.nn.17"},{"$f":"IF(B56<>\"\",SUMIFS('ENTRATE-UI'!$C$40:$C$138,'ENTRATE-UI'!$B$40:$B$138,\"=*\" & RIGHT(B56,2)),\"\")","v":800},{"$f":"IF(B56<>\"\",SUMIFS('ENTRATE-UI'!$D$40:$D$138,'ENTRATE-UI'!$B$40:$B$138,\"=*\" & RIGHT(B56,2)),\"\")","v":300},{"$f":"IF(B56<>\"\",SUMIFS('ENTRATE-UI'!$E$40:$E$138,'ENTRATE-UI'!$B$40:$B$138,\"=*\" & RIGHT(B56,2)),\"\")","v":200},{"$f":"IF(B56<>\"\",SUMIFS('ENTRATE-UI'!$F$40:$F$138,'ENTRATE-UI'!$B$40:$B$138,\"=*\" & RIGHT(B56,2)),\"\")","v":300},{"$f":"IF(B56<>\"\",SUMIFS('ENTRATE-UI'!$G$40:$G$138,'ENTRATE-UI'!$B$40:$B$138,\"=*\" & RIGHT(B56,2)),\"\")","v":0}]
[{"$f":"IF(CONDOMINI!C28<>\"\",CONDOMINI!C28,\"\")","v":"CONDOMINO18"},{"$f":"IF(CONDOMINI!C28<>\"\",\"Q.nn.\" & RIGHT(CONDOMINI!B28,2),\"\")","v":"Q.nn.18"},{"$f":"IF(B57<>\"\",SUMIFS('ENTRATE-UI'!$C$40:$C$138,'ENTRATE-UI'!$B$40:$B$138,\"=*\" & RIGHT(B57,2)),\"\")","v":377},{"$f":"IF(B57<>\"\",SUMIFS('ENTRATE-UI'!$D$40:$D$138,'ENTRATE-UI'!$B$40:$B$138,\"=*\" & RIGHT(B57,2)),\"\")","v":0},{"$f":"IF(B57<>\"\",SUMIFS('ENTRATE-UI'!$E$40:$E$138,'ENTRATE-UI'!$B$40:$B$138,\"=*\" & RIGHT(B57,2)),\"\")","v":0},{"$f":"IF(B57<>\"\",SUMIFS('ENTRATE-UI'!$F$40:$F$138,'ENTRATE-UI'!$B$40:$B$138,\"=*\" & RIGHT(B57,2)),\"\")","v":377},{"$f":"IF(B57<>\"\",SUMIFS('ENTRATE-UI'!$G$40:$G$138,'ENTRATE-UI'!$B$40:$B$138,\"=*\" & RIGHT(B57,2)),\"\")","v":0}]
[{"$f":"IF(CONDOMINI!C29<>\"\",CONDOMINI!C29,\"\")","v":"CONDOMINO19"},{"$f":"IF(CONDOMINI!C29<>\"\",\"Q.nn.\" & RIGHT(CONDOMINI!B29,2),\"\")","v":"Q.nn.19"},{"$f":"IF(B58<>\"\",SUMIFS('ENTRATE-UI'!$C$40:$C$138,'ENTRATE-UI'!$B$40:$B$138,\"=*\" & RIGHT(B58,2)),\"\")","v":528},{"$f":"IF(B58<>\"\",SUMIFS('ENTRATE-UI'!$D$40:$D$138,'ENTRATE-UI'!$B$40:$B$138,\"=*\" & RIGHT(B58,2)),\"\")","v":270},{"$f":"IF(B58<>\"\",SUMIFS('ENTRATE-UI'!$E$40:$E$138,'ENTRATE-UI'!$B$40:$B$138,\"=*\" & RIGHT(B58,2)),\"\")","v":88},{"$f":"IF(B58<>\"\",SUMIFS('ENTRATE-UI'!$F$40:$F$138,'ENTRATE-UI'!$B$40:$B$138,\"=*\" & RIGHT(B58,2)),\"\")","v":170},{"$f":"IF(B58<>\"\",SUMIFS('ENTRATE-UI'!$G$40:$G$138,'ENTRATE-UI'!$B$40:$B$138,\"=*\" & RIGHT(B58,2)),\"\")","v":0}]
[{"$f":"IF(CONDOMINI!C30<>\"\",CONDOMINI!C30,\"\")","v":""},{"$f":"IF(CONDOMINI!C30<>\"\",\"Q.nn.\" & RIGHT(CONDOMINI!B30,2),\"\")","v":""},{"$f":"IF(B59<>\"\",SUMIFS('ENTRATE-UI'!$C$40:$C$138,'ENTRATE-UI'!$B$40:$B$138,\"=*\" & RIGHT(B59,2)),\"\")","v":""},{"$f":"IF(B59<>\"\",SUMIFS('ENTRATE-UI'!$D$40:$D$138,'ENTRATE-UI'!$B$40:$B$138,\"=*\" & RIGHT(B59,2)),\"\")","v":""},{"$f":"IF(B59<>\"\",SUMIFS('ENTRATE-UI'!$E$40:$E$138,'ENTRATE-UI'!$B$40:$B$138,\"=*\" & RIGHT(B59,2)),\"\")","v":""},{"$f":"IF(B59<>\"\",SUMIFS('ENTRATE-UI'!$F$40:$F$138,'ENTRATE-UI'!$B$40:$B$138,\"=*\" & RIGHT(B59,2)),\"\")","v":""},{"$f":"IF(B59<>\"\",SUMIFS('ENTRATE-UI'!$G$40:$G$138,'ENTRATE-UI'!$B$40:$B$138,\"=*\" & RIGHT(B59,2)),\"\")","v":""}]
[{"$f":"IF(CONDOMINI!C31<>\"\",CONDOMINI!C31,\"\")","v":""},{"$f":"IF(CONDOMINI!C31<>\"\",\"Q.nn.\" & RIGHT(CONDOMINI!B31,2),\"\")","v":""},{"$f":"IF(B60<>\"\",SUMIFS('ENTRATE-UI'!$C$40:$C$138,'ENTRATE-UI'!$B$40:$B$138,\"=*\" & RIGHT(B60,2)),\"\")","v":""},{"$f":"IF(B60<>\"\",SUMIFS('ENTRATE-UI'!$D$40:$D$138,'ENTRATE-UI'!$B$40:$B$138,\"=*\" & RIGHT(B60,2)),\"\")","v":""},{"$f":"IF(B60<>\"\",SUMIFS('ENTRATE-UI'!$E$40:$E$138,'ENTRATE-UI'!$B$40:$B$138,\"=*\" & RIGHT(B60,2)),\"\")","v":""},{"$f":"IF(B60<>\"\",SUMIFS('ENTRATE-UI'!$F$40:$F$138,'ENTRATE-UI'!$B$40:$B$138,\"=*\" & RIGHT(B60,2)),\"\")","v":""},{"$f":"IF(B60<>\"\",SUMIFS('ENTRATE-UI'!$G$40:$G$138,'ENTRATE-UI'!$B$40:$B$138,\"=*\" & RIGHT(B60,2)),\"\")","v":""}]
[{"$f":"IF(CONDOMINI!C32<>\"\",CONDOMINI!C32,\"\")","v":""},{"$f":"IF(CONDOMINI!C32<>\"\",\"Q.nn.\" & RIGHT(CONDOMINI!B32,2),\"\")","v":""},{"$f":"IF(B61<>\"\",SUMIFS('ENTRATE-UI'!$C$40:$C$138,'ENTRATE-UI'!$B$40:$B$138,\"=*\" & RIGHT(B61,2)),\"\")","v":""},{"$f":"IF(B61<>\"\",SUMIFS('ENTRATE-UI'!$D$40:$D$138,'ENTRATE-UI'!$B$40:$B$138,\"=*\" & RIGHT(B61,2)),\"\")","v":""},{"$f":"IF(B61<>\"\",SUMIFS('ENTRATE-UI'!$E$40:$E$138,'ENTRATE-UI'!$B$40:$B$138,\"=*\" & RIGHT(B61,2)),\"\")","v":""},{"$f":"IF(B61<>\"\",SUMIFS('ENTRATE-UI'!$F$40:$F$138,'ENTRATE-UI'!$B$40:$B$138,\"=*\" & RIGHT(B61,2)),\"\")","v":""},{"$f":"IF(B61<>\"\",SUMIFS('ENTRATE-UI'!$G$40:$G$138,'ENTRATE-UI'!$B$40:$B$138,\"=*\" & RIGHT(B61,2)),\"\")","v":""}]
[{"$f":"IF(CONDOMINI!C33<>\"\",CONDOMINI!C33,\"\")","v":""},{"$f":"IF(CONDOMINI!C33<>\"\",\"Q.nn.\" & RIGHT(CONDOMINI!B33,2),\"\")","v":""},{"$f":"IF(B62<>\"\",SUMIFS('ENTRATE-UI'!$C$40:$C$138,'ENTRATE-UI'!$B$40:$B$138,\"=*\" & RIGHT(B62,2)),\"\")","v":""},{"$f":"IF(B62<>\"\",SUMIFS('ENTRATE-UI'!$D$40:$D$138,'ENTRATE-UI'!$B$40:$B$138,\"=*\" & RIGHT(B62,2)),\"\")","v":""},{"$f":"IF(B62<>\"\",SUMIFS('ENTRATE-UI'!$E$40:$E$138,'ENTRATE-UI'!$B$40:$B$138,\"=*\" & RIGHT(B62,2)),\"\")","v":""},{"$f":"IF(B62<>\"\",SUMIFS('ENTRATE-UI'!$F$40:$F$138,'ENTRATE-UI'!$B$40:$B$138,\"=*\" & RIGHT(B62,2)),\"\")","v":""},{"$f":"IF(B62<>\"\",SUMIFS('ENTRATE-UI'!$G$40:$G$138,'ENTRATE-UI'!$B$40:$B$138,\"=*\" & RIGHT(B62,2)),\"\")","v":""}]
[{"$f":"IF(CONDOMINI!C34<>\"\",CONDOMINI!C34,\"\")","v":""},{"$f":"IF(CONDOMINI!C34<>\"\",\"Q.nn.\" & RIGHT(CONDOMINI!B34,2),\"\")","v":""},{"$f":"IF(B63<>\"\",SUMIFS('ENTRATE-UI'!$C$40:$C$138,'ENTRATE-UI'!$B$40:$B$138,\"=*\" & RIGHT(B63,2)),\"\")","v":""},{"$f":"IF(B63<>\"\",SUMIFS('ENTRATE-UI'!$D$40:$D$138,'ENTRATE-UI'!$B$40:$B$138,\"=*\" & RIGHT(B63,2)),\"\")","v":""},{"$f":"IF(B63<>\"\",SUMIFS('ENTRATE-UI'!$E$40:$E$138,'ENTRATE-UI'!$B$40:$B$138,\"=*\" & RIGHT(B63,2)),\"\")","v":""},{"$f":"IF(B63<>\"\",SUMIFS('ENTRATE-UI'!$F$40:$F$138,'ENTRATE-UI'!$B$40:$B$138,\"=*\" & RIGHT(B63,2)),\"\")","v":""},{"$f":"IF(B63<>\"\",SUMIFS('ENTRATE-UI'!$G$40:$G$138,'ENTRATE-UI'!$B$40:$B$138,\"=*\" & RIGHT(B63,2)),\"\")","v":""}]
[{"$f":"IF(CONDOMINI!C35<>\"\",CONDOMINI!C35,\"\")","v":""},{"$f":"IF(CONDOMINI!C35<>\"\",\"Q.nn.\" & RIGHT(CONDOMINI!B35,2),\"\")","v":""},{"$f":"IF(B64<>\"\",SUMIFS('ENTRATE-UI'!$C$40:$C$138,'ENTRATE-UI'!$B$40:$B$138,\"=*\" & RIGHT(B64,2)),\"\")","v":""},{"$f":"IF(B64<>\"\",SUMIFS('ENTRATE-UI'!$D$40:$D$138,'ENTRATE-UI'!$B$40:$B$138,\"=*\" & RIGHT(B64,2)),\"\")","v":""},{"$f":"IF(B64<>\"\",SUMIFS('ENTRATE-UI'!$E$40:$E$138,'ENTRATE-UI'!$B$40:$B$138,\"=*\" & RIGHT(B64,2)),\"\")","v":""},{"$f":"IF(B64<>\"\",SUMIFS('ENTRATE-UI'!$F$40:$F$138,'ENTRATE-UI'!$B$40:$B$138,\"=*\" & RIGHT(B64,2)),\"\")","v":""},{"$f":"IF(B64<>\"\",SUMIFS('ENTRATE-UI'!$G$40:$G$138,'ENTRATE-UI'!$B$40:$B$138,\"=*\" & RIGHT(B64,2)),\"\")","v":""}]
[{"$f":"IF(CONDOMINI!C36<>\"\",CONDOMINI!C36,\"\")","v":""},{"$f":"IF(CONDOMINI!C36<>\"\",\"Q.nn.\" & RIGHT(CONDOMINI!B36,2),\"\")","v":""},{"$f":"IF(B65<>\"\",SUMIFS('ENTRATE-UI'!$C$40:$C$138,'ENTRATE-UI'!$B$40:$B$138,\"=*\" & RIGHT(B65,2)),\"\")","v":""},{"$f":"IF(B65<>\"\",SUMIFS('ENTRATE-UI'!$D$40:$D$138,'ENTRATE-UI'!$B$40:$B$138,\"=*\" & RIGHT(B65,2)),\"\")","v":""},{"$f":"IF(B65<>\"\",SUMIFS('ENTRATE-UI'!$E$40:$E$138,'ENTRATE-UI'!$B$40:$B$138,\"=*\" & RIGHT(B65,2)),\"\")","v":""},{"$f":"IF(B65<>\"\",SUMIFS('ENTRATE-UI'!$F$40:$F$138,'ENTRATE-UI'!$B$40:$B$138,\"=*\" & RIGHT(B65,2)),\"\")","v":""},{"$f":"IF(B65<>\"\",SUMIFS('ENTRATE-UI'!$G$40:$G$138,'ENTRATE-UI'!$B$40:$B$138,\"=*\" & RIGHT(B65,2)),\"\")","v":""}]
[{"$f":"IF(CONDOMINI!C37<>\"\",CONDOMINI!C37,\"\")","v":""},{"$f":"IF(CONDOMINI!C37<>\"\",\"Q.nn.\" & RIGHT(CONDOMINI!B37,2),\"\")","v":""},{"$f":"IF(B66<>\"\",SUMIFS('ENTRATE-UI'!$C$40:$C$138,'ENTRATE-UI'!$B$40:$B$138,\"=*\" & RIGHT(B66,2)),\"\")","v":""},{"$f":"IF(B66<>\"\",SUMIFS('ENTRATE-UI'!$D$40:$D$138,'ENTRATE-UI'!$B$40:$B$138,\"=*\" & RIGHT(B66,2)),\"\")","v":""},{"$f":"IF(B66<>\"\",SUMIFS('ENTRATE-UI'!$E$40:$E$138,'ENTRATE-UI'!$B$40:$B$138,\"=*\" & RIGHT(B66,2)),\"\")","v":""},{"$f":"IF(B66<>\"\",SUMIFS('ENTRATE-UI'!$F$40:$F$138,'ENTRATE-UI'!$B$40:$B$138,\"=*\" & RIGHT(B66,2)),\"\")","v":""},{"$f":"IF(B66<>\"\",SUMIFS('ENTRATE-UI'!$G$40:$G$138,'ENTRATE-UI'!$B$40:$B$138,\"=*\" & RIGHT(B66,2)),\"\")","v":""}]
[{"$f":"IF(CONDOMINI!C38<>\"\",CONDOMINI!C38,\"\")","v":""},{"$f":"IF(CONDOMINI!C38<>\"\",\"Q.nn.\" & RIGHT(CONDOMINI!B38,2),\"\")","v":""},{"$f":"IF(B67<>\"\",SUMIFS('ENTRATE-UI'!$C$40:$C$138,'ENTRATE-UI'!$B$40:$B$138,\"=*\" & RIGHT(B67,2)),\"\")","v":""},{"$f":"IF(B67<>\"\",SUMIFS('ENTRATE-UI'!$D$40:$D$138,'ENTRATE-UI'!$B$40:$B$138,\"=*\" & RIGHT(B67,2)),\"\")","v":""},{"$f":"IF(B67<>\"\",SUMIFS('ENTRATE-UI'!$E$40:$E$138,'ENTRATE-UI'!$B$40:$B$138,\"=*\" & RIGHT(B67,2)),\"\")","v":""},{"$f":"IF(B67<>\"\",SUMIFS('ENTRATE-UI'!$F$40:$F$138,'ENTRATE-UI'!$B$40:$B$138,\"=*\" & RIGHT(B67,2)),\"\")","v":""},{"$f":"IF(B67<>\"\",SUMIFS('ENTRATE-UI'!$G$40:$G$138,'ENTRATE-UI'!$B$40:$B$138,\"=*\" & RIGHT(B67,2)),\"\")","v":""}]
[{"$f":"IF(CONDOMINI!C39<>\"\",CONDOMINI!C39,\"\")","v":""},{"$f":"IF(CONDOMINI!C39<>\"\",\"Q.nn.\" & RIGHT(CONDOMINI!B39,2),\"\")","v":""},{"$f":"IF(B68<>\"\",SUMIFS('ENTRATE-UI'!$C$40:$C$138,'ENTRATE-UI'!$B$40:$B$138,\"=*\" & RIGHT(B68,2)),\"\")","v":""},{"$f":"IF(B68<>\"\",SUMIFS('ENTRATE-UI'!$D$40:$D$138,'ENTRATE-UI'!$B$40:$B$138,\"=*\" & RIGHT(B68,2)),\"\")","v":""},{"$f":"IF(B68<>\"\",SUMIFS('ENTRATE-UI'!$E$40:$E$138,'ENTRATE-UI'!$B$40:$B$138,\"=*\" & RIGHT(B68,2)),\"\")","v":""},{"$f":"IF(B68<>\"\",SUMIFS('ENTRATE-UI'!$F$40:$F$138,'ENTRATE-UI'!$B$40:$B$138,\"=*\" & RIGHT(B68,2)),\"\")","v":""},{"$f":"IF(B68<>\"\",SUMIFS('ENTRATE-UI'!$G$40:$G$138,'ENTRATE-UI'!$B$40:$B$138,\"=*\" & RIGHT(B68,2)),\"\")","v":""}]
[{"$f":"IF(CONDOMINI!C40<>\"\",CONDOMINI!C40,\"\")","v":""},{"$f":"IF(CONDOMINI!C40<>\"\",\"Q.nn.\" & RIGHT(CONDOMINI!B40,2),\"\")","v":""},{"$f":"IF(B69<>\"\",SUMIFS('ENTRATE-UI'!$C$40:$C$138,'ENTRATE-UI'!$B$40:$B$138,\"=*\" & RIGHT(B69,2)),\"\")","v":""},{"$f":"IF(B69<>\"\",SUMIFS('ENTRATE-UI'!$D$40:$D$138,'ENTRATE-UI'!$B$40:$B$138,\"=*\" & RIGHT(B69,2)),\"\")","v":""},{"$f":"IF(B69<>\"\",SUMIFS('ENTRATE-UI'!$E$40:$E$138,'ENTRATE-UI'!$B$40:$B$138,\"=*\" & RIGHT(B69,2)),\"\")","v":""},{"$f":"IF(B69<>\"\",SUMIFS('ENTRATE-UI'!$F$40:$F$138,'ENTRATE-UI'!$B$40:$B$138,\"=*\" & RIGHT(B69,2)),\"\")","v":""},{"$f":"IF(B69<>\"\",SUMIFS('ENTRATE-UI'!$G$40:$G$138,'ENTRATE-UI'!$B$40:$B$138,\"=*\" & RIGHT(B69,2)),\"\")","v":""}]
[{"$f":"IF(CONDOMINI!C41<>\"\",CONDOMINI!C41,\"\")","v":""},{"$f":"IF(CONDOMINI!C41<>\"\",\"Q.nn.\" & RIGHT(CONDOMINI!B41,2),\"\")","v":""},{"$f":"IF(B70<>\"\",SUMIFS('ENTRATE-UI'!$C$40:$C$138,'ENTRATE-UI'!$B$40:$B$138,\"=*\" & RIGHT(B70,2)),\"\")","v":""},{"$f":"IF(B70<>\"\",SUMIFS('ENTRATE-UI'!$D$40:$D$138,'ENTRATE-UI'!$B$40:$B$138,\"=*\" & RIGHT(B70,2)),\"\")","v":""},{"$f":"IF(B70<>\"\",SUMIFS('ENTRATE-UI'!$E$40:$E$138,'ENTRATE-UI'!$B$40:$B$138,\"=*\" & RIGHT(B70,2)),\"\")","v":""},{"$f":"IF(B70<>\"\",SUMIFS('ENTRATE-UI'!$F$40:$F$138,'ENTRATE-UI'!$B$40:$B$138,\"=*\" & RIGHT(B70,2)),\"\")","v":""},{"$f":"IF(B70<>\"\",SUMIFS('ENTRATE-UI'!$G$40:$G$138,'ENTRATE-UI'!$B$40:$B$138,\"=*\" & RIGHT(B70,2)),\"\")","v":""}]
[{"$f":"IF(CONDOMINI!C42<>\"\",CONDOMINI!C42,\"\")","v":""},{"$f":"IF(CONDOMINI!C42<>\"\",\"Q.nn.\" & RIGHT(CONDOMINI!B42,2),\"\")","v":""},{"$f":"IF(B71<>\"\",SUMIFS('ENTRATE-UI'!$C$40:$C$138,'ENTRATE-UI'!$B$40:$B$138,\"=*\" & RIGHT(B71,2)),\"\")","v":""},{"$f":"IF(B71<>\"\",SUMIFS('ENTRATE-UI'!$D$40:$D$138,'ENTRATE-UI'!$B$40:$B$138,\"=*\" & RIGHT(B71,2)),\"\")","v":""},{"$f":"IF(B71<>\"\",SUMIFS('ENTRATE-UI'!$E$40:$E$138,'ENTRATE-UI'!$B$40:$B$138,\"=*\" & RIGHT(B71,2)),\"\")","v":""},{"$f":"IF(B71<>\"\",SUMIFS('ENTRATE-UI'!$F$40:$F$138,'ENTRATE-UI'!$B$40:$B$138,\"=*\" & RIGHT(B71,2)),\"\")","v":""},{"$f":"IF(B71<>\"\",SUMIFS('ENTRATE-UI'!$G$40:$G$138,'ENTRATE-UI'!$B$40:$B$138,\"=*\" & RIGHT(B71,2)),\"\")","v":""}]
[{"$f":"IF(CONDOMINI!C43<>\"\",CONDOMINI!C43,\"\")","v":""},{"$f":"IF(CONDOMINI!C43<>\"\",\"Q.nn.\" & RIGHT(CONDOMINI!B43,2),\"\")","v":""},{"$f":"IF(B72<>\"\",SUMIFS('ENTRATE-UI'!$C$40:$C$138,'ENTRATE-UI'!$B$40:$B$138,\"=*\" & RIGHT(B72,2)),\"\")","v":""},{"$f":"IF(B72<>\"\",SUMIFS('ENTRATE-UI'!$D$40:$D$138,'ENTRATE-UI'!$B$40:$B$138,\"=*\" & RIGHT(B72,2)),\"\")","v":""},{"$f":"IF(B72<>\"\",SUMIFS('ENTRATE-UI'!$E$40:$E$138,'ENTRATE-UI'!$B$40:$B$138,\"=*\" & RIGHT(B72,2)),\"\")","v":""},{"$f":"IF(B72<>\"\",SUMIFS('ENTRATE-UI'!$F$40:$F$138,'ENTRATE-UI'!$B$40:$B$138,\"=*\" & RIGHT(B72,2)),\"\")","v":""},{"$f":"IF(B72<>\"\",SUMIFS('ENTRATE-UI'!$G$40:$G$138,'ENTRATE-UI'!$B$40:$B$138,\"=*\" & RIGHT(B72,2)),\"\")","v":""}]
[{"$f":"IF(CONDOMINI!C44<>\"\",CONDOMINI!C44,\"\")","v":""},{"$f":"IF(CONDOMINI!C44<>\"\",\"Q.nn.\" & RIGHT(CONDOMINI!B44,2),\"\")","v":""},{"$f":"IF(B73<>\"\",SUMIFS('ENTRATE-UI'!$C$40:$C$138,'ENTRATE-UI'!$B$40:$B$138,\"=*\" & RIGHT(B73,2)),\"\")","v":""},{"$f":"IF(B73<>\"\",SUMIFS('ENTRATE-UI'!$D$40:$D$138,'ENTRATE-UI'!$B$40:$B$138,\"=*\" & RIGHT(B73,2)),\"\")","v":""},{"$f":"IF(B73<>\"\",SUMIFS('ENTRATE-UI'!$E$40:$E$138,'ENTRATE-UI'!$B$40:$B$138,\"=*\" & RIGHT(B73,2)),\"\")","v":""},{"$f":"IF(B73<>\"\",SUMIFS('ENTRATE-UI'!$F$40:$F$138,'ENTRATE-UI'!$B$40:$B$138,\"=*\" & RIGHT(B73,2)),\"\")","v":""},{"$f":"IF(B73<>\"\",SUMIFS('ENTRATE-UI'!$G$40:$G$138,'ENTRATE-UI'!$B$40:$B$138,\"=*\" & RIGHT(B73,2)),\"\")","v":""}]
[{"$f":"IF(CONDOMINI!C45<>\"\",CONDOMINI!C45,\"\")","v":""},{"$f":"IF(CONDOMINI!C45<>\"\",\"Q.nn.\" & RIGHT(CONDOMINI!B45,2),\"\")","v":""},{"$f":"IF(B74<>\"\",SUMIFS('ENTRATE-UI'!$C$40:$C$138,'ENTRATE-UI'!$B$40:$B$138,\"=*\" & RIGHT(B74,2)),\"\")","v":""},{"$f":"IF(B74<>\"\",SUMIFS('ENTRATE-UI'!$D$40:$D$138,'ENTRATE-UI'!$B$40:$B$138,\"=*\" & RIGHT(B74,2)),\"\")","v":""},{"$f":"IF(B74<>\"\",SUMIFS('ENTRATE-UI'!$E$40:$E$138,'ENTRATE-UI'!$B$40:$B$138,\"=*\" & RIGHT(B74,2)),\"\")","v":""},{"$f":"IF(B74<>\"\",SUMIFS('ENTRATE-UI'!$F$40:$F$138,'ENTRATE-UI'!$B$40:$B$138,\"=*\" & RIGHT(B74,2)),\"\")","v":""},{"$f":"IF(B74<>\"\",SUMIFS('ENTRATE-UI'!$G$40:$G$138,'ENTRATE-UI'!$B$40:$B$138,\"=*\" & RIGHT(B74,2)),\"\")","v":""}]
[{"$f":"IF(CONDOMINI!C46<>\"\",CONDOMINI!C46,\"\")","v":""},{"$f":"IF(CONDOMINI!C46<>\"\",\"Q.nn.\" & RIGHT(CONDOMINI!B46,2),\"\")","v":""},{"$f":"IF(B75<>\"\",SUMIFS('ENTRATE-UI'!$C$40:$C$138,'ENTRATE-UI'!$B$40:$B$138,\"=*\" & RIGHT(B75,2)),\"\")","v":""},{"$f":"IF(B75<>\"\",SUMIFS('ENTRATE-UI'!$D$40:$D$138,'ENTRATE-UI'!$B$40:$B$138,\"=*\" & RIGHT(B75,2)),\"\")","v":""},{"$f":"IF(B75<>\"\",SUMIFS('ENTRATE-UI'!$E$40:$E$138,'ENTRATE-UI'!$B$40:$B$138,\"=*\" & RIGHT(B75,2)),\"\")","v":""},{"$f":"IF(B75<>\"\",SUMIFS('ENTRATE-UI'!$F$40:$F$138,'ENTRATE-UI'!$B$40:$B$138,\"=*\" & RIGHT(B75,2)),\"\")","v":""},{"$f":"IF(B75<>\"\",SUMIFS('ENTRATE-UI'!$G$40:$G$138,'ENTRATE-UI'!$B$40:$B$138,\"=*\" & RIGHT(B75,2)),\"\")","v":""}]
[{"$f":"IF(CONDOMINI!C47<>\"\",CONDOMINI!C47,\"\")","v":""},{"$f":"IF(CONDOMINI!C47<>\"\",\"Q.nn.\" & RIGHT(CONDOMINI!B47,2),\"\")","v":""},{"$f":"IF(B76<>\"\",SUMIFS('ENTRATE-UI'!$C$40:$C$138,'ENTRATE-UI'!$B$40:$B$138,\"=*\" & RIGHT(B76,2)),\"\")","v":""},{"$f":"IF(B76<>\"\",SUMIFS('ENTRATE-UI'!$D$40:$D$138,'ENTRATE-UI'!$B$40:$B$138,\"=*\" & RIGHT(B76,2)),\"\")","v":""},{"$f":"IF(B76<>\"\",SUMIFS('ENTRATE-UI'!$E$40:$E$138,'ENTRATE-UI'!$B$40:$B$138,\"=*\" & RIGHT(B76,2)),\"\")","v":""},{"$f":"IF(B76<>\"\",SUMIFS('ENTRATE-UI'!$F$40:$F$138,'ENTRATE-UI'!$B$40:$B$138,\"=*\" & RIGHT(B76,2)),\"\")","v":""},{"$f":"IF(B76<>\"\",SUMIFS('ENTRATE-UI'!$G$40:$G$138,'ENTRATE-UI'!$B$40:$B$138,\"=*\" & RIGHT(B76,2)),\"\")","v":""}]
[{"$f":"IF(CONDOMINI!C48<>\"\",CONDOMINI!C48,\"\")","v":""},{"$f":"IF(CONDOMINI!C48<>\"\",\"Q.nn.\" & RIGHT(CONDOMINI!B48,2),\"\")","v":""},{"$f":"IF(B77<>\"\",SUMIFS('ENTRATE-UI'!$C$40:$C$138,'ENTRATE-UI'!$B$40:$B$138,\"=*\" & RIGHT(B77,2)),\"\")","v":""},{"$f":"IF(B77<>\"\",SUMIFS('ENTRATE-UI'!$D$40:$D$138,'ENTRATE-UI'!$B$40:$B$138,\"=*\" & RIGHT(B77,2)),\"\")","v":""},{"$f":"IF(B77<>\"\",SUMIFS('ENTRATE-UI'!$E$40:$E$138,'ENTRATE-UI'!$B$40:$B$138,\"=*\" & RIGHT(B77,2)),\"\")","v":""},{"$f":"IF(B77<>\"\",SUMIFS('ENTRATE-UI'!$F$40:$F$138,'ENTRATE-UI'!$B$40:$B$138,\"=*\" & RIGHT(B77,2)),\"\")","v":""},{"$f":"IF(B77<>\"\",SUMIFS('ENTRATE-UI'!$G$40:$G$138,'ENTRATE-UI'!$B$40:$B$138,\"=*\" & RIGHT(B77,2)),\"\")","v":""}]
[{"$f":"IF(CONDOMINI!C49<>\"\",CONDOMINI!C49,\"\")","v":""},{"$f":"IF(CONDOMINI!C49<>\"\",\"Q.nn.\" & RIGHT(CONDOMINI!B49,2),\"\")","v":""},{"$f":"IF(B78<>\"\",SUMIFS('ENTRATE-UI'!$C$40:$C$138,'ENTRATE-UI'!$B$40:$B$138,\"=*\" & RIGHT(B78,2)),\"\")","v":""},{"$f":"IF(B78<>\"\",SUMIFS('ENTRATE-UI'!$D$40:$D$138,'ENTRATE-UI'!$B$40:$B$138,\"=*\" & RIGHT(B78,2)),\"\")","v":""},{"$f":"IF(B78<>\"\",SUMIFS('ENTRATE-UI'!$E$40:$E$138,'ENTRATE-UI'!$B$40:$B$138,\"=*\" & RIGHT(B78,2)),\"\")","v":""},{"$f":"IF(B78<>\"\",SUMIFS('ENTRATE-UI'!$F$40:$F$138,'ENTRATE-UI'!$B$40:$B$138,\"=*\" & RIGHT(B78,2)),\"\")","v":""},{"$f":"IF(B78<>\"\",SUMIFS('ENTRATE-UI'!$G$40:$G$138,'ENTRATE-UI'!$B$40:$B$138,\"=*\" & RIGHT(B78,2)),\"\")","v":""}]
[{"$f":"IF(CONDOMINI!C50<>\"\",CONDOMINI!C50,\"\")","v":""},{"$f":"IF(CONDOMINI!C50<>\"\",\"Q.nn.\" & RIGHT(CONDOMINI!B50,2),\"\")","v":""},{"$f":"IF(B79<>\"\",SUMIFS('ENTRATE-UI'!$C$40:$C$138,'ENTRATE-UI'!$B$40:$B$138,\"=*\" & RIGHT(B79,2)),\"\")","v":""},{"$f":"IF(B79<>\"\",SUMIFS('ENTRATE-UI'!$D$40:$D$138,'ENTRATE-UI'!$B$40:$B$138,\"=*\" & RIGHT(B79,2)),\"\")","v":""},{"$f":"IF(B79<>\"\",SUMIFS('ENTRATE-UI'!$E$40:$E$138,'ENTRATE-UI'!$B$40:$B$138,\"=*\" & RIGHT(B79,2)),\"\")","v":""},{"$f":"IF(B79<>\"\",SUMIFS('ENTRATE-UI'!$F$40:$F$138,'ENTRATE-UI'!$B$40:$B$138,\"=*\" & RIGHT(B79,2)),\"\")","v":""},{"$f":"IF(B79<>\"\",SUMIFS('ENTRATE-UI'!$G$40:$G$138,'ENTRATE-UI'!$B$40:$B$138,\"=*\" & RIGHT(B79,2)),\"\")","v":""}]
[{"$f":"IF(CONDOMINI!C51<>\"\",CONDOMINI!C51,\"\")","v":""},{"$f":"IF(CONDOMINI!C51<>\"\",\"Q.nn.\" & RIGHT(CONDOMINI!B51,2),\"\")","v":""},{"$f":"IF(B80<>\"\",SUMIFS('ENTRATE-UI'!$C$40:$C$138,'ENTRATE-UI'!$B$40:$B$138,\"=*\" & RIGHT(B80,2)),\"\")","v":""},{"$f":"IF(B80<>\"\",SUMIFS('ENTRATE-UI'!$D$40:$D$138,'ENTRATE-UI'!$B$40:$B$138,\"=*\" & RIGHT(B80,2)),\"\")","v":""},{"$f":"IF(B80<>\"\",SUMIFS('ENTRATE-UI'!$E$40:$E$138,'ENTRATE-UI'!$B$40:$B$138,\"=*\" & RIGHT(B80,2)),\"\")","v":""},{"$f":"IF(B80<>\"\",SUMIFS('ENTRATE-UI'!$F$40:$F$138,'ENTRATE-UI'!$B$40:$B$138,\"=*\" & RIGHT(B80,2)),\"\")","v":""},{"$f":"IF(B80<>\"\",SUMIFS('ENTRATE-UI'!$G$40:$G$138,'ENTRATE-UI'!$B$40:$B$138,\"=*\" & RIGHT(B80,2)),\"\")","v":""}]
[{"$f":"IF(CONDOMINI!C52<>\"\",CONDOMINI!C52,\"\")","v":""},{"$f":"IF(CONDOMINI!C52<>\"\",\"Q.nn.\" & RIGHT(CONDOMINI!B52,2),\"\")","v":""},{"$f":"IF(B81<>\"\",SUMIFS('ENTRATE-UI'!$C$40:$C$138,'ENTRATE-UI'!$B$40:$B$138,\"=*\" & RIGHT(B81,2)),\"\")","v":""},{"$f":"IF(B81<>\"\",SUMIFS('ENTRATE-UI'!$D$40:$D$138,'ENTRATE-UI'!$B$40:$B$138,\"=*\" & RIGHT(B81,2)),\"\")","v":""},{"$f":"IF(B81<>\"\",SUMIFS('ENTRATE-UI'!$E$40:$E$138,'ENTRATE-UI'!$B$40:$B$138,\"=*\" & RIGHT(B81,2)),\"\")","v":""},{"$f":"IF(B81<>\"\",SUMIFS('ENTRATE-UI'!$F$40:$F$138,'ENTRATE-UI'!$B$40:$B$138,\"=*\" & RIGHT(B81,2)),\"\")","v":""},{"$f":"IF(B81<>\"\",SUMIFS('ENTRATE-UI'!$G$40:$G$138,'ENTRATE-UI'!$B$40:$B$138,\"=*\" & RIGHT(B81,2)),\"\")","v":""}]
[{"$f":"IF(CONDOMINI!C53<>\"\",CONDOMINI!C53,\"\")","v":""},{"$f":"IF(CONDOMINI!C53<>\"\",\"Q.nn.\" & RIGHT(CONDOMINI!B53,2),\"\")","v":""},{"$f":"IF(B82<>\"\",SUMIFS('ENTRATE-UI'!$C$40:$C$138,'ENTRATE-UI'!$B$40:$B$138,\"=*\" & RIGHT(B82,2)),\"\")","v":""},{"$f":"IF(B82<>\"\",SUMIFS('ENTRATE-UI'!$D$40:$D$138,'ENTRATE-UI'!$B$40:$B$138,\"=*\" & RIGHT(B82,2)),\"\")","v":""},{"$f":"IF(B82<>\"\",SUMIFS('ENTRATE-UI'!$E$40:$E$138,'ENTRATE-UI'!$B$40:$B$138,\"=*\" & RIGHT(B82,2)),\"\")","v":""},{"$f":"IF(B82<>\"\",SUMIFS('ENTRATE-UI'!$F$40:$F$138,'ENTRATE-UI'!$B$40:$B$138,\"=*\" & RIGHT(B82,2)),\"\")","v":""},{"$f":"IF(B82<>\"\",SUMIFS('ENTRATE-UI'!$G$40:$G$138,'ENTRATE-UI'!$B$40:$B$138,\"=*\" & RIGHT(B82,2)),\"\")","v":""}]
[{"$f":"IF(CONDOMINI!C54<>\"\",CONDOMINI!C54,\"\")","v":""},{"$f":"IF(CONDOMINI!C54<>\"\",\"Q.nn.\" & RIGHT(CONDOMINI!B54,2),\"\")","v":""},{"$f":"IF(B83<>\"\",SUMIFS('ENTRATE-UI'!$C$40:$C$138,'ENTRATE-UI'!$B$40:$B$138,\"=*\" & RIGHT(B83,2)),\"\")","v":""},{"$f":"IF(B83<>\"\",SUMIFS('ENTRATE-UI'!$D$40:$D$138,'ENTRATE-UI'!$B$40:$B$138,\"=*\" & RIGHT(B83,2)),\"\")","v":""},{"$f":"IF(B83<>\"\",SUMIFS('ENTRATE-UI'!$E$40:$E$138,'ENTRATE-UI'!$B$40:$B$138,\"=*\" & RIGHT(B83,2)),\"\")","v":""},{"$f":"IF(B83<>\"\",SUMIFS('ENTRATE-UI'!$F$40:$F$138,'ENTRATE-UI'!$B$40:$B$138,\"=*\" & RIGHT(B83,2)),\"\")","v":""},{"$f":"IF(B83<>\"\",SUMIFS('ENTRATE-UI'!$G$40:$G$138,'ENTRATE-UI'!$B$40:$B$138,\"=*\" & RIGHT(B83,2)),\"\")","v":""}]
[{"$f":"IF(CONDOMINI!C55<>\"\",CONDOMINI!C55,\"\")","v":""},{"$f":"IF(CONDOMINI!C55<>\"\",\"Q.nn.\" & RIGHT(CONDOMINI!B55,2),\"\")","v":""},{"$f":"IF(B84<>\"\",SUMIFS('ENTRATE-UI'!$C$40:$C$138,'ENTRATE-UI'!$B$40:$B$138,\"=*\" & RIGHT(B84,2)),\"\")","v":""},{"$f":"IF(B84<>\"\",SUMIFS('ENTRATE-UI'!$D$40:$D$138,'ENTRATE-UI'!$B$40:$B$138,\"=*\" & RIGHT(B84,2)),\"\")","v":""},{"$f":"IF(B84<>\"\",SUMIFS('ENTRATE-UI'!$E$40:$E$138,'ENTRATE-UI'!$B$40:$B$138,\"=*\" & RIGHT(B84,2)),\"\")","v":""},{"$f":"IF(B84<>\"\",SUMIFS('ENTRATE-UI'!$F$40:$F$138,'ENTRATE-UI'!$B$40:$B$138,\"=*\" & RIGHT(B84,2)),\"\")","v":""},{"$f":"IF(B84<>\"\",SUMIFS('ENTRATE-UI'!$G$40:$G$138,'ENTRATE-UI'!$B$40:$B$138,\"=*\" & RIGHT(B84,2)),\"\")","v":""}]
[{"$f":"IF(CONDOMINI!C56<>\"\",CONDOMINI!C56,\"\")","v":""},{"$f":"IF(CONDOMINI!C56<>\"\",\"Q.nn.\" & RIGHT(CONDOMINI!B56,2),\"\")","v":""},{"$f":"IF(B85<>\"\",SUMIFS('ENTRATE-UI'!$C$40:$C$138,'ENTRATE-UI'!$B$40:$B$138,\"=*\" & RIGHT(B85,2)),\"\")","v":""},{"$f":"IF(B85<>\"\",SUMIFS('ENTRATE-UI'!$D$40:$D$138,'ENTRATE-UI'!$B$40:$B$138,\"=*\" & RIGHT(B85,2)),\"\")","v":""},{"$f":"IF(B85<>\"\",SUMIFS('ENTRATE-UI'!$E$40:$E$138,'ENTRATE-UI'!$B$40:$B$138,\"=*\" & RIGHT(B85,2)),\"\")","v":""},{"$f":"IF(B85<>\"\",SUMIFS('ENTRATE-UI'!$F$40:$F$138,'ENTRATE-UI'!$B$40:$B$138,\"=*\" & RIGHT(B85,2)),\"\")","v":""},{"$f":"IF(B85<>\"\",SUMIFS('ENTRATE-UI'!$G$40:$G$138,'ENTRATE-UI'!$B$40:$B$138,\"=*\" & RIGHT(B85,2)),\"\")","v":""}]
[{"$f":"IF(CONDOMINI!C57<>\"\",CONDOMINI!C57,\"\")","v":""},{"$f":"IF(CONDOMINI!C57<>\"\",\"Q.nn.\" & RIGHT(CONDOMINI!B57,2),\"\")","v":""},{"$f":"IF(B86<>\"\",SUMIFS('ENTRATE-UI'!$C$40:$C$138,'ENTRATE-UI'!$B$40:$B$138,\"=*\" & RIGHT(B86,2)),\"\")","v":""},{"$f":"IF(B86<>\"\",SUMIFS('ENTRATE-UI'!$D$40:$D$138,'ENTRATE-UI'!$B$40:$B$138,\"=*\" & RIGHT(B86,2)),\"\")","v":""},{"$f":"IF(B86<>\"\",SUMIFS('ENTRATE-UI'!$E$40:$E$138,'ENTRATE-UI'!$B$40:$B$138,\"=*\" & RIGHT(B86,2)),\"\")","v":""},{"$f":"IF(B86<>\"\",SUMIFS('ENTRATE-UI'!$F$40:$F$138,'ENTRATE-UI'!$B$40:$B$138,\"=*\" & RIGHT(B86,2)),\"\")","v":""},{"$f":"IF(B86<>\"\",SUMIFS('ENTRATE-UI'!$G$40:$G$138,'ENTRATE-UI'!$B$40:$B$138,\"=*\" & RIGHT(B86,2)),\"\")","v":""}]
[{"$f":"IF(CONDOMINI!C58<>\"\",CONDOMINI!C58,\"\")","v":""},{"$f":"IF(CONDOMINI!C58<>\"\",\"Q.nn.\" & RIGHT(CONDOMINI!B58,2),\"\")","v":""},{"$f":"IF(B87<>\"\",SUMIFS('ENTRATE-UI'!$C$40:$C$138,'ENTRATE-UI'!$B$40:$B$138,\"=*\" & RIGHT(B87,2)),\"\")","v":""},{"$f":"IF(B87<>\"\",SUMIFS('ENTRATE-UI'!$D$40:$D$138,'ENTRATE-UI'!$B$40:$B$138,\"=*\" & RIGHT(B87,2)),\"\")","v":""},{"$f":"IF(B87<>\"\",SUMIFS('ENTRATE-UI'!$E$40:$E$138,'ENTRATE-UI'!$B$40:$B$138,\"=*\" & RIGHT(B87,2)),\"\")","v":""},{"$f":"IF(B87<>\"\",SUMIFS('ENTRATE-UI'!$F$40:$F$138,'ENTRATE-UI'!$B$40:$B$138,\"=*\" & RIGHT(B87,2)),\"\")","v":""},{"$f":"IF(B87<>\"\",SUMIFS('ENTRATE-UI'!$G$40:$G$138,'ENTRATE-UI'!$B$40:$B$138,\"=*\" & RIGHT(B87,2)),\"\")","v":""}]
[{"$f":"IF(CONDOMINI!C59<>\"\",CONDOMINI!C59,\"\")","v":""},{"$f":"IF(CONDOMINI!C59<>\"\",\"Q.nn.\" & RIGHT(CONDOMINI!B59,2),\"\")","v":""},{"$f":"IF(B88<>\"\",SUMIFS('ENTRATE-UI'!$C$40:$C$138,'ENTRATE-UI'!$B$40:$B$138,\"=*\" & RIGHT(B88,2)),\"\")","v":""},{"$f":"IF(B88<>\"\",SUMIFS('ENTRATE-UI'!$D$40:$D$138,'ENTRATE-UI'!$B$40:$B$138,\"=*\" & RIGHT(B88,2)),\"\")","v":""},{"$f":"IF(B88<>\"\",SUMIFS('ENTRATE-UI'!$E$40:$E$138,'ENTRATE-UI'!$B$40:$B$138,\"=*\" & RIGHT(B88,2)),\"\")","v":""},{"$f":"IF(B88<>\"\",SUMIFS('ENTRATE-UI'!$F$40:$F$138,'ENTRATE-UI'!$B$40:$B$138,\"=*\" & RIGHT(B88,2)),\"\")","v":""},{"$f":"IF(B88<>\"\",SUMIFS('ENTRATE-UI'!$G$40:$G$138,'ENTRATE-UI'!$B$40:$B$138,\"=*\" & RIGHT(B88,2)),\"\")","v":""}]
[{"$f":"IF(CONDOMINI!C60<>\"\",CONDOMINI!C60,\"\")","v":""},{"$f":"IF(CONDOMINI!C60<>\"\",\"Q.nn.\" & RIGHT(CONDOMINI!B60,2),\"\")","v":""},{"$f":"IF(B89<>\"\",SUMIFS('ENTRATE-UI'!$C$40:$C$138,'ENTRATE-UI'!$B$40:$B$138,\"=*\" & RIGHT(B89,2)),\"\")","v":""},{"$f":"IF(B89<>\"\",SUMIFS('ENTRATE-UI'!$D$40:$D$138,'ENTRATE-UI'!$B$40:$B$138,\"=*\" & RIGHT(B89,2)),\"\")","v":""},{"$f":"IF(B89<>\"\",SUMIFS('ENTRATE-UI'!$E$40:$E$138,'ENTRATE-UI'!$B$40:$B$138,\"=*\" & RIGHT(B89,2)),\"\")","v":""},{"$f":"IF(B89<>\"\",SUMIFS('ENTRATE-UI'!$F$40:$F$138,'ENTRATE-UI'!$B$40:$B$138,\"=*\" & RIGHT(B89,2)),\"\")","v":""},{"$f":"IF(B89<>\"\",SUMIFS('ENTRATE-UI'!$G$40:$G$138,'ENTRATE-UI'!$B$40:$B$138,\"=*\" & RIGHT(B89,2)),\"\")","v":""}]
[{"$f":"IF(CONDOMINI!C61<>\"\",CONDOMINI!C61,\"\")","v":""},{"$f":"IF(CONDOMINI!C61<>\"\",\"Q.nn.\" & RIGHT(CONDOMINI!B61,2),\"\")","v":""},{"$f":"IF(B90<>\"\",SUMIFS('ENTRATE-UI'!$C$40:$C$138,'ENTRATE-UI'!$B$40:$B$138,\"=*\" & RIGHT(B90,2)),\"\")","v":""},{"$f":"IF(B90<>\"\",SUMIFS('ENTRATE-UI'!$D$40:$D$138,'ENTRATE-UI'!$B$40:$B$138,\"=*\" & RIGHT(B90,2)),\"\")","v":""},{"$f":"IF(B90<>\"\",SUMIFS('ENTRATE-UI'!$E$40:$E$138,'ENTRATE-UI'!$B$40:$B$138,\"=*\" & RIGHT(B90,2)),\"\")","v":""},{"$f":"IF(B90<>\"\",SUMIFS('ENTRATE-UI'!$F$40:$F$138,'ENTRATE-UI'!$B$40:$B$138,\"=*\" & RIGHT(B90,2)),\"\")","v":""},{"$f":"IF(B90<>\"\",SUMIFS('ENTRATE-UI'!$G$40:$G$138,'ENTRATE-UI'!$B$40:$B$138,\"=*\" & RIGHT(B90,2)),\"\")","v":""}]
[{"$f":"IF(CONDOMINI!C62<>\"\",CONDOMINI!C62,\"\")","v":""},{"$f":"IF(CONDOMINI!C62<>\"\",\"Q.nn.\" & RIGHT(CONDOMINI!B62,2),\"\")","v":""},{"$f":"IF(B91<>\"\",SUMIFS('ENTRATE-UI'!$C$40:$C$138,'ENTRATE-UI'!$B$40:$B$138,\"=*\" & RIGHT(B91,2)),\"\")","v":""},{"$f":"IF(B91<>\"\",SUMIFS('ENTRATE-UI'!$D$40:$D$138,'ENTRATE-UI'!$B$40:$B$138,\"=*\" & RIGHT(B91,2)),\"\")","v":""},{"$f":"IF(B91<>\"\",SUMIFS('ENTRATE-UI'!$E$40:$E$138,'ENTRATE-UI'!$B$40:$B$138,\"=*\" & RIGHT(B91,2)),\"\")","v":""},{"$f":"IF(B91<>\"\",SUMIFS('ENTRATE-UI'!$F$40:$F$138,'ENTRATE-UI'!$B$40:$B$138,\"=*\" & RIGHT(B91,2)),\"\")","v":""},{"$f":"IF(B91<>\"\",SUMIFS('ENTRATE-UI'!$G$40:$G$138,'ENTRATE-UI'!$B$40:$B$138,\"=*\" & RIGHT(B91,2)),\"\")","v":""}]
[{"$f":"IF(CONDOMINI!C63<>\"\",CONDOMINI!C63,\"\")","v":""},{"$f":"IF(CONDOMINI!C63<>\"\",\"Q.nn.\" & RIGHT(CONDOMINI!B63,2),\"\")","v":""},{"$f":"IF(B92<>\"\",SUMIFS('ENTRATE-UI'!$C$40:$C$138,'ENTRATE-UI'!$B$40:$B$138,\"=*\" & RIGHT(B92,2)),\"\")","v":""},{"$f":"IF(B92<>\"\",SUMIFS('ENTRATE-UI'!$D$40:$D$138,'ENTRATE-UI'!$B$40:$B$138,\"=*\" & RIGHT(B92,2)),\"\")","v":""},{"$f":"IF(B92<>\"\",SUMIFS('ENTRATE-UI'!$E$40:$E$138,'ENTRATE-UI'!$B$40:$B$138,\"=*\" & RIGHT(B92,2)),\"\")","v":""},{"$f":"IF(B92<>\"\",SUMIFS('ENTRATE-UI'!$F$40:$F$138,'ENTRATE-UI'!$B$40:$B$138,\"=*\" & RIGHT(B92,2)),\"\")","v":""},{"$f":"IF(B92<>\"\",SUMIFS('ENTRATE-UI'!$G$40:$G$138,'ENTRATE-UI'!$B$40:$B$138,\"=*\" & RIGHT(B92,2)),\"\")","v":""}]
[{"$f":"IF(CONDOMINI!C64<>\"\",CONDOMINI!C64,\"\")","v":""},{"$f":"IF(CONDOMINI!C64<>\"\",\"Q.nn.\" & RIGHT(CONDOMINI!B64,2),\"\")","v":""},{"$f":"IF(B93<>\"\",SUMIFS('ENTRATE-UI'!$C$40:$C$138,'ENTRATE-UI'!$B$40:$B$138,\"=*\" & RIGHT(B93,2)),\"\")","v":""},{"$f":"IF(B93<>\"\",SUMIFS('ENTRATE-UI'!$D$40:$D$138,'ENTRATE-UI'!$B$40:$B$138,\"=*\" & RIGHT(B93,2)),\"\")","v":""},{"$f":"IF(B93<>\"\",SUMIFS('ENTRATE-UI'!$E$40:$E$138,'ENTRATE-UI'!$B$40:$B$138,\"=*\" & RIGHT(B93,2)),\"\")","v":""},{"$f":"IF(B93<>\"\",SUMIFS('ENTRATE-UI'!$F$40:$F$138,'ENTRATE-UI'!$B$40:$B$138,\"=*\" & RIGHT(B93,2)),\"\")","v":""},{"$f":"IF(B93<>\"\",SUMIFS('ENTRATE-UI'!$G$40:$G$138,'ENTRATE-UI'!$B$40:$B$138,\"=*\" & RIGHT(B93,2)),\"\")","v":""}]
[{"$f":"IF(CONDOMINI!C65<>\"\",CONDOMINI!C65,\"\")","v":""},{"$f":"IF(CONDOMINI!C65<>\"\",\"Q.nn.\" & RIGHT(CONDOMINI!B65,2),\"\")","v":""},{"$f":"IF(B94<>\"\",SUMIFS('ENTRATE-UI'!$C$40:$C$138,'ENTRATE-UI'!$B$40:$B$138,\"=*\" & RIGHT(B94,2)),\"\")","v":""},{"$f":"IF(B94<>\"\",SUMIFS('ENTRATE-UI'!$D$40:$D$138,'ENTRATE-UI'!$B$40:$B$138,\"=*\" & RIGHT(B94,2)),\"\")","v":""},{"$f":"IF(B94<>\"\",SUMIFS('ENTRATE-UI'!$E$40:$E$138,'ENTRATE-UI'!$B$40:$B$138,\"=*\" & RIGHT(B94,2)),\"\")","v":""},{"$f":"IF(B94<>\"\",SUMIFS('ENTRATE-UI'!$F$40:$F$138,'ENTRATE-UI'!$B$40:$B$138,\"=*\" & RIGHT(B94,2)),\"\")","v":""},{"$f":"IF(B94<>\"\",SUMIFS('ENTRATE-UI'!$G$40:$G$138,'ENTRATE-UI'!$B$40:$B$138,\"=*\" & RIGHT(B94,2)),\"\")","v":""}]
[{"$f":"IF(CONDOMINI!C66<>\"\",CONDOMINI!C66,\"\")","v":""},{"$f":"IF(CONDOMINI!C66<>\"\",\"Q.nn.\" & RIGHT(CONDOMINI!B66,2),\"\")","v":""},{"$f":"IF(B95<>\"\",SUMIFS('ENTRATE-UI'!$C$40:$C$138,'ENTRATE-UI'!$B$40:$B$138,\"=*\" & RIGHT(B95,2)),\"\")","v":""},{"$f":"IF(B95<>\"\",SUMIFS('ENTRATE-UI'!$D$40:$D$138,'ENTRATE-UI'!$B$40:$B$138,\"=*\" & RIGHT(B95,2)),\"\")","v":""},{"$f":"IF(B95<>\"\",SUMIFS('ENTRATE-UI'!$E$40:$E$138,'ENTRATE-UI'!$B$40:$B$138,\"=*\" & RIGHT(B95,2)),\"\")","v":""},{"$f":"IF(B95<>\"\",SUMIFS('ENTRATE-UI'!$F$40:$F$138,'ENTRATE-UI'!$B$40:$B$138,\"=*\" & RIGHT(B95,2)),\"\")","v":""},{"$f":"IF(B95<>\"\",SUMIFS('ENTRATE-UI'!$G$40:$G$138,'ENTRATE-UI'!$B$40:$B$138,\"=*\" & RIGHT(B95,2)),\"\")","v":""}]
[{"$f":"IF(CONDOMINI!C67<>\"\",CONDOMINI!C67,\"\")","v":""},{"$f":"IF(CONDOMINI!C67<>\"\",\"Q.nn.\" & RIGHT(CONDOMINI!B67,2),\"\")","v":""},{"$f":"IF(B96<>\"\",SUMIFS('ENTRATE-UI'!$C$40:$C$138,'ENTRATE-UI'!$B$40:$B$138,\"=*\" & RIGHT(B96,2)),\"\")","v":""},{"$f":"IF(B96<>\"\",SUMIFS('ENTRATE-UI'!$D$40:$D$138,'ENTRATE-UI'!$B$40:$B$138,\"=*\" & RIGHT(B96,2)),\"\")","v":""},{"$f":"IF(B96<>\"\",SUMIFS('ENTRATE-UI'!$E$40:$E$138,'ENTRATE-UI'!$B$40:$B$138,\"=*\" & RIGHT(B96,2)),\"\")","v":""},{"$f":"IF(B96<>\"\",SUMIFS('ENTRATE-UI'!$F$40:$F$138,'ENTRATE-UI'!$B$40:$B$138,\"=*\" & RIGHT(B96,2)),\"\")","v":""},{"$f":"IF(B96<>\"\",SUMIFS('ENTRATE-UI'!$G$40:$G$138,'ENTRATE-UI'!$B$40:$B$138,\"=*\" & RIGHT(B96,2)),\"\")","v":""}]
[{"$f":"IF(CONDOMINI!C68<>\"\",CONDOMINI!C68,\"\")","v":""},{"$f":"IF(CONDOMINI!C68<>\"\",\"Q.nn.\" & RIGHT(CONDOMINI!B68,2),\"\")","v":""},{"$f":"IF(B97<>\"\",SUMIFS('ENTRATE-UI'!$C$40:$C$138,'ENTRATE-UI'!$B$40:$B$138,\"=*\" & RIGHT(B97,2)),\"\")","v":""},{"$f":"IF(B97<>\"\",SUMIFS('ENTRATE-UI'!$D$40:$D$138,'ENTRATE-UI'!$B$40:$B$138,\"=*\" & RIGHT(B97,2)),\"\")","v":""},{"$f":"IF(B97<>\"\",SUMIFS('ENTRATE-UI'!$E$40:$E$138,'ENTRATE-UI'!$B$40:$B$138,\"=*\" & RIGHT(B97,2)),\"\")","v":""},{"$f":"IF(B97<>\"\",SUMIFS('ENTRATE-UI'!$F$40:$F$138,'ENTRATE-UI'!$B$40:$B$138,\"=*\" & RIGHT(B97,2)),\"\")","v":""},{"$f":"IF(B97<>\"\",SUMIFS('ENTRATE-UI'!$G$40:$G$138,'ENTRATE-UI'!$B$40:$B$138,\"=*\" & RIGHT(B97,2)),\"\")","v":""}]
[{"$f":"IF(CONDOMINI!C69<>\"\",CONDOMINI!C69,\"\")","v":""},{"$f":"IF(CONDOMINI!C69<>\"\",\"Q.nn.\" & RIGHT(CONDOMINI!B69,2),\"\")","v":""},{"$f":"IF(B98<>\"\",SUMIFS('ENTRATE-UI'!$C$40:$C$138,'ENTRATE-UI'!$B$40:$B$138,\"=*\" & RIGHT(B98,2)),\"\")","v":""},{"$f":"IF(B98<>\"\",SUMIFS('ENTRATE-UI'!$D$40:$D$138,'ENTRATE-UI'!$B$40:$B$138,\"=*\" & RIGHT(B98,2)),\"\")","v":""},{"$f":"IF(B98<>\"\",SUMIFS('ENTRATE-UI'!$E$40:$E$138,'ENTRATE-UI'!$B$40:$B$138,\"=*\" & RIGHT(B98,2)),\"\")","v":""},{"$f":"IF(B98<>\"\",SUMIFS('ENTRATE-UI'!$F$40:$F$138,'ENTRATE-UI'!$B$40:$B$138,\"=*\" & RIGHT(B98,2)),\"\")","v":""},{"$f":"IF(B98<>\"\",SUMIFS('ENTRATE-UI'!$G$40:$G$138,'ENTRATE-UI'!$B$40:$B$138,\"=*\" & RIGHT(B98,2)),\"\")","v":""}]
[{"$f":"IF(CONDOMINI!C70<>\"\",CONDOMINI!C70,\"\")","v":""},{"$f":"IF(CONDOMINI!C70<>\"\",\"Q.nn.\" & RIGHT(CONDOMINI!B70,2),\"\")","v":""},{"$f":"IF(B99<>\"\",SUMIFS('ENTRATE-UI'!$C$40:$C$138,'ENTRATE-UI'!$B$40:$B$138,\"=*\" & RIGHT(B99,2)),\"\")","v":""},{"$f":"IF(B99<>\"\",SUMIFS('ENTRATE-UI'!$D$40:$D$138,'ENTRATE-UI'!$B$40:$B$138,\"=*\" & RIGHT(B99,2)),\"\")","v":""},{"$f":"IF(B99<>\"\",SUMIFS('ENTRATE-UI'!$E$40:$E$138,'ENTRATE-UI'!$B$40:$B$138,\"=*\" & RIGHT(B99,2)),\"\")","v":""},{"$f":"IF(B99<>\"\",SUMIFS('ENTRATE-UI'!$F$40:$F$138,'ENTRATE-UI'!$B$40:$B$138,\"=*\" & RIGHT(B99,2)),\"\")","v":""},{"$f":"IF(B99<>\"\",SUMIFS('ENTRATE-UI'!$G$40:$G$138,'ENTRATE-UI'!$B$40:$B$138,\"=*\" & RIGHT(B99,2)),\"\")","v":""}]
[{"$f":"IF(CONDOMINI!C71<>\"\",CONDOMINI!C71,\"\")","v":""},{"$f":"IF(CONDOMINI!C71<>\"\",\"Q.nn.\" & RIGHT(CONDOMINI!B71,2),\"\")","v":""},{"$f":"IF(B100<>\"\",SUMIFS('ENTRATE-UI'!$C$40:$C$138,'ENTRATE-UI'!$B$40:$B$138,\"=*\" & RIGHT(B100,2)),\"\")","v":""},{"$f":"IF(B100<>\"\",SUMIFS('ENTRATE-UI'!$D$40:$D$138,'ENTRATE-UI'!$B$40:$B$138,\"=*\" & RIGHT(B100,2)),\"\")","v":""},{"$f":"IF(B100<>\"\",SUMIFS('ENTRATE-UI'!$E$40:$E$138,'ENTRATE-UI'!$B$40:$B$138,\"=*\" & RIGHT(B100,2)),\"\")","v":""},{"$f":"IF(B100<>\"\",SUMIFS('ENTRATE-UI'!$F$40:$F$138,'ENTRATE-UI'!$B$40:$B$138,\"=*\" & RIGHT(B100,2)),\"\")","v":""},{"$f":"IF(B100<>\"\",SUMIFS('ENTRATE-UI'!$G$40:$G$138,'ENTRATE-UI'!$B$40:$B$138,\"=*\" & RIGHT(B100,2)),\"\")","v":""}]
[{"$f":"IF(CONDOMINI!C72<>\"\",CONDOMINI!C72,\"\")","v":""},{"$f":"IF(CONDOMINI!C72<>\"\",\"Q.nn.\" & RIGHT(CONDOMINI!B72,2),\"\")","v":""},{"$f":"IF(B101<>\"\",SUMIFS('ENTRATE-UI'!$C$40:$C$138,'ENTRATE-UI'!$B$40:$B$138,\"=*\" & RIGHT(B101,2)),\"\")","v":""},{"$f":"IF(B101<>\"\",SUMIFS('ENTRATE-UI'!$D$40:$D$138,'ENTRATE-UI'!$B$40:$B$138,\"=*\" & RIGHT(B101,2)),\"\")","v":""},{"$f":"IF(B101<>\"\",SUMIFS('ENTRATE-UI'!$E$40:$E$138,'ENTRATE-UI'!$B$40:$B$138,\"=*\" & RIGHT(B101,2)),\"\")","v":""},{"$f":"IF(B101<>\"\",SUMIFS('ENTRATE-UI'!$F$40:$F$138,'ENTRATE-UI'!$B$40:$B$138,\"=*\" & RIGHT(B101,2)),\"\")","v":""},{"$f":"IF(B101<>\"\",SUMIFS('ENTRATE-UI'!$G$40:$G$138,'ENTRATE-UI'!$B$40:$B$138,\"=*\" & RIGHT(B101,2)),\"\")","v":""}]
[{"$f":"IF(CONDOMINI!C73<>\"\",CONDOMINI!C73,\"\")","v":""},{"$f":"IF(CONDOMINI!C73<>\"\",\"Q.nn.\" & RIGHT(CONDOMINI!B73,2),\"\")","v":""},{"$f":"IF(B102<>\"\",SUMIFS('ENTRATE-UI'!$C$40:$C$138,'ENTRATE-UI'!$B$40:$B$138,\"=*\" & RIGHT(B102,2)),\"\")","v":""},{"$f":"IF(B102<>\"\",SUMIFS('ENTRATE-UI'!$D$40:$D$138,'ENTRATE-UI'!$B$40:$B$138,\"=*\" & RIGHT(B102,2)),\"\")","v":""},{"$f":"IF(B102<>\"\",SUMIFS('ENTRATE-UI'!$E$40:$E$138,'ENTRATE-UI'!$B$40:$B$138,\"=*\" & RIGHT(B102,2)),\"\")","v":""},{"$f":"IF(B102<>\"\",SUMIFS('ENTRATE-UI'!$F$40:$F$138,'ENTRATE-UI'!$B$40:$B$138,\"=*\" & RIGHT(B102,2)),\"\")","v":""},{"$f":"IF(B102<>\"\",SUMIFS('ENTRATE-UI'!$G$40:$G$138,'ENTRATE-UI'!$B$40:$B$138,\"=*\" & RIGHT(B102,2)),\"\")","v":""}]
[{"$f":"IF(CONDOMINI!C74<>\"\",CONDOMINI!C74,\"\")","v":""},{"$f":"IF(CONDOMINI!C74<>\"\",\"Q.nn.\" & RIGHT(CONDOMINI!B74,2),\"\")","v":""},{"$f":"IF(B103<>\"\",SUMIFS('ENTRATE-UI'!$C$40:$C$138,'ENTRATE-UI'!$B$40:$B$138,\"=*\" & RIGHT(B103,2)),\"\")","v":""},{"$f":"IF(B103<>\"\",SUMIFS('ENTRATE-UI'!$D$40:$D$138,'ENTRATE-UI'!$B$40:$B$138,\"=*\" & RIGHT(B103,2)),\"\")","v":""},{"$f":"IF(B103<>\"\",SUMIFS('ENTRATE-UI'!$E$40:$E$138,'ENTRATE-UI'!$B$40:$B$138,\"=*\" & RIGHT(B103,2)),\"\")","v":""},{"$f":"IF(B103<>\"\",SUMIFS('ENTRATE-UI'!$F$40:$F$138,'ENTRATE-UI'!$B$40:$B$138,\"=*\" & RIGHT(B103,2)),\"\")","v":""},{"$f":"IF(B103<>\"\",SUMIFS('ENTRATE-UI'!$G$40:$G$138,'ENTRATE-UI'!$B$40:$B$138,\"=*\" & RIGHT(B103,2)),\"\")","v":""}]
[{"$f":"IF(CONDOMINI!C75<>\"\",CONDOMINI!C75,\"\")","v":""},{"$f":"IF(CONDOMINI!C75<>\"\",\"Q.nn.\" & RIGHT(CONDOMINI!B75,2),\"\")","v":""},{"$f":"IF(B104<>\"\",SUMIFS('ENTRATE-UI'!$C$40:$C$138,'ENTRATE-UI'!$B$40:$B$138,\"=*\" & RIGHT(B104,2)),\"\")","v":""},{"$f":"IF(B104<>\"\",SUMIFS('ENTRATE-UI'!$D$40:$D$138,'ENTRATE-UI'!$B$40:$B$138,\"=*\" & RIGHT(B104,2)),\"\")","v":""},{"$f":"IF(B104<>\"\",SUMIFS('ENTRATE-UI'!$E$40:$E$138,'ENTRATE-UI'!$B$40:$B$138,\"=*\" & RIGHT(B104,2)),\"\")","v":""},{"$f":"IF(B104<>\"\",SUMIFS('ENTRATE-UI'!$F$40:$F$138,'ENTRATE-UI'!$B$40:$B$138,\"=*\" & RIGHT(B104,2)),\"\")","v":""},{"$f":"IF(B104<>\"\",SUMIFS('ENTRATE-UI'!$G$40:$G$138,'ENTRATE-UI'!$B$40:$B$138,\"=*\" & RIGHT(B104,2)),\"\")","v":""}]
[{"$f":"IF(CONDOMINI!C76<>\"\",CONDOMINI!C76,\"\")","v":""},{"$f":"IF(CONDOMINI!C76<>\"\",\"Q.nn.\" & RIGHT(CONDOMINI!B76,2),\"\")","v":""},{"$f":"IF(B105<>\"\",SUMIFS('ENTRATE-UI'!$C$40:$C$138,'ENTRATE-UI'!$B$40:$B$138,\"=*\" & RIGHT(B105,2)),\"\")","v":""},{"$f":"IF(B105<>\"\",SUMIFS('ENTRATE-UI'!$D$40:$D$138,'ENTRATE-UI'!$B$40:$B$138,\"=*\" & RIGHT(B105,2)),\"\")","v":""},{"$f":"IF(B105<>\"\",SUMIFS('ENTRATE-UI'!$E$40:$E$138,'ENTRATE-UI'!$B$40:$B$138,\"=*\" & RIGHT(B105,2)),\"\")","v":""},{"$f":"IF(B105<>\"\",SUMIFS('ENTRATE-UI'!$F$40:$F$138,'ENTRATE-UI'!$B$40:$B$138,\"=*\" & RIGHT(B105,2)),\"\")","v":""},{"$f":"IF(B105<>\"\",SUMIFS('ENTRATE-UI'!$G$40:$G$138,'ENTRATE-UI'!$B$40:$B$138,\"=*\" & RIGHT(B105,2)),\"\")","v":""}]
[{"$f":"IF(CONDOMINI!C77<>\"\",CONDOMINI!C77,\"\")","v":""},{"$f":"IF(CONDOMINI!C77<>\"\",\"Q.nn.\" & RIGHT(CONDOMINI!B77,2),\"\")","v":""},{"$f":"IF(B106<>\"\",SUMIFS('ENTRATE-UI'!$C$40:$C$138,'ENTRATE-UI'!$B$40:$B$138,\"=*\" & RIGHT(B106,2)),\"\")","v":""},{"$f":"IF(B106<>\"\",SUMIFS('ENTRATE-UI'!$D$40:$D$138,'ENTRATE-UI'!$B$40:$B$138,\"=*\" & RIGHT(B106,2)),\"\")","v":""},{"$f":"IF(B106<>\"\",SUMIFS('ENTRATE-UI'!$E$40:$E$138,'ENTRATE-UI'!$B$40:$B$138,\"=*\" & RIGHT(B106,2)),\"\")","v":""},{"$f":"IF(B106<>\"\",SUMIFS('ENTRATE-UI'!$F$40:$F$138,'ENTRATE-UI'!$B$40:$B$138,\"=*\" & RIGHT(B106,2)),\"\")","v":""},{"$f":"IF(B106<>\"\",SUMIFS('ENTRATE-UI'!$G$40:$G$138,'ENTRATE-UI'!$B$40:$B$138,\"=*\" & RIGHT(B106,2)),\"\")","v":""}]
[{"$f":"IF(CONDOMINI!C78<>\"\",CONDOMINI!C78,\"\")","v":""},{"$f":"IF(CONDOMINI!C78<>\"\",\"Q.nn.\" & RIGHT(CONDOMINI!B78,2),\"\")","v":""},{"$f":"IF(B107<>\"\",SUMIFS('ENTRATE-UI'!$C$40:$C$138,'ENTRATE-UI'!$B$40:$B$138,\"=*\" & RIGHT(B107,2)),\"\")","v":""},{"$f":"IF(B107<>\"\",SUMIFS('ENTRATE-UI'!$D$40:$D$138,'ENTRATE-UI'!$B$40:$B$138,\"=*\" & RIGHT(B107,2)),\"\")","v":""},{"$f":"IF(B107<>\"\",SUMIFS('ENTRATE-UI'!$E$40:$E$138,'ENTRATE-UI'!$B$40:$B$138,\"=*\" & RIGHT(B107,2)),\"\")","v":""},{"$f":"IF(B107<>\"\",SUMIFS('ENTRATE-UI'!$F$40:$F$138,'ENTRATE-UI'!$B$40:$B$138,\"=*\" & RIGHT(B107,2)),\"\")","v":""},{"$f":"IF(B107<>\"\",SUMIFS('ENTRATE-UI'!$G$40:$G$138,'ENTRATE-UI'!$B$40:$B$138,\"=*\" & RIGHT(B107,2)),\"\")","v":""}]
[{"$f":"IF(CONDOMINI!C79<>\"\",CONDOMINI!C79,\"\")","v":""},{"$f":"IF(CONDOMINI!C79<>\"\",\"Q.nn.\" & RIGHT(CONDOMINI!B79,2),\"\")","v":""},{"$f":"IF(B108<>\"\",SUMIFS('ENTRATE-UI'!$C$40:$C$138,'ENTRATE-UI'!$B$40:$B$138,\"=*\" & RIGHT(B108,2)),\"\")","v":""},{"$f":"IF(B108<>\"\",SUMIFS('ENTRATE-UI'!$D$40:$D$138,'ENTRATE-UI'!$B$40:$B$138,\"=*\" & RIGHT(B108,2)),\"\")","v":""},{"$f":"IF(B108<>\"\",SUMIFS('ENTRATE-UI'!$E$40:$E$138,'ENTRATE-UI'!$B$40:$B$138,\"=*\" & RIGHT(B108,2)),\"\")","v":""},{"$f":"IF(B108<>\"\",SUMIFS('ENTRATE-UI'!$F$40:$F$138,'ENTRATE-UI'!$B$40:$B$138,\"=*\" & RIGHT(B108,2)),\"\")","v":""},{"$f":"IF(B108<>\"\",SUMIFS('ENTRATE-UI'!$G$40:$G$138,'ENTRATE-UI'!$B$40:$B$138,\"=*\" & RIGHT(B108,2)),\"\")","v":""}]
[{"$f":"IF(CONDOMINI!C80<>\"\",CONDOMINI!C80,\"\")","v":""},{"$f":"IF(CONDOMINI!C80<>\"\",\"Q.nn.\" & RIGHT(CONDOMINI!B80,2),\"\")","v":""},{"$f":"IF(B109<>\"\",SUMIFS('ENTRATE-UI'!$C$40:$C$138,'ENTRATE-UI'!$B$40:$B$138,\"=*\" & RIGHT(B109,2)),\"\")","v":""},{"$f":"IF(B109<>\"\",SUMIFS('ENTRATE-UI'!$D$40:$D$138,'ENTRATE-UI'!$B$40:$B$138,\"=*\" & RIGHT(B109,2)),\"\")","v":""},{"$f":"IF(B109<>\"\",SUMIFS('ENTRATE-UI'!$E$40:$E$138,'ENTRATE-UI'!$B$40:$B$138,\"=*\" & RIGHT(B109,2)),\"\")","v":""},{"$f":"IF(B109<>\"\",SUMIFS('ENTRATE-UI'!$F$40:$F$138,'ENTRATE-UI'!$B$40:$B$138,\"=*\" & RIGHT(B109,2)),\"\")","v":""},{"$f":"IF(B109<>\"\",SUMIFS('ENTRATE-UI'!$G$40:$G$138,'ENTRATE-UI'!$B$40:$B$138,\"=*\" & RIGHT(B109,2)),\"\")","v":""}]
[{"$f":"IF(CONDOMINI!C81<>\"\",CONDOMINI!C81,\"\")","v":""},{"$f":"IF(CONDOMINI!C81<>\"\",\"Q.nn.\" & RIGHT(CONDOMINI!B81,2),\"\")","v":""},{"$f":"IF(B110<>\"\",SUMIFS('ENTRATE-UI'!$C$40:$C$138,'ENTRATE-UI'!$B$40:$B$138,\"=*\" & RIGHT(B110,2)),\"\")","v":""},{"$f":"IF(B110<>\"\",SUMIFS('ENTRATE-UI'!$D$40:$D$138,'ENTRATE-UI'!$B$40:$B$138,\"=*\" & RIGHT(B110,2)),\"\")","v":""},{"$f":"IF(B110<>\"\",SUMIFS('ENTRATE-UI'!$E$40:$E$138,'ENTRATE-UI'!$B$40:$B$138,\"=*\" & RIGHT(B110,2)),\"\")","v":""},{"$f":"IF(B110<>\"\",SUMIFS('ENTRATE-UI'!$F$40:$F$138,'ENTRATE-UI'!$B$40:$B$138,\"=*\" & RIGHT(B110,2)),\"\")","v":""},{"$f":"IF(B110<>\"\",SUMIFS('ENTRATE-UI'!$G$40:$G$138,'ENTRATE-UI'!$B$40:$B$138,\"=*\" & RIGHT(B110,2)),\"\")","v":""}]
[{"$f":"IF(CONDOMINI!C82<>\"\",CONDOMINI!C82,\"\")","v":""},{"$f":"IF(CONDOMINI!C82<>\"\",\"Q.nn.\" & RIGHT(CONDOMINI!B82,2),\"\")","v":""},{"$f":"IF(B111<>\"\",SUMIFS('ENTRATE-UI'!$C$40:$C$138,'ENTRATE-UI'!$B$40:$B$138,\"=*\" & RIGHT(B111,2)),\"\")","v":""},{"$f":"IF(B111<>\"\",SUMIFS('ENTRATE-UI'!$D$40:$D$138,'ENTRATE-UI'!$B$40:$B$138,\"=*\" & RIGHT(B111,2)),\"\")","v":""},{"$f":"IF(B111<>\"\",SUMIFS('ENTRATE-UI'!$E$40:$E$138,'ENTRATE-UI'!$B$40:$B$138,\"=*\" & RIGHT(B111,2)),\"\")","v":""},{"$f":"IF(B111<>\"\",SUMIFS('ENTRATE-UI'!$F$40:$F$138,'ENTRATE-UI'!$B$40:$B$138,\"=*\" & RIGHT(B111,2)),\"\")","v":""},{"$f":"IF(B111<>\"\",SUMIFS('ENTRATE-UI'!$G$40:$G$138,'ENTRATE-UI'!$B$40:$B$138,\"=*\" & RIGHT(B111,2)),\"\")","v":""}]
[{"$f":"IF(CONDOMINI!C83<>\"\",CONDOMINI!C83,\"\")","v":""},{"$f":"IF(CONDOMINI!C83<>\"\",\"Q.nn.\" & RIGHT(CONDOMINI!B83,2),\"\")","v":""},{"$f":"IF(B112<>\"\",SUMIFS('ENTRATE-UI'!$C$40:$C$138,'ENTRATE-UI'!$B$40:$B$138,\"=*\" & RIGHT(B112,2)),\"\")","v":""},{"$f":"IF(B112<>\"\",SUMIFS('ENTRATE-UI'!$D$40:$D$138,'ENTRATE-UI'!$B$40:$B$138,\"=*\" & RIGHT(B112,2)),\"\")","v":""},{"$f":"IF(B112<>\"\",SUMIFS('ENTRATE-UI'!$E$40:$E$138,'ENTRATE-UI'!$B$40:$B$138,\"=*\" & RIGHT(B112,2)),\"\")","v":""},{"$f":"IF(B112<>\"\",SUMIFS('ENTRATE-UI'!$F$40:$F$138,'ENTRATE-UI'!$B$40:$B$138,\"=*\" & RIGHT(B112,2)),\"\")","v":""},{"$f":"IF(B112<>\"\",SUMIFS('ENTRATE-UI'!$G$40:$G$138,'ENTRATE-UI'!$B$40:$B$138,\"=*\" & RIGHT(B112,2)),\"\")","v":""}]
[{"$f":"IF(CONDOMINI!C84<>\"\",CONDOMINI!C84,\"\")","v":""},{"$f":"IF(CONDOMINI!C84<>\"\",\"Q.nn.\" & RIGHT(CONDOMINI!B84,2),\"\")","v":""},{"$f":"IF(B113<>\"\",SUMIFS('ENTRATE-UI'!$C$40:$C$138,'ENTRATE-UI'!$B$40:$B$138,\"=*\" & RIGHT(B113,2)),\"\")","v":""},{"$f":"IF(B113<>\"\",SUMIFS('ENTRATE-UI'!$D$40:$D$138,'ENTRATE-UI'!$B$40:$B$138,\"=*\" & RIGHT(B113,2)),\"\")","v":""},{"$f":"IF(B113<>\"\",SUMIFS('ENTRATE-UI'!$E$40:$E$138,'ENTRATE-UI'!$B$40:$B$138,\"=*\" & RIGHT(B113,2)),\"\")","v":""},{"$f":"IF(B113<>\"\",SUMIFS('ENTRATE-UI'!$F$40:$F$138,'ENTRATE-UI'!$B$40:$B$138,\"=*\" & RIGHT(B113,2)),\"\")","v":""},{"$f":"IF(B113<>\"\",SUMIFS('ENTRATE-UI'!$G$40:$G$138,'ENTRATE-UI'!$B$40:$B$138,\"=*\" & RIGHT(B113,2)),\"\")","v":""}]
[{"$f":"IF(CONDOMINI!C85<>\"\",CONDOMINI!C85,\"\")","v":""},{"$f":"IF(CONDOMINI!C85<>\"\",\"Q.nn.\" & RIGHT(CONDOMINI!B85,2),\"\")","v":""},{"$f":"IF(B114<>\"\",SUMIFS('ENTRATE-UI'!$C$40:$C$138,'ENTRATE-UI'!$B$40:$B$138,\"=*\" & RIGHT(B114,2)),\"\")","v":""},{"$f":"IF(B114<>\"\",SUMIFS('ENTRATE-UI'!$D$40:$D$138,'ENTRATE-UI'!$B$40:$B$138,\"=*\" & RIGHT(B114,2)),\"\")","v":""},{"$f":"IF(B114<>\"\",SUMIFS('ENTRATE-UI'!$E$40:$E$138,'ENTRATE-UI'!$B$40:$B$138,\"=*\" & RIGHT(B114,2)),\"\")","v":""},{"$f":"IF(B114<>\"\",SUMIFS('ENTRATE-UI'!$F$40:$F$138,'ENTRATE-UI'!$B$40:$B$138,\"=*\" & RIGHT(B114,2)),\"\")","v":""},{"$f":"IF(B114<>\"\",SUMIFS('ENTRATE-UI'!$G$40:$G$138,'ENTRATE-UI'!$B$40:$B$138,\"=*\" & RIGHT(B114,2)),\"\")","v":""}]
[{"$f":"IF(CONDOMINI!C86<>\"\",CONDOMINI!C86,\"\")","v":""},{"$f":"IF(CONDOMINI!C86<>\"\",\"Q.nn.\" & RIGHT(CONDOMINI!B86,2),\"\")","v":""},{"$f":"IF(B115<>\"\",SUMIFS('ENTRATE-UI'!$C$40:$C$138,'ENTRATE-UI'!$B$40:$B$138,\"=*\" & RIGHT(B115,2)),\"\")","v":""},{"$f":"IF(B115<>\"\",SUMIFS('ENTRATE-UI'!$D$40:$D$138,'ENTRATE-UI'!$B$40:$B$138,\"=*\" & RIGHT(B115,2)),\"\")","v":""},{"$f":"IF(B115<>\"\",SUMIFS('ENTRATE-UI'!$E$40:$E$138,'ENTRATE-UI'!$B$40:$B$138,\"=*\" & RIGHT(B115,2)),\"\")","v":""},{"$f":"IF(B115<>\"\",SUMIFS('ENTRATE-UI'!$F$40:$F$138,'ENTRATE-UI'!$B$40:$B$138,\"=*\" & RIGHT(B115,2)),\"\")","v":""},{"$f":"IF(B115<>\"\",SUMIFS('ENTRATE-UI'!$G$40:$G$138,'ENTRATE-UI'!$B$40:$B$138,\"=*\" & RIGHT(B115,2)),\"\")","v":""}]
[{"$f":"IF(CONDOMINI!C87<>\"\",CONDOMINI!C87,\"\")","v":""},{"$f":"IF(CONDOMINI!C87<>\"\",\"Q.nn.\" & RIGHT(CONDOMINI!B87,2),\"\")","v":""},{"$f":"IF(B116<>\"\",SUMIFS('ENTRATE-UI'!$C$40:$C$138,'ENTRATE-UI'!$B$40:$B$138,\"=*\" & RIGHT(B116,2)),\"\")","v":""},{"$f":"IF(B116<>\"\",SUMIFS('ENTRATE-UI'!$D$40:$D$138,'ENTRATE-UI'!$B$40:$B$138,\"=*\" & RIGHT(B116,2)),\"\")","v":""},{"$f":"IF(B116<>\"\",SUMIFS('ENTRATE-UI'!$E$40:$E$138,'ENTRATE-UI'!$B$40:$B$138,\"=*\" & RIGHT(B116,2)),\"\")","v":""},{"$f":"IF(B116<>\"\",SUMIFS('ENTRATE-UI'!$F$40:$F$138,'ENTRATE-UI'!$B$40:$B$138,\"=*\" & RIGHT(B116,2)),\"\")","v":""},{"$f":"IF(B116<>\"\",SUMIFS('ENTRATE-UI'!$G$40:$G$138,'ENTRATE-UI'!$B$40:$B$138,\"=*\" & RIGHT(B116,2)),\"\")","v":""}]
[{"$f":"IF(CONDOMINI!C88<>\"\",CONDOMINI!C88,\"\")","v":""},{"$f":"IF(CONDOMINI!C88<>\"\",\"Q.nn.\" & RIGHT(CONDOMINI!B88,2),\"\")","v":""},{"$f":"IF(B117<>\"\",SUMIFS('ENTRATE-UI'!$C$40:$C$138,'ENTRATE-UI'!$B$40:$B$138,\"=*\" & RIGHT(B117,2)),\"\")","v":""},{"$f":"IF(B117<>\"\",SUMIFS('ENTRATE-UI'!$D$40:$D$138,'ENTRATE-UI'!$B$40:$B$138,\"=*\" & RIGHT(B117,2)),\"\")","v":""},{"$f":"IF(B117<>\"\",SUMIFS('ENTRATE-UI'!$E$40:$E$138,'ENTRATE-UI'!$B$40:$B$138,\"=*\" & RIGHT(B117,2)),\"\")","v":""},{"$f":"IF(B117<>\"\",SUMIFS('ENTRATE-UI'!$F$40:$F$138,'ENTRATE-UI'!$B$40:$B$138,\"=*\" & RIGHT(B117,2)),\"\")","v":""},{"$f":"IF(B117<>\"\",SUMIFS('ENTRATE-UI'!$G$40:$G$138,'ENTRATE-UI'!$B$40:$B$138,\"=*\" & RIGHT(B117,2)),\"\")","v":""}]
[{"$f":"IF(CONDOMINI!C89<>\"\",CONDOMINI!C89,\"\")","v":""},{"$f":"IF(CONDOMINI!C89<>\"\",\"Q.nn.\" & RIGHT(CONDOMINI!B89,2),\"\")","v":""},{"$f":"IF(B118<>\"\",SUMIFS('ENTRATE-UI'!$C$40:$C$138,'ENTRATE-UI'!$B$40:$B$138,\"=*\" & RIGHT(B118,2)),\"\")","v":""},{"$f":"IF(B118<>\"\",SUMIFS('ENTRATE-UI'!$D$40:$D$138,'ENTRATE-UI'!$B$40:$B$138,\"=*\" & RIGHT(B118,2)),\"\")","v":""},{"$f":"IF(B118<>\"\",SUMIFS('ENTRATE-UI'!$E$40:$E$138,'ENTRATE-UI'!$B$40:$B$138,\"=*\" & RIGHT(B118,2)),\"\")","v":""},{"$f":"IF(B118<>\"\",SUMIFS('ENTRATE-UI'!$F$40:$F$138,'ENTRATE-UI'!$B$40:$B$138,\"=*\" & RIGHT(B118,2)),\"\")","v":""},{"$f":"IF(B118<>\"\",SUMIFS('ENTRATE-UI'!$G$40:$G$138,'ENTRATE-UI'!$B$40:$B$138,\"=*\" & RIGHT(B118,2)),\"\")","v":""}]
[{"$f":"IF(CONDOMINI!C90<>\"\",CONDOMINI!C90,\"\")","v":""},{"$f":"IF(CONDOMINI!C90<>\"\",\"Q.nn.\" & RIGHT(CONDOMINI!B90,2),\"\")","v":""},{"$f":"IF(B119<>\"\",SUMIFS('ENTRATE-UI'!$C$40:$C$138,'ENTRATE-UI'!$B$40:$B$138,\"=*\" & RIGHT(B119,2)),\"\")","v":""},{"$f":"IF(B119<>\"\",SUMIFS('ENTRATE-UI'!$D$40:$D$138,'ENTRATE-UI'!$B$40:$B$138,\"=*\" & RIGHT(B119,2)),\"\")","v":""},{"$f":"IF(B119<>\"\",SUMIFS('ENTRATE-UI'!$E$40:$E$138,'ENTRATE-UI'!$B$40:$B$138,\"=*\" & RIGHT(B119,2)),\"\")","v":""},{"$f":"IF(B119<>\"\",SUMIFS('ENTRATE-UI'!$F$40:$F$138,'ENTRATE-UI'!$B$40:$B$138,\"=*\" & RIGHT(B119,2)),\"\")","v":""},{"$f":"IF(B119<>\"\",SUMIFS('ENTRATE-UI'!$G$40:$G$138,'ENTRATE-UI'!$B$40:$B$138,\"=*\" & RIGHT(B119,2)),\"\")","v":""}]
[{"$f":"IF(CONDOMINI!C91<>\"\",CONDOMINI!C91,\"\")","v":""},{"$f":"IF(CONDOMINI!C91<>\"\",\"Q.nn.\" & RIGHT(CONDOMINI!B91,2),\"\")","v":""},{"$f":"IF(B120<>\"\",SUMIFS('ENTRATE-UI'!$C$40:$C$138,'ENTRATE-UI'!$B$40:$B$138,\"=*\" & RIGHT(B120,2)),\"\")","v":""},{"$f":"IF(B120<>\"\",SUMIFS('ENTRATE-UI'!$D$40:$D$138,'ENTRATE-UI'!$B$40:$B$138,\"=*\" & RIGHT(B120,2)),\"\")","v":""},{"$f":"IF(B120<>\"\",SUMIFS('ENTRATE-UI'!$E$40:$E$138,'ENTRATE-UI'!$B$40:$B$138,\"=*\" & RIGHT(B120,2)),\"\")","v":""},{"$f":"IF(B120<>\"\",SUMIFS('ENTRATE-UI'!$F$40:$F$138,'ENTRATE-UI'!$B$40:$B$138,\"=*\" & RIGHT(B120,2)),\"\")","v":""},{"$f":"IF(B120<>\"\",SUMIFS('ENTRATE-UI'!$G$40:$G$138,'ENTRATE-UI'!$B$40:$B$138,\"=*\" & RIGHT(B120,2)),\"\")","v":""}]
[{"$f":"IF(CONDOMINI!C92<>\"\",CONDOMINI!C92,\"\")","v":""},{"$f":"IF(CONDOMINI!C92<>\"\",\"Q.nn.\" & RIGHT(CONDOMINI!B92,2),\"\")","v":""},{"$f":"IF(B121<>\"\",SUMIFS('ENTRATE-UI'!$C$40:$C$138,'ENTRATE-UI'!$B$40:$B$138,\"=*\" & RIGHT(B121,2)),\"\")","v":""},{"$f":"IF(B121<>\"\",SUMIFS('ENTRATE-UI'!$D$40:$D$138,'ENTRATE-UI'!$B$40:$B$138,\"=*\" & RIGHT(B121,2)),\"\")","v":""},{"$f":"IF(B121<>\"\",SUMIFS('ENTRATE-UI'!$E$40:$E$138,'ENTRATE-UI'!$B$40:$B$138,\"=*\" & RIGHT(B121,2)),\"\")","v":""},{"$f":"IF(B121<>\"\",SUMIFS('ENTRATE-UI'!$F$40:$F$138,'ENTRATE-UI'!$B$40:$B$138,\"=*\" & RIGHT(B121,2)),\"\")","v":""},{"$f":"IF(B121<>\"\",SUMIFS('ENTRATE-UI'!$G$40:$G$138,'ENTRATE-UI'!$B$40:$B$138,\"=*\" & RIGHT(B121,2)),\"\")","v":""}]
[{"$f":"IF(CONDOMINI!C93<>\"\",CONDOMINI!C93,\"\")","v":""},{"$f":"IF(CONDOMINI!C93<>\"\",\"Q.nn.\" & RIGHT(CONDOMINI!B93,2),\"\")","v":""},{"$f":"IF(B122<>\"\",SUMIFS('ENTRATE-UI'!$C$40:$C$138,'ENTRATE-UI'!$B$40:$B$138,\"=*\" & RIGHT(B122,2)),\"\")","v":""},{"$f":"IF(B122<>\"\",SUMIFS('ENTRATE-UI'!$D$40:$D$138,'ENTRATE-UI'!$B$40:$B$138,\"=*\" & RIGHT(B122,2)),\"\")","v":""},{"$f":"IF(B122<>\"\",SUMIFS('ENTRATE-UI'!$E$40:$E$138,'ENTRATE-UI'!$B$40:$B$138,\"=*\" & RIGHT(B122,2)),\"\")","v":""},{"$f":"IF(B122<>\"\",SUMIFS('ENTRATE-UI'!$F$40:$F$138,'ENTRATE-UI'!$B$40:$B$138,\"=*\" & RIGHT(B122,2)),\"\")","v":""},{"$f":"IF(B122<>\"\",SUMIFS('ENTRATE-UI'!$G$40:$G$138,'ENTRATE-UI'!$B$40:$B$138,\"=*\" & RIGHT(B122,2)),\"\")","v":""}]
[{"$f":"IF(CONDOMINI!C94<>\"\",CONDOMINI!C94,\"\")","v":""},{"$f":"IF(CONDOMINI!C94<>\"\",\"Q.nn.\" & RIGHT(CONDOMINI!B94,2),\"\")","v":""},{"$f":"IF(B123<>\"\",SUMIFS('ENTRATE-UI'!$C$40:$C$138,'ENTRATE-UI'!$B$40:$B$138,\"=*\" & RIGHT(B123,2)),\"\")","v":""},{"$f":"IF(B123<>\"\",SUMIFS('ENTRATE-UI'!$D$40:$D$138,'ENTRATE-UI'!$B$40:$B$138,\"=*\" & RIGHT(B123,2)),\"\")","v":""},{"$f":"IF(B123<>\"\",SUMIFS('ENTRATE-UI'!$E$40:$E$138,'ENTRATE-UI'!$B$40:$B$138,\"=*\" & RIGHT(B123,2)),\"\")","v":""},{"$f":"IF(B123<>\"\",SUMIFS('ENTRATE-UI'!$F$40:$F$138,'ENTRATE-UI'!$B$40:$B$138,\"=*\" & RIGHT(B123,2)),\"\")","v":""},{"$f":"IF(B123<>\"\",SUMIFS('ENTRATE-UI'!$G$40:$G$138,'ENTRATE-UI'!$B$40:$B$138,\"=*\" & RIGHT(B123,2)),\"\")","v":""}]
[{"$f":"IF(CONDOMINI!C95<>\"\",CONDOMINI!C95,\"\")","v":""},{"$f":"IF(CONDOMINI!C95<>\"\",\"Q.nn.\" & RIGHT(CONDOMINI!B95,2),\"\")","v":""},{"$f":"IF(B124<>\"\",SUMIFS('ENTRATE-UI'!$C$40:$C$138,'ENTRATE-UI'!$B$40:$B$138,\"=*\" & RIGHT(B124,2)),\"\")","v":""},{"$f":"IF(B124<>\"\",SUMIFS('ENTRATE-UI'!$D$40:$D$138,'ENTRATE-UI'!$B$40:$B$138,\"=*\" & RIGHT(B124,2)),\"\")","v":""},{"$f":"IF(B124<>\"\",SUMIFS('ENTRATE-UI'!$E$40:$E$138,'ENTRATE-UI'!$B$40:$B$138,\"=*\" & RIGHT(B124,2)),\"\")","v":""},{"$f":"IF(B124<>\"\",SUMIFS('ENTRATE-UI'!$F$40:$F$138,'ENTRATE-UI'!$B$40:$B$138,\"=*\" & RIGHT(B124,2)),\"\")","v":""},{"$f":"IF(B124<>\"\",SUMIFS('ENTRATE-UI'!$G$40:$G$138,'ENTRATE-UI'!$B$40:$B$138,\"=*\" & RIGHT(B124,2)),\"\")","v":""}]
[{"$f":"IF(CONDOMINI!C96<>\"\",CONDOMINI!C96,\"\")","v":""},{"$f":"IF(CONDOMINI!C96<>\"\",\"Q.nn.\" & RIGHT(CONDOMINI!B96,2),\"\")","v":""},{"$f":"IF(B125<>\"\",SUMIFS('ENTRATE-UI'!$C$40:$C$138,'ENTRATE-UI'!$B$40:$B$138,\"=*\" & RIGHT(B125,2)),\"\")","v":""},{"$f":"IF(B125<>\"\",SUMIFS('ENTRATE-UI'!$D$40:$D$138,'ENTRATE-UI'!$B$40:$B$138,\"=*\" & RIGHT(B125,2)),\"\")","v":""},{"$f":"IF(B125<>\"\",SUMIFS('ENTRATE-UI'!$E$40:$E$138,'ENTRATE-UI'!$B$40:$B$138,\"=*\" & RIGHT(B125,2)),\"\")","v":""},{"$f":"IF(B125<>\"\",SUMIFS('ENTRATE-UI'!$F$40:$F$138,'ENTRATE-UI'!$B$40:$B$138,\"=*\" & RIGHT(B125,2)),\"\")","v":""},{"$f":"IF(B125<>\"\",SUMIFS('ENTRATE-UI'!$G$40:$G$138,'ENTRATE-UI'!$B$40:$B$138,\"=*\" & RIGHT(B125,2)),\"\")","v":""}]
[{"$f":"IF(CONDOMINI!C97<>\"\",CONDOMINI!C97,\"\")","v":""},{"$f":"IF(CONDOMINI!C97<>\"\",\"Q.nn.\" & RIGHT(CONDOMINI!B97,2),\"\")","v":""},{"$f":"IF(B126<>\"\",SUMIFS('ENTRATE-UI'!$C$40:$C$138,'ENTRATE-UI'!$B$40:$B$138,\"=*\" & RIGHT(B126,2)),\"\")","v":""},{"$f":"IF(B126<>\"\",SUMIFS('ENTRATE-UI'!$D$40:$D$138,'ENTRATE-UI'!$B$40:$B$138,\"=*\" & RIGHT(B126,2)),\"\")","v":""},{"$f":"IF(B126<>\"\",SUMIFS('ENTRATE-UI'!$E$40:$E$138,'ENTRATE-UI'!$B$40:$B$138,\"=*\" & RIGHT(B126,2)),\"\")","v":""},{"$f":"IF(B126<>\"\",SUMIFS('ENTRATE-UI'!$F$40:$F$138,'ENTRATE-UI'!$B$40:$B$138,\"=*\" & RIGHT(B126,2)),\"\")","v":""},{"$f":"IF(B126<>\"\",SUMIFS('ENTRATE-UI'!$G$40:$G$138,'ENTRATE-UI'!$B$40:$B$138,\"=*\" & RIGHT(B126,2)),\"\")","v":""}]
[{"$f":"IF(CONDOMINI!C98<>\"\",CONDOMINI!C98,\"\")","v":""},{"$f":"IF(CONDOMINI!C98<>\"\",\"Q.nn.\" & RIGHT(CONDOMINI!B98,2),\"\")","v":""},{"$f":"IF(B127<>\"\",SUMIFS('ENTRATE-UI'!$C$40:$C$138,'ENTRATE-UI'!$B$40:$B$138,\"=*\" & RIGHT(B127,2)),\"\")","v":""},{"$f":"IF(B127<>\"\",SUMIFS('ENTRATE-UI'!$D$40:$D$138,'ENTRATE-UI'!$B$40:$B$138,\"=*\" & RIGHT(B127,2)),\"\")","v":""},{"$f":"IF(B127<>\"\",SUMIFS('ENTRATE-UI'!$E$40:$E$138,'ENTRATE-UI'!$B$40:$B$138,\"=*\" & RIGHT(B127,2)),\"\")","v":""},{"$f":"IF(B127<>\"\",SUMIFS('ENTRATE-UI'!$F$40:$F$138,'ENTRATE-UI'!$B$40:$B$138,\"=*\" & RIGHT(B127,2)),\"\")","v":""},{"$f":"IF(B127<>\"\",SUMIFS('ENTRATE-UI'!$G$40:$G$138,'ENTRATE-UI'!$B$40:$B$138,\"=*\" & RIGHT(B127,2)),\"\")","v":""}]
[{"$f":"IF(CONDOMINI!C99<>\"\",CONDOMINI!C99,\"\")","v":""},{"$f":"IF(CONDOMINI!C99<>\"\",\"Q.nn.\" & RIGHT(CONDOMINI!B99,2),\"\")","v":""},{"$f":"IF(B128<>\"\",SUMIFS('ENTRATE-UI'!$C$40:$C$138,'ENTRATE-UI'!$B$40:$B$138,\"=*\" & RIGHT(B128,2)),\"\")","v":""},{"$f":"IF(B128<>\"\",SUMIFS('ENTRATE-UI'!$D$40:$D$138,'ENTRATE-UI'!$B$40:$B$138,\"=*\" & RIGHT(B128,2)),\"\")","v":""},{"$f":"IF(B128<>\"\",SUMIFS('ENTRATE-UI'!$E$40:$E$138,'ENTRATE-UI'!$B$40:$B$138,\"=*\" & RIGHT(B128,2)),\"\")","v":""},{"$f":"IF(B128<>\"\",SUMIFS('ENTRATE-UI'!$F$40:$F$138,'ENTRATE-UI'!$B$40:$B$138,\"=*\" & RIGHT(B128,2)),\"\")","v":""},{"$f":"IF(B128<>\"\",SUMIFS('ENTRATE-UI'!$G$40:$G$138,'ENTRATE-UI'!$B$40:$B$138,\"=*\" & RIGHT(B128,2)),\"\")","v":""}]
[{"$f":"IF(CONDOMINI!C100<>\"\",CONDOMINI!C100,\"\")","v":""},{"$f":"IF(CONDOMINI!C100<>\"\",\"Q.nn.\" & RIGHT(CONDOMINI!B100,2),\"\")","v":""},{"$f":"IF(B129<>\"\",SUMIFS('ENTRATE-UI'!$C$40:$C$138,'ENTRATE-UI'!$B$40:$B$138,\"=*\" & RIGHT(B129,2)),\"\")","v":""},{"$f":"IF(B129<>\"\",SUMIFS('ENTRATE-UI'!$D$40:$D$138,'ENTRATE-UI'!$B$40:$B$138,\"=*\" & RIGHT(B129,2)),\"\")","v":""},{"$f":"IF(B129<>\"\",SUMIFS('ENTRATE-UI'!$E$40:$E$138,'ENTRATE-UI'!$B$40:$B$138,\"=*\" & RIGHT(B129,2)),\"\")","v":""},{"$f":"IF(B129<>\"\",SUMIFS('ENTRATE-UI'!$F$40:$F$138,'ENTRATE-UI'!$B$40:$B$138,\"=*\" & RIGHT(B129,2)),\"\")","v":""},{"$f":"IF(B129<>\"\",SUMIFS('ENTRATE-UI'!$G$40:$G$138,'ENTRATE-UI'!$B$40:$B$138,\"=*\" & RIGHT(B129,2)),\"\")","v":""}]
[{"$f":"IF(CONDOMINI!C101<>\"\",CONDOMINI!C101,\"\")","v":""},{"$f":"IF(CONDOMINI!C101<>\"\",\"Q.nn.\" & RIGHT(CONDOMINI!B101,2),\"\")","v":""},{"$f":"IF(B130<>\"\",SUMIFS('ENTRATE-UI'!$C$40:$C$138,'ENTRATE-UI'!$B$40:$B$138,\"=*\" & RIGHT(B130,2)),\"\")","v":""},{"$f":"IF(B130<>\"\",SUMIFS('ENTRATE-UI'!$D$40:$D$138,'ENTRATE-UI'!$B$40:$B$138,\"=*\" & RIGHT(B130,2)),\"\")","v":""},{"$f":"IF(B130<>\"\",SUMIFS('ENTRATE-UI'!$E$40:$E$138,'ENTRATE-UI'!$B$40:$B$138,\"=*\" & RIGHT(B130,2)),\"\")","v":""},{"$f":"IF(B130<>\"\",SUMIFS('ENTRATE-UI'!$F$40:$F$138,'ENTRATE-UI'!$B$40:$B$138,\"=*\" & RIGHT(B130,2)),\"\")","v":""},{"$f":"IF(B130<>\"\",SUMIFS('ENTRATE-UI'!$G$40:$G$138,'ENTRATE-UI'!$B$40:$B$138,\"=*\" & RIGHT(B130,2)),\"\")","v":""}]
[{"$f":"IF(CONDOMINI!C102<>\"\",CONDOMINI!C102,\"\")","v":""},{"$f":"IF(CONDOMINI!C102<>\"\",\"Q.nn.\" & RIGHT(CONDOMINI!B102,2),\"\")","v":""},{"$f":"IF(B131<>\"\",SUMIFS('ENTRATE-UI'!$C$40:$C$138,'ENTRATE-UI'!$B$40:$B$138,\"=*\" & RIGHT(B131,2)),\"\")","v":""},{"$f":"IF(B131<>\"\",SUMIFS('ENTRATE-UI'!$D$40:$D$138,'ENTRATE-UI'!$B$40:$B$138,\"=*\" & RIGHT(B131,2)),\"\")","v":""},{"$f":"IF(B131<>\"\",SUMIFS('ENTRATE-UI'!$E$40:$E$138,'ENTRATE-UI'!$B$40:$B$138,\"=*\" & RIGHT(B131,2)),\"\")","v":""},{"$f":"IF(B131<>\"\",SUMIFS('ENTRATE-UI'!$F$40:$F$138,'ENTRATE-UI'!$B$40:$B$138,\"=*\" & RIGHT(B131,2)),\"\")","v":""},{"$f":"IF(B131<>\"\",SUMIFS('ENTRATE-UI'!$G$40:$G$138,'ENTRATE-UI'!$B$40:$B$138,\"=*\" & RIGHT(B131,2)),\"\")","v":""}]
[{"$f":"IF(CONDOMINI!C103<>\"\",CONDOMINI!C103,\"\")","v":""},{"$f":"IF(CONDOMINI!C103<>\"\",\"Q.nn.\" & RIGHT(CONDOMINI!B103,2),\"\")","v":""},{"$f":"IF(B132<>\"\",SUMIFS('ENTRATE-UI'!$C$40:$C$138,'ENTRATE-UI'!$B$40:$B$138,\"=*\" & RIGHT(B132,2)),\"\")","v":""},{"$f":"IF(B132<>\"\",SUMIFS('ENTRATE-UI'!$D$40:$D$138,'ENTRATE-UI'!$B$40:$B$138,\"=*\" & RIGHT(B132,2)),\"\")","v":""},{"$f":"IF(B132<>\"\",SUMIFS('ENTRATE-UI'!$E$40:$E$138,'ENTRATE-UI'!$B$40:$B$138,\"=*\" & RIGHT(B132,2)),\"\")","v":""},{"$f":"IF(B132<>\"\",SUMIFS('ENTRATE-UI'!$F$40:$F$138,'ENTRATE-UI'!$B$40:$B$138,\"=*\" & RIGHT(B132,2)),\"\")","v":""},{"$f":"IF(B132<>\"\",SUMIFS('ENTRATE-UI'!$G$40:$G$138,'ENTRATE-UI'!$B$40:$B$138,\"=*\" & RIGHT(B132,2)),\"\")","v":""}]
[{"$f":"IF(CONDOMINI!C104<>\"\",CONDOMINI!C104,\"\")","v":""},{"$f":"IF(CONDOMINI!C104<>\"\",\"Q.nn.\" & RIGHT(CONDOMINI!B104,2),\"\")","v":""},{"$f":"IF(B133<>\"\",SUMIFS('ENTRATE-UI'!$C$40:$C$138,'ENTRATE-UI'!$B$40:$B$138,\"=*\" & RIGHT(B133,2)),\"\")","v":""},{"$f":"IF(B133<>\"\",SUMIFS('ENTRATE-UI'!$D$40:$D$138,'ENTRATE-UI'!$B$40:$B$138,\"=*\" & RIGHT(B133,2)),\"\")","v":""},{"$f":"IF(B133<>\"\",SUMIFS('ENTRATE-UI'!$E$40:$E$138,'ENTRATE-UI'!$B$40:$B$138,\"=*\" & RIGHT(B133,2)),\"\")","v":""},{"$f":"IF(B133<>\"\",SUMIFS('ENTRATE-UI'!$F$40:$F$138,'ENTRATE-UI'!$B$40:$B$138,\"=*\" & RIGHT(B133,2)),\"\")","v":""},{"$f":"IF(B133<>\"\",SUMIFS('ENTRATE-UI'!$G$40:$G$138,'ENTRATE-UI'!$B$40:$B$138,\"=*\" & RIGHT(B133,2)),\"\")","v":""}]
[{"$f":"IF(CONDOMINI!C105<>\"\",CONDOMINI!C105,\"\")","v":""},{"$f":"IF(CONDOMINI!C105<>\"\",\"Q.nn.\" & RIGHT(CONDOMINI!B105,2),\"\")","v":""},{"$f":"IF(B134<>\"\",SUMIFS('ENTRATE-UI'!$C$40:$C$138,'ENTRATE-UI'!$B$40:$B$138,\"=*\" & RIGHT(B134,2)),\"\")","v":""},{"$f":"IF(B134<>\"\",SUMIFS('ENTRATE-UI'!$D$40:$D$138,'ENTRATE-UI'!$B$40:$B$138,\"=*\" & RIGHT(B134,2)),\"\")","v":""},{"$f":"IF(B134<>\"\",SUMIFS('ENTRATE-UI'!$E$40:$E$138,'ENTRATE-UI'!$B$40:$B$138,\"=*\" & RIGHT(B134,2)),\"\")","v":""},{"$f":"IF(B134<>\"\",SUMIFS('ENTRATE-UI'!$F$40:$F$138,'ENTRATE-UI'!$B$40:$B$138,\"=*\" & RIGHT(B134,2)),\"\")","v":""},{"$f":"IF(B134<>\"\",SUMIFS('ENTRATE-UI'!$G$40:$G$138,'ENTRATE-UI'!$B$40:$B$138,\"=*\" & RIGHT(B134,2)),\"\")","v":""}]
[{"$f":"IF(CONDOMINI!C106<>\"\",CONDOMINI!C106,\"\")","v":""},{"$f":"IF(CONDOMINI!C106<>\"\",\"Q.nn.\" & RIGHT(CONDOMINI!B106,2),\"\")","v":""},{"$f":"IF(B135<>\"\",SUMIFS('ENTRATE-UI'!$C$40:$C$138,'ENTRATE-UI'!$B$40:$B$138,\"=*\" & RIGHT(B135,2)),\"\")","v":""},{"$f":"IF(B135<>\"\",SUMIFS('ENTRATE-UI'!$D$40:$D$138,'ENTRATE-UI'!$B$40:$B$138,\"=*\" & RIGHT(B135,2)),\"\")","v":""},{"$f":"IF(B135<>\"\",SUMIFS('ENTRATE-UI'!$E$40:$E$138,'ENTRATE-UI'!$B$40:$B$138,\"=*\" & RIGHT(B135,2)),\"\")","v":""},{"$f":"IF(B135<>\"\",SUMIFS('ENTRATE-UI'!$F$40:$F$138,'ENTRATE-UI'!$B$40:$B$138,\"=*\" & RIGHT(B135,2)),\"\")","v":""},{"$f":"IF(B135<>\"\",SUMIFS('ENTRATE-UI'!$G$40:$G$138,'ENTRATE-UI'!$B$40:$B$138,\"=*\" & RIGHT(B135,2)),\"\")","v":""}]
[{"$f":"IF(CONDOMINI!C107<>\"\",CONDOMINI!C107,\"\")","v":""},{"$f":"IF(CONDOMINI!C107<>\"\",\"Q.nn.\" & RIGHT(CONDOMINI!B107,2),\"\")","v":""},{"$f":"IF(B136<>\"\",SUMIFS('ENTRATE-UI'!$C$40:$C$138,'ENTRATE-UI'!$B$40:$B$138,\"=*\" & RIGHT(B136,2)),\"\")","v":""},{"$f":"IF(B136<>\"\",SUMIFS('ENTRATE-UI'!$D$40:$D$138,'ENTRATE-UI'!$B$40:$B$138,\"=*\" & RIGHT(B136,2)),\"\")","v":""},{"$f":"IF(B136<>\"\",SUMIFS('ENTRATE-UI'!$E$40:$E$138,'ENTRATE-UI'!$B$40:$B$138,\"=*\" & RIGHT(B136,2)),\"\")","v":""},{"$f":"IF(B136<>\"\",SUMIFS('ENTRATE-UI'!$F$40:$F$138,'ENTRATE-UI'!$B$40:$B$138,\"=*\" & RIGHT(B136,2)),\"\")","v":""},{"$f":"IF(B136<>\"\",SUMIFS('ENTRATE-UI'!$G$40:$G$138,'ENTRATE-UI'!$B$40:$B$138,\"=*\" & RIGHT(B136,2)),\"\")","v":""}]
[{"$f":"IF(CONDOMINI!C108<>\"\",CONDOMINI!C108,\"\")","v":""},{"$f":"IF(CONDOMINI!C108<>\"\",\"Q.nn.\" & RIGHT(CONDOMINI!B108,2),\"\")","v":""},{"$f":"IF(B137<>\"\",SUMIFS('ENTRATE-UI'!$C$40:$C$138,'ENTRATE-UI'!$B$40:$B$138,\"=*\" & RIGHT(B137,2)),\"\")","v":""},{"$f":"IF(B137<>\"\",SUMIFS('ENTRATE-UI'!$D$40:$D$138,'ENTRATE-UI'!$B$40:$B$138,\"=*\" & RIGHT(B137,2)),\"\")","v":""},{"$f":"IF(B137<>\"\",SUMIFS('ENTRATE-UI'!$E$40:$E$138,'ENTRATE-UI'!$B$40:$B$138,\"=*\" & RIGHT(B137,2)),\"\")","v":""},{"$f":"IF(B137<>\"\",SUMIFS('ENTRATE-UI'!$F$40:$F$138,'ENTRATE-UI'!$B$40:$B$138,\"=*\" & RIGHT(B137,2)),\"\")","v":""},{"$f":"IF(B137<>\"\",SUMIFS('ENTRATE-UI'!$G$40:$G$138,'ENTRATE-UI'!$B$40:$B$138,\"=*\" & RIGHT(B137,2)),\"\")","v":""}]
[{"$f":"IF(CONDOMINI!C109<>\"\",CONDOMINI!C109,\"\")","v":""},{"$f":"IF(CONDOMINI!C109<>\"\",\"Q.nn.\" & RIGHT(CONDOMINI!B109,2),\"\")","v":""},{"$f":"IF(B138<>\"\",SUMIFS('ENTRATE-UI'!$C$40:$C$138,'ENTRATE-UI'!$B$40:$B$138,\"=*\" & RIGHT(B138,2)),\"\")","v":""},{"$f":"IF(B138<>\"\",SUMIFS('ENTRATE-UI'!$D$40:$D$138,'ENTRATE-UI'!$B$40:$B$138,\"=*\" & RIGHT(B138,2)),\"\")","v":""},{"$f":"IF(B138<>\"\",SUMIFS('ENTRATE-UI'!$E$40:$E$138,'ENTRATE-UI'!$B$40:$B$138,\"=*\" & RIGHT(B138,2)),\"\")","v":""},{"$f":"IF(B138<>\"\",SUMIFS('ENTRATE-UI'!$F$40:$F$138,'ENTRATE-UI'!$B$40:$B$138,\"=*\" & RIGHT(B138,2)),\"\")","v":""},{"$f":"IF(B138<>\"\",SUMIFS('ENTRATE-UI'!$G$40:$G$138,'ENTRATE-UI'!$B$40:$B$138,\"=*\" & RIGHT(B138,2)),\"\")","v":""}]
[{"$f":"PIANOCONTI_E!A139","v":"PRESTITI RICEVUTI ED ENTRATE VARIE DI GIRO"},null,{"$f":"SUM(C140:C144)","v":0}]
[{"$f":"PIANOCONTI_E!A140","v":"Prestiti ricevuti (da Gestione Ordinaria)"},{"$f":"PIANOCONTI_E!B140","v":"V.00.01"}]
[{"$f":"PIANOCONTI_E!A141","v":"Prestiti ricevuti (da Terzi)"},{"$f":"PIANOCONTI_E!B141","v":"V.00.02"}]
[{"$f":"PIANOCONTI_E!A142","v":0},{"$f":"PIANOCONTI_E!B142","v":"V.00.03"}]
[{"$f":"PIANOCONTI_E!A143","v":0},{"$f":"PIANOCONTI_E!B143","v":"V.00.04"}]
[{"$f":"PIANOCONTI_E!A144","v":0},{"$f":"PIANOCONTI_E!B144","v":"V.00.05"}]
["TOTALE ENTRATE",{"$f":"C11+C17+C28+C39+C139","v":8169.95}]
[null,null,0]
[]
[null,null,0]
[null,null,0]

{"sheet":"RAFFRONTO-PE","index":26,"n_rows":196,"n_cols":7,"rows_kept":196,"cut":false,"hidden":true,"merged":[[195,0,195,2],[195,3,195,4],[195,5,195,6],[8,0,9,0],[8,1,9,1],[8,2,9,2],[8,3,8,4],[8,5,8,6],[194,0,194,2]]}
[]
[]
[]
[]
[]
[]
[]
[{"$f":"\"QUADRO RAFFRONTO fra CONSUNTIVO e PREVENTIVO delle SPESE sostenute con il FONDO alla data \" & DataUltimaregistrazione() & CHAR(10) & DATIG!A40  & CHAR(10) & \"Codice FONDO:  \" & DATIG!A37","v":"QUADRO RAFFRONTO fra CONSUNTIVO e PREVENTIVO delle SPESE sostenute con il FONDO alla data 13-novembre-2019\nLavori messa in sicurezza fondazioni da infiltrazioni fognarie\nCodice FONDO:  LAVORO-01"}]
["CODICE","VOCI DI SPESA","TABELLA","IMPORTI",null,"SALDI"]
[null,null,null,"Preventivo","Consuntivo","Attivo\n(spesa in meno)","Passivo\n(spesa in più)"]
[{"$f":"PIANOCONTI_U!C11","v":"S.01"},{"$f":"PIANOCONTI_U!A11","v":"SPESE GENERALI e NON DETRABILI"},null,{"$f":"SUM(D12:D26)","v":1170},{"$f":"SUM(E12:E26)","v":50},{"$f":"SUM(F12:F26)","v":1150},{"$f":"SUM(G12:G26)","v":30}]
[{"$f":"PIANOCONTI_U!C12","v":"S.01.01"},{"$f":"PIANOCONTI_U!A12","v":"SPESE VARIE AMMINISTRATIVE (tabella A)"},{"$f":"PIANOCONTI_U!B12","v":"A"},{"$f":"USCITE_P!D12","v":100},{"$f":"USCITE_C!D12","v":0},{"$f":"IF(D12-E12>0,D12-E12,0)","v":100},{"$f":"IF(D12-E12<=0,E12-D12,0)","v":0}]
[{"$f":"PIANOCONTI_U!C13","v":"S.01.02"},{"$f":"PIANOCONTI_U!A13","v":"SPESE VARIE AMMINISTRATIVE (tabella B)"},{"$f":"PIANOCONTI_U!B13","v":"B"},{"$f":"USCITE_P!D13","v":100},{"$f":"USCITE_C!D13","v":10},{"$f":"IF(D13-E13>0,D13-E13,0)","v":90},{"$f":"IF(D13-E13<=0,E13-D13,0)","v":0}]
[{"$f":"PIANOCONTI_U!C14","v":"S.01.03"},{"$f":"PIANOCONTI_U!A14","v":"SPESE VARIE AMMINISTRATIVE (tabella C)"},{"$f":"PIANOCONTI_U!B14","v":"C"},{"$f":"USCITE_P!D14","v":100},{"$f":"USCITE_C!D14","v":0},100,0]
[{"$f":"PIANOCONTI_U!C15","v":"S.01.04"},{"$f":"PIANOCONTI_U!A15","v":"DIRITTI BOLLI TASSE (tabella A)"},{"$f":"PIANOCONTI_U!B15","v":"A"},{"$f":"USCITE_P!D15","v":80},{"$f":"USCITE_C!D15","v":0},80,0]
[{"$f":"PIANOCONTI_U!C16","v":"S.01.05"},{"$f":"PIANOCONTI_U!A16","v":"DIRITTI BOLLI TASSE (tabella B)"},{"$f":"PIANOCONTI_U!B16","v":"B"},{"$f":"USCITE_P!D16","v":80},{"$f":"USCITE_C!D16","v":0},80,0]
[{"$f":"PIANOCONTI_U!C17","v":"S.01.06"},{"$f":"PIANOCONTI_U!A17","v":"DIRITTI BOLLI TASSE (tabella C)"},{"$f":"PIANOCONTI_U!B17","v":"C"},{"$f":"USCITE_P!D17","v":80},{"$f":"USCITE_C!D17","v":0},80,0]
[{"$f":"PIANOCONTI_U!C18","v":"S.01.07"},{"$f":"PIANOCONTI_U!A18","v":"COMPENSI A TERZI (tabella A)"},{"$f":"PIANOCONTI_U!B18","v":"A"},{"$f":"USCITE_P!D18","v":200},{"$f":"USCITE_C!D18","v":0},200,0]
[{"$f":"PIANOCONTI_U!C19","v":"S.01.08"},{"$f":"PIANOCONTI_U!A19","v":"COMPENSI A TERZI (tabella B)"},{"$f":"PIANOCONTI_U!B19","v":"B"},{"$f":"USCITE_P!D19","v":200},{"$f":"USCITE_C!D19","v":0},200,0]
[{"$f":"PIANOCONTI_U!C20","v":"S.01.09"},{"$f":"PIANOCONTI_U!A20","v":"COMPENSI A TERZI (tabella C)"},{"$f":"PIANOCONTI_U!B20","v":"C"},{"$f":"USCITE_P!D20","v":200},{"$f":"USCITE_C!D20","v":0},200,0]
[{"$f":"PIANOCONTI_U!C21","v":"S.01.10"},{"$f":"PIANOCONTI_U!A21","v":"ALTRE SPESE DOCUMENTATI (tabella A)"},{"$f":"PIANOCONTI_U!B21","v":"A"},{"$f":"USCITE_P!D21","v":10},{"$f":"USCITE_C!D21","v":40},0,30]
[{"$f":"PIANOCONTI_U!C22","v":"S.01.11"},{"$f":"PIANOCONTI_U!A22","v":"ALTRE SPESE DOCUMENTATI (tabella B)"},{"$f":"PIANOCONTI_U!B22","v":"B"},{"$f":"USCITE_P!D22","v":10},{"$f":"USCITE_C!D22","v":0},10,0]
[{"$f":"PIANOCONTI_U!C23","v":"S.01.12"},{"$f":"PIANOCONTI_U!A23","v":"ALTRE SPESE DOCUMENTATI (tabella C)"},{"$f":"PIANOCONTI_U!B23","v":"C"},{"$f":"USCITE_P!D23","v":10},{"$f":"USCITE_C!D23","v":0},10,0]
[{"$f":"PIANOCONTI_U!C24","v":"S.01.11"},{"$f":"PIANOCONTI_U!A24","v":0},{"$f":"PIANOCONTI_U!B24","v":0},{"$f":"USCITE_P!D24","v":0},{"$f":"USCITE_C!D24","v":0},0,0]
[{"$f":"PIANOCONTI_U!C25","v":"S.01.12"},{"$f":"PIANOCONTI_U!A25","v":0},{"$f":"PIANOCONTI_U!B25","v":0},{"$f":"USCITE_P!D25","v":0},{"$f":"USCITE_C!D25","v":0},0,0]
[{"$f":"PIANOCONTI_U!C26","v":"S.01.13"},{"$f":"PIANOCONTI_U!A26","v":0},{"$f":"PIANOCONTI_U!B26","v":0},{"$f":"USCITE_P!D26","v":0},{"$f":"USCITE_C!D26","v":0},0,0]
[{"$f":"PIANOCONTI_U!C27","v":"S.02"},{"$f":"PIANOCONTI_U!A27","v":"COMPETENZE TECNICHE - Prog., D.L. e collaudi (detr.)"},null,{"$f":"SUM(D28:D37)","v":1500},{"$f":"SUM(E28:E37)","v":1700},{"$f":"SUM(F28:F37)","v":0},{"$f":"SUM(G28:G37)","v":200}]
[{"$f":"PIANOCONTI_U!C28","v":"S.02.01"},{"$f":"PIANOCONTI_U!A28","v":"Ricadenti in Tabella A"},{"$f":"PIANOCONTI_U!B28","v":"A"},{"$f":"USCITE_P!D28","v":450},{"$f":"USCITE_C!D28","v":500},{"$f":"IF(D28-E28>0,D28-E28,0)","v":0},{"$f":"IF(D28-E28<=0,E28-D28,0)","v":50}]
[{"$f":"PIANOCONTI_U!C29","v":"S.02.02"},{"$f":"PIANOCONTI_U!A29","v":"Ricadenti in Tabella B"},{"$f":"PIANOCONTI_U!B29","v":"B"},{"$f":"USCITE_P!D29","v":500},{"$f":"USCITE_C!D29","v":500},{"$f":"IF(D29-E29>0,D29-E29,0)","v":0},{"$f":"IF(D29-E29<=0,E29-D29,0)","v":0}]
[{"$f":"PIANOCONTI_U!C30","v":"S.02.03"},{"$f":"PIANOCONTI_U!A30","v":"Ricadenti in Tabella C"},{"$f":"PIANOCONTI_U!B30","v":"C"},{"$f":"USCITE_P!D30","v":550},{"$f":"USCITE_C!D30","v":700},0,150]
[{"$f":"PIANOCONTI_U!C31","v":"S.02.04"},{"$f":"PIANOCONTI_U!A31","v":0},{"$f":"PIANOCONTI_U!B31","v":0},{"$f":"USCITE_P!D31","v":0},{"$f":"USCITE_C!D31","v":0},0,0]
[{"$f":"PIANOCONTI_U!C32","v":"S.02.05"},{"$f":"PIANOCONTI_U!A32","v":0},{"$f":"PIANOCONTI_U!B32","v":0},{"$f":"USCITE_P!D32","v":0},{"$f":"USCITE_C!D32","v":0},0,0]
[{"$f":"PIANOCONTI_U!C33","v":"S.02.06"},{"$f":"PIANOCONTI_U!A33","v":0},{"$f":"PIANOCONTI_U!B33","v":0},{"$f":"USCITE_P!D33","v":0},{"$f":"USCITE_C!D33","v":0},0,0]
[{"$f":"PIANOCONTI_U!C34","v":"S.02.07"},{"$f":"PIANOCONTI_U!A34","v":0},{"$f":"PIANOCONTI_U!B34","v":0},{"$f":"USCITE_P!D34","v":0},{"$f":"USCITE_C!D34","v":0},0,0]
[{"$f":"PIANOCONTI_U!C35","v":"S.02.08"},{"$f":"PIANOCONTI_U!A35","v":0},{"$f":"PIANOCONTI_U!B35","v":0},{"$f":"USCITE_P!D35","v":0},{"$f":"USCITE_C!D35","v":0},0,0]
[{"$f":"PIANOCONTI_U!C36","v":"S.02.09"},{"$f":"PIANOCONTI_U!A36","v":0},{"$f":"PIANOCONTI_U!B36","v":0},{"$f":"USCITE_P!D36","v":0},{"$f":"USCITE_C!D36","v":0},0,0]
[{"$f":"PIANOCONTI_U!C37","v":"S.02.10"},{"$f":"PIANOCONTI_U!A37","v":0},{"$f":"PIANOCONTI_U!B37","v":0},{"$f":"USCITE_P!D37","v":0},{"$f":"USCITE_C!D37","v":0},0,0]
[{"$f":"PIANOCONTI_U!C38","v":"S.03"},{"$f":"PIANOCONTI_U!A38","v":"LAVORI (detraibili)"},null,{"$f":"SUM(D39:D48)","v":12370},{"$f":"SUM(E39:E48)","v":5450},{"$f":"SUM(F39:F48)","v":6920},{"$f":"SUM(G39:G48)","v":0}]
[{"$f":"PIANOCONTI_U!C39","v":"S.03.01"},{"$f":"PIANOCONTI_U!A39","v":"Importo lavori ricadenti in tabella A"},{"$f":"PIANOCONTI_U!B39","v":"A"},{"$f":"USCITE_P!D39","v":3560},{"$f":"USCITE_C!D39","v":3100},{"$f":"IF(D39-E39>0,D39-E39,0)","v":460},{"$f":"IF(D39-E39<=0,E39-D39,0)","v":0}]
[{"$f":"PIANOCONTI_U!C40","v":"S.03.02"},{"$f":"PIANOCONTI_U!A40","v":"Importo lavori ricadenti in tabella B"},{"$f":"PIANOCONTI_U!B40","v":"B"},{"$f":"USCITE_P!D40","v":3920},{"$f":"USCITE_C!D40","v":950},{"$f":"IF(D40-E40>0,D40-E40,0)","v":2970},{"$f":"IF(D40-E40<=0,E40-D40,0)","v":0}]
[{"$f":"PIANOCONTI_U!C41","v":"S.03.03"},{"$f":"PIANOCONTI_U!A41","v":"Importo lavori ricadenti in tabella C"},{"$f":"PIANOCONTI_U!B41","v":"C"},{"$f":"USCITE_P!D41","v":4890},{"$f":"USCITE_C!D41","v":1400},3490,0]
[{"$f":"PIANOCONTI_U!C42","v":"S.03.04"},{"$f":"PIANOCONTI_U!A42","v":0},{"$f":"PIANOCONTI_U!B42","v":0},{"$f":"USCITE_P!D42","v":0},{"$f":"USCITE_C!D42","v":0},0,0]
[{"$f":"PIANOCONTI_U!C43","v":"S.03.05"},{"$f":"PIANOCONTI_U!A43","v":0},{"$f":"PIANOCONTI_U!B43","v":0},{"$f":"USCITE_P!D43","v":0},{"$f":"USCITE_C!D43","v":0},0,0]
[{"$f":"PIANOCONTI_U!C44","v":"S.03.06"},{"$f":"PIANOCONTI_U!A44","v":0},{"$f":"PIANOCONTI_U!B44","v":0},{"$f":"USCITE_P!D44","v":0},{"$f":"USCITE_C!D44","v":0},0,0]
[{"$f":"PIANOCONTI_U!C45","v":"S.03.07"},{"$f":"PIANOCONTI_U!A45","v":0},{"$f":"PIANOCONTI_U!B45","v":0},{"$f":"USCITE_P!D45","v":0},{"$f":"USCITE_C!D45","v":0},0,0]
[{"$f":"PIANOCONTI_U!C46","v":"S.03.08"},{"$f":"PIANOCONTI_U!A46","v":0},{"$f":"PIANOCONTI_U!B46","v":0},{"$f":"USCITE_P!D46","v":0},{"$f":"USCITE_C!D46","v":0},0,0]
[{"$f":"PIANOCONTI_U!C47","v":"S.03.09"},{"$f":"PIANOCONTI_U!A47","v":0},{"$f":"PIANOCONTI_U!B47","v":0},{"$f":"USCITE_P!D47","v":0},{"$f":"USCITE_C!D47","v":0},0,0]
[{"$f":"PIANOCONTI_U!C48","v":"S.03.10"},{"$f":"PIANOCONTI_U!A48","v":0},{"$f":"PIANOCONTI_U!B48","v":0},{"$f":"USCITE_P!D48","v":0},{"$f":"USCITE_C!D48","v":0},0,0]
[{"$f":"PIANOCONTI_U!C49","v":"S.04"},{"$f":"PIANOCONTI_U!A49","v":"SPESE VARIE E IMPREVISTI (detraibili)"},null,{"$f":"SUM(D50:D59)","v":600},{"$f":"SUM(E50:E59)","v":0},{"$f":"SUM(F50:F59)","v":600},{"$f":"SUM(G50:G59)","v":0}]
[{"$f":"PIANOCONTI_U!C50","v":"S.04.01"},{"$f":"PIANOCONTI_U!A50","v":"Ricadenti in Tabella A"},{"$f":"PIANOCONTI_U!B50","v":"A"},{"$f":"USCITE_P!D50","v":200},{"$f":"USCITE_C!D50","v":0},{"$f":"IF(D50-E50>0,D50-E50,0)","v":200},{"$f":"IF(D50-E50<=0,E50-D50,0)","v":0}]
[{"$f":"PIANOCONTI_U!C51","v":"S.04.02"},{"$f":"PIANOCONTI_U!A51","v":"Ricadenti in Tabella B"},{"$f":"PIANOCONTI_U!B51","v":"B"},{"$f":"USCITE_P!D51","v":200},{"$f":"USCITE_C!D51","v":0},{"$f":"IF(D51-E51>0,D51-E51,0)","v":200},{"$f":"IF(D51-E51<=0,E51-D51,0)","v":0}]
[{"$f":"PIANOCONTI_U!C52","v":"S.04.03"},{"$f":"PIANOCONTI_U!A52","v":"Ricadenti in Tabella C"},{"$f":"PIANOCONTI_U!B52","v":"C"},{"$f":"USCITE_P!D52","v":200},{"$f":"USCITE_C!D52","v":0},200,0]
[{"$f":"PIANOCONTI_U!C53","v":"S.04.04"},{"$f":"PIANOCONTI_U!A53","v":0},{"$f":"PIANOCONTI_U!B53","v":0},{"$f":"USCITE_P!D53","v":0},{"$f":"USCITE_C!D53","v":0},0,0]
[{"$f":"PIANOCONTI_U!C54","v":"S.04.05"},{"$f":"PIANOCONTI_U!A54","v":0},{"$f":"PIANOCONTI_U!B54","v":0},{"$f":"USCITE_P!D54","v":0},{"$f":"USCITE_C!D54","v":0},0,0]
[{"$f":"PIANOCONTI_U!C55","v":"S.04.06"},{"$f":"PIANOCONTI_U!A55","v":0},{"$f":"PIANOCONTI_U!B55","v":0},{"$f":"USCITE_P!D55","v":0},{"$f":"USCITE_C!D55","v":0},0,0]
[{"$f":"PIANOCONTI_U!C56","v":"S.04.07"},{"$f":"PIANOCONTI_U!A56","v":0},{"$f":"PIANOCONTI_U!B56","v":0},{"$f":"USCITE_P!D56","v":0},{"$f":"USCITE_C!D56","v":0},0,0]
[{"$f":"PIANOCONTI_U!C57","v":"S.04.08"},{"$f":"PIANOCONTI_U!A57","v":0},{"$f":"PIANOCONTI_U!B57","v":0},{"$f":"USCITE_P!D57","v":0},{"$f":"USCITE_C!D57","v":0},0,0]
[{"$f":"PIANOCONTI_U!C58","v":"S.04.09"},{"$f":"PIANOCONTI_U!A58","v":0},{"$f":"PIANOCONTI_U!B58","v":0},{"$f":"USCITE_P!D58","v":0},{"$f":"USCITE_C!D58","v":0},0,0]
[{"$f":"PIANOCONTI_U!C59","v":"S.04.10"},{"$f":"PIANOCONTI_U!A59","v":0},{"$f":"PIANOCONTI_U!B59","v":0},{"$f":"USCITE_P!D59","v":0},{"$f":"USCITE_C!D59","v":0},0,0]
[{"$f":"PIANOCONTI_U!C60","v":"S.05"},{"$f":"PIANOCONTI_U!A60","v":"LAVORI (non detraibili)"},null,{"$f":"SUM(D61:D70)","v":600},{"$f":"SUM(E61:E70)","v":0},{"$f":"SUM(F61:F70)","v":600},{"$f":"SUM(G61:G70)","v":0}]
[{"$f":"PIANOCONTI_U!C61","v":"S.05.01"},{"$f":"PIANOCONTI_U!A61","v":"Ricadenti in Tabella A"},{"$f":"PIANOCONTI_U!B61","v":"A"},{"$f":"USCITE_P!D61","v":400},{"$f":"USCITE_C!D61","v":0},{"$f":"IF(D61-E61>0,D61-E61,0)","v":400},{"$f":"IF(D61-E61<=0,E61-D61,0)","v":0}]
[{"$f":"PIANOCONTI_U!C62","v":"S.05.02"},{"$f":"PIANOCONTI_U!A62","v":"Ricadenti in Tabella B"},{"$f":"PIANOCONTI_U!B62","v":"B"},{"$f":"USCITE_P!D62","v":200},{"$f":"USCITE_C!D62","v":0},{"$f":"IF(D62-E62>0,D62-E62,0)","v":200},{"$f":"IF(D62-E62<=0,E62-D62,0)","v":0}]
[{"$f":"PIANOCONTI_U!C63","v":"S.05.03"},{"$f":"PIANOCONTI_U!A63","v":0},{"$f":"PIANOCONTI_U!B63","v":0},{"$f":"USCITE_P!D63","v":0},{"$f":"USCITE_C!D63","v":0},0,0]
[{"$f":"PIANOCONTI_U!C64","v":"S.05.04"},{"$f":"PIANOCONTI_U!A64","v":0},{"$f":"PIANOCONTI_U!B64","v":0},{"$f":"USCITE_P!D64","v":0},{"$f":"USCITE_C!D64","v":0},0,0]
[{"$f":"PIANOCONTI_U!C65","v":"S.05.05"},{"$f":"PIANOCONTI_U!A65","v":0},{"$f":"PIANOCONTI_U!B65","v":0},{"$f":"USCITE_P!D65","v":0},{"$f":"USCITE_C!D65","v":0},0,0]
[{"$f":"PIANOCONTI_U!C66","v":"S.05.06"},{"$f":"PIANOCONTI_U!A66","v":0},{"$f":"PIANOCONTI_U!B66","v":0},{"$f":"USCITE_P!D66","v":0},{"$f":"USCITE_C!D66","v":0},0,0]
[{"$f":"PIANOCONTI_U!C67","v":"S.05.07"},{"$f":"PIANOCONTI_U!A67","v":0},{"$f":"PIANOCONTI_U!B67","v":0},{"$f":"USCITE_P!D67","v":0},{"$f":"USCITE_C!D67","v":0},0,0]
[{"$f":"PIANOCONTI_U!C68","v":"S.05.08"},{"$f":"PIANOCONTI_U!A68","v":0},{"$f":"PIANOCONTI_U!B68","v":0},{"$f":"USCITE_P!D68","v":0},{"$f":"USCITE_C!D68","v":0},0,0]
[{"$f":"PIANOCONTI_U!C69","v":"S.05.09"},{"$f":"PIANOCONTI_U!A69","v":0},{"$f":"PIANOCONTI_U!B69","v":0},{"$f":"USCITE_P!D69","v":0},{"$f":"USCITE_C!D69","v":0},0,0]
[{"$f":"PIANOCONTI_U!C70","v":"S.05.10"},{"$f":"PIANOCONTI_U!A70","v":0},{"$f":"PIANOCONTI_U!B70","v":0},{"$f":"USCITE_P!D70","v":0},{"$f":"USCITE_C!D70","v":0},0,0]
[{"$f":"PIANOCONTI_U!C71","v":"S.06"},{"$f":"PIANOCONTI_U!A71","v":0},null,{"$f":"SUM(D72:D76)","v":0},{"$f":"SUM(E72:E76)","v":0},{"$f":"SUM(F72:F76)","v":0},{"$f":"SUM(G72:G76)","v":0}]
[{"$f":"PIANOCONTI_U!C72","v":"S.06.01"},{"$f":"PIANOCONTI_U!A72","v":0},{"$f":"PIANOCONTI_U!B72","v":0},{"$f":"USCITE_P!D72","v":0},{"$f":"USCITE_C!D72","v":0},{"$f":"IF(D72-E72>0,D72-E72,0)","v":0},{"$f":"IF(D72-E72<=0,E72-D72,0)","v":0}]
[{"$f":"PIANOCONTI_U!C73","v":"S.06.02"},{"$f":"PIANOCONTI_U!A73","v":0},{"$f":"PIANOCONTI_U!B73","v":0},{"$f":"USCITE_P!D73","v":0},{"$f":"USCITE_C!D73","v":0},{"$f":"IF(D73-E73>0,D73-E73,0)","v":0},{"$f":"IF(D73-E73<=0,E73-D73,0)","v":0}]
[{"$f":"PIANOCONTI_U!C74","v":"S.06.03"},{"$f":"PIANOCONTI_U!A74","v":0},{"$f":"PIANOCONTI_U!B74","v":0},{"$f":"USCITE_P!D74","v":0},{"$f":"USCITE_C!D74","v":0},{"$f":"IF(D74-E74>0,D74-E74,0)","v":0},0]
[{"$f":"PIANOCONTI_U!C75","v":"S.06.04"},{"$f":"PIANOCONTI_U!A75","v":0},{"$f":"PIANOCONTI_U!B75","v":0},{"$f":"USCITE_P!D75","v":0},{"$f":"USCITE_C!D75","v":0},{"$f":"IF(D75-E75>0,D75-E75,0)","v":0},0]
[{"$f":"PIANOCONTI_U!C76","v":"S.06.05"},{"$f":"PIANOCONTI_U!A76","v":0},{"$f":"PIANOCONTI_U!B76","v":0},{"$f":"USCITE_P!D76","v":0},{"$f":"USCITE_C!D76","v":0},{"$f":"IF(D76-E76>0,D76-E76,0)","v":0},0]
[{"$f":"PIANOCONTI_U!C77","v":"S.07"},{"$f":"PIANOCONTI_U!A77","v":0},null,{"$f":"SUM(D78:D82)","v":0},{"$f":"SUM(E78:E82)","v":0},{"$f":"SUM(F78:F82)","v":0},{"$f":"SUM(G78:G82)","v":0}]
[{"$f":"PIANOCONTI_U!C78","v":"S.07.01"},{"$f":"PIANOCONTI_U!A78","v":0},{"$f":"PIANOCONTI_U!B78","v":0},{"$f":"USCITE_P!D78","v":0},{"$f":"USCITE_C!D78","v":0},{"$f":"IF(D78-E78>0,D78-E78,0)","v":0},0]
[{"$f":"PIANOCONTI_U!C79","v":"S.07.02"},{"$f":"PIANOCONTI_U!A79","v":0},{"$f":"PIANOCONTI_U!B79","v":0},{"$f":"USCITE_P!D79","v":0},{"$f":"USCITE_C!D79","v":0},{"$f":"IF(D79-E79>0,D79-E79,0)","v":0},{"$f":"IF(D79-E79<=0,E79-D79,0)","v":0}]
[{"$f":"PIANOCONTI_U!C80","v":"S.07.03"},{"$f":"PIANOCONTI_U!A80","v":0},{"$f":"PIANOCONTI_U!B80","v":0},{"$f":"USCITE_P!D80","v":0},{"$f":"USCITE_C!D80","v":0},{"$f":"IF(D80-E80>0,D80-E80,0)","v":0},{"$f":"IF(D80-E80<=0,E80-D80,0)","v":0}]
[{"$f":"PIANOCONTI_U!C81","v":"S.07.04"},{"$f":"PIANOCONTI_U!A81","v":0},{"$f":"PIANOCONTI_U!B81","v":0},{"$f":"USCITE_P!D81","v":0},{"$f":"USCITE_C!D81","v":0},{"$f":"IF(D81-E81>0,D81-E81,0)","v":0},{"$f":"IF(D81-E81<=0,E81-D81,0)","v":0}]
[{"$f":"PIANOCONTI_U!C82","v":"S.07.05"},{"$f":"PIANOCONTI_U!A82","v":0},{"$f":"PIANOCONTI_U!B82","v":0},{"$f":"USCITE_P!D82","v":0},{"$f":"USCITE_C!D82","v":0},{"$f":"IF(D82-E82>0,D82-E82,0)","v":0},{"$f":"IF(D82-E82<=0,E82-D82,0)","v":0}]
[{"$f":"PIANOCONTI_U!C83","v":"L"},{"$f":"PIANOCONTI_U!A83","v":0},null,{"$f":"SUM(D84:D88)","v":0},{"$f":"SUM(E84:E88)","v":0},{"$f":"SUM(F84:F88)","v":0},{"$f":"SUM(G84:G88)","v":0}]
[{"$f":"PIANOCONTI_U!C84","v":"L.00.01"},{"$f":"PIANOCONTI_U!A84","v":0},{"$f":"PIANOCONTI_U!B84","v":0},{"$f":"USCITE_P!D84","v":0},{"$f":"USCITE_C!D84","v":0},{"$f":"IF(D84-E84>0,D84-E84,0)","v":0},{"$f":"IF(D84-E84<=0,E84-D84,0)","v":0}]
[{"$f":"PIANOCONTI_U!C85","v":"L.00.02"},{"$f":"PIANOCONTI_U!A85","v":0},{"$f":"PIANOCONTI_U!B85","v":0},{"$f":"USCITE_P!D85","v":0},{"$f":"USCITE_C!D85","v":0},{"$f":"IF(D85-E85>0,D85-E85,0)","v":0},{"$f":"IF(D85-E85<=0,E85-D85,0)","v":0}]
[{"$f":"PIANOCONTI_U!C86","v":"L.00.03"},{"$f":"PIANOCONTI_U!A86","v":0},{"$f":"PIANOCONTI_U!B86","v":0},{"$f":"USCITE_P!D86","v":0},{"$f":"USCITE_C!D86","v":0},{"$f":"IF(D86-E86>0,D86-E86,0)","v":0},{"$f":"IF(D86-E86<=0,E86-D86,0)","v":0}]
[{"$f":"PIANOCONTI_U!C87","v":"L.00.04"},{"$f":"PIANOCONTI_U!A87","v":0},{"$f":"PIANOCONTI_U!B87","v":0},{"$f":"USCITE_P!D87","v":0},{"$f":"USCITE_C!D87","v":0},{"$f":"IF(D87-E87>0,D87-E87,0)","v":0},{"$f":"IF(D87-E87<=0,E87-D87,0)","v":0}]
[{"$f":"PIANOCONTI_U!C88","v":"L.00.05"},{"$f":"PIANOCONTI_U!A88","v":0},{"$f":"PIANOCONTI_U!B88","v":0},{"$f":"USCITE_P!D88","v":0},{"$f":"USCITE_C!D88","v":0},{"$f":"IF(D88-E88>0,D88-E88,0)","v":0},{"$f":"IF(D88-E88<=0,E88-D88,0)","v":0}]
[{"$f":"PIANOCONTI_U!C89","v":"G"},{"$f":"PIANOCONTI_U!A89","v":0}]
[{"$f":"PIANOCONTI_U!C90","v":"G.00.01"},{"$f":"PIANOCONTI_U!A90","v":0},{"$f":"PIANOCONTI_U!B90","v":0},{"$f":"USCITE_P!D90","v":0},{"$f":"USCITE_C!D90","v":0}]
[{"$f":"PIANOCONTI_U!C91","v":"G.00.02"},{"$f":"PIANOCONTI_U!A91","v":0},{"$f":"PIANOCONTI_U!B91","v":0},{"$f":"USCITE_P!D91","v":0},{"$f":"USCITE_C!D91","v":0}]
[{"$f":"PIANOCONTI_U!C92","v":"G.00.03"},{"$f":"PIANOCONTI_U!A92","v":0},{"$f":"PIANOCONTI_U!B92","v":0},{"$f":"USCITE_P!D92","v":0},{"$f":"USCITE_C!D92","v":0}]
[{"$f":"PIANOCONTI_U!C93","v":"G.00.04"},{"$f":"PIANOCONTI_U!A93","v":0},{"$f":"PIANOCONTI_U!B93","v":0},{"$f":"USCITE_P!D93","v":0},{"$f":"USCITE_C!D93","v":0}]
[{"$f":"PIANOCONTI_U!C94","v":"G.00.05"},{"$f":"PIANOCONTI_U!A94","v":0},{"$f":"PIANOCONTI_U!B94","v":0},{"$f":"USCITE_P!D94","v":0},{"$f":"USCITE_C!D94","v":0}]
[{"$f":"PIANOCONTI_U!C95","v":"P"},{"$f":"PIANOCONTI_U!A95","v":"SPESE PERSONALI PER UNITÀ FUNZIONALE (detraibili)"},null,{"$f":"SUM(D96:D194)","v":950},{"$f":"SUM(E96:E194)","v":20},{"$f":"SUM(F96:F194)","v":950},{"$f":"SUM(G96:G194)","v":20}]
[{"$f":"PIANOCONTI_U!C96","v":"P.00.01"},{"$f":"PIANOCONTI_U!A96","v":"Unità funzionale condominiale UFC01"},{"$f":"PIANOCONTI_U!B96","v":0},{"$f":"USCITE_P!D96","v":0},{"$f":"USCITE_C!D96","v":0},{"$f":"IF(D96-E96>0,D96-E96,0)","v":0},{"$f":"IF(D96-E96<=0,E96-D96,0)","v":0}]
[{"$f":"PIANOCONTI_U!C97","v":"P.00.02"},{"$f":"PIANOCONTI_U!A97","v":"Unità funzionale condominiale UFC02"},{"$f":"PIANOCONTI_U!B97","v":0},{"$f":"USCITE_P!D97","v":0},{"$f":"USCITE_C!D97","v":0},{"$f":"IF(D97-E97>0,D97-E97,0)","v":0},{"$f":"IF(D97-E97<=0,E97-D97,0)","v":0}]
[{"$f":"PIANOCONTI_U!C98","v":"P.00.03"},{"$f":"PIANOCONTI_U!A98","v":"Unità funzionale condominiale UFC03"},{"$f":"PIANOCONTI_U!B98","v":0},{"$f":"USCITE_P!D98","v":200},{"$f":"USCITE_C!D98","v":0},200,0]
[{"$f":"PIANOCONTI_U!C99","v":"P.00.04"},{"$f":"PIANOCONTI_U!A99","v":"Unità funzionale condominiale UFC04"},{"$f":"PIANOCONTI_U!B99","v":0},{"$f":"USCITE_P!D99","v":0},{"$f":"USCITE_C!D99","v":0},0,0]
[{"$f":"PIANOCONTI_U!C100","v":"P.00.05"},{"$f":"PIANOCONTI_U!A100","v":"Unità funzionale condominiale UFC05"},{"$f":"PIANOCONTI_U!B100","v":0},{"$f":"USCITE_P!D100","v":0},{"$f":"USCITE_C!D100","v":0},0,0]
[{"$f":"PIANOCONTI_U!C101","v":"P.00.06"},{"$f":"PIANOCONTI_U!A101","v":"Unità funzionale condominiale UFC06"},{"$f":"PIANOCONTI_U!B101","v":0},{"$f":"USCITE_P!D101","v":0},{"$f":"USCITE_C!D101","v":0},0,0]
[{"$f":"PIANOCONTI_U!C102","v":"P.00.07"},{"$f":"PIANOCONTI_U!A102","v":"Unità funzionale condominiale UFC07"},{"$f":"PIANOCONTI_U!B102","v":0},{"$f":"USCITE_P!D102","v":0},{"$f":"USCITE_C!D102","v":0},0,0]
[{"$f":"PIANOCONTI_U!C103","v":"P.00.08"},{"$f":"PIANOCONTI_U!A103","v":"Unità funzionale condominiale UFC08"},{"$f":"PIANOCONTI_U!B103","v":0},{"$f":"USCITE_P!D103","v":0},{"$f":"USCITE_C!D103","v":0},0,0]
[{"$f":"PIANOCONTI_U!C104","v":"P.00.09"},{"$f":"PIANOCONTI_U!A104","v":"Unità funzionale condominiale UFC09"},{"$f":"PIANOCONTI_U!B104","v":0},{"$f":"USCITE_P!D104","v":0},{"$f":"USCITE_C!D104","v":0},0,0]
[{"$f":"PIANOCONTI_U!C105","v":"P.00.10"},{"$f":"PIANOCONTI_U!A105","v":"Unità funzionale condominiale UFC10"},{"$f":"PIANOCONTI_U!B105","v":0},{"$f":"USCITE_P!D105","v":0},{"$f":"USCITE_C!D105","v":0},0,0]
[{"$f":"PIANOCONTI_U!C106","v":"P.00.11"},{"$f":"PIANOCONTI_U!A106","v":"Unità funzionale condominiale UFC11"},{"$f":"PIANOCONTI_U!B106","v":0},{"$f":"USCITE_P!D106","v":0},{"$f":"USCITE_C!D106","v":20},0,20]
[{"$f":"PIANOCONTI_U!C107","v":"P.00.12"},{"$f":"PIANOCONTI_U!A107","v":"Unità funzionale condominiale UFC12"},{"$f":"PIANOCONTI_U!B107","v":0},{"$f":"USCITE_P!D107","v":400},{"$f":"USCITE_C!D107","v":0},400,0]
[{"$f":"PIANOCONTI_U!C108","v":"P.00.13"},{"$f":"PIANOCONTI_U!A108","v":"Unità funzionale condominiale UFC13"},{"$f":"PIANOCONTI_U!B108","v":0},{"$f":"USCITE_P!D108","v":0},{"$f":"USCITE_C!D108","v":0},0,0]
[{"$f":"PIANOCONTI_U!C109","v":"P.00.14"},{"$f":"PIANOCONTI_U!A109","v":"Unità funzionale condominiale UFC14"},{"$f":"PIANOCONTI_U!B109","v":0},{"$f":"USCITE_P!D109","v":0},{"$f":"USCITE_C!D109","v":0},0,0]
[{"$f":"PIANOCONTI_U!C110","v":"P.00.15"},{"$f":"PIANOCONTI_U!A110","v":"Unità funzionale condominiale UFC15"},{"$f":"PIANOCONTI_U!B110","v":0},{"$f":"USCITE_P!D110","v":0},{"$f":"USCITE_C!D110","v":0},0,0]
[{"$f":"PIANOCONTI_U!C111","v":"P.00.16"},{"$f":"PIANOCONTI_U!A111","v":"Unità funzionale condominiale UFC16"},{"$f":"PIANOCONTI_U!B111","v":0},{"$f":"USCITE_P!D111","v":0},{"$f":"USCITE_C!D111","v":0},0,0]
[{"$f":"PIANOCONTI_U!C112","v":"P.00.17"},{"$f":"PIANOCONTI_U!A112","v":"Unità funzionale condominiale UFC17"},{"$f":"PIANOCONTI_U!B112","v":0},{"$f":"USCITE_P!D112","v":0},{"$f":"USCITE_C!D112","v":0},0,0]
[{"$f":"PIANOCONTI_U!C113","v":"P.00.18"},{"$f":"PIANOCONTI_U!A113","v":"Unità funzionale condominiale UFC18"},{"$f":"PIANOCONTI_U!B113","v":0},{"$f":"USCITE_P!D113","v":350},{"$f":"USCITE_C!D113","v":0},350,0]
[{"$f":"PIANOCONTI_U!C114","v":"P.00.19"},{"$f":"PIANOCONTI_U!A114","v":"Unità funzionale condominiale UFC19"},{"$f":"PIANOCONTI_U!B114","v":0},{"$f":"USCITE_P!D114","v":0},{"$f":"USCITE_C!D114","v":0},0,0]
[{"$f":"PIANOCONTI_U!C115","v":"P.00.20"},{"$f":"PIANOCONTI_U!A115","v":"Unità funzionale condominiale UFC20"},{"$f":"PIANOCONTI_U!B115","v":0},{"$f":"USCITE_P!D115","v":0},{"$f":"USCITE_C!D115","v":0},0,0]
[{"$f":"PIANOCONTI_U!C116","v":"P.00.21"},{"$f":"PIANOCONTI_U!A116","v":"Unità funzionale condominiale UFC21"},{"$f":"PIANOCONTI_U!B116","v":0},{"$f":"USCITE_P!D116","v":0},{"$f":"USCITE_C!D116","v":0},0,0]
[{"$f":"PIANOCONTI_U!C117","v":"P.00.22"},{"$f":"PIANOCONTI_U!A117","v":"Unità funzionale condominiale UFC22"},{"$f":"PIANOCONTI_U!B117","v":0},{"$f":"USCITE_P!D117","v":0},{"$f":"USCITE_C!D117","v":0},0,0]
[{"$f":"PIANOCONTI_U!C118","v":"P.00.23"},{"$f":"PIANOCONTI_U!A118","v":"Unità funzionale condominiale UFC23"},{"$f":"PIANOCONTI_U!B118","v":0},{"$f":"USCITE_P!D118","v":0},{"$f":"USCITE_C!D118","v":0},0,0]
[{"$f":"PIANOCONTI_U!C119","v":"P.00.24"},{"$f":"PIANOCONTI_U!A119","v":"Unità funzionale condominiale UFC24"},{"$f":"PIANOCONTI_U!B119","v":0},{"$f":"USCITE_P!D119","v":0},{"$f":"USCITE_C!D119","v":0},0,0]
[{"$f":"PIANOCONTI_U!C120","v":"P.00.25"},{"$f":"PIANOCONTI_U!A120","v":"Unità funzionale condominiale UFC25"},{"$f":"PIANOCONTI_U!B120","v":0},{"$f":"USCITE_P!D120","v":0},{"$f":"USCITE_C!D120","v":0},0,0]
[{"$f":"PIANOCONTI_U!C121","v":"P.00.26"},{"$f":"PIANOCONTI_U!A121","v":"Unità funzionale condominiale UFC26"},{"$f":"PIANOCONTI_U!B121","v":0},{"$f":"USCITE_P!D121","v":0},{"$f":"USCITE_C!D121","v":0},0,0]
[{"$f":"PIANOCONTI_U!C122","v":"P.00.27"},{"$f":"PIANOCONTI_U!A122","v":"Unità funzionale condominiale UFC27"},{"$f":"PIANOCONTI_U!B122","v":0},{"$f":"USCITE_P!D122","v":0},{"$f":"USCITE_C!D122","v":0},0,0]
[{"$f":"PIANOCONTI_U!C123","v":"P.00.28"},{"$f":"PIANOCONTI_U!A123","v":"Unità funzionale condominiale UFC28"},{"$f":"PIANOCONTI_U!B123","v":0},{"$f":"USCITE_P!D123","v":0},{"$f":"USCITE_C!D123","v":0},0,0]
[{"$f":"PIANOCONTI_U!C124","v":"P.00.29"},{"$f":"PIANOCONTI_U!A124","v":"Unità funzionale condominiale UFC29"},{"$f":"PIANOCONTI_U!B124","v":0},{"$f":"USCITE_P!D124","v":0},{"$f":"USCITE_C!D124","v":0},0,0]
[{"$f":"PIANOCONTI_U!C125","v":"P.00.30"},{"$f":"PIANOCONTI_U!A125","v":"Unità funzionale condominiale UFC30"},{"$f":"PIANOCONTI_U!B125","v":0},{"$f":"USCITE_P!D125","v":0},{"$f":"USCITE_C!D125","v":0},0,0]
[{"$f":"PIANOCONTI_U!C126","v":"P.00.31"},{"$f":"PIANOCONTI_U!A126","v":"Unità funzionale condominiale UFC31"},{"$f":"PIANOCONTI_U!B126","v":0},{"$f":"USCITE_P!D126","v":0},{"$f":"USCITE_C!D126","v":0},0,0]
[{"$f":"PIANOCONTI_U!C127","v":"P.00.32"},{"$f":"PIANOCONTI_U!A127","v":"Unità funzionale condominiale UFC32"},{"$f":"PIANOCONTI_U!B127","v":0},{"$f":"USCITE_P!D127","v":0},{"$f":"USCITE_C!D127","v":0},0,0]
[{"$f":"PIANOCONTI_U!C128","v":"P.00.33"},{"$f":"PIANOCONTI_U!A128","v":"Unità funzionale condominiale UFC33"},{"$f":"PIANOCONTI_U!B128","v":0},{"$f":"USCITE_P!D128","v":0},{"$f":"USCITE_C!D128","v":0},0,0]
[{"$f":"PIANOCONTI_U!C129","v":"P.00.34"},{"$f":"PIANOCONTI_U!A129","v":"Unità funzionale condominiale UFC34"},{"$f":"PIANOCONTI_U!B129","v":0},{"$f":"USCITE_P!D129","v":0},{"$f":"USCITE_C!D129","v":0},0,0]
[{"$f":"PIANOCONTI_U!C130","v":"P.00.35"},{"$f":"PIANOCONTI_U!A130","v":"Unità funzionale condominiale UFC35"},{"$f":"PIANOCONTI_U!B130","v":0},{"$f":"USCITE_P!D130","v":0},{"$f":"USCITE_C!D130","v":0},0,0]
[{"$f":"PIANOCONTI_U!C131","v":"P.00.36"},{"$f":"PIANOCONTI_U!A131","v":"Unità funzionale condominiale UFC36"},{"$f":"PIANOCONTI_U!B131","v":0},{"$f":"USCITE_P!D131","v":0},{"$f":"USCITE_C!D131","v":0},0,0]
[{"$f":"PIANOCONTI_U!C132","v":"P.00.37"},{"$f":"PIANOCONTI_U!A132","v":"Unità funzionale condominiale UFC37"},{"$f":"PIANOCONTI_U!B132","v":0},{"$f":"USCITE_P!D132","v":0},{"$f":"USCITE_C!D132","v":0},0,0]
[{"$f":"PIANOCONTI_U!C133","v":"P.00.38"},{"$f":"PIANOCONTI_U!A133","v":"Unità funzionale condominiale UFC38"},{"$f":"PIANOCONTI_U!B133","v":0},{"$f":"USCITE_P!D133","v":0},{"$f":"USCITE_C!D133","v":0},0,0]
[{"$f":"PIANOCONTI_U!C134","v":"P.00.39"},{"$f":"PIANOCONTI_U!A134","v":"Unità funzionale condominiale UFC39"},{"$f":"PIANOCONTI_U!B134","v":0},{"$f":"USCITE_P!D134","v":0},{"$f":"USCITE_C!D134","v":0},0,0]
[{"$f":"PIANOCONTI_U!C135","v":"P.00.40"},{"$f":"PIANOCONTI_U!A135","v":"Unità funzionale condominiale UFC40"},{"$f":"PIANOCONTI_U!B135","v":0},{"$f":"USCITE_P!D135","v":0},{"$f":"USCITE_C!D135","v":0},0,0]
[{"$f":"PIANOCONTI_U!C136","v":"P.00.41"},{"$f":"PIANOCONTI_U!A136","v":"Unità funzionale condominiale UFC41"},{"$f":"PIANOCONTI_U!B136","v":0},{"$f":"USCITE_P!D136","v":0},{"$f":"USCITE_C!D136","v":0},0,0]
[{"$f":"PIANOCONTI_U!C137","v":"P.00.42"},{"$f":"PIANOCONTI_U!A137","v":"Unità funzionale condominiale UFC42"},{"$f":"PIANOCONTI_U!B137","v":0},{"$f":"USCITE_P!D137","v":0},{"$f":"USCITE_C!D137","v":0},0,0]
[{"$f":"PIANOCONTI_U!C138","v":"P.00.43"},{"$f":"PIANOCONTI_U!A138","v":"Unità funzionale condominiale UFC43"},{"$f":"PIANOCONTI_U!B138","v":0},{"$f":"USCITE_P!D138","v":0},{"$f":"USCITE_C!D138","v":0},0,0]
[{"$f":"PIANOCONTI_U!C139","v":"P.00.44"},{"$f":"PIANOCONTI_U!A139","v":"Unità funzionale condominiale UFC44"},{"$f":"PIANOCONTI_U!B139","v":0},{"$f":"USCITE_P!D139","v":0},{"$f":"USCITE_C!D139","v":0},0,0]
[{"$f":"PIANOCONTI_U!C140","v":"P.00.45"},{"$f":"PIANOCONTI_U!A140","v":"Unità funzionale condominiale UFC45"},{"$f":"PIANOCONTI_U!B140","v":0},{"$f":"USCITE_P!D140","v":0},{"$f":"USCITE_C!D140","v":0},0,0]
[{"$f":"PIANOCONTI_U!C141","v":"P.00.46"},{"$f":"PIANOCONTI_U!A141","v":"Unità funzionale condominiale UFC46"},{"$f":"PIANOCONTI_U!B141","v":0},{"$f":"USCITE_P!D141","v":0},{"$f":"USCITE_C!D141","v":0},0,0]
[{"$f":"PIANOCONTI_U!C142","v":"P.00.47"},{"$f":"PIANOCONTI_U!A142","v":"Unità funzionale condominiale UFC47"},{"$f":"PIANOCONTI_U!B142","v":0},{"$f":"USCITE_P!D142","v":0},{"$f":"USCITE_C!D142","v":0},0,0]
[{"$f":"PIANOCONTI_U!C143","v":"P.00.48"},{"$f":"PIANOCONTI_U!A143","v":"Unità funzionale condominiale UFC48"},{"$f":"PIANOCONTI_U!B143","v":0},{"$f":"USCITE_P!D143","v":0},{"$f":"USCITE_C!D143","v":0},0,0]
[{"$f":"PIANOCONTI_U!C144","v":"P.00.49"},{"$f":"PIANOCONTI_U!A144","v":"Unità funzionale condominiale UFC49"},{"$f":"PIANOCONTI_U!B144","v":0},{"$f":"USCITE_P!D144","v":0},{"$f":"USCITE_C!D144","v":0},0,0]
[{"$f":"PIANOCONTI_U!C145","v":"P.00.50"},{"$f":"PIANOCONTI_U!A145","v":"Unità funzionale condominiale UFC50"},{"$f":"PIANOCONTI_U!B145","v":0},{"$f":"USCITE_P!D145","v":0},{"$f":"USCITE_C!D145","v":0},0,0]
[{"$f":"PIANOCONTI_U!C146","v":"P.00.51"},{"$f":"PIANOCONTI_U!A146","v":"Unità funzionale condominiale UFC51"},{"$f":"PIANOCONTI_U!B146","v":0},{"$f":"USCITE_P!D146","v":0},{"$f":"USCITE_C!D146","v":0},0,0]
[{"$f":"PIANOCONTI_U!C147","v":"P.00.52"},{"$f":"PIANOCONTI_U!A147","v":"Unità funzionale condominiale UFC52"},{"$f":"PIANOCONTI_U!B147","v":0},{"$f":"USCITE_P!D147","v":0},{"$f":"USCITE_C!D147","v":0},0,0]
[{"$f":"PIANOCONTI_U!C148","v":"P.00.53"},{"$f":"PIANOCONTI_U!A148","v":"Unità funzionale condominiale UFC53"},{"$f":"PIANOCONTI_U!B148","v":0},{"$f":"USCITE_P!D148","v":0},{"$f":"USCITE_C!D148","v":0},0,0]
[{"$f":"PIANOCONTI_U!C149","v":"P.00.54"},{"$f":"PIANOCONTI_U!A149","v":"Unità funzionale condominiale UFC54"},{"$f":"PIANOCONTI_U!B149","v":0},{"$f":"USCITE_P!D149","v":0},{"$f":"USCITE_C!D149","v":0},0,0]
[{"$f":"PIANOCONTI_U!C150","v":"P.00.55"},{"$f":"PIANOCONTI_U!A150","v":"Unità funzionale condominiale UFC55"},{"$f":"PIANOCONTI_U!B150","v":0},{"$f":"USCITE_P!D150","v":0},{"$f":"USCITE_C!D150","v":0},0,0]
[{"$f":"PIANOCONTI_U!C151","v":"P.00.56"},{"$f":"PIANOCONTI_U!A151","v":"Unità funzionale condominiale UFC56"},{"$f":"PIANOCONTI_U!B151","v":0},{"$f":"USCITE_P!D151","v":0},{"$f":"USCITE_C!D151","v":0},0,0]
[{"$f":"PIANOCONTI_U!C152","v":"P.00.57"},{"$f":"PIANOCONTI_U!A152","v":"Unità funzionale condominiale UFC57"},{"$f":"PIANOCONTI_U!B152","v":0},{"$f":"USCITE_P!D152","v":0},{"$f":"USCITE_C!D152","v":0},0,0]
[{"$f":"PIANOCONTI_U!C153","v":"P.00.58"},{"$f":"PIANOCONTI_U!A153","v":"Unità funzionale condominiale UFC58"},{"$f":"PIANOCONTI_U!B153","v":0},{"$f":"USCITE_P!D153","v":0},{"$f":"USCITE_C!D153","v":0},0,0]
[{"$f":"PIANOCONTI_U!C154","v":"P.00.59"},{"$f":"PIANOCONTI_U!A154","v":"Unità funzionale condominiale UFC59"},{"$f":"PIANOCONTI_U!B154","v":0},{"$f":"USCITE_P!D154","v":0},{"$f":"USCITE_C!D154","v":0},0,0]
[{"$f":"PIANOCONTI_U!C155","v":"P.00.60"},{"$f":"PIANOCONTI_U!A155","v":"Unità funzionale condominiale UFC60"},{"$f":"PIANOCONTI_U!B155","v":0},{"$f":"USCITE_P!D155","v":0},{"$f":"USCITE_C!D155","v":0},0,0]
[{"$f":"PIANOCONTI_U!C156","v":"P.00.61"},{"$f":"PIANOCONTI_U!A156","v":"Unità funzionale condominiale UFC61"},{"$f":"PIANOCONTI_U!B156","v":0},{"$f":"USCITE_P!D156","v":0},{"$f":"USCITE_C!D156","v":0},0,0]
[{"$f":"PIANOCONTI_U!C157","v":"P.00.62"},{"$f":"PIANOCONTI_U!A157","v":"Unità funzionale condominiale UFC62"},{"$f":"PIANOCONTI_U!B157","v":0},{"$f":"USCITE_P!D157","v":0},{"$f":"USCITE_C!D157","v":0},0,0]
[{"$f":"PIANOCONTI_U!C158","v":"P.00.63"},{"$f":"PIANOCONTI_U!A158","v":"Unità funzionale condominiale UFC63"},{"$f":"PIANOCONTI_U!B158","v":0},{"$f":"USCITE_P!D158","v":0},{"$f":"USCITE_C!D158","v":0},0,0]
[{"$f":"PIANOCONTI_U!C159","v":"P.00.64"},{"$f":"PIANOCONTI_U!A159","v":"Unità funzionale condominiale UFC64"},{"$f":"PIANOCONTI_U!B159","v":0},{"$f":"USCITE_P!D159","v":0},{"$f":"USCITE_C!D159","v":0},0,0]
[{"$f":"PIANOCONTI_U!C160","v":"P.00.65"},{"$f":"PIANOCONTI_U!A160","v":"Unità funzionale condominiale UFC65"},{"$f":"PIANOCONTI_U!B160","v":0},{"$f":"USCITE_P!D160","v":0},{"$f":"USCITE_C!D160","v":0},0,0]
[{"$f":"PIANOCONTI_U!C161","v":"P.00.66"},{"$f":"PIANOCONTI_U!A161","v":"Unità funzionale condominiale UFC66"},{"$f":"PIANOCONTI_U!B161","v":0},{"$f":"USCITE_P!D161","v":0},{"$f":"USCITE_C!D161","v":0},{"$f":"IF(D161-E161>0,D161-E161,0)","v":0},{"$f":"IF(D161-E161<=0,E161-D161,0)","v":0}]
[{"$f":"PIANOCONTI_U!C162","v":"P.00.67"},{"$f":"PIANOCONTI_U!A162","v":"Unità funzionale condominiale UFC67"},{"$f":"PIANOCONTI_U!B162","v":0},{"$f":"USCITE_P!D162","v":0},{"$f":"USCITE_C!D162","v":0},0,0]
[{"$f":"PIANOCONTI_U!C163","v":"P.00.68"},{"$f":"PIANOCONTI_U!A163","v":"Unità funzionale condominiale UFC68"},{"$f":"PIANOCONTI_U!B163","v":0},{"$f":"USCITE_P!D163","v":0},{"$f":"USCITE_C!D163","v":0},0,0]
[{"$f":"PIANOCONTI_U!C164","v":"P.00.69"},{"$f":"PIANOCONTI_U!A164","v":"Unità funzionale condominiale UFC69"},{"$f":"PIANOCONTI_U!B164","v":0},{"$f":"USCITE_P!D164","v":0},{"$f":"USCITE_C!D164","v":0},0,0]
[{"$f":"PIANOCONTI_U!C165","v":"P.00.70"},{"$f":"PIANOCONTI_U!A165","v":"Unità funzionale condominiale UFC70"},{"$f":"PIANOCONTI_U!B165","v":0},{"$f":"USCITE_P!D165","v":0},{"$f":"USCITE_C!D165","v":0},0,0]
[{"$f":"PIANOCONTI_U!C166","v":"P.00.71"},{"$f":"PIANOCONTI_U!A166","v":"Unità funzionale condominiale UFC71"},{"$f":"PIANOCONTI_U!B166","v":0},{"$f":"USCITE_P!D166","v":0},{"$f":"USCITE_C!D166","v":0},0,0]
[{"$f":"PIANOCONTI_U!C167","v":"P.00.72"},{"$f":"PIANOCONTI_U!A167","v":"Unità funzionale condominiale UFC72"},{"$f":"PIANOCONTI_U!B167","v":0},{"$f":"USCITE_P!D167","v":0},{"$f":"USCITE_C!D167","v":0},0,0]
[{"$f":"PIANOCONTI_U!C168","v":"P.00.73"},{"$f":"PIANOCONTI_U!A168","v":"Unità funzionale condominiale UFC73"},{"$f":"PIANOCONTI_U!B168","v":0},{"$f":"USCITE_P!D168","v":0},{"$f":"USCITE_C!D168","v":0},0,0]
[{"$f":"PIANOCONTI_U!C169","v":"P.00.74"},{"$f":"PIANOCONTI_U!A169","v":"Unità funzionale condominiale UFC74"},{"$f":"PIANOCONTI_U!B169","v":0},{"$f":"USCITE_P!D169","v":0},{"$f":"USCITE_C!D169","v":0},0,0]
[{"$f":"PIANOCONTI_U!C170","v":"P.00.75"},{"$f":"PIANOCONTI_U!A170","v":"Unità funzionale condominiale UFC75"},{"$f":"PIANOCONTI_U!B170","v":0},{"$f":"USCITE_P!D170","v":0},{"$f":"USCITE_C!D170","v":0},0,0]
[{"$f":"PIANOCONTI_U!C171","v":"P.00.76"},{"$f":"PIANOCONTI_U!A171","v":"Unità funzionale condominiale UFC76"},{"$f":"PIANOCONTI_U!B171","v":0},{"$f":"USCITE_P!D171","v":0},{"$f":"USCITE_C!D171","v":0},0,0]
[{"$f":"PIANOCONTI_U!C172","v":"P.00.77"},{"$f":"PIANOCONTI_U!A172","v":"Unità funzionale condominiale UFC77"},{"$f":"PIANOCONTI_U!B172","v":0},{"$f":"USCITE_P!D172","v":0},{"$f":"USCITE_C!D172","v":0},0,0]
[{"$f":"PIANOCONTI_U!C173","v":"P.00.78"},{"$f":"PIANOCONTI_U!A173","v":"Unità funzionale condominiale UFC78"},{"$f":"PIANOCONTI_U!B173","v":0},{"$f":"USCITE_P!D173","v":0},{"$f":"USCITE_C!D173","v":0},0,0]
[{"$f":"PIANOCONTI_U!C174","v":"P.00.79"},{"$f":"PIANOCONTI_U!A174","v":"Unità funzionale condominiale UFC79"},{"$f":"PIANOCONTI_U!B174","v":0},{"$f":"USCITE_P!D174","v":0},{"$f":"USCITE_C!D174","v":0},0,0]
[{"$f":"PIANOCONTI_U!C175","v":"P.00.80"},{"$f":"PIANOCONTI_U!A175","v":"Unità funzionale condominiale UFC80"},{"$f":"PIANOCONTI_U!B175","v":0},{"$f":"USCITE_P!D175","v":0},{"$f":"USCITE_C!D175","v":0},0,0]
[{"$f":"PIANOCONTI_U!C176","v":"P.00.81"},{"$f":"PIANOCONTI_U!A176","v":"Unità funzionale condominiale UFC81"},{"$f":"PIANOCONTI_U!B176","v":0},{"$f":"USCITE_P!D176","v":0},{"$f":"USCITE_C!D176","v":0},0,0]
[{"$f":"PIANOCONTI_U!C177","v":"P.00.82"},{"$f":"PIANOCONTI_U!A177","v":"Unità funzionale condominiale UFC82"},{"$f":"PIANOCONTI_U!B177","v":0},{"$f":"USCITE_P!D177","v":0},{"$f":"USCITE_C!D177","v":0},0,0]
[{"$f":"PIANOCONTI_U!C178","v":"P.00.83"},{"$f":"PIANOCONTI_U!A178","v":"Unità funzionale condominiale UFC83"},{"$f":"PIANOCONTI_U!B178","v":0},{"$f":"USCITE_P!D178","v":0},{"$f":"USCITE_C!D178","v":0},0,0]
[{"$f":"PIANOCONTI_U!C179","v":"P.00.84"},{"$f":"PIANOCONTI_U!A179","v":"Unità funzionale condominiale UFC84"},{"$f":"PIANOCONTI_U!B179","v":0},{"$f":"USCITE_P!D179","v":0},{"$f":"USCITE_C!D179","v":0},0,0]
[{"$f":"PIANOCONTI_U!C180","v":"P.00.85"},{"$f":"PIANOCONTI_U!A180","v":"Unità funzionale condominiale UFC85"},{"$f":"PIANOCONTI_U!B180","v":0},{"$f":"USCITE_P!D180","v":0},{"$f":"USCITE_C!D180","v":0},0,0]
[{"$f":"PIANOCONTI_U!C181","v":"P.00.86"},{"$f":"PIANOCONTI_U!A181","v":"Unità funzionale condominiale UFC86"},{"$f":"PIANOCONTI_U!B181","v":0},{"$f":"USCITE_P!D181","v":0},{"$f":"USCITE_C!D181","v":0},0,0]
[{"$f":"PIANOCONTI_U!C182","v":"P.00.87"},{"$f":"PIANOCONTI_U!A182","v":"Unità funzionale condominiale UFC87"},{"$f":"PIANOCONTI_U!B182","v":0},{"$f":"USCITE_P!D182","v":0},{"$f":"USCITE_C!D182","v":0},0,0]
[{"$f":"PIANOCONTI_U!C183","v":"P.00.88"},{"$f":"PIANOCONTI_U!A183","v":"Unità funzionale condominiale UFC88"},{"$f":"PIANOCONTI_U!B183","v":0},{"$f":"USCITE_P!D183","v":0},{"$f":"USCITE_C!D183","v":0},0,0]
[{"$f":"PIANOCONTI_U!C184","v":"P.00.89"},{"$f":"PIANOCONTI_U!A184","v":"Unità funzionale condominiale UFC89"},{"$f":"PIANOCONTI_U!B184","v":0},{"$f":"USCITE_P!D184","v":0},{"$f":"USCITE_C!D184","v":0},0,0]
[{"$f":"PIANOCONTI_U!C185","v":"P.00.90"},{"$f":"PIANOCONTI_U!A185","v":"Unità funzionale condominiale UFC90"},{"$f":"PIANOCONTI_U!B185","v":0},{"$f":"USCITE_P!D185","v":0},{"$f":"USCITE_C!D185","v":0},0,0]
[{"$f":"PIANOCONTI_U!C186","v":"P.00.91"},{"$f":"PIANOCONTI_U!A186","v":"Unità funzionale condominiale UFC91"},{"$f":"PIANOCONTI_U!B186","v":0},{"$f":"USCITE_P!D186","v":0},{"$f":"USCITE_C!D186","v":0},0,0]
[{"$f":"PIANOCONTI_U!C187","v":"P.00.92"},{"$f":"PIANOCONTI_U!A187","v":"Unità funzionale condominiale UFC92"},{"$f":"PIANOCONTI_U!B187","v":0},{"$f":"USCITE_P!D187","v":0},{"$f":"USCITE_C!D187","v":0},0,0]
[{"$f":"PIANOCONTI_U!C188","v":"P.00.93"},{"$f":"PIANOCONTI_U!A188","v":"Unità funzionale condominiale UFC93"},{"$f":"PIANOCONTI_U!B188","v":0},{"$f":"USCITE_P!D188","v":0},{"$f":"USCITE_C!D188","v":0},0,0]
[{"$f":"PIANOCONTI_U!C189","v":"P.00.94"},{"$f":"PIANOCONTI_U!A189","v":"Unità funzionale condominiale UFC94"},{"$f":"PIANOCONTI_U!B189","v":0},{"$f":"USCITE_P!D189","v":0},{"$f":"USCITE_C!D189","v":0},0,0]
[{"$f":"PIANOCONTI_U!C190","v":"P.00.95"},{"$f":"PIANOCONTI_U!A190","v":"Unità funzionale condominiale UFC95"},{"$f":"PIANOCONTI_U!B190","v":0},{"$f":"USCITE_P!D190","v":0},{"$f":"USCITE_C!D190","v":0},0,0]
[{"$f":"PIANOCONTI_U!C191","v":"P.00.96"},{"$f":"PIANOCONTI_U!A191","v":"Unità funzionale condominiale UFC96"},{"$f":"PIANOCONTI_U!B191","v":0},{"$f":"USCITE_P!D191","v":0},{"$f":"USCITE_C!D191","v":0},0,0]
[{"$f":"PIANOCONTI_U!C192","v":"P.00.97"},{"$f":"PIANOCONTI_U!A192","v":"Unità funzionale condominiale UFC97"},{"$f":"PIANOCONTI_U!B192","v":0},{"$f":"USCITE_P!D192","v":0},{"$f":"USCITE_C!D192","v":0},0,0]
[{"$f":"PIANOCONTI_U!C193","v":"P.00.98"},{"$f":"PIANOCONTI_U!A193","v":"Unità funzionale condominiale UFC98"},{"$f":"PIANOCONTI_U!B193","v":0},{"$f":"USCITE_P!D193","v":0},{"$f":"USCITE_C!D193","v":0},0,0]
[{"$f":"PIANOCONTI_U!C194","v":"P.00.99"},{"$f":"PIANOCONTI_U!A194","v":"Unità funzionale condominiale UFC99"},{"$f":"PIANOCONTI_U!B194","v":0},{"$f":"USCITE_P!D194","v":0},{"$f":"USCITE_C!D194","v":0},0,0]
["TOTALI",null,null,{"$f":"SUMIFS(D11:D194,C11:C194,\"\")","v":17190},{"$f":"SUMIFS(E11:E194,C11:C194,\"\")","v":7220},{"$f":"SUMIFS(F11:F194,C11:C194,\"\")","v":10220},{"$f":"SUMIFS(G11:G194,C11:C194,\"\")","v":250}]
["CONTROLLO DELLE DIFFERENZE",null,null,{"$f":"D195-E195","v":9970},null,{"$f":"F195-G195","v":9970}]

{"sheet":"CREDITI","index":27,"n_rows":130,"n_cols":8,"rows_kept":130,"cut":false,"hidden":true,"merged":[[7,0,9,0],[129,0,129,3],[7,1,7,3],[8,1,9,1]]}
[]
[]
[]
[]
[]
[]
[{"$f":"\"PROSPETTO dei CREDITI relativi al FONDO LAVORO\" & CHAR(10) & DATIG!A40 & CHAR(10) & \"Codice FONDO:  \" & DATIG!A37","v":"PROSPETTO dei CREDITI relativi al FONDO LAVORO\nLavori messa in sicurezza fondazioni da infiltrazioni fognarie\nCodice FONDO:  LAVORO-01"}]
["CREDITI","IMPORTI\nTOTALI"]
[null,"CONTO","IMPORTI","IMPORTI"]
[null,null,"PARZIALI","TOTALI"]
[{"$f":"PIANOCONTI_CD!A11","v":0},{"$f":"PIANOCONTI_CD!B11","v":"C.01"},null,{"$f":"SUM(C12:C16)","v":0}]
[{"$f":"PIANOCONTI_CD!A12","v":0},{"$f":"PIANOCONTI_CD!B12","v":0},null,null,null,null,null,{"$f":"COUNTIF(A11:D129,\"<0\")","v":0}]
[{"$f":"PIANOCONTI_CD!A13","v":0},{"$f":"PIANOCONTI_CD!B13","v":0}]
[{"$f":"PIANOCONTI_CD!A14","v":0},{"$f":"PIANOCONTI_CD!B14","v":0}]
[{"$f":"PIANOCONTI_CD!A15","v":0},{"$f":"PIANOCONTI_CD!B15","v":0}]
[{"$f":"PIANOCONTI_CD!A16","v":0},{"$f":"PIANOCONTI_CD!B16","v":0}]
[{"$f":"PIANOCONTI_CD!A17","v":"da TERZI PRIVATI"},{"$f":"PIANOCONTI_CD!B17","v":"C.02"},null,{"$f":"SUM(C18:C22)","v":0}]
[{"$f":"PIANOCONTI_CD!A18","v":"da FORNITORI"},{"$f":"PIANOCONTI_CD!B18","v":"C.02.01"}]
[{"$f":"PIANOCONTI_CD!A19","v":"da DEBITORI DIVERSI"},{"$f":"PIANOCONTI_CD!B19","v":"C.02.02"}]
[{"$f":"PIANOCONTI_CD!A20","v":0},{"$f":"PIANOCONTI_CD!B20","v":"C.02.03"}]
[{"$f":"PIANOCONTI_CD!A21","v":0},{"$f":"PIANOCONTI_CD!B21","v":"C.02.04"}]
[{"$f":"PIANOCONTI_CD!A22","v":0},{"$f":"PIANOCONTI_CD!B22","v":"C.02.05"}]
[{"$f":"PIANOCONTI_CD!A23","v":0},{"$f":"PIANOCONTI_CD!B23","v":"00:00:00"},null,{"$f":"SUM(C24:C28)","v":0}]
[]
[]
[]
[]
[]
[{"$f":"PIANOCONTI_CD!A29","v":"da CONDOMINI"},null,null,{"$f":"SUM(C30:C128)","v":1070.45}]
[{"$f":"IF(CONDOMINI!C11<>\"\",CONDOMINI!C11,\"\")","v":"CONDOMINO01"},{"$f":"PIANOCONTI_CD!B30","v":"C.04.01"},0,null,null,null,0]
[{"$f":"IF(CONDOMINI!C12<>\"\",CONDOMINI!C12,\"\")","v":"CONDOMINO02"},{"$f":"PIANOCONTI_CD!B31","v":"C.04.02"},67.61,null,null,null,0]
[{"$f":"IF(CONDOMINI!C13<>\"\",CONDOMINI!C13,\"\")","v":"CONDOMINO03"},{"$f":"PIANOCONTI_CD!B32","v":"C.04.03"},0,null,null,null,0]
[{"$f":"IF(CONDOMINI!C14<>\"\",CONDOMINI!C14,\"\")","v":"CONDOMINO04"},{"$f":"PIANOCONTI_CD!B33","v":"C.04.04"},243.07,null,null,null,0]
[{"$f":"IF(CONDOMINI!C15<>\"\",CONDOMINI!C15,\"\")","v":"CONDOMINO05"},{"$f":"PIANOCONTI_CD!B34","v":"C.04.05"},242.95,null,null,null,0]
[{"$f":"IF(CONDOMINI!C16<>\"\",CONDOMINI!C16,\"\")","v":"CONDOMINO06"},{"$f":"PIANOCONTI_CD!B35","v":"C.04.06"},0,null,null,null,0]
[{"$f":"IF(CONDOMINI!C17<>\"\",CONDOMINI!C17,\"\")","v":"CONDOMINO07"},{"$f":"PIANOCONTI_CD!B36","v":"C.04.07"},0,null,null,null,0]
[{"$f":"IF(CONDOMINI!C18<>\"\",CONDOMINI!C18,\"\")","v":"CONDOMINO08"},{"$f":"PIANOCONTI_CD!B37","v":"C.04.08"},0,null,null,null,0]
[{"$f":"IF(CONDOMINI!C19<>\"\",CONDOMINI!C19,\"\")","v":"CONDOMINO09"},{"$f":"PIANOCONTI_CD!B38","v":"C.04.09"},0,null,null,null,0]
[{"$f":"IF(CONDOMINI!C20<>\"\",CONDOMINI!C20,\"\")","v":"CONDOMINO10"},{"$f":"PIANOCONTI_CD!B39","v":"C.04.10"},0,null,null,null,0]
[{"$f":"IF(CONDOMINI!C21<>\"\",CONDOMINI!C21,\"\")","v":"CONDOMINO11"},{"$f":"PIANOCONTI_CD!B40","v":"C.04.11"},195.44,null,null,null,0]
[{"$f":"IF(CONDOMINI!C22<>\"\",CONDOMINI!C22,\"\")","v":"CONDOMINO12"},{"$f":"PIANOCONTI_CD!B41","v":"C.04.12"},0,null,null,null,0]
[{"$f":"IF(CONDOMINI!C23<>\"\",CONDOMINI!C23,\"\")","v":"CONDOMINO13"},{"$f":"PIANOCONTI_CD!B42","v":"C.04.13"},61.47,null,null,null,0]
[{"$f":"IF(CONDOMINI!C24<>\"\",CONDOMINI!C24,\"\")","v":"CONDOMINO14"},{"$f":"PIANOCONTI_CD!B43","v":"C.04.14"},0,null,null,null,0]
[{"$f":"IF(CONDOMINI!C25<>\"\",CONDOMINI!C25,\"\")","v":"CONDOMINO15"},{"$f":"PIANOCONTI_CD!B44","v":"C.04.15"},259.91000000000003,null,null,null,0]
[{"$f":"IF(CONDOMINI!C26<>\"\",CONDOMINI!C26,\"\")","v":"CONDOMINO16"},{"$f":"PIANOCONTI_CD!B45","v":"C.04.16"},0,null,null,null,0]
[{"$f":"IF(CONDOMINI!C27<>\"\",CONDOMINI!C27,\"\")","v":"CONDOMINO17"},{"$f":"PIANOCONTI_CD!B46","v":"C.04.17"},0,null,null,null,0]
[{"$f":"IF(CONDOMINI!C28<>\"\",CONDOMINI!C28,\"\")","v":"CONDOMINO18"},{"$f":"PIANOCONTI_CD!B47","v":"C.04.18"},0,null,null,null,0]
[{"$f":"IF(CONDOMINI!C29<>\"\",CONDOMINI!C29,\"\")","v":"CONDOMINO19"},{"$f":"PIANOCONTI_CD!B48","v":"C.04.19"},0,null,null,null,0]
[{"$f":"IF(CONDOMINI!C30<>\"\",CONDOMINI!C30,\"\")","v":""},{"$f":"PIANOCONTI_CD!B49","v":"C.04.20"},null,null,null,null,0]
[{"$f":"IF(CONDOMINI!C31<>\"\",CONDOMINI!C31,\"\")","v":""},{"$f":"PIANOCONTI_CD!B50","v":"C.04.21"},null,null,null,null,0]
[{"$f":"IF(CONDOMINI!C32<>\"\",CONDOMINI!C32,\"\")","v":""},{"$f":"PIANOCONTI_CD!B51","v":"C.04.22"},null,null,null,null,0]
[{"$f":"IF(CONDOMINI!C33<>\"\",CONDOMINI!C33,\"\")","v":""},{"$f":"PIANOCONTI_CD!B52","v":"C.04.23"},null,0,null,null,0]
[{"$f":"IF(CONDOMINI!C34<>\"\",CONDOMINI!C34,\"\")","v":""},{"$f":"PIANOCONTI_CD!B53","v":"C.04.24"},null,0,null,null,0]
[{"$f":"IF(CONDOMINI!C35<>\"\",CONDOMINI!C35,\"\")","v":""},{"$f":"PIANOCONTI_CD!B54","v":"C.04.25"}]
[{"$f":"IF(CONDOMINI!C36<>\"\",CONDOMINI!C36,\"\")","v":""},{"$f":"PIANOCONTI_CD!B55","v":"C.04.26"}]
[{"$f":"IF(CONDOMINI!C37<>\"\",CONDOMINI!C37,\"\")","v":""},{"$f":"PIANOCONTI_CD!B56","v":"C.04.27"}]
[{"$f":"IF(CONDOMINI!C38<>\"\",CONDOMINI!C38,\"\")","v":""},{"$f":"PIANOCONTI_CD!B57","v":"C.04.28"}]
[{"$f":"IF(CONDOMINI!C39<>\"\",CONDOMINI!C39,\"\")","v":""},{"$f":"PIANOCONTI_CD!B58","v":"C.04.29"}]
[{"$f":"IF(CONDOMINI!C40<>\"\",CONDOMINI!C40,\"\")","v":""},{"$f":"PIANOCONTI_CD!B59","v":"C.04.30"}]
[{"$f":"IF(CONDOMINI!C41<>\"\",CONDOMINI!C41,\"\")","v":""},{"$f":"PIANOCONTI_CD!B60","v":"C.04.31"}]
[{"$f":"IF(CONDOMINI!C42<>\"\",CONDOMINI!C42,\"\")","v":""},{"$f":"PIANOCONTI_CD!B61","v":"C.04.32"}]
[{"$f":"IF(CONDOMINI!C43<>\"\",CONDOMINI!C43,\"\")","v":""},{"$f":"PIANOCONTI_CD!B62","v":"C.04.33"}]
[{"$f":"IF(CONDOMINI!C44<>\"\",CONDOMINI!C44,\"\")","v":""},{"$f":"PIANOCONTI_CD!B63","v":"C.04.34"}]
[{"$f":"IF(CONDOMINI!C45<>\"\",CONDOMINI!C45,\"\")","v":""},{"$f":"PIANOCONTI_CD!B64","v":"C.04.35"}]
[{"$f":"IF(CONDOMINI!C46<>\"\",CONDOMINI!C46,\"\")","v":""},{"$f":"PIANOCONTI_CD!B65","v":"C.04.36"}]
[{"$f":"IF(CONDOMINI!C47<>\"\",CONDOMINI!C47,\"\")","v":""},{"$f":"PIANOCONTI_CD!B66","v":"C.04.37"}]
[{"$f":"IF(CONDOMINI!C48<>\"\",CONDOMINI!C48,\"\")","v":""},{"$f":"PIANOCONTI_CD!B67","v":"C.04.38"}]
[{"$f":"IF(CONDOMINI!C49<>\"\",CONDOMINI!C49,\"\")","v":""},{"$f":"PIANOCONTI_CD!B68","v":"C.04.39"}]
[{"$f":"IF(CONDOMINI!C50<>\"\",CONDOMINI!C50,\"\")","v":""},{"$f":"PIANOCONTI_CD!B69","v":"C.04.40"}]
[{"$f":"IF(CONDOMINI!C51<>\"\",CONDOMINI!C51,\"\")","v":""},{"$f":"PIANOCONTI_CD!B70","v":"C.04.41"}]
[{"$f":"IF(CONDOMINI!C52<>\"\",CONDOMINI!C52,\"\")","v":""},{"$f":"PIANOCONTI_CD!B71","v":"C.04.42"}]
[{"$f":"IF(CONDOMINI!C53<>\"\",CONDOMINI!C53,\"\")","v":""},{"$f":"PIANOCONTI_CD!B72","v":"C.04.43"}]
[{"$f":"IF(CONDOMINI!C54<>\"\",CONDOMINI!C54,\"\")","v":""},{"$f":"PIANOCONTI_CD!B73","v":"C.04.44"}]
[{"$f":"IF(CONDOMINI!C55<>\"\",CONDOMINI!C55,\"\")","v":""},{"$f":"PIANOCONTI_CD!B74","v":"C.04.45"}]
[{"$f":"IF(CONDOMINI!C56<>\"\",CONDOMINI!C56,\"\")","v":""},{"$f":"PIANOCONTI_CD!B75","v":"C.04.46"}]
[{"$f":"IF(CONDOMINI!C57<>\"\",CONDOMINI!C57,\"\")","v":""},{"$f":"PIANOCONTI_CD!B76","v":"C.04.47"}]
[{"$f":"IF(CONDOMINI!C58<>\"\",CONDOMINI!C58,\"\")","v":""},{"$f":"PIANOCONTI_CD!B77","v":"C.04.48"}]
[{"$f":"IF(CONDOMINI!C59<>\"\",CONDOMINI!C59,\"\")","v":""},{"$f":"PIANOCONTI_CD!B78","v":"C.04.49"}]
[{"$f":"IF(CONDOMINI!C60<>\"\",CONDOMINI!C60,\"\")","v":""},{"$f":"PIANOCONTI_CD!B79","v":"C.04.50"}]
[{"$f":"IF(CONDOMINI!C61<>\"\",CONDOMINI!C61,\"\")","v":""},{"$f":"PIANOCONTI_CD!B80","v":"C.04.51"}]
[{"$f":"IF(CONDOMINI!C62<>\"\",CONDOMINI!C62,\"\")","v":""},{"$f":"PIANOCONTI_CD!B81","v":"C.04.52"}]
[{"$f":"IF(CONDOMINI!C63<>\"\",CONDOMINI!C63,\"\")","v":""},{"$f":"PIANOCONTI_CD!B82","v":"C.04.53"}]
[{"$f":"IF(CONDOMINI!C64<>\"\",CONDOMINI!C64,\"\")","v":""},{"$f":"PIANOCONTI_CD!B83","v":"C.04.54"}]
[{"$f":"IF(CONDOMINI!C65<>\"\",CONDOMINI!C65,\"\")","v":""},{"$f":"PIANOCONTI_CD!B84","v":"C.04.55"}]
[{"$f":"IF(CONDOMINI!C66<>\"\",CONDOMINI!C66,\"\")","v":""},{"$f":"PIANOCONTI_CD!B85","v":"C.04.56"}]
[{"$f":"IF(CONDOMINI!C67<>\"\",CONDOMINI!C67,\"\")","v":""},{"$f":"PIANOCONTI_CD!B86","v":"C.04.57"}]
[{"$f":"IF(CONDOMINI!C68<>\"\",CONDOMINI!C68,\"\")","v":""},{"$f":"PIANOCONTI_CD!B87","v":"C.04.58"}]
[{"$f":"IF(CONDOMINI!C69<>\"\",CONDOMINI!C69,\"\")","v":""},{"$f":"PIANOCONTI_CD!B88","v":"C.04.59"}]
[{"$f":"IF(CONDOMINI!C70<>\"\",CONDOMINI!C70,\"\")","v":""},{"$f":"PIANOCONTI_CD!B89","v":"C.04.60"}]
[{"$f":"IF(CONDOMINI!C71<>\"\",CONDOMINI!C71,\"\")","v":""},{"$f":"PIANOCONTI_CD!B90","v":"C.04.61"}]
[{"$f":"IF(CONDOMINI!C72<>\"\",CONDOMINI!C72,\"\")","v":""},{"$f":"PIANOCONTI_CD!B91","v":"C.04.62"}]
[{"$f":"IF(CONDOMINI!C73<>\"\",CONDOMINI!C73,\"\")","v":""},{"$f":"PIANOCONTI_CD!B92","v":"C.04.63"}]
[{"$f":"IF(CONDOMINI!C74<>\"\",CONDOMINI!C74,\"\")","v":""},{"$f":"PIANOCONTI_CD!B93","v":"C.04.64"}]
[{"$f":"IF(CONDOMINI!C75<>\"\",CONDOMINI!C75,\"\")","v":""},{"$f":"PIANOCONTI_CD!B94","v":"C.04.65"}]
[{"$f":"IF(CONDOMINI!C76<>\"\",CONDOMINI!C76,\"\")","v":""},{"$f":"PIANOCONTI_CD!B95","v":"C.04.66"}]
[{"$f":"IF(CONDOMINI!C77<>\"\",CONDOMINI!C77,\"\")","v":""},{"$f":"PIANOCONTI_CD!B96","v":"C.04.67"}]
[{"$f":"IF(CONDOMINI!C78<>\"\",CONDOMINI!C78,\"\")","v":""},{"$f":"PIANOCONTI_CD!B97","v":"C.04.68"}]
[{"$f":"IF(CONDOMINI!C79<>\"\",CONDOMINI!C79,\"\")","v":""},{"$f":"PIANOCONTI_CD!B98","v":"C.04.69"}]
[{"$f":"IF(CONDOMINI!C80<>\"\",CONDOMINI!C80,\"\")","v":""},{"$f":"PIANOCONTI_CD!B99","v":"C.04.70"}]
[{"$f":"IF(CONDOMINI!C81<>\"\",CONDOMINI!C81,\"\")","v":""},{"$f":"PIANOCONTI_CD!B100","v":"C.04.71"}]
[{"$f":"IF(CONDOMINI!C82<>\"\",CONDOMINI!C82,\"\")","v":""},{"$f":"PIANOCONTI_CD!B101","v":"C.04.72"}]
[{"$f":"IF(CONDOMINI!C83<>\"\",CONDOMINI!C83,\"\")","v":""},{"$f":"PIANOCONTI_CD!B102","v":"C.04.73"}]
[{"$f":"IF(CONDOMINI!C84<>\"\",CONDOMINI!C84,\"\")","v":""},{"$f":"PIANOCONTI_CD!B103","v":"C.04.74"}]
[{"$f":"IF(CONDOMINI!C85<>\"\",CONDOMINI!C85,\"\")","v":""},{"$f":"PIANOCONTI_CD!B104","v":"C.04.75"}]
[{"$f":"IF(CONDOMINI!C86<>\"\",CONDOMINI!C86,\"\")","v":""},{"$f":"PIANOCONTI_CD!B105","v":"C.04.76"}]
[{"$f":"IF(CONDOMINI!C87<>\"\",CONDOMINI!C87,\"\")","v":""},{"$f":"PIANOCONTI_CD!B106","v":"C.04.77"}]
[{"$f":"IF(CONDOMINI!C88<>\"\",CONDOMINI!C88,\"\")","v":""},{"$f":"PIANOCONTI_CD!B107","v":"C.04.78"}]
[{"$f":"IF(CONDOMINI!C89<>\"\",CONDOMINI!C89,\"\")","v":""},{"$f":"PIANOCONTI_CD!B108","v":"C.04.79"}]
[{"$f":"IF(CONDOMINI!C90<>\"\",CONDOMINI!C90,\"\")","v":""},{"$f":"PIANOCONTI_CD!B109","v":"C.04.80"}]
[{"$f":"IF(CONDOMINI!C91<>\"\",CONDOMINI!C91,\"\")","v":""},{"$f":"PIANOCONTI_CD!B110","v":"C.04.81"}]
[{"$f":"IF(CONDOMINI!C92<>\"\",CONDOMINI!C92,\"\")","v":""},{"$f":"PIANOCONTI_CD!B111","v":"C.04.82"}]
[{"$f":"IF(CONDOMINI!C93<>\"\",CONDOMINI!C93,\"\")","v":""},{"$f":"PIANOCONTI_CD!B112","v":"C.04.83"}]
[{"$f":"IF(CONDOMINI!C94<>\"\",CONDOMINI!C94,\"\")","v":""},{"$f":"PIANOCONTI_CD!B113","v":"C.04.84"}]
[{"$f":"IF(CONDOMINI!C95<>\"\",CONDOMINI!C95,\"\")","v":""},{"$f":"PIANOCONTI_CD!B114","v":"C.04.85"}]
[{"$f":"IF(CONDOMINI!C96<>\"\",CONDOMINI!C96,\"\")","v":""},{"$f":"PIANOCONTI_CD!B115","v":"C.04.86"}]
[{"$f":"IF(CONDOMINI!C97<>\"\",CONDOMINI!C97,\"\")","v":""},{"$f":"PIANOCONTI_CD!B116","v":"C.04.87"}]
[{"$f":"IF(CONDOMINI!C98<>\"\",CONDOMINI!C98,\"\")","v":""},{"$f":"PIANOCONTI_CD!B117","v":"C.04.88"}]
[{"$f":"IF(CONDOMINI!C99<>\"\",CONDOMINI!C99,\"\")","v":""},{"$f":"PIANOCONTI_CD!B118","v":"C.04.89"}]
[{"$f":"IF(CONDOMINI!C100<>\"\",CONDOMINI!C100,\"\")","v":""},{"$f":"PIANOCONTI_CD!B119","v":"C.04.90"}]
[{"$f":"IF(CONDOMINI!C101<>\"\",CONDOMINI!C101,\"\")","v":""},{"$f":"PIANOCONTI_CD!B120","v":"C.04.91"}]
[{"$f":"IF(CONDOMINI!C102<>\"\",CONDOMINI!C102,\"\")","v":""},{"$f":"PIANOCONTI_CD!B121","v":"C.04.92"}]
[{"$f":"IF(CONDOMINI!C103<>\"\",CONDOMINI!C103,\"\")","v":""},{"$f":"PIANOCONTI_CD!B122","v":"C.04.93"}]
[{"$f":"IF(CONDOMINI!C104<>\"\",CONDOMINI!C104,\"\")","v":""},{"$f":"PIANOCONTI_CD!B123","v":"C.04.94"}]
[{"$f":"IF(CONDOMINI!C105<>\"\",CONDOMINI!C105,\"\")","v":""},{"$f":"PIANOCONTI_CD!B124","v":"C.04.95"}]
[{"$f":"IF(CONDOMINI!C106<>\"\",CONDOMINI!C106,\"\")","v":""},{"$f":"PIANOCONTI_CD!B125","v":"C.04.96"}]
[{"$f":"IF(CONDOMINI!C107<>\"\",CONDOMINI!C107,\"\")","v":""},{"$f":"PIANOCONTI_CD!B126","v":"C.04.97"}]
[{"$f":"IF(CONDOMINI!C108<>\"\",CONDOMINI!C108,\"\")","v":""},{"$f":"PIANOCONTI_CD!B127","v":"C.04.98"}]
[{"$f":"IF(CONDOMINI!C109<>\"\",CONDOMINI!C109,\"\")","v":""},{"$f":"PIANOCONTI_CD!B128","v":"C.04.99"}]
["TOTALE CREDITI",null,{"$f":"SUM(C11:C128)","v":1070.45},{"$f":"D11+D17+D23+D29","v":1070.45}]
[{"$f":"\"Tutti i crediti pervenuti all'amministratore alla data \" & DataUltimaregistrazione() & \" sono riportati e riassunti nel presente prospetto\"","v":"Tutti i crediti pervenuti all'amministratore alla data 13-novembre-2019 sono riportati e riassunti nel presente prospetto"}]

{"sheet":"DEBITI","index":28,"n_rows":130,"n_cols":4,"rows_kept":130,"cut":false,"hidden":true,"merged":[[7,0,9,0],[7,1,7,3],[8,1,9,1],[128,0,128,1],[129,0,129,3]]}
[]
[]
[]
[]
[]
[]
[{"$f":"\"PROSPETTO dei DEBITI relativi al FONDO LAVORO\" & CHAR(10) & DATIG!A40  & CHAR(10) & \"Codice FONDO:  \" & DATIG!A37","v":"PROSPETTO dei DEBITI relativi al FONDO LAVORO\nLavori messa in sicurezza fondazioni da infiltrazioni fognarie\nCodice FONDO:  LAVORO-01"}]
["DEBITI","IMPORTI\nTOTALI"]
[null,"CONTO","IMPORTI","IMPORTI"]
[null,null,"PARZIALI","TOTALI"]
[{"$f":"PIANOCONTI_CD!D11","v":0},{"$f":"PIANOCONTI_CD!E11","v":"D.01"},null,{"$f":"SUM(C12:C16)","v":0}]
[{"$f":"PIANOCONTI_CD!D12","v":0},{"$f":"PIANOCONTI_CD!E12","v":"00:00:00"}]
[{"$f":"PIANOCONTI_CD!D13","v":0},{"$f":"PIANOCONTI_CD!E13","v":"00:00:00"}]
[{"$f":"PIANOCONTI_CD!D14","v":0},{"$f":"PIANOCONTI_CD!E14","v":"00:00:00"}]
[{"$f":"PIANOCONTI_CD!D15","v":0},{"$f":"PIANOCONTI_CD!E15","v":"00:00:00"}]
[{"$f":"PIANOCONTI_CD!D16","v":0},{"$f":"PIANOCONTI_CD!E16","v":"00:00:00"}]
[{"$f":"PIANOCONTI_CD!D17","v":"v/s TERZI PRIVATI"},{"$f":"PIANOCONTI_CD!E17","v":"D.02"},null,{"$f":"SUM(C18:C22)","v":0}]
[{"$f":"PIANOCONTI_CD!D18","v":"v/s FORNITORI per FATTURE RICEVUTE"},{"$f":"PIANOCONTI_CD!E18","v":"D.02.01"}]
[{"$f":"PIANOCONTI_CD!D19","v":"v/s FORNITORI per AVVISI DI FATTURA RICEVUTI"},{"$f":"PIANOCONTI_CD!E19","v":"D.02.02"}]
[{"$f":"PIANOCONTI_CD!D20","v":"v/s FORNITORI per PREVISIONE DI SPESA"},{"$f":"PIANOCONTI_CD!E20","v":"D.02.03"}]
[{"$f":"PIANOCONTI_CD!D21","v":"v/s CREDITORI DIVERSI"},{"$f":"PIANOCONTI_CD!E21","v":"D.02.04"}]
[{"$f":"PIANOCONTI_CD!D22","v":"v/s GESTIONE ORDINARIA"},{"$f":"PIANOCONTI_CD!E22","v":"D.02.05"}]
[{"$f":"PIANOCONTI_CD!D23","v":"v/s TERZI PUBBLICI"},{"$f":"PIANOCONTI_CD!E23","v":"D.03"},null,{"$f":"SUM(C24:C28)","v":0}]
[{"$f":"PIANOCONTI_CD!D24","v":"v/s ERARIO per  ritenute d'acconto operate"},{"$f":"PIANOCONTI_CD!E24","v":"D.03.01"}]
[{"$f":"PIANOCONTI_CD!D25","v":0},{"$f":"PIANOCONTI_CD!E25","v":"D.03.02"}]
[{"$f":"PIANOCONTI_CD!D26","v":0},{"$f":"PIANOCONTI_CD!E26","v":"D.03.03"}]
[{"$f":"PIANOCONTI_CD!D27","v":0},{"$f":"PIANOCONTI_CD!E27","v":"D.03.04"}]
[{"$f":"PIANOCONTI_CD!D28","v":0},{"$f":"PIANOCONTI_CD!E28","v":"D.03.05"}]
[{"$f":"PIANOCONTI_CD!D29","v":" v/s CONDOMINI"},null,"Quote in eccedenza\nD.04",{"$f":"SUM(C30:C128)","v":2020.3999999999999}]
[{"$f":"IF(CONDOMINI!C11<>\"\",CONDOMINI!C11,\"\")","v":"CONDOMINO01"},"D.04.01",158.66999999999999]
[{"$f":"IF(CONDOMINI!C12<>\"\",CONDOMINI!C12,\"\")","v":"CONDOMINO02"},"D.04.02"]
[{"$f":"IF(CONDOMINI!C13<>\"\",CONDOMINI!C13,\"\")","v":"CONDOMINO03"},"D.04.03",156.61000000000001]
[{"$f":"IF(CONDOMINI!C14<>\"\",CONDOMINI!C14,\"\")","v":"CONDOMINO04"},"D.04.04"]
[{"$f":"IF(CONDOMINI!C15<>\"\",CONDOMINI!C15,\"\")","v":"CONDOMINO05"},"D.04.05"]
[{"$f":"IF(CONDOMINI!C16<>\"\",CONDOMINI!C16,\"\")","v":"CONDOMINO06"},"D.04.06",27.39]
[{"$f":"IF(CONDOMINI!C17<>\"\",CONDOMINI!C17,\"\")","v":"CONDOMINO07"},"D.04.07",339.61]
[{"$f":"IF(CONDOMINI!C18<>\"\",CONDOMINI!C18,\"\")","v":"CONDOMINO08"},"D.04.08",96.09]
[{"$f":"IF(CONDOMINI!C19<>\"\",CONDOMINI!C19,\"\")","v":"CONDOMINO09"},"D.04.09",259.14999999999998]
[{"$f":"IF(CONDOMINI!C20<>\"\",CONDOMINI!C20,\"\")","v":"CONDOMINO10"},"D.04.10",62.09]
[{"$f":"IF(CONDOMINI!C21<>\"\",CONDOMINI!C21,\"\")","v":"CONDOMINO11"},"D.04.11"]
[{"$f":"IF(CONDOMINI!C22<>\"\",CONDOMINI!C22,\"\")","v":"CONDOMINO12"},"D.04.12",47.87]
[{"$f":"IF(CONDOMINI!C23<>\"\",CONDOMINI!C23,\"\")","v":"CONDOMINO13"},"D.04.13"]
[{"$f":"IF(CONDOMINI!C24<>\"\",CONDOMINI!C24,\"\")","v":"CONDOMINO14"},"D.04.14",103.31]
[{"$f":"IF(CONDOMINI!C25<>\"\",CONDOMINI!C25,\"\")","v":"CONDOMINO15"},"D.04.15"]
[{"$f":"IF(CONDOMINI!C26<>\"\",CONDOMINI!C26,\"\")","v":"CONDOMINO16"},"D.04.16",270.87]
[{"$f":"IF(CONDOMINI!C27<>\"\",CONDOMINI!C27,\"\")","v":"CONDOMINO17"},"D.04.17",446.46]
[{"$f":"IF(CONDOMINI!C28<>\"\",CONDOMINI!C28,\"\")","v":"CONDOMINO18"},"D.04.18",2.87]
[{"$f":"IF(CONDOMINI!C29<>\"\",CONDOMINI!C29,\"\")","v":"CONDOMINO19"},"D.04.19",49.41]
[{"$f":"IF(CONDOMINI!C30<>\"\",CONDOMINI!C30,\"\")","v":""},"D.04.20"]
[{"$f":"IF(CONDOMINI!C31<>\"\",CONDOMINI!C31,\"\")","v":""},"D.04.21"]
[{"$f":"IF(CONDOMINI!C32<>\"\",CONDOMINI!C32,\"\")","v":""},"D.04.22"]
[{"$f":"IF(CONDOMINI!C33<>\"\",CONDOMINI!C33,\"\")","v":""},"D.04.23"]
[{"$f":"IF(CONDOMINI!C34<>\"\",CONDOMINI!C34,\"\")","v":""},"D.04.24"]
[{"$f":"IF(CONDOMINI!C35<>\"\",CONDOMINI!C35,\"\")","v":""},"D.04.25"]
[{"$f":"IF(CONDOMINI!C36<>\"\",CONDOMINI!C36,\"\")","v":""},"D.04.26"]
[{"$f":"IF(CONDOMINI!C37<>\"\",CONDOMINI!C37,\"\")","v":""},"D.04.27"]
[{"$f":"IF(CONDOMINI!C38<>\"\",CONDOMINI!C38,\"\")","v":""},"D.04.28"]
[{"$f":"IF(CONDOMINI!C39<>\"\",CONDOMINI!C39,\"\")","v":""},"D.04.29"]
[{"$f":"IF(CONDOMINI!C40<>\"\",CONDOMINI!C40,\"\")","v":""},"D.04.30"]
[{"$f":"IF(CONDOMINI!C41<>\"\",CONDOMINI!C41,\"\")","v":""},"D.04.31"]
[{"$f":"IF(CONDOMINI!C42<>\"\",CONDOMINI!C42,\"\")","v":""},"D.04.32"]
[{"$f":"IF(CONDOMINI!C43<>\"\",CONDOMINI!C43,\"\")","v":""},"D.04.33"]
[{"$f":"IF(CONDOMINI!C44<>\"\",CONDOMINI!C44,\"\")","v":""},"D.04.34"]
[{"$f":"IF(CONDOMINI!C45<>\"\",CONDOMINI!C45,\"\")","v":""},"D.04.35"]
[{"$f":"IF(CONDOMINI!C46<>\"\",CONDOMINI!C46,\"\")","v":""},"D.04.36"]
[{"$f":"IF(CONDOMINI!C47<>\"\",CONDOMINI!C47,\"\")","v":""},"D.04.37"]
[{"$f":"IF(CONDOMINI!C48<>\"\",CONDOMINI!C48,\"\")","v":""},"D.04.38"]
[{"$f":"IF(CONDOMINI!C49<>\"\",CONDOMINI!C49,\"\")","v":""},"D.04.39"]
[{"$f":"IF(CONDOMINI!C50<>\"\",CONDOMINI!C50,\"\")","v":""},"D.04.40"]
[{"$f":"IF(CONDOMINI!C51<>\"\",CONDOMINI!C51,\"\")","v":""},"D.04.41"]
[{"$f":"IF(CONDOMINI!C52<>\"\",CONDOMINI!C52,\"\")","v":""},"D.04.42"]
[{"$f":"IF(CONDOMINI!C53<>\"\",CONDOMINI!C53,\"\")","v":""},"D.04.43"]
[{"$f":"IF(CONDOMINI!C54<>\"\",CONDOMINI!C54,\"\")","v":""},"D.04.44"]
[{"$f":"IF(CONDOMINI!C55<>\"\",CONDOMINI!C55,\"\")","v":""},"D.04.45"]
[{"$f":"IF(CONDOMINI!C56<>\"\",CONDOMINI!C56,\"\")","v":""},"D.04.46"]
[{"$f":"IF(CONDOMINI!C57<>\"\",CONDOMINI!C57,\"\")","v":""},"D.04.47"]
[{"$f":"IF(CONDOMINI!C58<>\"\",CONDOMINI!C58,\"\")","v":""},"D.04.48"]
[{"$f":"IF(CONDOMINI!C59<>\"\",CONDOMINI!C59,\"\")","v":""},"D.04.49"]
[{"$f":"IF(CONDOMINI!C60<>\"\",CONDOMINI!C60,\"\")","v":""},"D.04.50"]
[{"$f":"IF(CONDOMINI!C61<>\"\",CONDOMINI!C61,\"\")","v":""},"D.04.51"]
[{"$f":"IF(CONDOMINI!C62<>\"\",CONDOMINI!C62,\"\")","v":""},"D.04.52"]
[{"$f":"IF(CONDOMINI!C63<>\"\",CONDOMINI!C63,\"\")","v":""},"D.04.53"]
[{"$f":"IF(CONDOMINI!C64<>\"\",CONDOMINI!C64,\"\")","v":""},"D.04.54"]
[{"$f":"IF(CONDOMINI!C65<>\"\",CONDOMINI!C65,\"\")","v":""},"D.04.55"]
[{"$f":"IF(CONDOMINI!C66<>\"\",CONDOMINI!C66,\"\")","v":""},"D.04.56"]
[{"$f":"IF(CONDOMINI!C67<>\"\",CONDOMINI!C67,\"\")","v":""},"D.04.57"]
[{"$f":"IF(CONDOMINI!C68<>\"\",CONDOMINI!C68,\"\")","v":""},"D.04.58"]
[{"$f":"IF(CONDOMINI!C69<>\"\",CONDOMINI!C69,\"\")","v":""},"D.04.59"]
[{"$f":"IF(CONDOMINI!C70<>\"\",CONDOMINI!C70,\"\")","v":""},"D.04.60"]
[{"$f":"IF(CONDOMINI!C71<>\"\",CONDOMINI!C71,\"\")","v":""},"D.04.61"]
[{"$f":"IF(CONDOMINI!C72<>\"\",CONDOMINI!C72,\"\")","v":""},"D.04.62"]
[{"$f":"IF(CONDOMINI!C73<>\"\",CONDOMINI!C73,\"\")","v":""},"D.04.63"]
[{"$f":"IF(CONDOMINI!C74<>\"\",CONDOMINI!C74,\"\")","v":""},"D.04.64"]
[{"$f":"IF(CONDOMINI!C75<>\"\",CONDOMINI!C75,\"\")","v":""},"D.04.65"]
[{"$f":"IF(CONDOMINI!C76<>\"\",CONDOMINI!C76,\"\")","v":""},"D.04.66"]
[{"$f":"IF(CONDOMINI!C77<>\"\",CONDOMINI!C77,\"\")","v":""},"D.04.67"]
[{"$f":"IF(CONDOMINI!C78<>\"\",CONDOMINI!C78,\"\")","v":""},"D.04.68"]
[{"$f":"IF(CONDOMINI!C79<>\"\",CONDOMINI!C79,\"\")","v":""},"D.04.69"]
[{"$f":"IF(CONDOMINI!C80<>\"\",CONDOMINI!C80,\"\")","v":""},"D.04.70"]
[{"$f":"IF(CONDOMINI!C81<>\"\",CONDOMINI!C81,\"\")","v":""},"D.04.71"]
[{"$f":"IF(CONDOMINI!C82<>\"\",CONDOMINI!C82,\"\")","v":""},"D.04.72"]
[{"$f":"IF(CONDOMINI!C83<>\"\",CONDOMINI!C83,\"\")","v":""},"D.04.73"]
[{"$f":"IF(CONDOMINI!C84<>\"\",CONDOMINI!C84,\"\")","v":""},"D.04.74"]
[{"$f":"IF(CONDOMINI!C85<>\"\",CONDOMINI!C85,\"\")","v":""},"D.04.75"]
[{"$f":"IF(CONDOMINI!C86<>\"\",CONDOMINI!C86,\"\")","v":""},"D.04.76"]
[{"$f":"IF(CONDOMINI!C87<>\"\",CONDOMINI!C87,\"\")","v":""},"D.04.77"]
[{"$f":"IF(CONDOMINI!C88<>\"\",CONDOMINI!C88,\"\")","v":""},"D.04.78"]
[{"$f":"IF(CONDOMINI!C89<>\"\",CONDOMINI!C89,\"\")","v":""},"D.04.79"]
[{"$f":"IF(CONDOMINI!C90<>\"\",CONDOMINI!C90,\"\")","v":""},"D.04.80"]
[{"$f":"IF(CONDOMINI!C91<>\"\",CONDOMINI!C91,\"\")","v":""},"D.04.81"]
[{"$f":"IF(CONDOMINI!C92<>\"\",CONDOMINI!C92,\"\")","v":""},"D.04.82"]
[{"$f":"IF(CONDOMINI!C93<>\"\",CONDOMINI!C93,\"\")","v":""},"D.04.83"]
[{"$f":"IF(CONDOMINI!C94<>\"\",CONDOMINI!C94,\"\")","v":""},"D.04.84"]
[{"$f":"IF(CONDOMINI!C95<>\"\",CONDOMINI!C95,\"\")","v":""},"D.04.85"]
[{"$f":"IF(CONDOMINI!C96<>\"\",CONDOMINI!C96,\"\")","v":""},"D.04.86"]
[{"$f":"IF(CONDOMINI!C97<>\"\",CONDOMINI!C97,\"\")","v":""},"D.04.87"]
[{"$f":"IF(CONDOMINI!C98<>\"\",CONDOMINI!C98,\"\")","v":""},"D.04.88"]
[{"$f":"IF(CONDOMINI!C99<>\"\",CONDOMINI!C99,\"\")","v":""},"D.04.89"]
[{"$f":"IF(CONDOMINI!C100<>\"\",CONDOMINI!C100,\"\")","v":""},"D.04.90"]
[{"$f":"IF(CONDOMINI!C101<>\"\",CONDOMINI!C101,\"\")","v":""},"D.04.91"]
[{"$f":"IF(CONDOMINI!C102<>\"\",CONDOMINI!C102,\"\")","v":""},"D.04.92"]
[{"$f":"IF(CONDOMINI!C103<>\"\",CONDOMINI!C103,\"\")","v":""},"D.04.93"]
[{"$f":"IF(CONDOMINI!C104<>\"\",CONDOMINI!C104,\"\")","v":""},"D.04.94"]
[{"$f":"IF(CONDOMINI!C105<>\"\",CONDOMINI!C105,\"\")","v":""},"D.04.95"]
[{"$f":"IF(CONDOMINI!C106<>\"\",CONDOMINI!C106,\"\")","v":""},"D.04.96"]
[{"$f":"IF(CONDOMINI!C107<>\"\",CONDOMINI!C107,\"\")","v":""},"D.04.97"]
[{"$f":"IF(CONDOMINI!C108<>\"\",CONDOMINI!C108,\"\")","v":""},"D.04.98"]
[{"$f":"IF(CONDOMINI!C109<>\"\",CONDOMINI!C109,\"\")","v":""},"D.04.99"]
["TOTALE DEBITI",null,{"$f":"SUM(C11:C128)","v":2020.3999999999999},{"$f":"D11+D17+D23+C129","v":2020.3999999999999}]
[{"$f":"\"Tutti i debiti pervenuti all'amministratore alla data \" & DataUltimaregistrazione() & \" sono riportati e riassunti nel presente prospetto\"","v":"Tutti i debiti pervenuti all'amministratore alla data 13-novembre-2019 sono riportati e riassunti nel presente prospetto"}]

{"sheet":"BILANCIO","index":29,"n_rows":56,"n_cols":8,"rows_kept":56,"cut":false,"hidden":true,"merged":[[55,0,55,2],[55,4,55,6],[51,3,52,3],[51,4,52,4],[51,7,52,7],[54,0,54,2],[54,4,54,6],[48,7,49,7],[50,0,50,2],[50,4,50,6],[44,0,44,7],[45,0,45,3],[45,4,45,7],[46,0,46,7],[47,0,47,2],[47,4,47,6],[48,0,49,0],[48,3,49,3],[48,4,49,4],[25,5,25,6],[41,0,41,2],[41,4,41,6],[42,0,42,2],[42,4,42,6],[30,0,30,2],[30,4,30,6],[31,0,31,2],[31,4,31,6],[33,0,33,7],[34,0,34,3],[34,4,34,7],[10,5,10,6],[15,5,15,6],[20,5,20,6],[10,0,10,2],[1,0,1,7],[5,0,5,2],[5,5,5,6],[3,0,3,7],[4,0,4,3],[4,4,4,7]]}
[{"$f":"\"RENDICONTO CONSUNTIVO (Situazione economico / finanziaria)\" & CHAR(10) & DATIG!A40  & CHAR(10) & \"Codice FONDO:  \" & DATIG!A37","v":"RENDICONTO CONSUNTIVO (Situazione economico / finanziaria)\nLavori messa in sicurezza fondazioni da infiltrazioni fognarie\nCodice FONDO:  LAVORO-01"}]
[{"$f":"\"al \" & DataUltimaregistrazione()","v":"al 13-novembre-2019"}]
[]
["CONTO ECONOMICO"]
["INCASSI",null,null,null,"SPESE"]
[{"$f":"'ENTRATE-UI'!A39","v":"INCASSO QUOTE PER UNITÀ IMMOBILIARE "},null,null,{"$f":"'ENTRATE-UI'!C39","v":8169.9500000000007},"I",{"$f":"IF(E6<>\"\",PIANOCONTI_U!A11,\"\")","v":"SPESE GENERALI e NON DETRABILI"},null,{"$f":"USCITE_C!D11","v":50}]
[null,{"$f":"\"anno \" & DATIG!A51","v":"anno 2017"},{"$f":"'ENTRATE-UI'!D39","v":2756},null,null,{"$f":"\"anno \" & DATIG!A51","v":"anno 2017"},{"$f":"USCITE_C!E11","v":40}]
[null,{"$f":"\"anno \" & DATIG!A52","v":"anno 2018"},{"$f":"'ENTRATE-UI'!E39","v":1090},null,null,{"$f":"\"anno \" & DATIG!A52","v":"anno 2018"},{"$f":"USCITE_C!F11","v":0}]
[null,{"$f":"\"anno \" & DATIG!A53","v":"anno 2019"},{"$f":"'ENTRATE-UI'!F39","v":4323.95},null,null,{"$f":"\"anno \" & DATIG!A53","v":"anno 2019"},{"$f":"USCITE_C!G11","v":10}]
[null,{"$f":"\"anno \" & DATIG!A54","v":"anno "},{"$f":"'ENTRATE-UI'!G39","v":0},null,null,{"$f":"\"anno \" & DATIG!A54","v":"anno "},{"$f":"USCITE_C!H11","v":0}]
[{"$f":"'ENTRATE-UI'!A11","v":"PROVENTI DIVERSI"},null,null,{"$f":"'ENTRATE-UI'!C11","v":0},"II",{"$f":"IF(E11<>\"\",PIANOCONTI_U!A27,\"\")","v":"COMPETENZE TECNICHE - Prog., D.L. e collaudi (detr.)"},null,{"$f":"USCITE_C!D27","v":1700}]
[null,{"$f":"\"anno \" & DATIG!A51","v":"anno 2017"},{"$f":"'ENTRATE-UI'!D11","v":0},null,null,{"$f":"\"anno \" & DATIG!A51","v":"anno 2017"},{"$f":"USCITE_C!E27","v":500}]
[null,{"$f":"\"anno \" & DATIG!A52","v":"anno 2018"},{"$f":"'ENTRATE-UI'!E11","v":0},null,null,{"$f":"\"anno \" & DATIG!A52","v":"anno 2018"},{"$f":"USCITE_C!F27","v":450}]
[null,{"$f":"\"anno \" & DATIG!A53","v":"anno 2019"},{"$f":"'ENTRATE-UI'!F11","v":0},null,null,{"$f":"\"anno \" & DATIG!A53","v":"anno 2019"},{"$f":"USCITE_C!G27","v":750}]
[null,{"$f":"\"anno \" & DATIG!A54","v":"anno "},{"$f":"'ENTRATE-UI'!G11","v":0},null,null,{"$f":"\"anno \" & DATIG!A54","v":"anno "},{"$f":"USCITE_C!H27","v":0}]
[null,null,null,null,"III",{"$f":"IF(E16<>\"\",PIANOCONTI_U!A38,\"\")","v":"LAVORI (detraibili)"},null,{"$f":"USCITE_C!D38","v":5450}]
[null,null,null,null,null,{"$f":"\"anno \" & DATIG!A51","v":"anno 2017"},{"$f":"USCITE_C!E38","v":0}]
[null,null,null,null,null,{"$f":"\"anno \" & DATIG!A52","v":"anno 2018"},{"$f":"USCITE_C!F38","v":2100}]
[null,null,null,null,null,{"$f":"\"anno \" & DATIG!A53","v":"anno 2019"},{"$f":"USCITE_C!G38","v":3350}]
[null,null,null,null,null,{"$f":"\"anno \" & DATIG!A54","v":"anno "},{"$f":"USCITE_C!H38","v":0}]
[null,null,null,null,"IV",{"$f":"IF(E21<>\"\",PIANOCONTI_U!A49,\"\")","v":"SPESE VARIE E IMPREVISTI (detraibili)"},null,{"$f":"USCITE_C!D49","v":0}]
[null,null,null,null,null,{"$f":"\"anno \" & DATIG!A51","v":"anno 2017"},{"$f":"USCITE_C!E49","v":0}]
[null,null,null,null,null,{"$f":"\"anno \" & DATIG!A52","v":"anno 2018"},{"$f":"USCITE_C!F49","v":0}]
[null,null,null,null,null,{"$f":"\"anno \" & DATIG!A53","v":"anno 2019"},{"$f":"USCITE_C!G49","v":0}]
[null,null,null,null,null,{"$f":"\"anno \" & DATIG!A54","v":"anno "},{"$f":"USCITE_C!H49","v":0}]
[null,null,null,null,"V",{"$f":"IF(E26<>\"\",PIANOCONTI_U!A95,\"\")","v":"SPESE PERSONALI PER UNITÀ FUNZIONALE (detraibili)"},null,{"$f":"USCITE_C!D95","v":20}]
[null,null,null,null,null,{"$f":"\"anno \" & DATIG!A51","v":"anno 2017"},{"$f":"USCITE_C!E95","v":0}]
[null,null,null,null,null,{"$f":"\"anno \" & DATIG!A52","v":"anno 2018"},{"$f":"USCITE_C!F95","v":0}]
[null,null,null,null,null,{"$f":"\"anno \" & DATIG!A53","v":"anno 2019"},{"$f":"USCITE_C!G95","v":20}]
[null,null,null,null,null,{"$f":"\"anno \" & DATIG!A54","v":"anno "},{"$f":"USCITE_C!H95","v":0}]
["TOTALE INCASSI",null,null,{"$f":"SUM(D6:D30)","v":8169.9500000000007},"TOTALE SPESE",null,null,{"$f":"SUM(H6:H30)","v":7220}]
[{"$f":"IF(D32=0,\"\",\"AVANZO\")","v":"AVANZO"},null,null,{"$f":"IF(D31>H31,D31-H31,0)","v":949.95000000000073},{"$f":"IF(H32=0,\"\",\"DISAVANZO\")","v":""},null,null,{"$f":"IF(D31<H31,H31-D31,0)","v":0}]
[]
["CONTO FINANZIARIO o FLUSSI DI CASSA"]
["ENTRATE",null,null,null,"USCITE"]
["Da CONDOMINI",null,null,{"$f":"D6","v":8169.9500000000007},"Per SPESE ",null,null,{"$f":"H31","v":7220}]
["Da PROVENTI DIVERSI",null,null,{"$f":"D11","v":0},"Per RESTITUZIONI"]
["Da PRESTITI RICEVUTI",null,null,null,null,"Condomini (quote in eccesso)"]
[null,null,null,null,null,"Terzi (Prestiti ricevuti)"]
[]
[]
["TOTALE ENTRATE",null,null,{"$f":"SUM(D36:D41)","v":8169.9500000000007},"TOTALE USCITE",null,null,{"$f":"SUM(H36:H41)","v":7220}]
[{"$f":"IF(D43=0,\"\",\"AVANZO DI CASSA\")","v":"AVANZO DI CASSA"},null,null,{"$f":"IF(D42>H42,D42-H42,0)","v":949.95000000000073},{"$f":"IF(H43=0,\"\",\"DISAVANZO DI CASSA\")","v":""},null,null,{"$f":"IF(D42<H42,H42-D42,0)","v":0}]
[]
[{"$f":"\"STATO PATRIMONIALE\" & \" alla data \" & DataUltimaregistrazione()","v":"STATO PATRIMONIALE alla data 13-novembre-2019"}]
["ATTIVITÀ (PARTITE A CREDITO)",null,null,null,"PASSIVITÀ (PARTITE A DEBITO)"]
["GESTIONE ORDINARIA"]
["LIQUIDITÀ (Avanzo di cassa)",null,null,{"$f":"ROUND(SUM(C49:C50),2)","v":949.95},"LIQUIDITÀ",null,null,{"$f":"ROUND(SUM(G50),2)","v":0}]
[null,"CASSA",{"$f":"GIORNALE!H10","v":12.649999999999636},null,null,null,0]
[null,"CONTO CORRENTE",{"$f":"GIORNALE!K10","v":937.30000000000018},null,null,"CONTO CORRENTE",0]
["CREDITI DI GESTIONE",null,null,{"$f":"SUM(C52:C53)","v":1070.45},"DEBITI DI GESTIONE",null,null,{"$f":"ROUND(SUM(G52:G53),2)","v":2020.4}]
[null,"da CONDOMINI",{"$f":"ROUND(CREDITI!D29,2)","v":1070.45},null,null,"v/s CONDOMINI (quote eccedenti)",{"$f":"ROUND(DEBITI!D29,2)","v":2020.4}]
[null,"da TERZI",{"$f":"ROUND(CREDITI!D17,2)","v":0},null,null,"v/s TERZI PRIVATI",{"$f":"ROUND(DEBITI!D17,2)","v":0}]
[null,null,null,null,null,"v/s TERZI PUBBLICI"]
["TOTALE ATTIVITÀ",null,null,{"$f":"ROUND(D48+D51,2)","v":2020.4},"TOTALE PASSIVITÀ",null,null,{"$f":"ROUND(H48+H51,2)","v":2020.4}]
[{"$f":"IF((D55-H55)>0.01,\"SALDO PATRIMONIALE ATTIVO\",\"\")","v":""},null,null,{"$f":"IF((D55-H55)>0.01,D55-H55,0)","v":0},{"$f":"IF((H55-D55)<0.01,\"\",\"SALDO PATRIMONIALE PASSIVO\")","v":""},null,null,{"$f":"IF((H55-D55)<0.01,0,H55-D55)","v":0}]

{"sheet":"RE-UF","index":30,"n_rows":111,"n_cols":17,"rows_kept":111,"cut":false,"hidden":true,"merged":[[110,1,110,2],[110,3,110,13],[7,14,9,14],[7,0,9,0],[7,1,9,1],[7,2,9,2]]}
[]
[]
[]
[]
[]
[]
[{"$f":"\"RIPARTO fra le UNITÀ FUNZIONALI delle SPESE sostenute con il FONDO LAVORI\"  & CHAR(10) & DATIG!A40  & CHAR(10) & \"Codice FONDO:  \" & DATIG!A37","v":"RIPARTO fra le UNITÀ FUNZIONALI delle SPESE sostenute con il FONDO LAVORI\nLavori messa in sicurezza fondazioni da infiltrazioni fognarie\nCodice FONDO:  LAVORO-01"}]
["N. UFC","Codice Unità\nFunzionale\nCondominiale","Codice Unità\nImmobiliare\nCatastale\ncui appartiene","SPESE","SPESE","SPESE","SPESE","SPESE","SPESE","SPESE","SPESE","SPESE","SPESE","SPESE","TOTALE DOVUTO"]
[null,null,null,{"$f":"\"Tab. \" & DATIG!$D16","v":"Tab. A"},{"$f":"\"Tab. \" & DATIG!$D17","v":"Tab. B"},{"$f":"\"Tab. \" & DATIG!$D18","v":"Tab. C"},{"$f":"\"Tab. \" & DATIG!$D19","v":"Tab. D"},{"$f":"\"Tab. \" & DATIG!$D20","v":"Tab. E"},{"$f":"\"Tab. \" & DATIG!$D21","v":"Tab. F"},{"$f":"\"Tab. \" & DATIG!$D22","v":"Tab. G"},{"$f":"\"Tab. \" & DATIG!$D23","v":"Tab. H"},{"$f":"\"Tab. \" & DATIG!$D24","v":"Tab. I"},{"$f":"\"Tab. \" & DATIG!$D25","v":"Tab. J"},"PERSON."]
[null,null,null,{"$f":"DATIG!$A16","v":"GENERALE"},{"$f":"DATIG!$A17","v":"Lato NORD"},{"$f":"DATIG!$A18","v":"Lato SUD"},{"$f":"DATIG!$A19","v":0},{"$f":"DATIG!$A20","v":0},{"$f":"DATIG!$A21","v":0},{"$f":"DATIG!$A22","v":0},{"$f":"DATIG!$A23","v":0},{"$f":"DATIG!$A24","v":0},{"$f":"DATIG!$A25","v":0}]
[1,{"$f":"UF!B11","v":"UFC01"},{"$f":"IF(UF!C11<>\"\",UF!C11,\"\")","v":"U01"},144.28,0,287.05,null,null,null,null,null,null,null,{"$f":"USCITE_C!D96","v":0},{"$f":"SUM(D11:N11)","v":431.33000000000004},null,0]
[2,{"$f":"UF!B12","v":"UFC02"},{"$f":"IF(UF!C12<>\"\",UF!C12,\"\")","v":"U02"},173.14000000000001,0,344.47,null,null,null,null,null,null,null,{"$f":"USCITE_C!D97","v":0},{"$f":"SUM(D12:N12)","v":517.61},null,0]
[3,{"$f":"UF!B13","v":"UFC03"},{"$f":"IF(UF!C13<>\"\",UF!C13,\"\")","v":"U03"},165.04,0,328.35,null,null,null,null,null,null,null,{"$f":"USCITE_C!D98","v":0},493.39,null,0]
[4,{"$f":"UF!B14","v":"UFC04"},{"$f":"IF(UF!C14<>\"\",UF!C14,\"\")","v":"U04"},149.62,0,198.45,null,null,null,null,null,null,null,{"$f":"USCITE_C!D99","v":0},348.07,null,0]
[5,{"$f":"UF!B15","v":"UFC05"},{"$f":"IF(UF!C15<>\"\",UF!C15,\"\")","v":"U05"},185.51,0,246.09,null,null,null,null,null,null,null,{"$f":"USCITE_C!D100","v":0},431.6,null,0]
[6,{"$f":"UF!B16","v":"UFC06"},{"$f":"IF(UF!C16<>\"\",UF!C16,\"\")","v":"U06"},176,0,233.44,null,null,null,null,null,null,null,{"$f":"USCITE_C!D101","v":0},409.44,null,0]
[7,{"$f":"UF!B17","v":"UFC07"},{"$f":"IF(UF!C17<>\"\",UF!C17,\"\")","v":"U07"},147.29,0,97.68,null,null,null,null,null,null,null,{"$f":"USCITE_C!D102","v":0},244.97,null,0]
[8,{"$f":"UF!B18","v":"UFC08"},{"$f":"IF(UF!C18<>\"\",UF!C18,\"\")","v":"U08"},180.32,0,119.59,null,null,null,null,null,null,null,{"$f":"USCITE_C!D103","v":0},299.90999999999997,null,0]
[9,{"$f":"UF!B19","v":"UFC09"},{"$f":"IF(UF!C19<>\"\",UF!C19,\"\")","v":"U09"},171.27,0,113.58,null,null,null,null,null,null,null,{"$f":"USCITE_C!D104","v":0},284.85000000000002,null,0]
[10,{"$f":"UF!B20","v":"UFC10"},{"$f":"IF(UF!C20<>\"\",UF!C20,\"\")","v":"U10"},129.16,0,8.75,null,null,null,null,null,null,null,{"$f":"USCITE_C!D105","v":0},137.91,null,0]
[11,{"$f":"UF!B21","v":"UFC11"},{"$f":"IF(UF!C21<>\"\",UF!C21,\"\")","v":"U11"},166.1,0,9.34,null,null,null,null,null,null,null,{"$f":"USCITE_C!D106","v":20},195.44,null,0]
[12,{"$f":"UF!B22","v":"UFC12"},{"$f":"IF(UF!C22<>\"\",UF!C22,\"\")","v":"U12"},118.86,0,10.27,null,null,null,null,null,null,null,{"$f":"USCITE_C!D107","v":0},129.13,null,0]
[13,{"$f":"UF!B23","v":"UFC13"},{"$f":"IF(UF!C23<>\"\",UF!C23,\"\")","v":"U13"},36.96,0,24.51,null,null,null,null,null,null,null,{"$f":"USCITE_C!D108","v":0},61.47,null,0]
[14,{"$f":"UF!B24","v":"UFC14"},{"$f":"IF(UF!C24<>\"\",UF!C24,\"\")","v":"U14"},118.26,0,78.430000000000007,null,null,null,null,null,null,null,{"$f":"USCITE_C!D109","v":0},196.69,null,0]
[15,{"$f":"UF!B25","v":"UFC15"},{"$f":"IF(UF!C25<>\"\",UF!C25,\"\")","v":"U15"},170.66,358.35,0,null,null,null,null,null,null,null,{"$f":"USCITE_C!D110","v":0},529.01,null,0]
[16,{"$f":"UF!B26","v":"UFC16"},{"$f":"IF(UF!C26<>\"\",UF!C26,\"\")","v":"U16"},174.43,274.7,0,null,null,null,null,null,null,null,{"$f":"USCITE_C!D111","v":0},449.13,null,0]
[17,{"$f":"UF!B27","v":"UFC17"},{"$f":"IF(UF!C27<>\"\",UF!C27,\"\")","v":"U17"},137.30000000000001,216.24,0,null,null,null,null,null,null,null,{"$f":"USCITE_C!D112","v":0},353.54,null,0]
[18,{"$f":"UF!B28","v":"UFC18"},{"$f":"IF(UF!C28<>\"\",UF!C28,\"\")","v":"U18"},182.51,191.62,0,null,null,null,null,null,null,null,{"$f":"USCITE_C!D113","v":0},374.13,null,0]
[19,{"$f":"UF!B29","v":"UFC19"},{"$f":"IF(UF!C29<>\"\",UF!C29,\"\")","v":"U19"},149.34,156.80000000000001,0,null,null,null,null,null,null,null,{"$f":"USCITE_C!D114","v":0},306.14,null,0]
[20,{"$f":"UF!B30","v":"UFC20"},{"$f":"IF(UF!C30<>\"\",UF!C30,\"\")","v":"U20"},185.35,97.3,0,null,null,null,null,null,null,null,{"$f":"USCITE_C!D115","v":0},282.64999999999998,null,0]
[21,{"$f":"UF!B31","v":"UFC21"},{"$f":"IF(UF!C31<>\"\",UF!C31,\"\")","v":"U21"},139.79,73.38,0,null,null,null,null,null,null,null,{"$f":"USCITE_C!D116","v":0},213.17,null,0]
[22,{"$f":"UF!B32","v":"UFC22"},{"$f":"IF(UF!C32<>\"\",UF!C32,\"\")","v":"U22"},165.68,6.7700000000000005,0,null,null,null,null,null,null,null,{"$f":"USCITE_C!D117","v":0},172.45000000000002,null,0]
[23,{"$f":"UF!B33","v":"UFC23"},{"$f":"IF(UF!C33<>\"\",UF!C33,\"\")","v":"U20"},128.27000000000001,8.8000000000000007,0,null,null,null,null,null,null,null,{"$f":"USCITE_C!D118","v":0},137.07000000000002,null,0]
[24,{"$f":"UF!B34","v":"UFC24"},{"$f":"IF(UF!C34<>\"\",UF!C34,\"\")","v":"U15"},144.86000000000001,76.040000000000006,0,null,null,null,null,null,null,null,{"$f":"USCITE_C!D119","v":0},220.90000000000003,null,0]
[25,{"$f":"UF!B35","v":"UFC25"},{"$f":"IF(UF!C35<>\"\",UF!C35,\"\")","v":""},null,null,null,null,null,null,null,null,null,null,{"$f":"USCITE_C!D120","v":0},0]
[26,{"$f":"UF!B36","v":"UFC26"},{"$f":"IF(UF!C36<>\"\",UF!C36,\"\")","v":""},null,null,null,null,null,null,null,null,null,null,{"$f":"USCITE_C!D121","v":0},0]
[27,{"$f":"UF!B37","v":"UFC27"},{"$f":"IF(UF!C37<>\"\",UF!C37,\"\")","v":""},null,null,null,null,null,null,null,null,null,null,{"$f":"USCITE_C!D122","v":0},0]
[28,{"$f":"UF!B38","v":"UFC28"},{"$f":"IF(UF!C38<>\"\",UF!C38,\"\")","v":""},null,null,null,null,null,null,null,null,null,null,{"$f":"USCITE_C!D123","v":0},0]
[29,{"$f":"UF!B39","v":"UFC29"},{"$f":"IF(UF!C39<>\"\",UF!C39,\"\")","v":""},null,null,null,null,null,null,null,null,null,null,{"$f":"USCITE_C!D124","v":0},0]
[30,{"$f":"UF!B40","v":"UFC30"},{"$f":"IF(UF!C40<>\"\",UF!C40,\"\")","v":""},null,null,null,null,null,null,null,null,null,null,{"$f":"USCITE_C!D125","v":0},0]
[31,{"$f":"UF!B41","v":"UFC31"},{"$f":"IF(UF!C41<>\"\",UF!C41,\"\")","v":""},null,null,null,null,null,null,null,null,null,null,{"$f":"USCITE_C!D126","v":0},0]
[32,{"$f":"UF!B42","v":"UFC32"},{"$f":"IF(UF!C42<>\"\",UF!C42,\"\")","v":""},null,null,null,null,null,null,null,null,null,null,{"$f":"USCITE_C!D127","v":0},0]
[33,{"$f":"UF!B43","v":"UFC33"},{"$f":"IF(UF!C43<>\"\",UF!C43,\"\")","v":""},null,null,null,null,null,null,null,null,null,null,{"$f":"USCITE_C!D128","v":0},0]
[34,{"$f":"UF!B44","v":"UFC34"},{"$f":"IF(UF!C44<>\"\",UF!C44,\"\")","v":""},null,null,null,null,null,null,null,null,null,null,{"$f":"USCITE_C!D129","v":0},0]
[35,{"$f":"UF!B45","v":"UFC35"},{"$f":"IF(UF!C45<>\"\",UF!C45,\"\")","v":""},null,null,null,null,null,null,null,null,null,null,{"$f":"USCITE_C!D130","v":0},0]
[36,{"$f":"UF!B46","v":"UFC36"},{"$f":"IF(UF!C46<>\"\",UF!C46,\"\")","v":""},null,null,null,null,null,null,null,null,null,null,{"$f":"USCITE_C!D131","v":0},0]
[37,{"$f":"UF!B47","v":"UFC37"},{"$f":"IF(UF!C47<>\"\",UF!C47,\"\")","v":""},null,null,null,null,null,null,null,null,null,null,{"$f":"USCITE_C!D132","v":0},0]
[38,{"$f":"UF!B48","v":"UFC38"},{"$f":"IF(UF!C48<>\"\",UF!C48,\"\")","v":""},null,null,null,null,null,null,null,null,null,null,{"$f":"USCITE_C!D133","v":0},0]
[39,{"$f":"UF!B49","v":"UFC39"},{"$f":"IF(UF!C49<>\"\",UF!C49,\"\")","v":""},null,null,null,null,null,null,null,null,null,null,{"$f":"USCITE_C!D134","v":0},0]
[40,{"$f":"UF!B50","v":"UFC40"},{"$f":"IF(UF!C50<>\"\",UF!C50,\"\")","v":""},null,null,null,null,null,null,null,null,null,null,{"$f":"USCITE_C!D135","v":0},0]
[41,{"$f":"UF!B51","v":"UFC41"},{"$f":"IF(UF!C51<>\"\",UF!C51,\"\")","v":""},null,null,null,null,null,null,null,null,null,null,{"$f":"USCITE_C!D136","v":0},0]
[42,{"$f":"UF!B52","v":"UFC42"},{"$f":"IF(UF!C52<>\"\",UF!C52,\"\")","v":""},null,null,null,null,null,null,null,null,null,null,{"$f":"USCITE_C!D137","v":0},0]
[43,{"$f":"UF!B53","v":"UFC43"},{"$f":"IF(UF!C53<>\"\",UF!C53,\"\")","v":""},null,null,null,null,null,null,null,null,null,null,{"$f":"USCITE_C!D138","v":0},0]
[44,{"$f":"UF!B54","v":"UFC44"},{"$f":"IF(UF!C54<>\"\",UF!C54,\"\")","v":""},null,null,null,null,null,null,null,null,null,null,{"$f":"USCITE_C!D139","v":0},0]
[45,{"$f":"UF!B55","v":"UFC45"},{"$f":"IF(UF!C55<>\"\",UF!C55,\"\")","v":""},null,null,null,null,null,null,null,null,null,null,{"$f":"USCITE_C!D140","v":0},0]
[46,{"$f":"UF!B56","v":"UFC46"},{"$f":"IF(UF!C56<>\"\",UF!C56,\"\")","v":""},null,null,null,null,null,null,null,null,null,null,{"$f":"USCITE_C!D141","v":0},0]
[47,{"$f":"UF!B57","v":"UFC47"},{"$f":"IF(UF!C57<>\"\",UF!C57,\"\")","v":""},null,null,null,null,null,null,null,null,null,null,{"$f":"USCITE_C!D142","v":0},0]
[48,{"$f":"UF!B58","v":"UFC48"},{"$f":"IF(UF!C58<>\"\",UF!C58,\"\")","v":""},null,null,null,null,null,null,null,null,null,null,{"$f":"USCITE_C!D143","v":0},0]
[49,{"$f":"UF!B59","v":"UFC49"},{"$f":"IF(UF!C59<>\"\",UF!C59,\"\")","v":""},null,null,null,null,null,null,null,null,null,null,{"$f":"USCITE_C!D144","v":0},0]
[50,{"$f":"UF!B60","v":"UFC50"},{"$f":"IF(UF!C60<>\"\",UF!C60,\"\")","v":""},null,null,null,null,null,null,null,null,null,null,{"$f":"USCITE_C!D145","v":0},0]
[51,{"$f":"UF!B61","v":"UFC51"},{"$f":"IF(UF!C61<>\"\",UF!C61,\"\")","v":""},null,null,null,null,null,null,null,null,null,null,{"$f":"USCITE_C!D146","v":0},0]
[52,{"$f":"UF!B62","v":"UFC52"},{"$f":"IF(UF!C62<>\"\",UF!C62,\"\")","v":""},null,null,null,null,null,null,null,null,null,null,{"$f":"USCITE_C!D147","v":0},0]
[53,{"$f":"UF!B63","v":"UFC53"},{"$f":"IF(UF!C63<>\"\",UF!C63,\"\")","v":""},null,null,null,null,null,null,null,null,null,null,{"$f":"USCITE_C!D148","v":0},0]
[54,{"$f":"UF!B64","v":"UFC54"},{"$f":"IF(UF!C64<>\"\",UF!C64,\"\")","v":""},null,null,null,null,null,null,null,null,null,null,{"$f":"USCITE_C!D149","v":0},0]
[55,{"$f":"UF!B65","v":"UFC55"},{"$f":"IF(UF!C65<>\"\",UF!C65,\"\")","v":""},null,null,null,null,null,null,null,null,null,null,{"$f":"USCITE_C!D150","v":0},0]
[56,{"$f":"UF!B66","v":"UFC56"},{"$f":"IF(UF!C66<>\"\",UF!C66,\"\")","v":""},null,null,null,null,null,null,null,null,null,null,{"$f":"USCITE_C!D151","v":0},0]
[57,{"$f":"UF!B67","v":"UFC57"},{"$f":"IF(UF!C67<>\"\",UF!C67,\"\")","v":""},null,null,null,null,null,null,null,null,null,null,{"$f":"USCITE_C!D152","v":0},0]
[58,{"$f":"UF!B68","v":"UFC58"},{"$f":"IF(UF!C68<>\"\",UF!C68,\"\")","v":""},null,null,null,null,null,null,null,null,null,null,{"$f":"USCITE_C!D153","v":0},0]
[59,{"$f":"UF!B69","v":"UFC59"},{"$f":"IF(UF!C69<>\"\",UF!C69,\"\")","v":""},null,null,null,null,null,null,null,null,null,null,{"$f":"USCITE_C!D154","v":0},0]
[60,{"$f":"UF!B70","v":"UFC60"},{"$f":"IF(UF!C70<>\"\",UF!C70,\"\")","v":""},null,null,null,null,null,null,null,null,null,null,{"$f":"USCITE_C!D155","v":0},0]
[61,{"$f":"UF!B71","v":"UFC61"},{"$f":"IF(UF!C71<>\"\",UF!C71,\"\")","v":""},null,null,null,null,null,null,null,null,null,null,{"$f":"USCITE_C!D156","v":0},0]
[62,{"$f":"UF!B72","v":"UFC62"},{"$f":"IF(UF!C72<>\"\",UF!C72,\"\")","v":""},null,null,null,null,null,null,null,null,null,null,{"$f":"USCITE_C!D157","v":0},0]
[63,{"$f":"UF!B73","v":"UFC63"},{"$f":"IF(UF!C73<>\"\",UF!C73,\"\")","v":""},null,null,null,null,null,null,null,null,null,null,{"$f":"USCITE_C!D158","v":0},0]
[64,{"$f":"UF!B74","v":"UFC64"},{"$f":"IF(UF!C74<>\"\",UF!C74,\"\")","v":""},null,null,null,null,null,null,null,null,null,null,{"$f":"USCITE_C!D159","v":0},0]
[65,{"$f":"UF!B75","v":"UFC65"},{"$f":"IF(UF!C75<>\"\",UF!C75,\"\")","v":""},null,null,null,null,null,null,null,null,null,null,{"$f":"USCITE_C!D160","v":0},0]
[66,{"$f":"UF!B76","v":"UFC66"},{"$f":"IF(UF!C76<>\"\",UF!C76,\"\")","v":""},null,null,null,null,null,null,null,null,null,null,{"$f":"USCITE_C!D161","v":0},{"$f":"SUM(D76:N76)","v":0}]
[67,{"$f":"UF!B77","v":"UFC67"},{"$f":"IF(UF!C77<>\"\",UF!C77,\"\")","v":""},null,null,null,null,null,null,null,null,null,null,{"$f":"USCITE_C!D162","v":0},0]
[68,{"$f":"UF!B78","v":"UFC68"},{"$f":"IF(UF!C78<>\"\",UF!C78,\"\")","v":""},null,null,null,null,null,null,null,null,null,null,{"$f":"USCITE_C!D163","v":0},0]
[69,{"$f":"UF!B79","v":"UFC69"},{"$f":"IF(UF!C79<>\"\",UF!C79,\"\")","v":""},null,null,null,null,null,null,null,null,null,null,{"$f":"USCITE_C!D164","v":0},0]
[70,{"$f":"UF!B80","v":"UFC70"},{"$f":"IF(UF!C80<>\"\",UF!C80,\"\")","v":""},null,null,null,null,null,null,null,null,null,null,{"$f":"USCITE_C!D165","v":0},0]
[71,{"$f":"UF!B81","v":"UFC71"},{"$f":"IF(UF!C81<>\"\",UF!C81,\"\")","v":""},null,null,null,null,null,null,null,null,null,null,{"$f":"USCITE_C!D166","v":0},0]
[72,{"$f":"UF!B82","v":"UFC72"},{"$f":"IF(UF!C82<>\"\",UF!C82,\"\")","v":""},null,null,null,null,null,null,null,null,null,null,{"$f":"USCITE_C!D167","v":0},0]
[73,{"$f":"UF!B83","v":"UFC73"},{"$f":"IF(UF!C83<>\"\",UF!C83,\"\")","v":""},null,null,null,null,null,null,null,null,null,null,{"$f":"USCITE_C!D168","v":0},0]
[74,{"$f":"UF!B84","v":"UFC74"},{"$f":"IF(UF!C84<>\"\",UF!C84,\"\")","v":""},null,null,null,null,null,null,null,null,null,null,{"$f":"USCITE_C!D169","v":0},0]
[75,{"$f":"UF!B85","v":"UFC75"},{"$f":"IF(UF!C85<>\"\",UF!C85,\"\")","v":""},null,null,null,null,null,null,null,null,null,null,{"$f":"USCITE_C!D170","v":0},0]
[76,{"$f":"UF!B86","v":"UFC76"},{"$f":"IF(UF!C86<>\"\",UF!C86,\"\")","v":""},null,null,null,null,null,null,null,null,null,null,{"$f":"USCITE_C!D171","v":0},0]
[77,{"$f":"UF!B87","v":"UFC77"},{"$f":"IF(UF!C87<>\"\",UF!C87,\"\")","v":""},null,null,null,null,null,null,null,null,null,null,{"$f":"USCITE_C!D172","v":0},0]
[78,{"$f":"UF!B88","v":"UFC78"},{"$f":"IF(UF!C88<>\"\",UF!C88,\"\")","v":""},null,null,null,null,null,null,null,null,null,null,{"$f":"USCITE_C!D173","v":0},0]
[79,{"$f":"UF!B89","v":"UFC79"},{"$f":"IF(UF!C89<>\"\",UF!C89,\"\")","v":""},null,null,null,null,null,null,null,null,null,null,{"$f":"USCITE_C!D174","v":0},0]
[80,{"$f":"UF!B90","v":"UFC80"},{"$f":"IF(UF!C90<>\"\",UF!C90,\"\")","v":""},null,null,null,null,null,null,null,null,null,null,{"$f":"USCITE_C!D175","v":0},0]
[81,{"$f":"UF!B91","v":"UFC81"},{"$f":"IF(UF!C91<>\"\",UF!C91,\"\")","v":""},null,null,null,null,null,null,null,null,null,null,{"$f":"USCITE_C!D176","v":0},0]
[82,{"$f":"UF!B92","v":"UFC82"},{"$f":"IF(UF!C92<>\"\",UF!C92,\"\")","v":""},null,null,null,null,null,null,null,null,null,null,{"$f":"USCITE_C!D177","v":0},0]
[83,{"$f":"UF!B93","v":"UFC83"},{"$f":"IF(UF!C93<>\"\",UF!C93,\"\")","v":""},null,null,null,null,null,null,null,null,null,null,{"$f":"USCITE_C!D178","v":0},0]
[84,{"$f":"UF!B94","v":"UFC84"},{"$f":"IF(UF!C94<>\"\",UF!C94,\"\")","v":""},null,null,null,null,null,null,null,null,null,null,{"$f":"USCITE_C!D179","v":0},0]
[85,{"$f":"UF!B95","v":"UFC85"},{"$f":"IF(UF!C95<>\"\",UF!C95,\"\")","v":""},null,null,null,null,null,null,null,null,null,null,{"$f":"USCITE_C!D180","v":0},0]
[86,{"$f":"UF!B96","v":"UFC86"},{"$f":"IF(UF!C96<>\"\",UF!C96,\"\")","v":""},null,null,null,null,null,null,null,null,null,null,{"$f":"USCITE_C!D181","v":0},0]
[87,{"$f":"UF!B97","v":"UFC87"},{"$f":"IF(UF!C97<>\"\",UF!C97,\"\")","v":""},null,null,null,null,null,null,null,null,null,null,{"$f":"USCITE_C!D182","v":0},0]
[88,{"$f":"UF!B98","v":"UFC88"},{"$f":"IF(UF!C98<>\"\",UF!C98,\"\")","v":""},null,null,null,null,null,null,null,null,null,null,{"$f":"USCITE_C!D183","v":0},0]
[89,{"$f":"UF!B99","v":"UFC89"},{"$f":"IF(UF!C99<>\"\",UF!C99,\"\")","v":""},null,null,null,null,null,null,null,null,null,null,{"$f":"USCITE_C!D184","v":0},0]
[90,{"$f":"UF!B100","v":"UFC90"},{"$f":"IF(UF!C100<>\"\",UF!C100,\"\")","v":""},null,null,null,null,null,null,null,null,null,null,{"$f":"USCITE_C!D185","v":0},0]
[91,{"$f":"UF!B101","v":"UFC91"},{"$f":"IF(UF!C101<>\"\",UF!C101,\"\")","v":""},null,null,null,null,null,null,null,null,null,null,{"$f":"USCITE_C!D186","v":0},0]
[92,{"$f":"UF!B102","v":"UFC92"},{"$f":"IF(UF!C102<>\"\",UF!C102,\"\")","v":""},null,null,null,null,null,null,null,null,null,null,{"$f":"USCITE_C!D187","v":0},0]
[93,{"$f":"UF!B103","v":"UFC93"},{"$f":"IF(UF!C103<>\"\",UF!C103,\"\")","v":""},null,null,null,null,null,null,null,null,null,null,{"$f":"USCITE_C!D188","v":0},0]
[94,{"$f":"UF!B104","v":"UFC94"},{"$f":"IF(UF!C104<>\"\",UF!C104,\"\")","v":""},null,null,null,null,null,null,null,null,null,null,{"$f":"USCITE_C!D189","v":0},0]
[95,{"$f":"UF!B105","v":"UFC95"},{"$f":"IF(UF!C105<>\"\",UF!C105,\"\")","v":""},null,null,null,null,null,null,null,null,null,null,{"$f":"USCITE_C!D190","v":0},0]
[96,{"$f":"UF!B106","v":"UFC96"},{"$f":"IF(UF!C106<>\"\",UF!C106,\"\")","v":""},null,null,null,null,null,null,null,null,null,null,{"$f":"USCITE_C!D191","v":0},0]
[97,{"$f":"UF!B107","v":"UFC97"},{"$f":"IF(UF!C107<>\"\",UF!C107,\"\")","v":""},null,null,null,null,null,null,null,null,null,null,{"$f":"USCITE_C!D192","v":0},0]
[98,{"$f":"UF!B108","v":"UFC98"},{"$f":"IF(UF!C108<>\"\",UF!C108,\"\")","v":""},null,null,null,null,null,null,null,null,null,null,{"$f":"USCITE_C!D193","v":0},0]
[99,{"$f":"UF!B109","v":"UFC99"},{"$f":"IF(UF!C109<>\"\",UF!C109,\"\")","v":""},null,null,null,null,null,null,null,null,null,null,{"$f":"USCITE_C!D194","v":0},0]
[null,null,null,{"$f":"SUM(D11:D109)","v":3640},{"$f":"SUM(E11:E109)","v":1459.9999999999998},{"$f":"SUM(F11:F109)","v":2099.9999999999995},{"$f":"SUM(G11:G109)","v":0},0,0,0,0,0,0,20,{"$f":"SUM(O11:O109)","v":7219.9999999999991}]
[null,"controllo uscite",null,{"$f":"SUM(D110:N110)","v":7220}]

{"sheet":"RE-UI","index":31,"n_rows":111,"n_cols":19,"rows_kept":111,"cut":false,"hidden":true,"merged":[[7,16,9,16],[110,5,110,15],[7,0,9,0],[7,1,9,1],[7,3,9,3],[7,4,9,4],[7,2,9,2]]}
[]
[]
[]
[]
[]
[]
[{"$f":"\"RIPARTO fra le UNITÀ FUNZIONALI delle SPESE sostenute con il FONDO LAVORI\"  & CHAR(10) & DATIG!A40  & CHAR(10) & \"Codice FONDO:  \" & DATIG!A37","v":"RIPARTO fra le UNITÀ FUNZIONALI delle SPESE sostenute con il FONDO LAVORI\nLavori messa in sicurezza fondazioni da infiltrazioni fognarie\nCodice FONDO:  LAVORO-01"}]
["N. UFC","Codice Unità\nImmobiliare\nCatastale","UFC\ncostituenti","CODICE CONDOMINO","CONDOMINO","SPESE","SPESE","SPESE","SPESE","SPESE","SPESE","SPESE","SPESE","SPESE","SPESE","SPESE","TOTALE DOVUTO"]
[null,null,null,null,null,{"$f":"\"Tab. \" & DATIG!$D16","v":"Tab. A"},{"$f":"\"Tab. \" & DATIG!$D17","v":"Tab. B"},{"$f":"\"Tab. \" & DATIG!$D18","v":"Tab. C"},{"$f":"\"Tab. \" & DATIG!$D19","v":"Tab. D"},{"$f":"\"Tab. \" & DATIG!$D20","v":"Tab. E"},{"$f":"\"Tab. \" & DATIG!$D21","v":"Tab. F"},{"$f":"\"Tab. \" & DATIG!$D22","v":"Tab. G"},{"$f":"\"Tab. \" & DATIG!$D23","v":"Tab. H"},{"$f":"\"Tab. \" & DATIG!$D24","v":"Tab. I"},{"$f":"\"Tab. \" & DATIG!$D25","v":"Tab. J"},"PERSON."]
[null,null,null,null,null,{"$f":"DATIG!$A16","v":"GENERALE"},{"$f":"DATIG!$A17","v":"Lato NORD"},{"$f":"DATIG!$A18","v":"Lato SUD"},{"$f":"DATIG!$A19","v":0},{"$f":"DATIG!$A20","v":0},{"$f":"DATIG!$A21","v":0},{"$f":"DATIG!$A22","v":0},{"$f":"DATIG!$A23","v":0},{"$f":"DATIG!$A24","v":0},{"$f":"DATIG!$A25","v":0}]
[1,{"$f":"UI!B11","v":"U01"},{"$f":"IF(UI!C11<>\"\",UI!C11,\"\")","v":"UFC01"},{"$f":"IF(UI!D11<>\"\",UI!D11,\"\")","v":"C01"},{"$f":"IF('TAB-UI'!E11<>\"\",'TAB-UI'!E11,\"\")","v":"CONDOMINO01"},{"$f":"SUMIFS('RE-UF'!$D$11:$D$109,'RE-UF'!$C$11:$C$109,'RE-UI'!B11)","v":144.28},{"$f":"SUMIFS('RE-UF'!$E$11:$E$109,'RE-UF'!$C$11:$C$109,'RE-UI'!B11)","v":0},{"$f":"SUMIFS('RE-UF'!$F$11:$F$109,'RE-UF'!$C$11:$C$109,'RE-UI'!B11)","v":287.05},{"$f":"SUMIFS('RE-UF'!$G$11:$G$109,'RE-UF'!$C$11:$C$109,'RE-UI'!B11)","v":0},{"$f":"SUMIFS('RE-UF'!$H$11:$H$109,'RE-UF'!$C$11:$C$109,'RE-UI'!B11)","v":0},{"$f":"SUMIFS('RE-UF'!$I$11:$I$109,'RE-UF'!$C$11:$C$109,'RE-UI'!B11)","v":0},{"$f":"SUMIFS('RE-UF'!$J$11:$J$109,'RE-UF'!$C$11:$C$109,'RE-UI'!B11)","v":0},{"$f":"SUMIFS('RE-UF'!$K$11:$K$109,'RE-UF'!$C$11:$C$109,'RE-UI'!B11)","v":0},{"$f":"SUMIFS('RE-UF'!$L$11:$L$109,'RE-UF'!$C$11:$C$109,'RE-UI'!B11)","v":0},{"$f":"SUMIFS('RE-UF'!$M$11:$M$109,'RE-UF'!$C$11:$C$109,'RE-UI'!B11)","v":0},{"$f":"SUMIFS('RE-UF'!$N$11:$N$109,'RE-UF'!$C$11:$C$109,B11)","v":0},{"$f":"SUM(F11:P11)","v":431.33000000000004},null,0]
[2,{"$f":"UI!B12","v":"U02"},{"$f":"IF(UI!C12<>\"\",UI!C12,\"\")","v":"UFC02"},{"$f":"IF(UI!D12<>\"\",UI!D12,\"\")","v":"C02"},{"$f":"IF('TAB-UI'!E12<>\"\",'TAB-UI'!E12,\"\")","v":"CONDOMINO02"},{"$f":"SUMIFS('RE-UF'!$D$11:$D$109,'RE-UF'!$C$11:$C$109,'RE-UI'!B12)","v":173.14000000000001},{"$f":"SUMIFS('RE-UF'!$E$11:$E$109,'RE-UF'!$C$11:$C$109,'RE-UI'!B12)","v":0},{"$f":"SUMIFS('RE-UF'!$F$11:$F$109,'RE-UF'!$C$11:$C$109,'RE-UI'!B12)","v":344.47},{"$f":"SUMIFS('RE-UF'!$G$11:$G$109,'RE-UF'!$C$11:$C$109,'RE-UI'!B12)","v":0},{"$f":"SUMIFS('RE-UF'!$H$11:$H$109,'RE-UF'!$C$11:$C$109,'RE-UI'!B12)","v":0},{"$f":"SUMIFS('RE-UF'!$I$11:$I$109,'RE-UF'!$C$11:$C$109,'RE-UI'!B12)","v":0},{"$f":"SUMIFS('RE-UF'!$J$11:$J$109,'RE-UF'!$C$11:$C$109,'RE-UI'!B12)","v":0},{"$f":"SUMIFS('RE-UF'!$K$11:$K$109,'RE-UF'!$C$11:$C$109,'RE-UI'!B12)","v":0},{"$f":"SUMIFS('RE-UF'!$L$11:$L$109,'RE-UF'!$C$11:$C$109,'RE-UI'!B12)","v":0},{"$f":"SUMIFS('RE-UF'!$M$11:$M$109,'RE-UF'!$C$11:$C$109,'RE-UI'!B12)","v":0},{"$f":"SUMIFS('RE-UF'!$N$11:$N$109,'RE-UF'!$C$11:$C$109,B12)","v":0},{"$f":"SUM(F12:P12)","v":517.61},null,0]
[3,{"$f":"UI!B13","v":"U03"},{"$f":"IF(UI!C13<>\"\",UI!C13,\"\")","v":"UFC03"},{"$f":"IF(UI!D13<>\"\",UI!D13,\"\")","v":"C03"},{"$f":"IF('TAB-UI'!E13<>\"\",'TAB-UI'!E13,\"\")","v":"CONDOMINO03"},{"$f":"SUMIFS('RE-UF'!$D$11:$D$109,'RE-UF'!$C$11:$C$109,'RE-UI'!B13)","v":165.04},{"$f":"SUMIFS('RE-UF'!$E$11:$E$109,'RE-UF'!$C$11:$C$109,'RE-UI'!B13)","v":0},{"$f":"SUMIFS('RE-UF'!$F$11:$F$109,'RE-UF'!$C$11:$C$109,'RE-UI'!B13)","v":328.35},{"$f":"SUMIFS('RE-UF'!$G$11:$G$109,'RE-UF'!$C$11:$C$109,'RE-UI'!B13)","v":0},{"$f":"SUMIFS('RE-UF'!$H$11:$H$109,'RE-UF'!$C$11:$C$109,'RE-UI'!B13)","v":0},{"$f":"SUMIFS('RE-UF'!$I$11:$I$109,'RE-UF'!$C$11:$C$109,'RE-UI'!B13)","v":0},{"$f":"SUMIFS('RE-UF'!$J$11:$J$109,'RE-UF'!$C$11:$C$109,'RE-UI'!B13)","v":0},{"$f":"SUMIFS('RE-UF'!$K$11:$K$109,'RE-UF'!$C$11:$C$109,'RE-UI'!B13)","v":0},{"$f":"SUMIFS('RE-UF'!$L$11:$L$109,'RE-UF'!$C$11:$C$109,'RE-UI'!B13)","v":0},{"$f":"SUMIFS('RE-UF'!$M$11:$M$109,'RE-UF'!$C$11:$C$109,'RE-UI'!B13)","v":0},{"$f":"SUMIFS('RE-UF'!$N$11:$N$109,'RE-UF'!$C$11:$C$109,B13)","v":0},493.39,null,0]
[4,{"$f":"UI!B14","v":"U04"},{"$f":"IF(UI!C14<>\"\",UI!C14,\"\")","v":"UFC04"},{"$f":"IF(UI!D14<>\"\",UI!D14,\"\")","v":"C04"},{"$f":"IF('TAB-UI'!E14<>\"\",'TAB-UI'!E14,\"\")","v":"CONDOMINO04"},{"$f":"SUMIFS('RE-UF'!$D$11:$D$109,'RE-UF'!$C$11:$C$109,'RE-UI'!B14)","v":149.62},{"$f":"SUMIFS('RE-UF'!$E$11:$E$109,'RE-UF'!$C$11:$C$109,'RE-UI'!B14)","v":0},{"$f":"SUMIFS('RE-UF'!$F$11:$F$109,'RE-UF'!$C$11:$C$109,'RE-UI'!B14)","v":198.45},{"$f":"SUMIFS('RE-UF'!$G$11:$G$109,'RE-UF'!$C$11:$C$109,'RE-UI'!B14)","v":0},{"$f":"SUMIFS('RE-UF'!$H$11:$H$109,'RE-UF'!$C$11:$C$109,'RE-UI'!B14)","v":0},{"$f":"SUMIFS('RE-UF'!$I$11:$I$109,'RE-UF'!$C$11:$C$109,'RE-UI'!B14)","v":0},{"$f":"SUMIFS('RE-UF'!$J$11:$J$109,'RE-UF'!$C$11:$C$109,'RE-UI'!B14)","v":0},{"$f":"SUMIFS('RE-UF'!$K$11:$K$109,'RE-UF'!$C$11:$C$109,'RE-UI'!B14)","v":0},{"$f":"SUMIFS('RE-UF'!$L$11:$L$109,'RE-UF'!$C$11:$C$109,'RE-UI'!B14)","v":0},{"$f":"SUMIFS('RE-UF'!$M$11:$M$109,'RE-UF'!$C$11:$C$109,'RE-UI'!B14)","v":0},{"$f":"SUMIFS('RE-UF'!$N$11:$N$109,'RE-UF'!$C$11:$C$109,B14)","v":0},348.07,null,0]
[5,{"$f":"UI!B15","v":"U05"},{"$f":"IF(UI!C15<>\"\",UI!C15,\"\")","v":"UFC05"},{"$f":"IF(UI!D15<>\"\",UI!D15,\"\")","v":"C05"},{"$f":"IF('TAB-UI'!E15<>\"\",'TAB-UI'!E15,\"\")","v":"CONDOMINO05"},{"$f":"SUMIFS('RE-UF'!$D$11:$D$109,'RE-UF'!$C$11:$C$109,'RE-UI'!B15)","v":185.51},{"$f":"SUMIFS('RE-UF'!$E$11:$E$109,'RE-UF'!$C$11:$C$109,'RE-UI'!B15)","v":0},{"$f":"SUMIFS('RE-UF'!$F$11:$F$109,'RE-UF'!$C$11:$C$109,'RE-UI'!B15)","v":246.09},{"$f":"SUMIFS('RE-UF'!$G$11:$G$109,'RE-UF'!$C$11:$C$109,'RE-UI'!B15)","v":0},{"$f":"SUMIFS('RE-UF'!$H$11:$H$109,'RE-UF'!$C$11:$C$109,'RE-UI'!B15)","v":0},{"$f":"SUMIFS('RE-UF'!$I$11:$I$109,'RE-UF'!$C$11:$C$109,'RE-UI'!B15)","v":0},{"$f":"SUMIFS('RE-UF'!$J$11:$J$109,'RE-UF'!$C$11:$C$109,'RE-UI'!B15)","v":0},{"$f":"SUMIFS('RE-UF'!$K$11:$K$109,'RE-UF'!$C$11:$C$109,'RE-UI'!B15)","v":0},{"$f":"SUMIFS('RE-UF'!$L$11:$L$109,'RE-UF'!$C$11:$C$109,'RE-UI'!B15)","v":0},{"$f":"SUMIFS('RE-UF'!$M$11:$M$109,'RE-UF'!$C$11:$C$109,'RE-UI'!B15)","v":0},{"$f":"SUMIFS('RE-UF'!$N$11:$N$109,'RE-UF'!$C$11:$C$109,B15)","v":0},431.6,null,0]
[6,{"$f":"UI!B16","v":"U06"},{"$f":"IF(UI!C16<>\"\",UI!C16,\"\")","v":"UFC06"},{"$f":"IF(UI!D16<>\"\",UI!D16,\"\")","v":"C06"},{"$f":"IF('TAB-UI'!E16<>\"\",'TAB-UI'!E16,\"\")","v":"CONDOMINO06"},{"$f":"SUMIFS('RE-UF'!$D$11:$D$109,'RE-UF'!$C$11:$C$109,'RE-UI'!B16)","v":176},{"$f":"SUMIFS('RE-UF'!$E$11:$E$109,'RE-UF'!$C$11:$C$109,'RE-UI'!B16)","v":0},{"$f":"SUMIFS('RE-UF'!$F$11:$F$109,'RE-UF'!$C$11:$C$109,'RE-UI'!B16)","v":233.44},{"$f":"SUMIFS('RE-UF'!$G$11:$G$109,'RE-UF'!$C$11:$C$109,'RE-UI'!B16)","v":0},{"$f":"SUMIFS('RE-UF'!$H$11:$H$109,'RE-UF'!$C$11:$C$109,'RE-UI'!B16)","v":0},{"$f":"SUMIFS('RE-UF'!$I$11:$I$109,'RE-UF'!$C$11:$C$109,'RE-UI'!B16)","v":0},{"$f":"SUMIFS('RE-UF'!$J$11:$J$109,'RE-UF'!$C$11:$C$109,'RE-UI'!B16)","v":0},{"$f":"SUMIFS('RE-UF'!$K$11:$K$109,'RE-UF'!$C$11:$C$109,'RE-UI'!B16)","v":0},{"$f":"SUMIFS('RE-UF'!$L$11:$L$109,'RE-UF'!$C$11:$C$109,'RE-UI'!B16)","v":0},{"$f":"SUMIFS('RE-UF'!$M$11:$M$109,'RE-UF'!$C$11:$C$109,'RE-UI'!B16)","v":0},{"$f":"SUMIFS('RE-UF'!$N$11:$N$109,'RE-UF'!$C$11:$C$109,B16)","v":0},409.44,null,0]
[7,{"$f":"UI!B17","v":"U07"},{"$f":"IF(UI!C17<>\"\",UI!C17,\"\")","v":"UFC07"},{"$f":"IF(UI!D17<>\"\",UI!D17,\"\")","v":"C07"},{"$f":"IF('TAB-UI'!E17<>\"\",'TAB-UI'!E17,\"\")","v":"CONDOMINO07"},{"$f":"SUMIFS('RE-UF'!$D$11:$D$109,'RE-UF'!$C$11:$C$109,'RE-UI'!B17)","v":147.29},{"$f":"SUMIFS('RE-UF'!$E$11:$E$109,'RE-UF'!$C$11:$C$109,'RE-UI'!B17)","v":0},{"$f":"SUMIFS('RE-UF'!$F$11:$F$109,'RE-UF'!$C$11:$C$109,'RE-UI'!B17)","v":97.68},{"$f":"SUMIFS('RE-UF'!$G$11:$G$109,'RE-UF'!$C$11:$C$109,'RE-UI'!B17)","v":0},{"$f":"SUMIFS('RE-UF'!$H$11:$H$109,'RE-UF'!$C$11:$C$109,'RE-UI'!B17)","v":0},{"$f":"SUMIFS('RE-UF'!$I$11:$I$109,'RE-UF'!$C$11:$C$109,'RE-UI'!B17)","v":0},{"$f":"SUMIFS('RE-UF'!$J$11:$J$109,'RE-UF'!$C$11:$C$109,'RE-UI'!B17)","v":0},{"$f":"SUMIFS('RE-UF'!$K$11:$K$109,'RE-UF'!$C$11:$C$109,'RE-UI'!B17)","v":0},{"$f":"SUMIFS('RE-UF'!$L$11:$L$109,'RE-UF'!$C$11:$C$109,'RE-UI'!B17)","v":0},{"$f":"SUMIFS('RE-UF'!$M$11:$M$109,'RE-UF'!$C$11:$C$109,'RE-UI'!B17)","v":0},{"$f":"SUMIFS('RE-UF'!$N$11:$N$109,'RE-UF'!$C$11:$C$109,B17)","v":0},244.97,null,0]
[8,{"$f":"UI!B18","v":"U08"},{"$f":"IF(UI!C18<>\"\",UI!C18,\"\")","v":"UFC08"},{"$f":"IF(UI!D18<>\"\",UI!D18,\"\")","v":"C08"},{"$f":"IF('TAB-UI'!E18<>\"\",'TAB-UI'!E18,\"\")","v":"CONDOMINO08"},{"$f":"SUMIFS('RE-UF'!$D$11:$D$109,'RE-UF'!$C$11:$C$109,'RE-UI'!B18)","v":180.32},{"$f":"SUMIFS('RE-UF'!$E$11:$E$109,'RE-UF'!$C$11:$C$109,'RE-UI'!B18)","v":0},{"$f":"SUMIFS('RE-UF'!$F$11:$F$109,'RE-UF'!$C$11:$C$109,'RE-UI'!B18)","v":119.59},{"$f":"SUMIFS('RE-UF'!$G$11:$G$109,'RE-UF'!$C$11:$C$109,'RE-UI'!B18)","v":0},{"$f":"SUMIFS('RE-UF'!$H$11:$H$109,'RE-UF'!$C$11:$C$109,'RE-UI'!B18)","v":0},{"$f":"SUMIFS('RE-UF'!$I$11:$I$109,'RE-UF'!$C$11:$C$109,'RE-UI'!B18)","v":0},{"$f":"SUMIFS('RE-UF'!$J$11:$J$109,'RE-UF'!$C$11:$C$109,'RE-UI'!B18)","v":0},{"$f":"SUMIFS('RE-UF'!$K$11:$K$109,'RE-UF'!$C$11:$C$109,'RE-UI'!B18)","v":0},{"$f":"SUMIFS('RE-UF'!$L$11:$L$109,'RE-UF'!$C$11:$C$109,'RE-UI'!B18)","v":0},{"$f":"SUMIFS('RE-UF'!$M$11:$M$109,'RE-UF'!$C$11:$C$109,'RE-UI'!B18)","v":0},{"$f":"SUMIFS('RE-UF'!$N$11:$N$109,'RE-UF'!$C$11:$C$109,B18)","v":0},299.90999999999997,null,0]
[9,{"$f":"UI!B19","v":"U09"},{"$f":"IF(UI!C19<>\"\",UI!C19,\"\")","v":"UFC09"},{"$f":"IF(UI!D19<>\"\",UI!D19,\"\")","v":"C09"},{"$f":"IF('TAB-UI'!E19<>\"\",'TAB-UI'!E19,\"\")","v":"CONDOMINO09"},{"$f":"SUMIFS('RE-UF'!$D$11:$D$109,'RE-UF'!$C$11:$C$109,'RE-UI'!B19)","v":171.27},{"$f":"SUMIFS('RE-UF'!$E$11:$E$109,'RE-UF'!$C$11:$C$109,'RE-UI'!B19)","v":0},{"$f":"SUMIFS('RE-UF'!$F$11:$F$109,'RE-UF'!$C$11:$C$109,'RE-UI'!B19)","v":113.58},{"$f":"SUMIFS('RE-UF'!$G$11:$G$109,'RE-UF'!$C$11:$C$109,'RE-UI'!B19)","v":0},{"$f":"SUMIFS('RE-UF'!$H$11:$H$109,'RE-UF'!$C$11:$C$109,'RE-UI'!B19)","v":0},{"$f":"SUMIFS('RE-UF'!$I$11:$I$109,'RE-UF'!$C$11:$C$109,'RE-UI'!B19)","v":0},{"$f":"SUMIFS('RE-UF'!$J$11:$J$109,'RE-UF'!$C$11:$C$109,'RE-UI'!B19)","v":0},{"$f":"SUMIFS('RE-UF'!$K$11:$K$109,'RE-UF'!$C$11:$C$109,'RE-UI'!B19)","v":0},{"$f":"SUMIFS('RE-UF'!$L$11:$L$109,'RE-UF'!$C$11:$C$109,'RE-UI'!B19)","v":0},{"$f":"SUMIFS('RE-UF'!$M$11:$M$109,'RE-UF'!$C$11:$C$109,'RE-UI'!B19)","v":0},{"$f":"SUMIFS('RE-UF'!$N$11:$N$109,'RE-UF'!$C$11:$C$109,B19)","v":0},284.85000000000002,null,0]
[10,{"$f":"UI!B20","v":"U10"},{"$f":"IF(UI!C20<>\"\",UI!C20,\"\")","v":"UFC10"},{"$f":"IF(UI!D20<>\"\",UI!D20,\"\")","v":"C10"},{"$f":"IF('TAB-UI'!E20<>\"\",'TAB-UI'!E20,\"\")","v":"CONDOMINO10"},{"$f":"SUMIFS('RE-UF'!$D$11:$D$109,'RE-UF'!$C$11:$C$109,'RE-UI'!B20)","v":129.16},{"$f":"SUMIFS('RE-UF'!$E$11:$E$109,'RE-UF'!$C$11:$C$109,'RE-UI'!B20)","v":0},{"$f":"SUMIFS('RE-UF'!$F$11:$F$109,'RE-UF'!$C$11:$C$109,'RE-UI'!B20)","v":8.75},{"$f":"SUMIFS('RE-UF'!$G$11:$G$109,'RE-UF'!$C$11:$C$109,'RE-UI'!B20)","v":0},{"$f":"SUMIFS('RE-UF'!$H$11:$H$109,'RE-UF'!$C$11:$C$109,'RE-UI'!B20)","v":0},{"$f":"SUMIFS('RE-UF'!$I$11:$I$109,'RE-UF'!$C$11:$C$109,'RE-UI'!B20)","v":0},{"$f":"SUMIFS('RE-UF'!$J$11:$J$109,'RE-UF'!$C$11:$C$109,'RE-UI'!B20)","v":0},{"$f":"SUMIFS('RE-UF'!$K$11:$K$109,'RE-UF'!$C$11:$C$109,'RE-UI'!B20)","v":0},{"$f":"SUMIFS('RE-UF'!$L$11:$L$109,'RE-UF'!$C$11:$C$109,'RE-UI'!B20)","v":0},{"$f":"SUMIFS('RE-UF'!$M$11:$M$109,'RE-UF'!$C$11:$C$109,'RE-UI'!B20)","v":0},{"$f":"SUMIFS('RE-UF'!$N$11:$N$109,'RE-UF'!$C$11:$C$109,B20)","v":0},137.91,null,0]
[11,{"$f":"UI!B21","v":"U11"},{"$f":"IF(UI!C21<>\"\",UI!C21,\"\")","v":"UFC11"},{"$f":"IF(UI!D21<>\"\",UI!D21,\"\")","v":"C11"},{"$f":"IF('TAB-UI'!E21<>\"\",'TAB-UI'!E21,\"\")","v":"CONDOMINO11"},{"$f":"SUMIFS('RE-UF'!$D$11:$D$109,'RE-UF'!$C$11:$C$109,'RE-UI'!B21)","v":166.1},{"$f":"SUMIFS('RE-UF'!$E$11:$E$109,'RE-UF'!$C$11:$C$109,'RE-UI'!B21)","v":0},{"$f":"SUMIFS('RE-UF'!$F$11:$F$109,'RE-UF'!$C$11:$C$109,'RE-UI'!B21)","v":9.34},{"$f":"SUMIFS('RE-UF'!$G$11:$G$109,'RE-UF'!$C$11:$C$109,'RE-UI'!B21)","v":0},{"$f":"SUMIFS('RE-UF'!$H$11:$H$109,'RE-UF'!$C$11:$C$109,'RE-UI'!B21)","v":0},{"$f":"SUMIFS('RE-UF'!$I$11:$I$109,'RE-UF'!$C$11:$C$109,'RE-UI'!B21)","v":0},{"$f":"SUMIFS('RE-UF'!$J$11:$J$109,'RE-UF'!$C$11:$C$109,'RE-UI'!B21)","v":0},{"$f":"SUMIFS('RE-UF'!$K$11:$K$109,'RE-UF'!$C$11:$C$109,'RE-UI'!B21)","v":0},{"$f":"SUMIFS('RE-UF'!$L$11:$L$109,'RE-UF'!$C$11:$C$109,'RE-UI'!B21)","v":0},{"$f":"SUMIFS('RE-UF'!$M$11:$M$109,'RE-UF'!$C$11:$C$109,'RE-UI'!B21)","v":0},{"$f":"SUMIFS('RE-UF'!$N$11:$N$109,'RE-UF'!$C$11:$C$109,B21)","v":20},195.44,null,0]
[12,{"$f":"UI!B22","v":"U12"},{"$f":"IF(UI!C22<>\"\",UI!C22,\"\")","v":"UFC12"},{"$f":"IF(UI!D22<>\"\",UI!D22,\"\")","v":"C12"},{"$f":"IF('TAB-UI'!E22<>\"\",'TAB-UI'!E22,\"\")","v":"CONDOMINO12"},{"$f":"SUMIFS('RE-UF'!$D$11:$D$109,'RE-UF'!$C$11:$C$109,'RE-UI'!B22)","v":118.86},{"$f":"SUMIFS('RE-UF'!$E$11:$E$109,'RE-UF'!$C$11:$C$109,'RE-UI'!B22)","v":0},{"$f":"SUMIFS('RE-UF'!$F$11:$F$109,'RE-UF'!$C$11:$C$109,'RE-UI'!B22)","v":10.27},{"$f":"SUMIFS('RE-UF'!$G$11:$G$109,'RE-UF'!$C$11:$C$109,'RE-UI'!B22)","v":0},{"$f":"SUMIFS('RE-UF'!$H$11:$H$109,'RE-UF'!$C$11:$C$109,'RE-UI'!B22)","v":0},{"$f":"SUMIFS('RE-UF'!$I$11:$I$109,'RE-UF'!$C$11:$C$109,'RE-UI'!B22)","v":0},{"$f":"SUMIFS('RE-UF'!$J$11:$J$109,'RE-UF'!$C$11:$C$109,'RE-UI'!B22)","v":0},{"$f":"SUMIFS('RE-UF'!$K$11:$K$109,'RE-UF'!$C$11:$C$109,'RE-UI'!B22)","v":0},{"$f":"SUMIFS('RE-UF'!$L$11:$L$109,'RE-UF'!$C$11:$C$109,'RE-UI'!B22)","v":0},{"$f":"SUMIFS('RE-UF'!$M$11:$M$109,'RE-UF'!$C$11:$C$109,'RE-UI'!B22)","v":0},{"$f":"SUMIFS('RE-UF'!$N$11:$N$109,'RE-UF'!$C$11:$C$109,B22)","v":0},129.13,null,0]
[13,{"$f":"UI!B23","v":"U13"},{"$f":"IF(UI!C23<>\"\",UI!C23,\"\")","v":"UFC13"},{"$f":"IF(UI!D23<>\"\",UI!D23,\"\")","v":"C13"},{"$f":"IF('TAB-UI'!E23<>\"\",'TAB-UI'!E23,\"\")","v":"CONDOMINO13"},{"$f":"SUMIFS('RE-UF'!$D$11:$D$109,'RE-UF'!$C$11:$C$109,'RE-UI'!B23)","v":36.96},{"$f":"SUMIFS('RE-UF'!$E$11:$E$109,'RE-UF'!$C$11:$C$109,'RE-UI'!B23)","v":0},{"$f":"SUMIFS('RE-UF'!$F$11:$F$109,'RE-UF'!$C$11:$C$109,'RE-UI'!B23)","v":24.51},{"$f":"SUMIFS('RE-UF'!$G$11:$G$109,'RE-UF'!$C$11:$C$109,'RE-UI'!B23)","v":0},{"$f":"SUMIFS('RE-UF'!$H$11:$H$109,'RE-UF'!$C$11:$C$109,'RE-UI'!B23)","v":0},{"$f":"SUMIFS('RE-UF'!$I$11:$I$109,'RE-UF'!$C$11:$C$109,'RE-UI'!B23)","v":0},{"$f":"SUMIFS('RE-UF'!$J$11:$J$109,'RE-UF'!$C$11:$C$109,'RE-UI'!B23)","v":0},{"$f":"SUMIFS('RE-UF'!$K$11:$K$109,'RE-UF'!$C$11:$C$109,'RE-UI'!B23)","v":0},{"$f":"SUMIFS('RE-UF'!$L$11:$L$109,'RE-UF'!$C$11:$C$109,'RE-UI'!B23)","v":0},{"$f":"SUMIFS('RE-UF'!$M$11:$M$109,'RE-UF'!$C$11:$C$109,'RE-UI'!B23)","v":0},{"$f":"SUMIFS('RE-UF'!$N$11:$N$109,'RE-UF'!$C$11:$C$109,B23)","v":0},61.47,null,0]
[14,{"$f":"UI!B24","v":"U14"},{"$f":"IF(UI!C24<>\"\",UI!C24,\"\")","v":"UFC14"},{"$f":"IF(UI!D24<>\"\",UI!D24,\"\")","v":"C14"},{"$f":"IF('TAB-UI'!E24<>\"\",'TAB-UI'!E24,\"\")","v":"CONDOMINO14"},{"$f":"SUMIFS('RE-UF'!$D$11:$D$109,'RE-UF'!$C$11:$C$109,'RE-UI'!B24)","v":118.26},{"$f":"SUMIFS('RE-UF'!$E$11:$E$109,'RE-UF'!$C$11:$C$109,'RE-UI'!B24)","v":0},{"$f":"SUMIFS('RE-UF'!$F$11:$F$109,'RE-UF'!$C$11:$C$109,'RE-UI'!B24)","v":78.430000000000007},{"$f":"SUMIFS('RE-UF'!$G$11:$G$109,'RE-UF'!$C$11:$C$109,'RE-UI'!B24)","v":0},{"$f":"SUMIFS('RE-UF'!$H$11:$H$109,'RE-UF'!$C$11:$C$109,'RE-UI'!B24)","v":0},{"$f":"SUMIFS('RE-UF'!$I$11:$I$109,'RE-UF'!$C$11:$C$109,'RE-UI'!B24)","v":0},{"$f":"SUMIFS('RE-UF'!$J$11:$J$109,'RE-UF'!$C$11:$C$109,'RE-UI'!B24)","v":0},{"$f":"SUMIFS('RE-UF'!$K$11:$K$109,'RE-UF'!$C$11:$C$109,'RE-UI'!B24)","v":0},{"$f":"SUMIFS('RE-UF'!$L$11:$L$109,'RE-UF'!$C$11:$C$109,'RE-UI'!B24)","v":0},{"$f":"SUMIFS('RE-UF'!$M$11:$M$109,'RE-UF'!$C$11:$C$109,'RE-UI'!B24)","v":0},{"$f":"SUMIFS('RE-UF'!$N$11:$N$109,'RE-UF'!$C$11:$C$109,B24)","v":0},196.69,null,0]
[15,{"$f":"UI!B25","v":"U15"},{"$f":"IF(UI!C25<>\"\",UI!C25,\"\")","v":"UFC15+UFC24"},{"$f":"IF(UI!D25<>\"\",UI!D25,\"\")","v":"C15"},{"$f":"IF('TAB-UI'!E25<>\"\",'TAB-UI'!E25,\"\")","v":"CONDOMINO15"},{"$f":"SUMIFS('RE-UF'!$D$11:$D$109,'RE-UF'!$C$11:$C$109,'RE-UI'!B25)","v":315.52},{"$f":"SUMIFS('RE-UF'!$E$11:$E$109,'RE-UF'!$C$11:$C$109,'RE-UI'!B25)","v":434.39000000000004},{"$f":"SUMIFS('RE-UF'!$F$11:$F$109,'RE-UF'!$C$11:$C$109,'RE-UI'!B25)","v":0},{"$f":"SUMIFS('RE-UF'!$G$11:$G$109,'RE-UF'!$C$11:$C$109,'RE-UI'!B25)","v":0},{"$f":"SUMIFS('RE-UF'!$H$11:$H$109,'RE-UF'!$C$11:$C$109,'RE-UI'!B25)","v":0},{"$f":"SUMIFS('RE-UF'!$I$11:$I$109,'RE-UF'!$C$11:$C$109,'RE-UI'!B25)","v":0},{"$f":"SUMIFS('RE-UF'!$J$11:$J$109,'RE-UF'!$C$11:$C$109,'RE-UI'!B25)","v":0},{"$f":"SUMIFS('RE-UF'!$K$11:$K$109,'RE-UF'!$C$11:$C$109,'RE-UI'!B25)","v":0},{"$f":"SUMIFS('RE-UF'!$L$11:$L$109,'RE-UF'!$C$11:$C$109,'RE-UI'!B25)","v":0},{"$f":"SUMIFS('RE-UF'!$M$11:$M$109,'RE-UF'!$C$11:$C$109,'RE-UI'!B25)","v":0},{"$f":"SUMIFS('RE-UF'!$N$11:$N$109,'RE-UF'!$C$11:$C$109,B25)","v":0},749.91000000000008,null,0]
[16,{"$f":"UI!B26","v":"U16"},{"$f":"IF(UI!C26<>\"\",UI!C26,\"\")","v":"UFC16"},{"$f":"IF(UI!D26<>\"\",UI!D26,\"\")","v":"C16"},{"$f":"IF('TAB-UI'!E26<>\"\",'TAB-UI'!E26,\"\")","v":"CONDOMINO16"},{"$f":"SUMIFS('RE-UF'!$D$11:$D$109,'RE-UF'!$C$11:$C$109,'RE-UI'!B26)","v":174.43},{"$f":"SUMIFS('RE-UF'!$E$11:$E$109,'RE-UF'!$C$11:$C$109,'RE-UI'!B26)","v":274.7},{"$f":"SUMIFS('RE-UF'!$F$11:$F$109,'RE-UF'!$C$11:$C$109,'RE-UI'!B26)","v":0},{"$f":"SUMIFS('RE-UF'!$G$11:$G$109,'RE-UF'!$C$11:$C$109,'RE-UI'!B26)","v":0},{"$f":"SUMIFS('RE-UF'!$H$11:$H$109,'RE-UF'!$C$11:$C$109,'RE-UI'!B26)","v":0},{"$f":"SUMIFS('RE-UF'!$I$11:$I$109,'RE-UF'!$C$11:$C$109,'RE-UI'!B26)","v":0},{"$f":"SUMIFS('RE-UF'!$J$11:$J$109,'RE-UF'!$C$11:$C$109,'RE-UI'!B26)","v":0},{"$f":"SUMIFS('RE-UF'!$K$11:$K$109,'RE-UF'!$C$11:$C$109,'RE-UI'!B26)","v":0},{"$f":"SUMIFS('RE-UF'!$L$11:$L$109,'RE-UF'!$C$11:$C$109,'RE-UI'!B26)","v":0},{"$f":"SUMIFS('RE-UF'!$M$11:$M$109,'RE-UF'!$C$11:$C$109,'RE-UI'!B26)","v":0},{"$f":"SUMIFS('RE-UF'!$N$11:$N$109,'RE-UF'!$C$11:$C$109,B26)","v":0},449.13,null,0]
[17,{"$f":"UI!B27","v":"U17"},{"$f":"IF(UI!C27<>\"\",UI!C27,\"\")","v":"UFC17"},{"$f":"IF(UI!D27<>\"\",UI!D27,\"\")","v":"C17"},{"$f":"IF('TAB-UI'!E27<>\"\",'TAB-UI'!E27,\"\")","v":"CONDOMINO17"},{"$f":"SUMIFS('RE-UF'!$D$11:$D$109,'RE-UF'!$C$11:$C$109,'RE-UI'!B27)","v":137.30000000000001},{"$f":"SUMIFS('RE-UF'!$E$11:$E$109,'RE-UF'!$C$11:$C$109,'RE-UI'!B27)","v":216.24},{"$f":"SUMIFS('RE-UF'!$F$11:$F$109,'RE-UF'!$C$11:$C$109,'RE-UI'!B27)","v":0},{"$f":"SUMIFS('RE-UF'!$G$11:$G$109,'RE-UF'!$C$11:$C$109,'RE-UI'!B27)","v":0},{"$f":"SUMIFS('RE-UF'!$H$11:$H$109,'RE-UF'!$C$11:$C$109,'RE-UI'!B27)","v":0},{"$f":"SUMIFS('RE-UF'!$I$11:$I$109,'RE-UF'!$C$11:$C$109,'RE-UI'!B27)","v":0},{"$f":"SUMIFS('RE-UF'!$J$11:$J$109,'RE-UF'!$C$11:$C$109,'RE-UI'!B27)","v":0},{"$f":"SUMIFS('RE-UF'!$K$11:$K$109,'RE-UF'!$C$11:$C$109,'RE-UI'!B27)","v":0},{"$f":"SUMIFS('RE-UF'!$L$11:$L$109,'RE-UF'!$C$11:$C$109,'RE-UI'!B27)","v":0},{"$f":"SUMIFS('RE-UF'!$M$11:$M$109,'RE-UF'!$C$11:$C$109,'RE-UI'!B27)","v":0},{"$f":"SUMIFS('RE-UF'!$N$11:$N$109,'RE-UF'!$C$11:$C$109,B27)","v":0},353.54,null,0]
[18,{"$f":"UI!B28","v":"U18"},{"$f":"IF(UI!C28<>\"\",UI!C28,\"\")","v":"UFC18"},{"$f":"IF(UI!D28<>\"\",UI!D28,\"\")","v":"C18"},{"$f":"IF('TAB-UI'!E28<>\"\",'TAB-UI'!E28,\"\")","v":"CONDOMINO18"},{"$f":"SUMIFS('RE-UF'!$D$11:$D$109,'RE-UF'!$C$11:$C$109,'RE-UI'!B28)","v":182.51},{"$f":"SUMIFS('RE-UF'!$E$11:$E$109,'RE-UF'!$C$11:$C$109,'RE-UI'!B28)","v":191.62},{"$f":"SUMIFS('RE-UF'!$F$11:$F$109,'RE-UF'!$C$11:$C$109,'RE-UI'!B28)","v":0},{"$f":"SUMIFS('RE-UF'!$G$11:$G$109,'RE-UF'!$C$11:$C$109,'RE-UI'!B28)","v":0},{"$f":"SUMIFS('RE-UF'!$H$11:$H$109,'RE-UF'!$C$11:$C$109,'RE-UI'!B28)","v":0},{"$f":"SUMIFS('RE-UF'!$I$11:$I$109,'RE-UF'!$C$11:$C$109,'RE-UI'!B28)","v":0},{"$f":"SUMIFS('RE-UF'!$J$11:$J$109,'RE-UF'!$C$11:$C$109,'RE-UI'!B28)","v":0},{"$f":"SUMIFS('RE-UF'!$K$11:$K$109,'RE-UF'!$C$11:$C$109,'RE-UI'!B28)","v":0},{"$f":"SUMIFS('RE-UF'!$L$11:$L$109,'RE-UF'!$C$11:$C$109,'RE-UI'!B28)","v":0},{"$f":"SUMIFS('RE-UF'!$M$11:$M$109,'RE-UF'!$C$11:$C$109,'RE-UI'!B28)","v":0},{"$f":"SUMIFS('RE-UF'!$N$11:$N$109,'RE-UF'!$C$11:$C$109,B28)","v":0},374.13,null,0]
[19,{"$f":"UI!B29","v":"U19"},{"$f":"IF(UI!C29<>\"\",UI!C29,\"\")","v":"UFC19"},{"$f":"IF(UI!D29<>\"\",UI!D29,\"\")","v":"C19"},{"$f":"IF('TAB-UI'!E29<>\"\",'TAB-UI'!E29,\"\")","v":"CONDOMINO19"},{"$f":"SUMIFS('RE-UF'!$D$11:$D$109,'RE-UF'!$C$11:$C$109,'RE-UI'!B29)","v":149.34},{"$f":"SUMIFS('RE-UF'!$E$11:$E$109,'RE-UF'!$C$11:$C$109,'RE-UI'!B29)","v":156.80000000000001},{"$f":"SUMIFS('RE-UF'!$F$11:$F$109,'RE-UF'!$C$11:$C$109,'RE-UI'!B29)","v":0},{"$f":"SUMIFS('RE-UF'!$G$11:$G$109,'RE-UF'!$C$11:$C$109,'RE-UI'!B29)","v":0},{"$f":"SUMIFS('RE-UF'!$H$11:$H$109,'RE-UF'!$C$11:$C$109,'RE-UI'!B29)","v":0},{"$f":"SUMIFS('RE-UF'!$I$11:$I$109,'RE-UF'!$C$11:$C$109,'RE-UI'!B29)","v":0},{"$f":"SUMIFS('RE-UF'!$J$11:$J$109,'RE-UF'!$C$11:$C$109,'RE-UI'!B29)","v":0},{"$f":"SUMIFS('RE-UF'!$K$11:$K$109,'RE-UF'!$C$11:$C$109,'RE-UI'!B29)","v":0},{"$f":"SUMIFS('RE-UF'!$L$11:$L$109,'RE-UF'!$C$11:$C$109,'RE-UI'!B29)","v":0},{"$f":"SUMIFS('RE-UF'!$M$11:$M$109,'RE-UF'!$C$11:$C$109,'RE-UI'!B29)","v":0},{"$f":"SUMIFS('RE-UF'!$N$11:$N$109,'RE-UF'!$C$11:$C$109,B29)","v":0},306.14,null,0]
[20,{"$f":"UI!B30","v":"U20"},{"$f":"IF(UI!C30<>\"\",UI!C30,\"\")","v":"UFC20+UFC23"},{"$f":"IF(UI!D30<>\"\",UI!D30,\"\")","v":"C07"},{"$f":"IF('TAB-UI'!E30<>\"\",'TAB-UI'!E30,\"\")","v":"CONDOMINO07"},{"$f":"SUMIFS('RE-UF'!$D$11:$D$109,'RE-UF'!$C$11:$C$109,'RE-UI'!B30)","v":313.62},{"$f":"SUMIFS('RE-UF'!$E$11:$E$109,'RE-UF'!$C$11:$C$109,'RE-UI'!B30)","v":106.1},{"$f":"SUMIFS('RE-UF'!$F$11:$F$109,'RE-UF'!$C$11:$C$109,'RE-UI'!B30)","v":0},{"$f":"SUMIFS('RE-UF'!$G$11:$G$109,'RE-UF'!$C$11:$C$109,'RE-UI'!B30)","v":0},{"$f":"SUMIFS('RE-UF'!$H$11:$H$109,'RE-UF'!$C$11:$C$109,'RE-UI'!B30)","v":0},{"$f":"SUMIFS('RE-UF'!$I$11:$I$109,'RE-UF'!$C$11:$C$109,'RE-UI'!B30)","v":0},{"$f":"SUMIFS('RE-UF'!$J$11:$J$109,'RE-UF'!$C$11:$C$109,'RE-UI'!B30)","v":0},{"$f":"SUMIFS('RE-UF'!$K$11:$K$109,'RE-UF'!$C$11:$C$109,'RE-UI'!B30)","v":0},{"$f":"SUMIFS('RE-UF'!$L$11:$L$109,'RE-UF'!$C$11:$C$109,'RE-UI'!B30)","v":0},{"$f":"SUMIFS('RE-UF'!$M$11:$M$109,'RE-UF'!$C$11:$C$109,'RE-UI'!B30)","v":0},{"$f":"SUMIFS('RE-UF'!$N$11:$N$109,'RE-UF'!$C$11:$C$109,B30)","v":0},419.72,null,0]
[21,{"$f":"UI!B31","v":"U21"},{"$f":"IF(UI!C31<>\"\",UI!C31,\"\")","v":"UFC21"},{"$f":"IF(UI!D31<>\"\",UI!D31,\"\")","v":"C08"},{"$f":"IF('TAB-UI'!E31<>\"\",'TAB-UI'!E31,\"\")","v":"CONDOMINO08"},{"$f":"SUMIFS('RE-UF'!$D$11:$D$109,'RE-UF'!$C$11:$C$109,'RE-UI'!B31)","v":139.79},{"$f":"SUMIFS('RE-UF'!$E$11:$E$109,'RE-UF'!$C$11:$C$109,'RE-UI'!B31)","v":73.38},{"$f":"SUMIFS('RE-UF'!$F$11:$F$109,'RE-UF'!$C$11:$C$109,'RE-UI'!B31)","v":0},{"$f":"SUMIFS('RE-UF'!$G$11:$G$109,'RE-UF'!$C$11:$C$109,'RE-UI'!B31)","v":0},{"$f":"SUMIFS('RE-UF'!$H$11:$H$109,'RE-UF'!$C$11:$C$109,'RE-UI'!B31)","v":0},{"$f":"SUMIFS('RE-UF'!$I$11:$I$109,'RE-UF'!$C$11:$C$109,'RE-UI'!B31)","v":0},{"$f":"SUMIFS('RE-UF'!$J$11:$J$109,'RE-UF'!$C$11:$C$109,'RE-UI'!B31)","v":0},{"$f":"SUMIFS('RE-UF'!$K$11:$K$109,'RE-UF'!$C$11:$C$109,'RE-UI'!B31)","v":0},{"$f":"SUMIFS('RE-UF'!$L$11:$L$109,'RE-UF'!$C$11:$C$109,'RE-UI'!B31)","v":0},{"$f":"SUMIFS('RE-UF'!$M$11:$M$109,'RE-UF'!$C$11:$C$109,'RE-UI'!B31)","v":0},{"$f":"SUMIFS('RE-UF'!$N$11:$N$109,'RE-UF'!$C$11:$C$109,B31)","v":0},213.17,null,0]
[22,{"$f":"UI!B32","v":"U22"},{"$f":"IF(UI!C32<>\"\",UI!C32,\"\")","v":"UFC22"},{"$f":"IF(UI!D32<>\"\",UI!D32,\"\")","v":"C19"},{"$f":"IF('TAB-UI'!E32<>\"\",'TAB-UI'!E32,\"\")","v":"CONDOMINO19"},{"$f":"SUMIFS('RE-UF'!$D$11:$D$109,'RE-UF'!$C$11:$C$109,'RE-UI'!B32)","v":165.68},{"$f":"SUMIFS('RE-UF'!$E$11:$E$109,'RE-UF'!$C$11:$C$109,'RE-UI'!B32)","v":6.7700000000000005},{"$f":"SUMIFS('RE-UF'!$F$11:$F$109,'RE-UF'!$C$11:$C$109,'RE-UI'!B32)","v":0},{"$f":"SUMIFS('RE-UF'!$G$11:$G$109,'RE-UF'!$C$11:$C$109,'RE-UI'!B32)","v":0},{"$f":"SUMIFS('RE-UF'!$H$11:$H$109,'RE-UF'!$C$11:$C$109,'RE-UI'!B32)","v":0},{"$f":"SUMIFS('RE-UF'!$I$11:$I$109,'RE-UF'!$C$11:$C$109,'RE-UI'!B32)","v":0},{"$f":"SUMIFS('RE-UF'!$J$11:$J$109,'RE-UF'!$C$11:$C$109,'RE-UI'!B32)","v":0},{"$f":"SUMIFS('RE-UF'!$K$11:$K$109,'RE-UF'!$C$11:$C$109,'RE-UI'!B32)","v":0},{"$f":"SUMIFS('RE-UF'!$L$11:$L$109,'RE-UF'!$C$11:$C$109,'RE-UI'!B32)","v":0},{"$f":"SUMIFS('RE-UF'!$M$11:$M$109,'RE-UF'!$C$11:$C$109,'RE-UI'!B32)","v":0},{"$f":"SUMIFS('RE-UF'!$N$11:$N$109,'RE-UF'!$C$11:$C$109,B32)","v":0},172.45000000000002,null,0]
[23,{"$f":"UI!B33","v":"U23"},{"$f":"IF(UI!C33<>\"\",UI!C33,\"\")","v":""},{"$f":"IF(UI!D33<>\"\",UI!D33,\"\")","v":""},{"$f":"IF('TAB-UI'!E33<>\"\",'TAB-UI'!E33,\"\")","v":""},{"$f":"SUMIFS('RE-UF'!$D$11:$D$109,'RE-UF'!$C$11:$C$109,'RE-UI'!B33)","v":0},{"$f":"SUMIFS('RE-UF'!$E$11:$E$109,'RE-UF'!$C$11:$C$109,'RE-UI'!B33)","v":0},{"$f":"SUMIFS('RE-UF'!$F$11:$F$109,'RE-UF'!$C$11:$C$109,'RE-UI'!B33)","v":0},{"$f":"SUMIFS('RE-UF'!$G$11:$G$109,'RE-UF'!$C$11:$C$109,'RE-UI'!B33)","v":0},{"$f":"SUMIFS('RE-UF'!$H$11:$H$109,'RE-UF'!$C$11:$C$109,'RE-UI'!B33)","v":0},{"$f":"SUMIFS('RE-UF'!$I$11:$I$109,'RE-UF'!$C$11:$C$109,'RE-UI'!B33)","v":0},{"$f":"SUMIFS('RE-UF'!$J$11:$J$109,'RE-UF'!$C$11:$C$109,'RE-UI'!B33)","v":0},{"$f":"SUMIFS('RE-UF'!$K$11:$K$109,'RE-UF'!$C$11:$C$109,'RE-UI'!B33)","v":0},{"$f":"SUMIFS('RE-UF'!$L$11:$L$109,'RE-UF'!$C$11:$C$109,'RE-UI'!B33)","v":0},{"$f":"SUMIFS('RE-UF'!$M$11:$M$109,'RE-UF'!$C$11:$C$109,'RE-UI'!B33)","v":0},{"$f":"SUMIFS('RE-UF'!$N$11:$N$109,'RE-UF'!$C$11:$C$109,B33)","v":0},0,null,0]
[24,{"$f":"UI!B34","v":"U24"},{"$f":"IF(UI!C34<>\"\",UI!C34,\"\")","v":""},{"$f":"IF(UI!D34<>\"\",UI!D34,\"\")","v":""},{"$f":"IF('TAB-UI'!E34<>\"\",'TAB-UI'!E34,\"\")","v":""},{"$f":"SUMIFS('RE-UF'!$D$11:$D$109,'RE-UF'!$C$11:$C$109,'RE-UI'!B34)","v":0},{"$f":"SUMIFS('RE-UF'!$E$11:$E$109,'RE-UF'!$C$11:$C$109,'RE-UI'!B34)","v":0},{"$f":"SUMIFS('RE-UF'!$F$11:$F$109,'RE-UF'!$C$11:$C$109,'RE-UI'!B34)","v":0},{"$f":"SUMIFS('RE-UF'!$G$11:$G$109,'RE-UF'!$C$11:$C$109,'RE-UI'!B34)","v":0},{"$f":"SUMIFS('RE-UF'!$H$11:$H$109,'RE-UF'!$C$11:$C$109,'RE-UI'!B34)","v":0},{"$f":"SUMIFS('RE-UF'!$I$11:$I$109,'RE-UF'!$C$11:$C$109,'RE-UI'!B34)","v":0},{"$f":"SUMIFS('RE-UF'!$J$11:$J$109,'RE-UF'!$C$11:$C$109,'RE-UI'!B34)","v":0},{"$f":"SUMIFS('RE-UF'!$K$11:$K$109,'RE-UF'!$C$11:$C$109,'RE-UI'!B34)","v":0},{"$f":"SUMIFS('RE-UF'!$L$11:$L$109,'RE-UF'!$C$11:$C$109,'RE-UI'!B34)","v":0},{"$f":"SUMIFS('RE-UF'!$M$11:$M$109,'RE-UF'!$C$11:$C$109,'RE-UI'!B34)","v":0},{"$f":"SUMIFS('RE-UF'!$N$11:$N$109,'RE-UF'!$C$11:$C$109,B34)","v":0},0,null,0]
[25,{"$f":"UI!B35","v":"U25"},{"$f":"IF(UI!C35<>\"\",UI!C35,\"\")","v":""},{"$f":"IF(UI!D35<>\"\",UI!D35,\"\")","v":""},{"$f":"IF('TAB-UI'!E35<>\"\",'TAB-UI'!E35,\"\")","v":""},{"$f":"SUMIFS('RE-UF'!$D$11:$D$109,'RE-UF'!$C$11:$C$109,'RE-UI'!B35)","v":0},{"$f":"SUMIFS('RE-UF'!$E$11:$E$109,'RE-UF'!$C$11:$C$109,'RE-UI'!B35)","v":0},{"$f":"SUMIFS('RE-UF'!$F$11:$F$109,'RE-UF'!$C$11:$C$109,'RE-UI'!B35)","v":0},{"$f":"SUMIFS('RE-UF'!$G$11:$G$109,'RE-UF'!$C$11:$C$109,'RE-UI'!B35)","v":0},{"$f":"SUMIFS('RE-UF'!$H$11:$H$109,'RE-UF'!$C$11:$C$109,'RE-UI'!B35)","v":0},{"$f":"SUMIFS('RE-UF'!$I$11:$I$109,'RE-UF'!$C$11:$C$109,'RE-UI'!B35)","v":0},{"$f":"SUMIFS('RE-UF'!$J$11:$J$109,'RE-UF'!$C$11:$C$109,'RE-UI'!B35)","v":0},{"$f":"SUMIFS('RE-UF'!$K$11:$K$109,'RE-UF'!$C$11:$C$109,'RE-UI'!B35)","v":0},{"$f":"SUMIFS('RE-UF'!$L$11:$L$109,'RE-UF'!$C$11:$C$109,'RE-UI'!B35)","v":0},{"$f":"SUMIFS('RE-UF'!$M$11:$M$109,'RE-UF'!$C$11:$C$109,'RE-UI'!B35)","v":0},{"$f":"SUMIFS('RE-UF'!$N$11:$N$109,'RE-UF'!$C$11:$C$109,B35)","v":0},0]
[26,{"$f":"UI!B36","v":"U26"},{"$f":"IF(UI!C36<>\"\",UI!C36,\"\")","v":""},{"$f":"IF(UI!D36<>\"\",UI!D36,\"\")","v":""},{"$f":"IF('TAB-UI'!E36<>\"\",'TAB-UI'!E36,\"\")","v":""},{"$f":"SUMIFS('RE-UF'!$D$11:$D$109,'RE-UF'!$C$11:$C$109,'RE-UI'!B36)","v":0},{"$f":"SUMIFS('RE-UF'!$E$11:$E$109,'RE-UF'!$C$11:$C$109,'RE-UI'!B36)","v":0},{"$f":"SUMIFS('RE-UF'!$F$11:$F$109,'RE-UF'!$C$11:$C$109,'RE-UI'!B36)","v":0},{"$f":"SUMIFS('RE-UF'!$G$11:$G$109,'RE-UF'!$C$11:$C$109,'RE-UI'!B36)","v":0},{"$f":"SUMIFS('RE-UF'!$H$11:$H$109,'RE-UF'!$C$11:$C$109,'RE-UI'!B36)","v":0},{"$f":"SUMIFS('RE-UF'!$I$11:$I$109,'RE-UF'!$C$11:$C$109,'RE-UI'!B36)","v":0},{"$f":"SUMIFS('RE-UF'!$J$11:$J$109,'RE-UF'!$C$11:$C$109,'RE-UI'!B36)","v":0},{"$f":"SUMIFS('RE-UF'!$K$11:$K$109,'RE-UF'!$C$11:$C$109,'RE-UI'!B36)","v":0},{"$f":"SUMIFS('RE-UF'!$L$11:$L$109,'RE-UF'!$C$11:$C$109,'RE-UI'!B36)","v":0},{"$f":"SUMIFS('RE-UF'!$M$11:$M$109,'RE-UF'!$C$11:$C$109,'RE-UI'!B36)","v":0},{"$f":"SUMIFS('RE-UF'!$N$11:$N$109,'RE-UF'!$C$11:$C$109,B36)","v":0},0]
[27,{"$f":"UI!B37","v":"U27"},{"$f":"IF(UI!C37<>\"\",UI!C37,\"\")","v":""},{"$f":"IF(UI!D37<>\"\",UI!D37,\"\")","v":""},{"$f":"IF('TAB-UI'!E37<>\"\",'TAB-UI'!E37,\"\")","v":""},{"$f":"SUMIFS('RE-UF'!$D$11:$D$109,'RE-UF'!$C$11:$C$109,'RE-UI'!B37)","v":0},{"$f":"SUMIFS('RE-UF'!$E$11:$E$109,'RE-UF'!$C$11:$C$109,'RE-UI'!B37)","v":0},{"$f":"SUMIFS('RE-UF'!$F$11:$F$109,'RE-UF'!$C$11:$C$109,'RE-UI'!B37)","v":0},{"$f":"SUMIFS('RE-UF'!$G$11:$G$109,'RE-UF'!$C$11:$C$109,'RE-UI'!B37)","v":0},{"$f":"SUMIFS('RE-UF'!$H$11:$H$109,'RE-UF'!$C$11:$C$109,'RE-UI'!B37)","v":0},{"$f":"SUMIFS('RE-UF'!$I$11:$I$109,'RE-UF'!$C$11:$C$109,'RE-UI'!B37)","v":0},{"$f":"SUMIFS('RE-UF'!$J$11:$J$109,'RE-UF'!$C$11:$C$109,'RE-UI'!B37)","v":0},{"$f":"SUMIFS('RE-UF'!$K$11:$K$109,'RE-UF'!$C$11:$C$109,'RE-UI'!B37)","v":0},{"$f":"SUMIFS('RE-UF'!$L$11:$L$109,'RE-UF'!$C$11:$C$109,'RE-UI'!B37)","v":0},{"$f":"SUMIFS('RE-UF'!$M$11:$M$109,'RE-UF'!$C$11:$C$109,'RE-UI'!B37)","v":0},{"$f":"SUMIFS('RE-UF'!$N$11:$N$109,'RE-UF'!$C$11:$C$109,B37)","v":0},0]
[28,{"$f":"UI!B38","v":"U28"},{"$f":"IF(UI!C38<>\"\",UI!C38,\"\")","v":""},{"$f":"IF(UI!D38<>\"\",UI!D38,\"\")","v":""},{"$f":"IF('TAB-UI'!E38<>\"\",'TAB-UI'!E38,\"\")","v":""},{"$f":"SUMIFS('RE-UF'!$D$11:$D$109,'RE-UF'!$C$11:$C$109,'RE-UI'!B38)","v":0},{"$f":"SUMIFS('RE-UF'!$E$11:$E$109,'RE-UF'!$C$11:$C$109,'RE-UI'!B38)","v":0},{"$f":"SUMIFS('RE-UF'!$F$11:$F$109,'RE-UF'!$C$11:$C$109,'RE-UI'!B38)","v":0},{"$f":"SUMIFS('RE-UF'!$G$11:$G$109,'RE-UF'!$C$11:$C$109,'RE-UI'!B38)","v":0},{"$f":"SUMIFS('RE-UF'!$H$11:$H$109,'RE-UF'!$C$11:$C$109,'RE-UI'!B38)","v":0},{"$f":"SUMIFS('RE-UF'!$I$11:$I$109,'RE-UF'!$C$11:$C$109,'RE-UI'!B38)","v":0},{"$f":"SUMIFS('RE-UF'!$J$11:$J$109,'RE-UF'!$C$11:$C$109,'RE-UI'!B38)","v":0},{"$f":"SUMIFS('RE-UF'!$K$11:$K$109,'RE-UF'!$C$11:$C$109,'RE-UI'!B38)","v":0},{"$f":"SUMIFS('RE-UF'!$L$11:$L$109,'RE-UF'!$C$11:$C$109,'RE-UI'!B38)","v":0},{"$f":"SUMIFS('RE-UF'!$M$11:$M$109,'RE-UF'!$C$11:$C$109,'RE-UI'!B38)","v":0},{"$f":"SUMIFS('RE-UF'!$N$11:$N$109,'RE-UF'!$C$11:$C$109,B38)","v":0},0]
[29,{"$f":"UI!B39","v":"U29"},{"$f":"IF(UI!C39<>\"\",UI!C39,\"\")","v":""},{"$f":"IF(UI!D39<>\"\",UI!D39,\"\")","v":""},{"$f":"IF('TAB-UI'!E39<>\"\",'TAB-UI'!E39,\"\")","v":""},{"$f":"SUMIFS('RE-UF'!$D$11:$D$109,'RE-UF'!$C$11:$C$109,'RE-UI'!B39)","v":0},{"$f":"SUMIFS('RE-UF'!$E$11:$E$109,'RE-UF'!$C$11:$C$109,'RE-UI'!B39)","v":0},{"$f":"SUMIFS('RE-UF'!$F$11:$F$109,'RE-UF'!$C$11:$C$109,'RE-UI'!B39)","v":0},{"$f":"SUMIFS('RE-UF'!$G$11:$G$109,'RE-UF'!$C$11:$C$109,'RE-UI'!B39)","v":0},{"$f":"SUMIFS('RE-UF'!$H$11:$H$109,'RE-UF'!$C$11:$C$109,'RE-UI'!B39)","v":0},{"$f":"SUMIFS('RE-UF'!$I$11:$I$109,'RE-UF'!$C$11:$C$109,'RE-UI'!B39)","v":0},{"$f":"SUMIFS('RE-UF'!$J$11:$J$109,'RE-UF'!$C$11:$C$109,'RE-UI'!B39)","v":0},{"$f":"SUMIFS('RE-UF'!$K$11:$K$109,'RE-UF'!$C$11:$C$109,'RE-UI'!B39)","v":0},{"$f":"SUMIFS('RE-UF'!$L$11:$L$109,'RE-UF'!$C$11:$C$109,'RE-UI'!B39)","v":0},{"$f":"SUMIFS('RE-UF'!$M$11:$M$109,'RE-UF'!$C$11:$C$109,'RE-UI'!B39)","v":0},{"$f":"SUMIFS('RE-UF'!$N$11:$N$109,'RE-UF'!$C$11:$C$109,B39)","v":0},0]
[30,{"$f":"UI!B40","v":"U30"},{"$f":"IF(UI!C40<>\"\",UI!C40,\"\")","v":""},{"$f":"IF(UI!D40<>\"\",UI!D40,\"\")","v":""},{"$f":"IF('TAB-UI'!E40<>\"\",'TAB-UI'!E40,\"\")","v":""},{"$f":"SUMIFS('RE-UF'!$D$11:$D$109,'RE-UF'!$C$11:$C$109,'RE-UI'!B40)","v":0},{"$f":"SUMIFS('RE-UF'!$E$11:$E$109,'RE-UF'!$C$11:$C$109,'RE-UI'!B40)","v":0},{"$f":"SUMIFS('RE-UF'!$F$11:$F$109,'RE-UF'!$C$11:$C$109,'RE-UI'!B40)","v":0},{"$f":"SUMIFS('RE-UF'!$G$11:$G$109,'RE-UF'!$C$11:$C$109,'RE-UI'!B40)","v":0},{"$f":"SUMIFS('RE-UF'!$H$11:$H$109,'RE-UF'!$C$11:$C$109,'RE-UI'!B40)","v":0},{"$f":"SUMIFS('RE-UF'!$I$11:$I$109,'RE-UF'!$C$11:$C$109,'RE-UI'!B40)","v":0},{"$f":"SUMIFS('RE-UF'!$J$11:$J$109,'RE-UF'!$C$11:$C$109,'RE-UI'!B40)","v":0},{"$f":"SUMIFS('RE-UF'!$K$11:$K$109,'RE-UF'!$C$11:$C$109,'RE-UI'!B40)","v":0},{"$f":"SUMIFS('RE-UF'!$L$11:$L$109,'RE-UF'!$C$11:$C$109,'RE-UI'!B40)","v":0},{"$f":"SUMIFS('RE-UF'!$M$11:$M$109,'RE-UF'!$C$11:$C$109,'RE-UI'!B40)","v":0},{"$f":"SUMIFS('RE-UF'!$N$11:$N$109,'RE-UF'!$C$11:$C$109,B40)","v":0},0]
[31,{"$f":"UI!B41","v":"U31"},{"$f":"IF(UI!C41<>\"\",UI!C41,\"\")","v":""},{"$f":"IF(UI!D41<>\"\",UI!D41,\"\")","v":""},{"$f":"IF('TAB-UI'!E41<>\"\",'TAB-UI'!E41,\"\")","v":""},{"$f":"SUMIFS('RE-UF'!$D$11:$D$109,'RE-UF'!$C$11:$C$109,'RE-UI'!B41)","v":0},{"$f":"SUMIFS('RE-UF'!$E$11:$E$109,'RE-UF'!$C$11:$C$109,'RE-UI'!B41)","v":0},{"$f":"SUMIFS('RE-UF'!$F$11:$F$109,'RE-UF'!$C$11:$C$109,'RE-UI'!B41)","v":0},{"$f":"SUMIFS('RE-UF'!$G$11:$G$109,'RE-UF'!$C$11:$C$109,'RE-UI'!B41)","v":0},{"$f":"SUMIFS('RE-UF'!$H$11:$H$109,'RE-UF'!$C$11:$C$109,'RE-UI'!B41)","v":0},{"$f":"SUMIFS('RE-UF'!$I$11:$I$109,'RE-UF'!$C$11:$C$109,'RE-UI'!B41)","v":0},{"$f":"SUMIFS('RE-UF'!$J$11:$J$109,'RE-UF'!$C$11:$C$109,'RE-UI'!B41)","v":0},{"$f":"SUMIFS('RE-UF'!$K$11:$K$109,'RE-UF'!$C$11:$C$109,'RE-UI'!B41)","v":0},{"$f":"SUMIFS('RE-UF'!$L$11:$L$109,'RE-UF'!$C$11:$C$109,'RE-UI'!B41)","v":0},{"$f":"SUMIFS('RE-UF'!$M$11:$M$109,'RE-UF'!$C$11:$C$109,'RE-UI'!B41)","v":0},{"$f":"SUMIFS('RE-UF'!$N$11:$N$109,'RE-UF'!$C$11:$C$109,B41)","v":0},0]
[32,{"$f":"UI!B42","v":"U32"},{"$f":"IF(UI!C42<>\"\",UI!C42,\"\")","v":""},{"$f":"IF(UI!D42<>\"\",UI!D42,\"\")","v":""},{"$f":"IF('TAB-UI'!E42<>\"\",'TAB-UI'!E42,\"\")","v":""},{"$f":"SUMIFS('RE-UF'!$D$11:$D$109,'RE-UF'!$C$11:$C$109,'RE-UI'!B42)","v":0},{"$f":"SUMIFS('RE-UF'!$E$11:$E$109,'RE-UF'!$C$11:$C$109,'RE-UI'!B42)","v":0},{"$f":"SUMIFS('RE-UF'!$F$11:$F$109,'RE-UF'!$C$11:$C$109,'RE-UI'!B42)","v":0},{"$f":"SUMIFS('RE-UF'!$G$11:$G$109,'RE-UF'!$C$11:$C$109,'RE-UI'!B42)","v":0},{"$f":"SUMIFS('RE-UF'!$H$11:$H$109,'RE-UF'!$C$11:$C$109,'RE-UI'!B42)","v":0},{"$f":"SUMIFS('RE-UF'!$I$11:$I$109,'RE-UF'!$C$11:$C$109,'RE-UI'!B42)","v":0},{"$f":"SUMIFS('RE-UF'!$J$11:$J$109,'RE-UF'!$C$11:$C$109,'RE-UI'!B42)","v":0},{"$f":"SUMIFS('RE-UF'!$K$11:$K$109,'RE-UF'!$C$11:$C$109,'RE-UI'!B42)","v":0},{"$f":"SUMIFS('RE-UF'!$L$11:$L$109,'RE-UF'!$C$11:$C$109,'RE-UI'!B42)","v":0},{"$f":"SUMIFS('RE-UF'!$M$11:$M$109,'RE-UF'!$C$11:$C$109,'RE-UI'!B42)","v":0},{"$f":"SUMIFS('RE-UF'!$N$11:$N$109,'RE-UF'!$C$11:$C$109,B42)","v":0},0]
[33,{"$f":"UI!B43","v":"U33"},{"$f":"IF(UI!C43<>\"\",UI!C43,\"\")","v":""},{"$f":"IF(UI!D43<>\"\",UI!D43,\"\")","v":""},{"$f":"IF('TAB-UI'!E43<>\"\",'TAB-UI'!E43,\"\")","v":""},{"$f":"SUMIFS('RE-UF'!$D$11:$D$109,'RE-UF'!$C$11:$C$109,'RE-UI'!B43)","v":0},{"$f":"SUMIFS('RE-UF'!$E$11:$E$109,'RE-UF'!$C$11:$C$109,'RE-UI'!B43)","v":0},{"$f":"SUMIFS('RE-UF'!$F$11:$F$109,'RE-UF'!$C$11:$C$109,'RE-UI'!B43)","v":0},{"$f":"SUMIFS('RE-UF'!$G$11:$G$109,'RE-UF'!$C$11:$C$109,'RE-UI'!B43)","v":0},{"$f":"SUMIFS('RE-UF'!$H$11:$H$109,'RE-UF'!$C$11:$C$109,'RE-UI'!B43)","v":0},{"$f":"SUMIFS('RE-UF'!$I$11:$I$109,'RE-UF'!$C$11:$C$109,'RE-UI'!B43)","v":0},{"$f":"SUMIFS('RE-UF'!$J$11:$J$109,'RE-UF'!$C$11:$C$109,'RE-UI'!B43)","v":0},{"$f":"SUMIFS('RE-UF'!$K$11:$K$109,'RE-UF'!$C$11:$C$109,'RE-UI'!B43)","v":0},{"$f":"SUMIFS('RE-UF'!$L$11:$L$109,'RE-UF'!$C$11:$C$109,'RE-UI'!B43)","v":0},{"$f":"SUMIFS('RE-UF'!$M$11:$M$109,'RE-UF'!$C$11:$C$109,'RE-UI'!B43)","v":0},{"$f":"SUMIFS('RE-UF'!$N$11:$N$109,'RE-UF'!$C$11:$C$109,B43)","v":0},0]
[34,{"$f":"UI!B44","v":"U34"},{"$f":"IF(UI!C44<>\"\",UI!C44,\"\")","v":""},{"$f":"IF(UI!D44<>\"\",UI!D44,\"\")","v":""},{"$f":"IF('TAB-UI'!E44<>\"\",'TAB-UI'!E44,\"\")","v":""},{"$f":"SUMIFS('RE-UF'!$D$11:$D$109,'RE-UF'!$C$11:$C$109,'RE-UI'!B44)","v":0},{"$f":"SUMIFS('RE-UF'!$E$11:$E$109,'RE-UF'!$C$11:$C$109,'RE-UI'!B44)","v":0},{"$f":"SUMIFS('RE-UF'!$F$11:$F$109,'RE-UF'!$C$11:$C$109,'RE-UI'!B44)","v":0},{"$f":"SUMIFS('RE-UF'!$G$11:$G$109,'RE-UF'!$C$11:$C$109,'RE-UI'!B44)","v":0},{"$f":"SUMIFS('RE-UF'!$H$11:$H$109,'RE-UF'!$C$11:$C$109,'RE-UI'!B44)","v":0},{"$f":"SUMIFS('RE-UF'!$I$11:$I$109,'RE-UF'!$C$11:$C$109,'RE-UI'!B44)","v":0},{"$f":"SUMIFS('RE-UF'!$J$11:$J$109,'RE-UF'!$C$11:$C$109,'RE-UI'!B44)","v":0},{"$f":"SUMIFS('RE-UF'!$K$11:$K$109,'RE-UF'!$C$11:$C$109,'RE-UI'!B44)","v":0},{"$f":"SUMIFS('RE-UF'!$L$11:$L$109,'RE-UF'!$C$11:$C$109,'RE-UI'!B44)","v":0},{"$f":"SUMIFS('RE-UF'!$M$11:$M$109,'RE-UF'!$C$11:$C$109,'RE-UI'!B44)","v":0},{"$f":"SUMIFS('RE-UF'!$N$11:$N$109,'RE-UF'!$C$11:$C$109,B44)","v":0},0]
[35,{"$f":"UI!B45","v":"U35"},{"$f":"IF(UI!C45<>\"\",UI!C45,\"\")","v":""},{"$f":"IF(UI!D45<>\"\",UI!D45,\"\")","v":""},{"$f":"IF('TAB-UI'!E45<>\"\",'TAB-UI'!E45,\"\")","v":""},{"$f":"SUMIFS('RE-UF'!$D$11:$D$109,'RE-UF'!$C$11:$C$109,'RE-UI'!B45)","v":0},{"$f":"SUMIFS('RE-UF'!$E$11:$E$109,'RE-UF'!$C$11:$C$109,'RE-UI'!B45)","v":0},{"$f":"SUMIFS('RE-UF'!$F$11:$F$109,'RE-UF'!$C$11:$C$109,'RE-UI'!B45)","v":0},{"$f":"SUMIFS('RE-UF'!$G$11:$G$109,'RE-UF'!$C$11:$C$109,'RE-UI'!B45)","v":0},{"$f":"SUMIFS('RE-UF'!$H$11:$H$109,'RE-UF'!$C$11:$C$109,'RE-UI'!B45)","v":0},{"$f":"SUMIFS('RE-UF'!$I$11:$I$109,'RE-UF'!$C$11:$C$109,'RE-UI'!B45)","v":0},{"$f":"SUMIFS('RE-UF'!$J$11:$J$109,'RE-UF'!$C$11:$C$109,'RE-UI'!B45)","v":0},{"$f":"SUMIFS('RE-UF'!$K$11:$K$109,'RE-UF'!$C$11:$C$109,'RE-UI'!B45)","v":0},{"$f":"SUMIFS('RE-UF'!$L$11:$L$109,'RE-UF'!$C$11:$C$109,'RE-UI'!B45)","v":0},{"$f":"SUMIFS('RE-UF'!$M$11:$M$109,'RE-UF'!$C$11:$C$109,'RE-UI'!B45)","v":0},{"$f":"SUMIFS('RE-UF'!$N$11:$N$109,'RE-UF'!$C$11:$C$109,B45)","v":0},0]
[36,{"$f":"UI!B46","v":"U36"},{"$f":"IF(UI!C46<>\"\",UI!C46,\"\")","v":""},{"$f":"IF(UI!D46<>\"\",UI!D46,\"\")","v":""},{"$f":"IF('TAB-UI'!E46<>\"\",'TAB-UI'!E46,\"\")","v":""},{"$f":"SUMIFS('RE-UF'!$D$11:$D$109,'RE-UF'!$C$11:$C$109,'RE-UI'!B46)","v":0},{"$f":"SUMIFS('RE-UF'!$E$11:$E$109,'RE-UF'!$C$11:$C$109,'RE-UI'!B46)","v":0},{"$f":"SUMIFS('RE-UF'!$F$11:$F$109,'RE-UF'!$C$11:$C$109,'RE-UI'!B46)","v":0},{"$f":"SUMIFS('RE-UF'!$G$11:$G$109,'RE-UF'!$C$11:$C$109,'RE-UI'!B46)","v":0},{"$f":"SUMIFS('RE-UF'!$H$11:$H$109,'RE-UF'!$C$11:$C$109,'RE-UI'!B46)","v":0},{"$f":"SUMIFS('RE-UF'!$I$11:$I$109,'RE-UF'!$C$11:$C$109,'RE-UI'!B46)","v":0},{"$f":"SUMIFS('RE-UF'!$J$11:$J$109,'RE-UF'!$C$11:$C$109,'RE-UI'!B46)","v":0},{"$f":"SUMIFS('RE-UF'!$K$11:$K$109,'RE-UF'!$C$11:$C$109,'RE-UI'!B46)","v":0},{"$f":"SUMIFS('RE-UF'!$L$11:$L$109,'RE-UF'!$C$11:$C$109,'RE-UI'!B46)","v":0},{"$f":"SUMIFS('RE-UF'!$M$11:$M$109,'RE-UF'!$C$11:$C$109,'RE-UI'!B46)","v":0},{"$f":"SUMIFS('RE-UF'!$N$11:$N$109,'RE-UF'!$C$11:$C$109,B46)","v":0},0]
[37,{"$f":"UI!B47","v":"U37"},{"$f":"IF(UI!C47<>\"\",UI!C47,\"\")","v":""},{"$f":"IF(UI!D47<>\"\",UI!D47,\"\")","v":""},{"$f":"IF('TAB-UI'!E47<>\"\",'TAB-UI'!E47,\"\")","v":""},{"$f":"SUMIFS('RE-UF'!$D$11:$D$109,'RE-UF'!$C$11:$C$109,'RE-UI'!B47)","v":0},{"$f":"SUMIFS('RE-UF'!$E$11:$E$109,'RE-UF'!$C$11:$C$109,'RE-UI'!B47)","v":0},{"$f":"SUMIFS('RE-UF'!$F$11:$F$109,'RE-UF'!$C$11:$C$109,'RE-UI'!B47)","v":0},{"$f":"SUMIFS('RE-UF'!$G$11:$G$109,'RE-UF'!$C$11:$C$109,'RE-UI'!B47)","v":0},{"$f":"SUMIFS('RE-UF'!$H$11:$H$109,'RE-UF'!$C$11:$C$109,'RE-UI'!B47)","v":0},{"$f":"SUMIFS('RE-UF'!$I$11:$I$109,'RE-UF'!$C$11:$C$109,'RE-UI'!B47)","v":0},{"$f":"SUMIFS('RE-UF'!$J$11:$J$109,'RE-UF'!$C$11:$C$109,'RE-UI'!B47)","v":0},{"$f":"SUMIFS('RE-UF'!$K$11:$K$109,'RE-UF'!$C$11:$C$109,'RE-UI'!B47)","v":0},{"$f":"SUMIFS('RE-UF'!$L$11:$L$109,'RE-UF'!$C$11:$C$109,'RE-UI'!B47)","v":0},{"$f":"SUMIFS('RE-UF'!$M$11:$M$109,'RE-UF'!$C$11:$C$109,'RE-UI'!B47)","v":0},{"$f":"SUMIFS('RE-UF'!$N$11:$N$109,'RE-UF'!$C$11:$C$109,B47)","v":0},0]
[38,{"$f":"UI!B48","v":"U38"},{"$f":"IF(UI!C48<>\"\",UI!C48,\"\")","v":""},{"$f":"IF(UI!D48<>\"\",UI!D48,\"\")","v":""},{"$f":"IF('TAB-UI'!E48<>\"\",'TAB-UI'!E48,\"\")","v":""},{"$f":"SUMIFS('RE-UF'!$D$11:$D$109,'RE-UF'!$C$11:$C$109,'RE-UI'!B48)","v":0},{"$f":"SUMIFS('RE-UF'!$E$11:$E$109,'RE-UF'!$C$11:$C$109,'RE-UI'!B48)","v":0},{"$f":"SUMIFS('RE-UF'!$F$11:$F$109,'RE-UF'!$C$11:$C$109,'RE-UI'!B48)","v":0},{"$f":"SUMIFS('RE-UF'!$G$11:$G$109,'RE-UF'!$C$11:$C$109,'RE-UI'!B48)","v":0},{"$f":"SUMIFS('RE-UF'!$H$11:$H$109,'RE-UF'!$C$11:$C$109,'RE-UI'!B48)","v":0},{"$f":"SUMIFS('RE-UF'!$I$11:$I$109,'RE-UF'!$C$11:$C$109,'RE-UI'!B48)","v":0},{"$f":"SUMIFS('RE-UF'!$J$11:$J$109,'RE-UF'!$C$11:$C$109,'RE-UI'!B48)","v":0},{"$f":"SUMIFS('RE-UF'!$K$11:$K$109,'RE-UF'!$C$11:$C$109,'RE-UI'!B48)","v":0},{"$f":"SUMIFS('RE-UF'!$L$11:$L$109,'RE-UF'!$C$11:$C$109,'RE-UI'!B48)","v":0},{"$f":"SUMIFS('RE-UF'!$M$11:$M$109,'RE-UF'!$C$11:$C$109,'RE-UI'!B48)","v":0},{"$f":"SUMIFS('RE-UF'!$N$11:$N$109,'RE-UF'!$C$11:$C$109,B48)","v":0},0]
[39,{"$f":"UI!B49","v":"U39"},{"$f":"IF(UI!C49<>\"\",UI!C49,\"\")","v":""},{"$f":"IF(UI!D49<>\"\",UI!D49,\"\")","v":""},{"$f":"IF('TAB-UI'!E49<>\"\",'TAB-UI'!E49,\"\")","v":""},{"$f":"SUMIFS('RE-UF'!$D$11:$D$109,'RE-UF'!$C$11:$C$109,'RE-UI'!B49)","v":0},{"$f":"SUMIFS('RE-UF'!$E$11:$E$109,'RE-UF'!$C$11:$C$109,'RE-UI'!B49)","v":0},{"$f":"SUMIFS('RE-UF'!$F$11:$F$109,'RE-UF'!$C$11:$C$109,'RE-UI'!B49)","v":0},{"$f":"SUMIFS('RE-UF'!$G$11:$G$109,'RE-UF'!$C$11:$C$109,'RE-UI'!B49)","v":0},{"$f":"SUMIFS('RE-UF'!$H$11:$H$109,'RE-UF'!$C$11:$C$109,'RE-UI'!B49)","v":0},{"$f":"SUMIFS('RE-UF'!$I$11:$I$109,'RE-UF'!$C$11:$C$109,'RE-UI'!B49)","v":0},{"$f":"SUMIFS('RE-UF'!$J$11:$J$109,'RE-UF'!$C$11:$C$109,'RE-UI'!B49)","v":0},{"$f":"SUMIFS('RE-UF'!$K$11:$K$109,'RE-UF'!$C$11:$C$109,'RE-UI'!B49)","v":0},{"$f":"SUMIFS('RE-UF'!$L$11:$L$109,'RE-UF'!$C$11:$C$109,'RE-UI'!B49)","v":0},{"$f":"SUMIFS('RE-UF'!$M$11:$M$109,'RE-UF'!$C$11:$C$109,'RE-UI'!B49)","v":0},{"$f":"SUMIFS('RE-UF'!$N$11:$N$109,'RE-UF'!$C$11:$C$109,B49)","v":0},0]
[40,{"$f":"UI!B50","v":"U40"},{"$f":"IF(UI!C50<>\"\",UI!C50,\"\")","v":""},{"$f":"IF(UI!D50<>\"\",UI!D50,\"\")","v":""},{"$f":"IF('TAB-UI'!E50<>\"\",'TAB-UI'!E50,\"\")","v":""},{"$f":"SUMIFS('RE-UF'!$D$11:$D$109,'RE-UF'!$C$11:$C$109,'RE-UI'!B50)","v":0},{"$f":"SUMIFS('RE-UF'!$E$11:$E$109,'RE-UF'!$C$11:$C$109,'RE-UI'!B50)","v":0},{"$f":"SUMIFS('RE-UF'!$F$11:$F$109,'RE-UF'!$C$11:$C$109,'RE-UI'!B50)","v":0},{"$f":"SUMIFS('RE-UF'!$G$11:$G$109,'RE-UF'!$C$11:$C$109,'RE-UI'!B50)","v":0},{"$f":"SUMIFS('RE-UF'!$H$11:$H$109,'RE-UF'!$C$11:$C$109,'RE-UI'!B50)","v":0},{"$f":"SUMIFS('RE-UF'!$I$11:$I$109,'RE-UF'!$C$11:$C$109,'RE-UI'!B50)","v":0},{"$f":"SUMIFS('RE-UF'!$J$11:$J$109,'RE-UF'!$C$11:$C$109,'RE-UI'!B50)","v":0},{"$f":"SUMIFS('RE-UF'!$K$11:$K$109,'RE-UF'!$C$11:$C$109,'RE-UI'!B50)","v":0},{"$f":"SUMIFS('RE-UF'!$L$11:$L$109,'RE-UF'!$C$11:$C$109,'RE-UI'!B50)","v":0},{"$f":"SUMIFS('RE-UF'!$M$11:$M$109,'RE-UF'!$C$11:$C$109,'RE-UI'!B50)","v":0},{"$f":"SUMIFS('RE-UF'!$N$11:$N$109,'RE-UF'!$C$11:$C$109,B50)","v":0},0]
[41,{"$f":"UI!B51","v":"U41"},{"$f":"IF(UI!C51<>\"\",UI!C51,\"\")","v":""},{"$f":"IF(UI!D51<>\"\",UI!D51,\"\")","v":""},{"$f":"IF('TAB-UI'!E51<>\"\",'TAB-UI'!E51,\"\")","v":""},{"$f":"SUMIFS('RE-UF'!$D$11:$D$109,'RE-UF'!$C$11:$C$109,'RE-UI'!B51)","v":0},{"$f":"SUMIFS('RE-UF'!$E$11:$E$109,'RE-UF'!$C$11:$C$109,'RE-UI'!B51)","v":0},{"$f":"SUMIFS('RE-UF'!$F$11:$F$109,'RE-UF'!$C$11:$C$109,'RE-UI'!B51)","v":0},{"$f":"SUMIFS('RE-UF'!$G$11:$G$109,'RE-UF'!$C$11:$C$109,'RE-UI'!B51)","v":0},{"$f":"SUMIFS('RE-UF'!$H$11:$H$109,'RE-UF'!$C$11:$C$109,'RE-UI'!B51)","v":0},{"$f":"SUMIFS('RE-UF'!$I$11:$I$109,'RE-UF'!$C$11:$C$109,'RE-UI'!B51)","v":0},{"$f":"SUMIFS('RE-UF'!$J$11:$J$109,'RE-UF'!$C$11:$C$109,'RE-UI'!B51)","v":0},{"$f":"SUMIFS('RE-UF'!$K$11:$K$109,'RE-UF'!$C$11:$C$109,'RE-UI'!B51)","v":0},{"$f":"SUMIFS('RE-UF'!$L$11:$L$109,'RE-UF'!$C$11:$C$109,'RE-UI'!B51)","v":0},{"$f":"SUMIFS('RE-UF'!$M$11:$M$109,'RE-UF'!$C$11:$C$109,'RE-UI'!B51)","v":0},{"$f":"SUMIFS('RE-UF'!$N$11:$N$109,'RE-UF'!$C$11:$C$109,B51)","v":0},0]
[42,{"$f":"UI!B52","v":"U42"},{"$f":"IF(UI!C52<>\"\",UI!C52,\"\")","v":""},{"$f":"IF(UI!D52<>\"\",UI!D52,\"\")","v":""},{"$f":"IF('TAB-UI'!E52<>\"\",'TAB-UI'!E52,\"\")","v":""},{"$f":"SUMIFS('RE-UF'!$D$11:$D$109,'RE-UF'!$C$11:$C$109,'RE-UI'!B52)","v":0},{"$f":"SUMIFS('RE-UF'!$E$11:$E$109,'RE-UF'!$C$11:$C$109,'RE-UI'!B52)","v":0},{"$f":"SUMIFS('RE-UF'!$F$11:$F$109,'RE-UF'!$C$11:$C$109,'RE-UI'!B52)","v":0},{"$f":"SUMIFS('RE-UF'!$G$11:$G$109,'RE-UF'!$C$11:$C$109,'RE-UI'!B52)","v":0},{"$f":"SUMIFS('RE-UF'!$H$11:$H$109,'RE-UF'!$C$11:$C$109,'RE-UI'!B52)","v":0},{"$f":"SUMIFS('RE-UF'!$I$11:$I$109,'RE-UF'!$C$11:$C$109,'RE-UI'!B52)","v":0},{"$f":"SUMIFS('RE-UF'!$J$11:$J$109,'RE-UF'!$C$11:$C$109,'RE-UI'!B52)","v":0},{"$f":"SUMIFS('RE-UF'!$K$11:$K$109,'RE-UF'!$C$11:$C$109,'RE-UI'!B52)","v":0},{"$f":"SUMIFS('RE-UF'!$L$11:$L$109,'RE-UF'!$C$11:$C$109,'RE-UI'!B52)","v":0},{"$f":"SUMIFS('RE-UF'!$M$11:$M$109,'RE-UF'!$C$11:$C$109,'RE-UI'!B52)","v":0},{"$f":"SUMIFS('RE-UF'!$N$11:$N$109,'RE-UF'!$C$11:$C$109,B52)","v":0},0]
[43,{"$f":"UI!B53","v":"U43"},{"$f":"IF(UI!C53<>\"\",UI!C53,\"\")","v":""},{"$f":"IF(UI!D53<>\"\",UI!D53,\"\")","v":""},{"$f":"IF('TAB-UI'!E53<>\"\",'TAB-UI'!E53,\"\")","v":""},{"$f":"SUMIFS('RE-UF'!$D$11:$D$109,'RE-UF'!$C$11:$C$109,'RE-UI'!B53)","v":0},{"$f":"SUMIFS('RE-UF'!$E$11:$E$109,'RE-UF'!$C$11:$C$109,'RE-UI'!B53)","v":0},{"$f":"SUMIFS('RE-UF'!$F$11:$F$109,'RE-UF'!$C$11:$C$109,'RE-UI'!B53)","v":0},{"$f":"SUMIFS('RE-UF'!$G$11:$G$109,'RE-UF'!$C$11:$C$109,'RE-UI'!B53)","v":0},{"$f":"SUMIFS('RE-UF'!$H$11:$H$109,'RE-UF'!$C$11:$C$109,'RE-UI'!B53)","v":0},{"$f":"SUMIFS('RE-UF'!$I$11:$I$109,'RE-UF'!$C$11:$C$109,'RE-UI'!B53)","v":0},{"$f":"SUMIFS('RE-UF'!$J$11:$J$109,'RE-UF'!$C$11:$C$109,'RE-UI'!B53)","v":0},{"$f":"SUMIFS('RE-UF'!$K$11:$K$109,'RE-UF'!$C$11:$C$109,'RE-UI'!B53)","v":0},{"$f":"SUMIFS('RE-UF'!$L$11:$L$109,'RE-UF'!$C$11:$C$109,'RE-UI'!B53)","v":0},{"$f":"SUMIFS('RE-UF'!$M$11:$M$109,'RE-UF'!$C$11:$C$109,'RE-UI'!B53)","v":0},{"$f":"SUMIFS('RE-UF'!$N$11:$N$109,'RE-UF'!$C$11:$C$109,B53)","v":0},0]
[44,{"$f":"UI!B54","v":"U44"},{"$f":"IF(UI!C54<>\"\",UI!C54,\"\")","v":""},{"$f":"IF(UI!D54<>\"\",UI!D54,\"\")","v":""},{"$f":"IF('TAB-UI'!E54<>\"\",'TAB-UI'!E54,\"\")","v":""},{"$f":"SUMIFS('RE-UF'!$D$11:$D$109,'RE-UF'!$C$11:$C$109,'RE-UI'!B54)","v":0},{"$f":"SUMIFS('RE-UF'!$E$11:$E$109,'RE-UF'!$C$11:$C$109,'RE-UI'!B54)","v":0},{"$f":"SUMIFS('RE-UF'!$F$11:$F$109,'RE-UF'!$C$11:$C$109,'RE-UI'!B54)","v":0},{"$f":"SUMIFS('RE-UF'!$G$11:$G$109,'RE-UF'!$C$11:$C$109,'RE-UI'!B54)","v":0},{"$f":"SUMIFS('RE-UF'!$H$11:$H$109,'RE-UF'!$C$11:$C$109,'RE-UI'!B54)","v":0},{"$f":"SUMIFS('RE-UF'!$I$11:$I$109,'RE-UF'!$C$11:$C$109,'RE-UI'!B54)","v":0},{"$f":"SUMIFS('RE-UF'!$J$11:$J$109,'RE-UF'!$C$11:$C$109,'RE-UI'!B54)","v":0},{"$f":"SUMIFS('RE-UF'!$K$11:$K$109,'RE-UF'!$C$11:$C$109,'RE-UI'!B54)","v":0},{"$f":"SUMIFS('RE-UF'!$L$11:$L$109,'RE-UF'!$C$11:$C$109,'RE-UI'!B54)","v":0},{"$f":"SUMIFS('RE-UF'!$M$11:$M$109,'RE-UF'!$C$11:$C$109,'RE-UI'!B54)","v":0},{"$f":"SUMIFS('RE-UF'!$N$11:$N$109,'RE-UF'!$C$11:$C$109,B54)","v":0},0]
[45,{"$f":"UI!B55","v":"U45"},{"$f":"IF(UI!C55<>\"\",UI!C55,\"\")","v":""},{"$f":"IF(UI!D55<>\"\",UI!D55,\"\")","v":""},{"$f":"IF('TAB-UI'!E55<>\"\",'TAB-UI'!E55,\"\")","v":""},{"$f":"SUMIFS('RE-UF'!$D$11:$D$109,'RE-UF'!$C$11:$C$109,'RE-UI'!B55)","v":0},{"$f":"SUMIFS('RE-UF'!$E$11:$E$109,'RE-UF'!$C$11:$C$109,'RE-UI'!B55)","v":0},{"$f":"SUMIFS('RE-UF'!$F$11:$F$109,'RE-UF'!$C$11:$C$109,'RE-UI'!B55)","v":0},{"$f":"SUMIFS('RE-UF'!$G$11:$G$109,'RE-UF'!$C$11:$C$109,'RE-UI'!B55)","v":0},{"$f":"SUMIFS('RE-UF'!$H$11:$H$109,'RE-UF'!$C$11:$C$109,'RE-UI'!B55)","v":0},{"$f":"SUMIFS('RE-UF'!$I$11:$I$109,'RE-UF'!$C$11:$C$109,'RE-UI'!B55)","v":0},{"$f":"SUMIFS('RE-UF'!$J$11:$J$109,'RE-UF'!$C$11:$C$109,'RE-UI'!B55)","v":0},{"$f":"SUMIFS('RE-UF'!$K$11:$K$109,'RE-UF'!$C$11:$C$109,'RE-UI'!B55)","v":0},{"$f":"SUMIFS('RE-UF'!$L$11:$L$109,'RE-UF'!$C$11:$C$109,'RE-UI'!B55)","v":0},{"$f":"SUMIFS('RE-UF'!$M$11:$M$109,'RE-UF'!$C$11:$C$109,'RE-UI'!B55)","v":0},{"$f":"SUMIFS('RE-UF'!$N$11:$N$109,'RE-UF'!$C$11:$C$109,B55)","v":0},0]
[46,{"$f":"UI!B56","v":"U46"},{"$f":"IF(UI!C56<>\"\",UI!C56,\"\")","v":""},{"$f":"IF(UI!D56<>\"\",UI!D56,\"\")","v":""},{"$f":"IF('TAB-UI'!E56<>\"\",'TAB-UI'!E56,\"\")","v":""},{"$f":"SUMIFS('RE-UF'!$D$11:$D$109,'RE-UF'!$C$11:$C$109,'RE-UI'!B56)","v":0},{"$f":"SUMIFS('RE-UF'!$E$11:$E$109,'RE-UF'!$C$11:$C$109,'RE-UI'!B56)","v":0},{"$f":"SUMIFS('RE-UF'!$F$11:$F$109,'RE-UF'!$C$11:$C$109,'RE-UI'!B56)","v":0},{"$f":"SUMIFS('RE-UF'!$G$11:$G$109,'RE-UF'!$C$11:$C$109,'RE-UI'!B56)","v":0},{"$f":"SUMIFS('RE-UF'!$H$11:$H$109,'RE-UF'!$C$11:$C$109,'RE-UI'!B56)","v":0},{"$f":"SUMIFS('RE-UF'!$I$11:$I$109,'RE-UF'!$C$11:$C$109,'RE-UI'!B56)","v":0},{"$f":"SUMIFS('RE-UF'!$J$11:$J$109,'RE-UF'!$C$11:$C$109,'RE-UI'!B56)","v":0},{"$f":"SUMIFS('RE-UF'!$K$11:$K$109,'RE-UF'!$C$11:$C$109,'RE-UI'!B56)","v":0},{"$f":"SUMIFS('RE-UF'!$L$11:$L$109,'RE-UF'!$C$11:$C$109,'RE-UI'!B56)","v":0},{"$f":"SUMIFS('RE-UF'!$M$11:$M$109,'RE-UF'!$C$11:$C$109,'RE-UI'!B56)","v":0},{"$f":"SUMIFS('RE-UF'!$N$11:$N$109,'RE-UF'!$C$11:$C$109,B56)","v":0},0]
[47,{"$f":"UI!B57","v":"U47"},{"$f":"IF(UI!C57<>\"\",UI!C57,\"\")","v":""},{"$f":"IF(UI!D57<>\"\",UI!D57,\"\")","v":""},{"$f":"IF('TAB-UI'!E57<>\"\",'TAB-UI'!E57,\"\")","v":""},{"$f":"SUMIFS('RE-UF'!$D$11:$D$109,'RE-UF'!$C$11:$C$109,'RE-UI'!B57)","v":0},{"$f":"SUMIFS('RE-UF'!$E$11:$E$109,'RE-UF'!$C$11:$C$109,'RE-UI'!B57)","v":0},{"$f":"SUMIFS('RE-UF'!$F$11:$F$109,'RE-UF'!$C$11:$C$109,'RE-UI'!B57)","v":0},{"$f":"SUMIFS('RE-UF'!$G$11:$G$109,'RE-UF'!$C$11:$C$109,'RE-UI'!B57)","v":0},{"$f":"SUMIFS('RE-UF'!$H$11:$H$109,'RE-UF'!$C$11:$C$109,'RE-UI'!B57)","v":0},{"$f":"SUMIFS('RE-UF'!$I$11:$I$109,'RE-UF'!$C$11:$C$109,'RE-UI'!B57)","v":0},{"$f":"SUMIFS('RE-UF'!$J$11:$J$109,'RE-UF'!$C$11:$C$109,'RE-UI'!B57)","v":0},{"$f":"SUMIFS('RE-UF'!$K$11:$K$109,'RE-UF'!$C$11:$C$109,'RE-UI'!B57)","v":0},{"$f":"SUMIFS('RE-UF'!$L$11:$L$109,'RE-UF'!$C$11:$C$109,'RE-UI'!B57)","v":0},{"$f":"SUMIFS('RE-UF'!$M$11:$M$109,'RE-UF'!$C$11:$C$109,'RE-UI'!B57)","v":0},{"$f":"SUMIFS('RE-UF'!$N$11:$N$109,'RE-UF'!$C$11:$C$109,B57)","v":0},0]
[48,{"$f":"UI!B58","v":"U48"},{"$f":"IF(UI!C58<>\"\",UI!C58,\"\")","v":""},{"$f":"IF(UI!D58<>\"\",UI!D58,\"\")","v":""},{"$f":"IF('TAB-UI'!E58<>\"\",'TAB-UI'!E58,\"\")","v":""},{"$f":"SUMIFS('RE-UF'!$D$11:$D$109,'RE-UF'!$C$11:$C$109,'RE-UI'!B58)","v":0},{"$f":"SUMIFS('RE-UF'!$E$11:$E$109,'RE-UF'!$C$11:$C$109,'RE-UI'!B58)","v":0},{"$f":"SUMIFS('RE-UF'!$F$11:$F$109,'RE-UF'!$C$11:$C$109,'RE-UI'!B58)","v":0},{"$f":"SUMIFS('RE-UF'!$G$11:$G$109,'RE-UF'!$C$11:$C$109,'RE-UI'!B58)","v":0},{"$f":"SUMIFS('RE-UF'!$H$11:$H$109,'RE-UF'!$C$11:$C$109,'RE-UI'!B58)","v":0},{"$f":"SUMIFS('RE-UF'!$I$11:$I$109,'RE-UF'!$C$11:$C$109,'RE-UI'!B58)","v":0},{"$f":"SUMIFS('RE-UF'!$J$11:$J$109,'RE-UF'!$C$11:$C$109,'RE-UI'!B58)","v":0},{"$f":"SUMIFS('RE-UF'!$K$11:$K$109,'RE-UF'!$C$11:$C$109,'RE-UI'!B58)","v":0},{"$f":"SUMIFS('RE-UF'!$L$11:$L$109,'RE-UF'!$C$11:$C$109,'RE-UI'!B58)","v":0},{"$f":"SUMIFS('RE-UF'!$M$11:$M$109,'RE-UF'!$C$11:$C$109,'RE-UI'!B58)","v":0},{"$f":"SUMIFS('RE-UF'!$N$11:$N$109,'RE-UF'!$C$11:$C$109,B58)","v":0},0]
[49,{"$f":"UI!B59","v":"U49"},{"$f":"IF(UI!C59<>\"\",UI!C59,\"\")","v":""},{"$f":"IF(UI!D59<>\"\",UI!D59,\"\")","v":""},{"$f":"IF('TAB-UI'!E59<>\"\",'TAB-UI'!E59,\"\")","v":""},{"$f":"SUMIFS('RE-UF'!$D$11:$D$109,'RE-UF'!$C$11:$C$109,'RE-UI'!B59)","v":0},{"$f":"SUMIFS('RE-UF'!$E$11:$E$109,'RE-UF'!$C$11:$C$109,'RE-UI'!B59)","v":0},{"$f":"SUMIFS('RE-UF'!$F$11:$F$109,'RE-UF'!$C$11:$C$109,'RE-UI'!B59)","v":0},{"$f":"SUMIFS('RE-UF'!$G$11:$G$109,'RE-UF'!$C$11:$C$109,'RE-UI'!B59)","v":0},{"$f":"SUMIFS('RE-UF'!$H$11:$H$109,'RE-UF'!$C$11:$C$109,'RE-UI'!B59)","v":0},{"$f":"SUMIFS('RE-UF'!$I$11:$I$109,'RE-UF'!$C$11:$C$109,'RE-UI'!B59)","v":0},{"$f":"SUMIFS('RE-UF'!$J$11:$J$109,'RE-UF'!$C$11:$C$109,'RE-UI'!B59)","v":0},{"$f":"SUMIFS('RE-UF'!$K$11:$K$109,'RE-UF'!$C$11:$C$109,'RE-UI'!B59)","v":0},{"$f":"SUMIFS('RE-UF'!$L$11:$L$109,'RE-UF'!$C$11:$C$109,'RE-UI'!B59)","v":0},{"$f":"SUMIFS('RE-UF'!$M$11:$M$109,'RE-UF'!$C$11:$C$109,'RE-UI'!B59)","v":0},{"$f":"SUMIFS('RE-UF'!$N$11:$N$109,'RE-UF'!$C$11:$C$109,B59)","v":0},0]
[50,{"$f":"UI!B60","v":"U50"},{"$f":"IF(UI!C60<>\"\",UI!C60,\"\")","v":""},{"$f":"IF(UI!D60<>\"\",UI!D60,\"\")","v":""},{"$f":"IF('TAB-UI'!E60<>\"\",'TAB-UI'!E60,\"\")","v":""},{"$f":"SUMIFS('RE-UF'!$D$11:$D$109,'RE-UF'!$C$11:$C$109,'RE-UI'!B60)","v":0},{"$f":"SUMIFS('RE-UF'!$E$11:$E$109,'RE-UF'!$C$11:$C$109,'RE-UI'!B60)","v":0},{"$f":"SUMIFS('RE-UF'!$F$11:$F$109,'RE-UF'!$C$11:$C$109,'RE-UI'!B60)","v":0},{"$f":"SUMIFS('RE-UF'!$G$11:$G$109,'RE-UF'!$C$11:$C$109,'RE-UI'!B60)","v":0},{"$f":"SUMIFS('RE-UF'!$H$11:$H$109,'RE-UF'!$C$11:$C$109,'RE-UI'!B60)","v":0},{"$f":"SUMIFS('RE-UF'!$I$11:$I$109,'RE-UF'!$C$11:$C$109,'RE-UI'!B60)","v":0},{"$f":"SUMIFS('RE-UF'!$J$11:$J$109,'RE-UF'!$C$11:$C$109,'RE-UI'!B60)","v":0},{"$f":"SUMIFS('RE-UF'!$K$11:$K$109,'RE-UF'!$C$11:$C$109,'RE-UI'!B60)","v":0},{"$f":"SUMIFS('RE-UF'!$L$11:$L$109,'RE-UF'!$C$11:$C$109,'RE-UI'!B60)","v":0},{"$f":"SUMIFS('RE-UF'!$M$11:$M$109,'RE-UF'!$C$11:$C$109,'RE-UI'!B60)","v":0},{"$f":"SUMIFS('RE-UF'!$N$11:$N$109,'RE-UF'!$C$11:$C$109,B60)","v":0},0]
[51,{"$f":"UI!B61","v":"U51"},{"$f":"IF(UI!C61<>\"\",UI!C61,\"\")","v":""},{"$f":"IF(UI!D61<>\"\",UI!D61,\"\")","v":""},{"$f":"IF('TAB-UI'!E61<>\"\",'TAB-UI'!E61,\"\")","v":""},{"$f":"SUMIFS('RE-UF'!$D$11:$D$109,'RE-UF'!$C$11:$C$109,'RE-UI'!B61)","v":0},{"$f":"SUMIFS('RE-UF'!$E$11:$E$109,'RE-UF'!$C$11:$C$109,'RE-UI'!B61)","v":0},{"$f":"SUMIFS('RE-UF'!$F$11:$F$109,'RE-UF'!$C$11:$C$109,'RE-UI'!B61)","v":0},{"$f":"SUMIFS('RE-UF'!$G$11:$G$109,'RE-UF'!$C$11:$C$109,'RE-UI'!B61)","v":0},{"$f":"SUMIFS('RE-UF'!$H$11:$H$109,'RE-UF'!$C$11:$C$109,'RE-UI'!B61)","v":0},{"$f":"SUMIFS('RE-UF'!$I$11:$I$109,'RE-UF'!$C$11:$C$109,'RE-UI'!B61)","v":0},{"$f":"SUMIFS('RE-UF'!$J$11:$J$109,'RE-UF'!$C$11:$C$109,'RE-UI'!B61)","v":0},{"$f":"SUMIFS('RE-UF'!$K$11:$K$109,'RE-UF'!$C$11:$C$109,'RE-UI'!B61)","v":0},{"$f":"SUMIFS('RE-UF'!$L$11:$L$109,'RE-UF'!$C$11:$C$109,'RE-UI'!B61)","v":0},{"$f":"SUMIFS('RE-UF'!$M$11:$M$109,'RE-UF'!$C$11:$C$109,'RE-UI'!B61)","v":0},{"$f":"SUMIFS('RE-UF'!$N$11:$N$109,'RE-UF'!$C$11:$C$109,B61)","v":0},0]
[52,{"$f":"UI!B62","v":"U52"},{"$f":"IF(UI!C62<>\"\",UI!C62,\"\")","v":""},{"$f":"IF(UI!D62<>\"\",UI!D62,\"\")","v":""},{"$f":"IF('TAB-UI'!E62<>\"\",'TAB-UI'!E62,\"\")","v":""},{"$f":"SUMIFS('RE-UF'!$D$11:$D$109,'RE-UF'!$C$11:$C$109,'RE-UI'!B62)","v":0},{"$f":"SUMIFS('RE-UF'!$E$11:$E$109,'RE-UF'!$C$11:$C$109,'RE-UI'!B62)","v":0},{"$f":"SUMIFS('RE-UF'!$F$11:$F$109,'RE-UF'!$C$11:$C$109,'RE-UI'!B62)","v":0},{"$f":"SUMIFS('RE-UF'!$G$11:$G$109,'RE-UF'!$C$11:$C$109,'RE-UI'!B62)","v":0},{"$f":"SUMIFS('RE-UF'!$H$11:$H$109,'RE-UF'!$C$11:$C$109,'RE-UI'!B62)","v":0},{"$f":"SUMIFS('RE-UF'!$I$11:$I$109,'RE-UF'!$C$11:$C$109,'RE-UI'!B62)","v":0},{"$f":"SUMIFS('RE-UF'!$J$11:$J$109,'RE-UF'!$C$11:$C$109,'RE-UI'!B62)","v":0},{"$f":"SUMIFS('RE-UF'!$K$11:$K$109,'RE-UF'!$C$11:$C$109,'RE-UI'!B62)","v":0},{"$f":"SUMIFS('RE-UF'!$L$11:$L$109,'RE-UF'!$C$11:$C$109,'RE-UI'!B62)","v":0},{"$f":"SUMIFS('RE-UF'!$M$11:$M$109,'RE-UF'!$C$11:$C$109,'RE-UI'!B62)","v":0},{"$f":"SUMIFS('RE-UF'!$N$11:$N$109,'RE-UF'!$C$11:$C$109,B62)","v":0},0]
[53,{"$f":"UI!B63","v":"U53"},{"$f":"IF(UI!C63<>\"\",UI!C63,\"\")","v":""},{"$f":"IF(UI!D63<>\"\",UI!D63,\"\")","v":""},{"$f":"IF('TAB-UI'!E63<>\"\",'TAB-UI'!E63,\"\")","v":""},{"$f":"SUMIFS('RE-UF'!$D$11:$D$109,'RE-UF'!$C$11:$C$109,'RE-UI'!B63)","v":0},{"$f":"SUMIFS('RE-UF'!$E$11:$E$109,'RE-UF'!$C$11:$C$109,'RE-UI'!B63)","v":0},{"$f":"SUMIFS('RE-UF'!$F$11:$F$109,'RE-UF'!$C$11:$C$109,'RE-UI'!B63)","v":0},{"$f":"SUMIFS('RE-UF'!$G$11:$G$109,'RE-UF'!$C$11:$C$109,'RE-UI'!B63)","v":0},{"$f":"SUMIFS('RE-UF'!$H$11:$H$109,'RE-UF'!$C$11:$C$109,'RE-UI'!B63)","v":0},{"$f":"SUMIFS('RE-UF'!$I$11:$I$109,'RE-UF'!$C$11:$C$109,'RE-UI'!B63)","v":0},{"$f":"SUMIFS('RE-UF'!$J$11:$J$109,'RE-UF'!$C$11:$C$109,'RE-UI'!B63)","v":0},{"$f":"SUMIFS('RE-UF'!$K$11:$K$109,'RE-UF'!$C$11:$C$109,'RE-UI'!B63)","v":0},{"$f":"SUMIFS('RE-UF'!$L$11:$L$109,'RE-UF'!$C$11:$C$109,'RE-UI'!B63)","v":0},{"$f":"SUMIFS('RE-UF'!$M$11:$M$109,'RE-UF'!$C$11:$C$109,'RE-UI'!B63)","v":0},{"$f":"SUMIFS('RE-UF'!$N$11:$N$109,'RE-UF'!$C$11:$C$109,B63)","v":0},0]
[54,{"$f":"UI!B64","v":"U54"},{"$f":"IF(UI!C64<>\"\",UI!C64,\"\")","v":""},{"$f":"IF(UI!D64<>\"\",UI!D64,\"\")","v":""},{"$f":"IF('TAB-UI'!E64<>\"\",'TAB-UI'!E64,\"\")","v":""},{"$f":"SUMIFS('RE-UF'!$D$11:$D$109,'RE-UF'!$C$11:$C$109,'RE-UI'!B64)","v":0},{"$f":"SUMIFS('RE-UF'!$E$11:$E$109,'RE-UF'!$C$11:$C$109,'RE-UI'!B64)","v":0},{"$f":"SUMIFS('RE-UF'!$F$11:$F$109,'RE-UF'!$C$11:$C$109,'RE-UI'!B64)","v":0},{"$f":"SUMIFS('RE-UF'!$G$11:$G$109,'RE-UF'!$C$11:$C$109,'RE-UI'!B64)","v":0},{"$f":"SUMIFS('RE-UF'!$H$11:$H$109,'RE-UF'!$C$11:$C$109,'RE-UI'!B64)","v":0},{"$f":"SUMIFS('RE-UF'!$I$11:$I$109,'RE-UF'!$C$11:$C$109,'RE-UI'!B64)","v":0},{"$f":"SUMIFS('RE-UF'!$J$11:$J$109,'RE-UF'!$C$11:$C$109,'RE-UI'!B64)","v":0},{"$f":"SUMIFS('RE-UF'!$K$11:$K$109,'RE-UF'!$C$11:$C$109,'RE-UI'!B64)","v":0},{"$f":"SUMIFS('RE-UF'!$L$11:$L$109,'RE-UF'!$C$11:$C$109,'RE-UI'!B64)","v":0},{"$f":"SUMIFS('RE-UF'!$M$11:$M$109,'RE-UF'!$C$11:$C$109,'RE-UI'!B64)","v":0},{"$f":"SUMIFS('RE-UF'!$N$11:$N$109,'RE-UF'!$C$11:$C$109,B64)","v":0},0]
[55,{"$f":"UI!B65","v":"U55"},{"$f":"IF(UI!C65<>\"\",UI!C65,\"\")","v":""},{"$f":"IF(UI!D65<>\"\",UI!D65,\"\")","v":""},{"$f":"IF('TAB-UI'!E65<>\"\",'TAB-UI'!E65,\"\")","v":""},{"$f":"SUMIFS('RE-UF'!$D$11:$D$109,'RE-UF'!$C$11:$C$109,'RE-UI'!B65)","v":0},{"$f":"SUMIFS('RE-UF'!$E$11:$E$109,'RE-UF'!$C$11:$C$109,'RE-UI'!B65)","v":0},{"$f":"SUMIFS('RE-UF'!$F$11:$F$109,'RE-UF'!$C$11:$C$109,'RE-UI'!B65)","v":0},{"$f":"SUMIFS('RE-UF'!$G$11:$G$109,'RE-UF'!$C$11:$C$109,'RE-UI'!B65)","v":0},{"$f":"SUMIFS('RE-UF'!$H$11:$H$109,'RE-UF'!$C$11:$C$109,'RE-UI'!B65)","v":0},{"$f":"SUMIFS('RE-UF'!$I$11:$I$109,'RE-UF'!$C$11:$C$109,'RE-UI'!B65)","v":0},{"$f":"SUMIFS('RE-UF'!$J$11:$J$109,'RE-UF'!$C$11:$C$109,'RE-UI'!B65)","v":0},{"$f":"SUMIFS('RE-UF'!$K$11:$K$109,'RE-UF'!$C$11:$C$109,'RE-UI'!B65)","v":0},{"$f":"SUMIFS('RE-UF'!$L$11:$L$109,'RE-UF'!$C$11:$C$109,'RE-UI'!B65)","v":0},{"$f":"SUMIFS('RE-UF'!$M$11:$M$109,'RE-UF'!$C$11:$C$109,'RE-UI'!B65)","v":0},{"$f":"SUMIFS('RE-UF'!$N$11:$N$109,'RE-UF'!$C$11:$C$109,B65)","v":0},0]
[56,{"$f":"UI!B66","v":"U56"},{"$f":"IF(UI!C66<>\"\",UI!C66,\"\")","v":""},{"$f":"IF(UI!D66<>\"\",UI!D66,\"\")","v":""},{"$f":"IF('TAB-UI'!E66<>\"\",'TAB-UI'!E66,\"\")","v":""},{"$f":"SUMIFS('RE-UF'!$D$11:$D$109,'RE-UF'!$C$11:$C$109,'RE-UI'!B66)","v":0},{"$f":"SUMIFS('RE-UF'!$E$11:$E$109,'RE-UF'!$C$11:$C$109,'RE-UI'!B66)","v":0},{"$f":"SUMIFS('RE-UF'!$F$11:$F$109,'RE-UF'!$C$11:$C$109,'RE-UI'!B66)","v":0},{"$f":"SUMIFS('RE-UF'!$G$11:$G$109,'RE-UF'!$C$11:$C$109,'RE-UI'!B66)","v":0},{"$f":"SUMIFS('RE-UF'!$H$11:$H$109,'RE-UF'!$C$11:$C$109,'RE-UI'!B66)","v":0},{"$f":"SUMIFS('RE-UF'!$I$11:$I$109,'RE-UF'!$C$11:$C$109,'RE-UI'!B66)","v":0},{"$f":"SUMIFS('RE-UF'!$J$11:$J$109,'RE-UF'!$C$11:$C$109,'RE-UI'!B66)","v":0},{"$f":"SUMIFS('RE-UF'!$K$11:$K$109,'RE-UF'!$C$11:$C$109,'RE-UI'!B66)","v":0},{"$f":"SUMIFS('RE-UF'!$L$11:$L$109,'RE-UF'!$C$11:$C$109,'RE-UI'!B66)","v":0},{"$f":"SUMIFS('RE-UF'!$M$11:$M$109,'RE-UF'!$C$11:$C$109,'RE-UI'!B66)","v":0},{"$f":"SUMIFS('RE-UF'!$N$11:$N$109,'RE-UF'!$C$11:$C$109,B66)","v":0},0]
[57,{"$f":"UI!B67","v":"U57"},{"$f":"IF(UI!C67<>\"\",UI!C67,\"\")","v":""},{"$f":"IF(UI!D67<>\"\",UI!D67,\"\")","v":""},{"$f":"IF('TAB-UI'!E67<>\"\",'TAB-UI'!E67,\"\")","v":""},{"$f":"SUMIFS('RE-UF'!$D$11:$D$109,'RE-UF'!$C$11:$C$109,'RE-UI'!B67)","v":0},{"$f":"SUMIFS('RE-UF'!$E$11:$E$109,'RE-UF'!$C$11:$C$109,'RE-UI'!B67)","v":0},{"$f":"SUMIFS('RE-UF'!$F$11:$F$109,'RE-UF'!$C$11:$C$109,'RE-UI'!B67)","v":0},{"$f":"SUMIFS('RE-UF'!$G$11:$G$109,'RE-UF'!$C$11:$C$109,'RE-UI'!B67)","v":0},{"$f":"SUMIFS('RE-UF'!$H$11:$H$109,'RE-UF'!$C$11:$C$109,'RE-UI'!B67)","v":0},{"$f":"SUMIFS('RE-UF'!$I$11:$I$109,'RE-UF'!$C$11:$C$109,'RE-UI'!B67)","v":0},{"$f":"SUMIFS('RE-UF'!$J$11:$J$109,'RE-UF'!$C$11:$C$109,'RE-UI'!B67)","v":0},{"$f":"SUMIFS('RE-UF'!$K$11:$K$109,'RE-UF'!$C$11:$C$109,'RE-UI'!B67)","v":0},{"$f":"SUMIFS('RE-UF'!$L$11:$L$109,'RE-UF'!$C$11:$C$109,'RE-UI'!B67)","v":0},{"$f":"SUMIFS('RE-UF'!$M$11:$M$109,'RE-UF'!$C$11:$C$109,'RE-UI'!B67)","v":0},{"$f":"SUMIFS('RE-UF'!$N$11:$N$109,'RE-UF'!$C$11:$C$109,B67)","v":0},0]
[58,{"$f":"UI!B68","v":"U58"},{"$f":"IF(UI!C68<>\"\",UI!C68,\"\")","v":""},{"$f":"IF(UI!D68<>\"\",UI!D68,\"\")","v":""},{"$f":"IF('TAB-UI'!E68<>\"\",'TAB-UI'!E68,\"\")","v":""},{"$f":"SUMIFS('RE-UF'!$D$11:$D$109,'RE-UF'!$C$11:$C$109,'RE-UI'!B68)","v":0},{"$f":"SUMIFS('RE-UF'!$E$11:$E$109,'RE-UF'!$C$11:$C$109,'RE-UI'!B68)","v":0},{"$f":"SUMIFS('RE-UF'!$F$11:$F$109,'RE-UF'!$C$11:$C$109,'RE-UI'!B68)","v":0},{"$f":"SUMIFS('RE-UF'!$G$11:$G$109,'RE-UF'!$C$11:$C$109,'RE-UI'!B68)","v":0},{"$f":"SUMIFS('RE-UF'!$H$11:$H$109,'RE-UF'!$C$11:$C$109,'RE-UI'!B68)","v":0},{"$f":"SUMIFS('RE-UF'!$I$11:$I$109,'RE-UF'!$C$11:$C$109,'RE-UI'!B68)","v":0},{"$f":"SUMIFS('RE-UF'!$J$11:$J$109,'RE-UF'!$C$11:$C$109,'RE-UI'!B68)","v":0},{"$f":"SUMIFS('RE-UF'!$K$11:$K$109,'RE-UF'!$C$11:$C$109,'RE-UI'!B68)","v":0},{"$f":"SUMIFS('RE-UF'!$L$11:$L$109,'RE-UF'!$C$11:$C$109,'RE-UI'!B68)","v":0},{"$f":"SUMIFS('RE-UF'!$M$11:$M$109,'RE-UF'!$C$11:$C$109,'RE-UI'!B68)","v":0},{"$f":"SUMIFS('RE-UF'!$N$11:$N$109,'RE-UF'!$C$11:$C$109,B68)","v":0},0]
[59,{"$f":"UI!B69","v":"U59"},{"$f":"IF(UI!C69<>\"\",UI!C69,\"\")","v":""},{"$f":"IF(UI!D69<>\"\",UI!D69,\"\")","v":""},{"$f":"IF('TAB-UI'!E69<>\"\",'TAB-UI'!E69,\"\")","v":""},{"$f":"SUMIFS('RE-UF'!$D$11:$D$109,'RE-UF'!$C$11:$C$109,'RE-UI'!B69)","v":0},{"$f":"SUMIFS('RE-UF'!$E$11:$E$109,'RE-UF'!$C$11:$C$109,'RE-UI'!B69)","v":0},{"$f":"SUMIFS('RE-UF'!$F$11:$F$109,'RE-UF'!$C$11:$C$109,'RE-UI'!B69)","v":0},{"$f":"SUMIFS('RE-UF'!$G$11:$G$109,'RE-UF'!$C$11:$C$109,'RE-UI'!B69)","v":0},{"$f":"SUMIFS('RE-UF'!$H$11:$H$109,'RE-UF'!$C$11:$C$109,'RE-UI'!B69)","v":0},{"$f":"SUMIFS('RE-UF'!$I$11:$I$109,'RE-UF'!$C$11:$C$109,'RE-UI'!B69)","v":0},{"$f":"SUMIFS('RE-UF'!$J$11:$J$109,'RE-UF'!$C$11:$C$109,'RE-UI'!B69)","v":0},{"$f":"SUMIFS('RE-UF'!$K$11:$K$109,'RE-UF'!$C$11:$C$109,'RE-UI'!B69)","v":0},{"$f":"SUMIFS('RE-UF'!$L$11:$L$109,'RE-UF'!$C$11:$C$109,'RE-UI'!B69)","v":0},{"$f":"SUMIFS('RE-UF'!$M$11:$M$109,'RE-UF'!$C$11:$C$109,'RE-UI'!B69)","v":0},{"$f":"SUMIFS('RE-UF'!$N$11:$N$109,'RE-UF'!$C$11:$C$109,B69)","v":0},0]
[60,{"$f":"UI!B70","v":"U60"},{"$f":"IF(UI!C70<>\"\",UI!C70,\"\")","v":""},{"$f":"IF(UI!D70<>\"\",UI!D70,\"\")","v":""},{"$f":"IF('TAB-UI'!E70<>\"\",'TAB-UI'!E70,\"\")","v":""},{"$f":"SUMIFS('RE-UF'!$D$11:$D$109,'RE-UF'!$C$11:$C$109,'RE-UI'!B70)","v":0},{"$f":"SUMIFS('RE-UF'!$E$11:$E$109,'RE-UF'!$C$11:$C$109,'RE-UI'!B70)","v":0},{"$f":"SUMIFS('RE-UF'!$F$11:$F$109,'RE-UF'!$C$11:$C$109,'RE-UI'!B70)","v":0},{"$f":"SUMIFS('RE-UF'!$G$11:$G$109,'RE-UF'!$C$11:$C$109,'RE-UI'!B70)","v":0},{"$f":"SUMIFS('RE-UF'!$H$11:$H$109,'RE-UF'!$C$11:$C$109,'RE-UI'!B70)","v":0},{"$f":"SUMIFS('RE-UF'!$I$11:$I$109,'RE-UF'!$C$11:$C$109,'RE-UI'!B70)","v":0},{"$f":"SUMIFS('RE-UF'!$J$11:$J$109,'RE-UF'!$C$11:$C$109,'RE-UI'!B70)","v":0},{"$f":"SUMIFS('RE-UF'!$K$11:$K$109,'RE-UF'!$C$11:$C$109,'RE-UI'!B70)","v":0},{"$f":"SUMIFS('RE-UF'!$L$11:$L$109,'RE-UF'!$C$11:$C$109,'RE-UI'!B70)","v":0},{"$f":"SUMIFS('RE-UF'!$M$11:$M$109,'RE-UF'!$C$11:$C$109,'RE-UI'!B70)","v":0},{"$f":"SUMIFS('RE-UF'!$N$11:$N$109,'RE-UF'!$C$11:$C$109,B70)","v":0},0]
[61,{"$f":"UI!B71","v":"U61"},{"$f":"IF(UI!C71<>\"\",UI!C71,\"\")","v":""},{"$f":"IF(UI!D71<>\"\",UI!D71,\"\")","v":""},{"$f":"IF('TAB-UI'!E71<>\"\",'TAB-UI'!E71,\"\")","v":""},{"$f":"SUMIFS('RE-UF'!$D$11:$D$109,'RE-UF'!$C$11:$C$109,'RE-UI'!B71)","v":0},{"$f":"SUMIFS('RE-UF'!$E$11:$E$109,'RE-UF'!$C$11:$C$109,'RE-UI'!B71)","v":0},{"$f":"SUMIFS('RE-UF'!$F$11:$F$109,'RE-UF'!$C$11:$C$109,'RE-UI'!B71)","v":0},{"$f":"SUMIFS('RE-UF'!$G$11:$G$109,'RE-UF'!$C$11:$C$109,'RE-UI'!B71)","v":0},{"$f":"SUMIFS('RE-UF'!$H$11:$H$109,'RE-UF'!$C$11:$C$109,'RE-UI'!B71)","v":0},{"$f":"SUMIFS('RE-UF'!$I$11:$I$109,'RE-UF'!$C$11:$C$109,'RE-UI'!B71)","v":0},{"$f":"SUMIFS('RE-UF'!$J$11:$J$109,'RE-UF'!$C$11:$C$109,'RE-UI'!B71)","v":0},{"$f":"SUMIFS('RE-UF'!$K$11:$K$109,'RE-UF'!$C$11:$C$109,'RE-UI'!B71)","v":0},{"$f":"SUMIFS('RE-UF'!$L$11:$L$109,'RE-UF'!$C$11:$C$109,'RE-UI'!B71)","v":0},{"$f":"SUMIFS('RE-UF'!$M$11:$M$109,'RE-UF'!$C$11:$C$109,'RE-UI'!B71)","v":0},{"$f":"SUMIFS('RE-UF'!$N$11:$N$109,'RE-UF'!$C$11:$C$109,B71)","v":0},0]
[62,{"$f":"UI!B72","v":"U62"},{"$f":"IF(UI!C72<>\"\",UI!C72,\"\")","v":""},{"$f":"IF(UI!D72<>\"\",UI!D72,\"\")","v":""},{"$f":"IF('TAB-UI'!E72<>\"\",'TAB-UI'!E72,\"\")","v":""},{"$f":"SUMIFS('RE-UF'!$D$11:$D$109,'RE-UF'!$C$11:$C$109,'RE-UI'!B72)","v":0},{"$f":"SUMIFS('RE-UF'!$E$11:$E$109,'RE-UF'!$C$11:$C$109,'RE-UI'!B72)","v":0},{"$f":"SUMIFS('RE-UF'!$F$11:$F$109,'RE-UF'!$C$11:$C$109,'RE-UI'!B72)","v":0},{"$f":"SUMIFS('RE-UF'!$G$11:$G$109,'RE-UF'!$C$11:$C$109,'RE-UI'!B72)","v":0},{"$f":"SUMIFS('RE-UF'!$H$11:$H$109,'RE-UF'!$C$11:$C$109,'RE-UI'!B72)","v":0},{"$f":"SUMIFS('RE-UF'!$I$11:$I$109,'RE-UF'!$C$11:$C$109,'RE-UI'!B72)","v":0},{"$f":"SUMIFS('RE-UF'!$J$11:$J$109,'RE-UF'!$C$11:$C$109,'RE-UI'!B72)","v":0},{"$f":"SUMIFS('RE-UF'!$K$11:$K$109,'RE-UF'!$C$11:$C$109,'RE-UI'!B72)","v":0},{"$f":"SUMIFS('RE-UF'!$L$11:$L$109,'RE-UF'!$C$11:$C$109,'RE-UI'!B72)","v":0},{"$f":"SUMIFS('RE-UF'!$M$11:$M$109,'RE-UF'!$C$11:$C$109,'RE-UI'!B72)","v":0},{"$f":"SUMIFS('RE-UF'!$N$11:$N$109,'RE-UF'!$C$11:$C$109,B72)","v":0},0]
[63,{"$f":"UI!B73","v":"U63"},{"$f":"IF(UI!C73<>\"\",UI!C73,\"\")","v":""},{"$f":"IF(UI!D73<>\"\",UI!D73,\"\")","v":""},{"$f":"IF('TAB-UI'!E73<>\"\",'TAB-UI'!E73,\"\")","v":""},{"$f":"SUMIFS('RE-UF'!$D$11:$D$109,'RE-UF'!$C$11:$C$109,'RE-UI'!B73)","v":0},{"$f":"SUMIFS('RE-UF'!$E$11:$E$109,'RE-UF'!$C$11:$C$109,'RE-UI'!B73)","v":0},{"$f":"SUMIFS('RE-UF'!$F$11:$F$109,'RE-UF'!$C$11:$C$109,'RE-UI'!B73)","v":0},{"$f":"SUMIFS('RE-UF'!$G$11:$G$109,'RE-UF'!$C$11:$C$109,'RE-UI'!B73)","v":0},{"$f":"SUMIFS('RE-UF'!$H$11:$H$109,'RE-UF'!$C$11:$C$109,'RE-UI'!B73)","v":0},{"$f":"SUMIFS('RE-UF'!$I$11:$I$109,'RE-UF'!$C$11:$C$109,'RE-UI'!B73)","v":0},{"$f":"SUMIFS('RE-UF'!$J$11:$J$109,'RE-UF'!$C$11:$C$109,'RE-UI'!B73)","v":0},{"$f":"SUMIFS('RE-UF'!$K$11:$K$109,'RE-UF'!$C$11:$C$109,'RE-UI'!B73)","v":0},{"$f":"SUMIFS('RE-UF'!$L$11:$L$109,'RE-UF'!$C$11:$C$109,'RE-UI'!B73)","v":0},{"$f":"SUMIFS('RE-UF'!$M$11:$M$109,'RE-UF'!$C$11:$C$109,'RE-UI'!B73)","v":0},{"$f":"SUMIFS('RE-UF'!$N$11:$N$109,'RE-UF'!$C$11:$C$109,B73)","v":0},0]
[64,{"$f":"UI!B74","v":"U64"},{"$f":"IF(UI!C74<>\"\",UI!C74,\"\")","v":""},{"$f":"IF(UI!D74<>\"\",UI!D74,\"\")","v":""},{"$f":"IF('TAB-UI'!E74<>\"\",'TAB-UI'!E74,\"\")","v":""},{"$f":"SUMIFS('RE-UF'!$D$11:$D$109,'RE-UF'!$C$11:$C$109,'RE-UI'!B74)","v":0},{"$f":"SUMIFS('RE-UF'!$E$11:$E$109,'RE-UF'!$C$11:$C$109,'RE-UI'!B74)","v":0},{"$f":"SUMIFS('RE-UF'!$F$11:$F$109,'RE-UF'!$C$11:$C$109,'RE-UI'!B74)","v":0},{"$f":"SUMIFS('RE-UF'!$G$11:$G$109,'RE-UF'!$C$11:$C$109,'RE-UI'!B74)","v":0},{"$f":"SUMIFS('RE-UF'!$H$11:$H$109,'RE-UF'!$C$11:$C$109,'RE-UI'!B74)","v":0},{"$f":"SUMIFS('RE-UF'!$I$11:$I$109,'RE-UF'!$C$11:$C$109,'RE-UI'!B74)","v":0},{"$f":"SUMIFS('RE-UF'!$J$11:$J$109,'RE-UF'!$C$11:$C$109,'RE-UI'!B74)","v":0},{"$f":"SUMIFS('RE-UF'!$K$11:$K$109,'RE-UF'!$C$11:$C$109,'RE-UI'!B74)","v":0},{"$f":"SUMIFS('RE-UF'!$L$11:$L$109,'RE-UF'!$C$11:$C$109,'RE-UI'!B74)","v":0},{"$f":"SUMIFS('RE-UF'!$M$11:$M$109,'RE-UF'!$C$11:$C$109,'RE-UI'!B74)","v":0},{"$f":"SUMIFS('RE-UF'!$N$11:$N$109,'RE-UF'!$C$11:$C$109,B74)","v":0},0]
[65,{"$f":"UI!B75","v":"U65"},{"$f":"IF(UI!C75<>\"\",UI!C75,\"\")","v":""},{"$f":"IF(UI!D75<>\"\",UI!D75,\"\")","v":""},{"$f":"IF('TAB-UI'!E75<>\"\",'TAB-UI'!E75,\"\")","v":""},{"$f":"SUMIFS('RE-UF'!$D$11:$D$109,'RE-UF'!$C$11:$C$109,'RE-UI'!B75)","v":0},{"$f":"SUMIFS('RE-UF'!$E$11:$E$109,'RE-UF'!$C$11:$C$109,'RE-UI'!B75)","v":0},{"$f":"SUMIFS('RE-UF'!$F$11:$F$109,'RE-UF'!$C$11:$C$109,'RE-UI'!B75)","v":0},{"$f":"SUMIFS('RE-UF'!$G$11:$G$109,'RE-UF'!$C$11:$C$109,'RE-UI'!B75)","v":0},{"$f":"SUMIFS('RE-UF'!$H$11:$H$109,'RE-UF'!$C$11:$C$109,'RE-UI'!B75)","v":0},{"$f":"SUMIFS('RE-UF'!$I$11:$I$109,'RE-UF'!$C$11:$C$109,'RE-UI'!B75)","v":0},{"$f":"SUMIFS('RE-UF'!$J$11:$J$109,'RE-UF'!$C$11:$C$109,'RE-UI'!B75)","v":0},{"$f":"SUMIFS('RE-UF'!$K$11:$K$109,'RE-UF'!$C$11:$C$109,'RE-UI'!B75)","v":0},{"$f":"SUMIFS('RE-UF'!$L$11:$L$109,'RE-UF'!$C$11:$C$109,'RE-UI'!B75)","v":0},{"$f":"SUMIFS('RE-UF'!$M$11:$M$109,'RE-UF'!$C$11:$C$109,'RE-UI'!B75)","v":0},{"$f":"SUMIFS('RE-UF'!$N$11:$N$109,'RE-UF'!$C$11:$C$109,B75)","v":0},0]
[66,{"$f":"UI!B76","v":"U66"},{"$f":"IF(UI!C76<>\"\",UI!C76,\"\")","v":""},{"$f":"IF(UI!D76<>\"\",UI!D76,\"\")","v":""},{"$f":"IF('TAB-UI'!E76<>\"\",'TAB-UI'!E76,\"\")","v":""},{"$f":"SUMIFS('RE-UF'!$D$11:$D$109,'RE-UF'!$C$11:$C$109,'RE-UI'!B76)","v":0},{"$f":"SUMIFS('RE-UF'!$E$11:$E$109,'RE-UF'!$C$11:$C$109,'RE-UI'!B76)","v":0},{"$f":"SUMIFS('RE-UF'!$F$11:$F$109,'RE-UF'!$C$11:$C$109,'RE-UI'!B76)","v":0},{"$f":"SUMIFS('RE-UF'!$G$11:$G$109,'RE-UF'!$C$11:$C$109,'RE-UI'!B76)","v":0},{"$f":"SUMIFS('RE-UF'!$H$11:$H$109,'RE-UF'!$C$11:$C$109,'RE-UI'!B76)","v":0},{"$f":"SUMIFS('RE-UF'!$I$11:$I$109,'RE-UF'!$C$11:$C$109,'RE-UI'!B76)","v":0},{"$f":"SUMIFS('RE-UF'!$J$11:$J$109,'RE-UF'!$C$11:$C$109,'RE-UI'!B76)","v":0},{"$f":"SUMIFS('RE-UF'!$K$11:$K$109,'RE-UF'!$C$11:$C$109,'RE-UI'!B76)","v":0},{"$f":"SUMIFS('RE-UF'!$L$11:$L$109,'RE-UF'!$C$11:$C$109,'RE-UI'!B76)","v":0},{"$f":"SUMIFS('RE-UF'!$M$11:$M$109,'RE-UF'!$C$11:$C$109,'RE-UI'!B76)","v":0},{"$f":"SUMIFS('RE-UF'!$N$11:$N$109,'RE-UF'!$C$11:$C$109,B76)","v":0},{"$f":"SUM(F76:P76)","v":0}]
[67,{"$f":"UI!B77","v":"U67"},{"$f":"IF(UI!C77<>\"\",UI!C77,\"\")","v":""},{"$f":"IF(UI!D77<>\"\",UI!D77,\"\")","v":""},{"$f":"IF('TAB-UI'!E77<>\"\",'TAB-UI'!E77,\"\")","v":""},{"$f":"SUMIFS('RE-UF'!$D$11:$D$109,'RE-UF'!$C$11:$C$109,'RE-UI'!B77)","v":0},{"$f":"SUMIFS('RE-UF'!$E$11:$E$109,'RE-UF'!$C$11:$C$109,'RE-UI'!B77)","v":0},{"$f":"SUMIFS('RE-UF'!$F$11:$F$109,'RE-UF'!$C$11:$C$109,'RE-UI'!B77)","v":0},{"$f":"SUMIFS('RE-UF'!$G$11:$G$109,'RE-UF'!$C$11:$C$109,'RE-UI'!B77)","v":0},{"$f":"SUMIFS('RE-UF'!$H$11:$H$109,'RE-UF'!$C$11:$C$109,'RE-UI'!B77)","v":0},{"$f":"SUMIFS('RE-UF'!$I$11:$I$109,'RE-UF'!$C$11:$C$109,'RE-UI'!B77)","v":0},{"$f":"SUMIFS('RE-UF'!$J$11:$J$109,'RE-UF'!$C$11:$C$109,'RE-UI'!B77)","v":0},{"$f":"SUMIFS('RE-UF'!$K$11:$K$109,'RE-UF'!$C$11:$C$109,'RE-UI'!B77)","v":0},{"$f":"SUMIFS('RE-UF'!$L$11:$L$109,'RE-UF'!$C$11:$C$109,'RE-UI'!B77)","v":0},{"$f":"SUMIFS('RE-UF'!$M$11:$M$109,'RE-UF'!$C$11:$C$109,'RE-UI'!B77)","v":0},{"$f":"SUMIFS('RE-UF'!$N$11:$N$109,'RE-UF'!$C$11:$C$109,B77)","v":0},0]
[68,{"$f":"UI!B78","v":"U68"},{"$f":"IF(UI!C78<>\"\",UI!C78,\"\")","v":""},{"$f":"IF(UI!D78<>\"\",UI!D78,\"\")","v":""},{"$f":"IF('TAB-UI'!E78<>\"\",'TAB-UI'!E78,\"\")","v":""},{"$f":"SUMIFS('RE-UF'!$D$11:$D$109,'RE-UF'!$C$11:$C$109,'RE-UI'!B78)","v":0},{"$f":"SUMIFS('RE-UF'!$E$11:$E$109,'RE-UF'!$C$11:$C$109,'RE-UI'!B78)","v":0},{"$f":"SUMIFS('RE-UF'!$F$11:$F$109,'RE-UF'!$C$11:$C$109,'RE-UI'!B78)","v":0},{"$f":"SUMIFS('RE-UF'!$G$11:$G$109,'RE-UF'!$C$11:$C$109,'RE-UI'!B78)","v":0},{"$f":"SUMIFS('RE-UF'!$H$11:$H$109,'RE-UF'!$C$11:$C$109,'RE-UI'!B78)","v":0},{"$f":"SUMIFS('RE-UF'!$I$11:$I$109,'RE-UF'!$C$11:$C$109,'RE-UI'!B78)","v":0},{"$f":"SUMIFS('RE-UF'!$J$11:$J$109,'RE-UF'!$C$11:$C$109,'RE-UI'!B78)","v":0},{"$f":"SUMIFS('RE-UF'!$K$11:$K$109,'RE-UF'!$C$11:$C$109,'RE-UI'!B78)","v":0},{"$f":"SUMIFS('RE-UF'!$L$11:$L$109,'RE-UF'!$C$11:$C$109,'RE-UI'!B78)","v":0},{"$f":"SUMIFS('RE-UF'!$M$11:$M$109,'RE-UF'!$C$11:$C$109,'RE-UI'!B78)","v":0},{"$f":"SUMIFS('RE-UF'!$N$11:$N$109,'RE-UF'!$C$11:$C$109,B78)","v":0},0]
[69,{"$f":"UI!B79","v":"U69"},{"$f":"IF(UI!C79<>\"\",UI!C79,\"\")","v":""},{"$f":"IF(UI!D79<>\"\",UI!D79,\"\")","v":""},{"$f":"IF('TAB-UI'!E79<>\"\",'TAB-UI'!E79,\"\")","v":""},{"$f":"SUMIFS('RE-UF'!$D$11:$D$109,'RE-UF'!$C$11:$C$109,'RE-UI'!B79)","v":0},{"$f":"SUMIFS('RE-UF'!$E$11:$E$109,'RE-UF'!$C$11:$C$109,'RE-UI'!B79)","v":0},{"$f":"SUMIFS('RE-UF'!$F$11:$F$109,'RE-UF'!$C$11:$C$109,'RE-UI'!B79)","v":0},{"$f":"SUMIFS('RE-UF'!$G$11:$G$109,'RE-UF'!$C$11:$C$109,'RE-UI'!B79)","v":0},{"$f":"SUMIFS('RE-UF'!$H$11:$H$109,'RE-UF'!$C$11:$C$109,'RE-UI'!B79)","v":0},{"$f":"SUMIFS('RE-UF'!$I$11:$I$109,'RE-UF'!$C$11:$C$109,'RE-UI'!B79)","v":0},{"$f":"SUMIFS('RE-UF'!$J$11:$J$109,'RE-UF'!$C$11:$C$109,'RE-UI'!B79)","v":0},{"$f":"SUMIFS('RE-UF'!$K$11:$K$109,'RE-UF'!$C$11:$C$109,'RE-UI'!B79)","v":0},{"$f":"SUMIFS('RE-UF'!$L$11:$L$109,'RE-UF'!$C$11:$C$109,'RE-UI'!B79)","v":0},{"$f":"SUMIFS('RE-UF'!$M$11:$M$109,'RE-UF'!$C$11:$C$109,'RE-UI'!B79)","v":0},{"$f":"SUMIFS('RE-UF'!$N$11:$N$109,'RE-UF'!$C$11:$C$109,B79)","v":0},0]
[70,{"$f":"UI!B80","v":"U70"},{"$f":"IF(UI!C80<>\"\",UI!C80,\"\")","v":""},{"$f":"IF(UI!D80<>\"\",UI!D80,\"\")","v":""},{"$f":"IF('TAB-UI'!E80<>\"\",'TAB-UI'!E80,\"\")","v":""},{"$f":"SUMIFS('RE-UF'!$D$11:$D$109,'RE-UF'!$C$11:$C$109,'RE-UI'!B80)","v":0},{"$f":"SUMIFS('RE-UF'!$E$11:$E$109,'RE-UF'!$C$11:$C$109,'RE-UI'!B80)","v":0},{"$f":"SUMIFS('RE-UF'!$F$11:$F$109,'RE-UF'!$C$11:$C$109,'RE-UI'!B80)","v":0},{"$f":"SUMIFS('RE-UF'!$G$11:$G$109,'RE-UF'!$C$11:$C$109,'RE-UI'!B80)","v":0},{"$f":"SUMIFS('RE-UF'!$H$11:$H$109,'RE-UF'!$C$11:$C$109,'RE-UI'!B80)","v":0},{"$f":"SUMIFS('RE-UF'!$I$11:$I$109,'RE-UF'!$C$11:$C$109,'RE-UI'!B80)","v":0},{"$f":"SUMIFS('RE-UF'!$J$11:$J$109,'RE-UF'!$C$11:$C$109,'RE-UI'!B80)","v":0},{"$f":"SUMIFS('RE-UF'!$K$11:$K$109,'RE-UF'!$C$11:$C$109,'RE-UI'!B80)","v":0},{"$f":"SUMIFS('RE-UF'!$L$11:$L$109,'RE-UF'!$C$11:$C$109,'RE-UI'!B80)","v":0},{"$f":"SUMIFS('RE-UF'!$M$11:$M$109,'RE-UF'!$C$11:$C$109,'RE-UI'!B80)","v":0},{"$f":"SUMIFS('RE-UF'!$N$11:$N$109,'RE-UF'!$C$11:$C$109,B80)","v":0},0]
[71,{"$f":"UI!B81","v":"U71"},{"$f":"IF(UI!C81<>\"\",UI!C81,\"\")","v":""},{"$f":"IF(UI!D81<>\"\",UI!D81,\"\")","v":""},{"$f":"IF('TAB-UI'!E81<>\"\",'TAB-UI'!E81,\"\")","v":""},{"$f":"SUMIFS('RE-UF'!$D$11:$D$109,'RE-UF'!$C$11:$C$109,'RE-UI'!B81)","v":0},{"$f":"SUMIFS('RE-UF'!$E$11:$E$109,'RE-UF'!$C$11:$C$109,'RE-UI'!B81)","v":0},{"$f":"SUMIFS('RE-UF'!$F$11:$F$109,'RE-UF'!$C$11:$C$109,'RE-UI'!B81)","v":0},{"$f":"SUMIFS('RE-UF'!$G$11:$G$109,'RE-UF'!$C$11:$C$109,'RE-UI'!B81)","v":0},{"$f":"SUMIFS('RE-UF'!$H$11:$H$109,'RE-UF'!$C$11:$C$109,'RE-UI'!B81)","v":0},{"$f":"SUMIFS('RE-UF'!$I$11:$I$109,'RE-UF'!$C$11:$C$109,'RE-UI'!B81)","v":0},{"$f":"SUMIFS('RE-UF'!$J$11:$J$109,'RE-UF'!$C$11:$C$109,'RE-UI'!B81)","v":0},{"$f":"SUMIFS('RE-UF'!$K$11:$K$109,'RE-UF'!$C$11:$C$109,'RE-UI'!B81)","v":0},{"$f":"SUMIFS('RE-UF'!$L$11:$L$109,'RE-UF'!$C$11:$C$109,'RE-UI'!B81)","v":0},{"$f":"SUMIFS('RE-UF'!$M$11:$M$109,'RE-UF'!$C$11:$C$109,'RE-UI'!B81)","v":0},{"$f":"SUMIFS('RE-UF'!$N$11:$N$109,'RE-UF'!$C$11:$C$109,B81)","v":0},0]
[72,{"$f":"UI!B82","v":"U72"},{"$f":"IF(UI!C82<>\"\",UI!C82,\"\")","v":""},{"$f":"IF(UI!D82<>\"\",UI!D82,\"\")","v":""},{"$f":"IF('TAB-UI'!E82<>\"\",'TAB-UI'!E82,\"\")","v":""},{"$f":"SUMIFS('RE-UF'!$D$11:$D$109,'RE-UF'!$C$11:$C$109,'RE-UI'!B82)","v":0},{"$f":"SUMIFS('RE-UF'!$E$11:$E$109,'RE-UF'!$C$11:$C$109,'RE-UI'!B82)","v":0},{"$f":"SUMIFS('RE-UF'!$F$11:$F$109,'RE-UF'!$C$11:$C$109,'RE-UI'!B82)","v":0},{"$f":"SUMIFS('RE-UF'!$G$11:$G$109,'RE-UF'!$C$11:$C$109,'RE-UI'!B82)","v":0},{"$f":"SUMIFS('RE-UF'!$H$11:$H$109,'RE-UF'!$C$11:$C$109,'RE-UI'!B82)","v":0},{"$f":"SUMIFS('RE-UF'!$I$11:$I$109,'RE-UF'!$C$11:$C$109,'RE-UI'!B82)","v":0},{"$f":"SUMIFS('RE-UF'!$J$11:$J$109,'RE-UF'!$C$11:$C$109,'RE-UI'!B82)","v":0},{"$f":"SUMIFS('RE-UF'!$K$11:$K$109,'RE-UF'!$C$11:$C$109,'RE-UI'!B82)","v":0},{"$f":"SUMIFS('RE-UF'!$L$11:$L$109,'RE-UF'!$C$11:$C$109,'RE-UI'!B82)","v":0},{"$f":"SUMIFS('RE-UF'!$M$11:$M$109,'RE-UF'!$C$11:$C$109,'RE-UI'!B82)","v":0},{"$f":"SUMIFS('RE-UF'!$N$11:$N$109,'RE-UF'!$C$11:$C$109,B82)","v":0},0]
[73,{"$f":"UI!B83","v":"U73"},{"$f":"IF(UI!C83<>\"\",UI!C83,\"\")","v":""},{"$f":"IF(UI!D83<>\"\",UI!D83,\"\")","v":""},{"$f":"IF('TAB-UI'!E83<>\"\",'TAB-UI'!E83,\"\")","v":""},{"$f":"SUMIFS('RE-UF'!$D$11:$D$109,'RE-UF'!$C$11:$C$109,'RE-UI'!B83)","v":0},{"$f":"SUMIFS('RE-UF'!$E$11:$E$109,'RE-UF'!$C$11:$C$109,'RE-UI'!B83)","v":0},{"$f":"SUMIFS('RE-UF'!$F$11:$F$109,'RE-UF'!$C$11:$C$109,'RE-UI'!B83)","v":0},{"$f":"SUMIFS('RE-UF'!$G$11:$G$109,'RE-UF'!$C$11:$C$109,'RE-UI'!B83)","v":0},{"$f":"SUMIFS('RE-UF'!$H$11:$H$109,'RE-UF'!$C$11:$C$109,'RE-UI'!B83)","v":0},{"$f":"SUMIFS('RE-UF'!$I$11:$I$109,'RE-UF'!$C$11:$C$109,'RE-UI'!B83)","v":0},{"$f":"SUMIFS('RE-UF'!$J$11:$J$109,'RE-UF'!$C$11:$C$109,'RE-UI'!B83)","v":0},{"$f":"SUMIFS('RE-UF'!$K$11:$K$109,'RE-UF'!$C$11:$C$109,'RE-UI'!B83)","v":0},{"$f":"SUMIFS('RE-UF'!$L$11:$L$109,'RE-UF'!$C$11:$C$109,'RE-UI'!B83)","v":0},{"$f":"SUMIFS('RE-UF'!$M$11:$M$109,'RE-UF'!$C$11:$C$109,'RE-UI'!B83)","v":0},{"$f":"SUMIFS('RE-UF'!$N$11:$N$109,'RE-UF'!$C$11:$C$109,B83)","v":0},0]
[74,{"$f":"UI!B84","v":"U74"},{"$f":"IF(UI!C84<>\"\",UI!C84,\"\")","v":""},{"$f":"IF(UI!D84<>\"\",UI!D84,\"\")","v":""},{"$f":"IF('TAB-UI'!E84<>\"\",'TAB-UI'!E84,\"\")","v":""},{"$f":"SUMIFS('RE-UF'!$D$11:$D$109,'RE-UF'!$C$11:$C$109,'RE-UI'!B84)","v":0},{"$f":"SUMIFS('RE-UF'!$E$11:$E$109,'RE-UF'!$C$11:$C$109,'RE-UI'!B84)","v":0},{"$f":"SUMIFS('RE-UF'!$F$11:$F$109,'RE-UF'!$C$11:$C$109,'RE-UI'!B84)","v":0},{"$f":"SUMIFS('RE-UF'!$G$11:$G$109,'RE-UF'!$C$11:$C$109,'RE-UI'!B84)","v":0},{"$f":"SUMIFS('RE-UF'!$H$11:$H$109,'RE-UF'!$C$11:$C$109,'RE-UI'!B84)","v":0},{"$f":"SUMIFS('RE-UF'!$I$11:$I$109,'RE-UF'!$C$11:$C$109,'RE-UI'!B84)","v":0},{"$f":"SUMIFS('RE-UF'!$J$11:$J$109,'RE-UF'!$C$11:$C$109,'RE-UI'!B84)","v":0},{"$f":"SUMIFS('RE-UF'!$K$11:$K$109,'RE-UF'!$C$11:$C$109,'RE-UI'!B84)","v":0},{"$f":"SUMIFS('RE-UF'!$L$11:$L$109,'RE-UF'!$C$11:$C$109,'RE-UI'!B84)","v":0},{"$f":"SUMIFS('RE-UF'!$M$11:$M$109,'RE-UF'!$C$11:$C$109,'RE-UI'!B84)","v":0},{"$f":"SUMIFS('RE-UF'!$N$11:$N$109,'RE-UF'!$C$11:$C$109,B84)","v":0},0]
[75,{"$f":"UI!B85","v":"U75"},{"$f":"IF(UI!C85<>\"\",UI!C85,\"\")","v":""},{"$f":"IF(UI!D85<>\"\",UI!D85,\"\")","v":""},{"$f":"IF('TAB-UI'!E85<>\"\",'TAB-UI'!E85,\"\")","v":""},{"$f":"SUMIFS('RE-UF'!$D$11:$D$109,'RE-UF'!$C$11:$C$109,'RE-UI'!B85)","v":0},{"$f":"SUMIFS('RE-UF'!$E$11:$E$109,'RE-UF'!$C$11:$C$109,'RE-UI'!B85)","v":0},{"$f":"SUMIFS('RE-UF'!$F$11:$F$109,'RE-UF'!$C$11:$C$109,'RE-UI'!B85)","v":0},{"$f":"SUMIFS('RE-UF'!$G$11:$G$109,'RE-UF'!$C$11:$C$109,'RE-UI'!B85)","v":0},{"$f":"SUMIFS('RE-UF'!$H$11:$H$109,'RE-UF'!$C$11:$C$109,'RE-UI'!B85)","v":0},{"$f":"SUMIFS('RE-UF'!$I$11:$I$109,'RE-UF'!$C$11:$C$109,'RE-UI'!B85)","v":0},{"$f":"SUMIFS('RE-UF'!$J$11:$J$109,'RE-UF'!$C$11:$C$109,'RE-UI'!B85)","v":0},{"$f":"SUMIFS('RE-UF'!$K$11:$K$109,'RE-UF'!$C$11:$C$109,'RE-UI'!B85)","v":0},{"$f":"SUMIFS('RE-UF'!$L$11:$L$109,'RE-UF'!$C$11:$C$109,'RE-UI'!B85)","v":0},{"$f":"SUMIFS('RE-UF'!$M$11:$M$109,'RE-UF'!$C$11:$C$109,'RE-UI'!B85)","v":0},{"$f":"SUMIFS('RE-UF'!$N$11:$N$109,'RE-UF'!$C$11:$C$109,B85)","v":0},0]
[76,{"$f":"UI!B86","v":"U76"},{"$f":"IF(UI!C86<>\"\",UI!C86,\"\")","v":""},{"$f":"IF(UI!D86<>\"\",UI!D86,\"\")","v":""},{"$f":"IF('TAB-UI'!E86<>\"\",'TAB-UI'!E86,\"\")","v":""},{"$f":"SUMIFS('RE-UF'!$D$11:$D$109,'RE-UF'!$C$11:$C$109,'RE-UI'!B86)","v":0},{"$f":"SUMIFS('RE-UF'!$E$11:$E$109,'RE-UF'!$C$11:$C$109,'RE-UI'!B86)","v":0},{"$f":"SUMIFS('RE-UF'!$F$11:$F$109,'RE-UF'!$C$11:$C$109,'RE-UI'!B86)","v":0},{"$f":"SUMIFS('RE-UF'!$G$11:$G$109,'RE-UF'!$C$11:$C$109,'RE-UI'!B86)","v":0},{"$f":"SUMIFS('RE-UF'!$H$11:$H$109,'RE-UF'!$C$11:$C$109,'RE-UI'!B86)","v":0},{"$f":"SUMIFS('RE-UF'!$I$11:$I$109,'RE-UF'!$C$11:$C$109,'RE-UI'!B86)","v":0},{"$f":"SUMIFS('RE-UF'!$J$11:$J$109,'RE-UF'!$C$11:$C$109,'RE-UI'!B86)","v":0},{"$f":"SUMIFS('RE-UF'!$K$11:$K$109,'RE-UF'!$C$11:$C$109,'RE-UI'!B86)","v":0},{"$f":"SUMIFS('RE-UF'!$L$11:$L$109,'RE-UF'!$C$11:$C$109,'RE-UI'!B86)","v":0},{"$f":"SUMIFS('RE-UF'!$M$11:$M$109,'RE-UF'!$C$11:$C$109,'RE-UI'!B86)","v":0},{"$f":"SUMIFS('RE-UF'!$N$11:$N$109,'RE-UF'!$C$11:$C$109,B86)","v":0},0]
[77,{"$f":"UI!B87","v":"U77"},{"$f":"IF(UI!C87<>\"\",UI!C87,\"\")","v":""},{"$f":"IF(UI!D87<>\"\",UI!D87,\"\")","v":""},{"$f":"IF('TAB-UI'!E87<>\"\",'TAB-UI'!E87,\"\")","v":""},{"$f":"SUMIFS('RE-UF'!$D$11:$D$109,'RE-UF'!$C$11:$C$109,'RE-UI'!B87)","v":0},{"$f":"SUMIFS('RE-UF'!$E$11:$E$109,'RE-UF'!$C$11:$C$109,'RE-UI'!B87)","v":0},{"$f":"SUMIFS('RE-UF'!$F$11:$F$109,'RE-UF'!$C$11:$C$109,'RE-UI'!B87)","v":0},{"$f":"SUMIFS('RE-UF'!$G$11:$G$109,'RE-UF'!$C$11:$C$109,'RE-UI'!B87)","v":0},{"$f":"SUMIFS('RE-UF'!$H$11:$H$109,'RE-UF'!$C$11:$C$109,'RE-UI'!B87)","v":0},{"$f":"SUMIFS('RE-UF'!$I$11:$I$109,'RE-UF'!$C$11:$C$109,'RE-UI'!B87)","v":0},{"$f":"SUMIFS('RE-UF'!$J$11:$J$109,'RE-UF'!$C$11:$C$109,'RE-UI'!B87)","v":0},{"$f":"SUMIFS('RE-UF'!$K$11:$K$109,'RE-UF'!$C$11:$C$109,'RE-UI'!B87)","v":0},{"$f":"SUMIFS('RE-UF'!$L$11:$L$109,'RE-UF'!$C$11:$C$109,'RE-UI'!B87)","v":0},{"$f":"SUMIFS('RE-UF'!$M$11:$M$109,'RE-UF'!$C$11:$C$109,'RE-UI'!B87)","v":0},{"$f":"SUMIFS('RE-UF'!$N$11:$N$109,'RE-UF'!$C$11:$C$109,B87)","v":0},0]
[78,{"$f":"UI!B88","v":"U78"},{"$f":"IF(UI!C88<>\"\",UI!C88,\"\")","v":""},{"$f":"IF(UI!D88<>\"\",UI!D88,\"\")","v":""},{"$f":"IF('TAB-UI'!E88<>\"\",'TAB-UI'!E88,\"\")","v":""},{"$f":"SUMIFS('RE-UF'!$D$11:$D$109,'RE-UF'!$C$11:$C$109,'RE-UI'!B88)","v":0},{"$f":"SUMIFS('RE-UF'!$E$11:$E$109,'RE-UF'!$C$11:$C$109,'RE-UI'!B88)","v":0},{"$f":"SUMIFS('RE-UF'!$F$11:$F$109,'RE-UF'!$C$11:$C$109,'RE-UI'!B88)","v":0},{"$f":"SUMIFS('RE-UF'!$G$11:$G$109,'RE-UF'!$C$11:$C$109,'RE-UI'!B88)","v":0},{"$f":"SUMIFS('RE-UF'!$H$11:$H$109,'RE-UF'!$C$11:$C$109,'RE-UI'!B88)","v":0},{"$f":"SUMIFS('RE-UF'!$I$11:$I$109,'RE-UF'!$C$11:$C$109,'RE-UI'!B88)","v":0},{"$f":"SUMIFS('RE-UF'!$J$11:$J$109,'RE-UF'!$C$11:$C$109,'RE-UI'!B88)","v":0},{"$f":"SUMIFS('RE-UF'!$K$11:$K$109,'RE-UF'!$C$11:$C$109,'RE-UI'!B88)","v":0},{"$f":"SUMIFS('RE-UF'!$L$11:$L$109,'RE-UF'!$C$11:$C$109,'RE-UI'!B88)","v":0},{"$f":"SUMIFS('RE-UF'!$M$11:$M$109,'RE-UF'!$C$11:$C$109,'RE-UI'!B88)","v":0},{"$f":"SUMIFS('RE-UF'!$N$11:$N$109,'RE-UF'!$C$11:$C$109,B88)","v":0},0]
[79,{"$f":"UI!B89","v":"U79"},{"$f":"IF(UI!C89<>\"\",UI!C89,\"\")","v":""},{"$f":"IF(UI!D89<>\"\",UI!D89,\"\")","v":""},{"$f":"IF('TAB-UI'!E89<>\"\",'TAB-UI'!E89,\"\")","v":""},{"$f":"SUMIFS('RE-UF'!$D$11:$D$109,'RE-UF'!$C$11:$C$109,'RE-UI'!B89)","v":0},{"$f":"SUMIFS('RE-UF'!$E$11:$E$109,'RE-UF'!$C$11:$C$109,'RE-UI'!B89)","v":0},{"$f":"SUMIFS('RE-UF'!$F$11:$F$109,'RE-UF'!$C$11:$C$109,'RE-UI'!B89)","v":0},{"$f":"SUMIFS('RE-UF'!$G$11:$G$109,'RE-UF'!$C$11:$C$109,'RE-UI'!B89)","v":0},{"$f":"SUMIFS('RE-UF'!$H$11:$H$109,'RE-UF'!$C$11:$C$109,'RE-UI'!B89)","v":0},{"$f":"SUMIFS('RE-UF'!$I$11:$I$109,'RE-UF'!$C$11:$C$109,'RE-UI'!B89)","v":0},{"$f":"SUMIFS('RE-UF'!$J$11:$J$109,'RE-UF'!$C$11:$C$109,'RE-UI'!B89)","v":0},{"$f":"SUMIFS('RE-UF'!$K$11:$K$109,'RE-UF'!$C$11:$C$109,'RE-UI'!B89)","v":0},{"$f":"SUMIFS('RE-UF'!$L$11:$L$109,'RE-UF'!$C$11:$C$109,'RE-UI'!B89)","v":0},{"$f":"SUMIFS('RE-UF'!$M$11:$M$109,'RE-UF'!$C$11:$C$109,'RE-UI'!B89)","v":0},{"$f":"SUMIFS('RE-UF'!$N$11:$N$109,'RE-UF'!$C$11:$C$109,B89)","v":0},0]
[80,{"$f":"UI!B90","v":"U80"},{"$f":"IF(UI!C90<>\"\",UI!C90,\"\")","v":""},{"$f":"IF(UI!D90<>\"\",UI!D90,\"\")","v":""},{"$f":"IF('TAB-UI'!E90<>\"\",'TAB-UI'!E90,\"\")","v":""},{"$f":"SUMIFS('RE-UF'!$D$11:$D$109,'RE-UF'!$C$11:$C$109,'RE-UI'!B90)","v":0},{"$f":"SUMIFS('RE-UF'!$E$11:$E$109,'RE-UF'!$C$11:$C$109,'RE-UI'!B90)","v":0},{"$f":"SUMIFS('RE-UF'!$F$11:$F$109,'RE-UF'!$C$11:$C$109,'RE-UI'!B90)","v":0},{"$f":"SUMIFS('RE-UF'!$G$11:$G$109,'RE-UF'!$C$11:$C$109,'RE-UI'!B90)","v":0},{"$f":"SUMIFS('RE-UF'!$H$11:$H$109,'RE-UF'!$C$11:$C$109,'RE-UI'!B90)","v":0},{"$f":"SUMIFS('RE-UF'!$I$11:$I$109,'RE-UF'!$C$11:$C$109,'RE-UI'!B90)","v":0},{"$f":"SUMIFS('RE-UF'!$J$11:$J$109,'RE-UF'!$C$11:$C$109,'RE-UI'!B90)","v":0},{"$f":"SUMIFS('RE-UF'!$K$11:$K$109,'RE-UF'!$C$11:$C$109,'RE-UI'!B90)","v":0},{"$f":"SUMIFS('RE-UF'!$L$11:$L$109,'RE-UF'!$C$11:$C$109,'RE-UI'!B90)","v":0},{"$f":"SUMIFS('RE-UF'!$M$11:$M$109,'RE-UF'!$C$11:$C$109,'RE-UI'!B90)","v":0},{"$f":"SUMIFS('RE-UF'!$N$11:$N$109,'RE-UF'!$C$11:$C$109,B90)","v":0},0]
[81,{"$f":"UI!B91","v":"U81"},{"$f":"IF(UI!C91<>\"\",UI!C91,\"\")","v":""},{"$f":"IF(UI!D91<>\"\",UI!D91,\"\")","v":""},{"$f":"IF('TAB-UI'!E91<>\"\",'TAB-UI'!E91,\"\")","v":""},{"$f":"SUMIFS('RE-UF'!$D$11:$D$109,'RE-UF'!$C$11:$C$109,'RE-UI'!B91)","v":0},{"$f":"SUMIFS('RE-UF'!$E$11:$E$109,'RE-UF'!$C$11:$C$109,'RE-UI'!B91)","v":0},{"$f":"SUMIFS('RE-UF'!$F$11:$F$109,'RE-UF'!$C$11:$C$109,'RE-UI'!B91)","v":0},{"$f":"SUMIFS('RE-UF'!$G$11:$G$109,'RE-UF'!$C$11:$C$109,'RE-UI'!B91)","v":0},{"$f":"SUMIFS('RE-UF'!$H$11:$H$109,'RE-UF'!$C$11:$C$109,'RE-UI'!B91)","v":0},{"$f":"SUMIFS('RE-UF'!$I$11:$I$109,'RE-UF'!$C$11:$C$109,'RE-UI'!B91)","v":0},{"$f":"SUMIFS('RE-UF'!$J$11:$J$109,'RE-UF'!$C$11:$C$109,'RE-UI'!B91)","v":0},{"$f":"SUMIFS('RE-UF'!$K$11:$K$109,'RE-UF'!$C$11:$C$109,'RE-UI'!B91)","v":0},{"$f":"SUMIFS('RE-UF'!$L$11:$L$109,'RE-UF'!$C$11:$C$109,'RE-UI'!B91)","v":0},{"$f":"SUMIFS('RE-UF'!$M$11:$M$109,'RE-UF'!$C$11:$C$109,'RE-UI'!B91)","v":0},{"$f":"SUMIFS('RE-UF'!$N$11:$N$109,'RE-UF'!$C$11:$C$109,B91)","v":0},0]
[82,{"$f":"UI!B92","v":"U82"},{"$f":"IF(UI!C92<>\"\",UI!C92,\"\")","v":""},{"$f":"IF(UI!D92<>\"\",UI!D92,\"\")","v":""},{"$f":"IF('TAB-UI'!E92<>\"\",'TAB-UI'!E92,\"\")","v":""},{"$f":"SUMIFS('RE-UF'!$D$11:$D$109,'RE-UF'!$C$11:$C$109,'RE-UI'!B92)","v":0},{"$f":"SUMIFS('RE-UF'!$E$11:$E$109,'RE-UF'!$C$11:$C$109,'RE-UI'!B92)","v":0},{"$f":"SUMIFS('RE-UF'!$F$11:$F$109,'RE-UF'!$C$11:$C$109,'RE-UI'!B92)","v":0},{"$f":"SUMIFS('RE-UF'!$G$11:$G$109,'RE-UF'!$C$11:$C$109,'RE-UI'!B92)","v":0},{"$f":"SUMIFS('RE-UF'!$H$11:$H$109,'RE-UF'!$C$11:$C$109,'RE-UI'!B92)","v":0},{"$f":"SUMIFS('RE-UF'!$I$11:$I$109,'RE-UF'!$C$11:$C$109,'RE-UI'!B92)","v":0},{"$f":"SUMIFS('RE-UF'!$J$11:$J$109,'RE-UF'!$C$11:$C$109,'RE-UI'!B92)","v":0},{"$f":"SUMIFS('RE-UF'!$K$11:$K$109,'RE-UF'!$C$11:$C$109,'RE-UI'!B92)","v":0},{"$f":"SUMIFS('RE-UF'!$L$11:$L$109,'RE-UF'!$C$11:$C$109,'RE-UI'!B92)","v":0},{"$f":"SUMIFS('RE-UF'!$M$11:$M$109,'RE-UF'!$C$11:$C$109,'RE-UI'!B92)","v":0},{"$f":"SUMIFS('RE-UF'!$N$11:$N$109,'RE-UF'!$C$11:$C$109,B92)","v":0},0]
[83,{"$f":"UI!B93","v":"U83"},{"$f":"IF(UI!C93<>\"\",UI!C93,\"\")","v":""},{"$f":"IF(UI!D93<>\"\",UI!D93,\"\")","v":""},{"$f":"IF('TAB-UI'!E93<>\"\",'TAB-UI'!E93,\"\")","v":""},{"$f":"SUMIFS('RE-UF'!$D$11:$D$109,'RE-UF'!$C$11:$C$109,'RE-UI'!B93)","v":0},{"$f":"SUMIFS('RE-UF'!$E$11:$E$109,'RE-UF'!$C$11:$C$109,'RE-UI'!B93)","v":0},{"$f":"SUMIFS('RE-UF'!$F$11:$F$109,'RE-UF'!$C$11:$C$109,'RE-UI'!B93)","v":0},{"$f":"SUMIFS('RE-UF'!$G$11:$G$109,'RE-UF'!$C$11:$C$109,'RE-UI'!B93)","v":0},{"$f":"SUMIFS('RE-UF'!$H$11:$H$109,'RE-UF'!$C$11:$C$109,'RE-UI'!B93)","v":0},{"$f":"SUMIFS('RE-UF'!$I$11:$I$109,'RE-UF'!$C$11:$C$109,'RE-UI'!B93)","v":0},{"$f":"SUMIFS('RE-UF'!$J$11:$J$109,'RE-UF'!$C$11:$C$109,'RE-UI'!B93)","v":0},{"$f":"SUMIFS('RE-UF'!$K$11:$K$109,'RE-UF'!$C$11:$C$109,'RE-UI'!B93)","v":0},{"$f":"SUMIFS('RE-UF'!$L$11:$L$109,'RE-UF'!$C$11:$C$109,'RE-UI'!B93)","v":0},{"$f":"SUMIFS('RE-UF'!$M$11:$M$109,'RE-UF'!$C$11:$C$109,'RE-UI'!B93)","v":0},{"$f":"SUMIFS('RE-UF'!$N$11:$N$109,'RE-UF'!$C$11:$C$109,B93)","v":0},0]
[84,{"$f":"UI!B94","v":"U84"},{"$f":"IF(UI!C94<>\"\",UI!C94,\"\")","v":""},{"$f":"IF(UI!D94<>\"\",UI!D94,\"\")","v":""},{"$f":"IF('TAB-UI'!E94<>\"\",'TAB-UI'!E94,\"\")","v":""},{"$f":"SUMIFS('RE-UF'!$D$11:$D$109,'RE-UF'!$C$11:$C$109,'RE-UI'!B94)","v":0},{"$f":"SUMIFS('RE-UF'!$E$11:$E$109,'RE-UF'!$C$11:$C$109,'RE-UI'!B94)","v":0},{"$f":"SUMIFS('RE-UF'!$F$11:$F$109,'RE-UF'!$C$11:$C$109,'RE-UI'!B94)","v":0},{"$f":"SUMIFS('RE-UF'!$G$11:$G$109,'RE-UF'!$C$11:$C$109,'RE-UI'!B94)","v":0},{"$f":"SUMIFS('RE-UF'!$H$11:$H$109,'RE-UF'!$C$11:$C$109,'RE-UI'!B94)","v":0},{"$f":"SUMIFS('RE-UF'!$I$11:$I$109,'RE-UF'!$C$11:$C$109,'RE-UI'!B94)","v":0},{"$f":"SUMIFS('RE-UF'!$J$11:$J$109,'RE-UF'!$C$11:$C$109,'RE-UI'!B94)","v":0},{"$f":"SUMIFS('RE-UF'!$K$11:$K$109,'RE-UF'!$C$11:$C$109,'RE-UI'!B94)","v":0},{"$f":"SUMIFS('RE-UF'!$L$11:$L$109,'RE-UF'!$C$11:$C$109,'RE-UI'!B94)","v":0},{"$f":"SUMIFS('RE-UF'!$M$11:$M$109,'RE-UF'!$C$11:$C$109,'RE-UI'!B94)","v":0},{"$f":"SUMIFS('RE-UF'!$N$11:$N$109,'RE-UF'!$C$11:$C$109,B94)","v":0},0]
[85,{"$f":"UI!B95","v":"U85"},{"$f":"IF(UI!C95<>\"\",UI!C95,\"\")","v":""},{"$f":"IF(UI!D95<>\"\",UI!D95,\"\")","v":""},{"$f":"IF('TAB-UI'!E95<>\"\",'TAB-UI'!E95,\"\")","v":""},{"$f":"SUMIFS('RE-UF'!$D$11:$D$109,'RE-UF'!$C$11:$C$109,'RE-UI'!B95)","v":0},{"$f":"SUMIFS('RE-UF'!$E$11:$E$109,'RE-UF'!$C$11:$C$109,'RE-UI'!B95)","v":0},{"$f":"SUMIFS('RE-UF'!$F$11:$F$109,'RE-UF'!$C$11:$C$109,'RE-UI'!B95)","v":0},{"$f":"SUMIFS('RE-UF'!$G$11:$G$109,'RE-UF'!$C$11:$C$109,'RE-UI'!B95)","v":0},{"$f":"SUMIFS('RE-UF'!$H$11:$H$109,'RE-UF'!$C$11:$C$109,'RE-UI'!B95)","v":0},{"$f":"SUMIFS('RE-UF'!$I$11:$I$109,'RE-UF'!$C$11:$C$109,'RE-UI'!B95)","v":0},{"$f":"SUMIFS('RE-UF'!$J$11:$J$109,'RE-UF'!$C$11:$C$109,'RE-UI'!B95)","v":0},{"$f":"SUMIFS('RE-UF'!$K$11:$K$109,'RE-UF'!$C$11:$C$109,'RE-UI'!B95)","v":0},{"$f":"SUMIFS('RE-UF'!$L$11:$L$109,'RE-UF'!$C$11:$C$109,'RE-UI'!B95)","v":0},{"$f":"SUMIFS('RE-UF'!$M$11:$M$109,'RE-UF'!$C$11:$C$109,'RE-UI'!B95)","v":0},{"$f":"SUMIFS('RE-UF'!$N$11:$N$109,'RE-UF'!$C$11:$C$109,B95)","v":0},0]
[86,{"$f":"UI!B96","v":"U86"},{"$f":"IF(UI!C96<>\"\",UI!C96,\"\")","v":""},{"$f":"IF(UI!D96<>\"\",UI!D96,\"\")","v":""},{"$f":"IF('TAB-UI'!E96<>\"\",'TAB-UI'!E96,\"\")","v":""},{"$f":"SUMIFS('RE-UF'!$D$11:$D$109,'RE-UF'!$C$11:$C$109,'RE-UI'!B96)","v":0},{"$f":"SUMIFS('RE-UF'!$E$11:$E$109,'RE-UF'!$C$11:$C$109,'RE-UI'!B96)","v":0},{"$f":"SUMIFS('RE-UF'!$F$11:$F$109,'RE-UF'!$C$11:$C$109,'RE-UI'!B96)","v":0},{"$f":"SUMIFS('RE-UF'!$G$11:$G$109,'RE-UF'!$C$11:$C$109,'RE-UI'!B96)","v":0},{"$f":"SUMIFS('RE-UF'!$H$11:$H$109,'RE-UF'!$C$11:$C$109,'RE-UI'!B96)","v":0},{"$f":"SUMIFS('RE-UF'!$I$11:$I$109,'RE-UF'!$C$11:$C$109,'RE-UI'!B96)","v":0},{"$f":"SUMIFS('RE-UF'!$J$11:$J$109,'RE-UF'!$C$11:$C$109,'RE-UI'!B96)","v":0},{"$f":"SUMIFS('RE-UF'!$K$11:$K$109,'RE-UF'!$C$11:$C$109,'RE-UI'!B96)","v":0},{"$f":"SUMIFS('RE-UF'!$L$11:$L$109,'RE-UF'!$C$11:$C$109,'RE-UI'!B96)","v":0},{"$f":"SUMIFS('RE-UF'!$M$11:$M$109,'RE-UF'!$C$11:$C$109,'RE-UI'!B96)","v":0},{"$f":"SUMIFS('RE-UF'!$N$11:$N$109,'RE-UF'!$C$11:$C$109,B96)","v":0},0]
[87,{"$f":"UI!B97","v":"U87"},{"$f":"IF(UI!C97<>\"\",UI!C97,\"\")","v":""},{"$f":"IF(UI!D97<>\"\",UI!D97,\"\")","v":""},{"$f":"IF('TAB-UI'!E97<>\"\",'TAB-UI'!E97,\"\")","v":""},{"$f":"SUMIFS('RE-UF'!$D$11:$D$109,'RE-UF'!$C$11:$C$109,'RE-UI'!B97)","v":0},{"$f":"SUMIFS('RE-UF'!$E$11:$E$109,'RE-UF'!$C$11:$C$109,'RE-UI'!B97)","v":0},{"$f":"SUMIFS('RE-UF'!$F$11:$F$109,'RE-UF'!$C$11:$C$109,'RE-UI'!B97)","v":0},{"$f":"SUMIFS('RE-UF'!$G$11:$G$109,'RE-UF'!$C$11:$C$109,'RE-UI'!B97)","v":0},{"$f":"SUMIFS('RE-UF'!$H$11:$H$109,'RE-UF'!$C$11:$C$109,'RE-UI'!B97)","v":0},{"$f":"SUMIFS('RE-UF'!$I$11:$I$109,'RE-UF'!$C$11:$C$109,'RE-UI'!B97)","v":0},{"$f":"SUMIFS('RE-UF'!$J$11:$J$109,'RE-UF'!$C$11:$C$109,'RE-UI'!B97)","v":0},{"$f":"SUMIFS('RE-UF'!$K$11:$K$109,'RE-UF'!$C$11:$C$109,'RE-UI'!B97)","v":0},{"$f":"SUMIFS('RE-UF'!$L$11:$L$109,'RE-UF'!$C$11:$C$109,'RE-UI'!B97)","v":0},{"$f":"SUMIFS('RE-UF'!$M$11:$M$109,'RE-UF'!$C$11:$C$109,'RE-UI'!B97)","v":0},{"$f":"SUMIFS('RE-UF'!$N$11:$N$109,'RE-UF'!$C$11:$C$109,B97)","v":0},0]
[88,{"$f":"UI!B98","v":"U88"},{"$f":"IF(UI!C98<>\"\",UI!C98,\"\")","v":""},{"$f":"IF(UI!D98<>\"\",UI!D98,\"\")","v":""},{"$f":"IF('TAB-UI'!E98<>\"\",'TAB-UI'!E98,\"\")","v":""},{"$f":"SUMIFS('RE-UF'!$D$11:$D$109,'RE-UF'!$C$11:$C$109,'RE-UI'!B98)","v":0},{"$f":"SUMIFS('RE-UF'!$E$11:$E$109,'RE-UF'!$C$11:$C$109,'RE-UI'!B98)","v":0},{"$f":"SUMIFS('RE-UF'!$F$11:$F$109,'RE-UF'!$C$11:$C$109,'RE-UI'!B98)","v":0},{"$f":"SUMIFS('RE-UF'!$G$11:$G$109,'RE-UF'!$C$11:$C$109,'RE-UI'!B98)","v":0},{"$f":"SUMIFS('RE-UF'!$H$11:$H$109,'RE-UF'!$C$11:$C$109,'RE-UI'!B98)","v":0},{"$f":"SUMIFS('RE-UF'!$I$11:$I$109,'RE-UF'!$C$11:$C$109,'RE-UI'!B98)","v":0},{"$f":"SUMIFS('RE-UF'!$J$11:$J$109,'RE-UF'!$C$11:$C$109,'RE-UI'!B98)","v":0},{"$f":"SUMIFS('RE-UF'!$K$11:$K$109,'RE-UF'!$C$11:$C$109,'RE-UI'!B98)","v":0},{"$f":"SUMIFS('RE-UF'!$L$11:$L$109,'RE-UF'!$C$11:$C$109,'RE-UI'!B98)","v":0},{"$f":"SUMIFS('RE-UF'!$M$11:$M$109,'RE-UF'!$C$11:$C$109,'RE-UI'!B98)","v":0},{"$f":"SUMIFS('RE-UF'!$N$11:$N$109,'RE-UF'!$C$11:$C$109,B98)","v":0},0]
[89,{"$f":"UI!B99","v":"U89"},{"$f":"IF(UI!C99<>\"\",UI!C99,\"\")","v":""},{"$f":"IF(UI!D99<>\"\",UI!D99,\"\")","v":""},{"$f":"IF('TAB-UI'!E99<>\"\",'TAB-UI'!E99,\"\")","v":""},{"$f":"SUMIFS('RE-UF'!$D$11:$D$109,'RE-UF'!$C$11:$C$109,'RE-UI'!B99)","v":0},{"$f":"SUMIFS('RE-UF'!$E$11:$E$109,'RE-UF'!$C$11:$C$109,'RE-UI'!B99)","v":0},{"$f":"SUMIFS('RE-UF'!$F$11:$F$109,'RE-UF'!$C$11:$C$109,'RE-UI'!B99)","v":0},{"$f":"SUMIFS('RE-UF'!$G$11:$G$109,'RE-UF'!$C$11:$C$109,'RE-UI'!B99)","v":0},{"$f":"SUMIFS('RE-UF'!$H$11:$H$109,'RE-UF'!$C$11:$C$109,'RE-UI'!B99)","v":0},{"$f":"SUMIFS('RE-UF'!$I$11:$I$109,'RE-UF'!$C$11:$C$109,'RE-UI'!B99)","v":0},{"$f":"SUMIFS('RE-UF'!$J$11:$J$109,'RE-UF'!$C$11:$C$109,'RE-UI'!B99)","v":0},{"$f":"SUMIFS('RE-UF'!$K$11:$K$109,'RE-UF'!$C$11:$C$109,'RE-UI'!B99)","v":0},{"$f":"SUMIFS('RE-UF'!$L$11:$L$109,'RE-UF'!$C$11:$C$109,'RE-UI'!B99)","v":0},{"$f":"SUMIFS('RE-UF'!$M$11:$M$109,'RE-UF'!$C$11:$C$109,'RE-UI'!B99)","v":0},{"$f":"SUMIFS('RE-UF'!$N$11:$N$109,'RE-UF'!$C$11:$C$109,B99)","v":0},0]
[90,{"$f":"UI!B100","v":"U90"},{"$f":"IF(UI!C100<>\"\",UI!C100,\"\")","v":""},{"$f":"IF(UI!D100<>\"\",UI!D100,\"\")","v":""},{"$f":"IF('TAB-UI'!E100<>\"\",'TAB-UI'!E100,\"\")","v":""},{"$f":"SUMIFS('RE-UF'!$D$11:$D$109,'RE-UF'!$C$11:$C$109,'RE-UI'!B100)","v":0},{"$f":"SUMIFS('RE-UF'!$E$11:$E$109,'RE-UF'!$C$11:$C$109,'RE-UI'!B100)","v":0},{"$f":"SUMIFS('RE-UF'!$F$11:$F$109,'RE-UF'!$C$11:$C$109,'RE-UI'!B100)","v":0},{"$f":"SUMIFS('RE-UF'!$G$11:$G$109,'RE-UF'!$C$11:$C$109,'RE-UI'!B100)","v":0},{"$f":"SUMIFS('RE-UF'!$H$11:$H$109,'RE-UF'!$C$11:$C$109,'RE-UI'!B100)","v":0},{"$f":"SUMIFS('RE-UF'!$I$11:$I$109,'RE-UF'!$C$11:$C$109,'RE-UI'!B100)","v":0},{"$f":"SUMIFS('RE-UF'!$J$11:$J$109,'RE-UF'!$C$11:$C$109,'RE-UI'!B100)","v":0},{"$f":"SUMIFS('RE-UF'!$K$11:$K$109,'RE-UF'!$C$11:$C$109,'RE-UI'!B100)","v":0},{"$f":"SUMIFS('RE-UF'!$L$11:$L$109,'RE-UF'!$C$11:$C$109,'RE-UI'!B100)","v":0},{"$f":"SUMIFS('RE-UF'!$M$11:$M$109,'RE-UF'!$C$11:$C$109,'RE-UI'!B100)","v":0},{"$f":"SUMIFS('RE-UF'!$N$11:$N$109,'RE-UF'!$C$11:$C$109,B100)","v":0},0]
[91,{"$f":"UI!B101","v":"U91"},{"$f":"IF(UI!C101<>\"\",UI!C101,\"\")","v":""},{"$f":"IF(UI!D101<>\"\",UI!D101,\"\")","v":""},{"$f":"IF('TAB-UI'!E101<>\"\",'TAB-UI'!E101,\"\")","v":""},{"$f":"SUMIFS('RE-UF'!$D$11:$D$109,'RE-UF'!$C$11:$C$109,'RE-UI'!B101)","v":0},{"$f":"SUMIFS('RE-UF'!$E$11:$E$109,'RE-UF'!$C$11:$C$109,'RE-UI'!B101)","v":0},{"$f":"SUMIFS('RE-UF'!$F$11:$F$109,'RE-UF'!$C$11:$C$109,'RE-UI'!B101)","v":0},{"$f":"SUMIFS('RE-UF'!$G$11:$G$109,'RE-UF'!$C$11:$C$109,'RE-UI'!B101)","v":0},{"$f":"SUMIFS('RE-UF'!$H$11:$H$109,'RE-UF'!$C$11:$C$109,'RE-UI'!B101)","v":0},{"$f":"SUMIFS('RE-UF'!$I$11:$I$109,'RE-UF'!$C$11:$C$109,'RE-UI'!B101)","v":0},{"$f":"SUMIFS('RE-UF'!$J$11:$J$109,'RE-UF'!$C$11:$C$109,'RE-UI'!B101)","v":0},{"$f":"SUMIFS('RE-UF'!$K$11:$K$109,'RE-UF'!$C$11:$C$109,'RE-UI'!B101)","v":0},{"$f":"SUMIFS('RE-UF'!$L$11:$L$109,'RE-UF'!$C$11:$C$109,'RE-UI'!B101)","v":0},{"$f":"SUMIFS('RE-UF'!$M$11:$M$109,'RE-UF'!$C$11:$C$109,'RE-UI'!B101)","v":0},{"$f":"SUMIFS('RE-UF'!$N$11:$N$109,'RE-UF'!$C$11:$C$109,B101)","v":0},0]
[92,{"$f":"UI!B102","v":"U92"},{"$f":"IF(UI!C102<>\"\",UI!C102,\"\")","v":""},{"$f":"IF(UI!D102<>\"\",UI!D102,\"\")","v":""},{"$f":"IF('TAB-UI'!E102<>\"\",'TAB-UI'!E102,\"\")","v":""},{"$f":"SUMIFS('RE-UF'!$D$11:$D$109,'RE-UF'!$C$11:$C$109,'RE-UI'!B102)","v":0},{"$f":"SUMIFS('RE-UF'!$E$11:$E$109,'RE-UF'!$C$11:$C$109,'RE-UI'!B102)","v":0},{"$f":"SUMIFS('RE-UF'!$F$11:$F$109,'RE-UF'!$C$11:$C$109,'RE-UI'!B102)","v":0},{"$f":"SUMIFS('RE-UF'!$G$11:$G$109,'RE-UF'!$C$11:$C$109,'RE-UI'!B102)","v":0},{"$f":"SUMIFS('RE-UF'!$H$11:$H$109,'RE-UF'!$C$11:$C$109,'RE-UI'!B102)","v":0},{"$f":"SUMIFS('RE-UF'!$I$11:$I$109,'RE-UF'!$C$11:$C$109,'RE-UI'!B102)","v":0},{"$f":"SUMIFS('RE-UF'!$J$11:$J$109,'RE-UF'!$C$11:$C$109,'RE-UI'!B102)","v":0},{"$f":"SUMIFS('RE-UF'!$K$11:$K$109,'RE-UF'!$C$11:$C$109,'RE-UI'!B102)","v":0},{"$f":"SUMIFS('RE-UF'!$L$11:$L$109,'RE-UF'!$C$11:$C$109,'RE-UI'!B102)","v":0},{"$f":"SUMIFS('RE-UF'!$M$11:$M$109,'RE-UF'!$C$11:$C$109,'RE-UI'!B102)","v":0},{"$f":"SUMIFS('RE-UF'!$N$11:$N$109,'RE-UF'!$C$11:$C$109,B102)","v":0},0]
[93,{"$f":"UI!B103","v":"U93"},{"$f":"IF(UI!C103<>\"\",UI!C103,\"\")","v":""},{"$f":"IF(UI!D103<>\"\",UI!D103,\"\")","v":""},{"$f":"IF('TAB-UI'!E103<>\"\",'TAB-UI'!E103,\"\")","v":""},{"$f":"SUMIFS('RE-UF'!$D$11:$D$109,'RE-UF'!$C$11:$C$109,'RE-UI'!B103)","v":0},{"$f":"SUMIFS('RE-UF'!$E$11:$E$109,'RE-UF'!$C$11:$C$109,'RE-UI'!B103)","v":0},{"$f":"SUMIFS('RE-UF'!$F$11:$F$109,'RE-UF'!$C$11:$C$109,'RE-UI'!B103)","v":0},{"$f":"SUMIFS('RE-UF'!$G$11:$G$109,'RE-UF'!$C$11:$C$109,'RE-UI'!B103)","v":0},{"$f":"SUMIFS('RE-UF'!$H$11:$H$109,'RE-UF'!$C$11:$C$109,'RE-UI'!B103)","v":0},{"$f":"SUMIFS('RE-UF'!$I$11:$I$109,'RE-UF'!$C$11:$C$109,'RE-UI'!B103)","v":0},{"$f":"SUMIFS('RE-UF'!$J$11:$J$109,'RE-UF'!$C$11:$C$109,'RE-UI'!B103)","v":0},{"$f":"SUMIFS('RE-UF'!$K$11:$K$109,'RE-UF'!$C$11:$C$109,'RE-UI'!B103)","v":0},{"$f":"SUMIFS('RE-UF'!$L$11:$L$109,'RE-UF'!$C$11:$C$109,'RE-UI'!B103)","v":0},{"$f":"SUMIFS('RE-UF'!$M$11:$M$109,'RE-UF'!$C$11:$C$109,'RE-UI'!B103)","v":0},{"$f":"SUMIFS('RE-UF'!$N$11:$N$109,'RE-UF'!$C$11:$C$109,B103)","v":0},0]
[94,{"$f":"UI!B104","v":"U94"},{"$f":"IF(UI!C104<>\"\",UI!C104,\"\")","v":""},{"$f":"IF(UI!D104<>\"\",UI!D104,\"\")","v":""},{"$f":"IF('TAB-UI'!E104<>\"\",'TAB-UI'!E104,\"\")","v":""},{"$f":"SUMIFS('RE-UF'!$D$11:$D$109,'RE-UF'!$C$11:$C$109,'RE-UI'!B104)","v":0},{"$f":"SUMIFS('RE-UF'!$E$11:$E$109,'RE-UF'!$C$11:$C$109,'RE-UI'!B104)","v":0},{"$f":"SUMIFS('RE-UF'!$F$11:$F$109,'RE-UF'!$C$11:$C$109,'RE-UI'!B104)","v":0},{"$f":"SUMIFS('RE-UF'!$G$11:$G$109,'RE-UF'!$C$11:$C$109,'RE-UI'!B104)","v":0},{"$f":"SUMIFS('RE-UF'!$H$11:$H$109,'RE-UF'!$C$11:$C$109,'RE-UI'!B104)","v":0},{"$f":"SUMIFS('RE-UF'!$I$11:$I$109,'RE-UF'!$C$11:$C$109,'RE-UI'!B104)","v":0},{"$f":"SUMIFS('RE-UF'!$J$11:$J$109,'RE-UF'!$C$11:$C$109,'RE-UI'!B104)","v":0},{"$f":"SUMIFS('RE-UF'!$K$11:$K$109,'RE-UF'!$C$11:$C$109,'RE-UI'!B104)","v":0},{"$f":"SUMIFS('RE-UF'!$L$11:$L$109,'RE-UF'!$C$11:$C$109,'RE-UI'!B104)","v":0},{"$f":"SUMIFS('RE-UF'!$M$11:$M$109,'RE-UF'!$C$11:$C$109,'RE-UI'!B104)","v":0},{"$f":"SUMIFS('RE-UF'!$N$11:$N$109,'RE-UF'!$C$11:$C$109,B104)","v":0},0]
[95,{"$f":"UI!B105","v":"U95"},{"$f":"IF(UI!C105<>\"\",UI!C105,\"\")","v":""},{"$f":"IF(UI!D105<>\"\",UI!D105,\"\")","v":""},{"$f":"IF('TAB-UI'!E105<>\"\",'TAB-UI'!E105,\"\")","v":""},{"$f":"SUMIFS('RE-UF'!$D$11:$D$109,'RE-UF'!$C$11:$C$109,'RE-UI'!B105)","v":0},{"$f":"SUMIFS('RE-UF'!$E$11:$E$109,'RE-UF'!$C$11:$C$109,'RE-UI'!B105)","v":0},{"$f":"SUMIFS('RE-UF'!$F$11:$F$109,'RE-UF'!$C$11:$C$109,'RE-UI'!B105)","v":0},{"$f":"SUMIFS('RE-UF'!$G$11:$G$109,'RE-UF'!$C$11:$C$109,'RE-UI'!B105)","v":0},{"$f":"SUMIFS('RE-UF'!$H$11:$H$109,'RE-UF'!$C$11:$C$109,'RE-UI'!B105)","v":0},{"$f":"SUMIFS('RE-UF'!$I$11:$I$109,'RE-UF'!$C$11:$C$109,'RE-UI'!B105)","v":0},{"$f":"SUMIFS('RE-UF'!$J$11:$J$109,'RE-UF'!$C$11:$C$109,'RE-UI'!B105)","v":0},{"$f":"SUMIFS('RE-UF'!$K$11:$K$109,'RE-UF'!$C$11:$C$109,'RE-UI'!B105)","v":0},{"$f":"SUMIFS('RE-UF'!$L$11:$L$109,'RE-UF'!$C$11:$C$109,'RE-UI'!B105)","v":0},{"$f":"SUMIFS('RE-UF'!$M$11:$M$109,'RE-UF'!$C$11:$C$109,'RE-UI'!B105)","v":0},{"$f":"SUMIFS('RE-UF'!$N$11:$N$109,'RE-UF'!$C$11:$C$109,B105)","v":0},0]
[96,{"$f":"UI!B106","v":"U96"},{"$f":"IF(UI!C106<>\"\",UI!C106,\"\")","v":""},{"$f":"IF(UI!D106<>\"\",UI!D106,\"\")","v":""},{"$f":"IF('TAB-UI'!E106<>\"\",'TAB-UI'!E106,\"\")","v":""},{"$f":"SUMIFS('RE-UF'!$D$11:$D$109,'RE-UF'!$C$11:$C$109,'RE-UI'!B106)","v":0},{"$f":"SUMIFS('RE-UF'!$E$11:$E$109,'RE-UF'!$C$11:$C$109,'RE-UI'!B106)","v":0},{"$f":"SUMIFS('RE-UF'!$F$11:$F$109,'RE-UF'!$C$11:$C$109,'RE-UI'!B106)","v":0},{"$f":"SUMIFS('RE-UF'!$G$11:$G$109,'RE-UF'!$C$11:$C$109,'RE-UI'!B106)","v":0},{"$f":"SUMIFS('RE-UF'!$H$11:$H$109,'RE-UF'!$C$11:$C$109,'RE-UI'!B106)","v":0},{"$f":"SUMIFS('RE-UF'!$I$11:$I$109,'RE-UF'!$C$11:$C$109,'RE-UI'!B106)","v":0},{"$f":"SUMIFS('RE-UF'!$J$11:$J$109,'RE-UF'!$C$11:$C$109,'RE-UI'!B106)","v":0},{"$f":"SUMIFS('RE-UF'!$K$11:$K$109,'RE-UF'!$C$11:$C$109,'RE-UI'!B106)","v":0},{"$f":"SUMIFS('RE-UF'!$L$11:$L$109,'RE-UF'!$C$11:$C$109,'RE-UI'!B106)","v":0},{"$f":"SUMIFS('RE-UF'!$M$11:$M$109,'RE-UF'!$C$11:$C$109,'RE-UI'!B106)","v":0},{"$f":"SUMIFS('RE-UF'!$N$11:$N$109,'RE-UF'!$C$11:$C$109,B106)","v":0},0]
[97,{"$f":"UI!B107","v":"U97"},{"$f":"IF(UI!C107<>\"\",UI!C107,\"\")","v":""},{"$f":"IF(UI!D107<>\"\",UI!D107,\"\")","v":""},{"$f":"IF('TAB-UI'!E107<>\"\",'TAB-UI'!E107,\"\")","v":""},{"$f":"SUMIFS('RE-UF'!$D$11:$D$109,'RE-UF'!$C$11:$C$109,'RE-UI'!B107)","v":0},{"$f":"SUMIFS('RE-UF'!$E$11:$E$109,'RE-UF'!$C$11:$C$109,'RE-UI'!B107)","v":0},{"$f":"SUMIFS('RE-UF'!$F$11:$F$109,'RE-UF'!$C$11:$C$109,'RE-UI'!B107)","v":0},{"$f":"SUMIFS('RE-UF'!$G$11:$G$109,'RE-UF'!$C$11:$C$109,'RE-UI'!B107)","v":0},{"$f":"SUMIFS('RE-UF'!$H$11:$H$109,'RE-UF'!$C$11:$C$109,'RE-UI'!B107)","v":0},{"$f":"SUMIFS('RE-UF'!$I$11:$I$109,'RE-UF'!$C$11:$C$109,'RE-UI'!B107)","v":0},{"$f":"SUMIFS('RE-UF'!$J$11:$J$109,'RE-UF'!$C$11:$C$109,'RE-UI'!B107)","v":0},{"$f":"SUMIFS('RE-UF'!$K$11:$K$109,'RE-UF'!$C$11:$C$109,'RE-UI'!B107)","v":0},{"$f":"SUMIFS('RE-UF'!$L$11:$L$109,'RE-UF'!$C$11:$C$109,'RE-UI'!B107)","v":0},{"$f":"SUMIFS('RE-UF'!$M$11:$M$109,'RE-UF'!$C$11:$C$109,'RE-UI'!B107)","v":0},{"$f":"SUMIFS('RE-UF'!$N$11:$N$109,'RE-UF'!$C$11:$C$109,B107)","v":0},0]
[98,{"$f":"UI!B108","v":"U98"},{"$f":"IF(UI!C108<>\"\",UI!C108,\"\")","v":""},{"$f":"IF(UI!D108<>\"\",UI!D108,\"\")","v":""},{"$f":"IF('TAB-UI'!E108<>\"\",'TAB-UI'!E108,\"\")","v":""},{"$f":"SUMIFS('RE-UF'!$D$11:$D$109,'RE-UF'!$C$11:$C$109,'RE-UI'!B108)","v":0},{"$f":"SUMIFS('RE-UF'!$E$11:$E$109,'RE-UF'!$C$11:$C$109,'RE-UI'!B108)","v":0},{"$f":"SUMIFS('RE-UF'!$F$11:$F$109,'RE-UF'!$C$11:$C$109,'RE-UI'!B108)","v":0},{"$f":"SUMIFS('RE-UF'!$G$11:$G$109,'RE-UF'!$C$11:$C$109,'RE-UI'!B108)","v":0},{"$f":"SUMIFS('RE-UF'!$H$11:$H$109,'RE-UF'!$C$11:$C$109,'RE-UI'!B108)","v":0},{"$f":"SUMIFS('RE-UF'!$I$11:$I$109,'RE-UF'!$C$11:$C$109,'RE-UI'!B108)","v":0},{"$f":"SUMIFS('RE-UF'!$J$11:$J$109,'RE-UF'!$C$11:$C$109,'RE-UI'!B108)","v":0},{"$f":"SUMIFS('RE-UF'!$K$11:$K$109,'RE-UF'!$C$11:$C$109,'RE-UI'!B108)","v":0},{"$f":"SUMIFS('RE-UF'!$L$11:$L$109,'RE-UF'!$C$11:$C$109,'RE-UI'!B108)","v":0},{"$f":"SUMIFS('RE-UF'!$M$11:$M$109,'RE-UF'!$C$11:$C$109,'RE-UI'!B108)","v":0},{"$f":"SUMIFS('RE-UF'!$N$11:$N$109,'RE-UF'!$C$11:$C$109,B108)","v":0},0]
[99,{"$f":"UI!B109","v":"U99"},{"$f":"IF(UI!C109<>\"\",UI!C109,\"\")","v":""},{"$f":"IF(UI!D109<>\"\",UI!D109,\"\")","v":""},{"$f":"IF('TAB-UI'!E109<>\"\",'TAB-UI'!E109,\"\")","v":""},{"$f":"SUMIFS('RE-UF'!$D$11:$D$109,'RE-UF'!$C$11:$C$109,'RE-UI'!B109)","v":0},{"$f":"SUMIFS('RE-UF'!$E$11:$E$109,'RE-UF'!$C$11:$C$109,'RE-UI'!B109)","v":0},{"$f":"SUMIFS('RE-UF'!$F$11:$F$109,'RE-UF'!$C$11:$C$109,'RE-UI'!B109)","v":0},{"$f":"SUMIFS('RE-UF'!$G$11:$G$109,'RE-UF'!$C$11:$C$109,'RE-UI'!B109)","v":0},{"$f":"SUMIFS('RE-UF'!$H$11:$H$109,'RE-UF'!$C$11:$C$109,'RE-UI'!B109)","v":0},{"$f":"SUMIFS('RE-UF'!$I$11:$I$109,'RE-UF'!$C$11:$C$109,'RE-UI'!B109)","v":0},{"$f":"SUMIFS('RE-UF'!$J$11:$J$109,'RE-UF'!$C$11:$C$109,'RE-UI'!B109)","v":0},{"$f":"SUMIFS('RE-UF'!$K$11:$K$109,'RE-UF'!$C$11:$C$109,'RE-UI'!B109)","v":0},{"$f":"SUMIFS('RE-UF'!$L$11:$L$109,'RE-UF'!$C$11:$C$109,'RE-UI'!B109)","v":0},{"$f":"SUMIFS('RE-UF'!$M$11:$M$109,'RE-UF'!$C$11:$C$109,'RE-UI'!B109)","v":0},{"$f":"SUMIFS('RE-UF'!$N$11:$N$109,'RE-UF'!$C$11:$C$109,B109)","v":0},0]
[null,null,null,null,"TOTALI",{"$f":"SUM(F11:F109)","v":3639.9999999999995},{"$f":"SUM(G11:G109)","v":1460},{"$f":"SUM(H11:H109)","v":2099.9999999999995},{"$f":"SUM(I11:I109)","v":0},0,0,0,0,0,0,20,{"$f":"SUM(Q11:Q109)","v":7220}]
[null,null,null,null,"controllo uscite",{"$f":"SUM(F110:P110)","v":7220}]

{"sheet":"RE-C","index":32,"n_rows":111,"n_cols":15,"rows_kept":111,"cut":false,"hidden":true,"merged":[[7,0,9,0],[7,1,9,1],[7,2,9,2],[7,14,9,14],[110,3,110,13]]}
[]
[]
[]
[]
[]
[]
[{"$f":"\"RIPARTO fra i CONDOMINI delle SPESE PREVENTIVATE da sostenere con il FONDO \"  & CHAR(10) & DATIG!A40  & CHAR(10) & \"Codice FONDO:  \" & DATIG!A37","v":"RIPARTO fra i CONDOMINI delle SPESE PREVENTIVATE da sostenere con il FONDO \nLavori messa in sicurezza fondazioni da infiltrazioni fognarie\nCodice FONDO:  LAVORO-01"}]
["n. condom.","CODICE CONDOMINO","CONDOMINO","SPESE","SPESE","SPESE","SPESE","SPESE","SPESE","SPESE","SPESE","SPESE","SPESE","SPESE","TOTALE DOVUTO"]
[null,null,null,{"$f":"\"Tab. \" & DATIG!$D$16","v":"Tab. A"},{"$f":"\"Tab. \" & DATIG!$D$17","v":"Tab. B"},{"$f":"\"Tab. \" & DATIG!$D$18","v":"Tab. C"},{"$f":"\"Tab. \" & DATIG!$D$19","v":"Tab. D"},{"$f":"\"Tab. \" & DATIG!$D$20","v":"Tab. E"},{"$f":"\"Tab. \" & DATIG!$D$21","v":"Tab. F"},{"$f":"\"Tab. \" & DATIG!$D$22","v":"Tab. G"},{"$f":"\"Tab. \" & DATIG!$D$23","v":"Tab. H"},{"$f":"\"Tab. \" & DATIG!$D$24","v":"Tab. I"},{"$f":"\"Tab. \" & DATIG!$D$25","v":"Tab. J"},"PERSON."]
[null,null,null,{"$f":"DATIG!$A$16","v":"GENERALE"},{"$f":"DATIG!$A$17","v":"Lato NORD"},{"$f":"DATIG!$A$18","v":"Lato SUD"},{"$f":"DATIG!$A$19","v":0},{"$f":"DATIG!$A$20","v":0},{"$f":"DATIG!$A$21","v":0},{"$f":"DATIG!$A$22","v":0},{"$f":"DATIG!$A$23","v":0},{"$f":"DATIG!$A$24","v":0},{"$f":"DATIG!$A$25","v":0}]
[1,{"$f":"'TAB-C'!B11","v":"C01"},{"$f":"'TAB-C'!D11","v":"CONDOMINO01"},{"$f":"SUMIFS('RE-UI'!$F$11:$F$109,'RE-UI'!$D$11:$D$109,B11)","v":144.28},{"$f":"SUMIFS('RE-UI'!$G$11:$G$109,'RE-UI'!$D$11:$D$109,B11)","v":0},{"$f":"SUMIFS('RE-UI'!$H$11:$H$109,'RE-UI'!$D$11:$D$109,B11)","v":287.05},{"$f":"SUMIFS('RE-UI'!$I$11:$I$109,'RE-UI'!$D$11:$D$109,B11)","v":0},{"$f":"SUMIFS('RE-UI'!$J$11:$J$109,'RE-UI'!$D$11:$D$109,B11)","v":0},{"$f":"SUMIFS('RE-UI'!$K$11:$K$109,'RE-UI'!$D$11:$D$109,B11)","v":0},{"$f":"SUMIFS('RE-UI'!$L$11:$L$109,'RE-UI'!$D$11:$D$109,B11)","v":0},{"$f":"SUMIFS('RE-UI'!$M$11:$M$109,'RE-UI'!$D$11:$D$109,B11)","v":0},{"$f":"SUMIFS('RE-UI'!$N$11:$N$109,'RE-UI'!$D$11:$D$109,B11)","v":0},{"$f":"SUMIFS('RE-UI'!$O$11:$O$109,'RE-UI'!$D$11:$D$109,B11)","v":0},{"$f":"SUMIFS('RE-UI'!$P$11:$P$109,'RE-UI'!$D$11:$D$109,B11)","v":0},{"$f":"SUM(D11:N11)","v":431.33000000000004}]
[2,{"$f":"'TAB-C'!B12","v":"C02"},{"$f":"'TAB-C'!D12","v":"CONDOMINO02"},{"$f":"SUMIFS('RE-UI'!$F$11:$F$109,'RE-UI'!$D$11:$D$109,B12)","v":173.14000000000001},{"$f":"SUMIFS('RE-UI'!$G$11:$G$109,'RE-UI'!$D$11:$D$109,B12)","v":0},{"$f":"SUMIFS('RE-UI'!$H$11:$H$109,'RE-UI'!$D$11:$D$109,B12)","v":344.47},{"$f":"SUMIFS('RE-UI'!$I$11:$I$109,'RE-UI'!$D$11:$D$109,B12)","v":0},{"$f":"SUMIFS('RE-UI'!$J$11:$J$109,'RE-UI'!$D$11:$D$109,B12)","v":0},{"$f":"SUMIFS('RE-UI'!$K$11:$K$109,'RE-UI'!$D$11:$D$109,B12)","v":0},{"$f":"SUMIFS('RE-UI'!$L$11:$L$109,'RE-UI'!$D$11:$D$109,B12)","v":0},{"$f":"SUMIFS('RE-UI'!$M$11:$M$109,'RE-UI'!$D$11:$D$109,B12)","v":0},{"$f":"SUMIFS('RE-UI'!$N$11:$N$109,'RE-UI'!$D$11:$D$109,B12)","v":0},{"$f":"SUMIFS('RE-UI'!$O$11:$O$109,'RE-UI'!$D$11:$D$109,B12)","v":0},{"$f":"SUMIFS('RE-UI'!$P$11:$P$109,'RE-UI'!$D$11:$D$109,B12)","v":0},{"$f":"SUM(D12:N12)","v":517.61}]
[3,{"$f":"'TAB-C'!B13","v":"C03"},{"$f":"'TAB-C'!D13","v":"CONDOMINO03"},{"$f":"SUMIFS('RE-UI'!$F$11:$F$109,'RE-UI'!$D$11:$D$109,B13)","v":165.04},{"$f":"SUMIFS('RE-UI'!$G$11:$G$109,'RE-UI'!$D$11:$D$109,B13)","v":0},{"$f":"SUMIFS('RE-UI'!$H$11:$H$109,'RE-UI'!$D$11:$D$109,B13)","v":328.35},{"$f":"SUMIFS('RE-UI'!$I$11:$I$109,'RE-UI'!$D$11:$D$109,B13)","v":0},{"$f":"SUMIFS('RE-UI'!$J$11:$J$109,'RE-UI'!$D$11:$D$109,B13)","v":0},{"$f":"SUMIFS('RE-UI'!$K$11:$K$109,'RE-UI'!$D$11:$D$109,B13)","v":0},{"$f":"SUMIFS('RE-UI'!$L$11:$L$109,'RE-UI'!$D$11:$D$109,B13)","v":0},{"$f":"SUMIFS('RE-UI'!$M$11:$M$109,'RE-UI'!$D$11:$D$109,B13)","v":0},{"$f":"SUMIFS('RE-UI'!$N$11:$N$109,'RE-UI'!$D$11:$D$109,B13)","v":0},{"$f":"SUMIFS('RE-UI'!$O$11:$O$109,'RE-UI'!$D$11:$D$109,B13)","v":0},{"$f":"SUMIFS('RE-UI'!$P$11:$P$109,'RE-UI'!$D$11:$D$109,B13)","v":0},493.39]
[4,{"$f":"'TAB-C'!B14","v":"C04"},{"$f":"'TAB-C'!D14","v":"CONDOMINO04"},{"$f":"SUMIFS('RE-UI'!$F$11:$F$109,'RE-UI'!$D$11:$D$109,B14)","v":149.62},{"$f":"SUMIFS('RE-UI'!$G$11:$G$109,'RE-UI'!$D$11:$D$109,B14)","v":0},{"$f":"SUMIFS('RE-UI'!$H$11:$H$109,'RE-UI'!$D$11:$D$109,B14)","v":198.45},{"$f":"SUMIFS('RE-UI'!$I$11:$I$109,'RE-UI'!$D$11:$D$109,B14)","v":0},{"$f":"SUMIFS('RE-UI'!$J$11:$J$109,'RE-UI'!$D$11:$D$109,B14)","v":0},{"$f":"SUMIFS('RE-UI'!$K$11:$K$109,'RE-UI'!$D$11:$D$109,B14)","v":0},{"$f":"SUMIFS('RE-UI'!$L$11:$L$109,'RE-UI'!$D$11:$D$109,B14)","v":0},{"$f":"SUMIFS('RE-UI'!$M$11:$M$109,'RE-UI'!$D$11:$D$109,B14)","v":0},{"$f":"SUMIFS('RE-UI'!$N$11:$N$109,'RE-UI'!$D$11:$D$109,B14)","v":0},{"$f":"SUMIFS('RE-UI'!$O$11:$O$109,'RE-UI'!$D$11:$D$109,B14)","v":0},{"$f":"SUMIFS('RE-UI'!$P$11:$P$109,'RE-UI'!$D$11:$D$109,B14)","v":0},348.07]
[5,{"$f":"'TAB-C'!B15","v":"C05"},{"$f":"'TAB-C'!D15","v":"CONDOMINO05"},{"$f":"SUMIFS('RE-UI'!$F$11:$F$109,'RE-UI'!$D$11:$D$109,B15)","v":185.51},{"$f":"SUMIFS('RE-UI'!$G$11:$G$109,'RE-UI'!$D$11:$D$109,B15)","v":0},{"$f":"SUMIFS('RE-UI'!$H$11:$H$109,'RE-UI'!$D$11:$D$109,B15)","v":246.09},{"$f":"SUMIFS('RE-UI'!$I$11:$I$109,'RE-UI'!$D$11:$D$109,B15)","v":0},{"$f":"SUMIFS('RE-UI'!$J$11:$J$109,'RE-UI'!$D$11:$D$109,B15)","v":0},{"$f":"SUMIFS('RE-UI'!$K$11:$K$109,'RE-UI'!$D$11:$D$109,B15)","v":0},{"$f":"SUMIFS('RE-UI'!$L$11:$L$109,'RE-UI'!$D$11:$D$109,B15)","v":0},{"$f":"SUMIFS('RE-UI'!$M$11:$M$109,'RE-UI'!$D$11:$D$109,B15)","v":0},{"$f":"SUMIFS('RE-UI'!$N$11:$N$109,'RE-UI'!$D$11:$D$109,B15)","v":0},{"$f":"SUMIFS('RE-UI'!$O$11:$O$109,'RE-UI'!$D$11:$D$109,B15)","v":0},{"$f":"SUMIFS('RE-UI'!$P$11:$P$109,'RE-UI'!$D$11:$D$109,B15)","v":0},431.6]
[6,{"$f":"'TAB-C'!B16","v":"C06"},{"$f":"'TAB-C'!D16","v":"CONDOMINO06"},{"$f":"SUMIFS('RE-UI'!$F$11:$F$109,'RE-UI'!$D$11:$D$109,B16)","v":176},{"$f":"SUMIFS('RE-UI'!$G$11:$G$109,'RE-UI'!$D$11:$D$109,B16)","v":0},{"$f":"SUMIFS('RE-UI'!$H$11:$H$109,'RE-UI'!$D$11:$D$109,B16)","v":233.44},{"$f":"SUMIFS('RE-UI'!$I$11:$I$109,'RE-UI'!$D$11:$D$109,B16)","v":0},{"$f":"SUMIFS('RE-UI'!$J$11:$J$109,'RE-UI'!$D$11:$D$109,B16)","v":0},{"$f":"SUMIFS('RE-UI'!$K$11:$K$109,'RE-UI'!$D$11:$D$109,B16)","v":0},{"$f":"SUMIFS('RE-UI'!$L$11:$L$109,'RE-UI'!$D$11:$D$109,B16)","v":0},{"$f":"SUMIFS('RE-UI'!$M$11:$M$109,'RE-UI'!$D$11:$D$109,B16)","v":0},{"$f":"SUMIFS('RE-UI'!$N$11:$N$109,'RE-UI'!$D$11:$D$109,B16)","v":0},{"$f":"SUMIFS('RE-UI'!$O$11:$O$109,'RE-UI'!$D$11:$D$109,B16)","v":0},{"$f":"SUMIFS('RE-UI'!$P$11:$P$109,'RE-UI'!$D$11:$D$109,B16)","v":0},409.44]
[7,{"$f":"'TAB-C'!B17","v":"C07"},{"$f":"'TAB-C'!D17","v":"CONDOMINO07"},{"$f":"SUMIFS('RE-UI'!$F$11:$F$109,'RE-UI'!$D$11:$D$109,B17)","v":460.90999999999997},{"$f":"SUMIFS('RE-UI'!$G$11:$G$109,'RE-UI'!$D$11:$D$109,B17)","v":106.1},{"$f":"SUMIFS('RE-UI'!$H$11:$H$109,'RE-UI'!$D$11:$D$109,B17)","v":97.68},{"$f":"SUMIFS('RE-UI'!$I$11:$I$109,'RE-UI'!$D$11:$D$109,B17)","v":0},{"$f":"SUMIFS('RE-UI'!$J$11:$J$109,'RE-UI'!$D$11:$D$109,B17)","v":0},{"$f":"SUMIFS('RE-UI'!$K$11:$K$109,'RE-UI'!$D$11:$D$109,B17)","v":0},{"$f":"SUMIFS('RE-UI'!$L$11:$L$109,'RE-UI'!$D$11:$D$109,B17)","v":0},{"$f":"SUMIFS('RE-UI'!$M$11:$M$109,'RE-UI'!$D$11:$D$109,B17)","v":0},{"$f":"SUMIFS('RE-UI'!$N$11:$N$109,'RE-UI'!$D$11:$D$109,B17)","v":0},{"$f":"SUMIFS('RE-UI'!$O$11:$O$109,'RE-UI'!$D$11:$D$109,B17)","v":0},{"$f":"SUMIFS('RE-UI'!$P$11:$P$109,'RE-UI'!$D$11:$D$109,B17)","v":0},664.69]
[8,{"$f":"'TAB-C'!B18","v":"C08"},{"$f":"'TAB-C'!D18","v":"CONDOMINO08"},{"$f":"SUMIFS('RE-UI'!$F$11:$F$109,'RE-UI'!$D$11:$D$109,B18)","v":320.11},{"$f":"SUMIFS('RE-UI'!$G$11:$G$109,'RE-UI'!$D$11:$D$109,B18)","v":73.38},{"$f":"SUMIFS('RE-UI'!$H$11:$H$109,'RE-UI'!$D$11:$D$109,B18)","v":119.59},{"$f":"SUMIFS('RE-UI'!$I$11:$I$109,'RE-UI'!$D$11:$D$109,B18)","v":0},{"$f":"SUMIFS('RE-UI'!$J$11:$J$109,'RE-UI'!$D$11:$D$109,B18)","v":0},{"$f":"SUMIFS('RE-UI'!$K$11:$K$109,'RE-UI'!$D$11:$D$109,B18)","v":0},{"$f":"SUMIFS('RE-UI'!$L$11:$L$109,'RE-UI'!$D$11:$D$109,B18)","v":0},{"$f":"SUMIFS('RE-UI'!$M$11:$M$109,'RE-UI'!$D$11:$D$109,B18)","v":0},{"$f":"SUMIFS('RE-UI'!$N$11:$N$109,'RE-UI'!$D$11:$D$109,B18)","v":0},{"$f":"SUMIFS('RE-UI'!$O$11:$O$109,'RE-UI'!$D$11:$D$109,B18)","v":0},{"$f":"SUMIFS('RE-UI'!$P$11:$P$109,'RE-UI'!$D$11:$D$109,B18)","v":0},513.08000000000004]
[9,{"$f":"'TAB-C'!B19","v":"C09"},{"$f":"'TAB-C'!D19","v":"CONDOMINO09"},{"$f":"SUMIFS('RE-UI'!$F$11:$F$109,'RE-UI'!$D$11:$D$109,B19)","v":171.27},{"$f":"SUMIFS('RE-UI'!$G$11:$G$109,'RE-UI'!$D$11:$D$109,B19)","v":0},{"$f":"SUMIFS('RE-UI'!$H$11:$H$109,'RE-UI'!$D$11:$D$109,B19)","v":113.58},{"$f":"SUMIFS('RE-UI'!$I$11:$I$109,'RE-UI'!$D$11:$D$109,B19)","v":0},{"$f":"SUMIFS('RE-UI'!$J$11:$J$109,'RE-UI'!$D$11:$D$109,B19)","v":0},{"$f":"SUMIFS('RE-UI'!$K$11:$K$109,'RE-UI'!$D$11:$D$109,B19)","v":0},{"$f":"SUMIFS('RE-UI'!$L$11:$L$109,'RE-UI'!$D$11:$D$109,B19)","v":0},{"$f":"SUMIFS('RE-UI'!$M$11:$M$109,'RE-UI'!$D$11:$D$109,B19)","v":0},{"$f":"SUMIFS('RE-UI'!$N$11:$N$109,'RE-UI'!$D$11:$D$109,B19)","v":0},{"$f":"SUMIFS('RE-UI'!$O$11:$O$109,'RE-UI'!$D$11:$D$109,B19)","v":0},{"$f":"SUMIFS('RE-UI'!$P$11:$P$109,'RE-UI'!$D$11:$D$109,B19)","v":0},284.85000000000002]
[10,{"$f":"'TAB-C'!B20","v":"C10"},{"$f":"'TAB-C'!D20","v":"CONDOMINO10"},{"$f":"SUMIFS('RE-UI'!$F$11:$F$109,'RE-UI'!$D$11:$D$109,B20)","v":129.16},{"$f":"SUMIFS('RE-UI'!$G$11:$G$109,'RE-UI'!$D$11:$D$109,B20)","v":0},{"$f":"SUMIFS('RE-UI'!$H$11:$H$109,'RE-UI'!$D$11:$D$109,B20)","v":8.75},{"$f":"SUMIFS('RE-UI'!$I$11:$I$109,'RE-UI'!$D$11:$D$109,B20)","v":0},{"$f":"SUMIFS('RE-UI'!$J$11:$J$109,'RE-UI'!$D$11:$D$109,B20)","v":0},{"$f":"SUMIFS('RE-UI'!$K$11:$K$109,'RE-UI'!$D$11:$D$109,B20)","v":0},{"$f":"SUMIFS('RE-UI'!$L$11:$L$109,'RE-UI'!$D$11:$D$109,B20)","v":0},{"$f":"SUMIFS('RE-UI'!$M$11:$M$109,'RE-UI'!$D$11:$D$109,B20)","v":0},{"$f":"SUMIFS('RE-UI'!$N$11:$N$109,'RE-UI'!$D$11:$D$109,B20)","v":0},{"$f":"SUMIFS('RE-UI'!$O$11:$O$109,'RE-UI'!$D$11:$D$109,B20)","v":0},{"$f":"SUMIFS('RE-UI'!$P$11:$P$109,'RE-UI'!$D$11:$D$109,B20)","v":0},137.91]
[11,{"$f":"'TAB-C'!B21","v":"C11"},{"$f":"'TAB-C'!D21","v":"CONDOMINO11"},{"$f":"SUMIFS('RE-UI'!$F$11:$F$109,'RE-UI'!$D$11:$D$109,B21)","v":166.1},{"$f":"SUMIFS('RE-UI'!$G$11:$G$109,'RE-UI'!$D$11:$D$109,B21)","v":0},{"$f":"SUMIFS('RE-UI'!$H$11:$H$109,'RE-UI'!$D$11:$D$109,B21)","v":9.34},{"$f":"SUMIFS('RE-UI'!$I$11:$I$109,'RE-UI'!$D$11:$D$109,B21)","v":0},{"$f":"SUMIFS('RE-UI'!$J$11:$J$109,'RE-UI'!$D$11:$D$109,B21)","v":0},{"$f":"SUMIFS('RE-UI'!$K$11:$K$109,'RE-UI'!$D$11:$D$109,B21)","v":0},{"$f":"SUMIFS('RE-UI'!$L$11:$L$109,'RE-UI'!$D$11:$D$109,B21)","v":0},{"$f":"SUMIFS('RE-UI'!$M$11:$M$109,'RE-UI'!$D$11:$D$109,B21)","v":0},{"$f":"SUMIFS('RE-UI'!$N$11:$N$109,'RE-UI'!$D$11:$D$109,B21)","v":0},{"$f":"SUMIFS('RE-UI'!$O$11:$O$109,'RE-UI'!$D$11:$D$109,B21)","v":0},{"$f":"SUMIFS('RE-UI'!$P$11:$P$109,'RE-UI'!$D$11:$D$109,B21)","v":20},195.44]
[12,{"$f":"'TAB-C'!B22","v":"C12"},{"$f":"'TAB-C'!D22","v":"CONDOMINO12"},{"$f":"SUMIFS('RE-UI'!$F$11:$F$109,'RE-UI'!$D$11:$D$109,B22)","v":118.86},{"$f":"SUMIFS('RE-UI'!$G$11:$G$109,'RE-UI'!$D$11:$D$109,B22)","v":0},{"$f":"SUMIFS('RE-UI'!$H$11:$H$109,'RE-UI'!$D$11:$D$109,B22)","v":10.27},{"$f":"SUMIFS('RE-UI'!$I$11:$I$109,'RE-UI'!$D$11:$D$109,B22)","v":0},{"$f":"SUMIFS('RE-UI'!$J$11:$J$109,'RE-UI'!$D$11:$D$109,B22)","v":0},{"$f":"SUMIFS('RE-UI'!$K$11:$K$109,'RE-UI'!$D$11:$D$109,B22)","v":0},{"$f":"SUMIFS('RE-UI'!$L$11:$L$109,'RE-UI'!$D$11:$D$109,B22)","v":0},{"$f":"SUMIFS('RE-UI'!$M$11:$M$109,'RE-UI'!$D$11:$D$109,B22)","v":0},{"$f":"SUMIFS('RE-UI'!$N$11:$N$109,'RE-UI'!$D$11:$D$109,B22)","v":0},{"$f":"SUMIFS('RE-UI'!$O$11:$O$109,'RE-UI'!$D$11:$D$109,B22)","v":0},{"$f":"SUMIFS('RE-UI'!$P$11:$P$109,'RE-UI'!$D$11:$D$109,B22)","v":0},129.13]
[13,{"$f":"'TAB-C'!B23","v":"C13"},{"$f":"'TAB-C'!D23","v":"CONDOMINO13"},{"$f":"SUMIFS('RE-UI'!$F$11:$F$109,'RE-UI'!$D$11:$D$109,B23)","v":36.96},{"$f":"SUMIFS('RE-UI'!$G$11:$G$109,'RE-UI'!$D$11:$D$109,B23)","v":0},{"$f":"SUMIFS('RE-UI'!$H$11:$H$109,'RE-UI'!$D$11:$D$109,B23)","v":24.51},{"$f":"SUMIFS('RE-UI'!$I$11:$I$109,'RE-UI'!$D$11:$D$109,B23)","v":0},{"$f":"SUMIFS('RE-UI'!$J$11:$J$109,'RE-UI'!$D$11:$D$109,B23)","v":0},{"$f":"SUMIFS('RE-UI'!$K$11:$K$109,'RE-UI'!$D$11:$D$109,B23)","v":0},{"$f":"SUMIFS('RE-UI'!$L$11:$L$109,'RE-UI'!$D$11:$D$109,B23)","v":0},{"$f":"SUMIFS('RE-UI'!$M$11:$M$109,'RE-UI'!$D$11:$D$109,B23)","v":0},{"$f":"SUMIFS('RE-UI'!$N$11:$N$109,'RE-UI'!$D$11:$D$109,B23)","v":0},{"$f":"SUMIFS('RE-UI'!$O$11:$O$109,'RE-UI'!$D$11:$D$109,B23)","v":0},{"$f":"SUMIFS('RE-UI'!$P$11:$P$109,'RE-UI'!$D$11:$D$109,B23)","v":0},61.47]
[14,{"$f":"'TAB-C'!B24","v":"C14"},{"$f":"'TAB-C'!D24","v":"CONDOMINO14"},{"$f":"SUMIFS('RE-UI'!$F$11:$F$109,'RE-UI'!$D$11:$D$109,B24)","v":118.26},{"$f":"SUMIFS('RE-UI'!$G$11:$G$109,'RE-UI'!$D$11:$D$109,B24)","v":0},{"$f":"SUMIFS('RE-UI'!$H$11:$H$109,'RE-UI'!$D$11:$D$109,B24)","v":78.430000000000007},{"$f":"SUMIFS('RE-UI'!$I$11:$I$109,'RE-UI'!$D$11:$D$109,B24)","v":0},{"$f":"SUMIFS('RE-UI'!$J$11:$J$109,'RE-UI'!$D$11:$D$109,B24)","v":0},{"$f":"SUMIFS('RE-UI'!$K$11:$K$109,'RE-UI'!$D$11:$D$109,B24)","v":0},{"$f":"SUMIFS('RE-UI'!$L$11:$L$109,'RE-UI'!$D$11:$D$109,B24)","v":0},{"$f":"SUMIFS('RE-UI'!$M$11:$M$109,'RE-UI'!$D$11:$D$109,B24)","v":0},{"$f":"SUMIFS('RE-UI'!$N$11:$N$109,'RE-UI'!$D$11:$D$109,B24)","v":0},{"$f":"SUMIFS('RE-UI'!$O$11:$O$109,'RE-UI'!$D$11:$D$109,B24)","v":0},{"$f":"SUMIFS('RE-UI'!$P$11:$P$109,'RE-UI'!$D$11:$D$109,B24)","v":0},196.69]
[15,{"$f":"'TAB-C'!B25","v":"C15"},{"$f":"'TAB-C'!D25","v":"CONDOMINO15"},{"$f":"SUMIFS('RE-UI'!$F$11:$F$109,'RE-UI'!$D$11:$D$109,B25)","v":315.52},{"$f":"SUMIFS('RE-UI'!$G$11:$G$109,'RE-UI'!$D$11:$D$109,B25)","v":434.39000000000004},{"$f":"SUMIFS('RE-UI'!$H$11:$H$109,'RE-UI'!$D$11:$D$109,B25)","v":0},{"$f":"SUMIFS('RE-UI'!$I$11:$I$109,'RE-UI'!$D$11:$D$109,B25)","v":0},{"$f":"SUMIFS('RE-UI'!$J$11:$J$109,'RE-UI'!$D$11:$D$109,B25)","v":0},{"$f":"SUMIFS('RE-UI'!$K$11:$K$109,'RE-UI'!$D$11:$D$109,B25)","v":0},{"$f":"SUMIFS('RE-UI'!$L$11:$L$109,'RE-UI'!$D$11:$D$109,B25)","v":0},{"$f":"SUMIFS('RE-UI'!$M$11:$M$109,'RE-UI'!$D$11:$D$109,B25)","v":0},{"$f":"SUMIFS('RE-UI'!$N$11:$N$109,'RE-UI'!$D$11:$D$109,B25)","v":0},{"$f":"SUMIFS('RE-UI'!$O$11:$O$109,'RE-UI'!$D$11:$D$109,B25)","v":0},{"$f":"SUMIFS('RE-UI'!$P$11:$P$109,'RE-UI'!$D$11:$D$109,B25)","v":0},749.91000000000008]
[16,{"$f":"'TAB-C'!B26","v":"C16"},{"$f":"'TAB-C'!D26","v":"CONDOMINO16"},{"$f":"SUMIFS('RE-UI'!$F$11:$F$109,'RE-UI'!$D$11:$D$109,B26)","v":174.43},{"$f":"SUMIFS('RE-UI'!$G$11:$G$109,'RE-UI'!$D$11:$D$109,B26)","v":274.7},{"$f":"SUMIFS('RE-UI'!$H$11:$H$109,'RE-UI'!$D$11:$D$109,B26)","v":0},{"$f":"SUMIFS('RE-UI'!$I$11:$I$109,'RE-UI'!$D$11:$D$109,B26)","v":0},{"$f":"SUMIFS('RE-UI'!$J$11:$J$109,'RE-UI'!$D$11:$D$109,B26)","v":0},{"$f":"SUMIFS('RE-UI'!$K$11:$K$109,'RE-UI'!$D$11:$D$109,B26)","v":0},{"$f":"SUMIFS('RE-UI'!$L$11:$L$109,'RE-UI'!$D$11:$D$109,B26)","v":0},{"$f":"SUMIFS('RE-UI'!$M$11:$M$109,'RE-UI'!$D$11:$D$109,B26)","v":0},{"$f":"SUMIFS('RE-UI'!$N$11:$N$109,'RE-UI'!$D$11:$D$109,B26)","v":0},{"$f":"SUMIFS('RE-UI'!$O$11:$O$109,'RE-UI'!$D$11:$D$109,B26)","v":0},{"$f":"SUMIFS('RE-UI'!$P$11:$P$109,'RE-UI'!$D$11:$D$109,B26)","v":0},449.13]
[17,{"$f":"'TAB-C'!B27","v":"C17"},{"$f":"'TAB-C'!D27","v":"CONDOMINO17"},{"$f":"SUMIFS('RE-UI'!$F$11:$F$109,'RE-UI'!$D$11:$D$109,B27)","v":137.30000000000001},{"$f":"SUMIFS('RE-UI'!$G$11:$G$109,'RE-UI'!$D$11:$D$109,B27)","v":216.24},{"$f":"SUMIFS('RE-UI'!$H$11:$H$109,'RE-UI'!$D$11:$D$109,B27)","v":0},{"$f":"SUMIFS('RE-UI'!$I$11:$I$109,'RE-UI'!$D$11:$D$109,B27)","v":0},{"$f":"SUMIFS('RE-UI'!$J$11:$J$109,'RE-UI'!$D$11:$D$109,B27)","v":0},{"$f":"SUMIFS('RE-UI'!$K$11:$K$109,'RE-UI'!$D$11:$D$109,B27)","v":0},{"$f":"SUMIFS('RE-UI'!$L$11:$L$109,'RE-UI'!$D$11:$D$109,B27)","v":0},{"$f":"SUMIFS('RE-UI'!$M$11:$M$109,'RE-UI'!$D$11:$D$109,B27)","v":0},{"$f":"SUMIFS('RE-UI'!$N$11:$N$109,'RE-UI'!$D$11:$D$109,B27)","v":0},{"$f":"SUMIFS('RE-UI'!$O$11:$O$109,'RE-UI'!$D$11:$D$109,B27)","v":0},{"$f":"SUMIFS('RE-UI'!$P$11:$P$109,'RE-UI'!$D$11:$D$109,B27)","v":0},353.54]
[18,{"$f":"'TAB-C'!B28","v":"C18"},{"$f":"'TAB-C'!D28","v":"CONDOMINO18"},{"$f":"SUMIFS('RE-UI'!$F$11:$F$109,'RE-UI'!$D$11:$D$109,B28)","v":182.51},{"$f":"SUMIFS('RE-UI'!$G$11:$G$109,'RE-UI'!$D$11:$D$109,B28)","v":191.62},{"$f":"SUMIFS('RE-UI'!$H$11:$H$109,'RE-UI'!$D$11:$D$109,B28)","v":0},{"$f":"SUMIFS('RE-UI'!$I$11:$I$109,'RE-UI'!$D$11:$D$109,B28)","v":0},{"$f":"SUMIFS('RE-UI'!$J$11:$J$109,'RE-UI'!$D$11:$D$109,B28)","v":0},{"$f":"SUMIFS('RE-UI'!$K$11:$K$109,'RE-UI'!$D$11:$D$109,B28)","v":0},{"$f":"SUMIFS('RE-UI'!$L$11:$L$109,'RE-UI'!$D$11:$D$109,B28)","v":0},{"$f":"SUMIFS('RE-UI'!$M$11:$M$109,'RE-UI'!$D$11:$D$109,B28)","v":0},{"$f":"SUMIFS('RE-UI'!$N$11:$N$109,'RE-UI'!$D$11:$D$109,B28)","v":0},{"$f":"SUMIFS('RE-UI'!$O$11:$O$109,'RE-UI'!$D$11:$D$109,B28)","v":0},{"$f":"SUMIFS('RE-UI'!$P$11:$P$109,'RE-UI'!$D$11:$D$109,B28)","v":0},374.13]
[19,{"$f":"'TAB-C'!B29","v":"C19"},{"$f":"'TAB-C'!D29","v":"CONDOMINO19"},{"$f":"SUMIFS('RE-UI'!$F$11:$F$109,'RE-UI'!$D$11:$D$109,B29)","v":315.02},{"$f":"SUMIFS('RE-UI'!$G$11:$G$109,'RE-UI'!$D$11:$D$109,B29)","v":163.57000000000002},{"$f":"SUMIFS('RE-UI'!$H$11:$H$109,'RE-UI'!$D$11:$D$109,B29)","v":0},{"$f":"SUMIFS('RE-UI'!$I$11:$I$109,'RE-UI'!$D$11:$D$109,B29)","v":0},{"$f":"SUMIFS('RE-UI'!$J$11:$J$109,'RE-UI'!$D$11:$D$109,B29)","v":0},{"$f":"SUMIFS('RE-UI'!$K$11:$K$109,'RE-UI'!$D$11:$D$109,B29)","v":0},{"$f":"SUMIFS('RE-UI'!$L$11:$L$109,'RE-UI'!$D$11:$D$109,B29)","v":0},{"$f":"SUMIFS('RE-UI'!$M$11:$M$109,'RE-UI'!$D$11:$D$109,B29)","v":0},{"$f":"SUMIFS('RE-UI'!$N$11:$N$109,'RE-UI'!$D$11:$D$109,B29)","v":0},{"$f":"SUMIFS('RE-UI'!$O$11:$O$109,'RE-UI'!$D$11:$D$109,B29)","v":0},{"$f":"SUMIFS('RE-UI'!$P$11:$P$109,'RE-UI'!$D$11:$D$109,B29)","v":0},478.59000000000003]
[20,{"$f":"'TAB-C'!B30","v":"C20"},{"$f":"'TAB-C'!D30","v":""},{"$f":"SUMIFS('RE-UI'!$F$11:$F$109,'RE-UI'!$D$11:$D$109,B30)","v":0},{"$f":"SUMIFS('RE-UI'!$G$11:$G$109,'RE-UI'!$D$11:$D$109,B30)","v":0},{"$f":"SUMIFS('RE-UI'!$H$11:$H$109,'RE-UI'!$D$11:$D$109,B30)","v":0},{"$f":"SUMIFS('RE-UI'!$I$11:$I$109,'RE-UI'!$D$11:$D$109,B30)","v":0},{"$f":"SUMIFS('RE-UI'!$J$11:$J$109,'RE-UI'!$D$11:$D$109,B30)","v":0},{"$f":"SUMIFS('RE-UI'!$K$11:$K$109,'RE-UI'!$D$11:$D$109,B30)","v":0},{"$f":"SUMIFS('RE-UI'!$L$11:$L$109,'RE-UI'!$D$11:$D$109,B30)","v":0},{"$f":"SUMIFS('RE-UI'!$M$11:$M$109,'RE-UI'!$D$11:$D$109,B30)","v":0},{"$f":"SUMIFS('RE-UI'!$N$11:$N$109,'RE-UI'!$D$11:$D$109,B30)","v":0},{"$f":"SUMIFS('RE-UI'!$O$11:$O$109,'RE-UI'!$D$11:$D$109,B30)","v":0},{"$f":"SUMIFS('RE-UI'!$P$11:$P$109,'RE-UI'!$D$11:$D$109,B30)","v":0},0]
[21,{"$f":"'TAB-C'!B31","v":"C21"},{"$f":"'TAB-C'!D31","v":""},{"$f":"SUMIFS('RE-UI'!$F$11:$F$109,'RE-UI'!$D$11:$D$109,B31)","v":0},{"$f":"SUMIFS('RE-UI'!$G$11:$G$109,'RE-UI'!$D$11:$D$109,B31)","v":0},{"$f":"SUMIFS('RE-UI'!$H$11:$H$109,'RE-UI'!$D$11:$D$109,B31)","v":0},{"$f":"SUMIFS('RE-UI'!$I$11:$I$109,'RE-UI'!$D$11:$D$109,B31)","v":0},{"$f":"SUMIFS('RE-UI'!$J$11:$J$109,'RE-UI'!$D$11:$D$109,B31)","v":0},{"$f":"SUMIFS('RE-UI'!$K$11:$K$109,'RE-UI'!$D$11:$D$109,B31)","v":0},{"$f":"SUMIFS('RE-UI'!$L$11:$L$109,'RE-UI'!$D$11:$D$109,B31)","v":0},{"$f":"SUMIFS('RE-UI'!$M$11:$M$109,'RE-UI'!$D$11:$D$109,B31)","v":0},{"$f":"SUMIFS('RE-UI'!$N$11:$N$109,'RE-UI'!$D$11:$D$109,B31)","v":0},{"$f":"SUMIFS('RE-UI'!$O$11:$O$109,'RE-UI'!$D$11:$D$109,B31)","v":0},{"$f":"SUMIFS('RE-UI'!$P$11:$P$109,'RE-UI'!$D$11:$D$109,B31)","v":0},0]
[22,{"$f":"'TAB-C'!B32","v":"C22"},{"$f":"'TAB-C'!D32","v":""},{"$f":"SUMIFS('RE-UI'!$F$11:$F$109,'RE-UI'!$D$11:$D$109,B32)","v":0},{"$f":"SUMIFS('RE-UI'!$G$11:$G$109,'RE-UI'!$D$11:$D$109,B32)","v":0},{"$f":"SUMIFS('RE-UI'!$H$11:$H$109,'RE-UI'!$D$11:$D$109,B32)","v":0},{"$f":"SUMIFS('RE-UI'!$I$11:$I$109,'RE-UI'!$D$11:$D$109,B32)","v":0},{"$f":"SUMIFS('RE-UI'!$J$11:$J$109,'RE-UI'!$D$11:$D$109,B32)","v":0},{"$f":"SUMIFS('RE-UI'!$K$11:$K$109,'RE-UI'!$D$11:$D$109,B32)","v":0},{"$f":"SUMIFS('RE-UI'!$L$11:$L$109,'RE-UI'!$D$11:$D$109,B32)","v":0},{"$f":"SUMIFS('RE-UI'!$M$11:$M$109,'RE-UI'!$D$11:$D$109,B32)","v":0},{"$f":"SUMIFS('RE-UI'!$N$11:$N$109,'RE-UI'!$D$11:$D$109,B32)","v":0},{"$f":"SUMIFS('RE-UI'!$O$11:$O$109,'RE-UI'!$D$11:$D$109,B32)","v":0},{"$f":"SUMIFS('RE-UI'!$P$11:$P$109,'RE-UI'!$D$11:$D$109,B32)","v":0},0]
[23,{"$f":"'TAB-C'!B33","v":"C23"},{"$f":"'TAB-C'!D33","v":""},{"$f":"SUMIFS('RE-UI'!$F$11:$F$109,'RE-UI'!$D$11:$D$109,B33)","v":0},{"$f":"SUMIFS('RE-UI'!$G$11:$G$109,'RE-UI'!$D$11:$D$109,B33)","v":0},{"$f":"SUMIFS('RE-UI'!$H$11:$H$109,'RE-UI'!$D$11:$D$109,B33)","v":0},{"$f":"SUMIFS('RE-UI'!$I$11:$I$109,'RE-UI'!$D$11:$D$109,B33)","v":0},{"$f":"SUMIFS('RE-UI'!$J$11:$J$109,'RE-UI'!$D$11:$D$109,B33)","v":0},{"$f":"SUMIFS('RE-UI'!$K$11:$K$109,'RE-UI'!$D$11:$D$109,B33)","v":0},{"$f":"SUMIFS('RE-UI'!$L$11:$L$109,'RE-UI'!$D$11:$D$109,B33)","v":0},{"$f":"SUMIFS('RE-UI'!$M$11:$M$109,'RE-UI'!$D$11:$D$109,B33)","v":0},{"$f":"SUMIFS('RE-UI'!$N$11:$N$109,'RE-UI'!$D$11:$D$109,B33)","v":0},{"$f":"SUMIFS('RE-UI'!$O$11:$O$109,'RE-UI'!$D$11:$D$109,B33)","v":0},{"$f":"SUMIFS('RE-UI'!$P$11:$P$109,'RE-UI'!$D$11:$D$109,B33)","v":0},0]
[24,{"$f":"'TAB-C'!B34","v":"C24"},{"$f":"'TAB-C'!D34","v":""},{"$f":"SUMIFS('RE-UI'!$F$11:$F$109,'RE-UI'!$D$11:$D$109,B34)","v":0},{"$f":"SUMIFS('RE-UI'!$G$11:$G$109,'RE-UI'!$D$11:$D$109,B34)","v":0},{"$f":"SUMIFS('RE-UI'!$H$11:$H$109,'RE-UI'!$D$11:$D$109,B34)","v":0},{"$f":"SUMIFS('RE-UI'!$I$11:$I$109,'RE-UI'!$D$11:$D$109,B34)","v":0},{"$f":"SUMIFS('RE-UI'!$J$11:$J$109,'RE-UI'!$D$11:$D$109,B34)","v":0},{"$f":"SUMIFS('RE-UI'!$K$11:$K$109,'RE-UI'!$D$11:$D$109,B34)","v":0},{"$f":"SUMIFS('RE-UI'!$L$11:$L$109,'RE-UI'!$D$11:$D$109,B34)","v":0},{"$f":"SUMIFS('RE-UI'!$M$11:$M$109,'RE-UI'!$D$11:$D$109,B34)","v":0},{"$f":"SUMIFS('RE-UI'!$N$11:$N$109,'RE-UI'!$D$11:$D$109,B34)","v":0},{"$f":"SUMIFS('RE-UI'!$O$11:$O$109,'RE-UI'!$D$11:$D$109,B34)","v":0},{"$f":"SUMIFS('RE-UI'!$P$11:$P$109,'RE-UI'!$D$11:$D$109,B34)","v":0},0]
[25,{"$f":"'TAB-C'!B35","v":"C25"},{"$f":"'TAB-C'!D35","v":""},{"$f":"SUMIFS('RE-UI'!$F$11:$F$109,'RE-UI'!$D$11:$D$109,B35)","v":0},{"$f":"SUMIFS('RE-UI'!$G$11:$G$109,'RE-UI'!$D$11:$D$109,B35)","v":0},{"$f":"SUMIFS('RE-UI'!$H$11:$H$109,'RE-UI'!$D$11:$D$109,B35)","v":0},{"$f":"SUMIFS('RE-UI'!$I$11:$I$109,'RE-UI'!$D$11:$D$109,B35)","v":0},{"$f":"SUMIFS('RE-UI'!$J$11:$J$109,'RE-UI'!$D$11:$D$109,B35)","v":0},{"$f":"SUMIFS('RE-UI'!$K$11:$K$109,'RE-UI'!$D$11:$D$109,B35)","v":0},{"$f":"SUMIFS('RE-UI'!$L$11:$L$109,'RE-UI'!$D$11:$D$109,B35)","v":0},{"$f":"SUMIFS('RE-UI'!$M$11:$M$109,'RE-UI'!$D$11:$D$109,B35)","v":0},{"$f":"SUMIFS('RE-UI'!$N$11:$N$109,'RE-UI'!$D$11:$D$109,B35)","v":0},{"$f":"SUMIFS('RE-UI'!$O$11:$O$109,'RE-UI'!$D$11:$D$109,B35)","v":0},{"$f":"SUMIFS('RE-UI'!$P$11:$P$109,'RE-UI'!$D$11:$D$109,B35)","v":0},0]
[26,{"$f":"'TAB-C'!B36","v":"C26"},{"$f":"'TAB-C'!D36","v":""},{"$f":"SUMIFS('RE-UI'!$F$11:$F$109,'RE-UI'!$D$11:$D$109,B36)","v":0},{"$f":"SUMIFS('RE-UI'!$G$11:$G$109,'RE-UI'!$D$11:$D$109,B36)","v":0},{"$f":"SUMIFS('RE-UI'!$H$11:$H$109,'RE-UI'!$D$11:$D$109,B36)","v":0},{"$f":"SUMIFS('RE-UI'!$I$11:$I$109,'RE-UI'!$D$11:$D$109,B36)","v":0},{"$f":"SUMIFS('RE-UI'!$J$11:$J$109,'RE-UI'!$D$11:$D$109,B36)","v":0},{"$f":"SUMIFS('RE-UI'!$K$11:$K$109,'RE-UI'!$D$11:$D$109,B36)","v":0},{"$f":"SUMIFS('RE-UI'!$L$11:$L$109,'RE-UI'!$D$11:$D$109,B36)","v":0},{"$f":"SUMIFS('RE-UI'!$M$11:$M$109,'RE-UI'!$D$11:$D$109,B36)","v":0},{"$f":"SUMIFS('RE-UI'!$N$11:$N$109,'RE-UI'!$D$11:$D$109,B36)","v":0},{"$f":"SUMIFS('RE-UI'!$O$11:$O$109,'RE-UI'!$D$11:$D$109,B36)","v":0},{"$f":"SUMIFS('RE-UI'!$P$11:$P$109,'RE-UI'!$D$11:$D$109,B36)","v":0},0]
[27,{"$f":"'TAB-C'!B37","v":"C27"},{"$f":"'TAB-C'!D37","v":""},{"$f":"SUMIFS('RE-UI'!$F$11:$F$109,'RE-UI'!$D$11:$D$109,B37)","v":0},{"$f":"SUMIFS('RE-UI'!$G$11:$G$109,'RE-UI'!$D$11:$D$109,B37)","v":0},{"$f":"SUMIFS('RE-UI'!$H$11:$H$109,'RE-UI'!$D$11:$D$109,B37)","v":0},{"$f":"SUMIFS('RE-UI'!$I$11:$I$109,'RE-UI'!$D$11:$D$109,B37)","v":0},{"$f":"SUMIFS('RE-UI'!$J$11:$J$109,'RE-UI'!$D$11:$D$109,B37)","v":0},{"$f":"SUMIFS('RE-UI'!$K$11:$K$109,'RE-UI'!$D$11:$D$109,B37)","v":0},{"$f":"SUMIFS('RE-UI'!$L$11:$L$109,'RE-UI'!$D$11:$D$109,B37)","v":0},{"$f":"SUMIFS('RE-UI'!$M$11:$M$109,'RE-UI'!$D$11:$D$109,B37)","v":0},{"$f":"SUMIFS('RE-UI'!$N$11:$N$109,'RE-UI'!$D$11:$D$109,B37)","v":0},{"$f":"SUMIFS('RE-UI'!$O$11:$O$109,'RE-UI'!$D$11:$D$109,B37)","v":0},{"$f":"SUMIFS('RE-UI'!$P$11:$P$109,'RE-UI'!$D$11:$D$109,B37)","v":0},0]
[28,{"$f":"'TAB-C'!B38","v":"C28"},{"$f":"'TAB-C'!D38","v":""},{"$f":"SUMIFS('RE-UI'!$F$11:$F$109,'RE-UI'!$D$11:$D$109,B38)","v":0},{"$f":"SUMIFS('RE-UI'!$G$11:$G$109,'RE-UI'!$D$11:$D$109,B38)","v":0},{"$f":"SUMIFS('RE-UI'!$H$11:$H$109,'RE-UI'!$D$11:$D$109,B38)","v":0},{"$f":"SUMIFS('RE-UI'!$I$11:$I$109,'RE-UI'!$D$11:$D$109,B38)","v":0},{"$f":"SUMIFS('RE-UI'!$J$11:$J$109,'RE-UI'!$D$11:$D$109,B38)","v":0},{"$f":"SUMIFS('RE-UI'!$K$11:$K$109,'RE-UI'!$D$11:$D$109,B38)","v":0},{"$f":"SUMIFS('RE-UI'!$L$11:$L$109,'RE-UI'!$D$11:$D$109,B38)","v":0},{"$f":"SUMIFS('RE-UI'!$M$11:$M$109,'RE-UI'!$D$11:$D$109,B38)","v":0},{"$f":"SUMIFS('RE-UI'!$N$11:$N$109,'RE-UI'!$D$11:$D$109,B38)","v":0},{"$f":"SUMIFS('RE-UI'!$O$11:$O$109,'RE-UI'!$D$11:$D$109,B38)","v":0},{"$f":"SUMIFS('RE-UI'!$P$11:$P$109,'RE-UI'!$D$11:$D$109,B38)","v":0},0]
[29,{"$f":"'TAB-C'!B39","v":"C29"},{"$f":"'TAB-C'!D39","v":""},{"$f":"SUMIFS('RE-UI'!$F$11:$F$109,'RE-UI'!$D$11:$D$109,B39)","v":0},{"$f":"SUMIFS('RE-UI'!$G$11:$G$109,'RE-UI'!$D$11:$D$109,B39)","v":0},{"$f":"SUMIFS('RE-UI'!$H$11:$H$109,'RE-UI'!$D$11:$D$109,B39)","v":0},{"$f":"SUMIFS('RE-UI'!$I$11:$I$109,'RE-UI'!$D$11:$D$109,B39)","v":0},{"$f":"SUMIFS('RE-UI'!$J$11:$J$109,'RE-UI'!$D$11:$D$109,B39)","v":0},{"$f":"SUMIFS('RE-UI'!$K$11:$K$109,'RE-UI'!$D$11:$D$109,B39)","v":0},{"$f":"SUMIFS('RE-UI'!$L$11:$L$109,'RE-UI'!$D$11:$D$109,B39)","v":0},{"$f":"SUMIFS('RE-UI'!$M$11:$M$109,'RE-UI'!$D$11:$D$109,B39)","v":0},{"$f":"SUMIFS('RE-UI'!$N$11:$N$109,'RE-UI'!$D$11:$D$109,B39)","v":0},{"$f":"SUMIFS('RE-UI'!$O$11:$O$109,'RE-UI'!$D$11:$D$109,B39)","v":0},{"$f":"SUMIFS('RE-UI'!$P$11:$P$109,'RE-UI'!$D$11:$D$109,B39)","v":0},0]
[30,{"$f":"'TAB-C'!B40","v":"C30"},{"$f":"'TAB-C'!D40","v":""},{"$f":"SUMIFS('RE-UI'!$F$11:$F$109,'RE-UI'!$D$11:$D$109,B40)","v":0},{"$f":"SUMIFS('RE-UI'!$G$11:$G$109,'RE-UI'!$D$11:$D$109,B40)","v":0},{"$f":"SUMIFS('RE-UI'!$H$11:$H$109,'RE-UI'!$D$11:$D$109,B40)","v":0},{"$f":"SUMIFS('RE-UI'!$I$11:$I$109,'RE-UI'!$D$11:$D$109,B40)","v":0},{"$f":"SUMIFS('RE-UI'!$J$11:$J$109,'RE-UI'!$D$11:$D$109,B40)","v":0},{"$f":"SUMIFS('RE-UI'!$K$11:$K$109,'RE-UI'!$D$11:$D$109,B40)","v":0},{"$f":"SUMIFS('RE-UI'!$L$11:$L$109,'RE-UI'!$D$11:$D$109,B40)","v":0},{"$f":"SUMIFS('RE-UI'!$M$11:$M$109,'RE-UI'!$D$11:$D$109,B40)","v":0},{"$f":"SUMIFS('RE-UI'!$N$11:$N$109,'RE-UI'!$D$11:$D$109,B40)","v":0},{"$f":"SUMIFS('RE-UI'!$O$11:$O$109,'RE-UI'!$D$11:$D$109,B40)","v":0},{"$f":"SUMIFS('RE-UI'!$P$11:$P$109,'RE-UI'!$D$11:$D$109,B40)","v":0},0]
[31,{"$f":"'TAB-C'!B41","v":"C31"},{"$f":"'TAB-C'!D41","v":""},{"$f":"SUMIFS('RE-UI'!$F$11:$F$109,'RE-UI'!$D$11:$D$109,B41)","v":0},{"$f":"SUMIFS('RE-UI'!$G$11:$G$109,'RE-UI'!$D$11:$D$109,B41)","v":0},{"$f":"SUMIFS('RE-UI'!$H$11:$H$109,'RE-UI'!$D$11:$D$109,B41)","v":0},{"$f":"SUMIFS('RE-UI'!$I$11:$I$109,'RE-UI'!$D$11:$D$109,B41)","v":0},{"$f":"SUMIFS('RE-UI'!$J$11:$J$109,'RE-UI'!$D$11:$D$109,B41)","v":0},{"$f":"SUMIFS('RE-UI'!$K$11:$K$109,'RE-UI'!$D$11:$D$109,B41)","v":0},{"$f":"SUMIFS('RE-UI'!$L$11:$L$109,'RE-UI'!$D$11:$D$109,B41)","v":0},{"$f":"SUMIFS('RE-UI'!$M$11:$M$109,'RE-UI'!$D$11:$D$109,B41)","v":0},{"$f":"SUMIFS('RE-UI'!$N$11:$N$109,'RE-UI'!$D$11:$D$109,B41)","v":0},{"$f":"SUMIFS('RE-UI'!$O$11:$O$109,'RE-UI'!$D$11:$D$109,B41)","v":0},{"$f":"SUMIFS('RE-UI'!$P$11:$P$109,'RE-UI'!$D$11:$D$109,B41)","v":0},0]
[32,{"$f":"'TAB-C'!B42","v":"C32"},{"$f":"'TAB-C'!D42","v":""},{"$f":"SUMIFS('RE-UI'!$F$11:$F$109,'RE-UI'!$D$11:$D$109,B42)","v":0},{"$f":"SUMIFS('RE-UI'!$G$11:$G$109,'RE-UI'!$D$11:$D$109,B42)","v":0},{"$f":"SUMIFS('RE-UI'!$H$11:$H$109,'RE-UI'!$D$11:$D$109,B42)","v":0},{"$f":"SUMIFS('RE-UI'!$I$11:$I$109,'RE-UI'!$D$11:$D$109,B42)","v":0},{"$f":"SUMIFS('RE-UI'!$J$11:$J$109,'RE-UI'!$D$11:$D$109,B42)","v":0},{"$f":"SUMIFS('RE-UI'!$K$11:$K$109,'RE-UI'!$D$11:$D$109,B42)","v":0},{"$f":"SUMIFS('RE-UI'!$L$11:$L$109,'RE-UI'!$D$11:$D$109,B42)","v":0},{"$f":"SUMIFS('RE-UI'!$M$11:$M$109,'RE-UI'!$D$11:$D$109,B42)","v":0},{"$f":"SUMIFS('RE-UI'!$N$11:$N$109,'RE-UI'!$D$11:$D$109,B42)","v":0},{"$f":"SUMIFS('RE-UI'!$O$11:$O$109,'RE-UI'!$D$11:$D$109,B42)","v":0},{"$f":"SUMIFS('RE-UI'!$P$11:$P$109,'RE-UI'!$D$11:$D$109,B42)","v":0},0]
[33,{"$f":"'TAB-C'!B43","v":"C33"},{"$f":"'TAB-C'!D43","v":""},{"$f":"SUMIFS('RE-UI'!$F$11:$F$109,'RE-UI'!$D$11:$D$109,B43)","v":0},{"$f":"SUMIFS('RE-UI'!$G$11:$G$109,'RE-UI'!$D$11:$D$109,B43)","v":0},{"$f":"SUMIFS('RE-UI'!$H$11:$H$109,'RE-UI'!$D$11:$D$109,B43)","v":0},{"$f":"SUMIFS('RE-UI'!$I$11:$I$109,'RE-UI'!$D$11:$D$109,B43)","v":0},{"$f":"SUMIFS('RE-UI'!$J$11:$J$109,'RE-UI'!$D$11:$D$109,B43)","v":0},{"$f":"SUMIFS('RE-UI'!$K$11:$K$109,'RE-UI'!$D$11:$D$109,B43)","v":0},{"$f":"SUMIFS('RE-UI'!$L$11:$L$109,'RE-UI'!$D$11:$D$109,B43)","v":0},{"$f":"SUMIFS('RE-UI'!$M$11:$M$109,'RE-UI'!$D$11:$D$109,B43)","v":0},{"$f":"SUMIFS('RE-UI'!$N$11:$N$109,'RE-UI'!$D$11:$D$109,B43)","v":0},{"$f":"SUMIFS('RE-UI'!$O$11:$O$109,'RE-UI'!$D$11:$D$109,B43)","v":0},{"$f":"SUMIFS('RE-UI'!$P$11:$P$109,'RE-UI'!$D$11:$D$109,B43)","v":0},0]
[34,{"$f":"'TAB-C'!B44","v":"C34"},{"$f":"'TAB-C'!D44","v":""},{"$f":"SUMIFS('RE-UI'!$F$11:$F$109,'RE-UI'!$D$11:$D$109,B44)","v":0},{"$f":"SUMIFS('RE-UI'!$G$11:$G$109,'RE-UI'!$D$11:$D$109,B44)","v":0},{"$f":"SUMIFS('RE-UI'!$H$11:$H$109,'RE-UI'!$D$11:$D$109,B44)","v":0},{"$f":"SUMIFS('RE-UI'!$I$11:$I$109,'RE-UI'!$D$11:$D$109,B44)","v":0},{"$f":"SUMIFS('RE-UI'!$J$11:$J$109,'RE-UI'!$D$11:$D$109,B44)","v":0},{"$f":"SUMIFS('RE-UI'!$K$11:$K$109,'RE-UI'!$D$11:$D$109,B44)","v":0},{"$f":"SUMIFS('RE-UI'!$L$11:$L$109,'RE-UI'!$D$11:$D$109,B44)","v":0},{"$f":"SUMIFS('RE-UI'!$M$11:$M$109,'RE-UI'!$D$11:$D$109,B44)","v":0},{"$f":"SUMIFS('RE-UI'!$N$11:$N$109,'RE-UI'!$D$11:$D$109,B44)","v":0},{"$f":"SUMIFS('RE-UI'!$O$11:$O$109,'RE-UI'!$D$11:$D$109,B44)","v":0},{"$f":"SUMIFS('RE-UI'!$P$11:$P$109,'RE-UI'!$D$11:$D$109,B44)","v":0},0]
[35,{"$f":"'TAB-C'!B45","v":"C35"},{"$f":"'TAB-C'!D45","v":""},{"$f":"SUMIFS('RE-UI'!$F$11:$F$109,'RE-UI'!$D$11:$D$109,B45)","v":0},{"$f":"SUMIFS('RE-UI'!$G$11:$G$109,'RE-UI'!$D$11:$D$109,B45)","v":0},{"$f":"SUMIFS('RE-UI'!$H$11:$H$109,'RE-UI'!$D$11:$D$109,B45)","v":0},{"$f":"SUMIFS('RE-UI'!$I$11:$I$109,'RE-UI'!$D$11:$D$109,B45)","v":0},{"$f":"SUMIFS('RE-UI'!$J$11:$J$109,'RE-UI'!$D$11:$D$109,B45)","v":0},{"$f":"SUMIFS('RE-UI'!$K$11:$K$109,'RE-UI'!$D$11:$D$109,B45)","v":0},{"$f":"SUMIFS('RE-UI'!$L$11:$L$109,'RE-UI'!$D$11:$D$109,B45)","v":0},{"$f":"SUMIFS('RE-UI'!$M$11:$M$109,'RE-UI'!$D$11:$D$109,B45)","v":0},{"$f":"SUMIFS('RE-UI'!$N$11:$N$109,'RE-UI'!$D$11:$D$109,B45)","v":0},{"$f":"SUMIFS('RE-UI'!$O$11:$O$109,'RE-UI'!$D$11:$D$109,B45)","v":0},{"$f":"SUMIFS('RE-UI'!$P$11:$P$109,'RE-UI'!$D$11:$D$109,B45)","v":0},0]
[36,{"$f":"'TAB-C'!B46","v":"C36"},{"$f":"'TAB-C'!D46","v":""},{"$f":"SUMIFS('RE-UI'!$F$11:$F$109,'RE-UI'!$D$11:$D$109,B46)","v":0},{"$f":"SUMIFS('RE-UI'!$G$11:$G$109,'RE-UI'!$D$11:$D$109,B46)","v":0},{"$f":"SUMIFS('RE-UI'!$H$11:$H$109,'RE-UI'!$D$11:$D$109,B46)","v":0},{"$f":"SUMIFS('RE-UI'!$I$11:$I$109,'RE-UI'!$D$11:$D$109,B46)","v":0},{"$f":"SUMIFS('RE-UI'!$J$11:$J$109,'RE-UI'!$D$11:$D$109,B46)","v":0},{"$f":"SUMIFS('RE-UI'!$K$11:$K$109,'RE-UI'!$D$11:$D$109,B46)","v":0},{"$f":"SUMIFS('RE-UI'!$L$11:$L$109,'RE-UI'!$D$11:$D$109,B46)","v":0},{"$f":"SUMIFS('RE-UI'!$M$11:$M$109,'RE-UI'!$D$11:$D$109,B46)","v":0},{"$f":"SUMIFS('RE-UI'!$N$11:$N$109,'RE-UI'!$D$11:$D$109,B46)","v":0},{"$f":"SUMIFS('RE-UI'!$O$11:$O$109,'RE-UI'!$D$11:$D$109,B46)","v":0},{"$f":"SUMIFS('RE-UI'!$P$11:$P$109,'RE-UI'!$D$11:$D$109,B46)","v":0},0]
[37,{"$f":"'TAB-C'!B47","v":"C37"},{"$f":"'TAB-C'!D47","v":""},{"$f":"SUMIFS('RE-UI'!$F$11:$F$109,'RE-UI'!$D$11:$D$109,B47)","v":0},{"$f":"SUMIFS('RE-UI'!$G$11:$G$109,'RE-UI'!$D$11:$D$109,B47)","v":0},{"$f":"SUMIFS('RE-UI'!$H$11:$H$109,'RE-UI'!$D$11:$D$109,B47)","v":0},{"$f":"SUMIFS('RE-UI'!$I$11:$I$109,'RE-UI'!$D$11:$D$109,B47)","v":0},{"$f":"SUMIFS('RE-UI'!$J$11:$J$109,'RE-UI'!$D$11:$D$109,B47)","v":0},{"$f":"SUMIFS('RE-UI'!$K$11:$K$109,'RE-UI'!$D$11:$D$109,B47)","v":0},{"$f":"SUMIFS('RE-UI'!$L$11:$L$109,'RE-UI'!$D$11:$D$109,B47)","v":0},{"$f":"SUMIFS('RE-UI'!$M$11:$M$109,'RE-UI'!$D$11:$D$109,B47)","v":0},{"$f":"SUMIFS('RE-UI'!$N$11:$N$109,'RE-UI'!$D$11:$D$109,B47)","v":0},{"$f":"SUMIFS('RE-UI'!$O$11:$O$109,'RE-UI'!$D$11:$D$109,B47)","v":0},{"$f":"SUMIFS('RE-UI'!$P$11:$P$109,'RE-UI'!$D$11:$D$109,B47)","v":0},0]
[38,{"$f":"'TAB-C'!B48","v":"C38"},{"$f":"'TAB-C'!D48","v":""},{"$f":"SUMIFS('RE-UI'!$F$11:$F$109,'RE-UI'!$D$11:$D$109,B48)","v":0},{"$f":"SUMIFS('RE-UI'!$G$11:$G$109,'RE-UI'!$D$11:$D$109,B48)","v":0},{"$f":"SUMIFS('RE-UI'!$H$11:$H$109,'RE-UI'!$D$11:$D$109,B48)","v":0},{"$f":"SUMIFS('RE-UI'!$I$11:$I$109,'RE-UI'!$D$11:$D$109,B48)","v":0},{"$f":"SUMIFS('RE-UI'!$J$11:$J$109,'RE-UI'!$D$11:$D$109,B48)","v":0},{"$f":"SUMIFS('RE-UI'!$K$11:$K$109,'RE-UI'!$D$11:$D$109,B48)","v":0},{"$f":"SUMIFS('RE-UI'!$L$11:$L$109,'RE-UI'!$D$11:$D$109,B48)","v":0},{"$f":"SUMIFS('RE-UI'!$M$11:$M$109,'RE-UI'!$D$11:$D$109,B48)","v":0},{"$f":"SUMIFS('RE-UI'!$N$11:$N$109,'RE-UI'!$D$11:$D$109,B48)","v":0},{"$f":"SUMIFS('RE-UI'!$O$11:$O$109,'RE-UI'!$D$11:$D$109,B48)","v":0},{"$f":"SUMIFS('RE-UI'!$P$11:$P$109,'RE-UI'!$D$11:$D$109,B48)","v":0},0]
[39,{"$f":"'TAB-C'!B49","v":"C39"},{"$f":"'TAB-C'!D49","v":""},{"$f":"SUMIFS('RE-UI'!$F$11:$F$109,'RE-UI'!$D$11:$D$109,B49)","v":0},{"$f":"SUMIFS('RE-UI'!$G$11:$G$109,'RE-UI'!$D$11:$D$109,B49)","v":0},{"$f":"SUMIFS('RE-UI'!$H$11:$H$109,'RE-UI'!$D$11:$D$109,B49)","v":0},{"$f":"SUMIFS('RE-UI'!$I$11:$I$109,'RE-UI'!$D$11:$D$109,B49)","v":0},{"$f":"SUMIFS('RE-UI'!$J$11:$J$109,'RE-UI'!$D$11:$D$109,B49)","v":0},{"$f":"SUMIFS('RE-UI'!$K$11:$K$109,'RE-UI'!$D$11:$D$109,B49)","v":0},{"$f":"SUMIFS('RE-UI'!$L$11:$L$109,'RE-UI'!$D$11:$D$109,B49)","v":0},{"$f":"SUMIFS('RE-UI'!$M$11:$M$109,'RE-UI'!$D$11:$D$109,B49)","v":0},{"$f":"SUMIFS('RE-UI'!$N$11:$N$109,'RE-UI'!$D$11:$D$109,B49)","v":0},{"$f":"SUMIFS('RE-UI'!$O$11:$O$109,'RE-UI'!$D$11:$D$109,B49)","v":0},{"$f":"SUMIFS('RE-UI'!$P$11:$P$109,'RE-UI'!$D$11:$D$109,B49)","v":0},0]
[40,{"$f":"'TAB-C'!B50","v":"C40"},{"$f":"'TAB-C'!D50","v":""},{"$f":"SUMIFS('RE-UI'!$F$11:$F$109,'RE-UI'!$D$11:$D$109,B50)","v":0},{"$f":"SUMIFS('RE-UI'!$G$11:$G$109,'RE-UI'!$D$11:$D$109,B50)","v":0},{"$f":"SUMIFS('RE-UI'!$H$11:$H$109,'RE-UI'!$D$11:$D$109,B50)","v":0},{"$f":"SUMIFS('RE-UI'!$I$11:$I$109,'RE-UI'!$D$11:$D$109,B50)","v":0},{"$f":"SUMIFS('RE-UI'!$J$11:$J$109,'RE-UI'!$D$11:$D$109,B50)","v":0},{"$f":"SUMIFS('RE-UI'!$K$11:$K$109,'RE-UI'!$D$11:$D$109,B50)","v":0},{"$f":"SUMIFS('RE-UI'!$L$11:$L$109,'RE-UI'!$D$11:$D$109,B50)","v":0},{"$f":"SUMIFS('RE-UI'!$M$11:$M$109,'RE-UI'!$D$11:$D$109,B50)","v":0},{"$f":"SUMIFS('RE-UI'!$N$11:$N$109,'RE-UI'!$D$11:$D$109,B50)","v":0},{"$f":"SUMIFS('RE-UI'!$O$11:$O$109,'RE-UI'!$D$11:$D$109,B50)","v":0},{"$f":"SUMIFS('RE-UI'!$P$11:$P$109,'RE-UI'!$D$11:$D$109,B50)","v":0},0]
[41,{"$f":"'TAB-C'!B51","v":"C41"},{"$f":"'TAB-C'!D51","v":""},{"$f":"SUMIFS('RE-UI'!$F$11:$F$109,'RE-UI'!$D$11:$D$109,B51)","v":0},{"$f":"SUMIFS('RE-UI'!$G$11:$G$109,'RE-UI'!$D$11:$D$109,B51)","v":0},{"$f":"SUMIFS('RE-UI'!$H$11:$H$109,'RE-UI'!$D$11:$D$109,B51)","v":0},{"$f":"SUMIFS('RE-UI'!$I$11:$I$109,'RE-UI'!$D$11:$D$109,B51)","v":0},{"$f":"SUMIFS('RE-UI'!$J$11:$J$109,'RE-UI'!$D$11:$D$109,B51)","v":0},{"$f":"SUMIFS('RE-UI'!$K$11:$K$109,'RE-UI'!$D$11:$D$109,B51)","v":0},{"$f":"SUMIFS('RE-UI'!$L$11:$L$109,'RE-UI'!$D$11:$D$109,B51)","v":0},{"$f":"SUMIFS('RE-UI'!$M$11:$M$109,'RE-UI'!$D$11:$D$109,B51)","v":0},{"$f":"SUMIFS('RE-UI'!$N$11:$N$109,'RE-UI'!$D$11:$D$109,B51)","v":0},{"$f":"SUMIFS('RE-UI'!$O$11:$O$109,'RE-UI'!$D$11:$D$109,B51)","v":0},{"$f":"SUMIFS('RE-UI'!$P$11:$P$109,'RE-UI'!$D$11:$D$109,B51)","v":0},0]
[42,{"$f":"'TAB-C'!B52","v":"C42"},{"$f":"'TAB-C'!D52","v":""},{"$f":"SUMIFS('RE-UI'!$F$11:$F$109,'RE-UI'!$D$11:$D$109,B52)","v":0},{"$f":"SUMIFS('RE-UI'!$G$11:$G$109,'RE-UI'!$D$11:$D$109,B52)","v":0},{"$f":"SUMIFS('RE-UI'!$H$11:$H$109,'RE-UI'!$D$11:$D$109,B52)","v":0},{"$f":"SUMIFS('RE-UI'!$I$11:$I$109,'RE-UI'!$D$11:$D$109,B52)","v":0},{"$f":"SUMIFS('RE-UI'!$J$11:$J$109,'RE-UI'!$D$11:$D$109,B52)","v":0},{"$f":"SUMIFS('RE-UI'!$K$11:$K$109,'RE-UI'!$D$11:$D$109,B52)","v":0},{"$f":"SUMIFS('RE-UI'!$L$11:$L$109,'RE-UI'!$D$11:$D$109,B52)","v":0},{"$f":"SUMIFS('RE-UI'!$M$11:$M$109,'RE-UI'!$D$11:$D$109,B52)","v":0},{"$f":"SUMIFS('RE-UI'!$N$11:$N$109,'RE-UI'!$D$11:$D$109,B52)","v":0},{"$f":"SUMIFS('RE-UI'!$O$11:$O$109,'RE-UI'!$D$11:$D$109,B52)","v":0},{"$f":"SUMIFS('RE-UI'!$P$11:$P$109,'RE-UI'!$D$11:$D$109,B52)","v":0},0]
[43,{"$f":"'TAB-C'!B53","v":"C43"},{"$f":"'TAB-C'!D53","v":""},{"$f":"SUMIFS('RE-UI'!$F$11:$F$109,'RE-UI'!$D$11:$D$109,B53)","v":0},{"$f":"SUMIFS('RE-UI'!$G$11:$G$109,'RE-UI'!$D$11:$D$109,B53)","v":0},{"$f":"SUMIFS('RE-UI'!$H$11:$H$109,'RE-UI'!$D$11:$D$109,B53)","v":0},{"$f":"SUMIFS('RE-UI'!$I$11:$I$109,'RE-UI'!$D$11:$D$109,B53)","v":0},{"$f":"SUMIFS('RE-UI'!$J$11:$J$109,'RE-UI'!$D$11:$D$109,B53)","v":0},{"$f":"SUMIFS('RE-UI'!$K$11:$K$109,'RE-UI'!$D$11:$D$109,B53)","v":0},{"$f":"SUMIFS('RE-UI'!$L$11:$L$109,'RE-UI'!$D$11:$D$109,B53)","v":0},{"$f":"SUMIFS('RE-UI'!$M$11:$M$109,'RE-UI'!$D$11:$D$109,B53)","v":0},{"$f":"SUMIFS('RE-UI'!$N$11:$N$109,'RE-UI'!$D$11:$D$109,B53)","v":0},{"$f":"SUMIFS('RE-UI'!$O$11:$O$109,'RE-UI'!$D$11:$D$109,B53)","v":0},{"$f":"SUMIFS('RE-UI'!$P$11:$P$109,'RE-UI'!$D$11:$D$109,B53)","v":0},0]
[44,{"$f":"'TAB-C'!B54","v":"C44"},{"$f":"'TAB-C'!D54","v":""},{"$f":"SUMIFS('RE-UI'!$F$11:$F$109,'RE-UI'!$D$11:$D$109,B54)","v":0},{"$f":"SUMIFS('RE-UI'!$G$11:$G$109,'RE-UI'!$D$11:$D$109,B54)","v":0},{"$f":"SUMIFS('RE-UI'!$H$11:$H$109,'RE-UI'!$D$11:$D$109,B54)","v":0},{"$f":"SUMIFS('RE-UI'!$I$11:$I$109,'RE-UI'!$D$11:$D$109,B54)","v":0},{"$f":"SUMIFS('RE-UI'!$J$11:$J$109,'RE-UI'!$D$11:$D$109,B54)","v":0},{"$f":"SUMIFS('RE-UI'!$K$11:$K$109,'RE-UI'!$D$11:$D$109,B54)","v":0},{"$f":"SUMIFS('RE-UI'!$L$11:$L$109,'RE-UI'!$D$11:$D$109,B54)","v":0},{"$f":"SUMIFS('RE-UI'!$M$11:$M$109,'RE-UI'!$D$11:$D$109,B54)","v":0},{"$f":"SUMIFS('RE-UI'!$N$11:$N$109,'RE-UI'!$D$11:$D$109,B54)","v":0},{"$f":"SUMIFS('RE-UI'!$O$11:$O$109,'RE-UI'!$D$11:$D$109,B54)","v":0},{"$f":"SUMIFS('RE-UI'!$P$11:$P$109,'RE-UI'!$D$11:$D$109,B54)","v":0},0]
[45,{"$f":"'TAB-C'!B55","v":"C45"},{"$f":"'TAB-C'!D55","v":""},{"$f":"SUMIFS('RE-UI'!$F$11:$F$109,'RE-UI'!$D$11:$D$109,B55)","v":0},{"$f":"SUMIFS('RE-UI'!$G$11:$G$109,'RE-UI'!$D$11:$D$109,B55)","v":0},{"$f":"SUMIFS('RE-UI'!$H$11:$H$109,'RE-UI'!$D$11:$D$109,B55)","v":0},{"$f":"SUMIFS('RE-UI'!$I$11:$I$109,'RE-UI'!$D$11:$D$109,B55)","v":0},{"$f":"SUMIFS('RE-UI'!$J$11:$J$109,'RE-UI'!$D$11:$D$109,B55)","v":0},{"$f":"SUMIFS('RE-UI'!$K$11:$K$109,'RE-UI'!$D$11:$D$109,B55)","v":0},{"$f":"SUMIFS('RE-UI'!$L$11:$L$109,'RE-UI'!$D$11:$D$109,B55)","v":0},{"$f":"SUMIFS('RE-UI'!$M$11:$M$109,'RE-UI'!$D$11:$D$109,B55)","v":0},{"$f":"SUMIFS('RE-UI'!$N$11:$N$109,'RE-UI'!$D$11:$D$109,B55)","v":0},{"$f":"SUMIFS('RE-UI'!$O$11:$O$109,'RE-UI'!$D$11:$D$109,B55)","v":0},{"$f":"SUMIFS('RE-UI'!$P$11:$P$109,'RE-UI'!$D$11:$D$109,B55)","v":0},0]
[46,{"$f":"'TAB-C'!B56","v":"C46"},{"$f":"'TAB-C'!D56","v":""},{"$f":"SUMIFS('RE-UI'!$F$11:$F$109,'RE-UI'!$D$11:$D$109,B56)","v":0},{"$f":"SUMIFS('RE-UI'!$G$11:$G$109,'RE-UI'!$D$11:$D$109,B56)","v":0},{"$f":"SUMIFS('RE-UI'!$H$11:$H$109,'RE-UI'!$D$11:$D$109,B56)","v":0},{"$f":"SUMIFS('RE-UI'!$I$11:$I$109,'RE-UI'!$D$11:$D$109,B56)","v":0},{"$f":"SUMIFS('RE-UI'!$J$11:$J$109,'RE-UI'!$D$11:$D$109,B56)","v":0},{"$f":"SUMIFS('RE-UI'!$K$11:$K$109,'RE-UI'!$D$11:$D$109,B56)","v":0},{"$f":"SUMIFS('RE-UI'!$L$11:$L$109,'RE-UI'!$D$11:$D$109,B56)","v":0},{"$f":"SUMIFS('RE-UI'!$M$11:$M$109,'RE-UI'!$D$11:$D$109,B56)","v":0},{"$f":"SUMIFS('RE-UI'!$N$11:$N$109,'RE-UI'!$D$11:$D$109,B56)","v":0},{"$f":"SUMIFS('RE-UI'!$O$11:$O$109,'RE-UI'!$D$11:$D$109,B56)","v":0},{"$f":"SUMIFS('RE-UI'!$P$11:$P$109,'RE-UI'!$D$11:$D$109,B56)","v":0},0]
[47,{"$f":"'TAB-C'!B57","v":"C47"},{"$f":"'TAB-C'!D57","v":""},{"$f":"SUMIFS('RE-UI'!$F$11:$F$109,'RE-UI'!$D$11:$D$109,B57)","v":0},{"$f":"SUMIFS('RE-UI'!$G$11:$G$109,'RE-UI'!$D$11:$D$109,B57)","v":0},{"$f":"SUMIFS('RE-UI'!$H$11:$H$109,'RE-UI'!$D$11:$D$109,B57)","v":0},{"$f":"SUMIFS('RE-UI'!$I$11:$I$109,'RE-UI'!$D$11:$D$109,B57)","v":0},{"$f":"SUMIFS('RE-UI'!$J$11:$J$109,'RE-UI'!$D$11:$D$109,B57)","v":0},{"$f":"SUMIFS('RE-UI'!$K$11:$K$109,'RE-UI'!$D$11:$D$109,B57)","v":0},{"$f":"SUMIFS('RE-UI'!$L$11:$L$109,'RE-UI'!$D$11:$D$109,B57)","v":0},{"$f":"SUMIFS('RE-UI'!$M$11:$M$109,'RE-UI'!$D$11:$D$109,B57)","v":0},{"$f":"SUMIFS('RE-UI'!$N$11:$N$109,'RE-UI'!$D$11:$D$109,B57)","v":0},{"$f":"SUMIFS('RE-UI'!$O$11:$O$109,'RE-UI'!$D$11:$D$109,B57)","v":0},{"$f":"SUMIFS('RE-UI'!$P$11:$P$109,'RE-UI'!$D$11:$D$109,B57)","v":0},0]
[48,{"$f":"'TAB-C'!B58","v":"C48"},{"$f":"'TAB-C'!D58","v":""},{"$f":"SUMIFS('RE-UI'!$F$11:$F$109,'RE-UI'!$D$11:$D$109,B58)","v":0},{"$f":"SUMIFS('RE-UI'!$G$11:$G$109,'RE-UI'!$D$11:$D$109,B58)","v":0},{"$f":"SUMIFS('RE-UI'!$H$11:$H$109,'RE-UI'!$D$11:$D$109,B58)","v":0},{"$f":"SUMIFS('RE-UI'!$I$11:$I$109,'RE-UI'!$D$11:$D$109,B58)","v":0},{"$f":"SUMIFS('RE-UI'!$J$11:$J$109,'RE-UI'!$D$11:$D$109,B58)","v":0},{"$f":"SUMIFS('RE-UI'!$K$11:$K$109,'RE-UI'!$D$11:$D$109,B58)","v":0},{"$f":"SUMIFS('RE-UI'!$L$11:$L$109,'RE-UI'!$D$11:$D$109,B58)","v":0},{"$f":"SUMIFS('RE-UI'!$M$11:$M$109,'RE-UI'!$D$11:$D$109,B58)","v":0},{"$f":"SUMIFS('RE-UI'!$N$11:$N$109,'RE-UI'!$D$11:$D$109,B58)","v":0},{"$f":"SUMIFS('RE-UI'!$O$11:$O$109,'RE-UI'!$D$11:$D$109,B58)","v":0},{"$f":"SUMIFS('RE-UI'!$P$11:$P$109,'RE-UI'!$D$11:$D$109,B58)","v":0},0]
[49,{"$f":"'TAB-C'!B59","v":"C49"},{"$f":"'TAB-C'!D59","v":""},{"$f":"SUMIFS('RE-UI'!$F$11:$F$109,'RE-UI'!$D$11:$D$109,B59)","v":0},{"$f":"SUMIFS('RE-UI'!$G$11:$G$109,'RE-UI'!$D$11:$D$109,B59)","v":0},{"$f":"SUMIFS('RE-UI'!$H$11:$H$109,'RE-UI'!$D$11:$D$109,B59)","v":0},{"$f":"SUMIFS('RE-UI'!$I$11:$I$109,'RE-UI'!$D$11:$D$109,B59)","v":0},{"$f":"SUMIFS('RE-UI'!$J$11:$J$109,'RE-UI'!$D$11:$D$109,B59)","v":0},{"$f":"SUMIFS('RE-UI'!$K$11:$K$109,'RE-UI'!$D$11:$D$109,B59)","v":0},{"$f":"SUMIFS('RE-UI'!$L$11:$L$109,'RE-UI'!$D$11:$D$109,B59)","v":0},{"$f":"SUMIFS('RE-UI'!$M$11:$M$109,'RE-UI'!$D$11:$D$109,B59)","v":0},{"$f":"SUMIFS('RE-UI'!$N$11:$N$109,'RE-UI'!$D$11:$D$109,B59)","v":0},{"$f":"SUMIFS('RE-UI'!$O$11:$O$109,'RE-UI'!$D$11:$D$109,B59)","v":0},{"$f":"SUMIFS('RE-UI'!$P$11:$P$109,'RE-UI'!$D$11:$D$109,B59)","v":0},0]
[50,{"$f":"'TAB-C'!B60","v":"C50"},{"$f":"'TAB-C'!D60","v":""},{"$f":"SUMIFS('RE-UI'!$F$11:$F$109,'RE-UI'!$D$11:$D$109,B60)","v":0},{"$f":"SUMIFS('RE-UI'!$G$11:$G$109,'RE-UI'!$D$11:$D$109,B60)","v":0},{"$f":"SUMIFS('RE-UI'!$H$11:$H$109,'RE-UI'!$D$11:$D$109,B60)","v":0},{"$f":"SUMIFS('RE-UI'!$I$11:$I$109,'RE-UI'!$D$11:$D$109,B60)","v":0},{"$f":"SUMIFS('RE-UI'!$J$11:$J$109,'RE-UI'!$D$11:$D$109,B60)","v":0},{"$f":"SUMIFS('RE-UI'!$K$11:$K$109,'RE-UI'!$D$11:$D$109,B60)","v":0},{"$f":"SUMIFS('RE-UI'!$L$11:$L$109,'RE-UI'!$D$11:$D$109,B60)","v":0},{"$f":"SUMIFS('RE-UI'!$M$11:$M$109,'RE-UI'!$D$11:$D$109,B60)","v":0},{"$f":"SUMIFS('RE-UI'!$N$11:$N$109,'RE-UI'!$D$11:$D$109,B60)","v":0},{"$f":"SUMIFS('RE-UI'!$O$11:$O$109,'RE-UI'!$D$11:$D$109,B60)","v":0},{"$f":"SUMIFS('RE-UI'!$P$11:$P$109,'RE-UI'!$D$11:$D$109,B60)","v":0},0]
[51,{"$f":"'TAB-C'!B61","v":"C51"},{"$f":"'TAB-C'!D61","v":""},{"$f":"SUMIFS('RE-UI'!$F$11:$F$109,'RE-UI'!$D$11:$D$109,B61)","v":0},{"$f":"SUMIFS('RE-UI'!$G$11:$G$109,'RE-UI'!$D$11:$D$109,B61)","v":0},{"$f":"SUMIFS('RE-UI'!$H$11:$H$109,'RE-UI'!$D$11:$D$109,B61)","v":0},{"$f":"SUMIFS('RE-UI'!$I$11:$I$109,'RE-UI'!$D$11:$D$109,B61)","v":0},{"$f":"SUMIFS('RE-UI'!$J$11:$J$109,'RE-UI'!$D$11:$D$109,B61)","v":0},{"$f":"SUMIFS('RE-UI'!$K$11:$K$109,'RE-UI'!$D$11:$D$109,B61)","v":0},{"$f":"SUMIFS('RE-UI'!$L$11:$L$109,'RE-UI'!$D$11:$D$109,B61)","v":0},{"$f":"SUMIFS('RE-UI'!$M$11:$M$109,'RE-UI'!$D$11:$D$109,B61)","v":0},{"$f":"SUMIFS('RE-UI'!$N$11:$N$109,'RE-UI'!$D$11:$D$109,B61)","v":0},{"$f":"SUMIFS('RE-UI'!$O$11:$O$109,'RE-UI'!$D$11:$D$109,B61)","v":0},{"$f":"SUMIFS('RE-UI'!$P$11:$P$109,'RE-UI'!$D$11:$D$109,B61)","v":0},0]
[52,{"$f":"'TAB-C'!B62","v":"C52"},{"$f":"'TAB-C'!D62","v":""},{"$f":"SUMIFS('RE-UI'!$F$11:$F$109,'RE-UI'!$D$11:$D$109,B62)","v":0},{"$f":"SUMIFS('RE-UI'!$G$11:$G$109,'RE-UI'!$D$11:$D$109,B62)","v":0},{"$f":"SUMIFS('RE-UI'!$H$11:$H$109,'RE-UI'!$D$11:$D$109,B62)","v":0},{"$f":"SUMIFS('RE-UI'!$I$11:$I$109,'RE-UI'!$D$11:$D$109,B62)","v":0},{"$f":"SUMIFS('RE-UI'!$J$11:$J$109,'RE-UI'!$D$11:$D$109,B62)","v":0},{"$f":"SUMIFS('RE-UI'!$K$11:$K$109,'RE-UI'!$D$11:$D$109,B62)","v":0},{"$f":"SUMIFS('RE-UI'!$L$11:$L$109,'RE-UI'!$D$11:$D$109,B62)","v":0},{"$f":"SUMIFS('RE-UI'!$M$11:$M$109,'RE-UI'!$D$11:$D$109,B62)","v":0},{"$f":"SUMIFS('RE-UI'!$N$11:$N$109,'RE-UI'!$D$11:$D$109,B62)","v":0},{"$f":"SUMIFS('RE-UI'!$O$11:$O$109,'RE-UI'!$D$11:$D$109,B62)","v":0},{"$f":"SUMIFS('RE-UI'!$P$11:$P$109,'RE-UI'!$D$11:$D$109,B62)","v":0},0]
[53,{"$f":"'TAB-C'!B63","v":"C53"},{"$f":"'TAB-C'!D63","v":""},{"$f":"SUMIFS('RE-UI'!$F$11:$F$109,'RE-UI'!$D$11:$D$109,B63)","v":0},{"$f":"SUMIFS('RE-UI'!$G$11:$G$109,'RE-UI'!$D$11:$D$109,B63)","v":0},{"$f":"SUMIFS('RE-UI'!$H$11:$H$109,'RE-UI'!$D$11:$D$109,B63)","v":0},{"$f":"SUMIFS('RE-UI'!$I$11:$I$109,'RE-UI'!$D$11:$D$109,B63)","v":0},{"$f":"SUMIFS('RE-UI'!$J$11:$J$109,'RE-UI'!$D$11:$D$109,B63)","v":0},{"$f":"SUMIFS('RE-UI'!$K$11:$K$109,'RE-UI'!$D$11:$D$109,B63)","v":0},{"$f":"SUMIFS('RE-UI'!$L$11:$L$109,'RE-UI'!$D$11:$D$109,B63)","v":0},{"$f":"SUMIFS('RE-UI'!$M$11:$M$109,'RE-UI'!$D$11:$D$109,B63)","v":0},{"$f":"SUMIFS('RE-UI'!$N$11:$N$109,'RE-UI'!$D$11:$D$109,B63)","v":0},{"$f":"SUMIFS('RE-UI'!$O$11:$O$109,'RE-UI'!$D$11:$D$109,B63)","v":0},{"$f":"SUMIFS('RE-UI'!$P$11:$P$109,'RE-UI'!$D$11:$D$109,B63)","v":0},0]
[54,{"$f":"'TAB-C'!B64","v":"C54"},{"$f":"'TAB-C'!D64","v":""},{"$f":"SUMIFS('RE-UI'!$F$11:$F$109,'RE-UI'!$D$11:$D$109,B64)","v":0},{"$f":"SUMIFS('RE-UI'!$G$11:$G$109,'RE-UI'!$D$11:$D$109,B64)","v":0},{"$f":"SUMIFS('RE-UI'!$H$11:$H$109,'RE-UI'!$D$11:$D$109,B64)","v":0},{"$f":"SUMIFS('RE-UI'!$I$11:$I$109,'RE-UI'!$D$11:$D$109,B64)","v":0},{"$f":"SUMIFS('RE-UI'!$J$11:$J$109,'RE-UI'!$D$11:$D$109,B64)","v":0},{"$f":"SUMIFS('RE-UI'!$K$11:$K$109,'RE-UI'!$D$11:$D$109,B64)","v":0},{"$f":"SUMIFS('RE-UI'!$L$11:$L$109,'RE-UI'!$D$11:$D$109,B64)","v":0},{"$f":"SUMIFS('RE-UI'!$M$11:$M$109,'RE-UI'!$D$11:$D$109,B64)","v":0},{"$f":"SUMIFS('RE-UI'!$N$11:$N$109,'RE-UI'!$D$11:$D$109,B64)","v":0},{"$f":"SUMIFS('RE-UI'!$O$11:$O$109,'RE-UI'!$D$11:$D$109,B64)","v":0},{"$f":"SUMIFS('RE-UI'!$P$11:$P$109,'RE-UI'!$D$11:$D$109,B64)","v":0},0]
[55,{"$f":"'TAB-C'!B65","v":"C55"},{"$f":"'TAB-C'!D65","v":""},{"$f":"SUMIFS('RE-UI'!$F$11:$F$109,'RE-UI'!$D$11:$D$109,B65)","v":0},{"$f":"SUMIFS('RE-UI'!$G$11:$G$109,'RE-UI'!$D$11:$D$109,B65)","v":0},{"$f":"SUMIFS('RE-UI'!$H$11:$H$109,'RE-UI'!$D$11:$D$109,B65)","v":0},{"$f":"SUMIFS('RE-UI'!$I$11:$I$109,'RE-UI'!$D$11:$D$109,B65)","v":0},{"$f":"SUMIFS('RE-UI'!$J$11:$J$109,'RE-UI'!$D$11:$D$109,B65)","v":0},{"$f":"SUMIFS('RE-UI'!$K$11:$K$109,'RE-UI'!$D$11:$D$109,B65)","v":0},{"$f":"SUMIFS('RE-UI'!$L$11:$L$109,'RE-UI'!$D$11:$D$109,B65)","v":0},{"$f":"SUMIFS('RE-UI'!$M$11:$M$109,'RE-UI'!$D$11:$D$109,B65)","v":0},{"$f":"SUMIFS('RE-UI'!$N$11:$N$109,'RE-UI'!$D$11:$D$109,B65)","v":0},{"$f":"SUMIFS('RE-UI'!$O$11:$O$109,'RE-UI'!$D$11:$D$109,B65)","v":0},{"$f":"SUMIFS('RE-UI'!$P$11:$P$109,'RE-UI'!$D$11:$D$109,B65)","v":0},0]
[56,{"$f":"'TAB-C'!B66","v":"C56"},{"$f":"'TAB-C'!D66","v":""},{"$f":"SUMIFS('RE-UI'!$F$11:$F$109,'RE-UI'!$D$11:$D$109,B66)","v":0},{"$f":"SUMIFS('RE-UI'!$G$11:$G$109,'RE-UI'!$D$11:$D$109,B66)","v":0},{"$f":"SUMIFS('RE-UI'!$H$11:$H$109,'RE-UI'!$D$11:$D$109,B66)","v":0},{"$f":"SUMIFS('RE-UI'!$I$11:$I$109,'RE-UI'!$D$11:$D$109,B66)","v":0},{"$f":"SUMIFS('RE-UI'!$J$11:$J$109,'RE-UI'!$D$11:$D$109,B66)","v":0},{"$f":"SUMIFS('RE-UI'!$K$11:$K$109,'RE-UI'!$D$11:$D$109,B66)","v":0},{"$f":"SUMIFS('RE-UI'!$L$11:$L$109,'RE-UI'!$D$11:$D$109,B66)","v":0},{"$f":"SUMIFS('RE-UI'!$M$11:$M$109,'RE-UI'!$D$11:$D$109,B66)","v":0},{"$f":"SUMIFS('RE-UI'!$N$11:$N$109,'RE-UI'!$D$11:$D$109,B66)","v":0},{"$f":"SUMIFS('RE-UI'!$O$11:$O$109,'RE-UI'!$D$11:$D$109,B66)","v":0},{"$f":"SUMIFS('RE-UI'!$P$11:$P$109,'RE-UI'!$D$11:$D$109,B66)","v":0},0]
[57,{"$f":"'TAB-C'!B67","v":"C57"},{"$f":"'TAB-C'!D67","v":""},{"$f":"SUMIFS('RE-UI'!$F$11:$F$109,'RE-UI'!$D$11:$D$109,B67)","v":0},{"$f":"SUMIFS('RE-UI'!$G$11:$G$109,'RE-UI'!$D$11:$D$109,B67)","v":0},{"$f":"SUMIFS('RE-UI'!$H$11:$H$109,'RE-UI'!$D$11:$D$109,B67)","v":0},{"$f":"SUMIFS('RE-UI'!$I$11:$I$109,'RE-UI'!$D$11:$D$109,B67)","v":0},{"$f":"SUMIFS('RE-UI'!$J$11:$J$109,'RE-UI'!$D$11:$D$109,B67)","v":0},{"$f":"SUMIFS('RE-UI'!$K$11:$K$109,'RE-UI'!$D$11:$D$109,B67)","v":0},{"$f":"SUMIFS('RE-UI'!$L$11:$L$109,'RE-UI'!$D$11:$D$109,B67)","v":0},{"$f":"SUMIFS('RE-UI'!$M$11:$M$109,'RE-UI'!$D$11:$D$109,B67)","v":0},{"$f":"SUMIFS('RE-UI'!$N$11:$N$109,'RE-UI'!$D$11:$D$109,B67)","v":0},{"$f":"SUMIFS('RE-UI'!$O$11:$O$109,'RE-UI'!$D$11:$D$109,B67)","v":0},{"$f":"SUMIFS('RE-UI'!$P$11:$P$109,'RE-UI'!$D$11:$D$109,B67)","v":0},0]
[58,{"$f":"'TAB-C'!B68","v":"C58"},{"$f":"'TAB-C'!D68","v":""},{"$f":"SUMIFS('RE-UI'!$F$11:$F$109,'RE-UI'!$D$11:$D$109,B68)","v":0},{"$f":"SUMIFS('RE-UI'!$G$11:$G$109,'RE-UI'!$D$11:$D$109,B68)","v":0},{"$f":"SUMIFS('RE-UI'!$H$11:$H$109,'RE-UI'!$D$11:$D$109,B68)","v":0},{"$f":"SUMIFS('RE-UI'!$I$11:$I$109,'RE-UI'!$D$11:$D$109,B68)","v":0},{"$f":"SUMIFS('RE-UI'!$J$11:$J$109,'RE-UI'!$D$11:$D$109,B68)","v":0},{"$f":"SUMIFS('RE-UI'!$K$11:$K$109,'RE-UI'!$D$11:$D$109,B68)","v":0},{"$f":"SUMIFS('RE-UI'!$L$11:$L$109,'RE-UI'!$D$11:$D$109,B68)","v":0},{"$f":"SUMIFS('RE-UI'!$M$11:$M$109,'RE-UI'!$D$11:$D$109,B68)","v":0},{"$f":"SUMIFS('RE-UI'!$N$11:$N$109,'RE-UI'!$D$11:$D$109,B68)","v":0},{"$f":"SUMIFS('RE-UI'!$O$11:$O$109,'RE-UI'!$D$11:$D$109,B68)","v":0},{"$f":"SUMIFS('RE-UI'!$P$11:$P$109,'RE-UI'!$D$11:$D$109,B68)","v":0},0]
[59,{"$f":"'TAB-C'!B69","v":"C59"},{"$f":"'TAB-C'!D69","v":""},{"$f":"SUMIFS('RE-UI'!$F$11:$F$109,'RE-UI'!$D$11:$D$109,B69)","v":0},{"$f":"SUMIFS('RE-UI'!$G$11:$G$109,'RE-UI'!$D$11:$D$109,B69)","v":0},{"$f":"SUMIFS('RE-UI'!$H$11:$H$109,'RE-UI'!$D$11:$D$109,B69)","v":0},{"$f":"SUMIFS('RE-UI'!$I$11:$I$109,'RE-UI'!$D$11:$D$109,B69)","v":0},{"$f":"SUMIFS('RE-UI'!$J$11:$J$109,'RE-UI'!$D$11:$D$109,B69)","v":0},{"$f":"SUMIFS('RE-UI'!$K$11:$K$109,'RE-UI'!$D$11:$D$109,B69)","v":0},{"$f":"SUMIFS('RE-UI'!$L$11:$L$109,'RE-UI'!$D$11:$D$109,B69)","v":0},{"$f":"SUMIFS('RE-UI'!$M$11:$M$109,'RE-UI'!$D$11:$D$109,B69)","v":0},{"$f":"SUMIFS('RE-UI'!$N$11:$N$109,'RE-UI'!$D$11:$D$109,B69)","v":0},{"$f":"SUMIFS('RE-UI'!$O$11:$O$109,'RE-UI'!$D$11:$D$109,B69)","v":0},{"$f":"SUMIFS('RE-UI'!$P$11:$P$109,'RE-UI'!$D$11:$D$109,B69)","v":0},0]
[60,{"$f":"'TAB-C'!B70","v":"C60"},{"$f":"'TAB-C'!D70","v":""},{"$f":"SUMIFS('RE-UI'!$F$11:$F$109,'RE-UI'!$D$11:$D$109,B70)","v":0},{"$f":"SUMIFS('RE-UI'!$G$11:$G$109,'RE-UI'!$D$11:$D$109,B70)","v":0},{"$f":"SUMIFS('RE-UI'!$H$11:$H$109,'RE-UI'!$D$11:$D$109,B70)","v":0},{"$f":"SUMIFS('RE-UI'!$I$11:$I$109,'RE-UI'!$D$11:$D$109,B70)","v":0},{"$f":"SUMIFS('RE-UI'!$J$11:$J$109,'RE-UI'!$D$11:$D$109,B70)","v":0},{"$f":"SUMIFS('RE-UI'!$K$11:$K$109,'RE-UI'!$D$11:$D$109,B70)","v":0},{"$f":"SUMIFS('RE-UI'!$L$11:$L$109,'RE-UI'!$D$11:$D$109,B70)","v":0},{"$f":"SUMIFS('RE-UI'!$M$11:$M$109,'RE-UI'!$D$11:$D$109,B70)","v":0},{"$f":"SUMIFS('RE-UI'!$N$11:$N$109,'RE-UI'!$D$11:$D$109,B70)","v":0},{"$f":"SUMIFS('RE-UI'!$O$11:$O$109,'RE-UI'!$D$11:$D$109,B70)","v":0},{"$f":"SUMIFS('RE-UI'!$P$11:$P$109,'RE-UI'!$D$11:$D$109,B70)","v":0},0]
[61,{"$f":"'TAB-C'!B71","v":"C61"},{"$f":"'TAB-C'!D71","v":""},{"$f":"SUMIFS('RE-UI'!$F$11:$F$109,'RE-UI'!$D$11:$D$109,B71)","v":0},{"$f":"SUMIFS('RE-UI'!$G$11:$G$109,'RE-UI'!$D$11:$D$109,B71)","v":0},{"$f":"SUMIFS('RE-UI'!$H$11:$H$109,'RE-UI'!$D$11:$D$109,B71)","v":0},{"$f":"SUMIFS('RE-UI'!$I$11:$I$109,'RE-UI'!$D$11:$D$109,B71)","v":0},{"$f":"SUMIFS('RE-UI'!$J$11:$J$109,'RE-UI'!$D$11:$D$109,B71)","v":0},{"$f":"SUMIFS('RE-UI'!$K$11:$K$109,'RE-UI'!$D$11:$D$109,B71)","v":0},{"$f":"SUMIFS('RE-UI'!$L$11:$L$109,'RE-UI'!$D$11:$D$109,B71)","v":0},{"$f":"SUMIFS('RE-UI'!$M$11:$M$109,'RE-UI'!$D$11:$D$109,B71)","v":0},{"$f":"SUMIFS('RE-UI'!$N$11:$N$109,'RE-UI'!$D$11:$D$109,B71)","v":0},{"$f":"SUMIFS('RE-UI'!$O$11:$O$109,'RE-UI'!$D$11:$D$109,B71)","v":0},{"$f":"SUMIFS('RE-UI'!$P$11:$P$109,'RE-UI'!$D$11:$D$109,B71)","v":0},0]
[62,{"$f":"'TAB-C'!B72","v":"C62"},{"$f":"'TAB-C'!D72","v":""},{"$f":"SUMIFS('RE-UI'!$F$11:$F$109,'RE-UI'!$D$11:$D$109,B72)","v":0},{"$f":"SUMIFS('RE-UI'!$G$11:$G$109,'RE-UI'!$D$11:$D$109,B72)","v":0},{"$f":"SUMIFS('RE-UI'!$H$11:$H$109,'RE-UI'!$D$11:$D$109,B72)","v":0},{"$f":"SUMIFS('RE-UI'!$I$11:$I$109,'RE-UI'!$D$11:$D$109,B72)","v":0},{"$f":"SUMIFS('RE-UI'!$J$11:$J$109,'RE-UI'!$D$11:$D$109,B72)","v":0},{"$f":"SUMIFS('RE-UI'!$K$11:$K$109,'RE-UI'!$D$11:$D$109,B72)","v":0},{"$f":"SUMIFS('RE-UI'!$L$11:$L$109,'RE-UI'!$D$11:$D$109,B72)","v":0},{"$f":"SUMIFS('RE-UI'!$M$11:$M$109,'RE-UI'!$D$11:$D$109,B72)","v":0},{"$f":"SUMIFS('RE-UI'!$N$11:$N$109,'RE-UI'!$D$11:$D$109,B72)","v":0},{"$f":"SUMIFS('RE-UI'!$O$11:$O$109,'RE-UI'!$D$11:$D$109,B72)","v":0},{"$f":"SUMIFS('RE-UI'!$P$11:$P$109,'RE-UI'!$D$11:$D$109,B72)","v":0},0]
[63,{"$f":"'TAB-C'!B73","v":"C63"},{"$f":"'TAB-C'!D73","v":""},{"$f":"SUMIFS('RE-UI'!$F$11:$F$109,'RE-UI'!$D$11:$D$109,B73)","v":0},{"$f":"SUMIFS('RE-UI'!$G$11:$G$109,'RE-UI'!$D$11:$D$109,B73)","v":0},{"$f":"SUMIFS('RE-UI'!$H$11:$H$109,'RE-UI'!$D$11:$D$109,B73)","v":0},{"$f":"SUMIFS('RE-UI'!$I$11:$I$109,'RE-UI'!$D$11:$D$109,B73)","v":0},{"$f":"SUMIFS('RE-UI'!$J$11:$J$109,'RE-UI'!$D$11:$D$109,B73)","v":0},{"$f":"SUMIFS('RE-UI'!$K$11:$K$109,'RE-UI'!$D$11:$D$109,B73)","v":0},{"$f":"SUMIFS('RE-UI'!$L$11:$L$109,'RE-UI'!$D$11:$D$109,B73)","v":0},{"$f":"SUMIFS('RE-UI'!$M$11:$M$109,'RE-UI'!$D$11:$D$109,B73)","v":0},{"$f":"SUMIFS('RE-UI'!$N$11:$N$109,'RE-UI'!$D$11:$D$109,B73)","v":0},{"$f":"SUMIFS('RE-UI'!$O$11:$O$109,'RE-UI'!$D$11:$D$109,B73)","v":0},{"$f":"SUMIFS('RE-UI'!$P$11:$P$109,'RE-UI'!$D$11:$D$109,B73)","v":0},0]
[64,{"$f":"'TAB-C'!B74","v":"C64"},{"$f":"'TAB-C'!D74","v":""},{"$f":"SUMIFS('RE-UI'!$F$11:$F$109,'RE-UI'!$D$11:$D$109,B74)","v":0},{"$f":"SUMIFS('RE-UI'!$G$11:$G$109,'RE-UI'!$D$11:$D$109,B74)","v":0},{"$f":"SUMIFS('RE-UI'!$H$11:$H$109,'RE-UI'!$D$11:$D$109,B74)","v":0},{"$f":"SUMIFS('RE-UI'!$I$11:$I$109,'RE-UI'!$D$11:$D$109,B74)","v":0},{"$f":"SUMIFS('RE-UI'!$J$11:$J$109,'RE-UI'!$D$11:$D$109,B74)","v":0},{"$f":"SUMIFS('RE-UI'!$K$11:$K$109,'RE-UI'!$D$11:$D$109,B74)","v":0},{"$f":"SUMIFS('RE-UI'!$L$11:$L$109,'RE-UI'!$D$11:$D$109,B74)","v":0},{"$f":"SUMIFS('RE-UI'!$M$11:$M$109,'RE-UI'!$D$11:$D$109,B74)","v":0},{"$f":"SUMIFS('RE-UI'!$N$11:$N$109,'RE-UI'!$D$11:$D$109,B74)","v":0},{"$f":"SUMIFS('RE-UI'!$O$11:$O$109,'RE-UI'!$D$11:$D$109,B74)","v":0},{"$f":"SUMIFS('RE-UI'!$P$11:$P$109,'RE-UI'!$D$11:$D$109,B74)","v":0},0]
[65,{"$f":"'TAB-C'!B75","v":"C65"},{"$f":"'TAB-C'!D75","v":""},{"$f":"SUMIFS('RE-UI'!$F$11:$F$109,'RE-UI'!$D$11:$D$109,B75)","v":0},{"$f":"SUMIFS('RE-UI'!$G$11:$G$109,'RE-UI'!$D$11:$D$109,B75)","v":0},{"$f":"SUMIFS('RE-UI'!$H$11:$H$109,'RE-UI'!$D$11:$D$109,B75)","v":0},{"$f":"SUMIFS('RE-UI'!$I$11:$I$109,'RE-UI'!$D$11:$D$109,B75)","v":0},{"$f":"SUMIFS('RE-UI'!$J$11:$J$109,'RE-UI'!$D$11:$D$109,B75)","v":0},{"$f":"SUMIFS('RE-UI'!$K$11:$K$109,'RE-UI'!$D$11:$D$109,B75)","v":0},{"$f":"SUMIFS('RE-UI'!$L$11:$L$109,'RE-UI'!$D$11:$D$109,B75)","v":0},{"$f":"SUMIFS('RE-UI'!$M$11:$M$109,'RE-UI'!$D$11:$D$109,B75)","v":0},{"$f":"SUMIFS('RE-UI'!$N$11:$N$109,'RE-UI'!$D$11:$D$109,B75)","v":0},{"$f":"SUMIFS('RE-UI'!$O$11:$O$109,'RE-UI'!$D$11:$D$109,B75)","v":0},{"$f":"SUMIFS('RE-UI'!$P$11:$P$109,'RE-UI'!$D$11:$D$109,B75)","v":0},0]
[66,{"$f":"'TAB-C'!B76","v":"C66"},{"$f":"'TAB-C'!D76","v":""},{"$f":"SUMIFS('RE-UI'!$F$11:$F$109,'RE-UI'!$D$11:$D$109,B76)","v":0},{"$f":"SUMIFS('RE-UI'!$G$11:$G$109,'RE-UI'!$D$11:$D$109,B76)","v":0},{"$f":"SUMIFS('RE-UI'!$H$11:$H$109,'RE-UI'!$D$11:$D$109,B76)","v":0},{"$f":"SUMIFS('RE-UI'!$I$11:$I$109,'RE-UI'!$D$11:$D$109,B76)","v":0},{"$f":"SUMIFS('RE-UI'!$J$11:$J$109,'RE-UI'!$D$11:$D$109,B76)","v":0},{"$f":"SUMIFS('RE-UI'!$K$11:$K$109,'RE-UI'!$D$11:$D$109,B76)","v":0},{"$f":"SUMIFS('RE-UI'!$L$11:$L$109,'RE-UI'!$D$11:$D$109,B76)","v":0},{"$f":"SUMIFS('RE-UI'!$M$11:$M$109,'RE-UI'!$D$11:$D$109,B76)","v":0},{"$f":"SUMIFS('RE-UI'!$N$11:$N$109,'RE-UI'!$D$11:$D$109,B76)","v":0},{"$f":"SUMIFS('RE-UI'!$O$11:$O$109,'RE-UI'!$D$11:$D$109,B76)","v":0},{"$f":"SUMIFS('RE-UI'!$P$11:$P$109,'RE-UI'!$D$11:$D$109,B76)","v":0},{"$f":"SUM(D76:N76)","v":0}]
[67,{"$f":"'TAB-C'!B77","v":"C67"},{"$f":"'TAB-C'!D77","v":""},{"$f":"SUMIFS('RE-UI'!$F$11:$F$109,'RE-UI'!$D$11:$D$109,B77)","v":0},{"$f":"SUMIFS('RE-UI'!$G$11:$G$109,'RE-UI'!$D$11:$D$109,B77)","v":0},{"$f":"SUMIFS('RE-UI'!$H$11:$H$109,'RE-UI'!$D$11:$D$109,B77)","v":0},{"$f":"SUMIFS('RE-UI'!$I$11:$I$109,'RE-UI'!$D$11:$D$109,B77)","v":0},{"$f":"SUMIFS('RE-UI'!$J$11:$J$109,'RE-UI'!$D$11:$D$109,B77)","v":0},{"$f":"SUMIFS('RE-UI'!$K$11:$K$109,'RE-UI'!$D$11:$D$109,B77)","v":0},{"$f":"SUMIFS('RE-UI'!$L$11:$L$109,'RE-UI'!$D$11:$D$109,B77)","v":0},{"$f":"SUMIFS('RE-UI'!$M$11:$M$109,'RE-UI'!$D$11:$D$109,B77)","v":0},{"$f":"SUMIFS('RE-UI'!$N$11:$N$109,'RE-UI'!$D$11:$D$109,B77)","v":0},{"$f":"SUMIFS('RE-UI'!$O$11:$O$109,'RE-UI'!$D$11:$D$109,B77)","v":0},{"$f":"SUMIFS('RE-UI'!$P$11:$P$109,'RE-UI'!$D$11:$D$109,B77)","v":0},0]
[68,{"$f":"'TAB-C'!B78","v":"C68"},{"$f":"'TAB-C'!D78","v":""},{"$f":"SUMIFS('RE-UI'!$F$11:$F$109,'RE-UI'!$D$11:$D$109,B78)","v":0},{"$f":"SUMIFS('RE-UI'!$G$11:$G$109,'RE-UI'!$D$11:$D$109,B78)","v":0},{"$f":"SUMIFS('RE-UI'!$H$11:$H$109,'RE-UI'!$D$11:$D$109,B78)","v":0},{"$f":"SUMIFS('RE-UI'!$I$11:$I$109,'RE-UI'!$D$11:$D$109,B78)","v":0},{"$f":"SUMIFS('RE-UI'!$J$11:$J$109,'RE-UI'!$D$11:$D$109,B78)","v":0},{"$f":"SUMIFS('RE-UI'!$K$11:$K$109,'RE-UI'!$D$11:$D$109,B78)","v":0},{"$f":"SUMIFS('RE-UI'!$L$11:$L$109,'RE-UI'!$D$11:$D$109,B78)","v":0},{"$f":"SUMIFS('RE-UI'!$M$11:$M$109,'RE-UI'!$D$11:$D$109,B78)","v":0},{"$f":"SUMIFS('RE-UI'!$N$11:$N$109,'RE-UI'!$D$11:$D$109,B78)","v":0},{"$f":"SUMIFS('RE-UI'!$O$11:$O$109,'RE-UI'!$D$11:$D$109,B78)","v":0},{"$f":"SUMIFS('RE-UI'!$P$11:$P$109,'RE-UI'!$D$11:$D$109,B78)","v":0},0]
[69,{"$f":"'TAB-C'!B79","v":"C69"},{"$f":"'TAB-C'!D79","v":""},{"$f":"SUMIFS('RE-UI'!$F$11:$F$109,'RE-UI'!$D$11:$D$109,B79)","v":0},{"$f":"SUMIFS('RE-UI'!$G$11:$G$109,'RE-UI'!$D$11:$D$109,B79)","v":0},{"$f":"SUMIFS('RE-UI'!$H$11:$H$109,'RE-UI'!$D$11:$D$109,B79)","v":0},{"$f":"SUMIFS('RE-UI'!$I$11:$I$109,'RE-UI'!$D$11:$D$109,B79)","v":0},{"$f":"SUMIFS('RE-UI'!$J$11:$J$109,'RE-UI'!$D$11:$D$109,B79)","v":0},{"$f":"SUMIFS('RE-UI'!$K$11:$K$109,'RE-UI'!$D$11:$D$109,B79)","v":0},{"$f":"SUMIFS('RE-UI'!$L$11:$L$109,'RE-UI'!$D$11:$D$109,B79)","v":0},{"$f":"SUMIFS('RE-UI'!$M$11:$M$109,'RE-UI'!$D$11:$D$109,B79)","v":0},{"$f":"SUMIFS('RE-UI'!$N$11:$N$109,'RE-UI'!$D$11:$D$109,B79)","v":0},{"$f":"SUMIFS('RE-UI'!$O$11:$O$109,'RE-UI'!$D$11:$D$109,B79)","v":0},{"$f":"SUMIFS('RE-UI'!$P$11:$P$109,'RE-UI'!$D$11:$D$109,B79)","v":0},0]
[70,{"$f":"'TAB-C'!B80","v":"C70"},{"$f":"'TAB-C'!D80","v":""},{"$f":"SUMIFS('RE-UI'!$F$11:$F$109,'RE-UI'!$D$11:$D$109,B80)","v":0},{"$f":"SUMIFS('RE-UI'!$G$11:$G$109,'RE-UI'!$D$11:$D$109,B80)","v":0},{"$f":"SUMIFS('RE-UI'!$H$11:$H$109,'RE-UI'!$D$11:$D$109,B80)","v":0},{"$f":"SUMIFS('RE-UI'!$I$11:$I$109,'RE-UI'!$D$11:$D$109,B80)","v":0},{"$f":"SUMIFS('RE-UI'!$J$11:$J$109,'RE-UI'!$D$11:$D$109,B80)","v":0},{"$f":"SUMIFS('RE-UI'!$K$11:$K$109,'RE-UI'!$D$11:$D$109,B80)","v":0},{"$f":"SUMIFS('RE-UI'!$L$11:$L$109,'RE-UI'!$D$11:$D$109,B80)","v":0},{"$f":"SUMIFS('RE-UI'!$M$11:$M$109,'RE-UI'!$D$11:$D$109,B80)","v":0},{"$f":"SUMIFS('RE-UI'!$N$11:$N$109,'RE-UI'!$D$11:$D$109,B80)","v":0},{"$f":"SUMIFS('RE-UI'!$O$11:$O$109,'RE-UI'!$D$11:$D$109,B80)","v":0},{"$f":"SUMIFS('RE-UI'!$P$11:$P$109,'RE-UI'!$D$11:$D$109,B80)","v":0},0]
[71,{"$f":"'TAB-C'!B81","v":"C71"},{"$f":"'TAB-C'!D81","v":""},{"$f":"SUMIFS('RE-UI'!$F$11:$F$109,'RE-UI'!$D$11:$D$109,B81)","v":0},{"$f":"SUMIFS('RE-UI'!$G$11:$G$109,'RE-UI'!$D$11:$D$109,B81)","v":0},{"$f":"SUMIFS('RE-UI'!$H$11:$H$109,'RE-UI'!$D$11:$D$109,B81)","v":0},{"$f":"SUMIFS('RE-UI'!$I$11:$I$109,'RE-UI'!$D$11:$D$109,B81)","v":0},{"$f":"SUMIFS('RE-UI'!$J$11:$J$109,'RE-UI'!$D$11:$D$109,B81)","v":0},{"$f":"SUMIFS('RE-UI'!$K$11:$K$109,'RE-UI'!$D$11:$D$109,B81)","v":0},{"$f":"SUMIFS('RE-UI'!$L$11:$L$109,'RE-UI'!$D$11:$D$109,B81)","v":0},{"$f":"SUMIFS('RE-UI'!$M$11:$M$109,'RE-UI'!$D$11:$D$109,B81)","v":0},{"$f":"SUMIFS('RE-UI'!$N$11:$N$109,'RE-UI'!$D$11:$D$109,B81)","v":0},{"$f":"SUMIFS('RE-UI'!$O$11:$O$109,'RE-UI'!$D$11:$D$109,B81)","v":0},{"$f":"SUMIFS('RE-UI'!$P$11:$P$109,'RE-UI'!$D$11:$D$109,B81)","v":0},0]
[72,{"$f":"'TAB-C'!B82","v":"C72"},{"$f":"'TAB-C'!D82","v":""},{"$f":"SUMIFS('RE-UI'!$F$11:$F$109,'RE-UI'!$D$11:$D$109,B82)","v":0},{"$f":"SUMIFS('RE-UI'!$G$11:$G$109,'RE-UI'!$D$11:$D$109,B82)","v":0},{"$f":"SUMIFS('RE-UI'!$H$11:$H$109,'RE-UI'!$D$11:$D$109,B82)","v":0},{"$f":"SUMIFS('RE-UI'!$I$11:$I$109,'RE-UI'!$D$11:$D$109,B82)","v":0},{"$f":"SUMIFS('RE-UI'!$J$11:$J$109,'RE-UI'!$D$11:$D$109,B82)","v":0},{"$f":"SUMIFS('RE-UI'!$K$11:$K$109,'RE-UI'!$D$11:$D$109,B82)","v":0},{"$f":"SUMIFS('RE-UI'!$L$11:$L$109,'RE-UI'!$D$11:$D$109,B82)","v":0},{"$f":"SUMIFS('RE-UI'!$M$11:$M$109,'RE-UI'!$D$11:$D$109,B82)","v":0},{"$f":"SUMIFS('RE-UI'!$N$11:$N$109,'RE-UI'!$D$11:$D$109,B82)","v":0},{"$f":"SUMIFS('RE-UI'!$O$11:$O$109,'RE-UI'!$D$11:$D$109,B82)","v":0},{"$f":"SUMIFS('RE-UI'!$P$11:$P$109,'RE-UI'!$D$11:$D$109,B82)","v":0},0]
[73,{"$f":"'TAB-C'!B83","v":"C73"},{"$f":"'TAB-C'!D83","v":""},{"$f":"SUMIFS('RE-UI'!$F$11:$F$109,'RE-UI'!$D$11:$D$109,B83)","v":0},{"$f":"SUMIFS('RE-UI'!$G$11:$G$109,'RE-UI'!$D$11:$D$109,B83)","v":0},{"$f":"SUMIFS('RE-UI'!$H$11:$H$109,'RE-UI'!$D$11:$D$109,B83)","v":0},{"$f":"SUMIFS('RE-UI'!$I$11:$I$109,'RE-UI'!$D$11:$D$109,B83)","v":0},{"$f":"SUMIFS('RE-UI'!$J$11:$J$109,'RE-UI'!$D$11:$D$109,B83)","v":0},{"$f":"SUMIFS('RE-UI'!$K$11:$K$109,'RE-UI'!$D$11:$D$109,B83)","v":0},{"$f":"SUMIFS('RE-UI'!$L$11:$L$109,'RE-UI'!$D$11:$D$109,B83)","v":0},{"$f":"SUMIFS('RE-UI'!$M$11:$M$109,'RE-UI'!$D$11:$D$109,B83)","v":0},{"$f":"SUMIFS('RE-UI'!$N$11:$N$109,'RE-UI'!$D$11:$D$109,B83)","v":0},{"$f":"SUMIFS('RE-UI'!$O$11:$O$109,'RE-UI'!$D$11:$D$109,B83)","v":0},{"$f":"SUMIFS('RE-UI'!$P$11:$P$109,'RE-UI'!$D$11:$D$109,B83)","v":0},0]
[74,{"$f":"'TAB-C'!B84","v":"C74"},{"$f":"'TAB-C'!D84","v":""},{"$f":"SUMIFS('RE-UI'!$F$11:$F$109,'RE-UI'!$D$11:$D$109,B84)","v":0},{"$f":"SUMIFS('RE-UI'!$G$11:$G$109,'RE-UI'!$D$11:$D$109,B84)","v":0},{"$f":"SUMIFS('RE-UI'!$H$11:$H$109,'RE-UI'!$D$11:$D$109,B84)","v":0},{"$f":"SUMIFS('RE-UI'!$I$11:$I$109,'RE-UI'!$D$11:$D$109,B84)","v":0},{"$f":"SUMIFS('RE-UI'!$J$11:$J$109,'RE-UI'!$D$11:$D$109,B84)","v":0},{"$f":"SUMIFS('RE-UI'!$K$11:$K$109,'RE-UI'!$D$11:$D$109,B84)","v":0},{"$f":"SUMIFS('RE-UI'!$L$11:$L$109,'RE-UI'!$D$11:$D$109,B84)","v":0},{"$f":"SUMIFS('RE-UI'!$M$11:$M$109,'RE-UI'!$D$11:$D$109,B84)","v":0},{"$f":"SUMIFS('RE-UI'!$N$11:$N$109,'RE-UI'!$D$11:$D$109,B84)","v":0},{"$f":"SUMIFS('RE-UI'!$O$11:$O$109,'RE-UI'!$D$11:$D$109,B84)","v":0},{"$f":"SUMIFS('RE-UI'!$P$11:$P$109,'RE-UI'!$D$11:$D$109,B84)","v":0},0]
[75,{"$f":"'TAB-C'!B85","v":"C75"},{"$f":"'TAB-C'!D85","v":""},{"$f":"SUMIFS('RE-UI'!$F$11:$F$109,'RE-UI'!$D$11:$D$109,B85)","v":0},{"$f":"SUMIFS('RE-UI'!$G$11:$G$109,'RE-UI'!$D$11:$D$109,B85)","v":0},{"$f":"SUMIFS('RE-UI'!$H$11:$H$109,'RE-UI'!$D$11:$D$109,B85)","v":0},{"$f":"SUMIFS('RE-UI'!$I$11:$I$109,'RE-UI'!$D$11:$D$109,B85)","v":0},{"$f":"SUMIFS('RE-UI'!$J$11:$J$109,'RE-UI'!$D$11:$D$109,B85)","v":0},{"$f":"SUMIFS('RE-UI'!$K$11:$K$109,'RE-UI'!$D$11:$D$109,B85)","v":0},{"$f":"SUMIFS('RE-UI'!$L$11:$L$109,'RE-UI'!$D$11:$D$109,B85)","v":0},{"$f":"SUMIFS('RE-UI'!$M$11:$M$109,'RE-UI'!$D$11:$D$109,B85)","v":0},{"$f":"SUMIFS('RE-UI'!$N$11:$N$109,'RE-UI'!$D$11:$D$109,B85)","v":0},{"$f":"SUMIFS('RE-UI'!$O$11:$O$109,'RE-UI'!$D$11:$D$109,B85)","v":0},{"$f":"SUMIFS('RE-UI'!$P$11:$P$109,'RE-UI'!$D$11:$D$109,B85)","v":0},0]
[76,{"$f":"'TAB-C'!B86","v":"C76"},{"$f":"'TAB-C'!D86","v":""},{"$f":"SUMIFS('RE-UI'!$F$11:$F$109,'RE-UI'!$D$11:$D$109,B86)","v":0},{"$f":"SUMIFS('RE-UI'!$G$11:$G$109,'RE-UI'!$D$11:$D$109,B86)","v":0},{"$f":"SUMIFS('RE-UI'!$H$11:$H$109,'RE-UI'!$D$11:$D$109,B86)","v":0},{"$f":"SUMIFS('RE-UI'!$I$11:$I$109,'RE-UI'!$D$11:$D$109,B86)","v":0},{"$f":"SUMIFS('RE-UI'!$J$11:$J$109,'RE-UI'!$D$11:$D$109,B86)","v":0},{"$f":"SUMIFS('RE-UI'!$K$11:$K$109,'RE-UI'!$D$11:$D$109,B86)","v":0},{"$f":"SUMIFS('RE-UI'!$L$11:$L$109,'RE-UI'!$D$11:$D$109,B86)","v":0},{"$f":"SUMIFS('RE-UI'!$M$11:$M$109,'RE-UI'!$D$11:$D$109,B86)","v":0},{"$f":"SUMIFS('RE-UI'!$N$11:$N$109,'RE-UI'!$D$11:$D$109,B86)","v":0},{"$f":"SUMIFS('RE-UI'!$O$11:$O$109,'RE-UI'!$D$11:$D$109,B86)","v":0},{"$f":"SUMIFS('RE-UI'!$P$11:$P$109,'RE-UI'!$D$11:$D$109,B86)","v":0},0]
[77,{"$f":"'TAB-C'!B87","v":"C77"},{"$f":"'TAB-C'!D87","v":""},{"$f":"SUMIFS('RE-UI'!$F$11:$F$109,'RE-UI'!$D$11:$D$109,B87)","v":0},{"$f":"SUMIFS('RE-UI'!$G$11:$G$109,'RE-UI'!$D$11:$D$109,B87)","v":0},{"$f":"SUMIFS('RE-UI'!$H$11:$H$109,'RE-UI'!$D$11:$D$109,B87)","v":0},{"$f":"SUMIFS('RE-UI'!$I$11:$I$109,'RE-UI'!$D$11:$D$109,B87)","v":0},{"$f":"SUMIFS('RE-UI'!$J$11:$J$109,'RE-UI'!$D$11:$D$109,B87)","v":0},{"$f":"SUMIFS('RE-UI'!$K$11:$K$109,'RE-UI'!$D$11:$D$109,B87)","v":0},{"$f":"SUMIFS('RE-UI'!$L$11:$L$109,'RE-UI'!$D$11:$D$109,B87)","v":0},{"$f":"SUMIFS('RE-UI'!$M$11:$M$109,'RE-UI'!$D$11:$D$109,B87)","v":0},{"$f":"SUMIFS('RE-UI'!$N$11:$N$109,'RE-UI'!$D$11:$D$109,B87)","v":0},{"$f":"SUMIFS('RE-UI'!$O$11:$O$109,'RE-UI'!$D$11:$D$109,B87)","v":0},{"$f":"SUMIFS('RE-UI'!$P$11:$P$109,'RE-UI'!$D$11:$D$109,B87)","v":0},0]
[78,{"$f":"'TAB-C'!B88","v":"C78"},{"$f":"'TAB-C'!D88","v":""},{"$f":"SUMIFS('RE-UI'!$F$11:$F$109,'RE-UI'!$D$11:$D$109,B88)","v":0},{"$f":"SUMIFS('RE-UI'!$G$11:$G$109,'RE-UI'!$D$11:$D$109,B88)","v":0},{"$f":"SUMIFS('RE-UI'!$H$11:$H$109,'RE-UI'!$D$11:$D$109,B88)","v":0},{"$f":"SUMIFS('RE-UI'!$I$11:$I$109,'RE-UI'!$D$11:$D$109,B88)","v":0},{"$f":"SUMIFS('RE-UI'!$J$11:$J$109,'RE-UI'!$D$11:$D$109,B88)","v":0},{"$f":"SUMIFS('RE-UI'!$K$11:$K$109,'RE-UI'!$D$11:$D$109,B88)","v":0},{"$f":"SUMIFS('RE-UI'!$L$11:$L$109,'RE-UI'!$D$11:$D$109,B88)","v":0},{"$f":"SUMIFS('RE-UI'!$M$11:$M$109,'RE-UI'!$D$11:$D$109,B88)","v":0},{"$f":"SUMIFS('RE-UI'!$N$11:$N$109,'RE-UI'!$D$11:$D$109,B88)","v":0},{"$f":"SUMIFS('RE-UI'!$O$11:$O$109,'RE-UI'!$D$11:$D$109,B88)","v":0},{"$f":"SUMIFS('RE-UI'!$P$11:$P$109,'RE-UI'!$D$11:$D$109,B88)","v":0},0]
[79,{"$f":"'TAB-C'!B89","v":"C79"},{"$f":"'TAB-C'!D89","v":""},{"$f":"SUMIFS('RE-UI'!$F$11:$F$109,'RE-UI'!$D$11:$D$109,B89)","v":0},{"$f":"SUMIFS('RE-UI'!$G$11:$G$109,'RE-UI'!$D$11:$D$109,B89)","v":0},{"$f":"SUMIFS('RE-UI'!$H$11:$H$109,'RE-UI'!$D$11:$D$109,B89)","v":0},{"$f":"SUMIFS('RE-UI'!$I$11:$I$109,'RE-UI'!$D$11:$D$109,B89)","v":0},{"$f":"SUMIFS('RE-UI'!$J$11:$J$109,'RE-UI'!$D$11:$D$109,B89)","v":0},{"$f":"SUMIFS('RE-UI'!$K$11:$K$109,'RE-UI'!$D$11:$D$109,B89)","v":0},{"$f":"SUMIFS('RE-UI'!$L$11:$L$109,'RE-UI'!$D$11:$D$109,B89)","v":0},{"$f":"SUMIFS('RE-UI'!$M$11:$M$109,'RE-UI'!$D$11:$D$109,B89)","v":0},{"$f":"SUMIFS('RE-UI'!$N$11:$N$109,'RE-UI'!$D$11:$D$109,B89)","v":0},{"$f":"SUMIFS('RE-UI'!$O$11:$O$109,'RE-UI'!$D$11:$D$109,B89)","v":0},{"$f":"SUMIFS('RE-UI'!$P$11:$P$109,'RE-UI'!$D$11:$D$109,B89)","v":0},0]
[80,{"$f":"'TAB-C'!B90","v":"C80"},{"$f":"'TAB-C'!D90","v":""},{"$f":"SUMIFS('RE-UI'!$F$11:$F$109,'RE-UI'!$D$11:$D$109,B90)","v":0},{"$f":"SUMIFS('RE-UI'!$G$11:$G$109,'RE-UI'!$D$11:$D$109,B90)","v":0},{"$f":"SUMIFS('RE-UI'!$H$11:$H$109,'RE-UI'!$D$11:$D$109,B90)","v":0},{"$f":"SUMIFS('RE-UI'!$I$11:$I$109,'RE-UI'!$D$11:$D$109,B90)","v":0},{"$f":"SUMIFS('RE-UI'!$J$11:$J$109,'RE-UI'!$D$11:$D$109,B90)","v":0},{"$f":"SUMIFS('RE-UI'!$K$11:$K$109,'RE-UI'!$D$11:$D$109,B90)","v":0},{"$f":"SUMIFS('RE-UI'!$L$11:$L$109,'RE-UI'!$D$11:$D$109,B90)","v":0},{"$f":"SUMIFS('RE-UI'!$M$11:$M$109,'RE-UI'!$D$11:$D$109,B90)","v":0},{"$f":"SUMIFS('RE-UI'!$N$11:$N$109,'RE-UI'!$D$11:$D$109,B90)","v":0},{"$f":"SUMIFS('RE-UI'!$O$11:$O$109,'RE-UI'!$D$11:$D$109,B90)","v":0},{"$f":"SUMIFS('RE-UI'!$P$11:$P$109,'RE-UI'!$D$11:$D$109,B90)","v":0},0]
[81,{"$f":"'TAB-C'!B91","v":"C81"},{"$f":"'TAB-C'!D91","v":""},{"$f":"SUMIFS('RE-UI'!$F$11:$F$109,'RE-UI'!$D$11:$D$109,B91)","v":0},{"$f":"SUMIFS('RE-UI'!$G$11:$G$109,'RE-UI'!$D$11:$D$109,B91)","v":0},{"$f":"SUMIFS('RE-UI'!$H$11:$H$109,'RE-UI'!$D$11:$D$109,B91)","v":0},{"$f":"SUMIFS('RE-UI'!$I$11:$I$109,'RE-UI'!$D$11:$D$109,B91)","v":0},{"$f":"SUMIFS('RE-UI'!$J$11:$J$109,'RE-UI'!$D$11:$D$109,B91)","v":0},{"$f":"SUMIFS('RE-UI'!$K$11:$K$109,'RE-UI'!$D$11:$D$109,B91)","v":0},{"$f":"SUMIFS('RE-UI'!$L$11:$L$109,'RE-UI'!$D$11:$D$109,B91)","v":0},{"$f":"SUMIFS('RE-UI'!$M$11:$M$109,'RE-UI'!$D$11:$D$109,B91)","v":0},{"$f":"SUMIFS('RE-UI'!$N$11:$N$109,'RE-UI'!$D$11:$D$109,B91)","v":0},{"$f":"SUMIFS('RE-UI'!$O$11:$O$109,'RE-UI'!$D$11:$D$109,B91)","v":0},{"$f":"SUMIFS('RE-UI'!$P$11:$P$109,'RE-UI'!$D$11:$D$109,B91)","v":0},0]
[82,{"$f":"'TAB-C'!B92","v":"C82"},{"$f":"'TAB-C'!D92","v":""},{"$f":"SUMIFS('RE-UI'!$F$11:$F$109,'RE-UI'!$D$11:$D$109,B92)","v":0},{"$f":"SUMIFS('RE-UI'!$G$11:$G$109,'RE-UI'!$D$11:$D$109,B92)","v":0},{"$f":"SUMIFS('RE-UI'!$H$11:$H$109,'RE-UI'!$D$11:$D$109,B92)","v":0},{"$f":"SUMIFS('RE-UI'!$I$11:$I$109,'RE-UI'!$D$11:$D$109,B92)","v":0},{"$f":"SUMIFS('RE-UI'!$J$11:$J$109,'RE-UI'!$D$11:$D$109,B92)","v":0},{"$f":"SUMIFS('RE-UI'!$K$11:$K$109,'RE-UI'!$D$11:$D$109,B92)","v":0},{"$f":"SUMIFS('RE-UI'!$L$11:$L$109,'RE-UI'!$D$11:$D$109,B92)","v":0},{"$f":"SUMIFS('RE-UI'!$M$11:$M$109,'RE-UI'!$D$11:$D$109,B92)","v":0},{"$f":"SUMIFS('RE-UI'!$N$11:$N$109,'RE-UI'!$D$11:$D$109,B92)","v":0},{"$f":"SUMIFS('RE-UI'!$O$11:$O$109,'RE-UI'!$D$11:$D$109,B92)","v":0},{"$f":"SUMIFS('RE-UI'!$P$11:$P$109,'RE-UI'!$D$11:$D$109,B92)","v":0},0]
[83,{"$f":"'TAB-C'!B93","v":"C83"},{"$f":"'TAB-C'!D93","v":""},{"$f":"SUMIFS('RE-UI'!$F$11:$F$109,'RE-UI'!$D$11:$D$109,B93)","v":0},{"$f":"SUMIFS('RE-UI'!$G$11:$G$109,'RE-UI'!$D$11:$D$109,B93)","v":0},{"$f":"SUMIFS('RE-UI'!$H$11:$H$109,'RE-UI'!$D$11:$D$109,B93)","v":0},{"$f":"SUMIFS('RE-UI'!$I$11:$I$109,'RE-UI'!$D$11:$D$109,B93)","v":0},{"$f":"SUMIFS('RE-UI'!$J$11:$J$109,'RE-UI'!$D$11:$D$109,B93)","v":0},{"$f":"SUMIFS('RE-UI'!$K$11:$K$109,'RE-UI'!$D$11:$D$109,B93)","v":0},{"$f":"SUMIFS('RE-UI'!$L$11:$L$109,'RE-UI'!$D$11:$D$109,B93)","v":0},{"$f":"SUMIFS('RE-UI'!$M$11:$M$109,'RE-UI'!$D$11:$D$109,B93)","v":0},{"$f":"SUMIFS('RE-UI'!$N$11:$N$109,'RE-UI'!$D$11:$D$109,B93)","v":0},{"$f":"SUMIFS('RE-UI'!$O$11:$O$109,'RE-UI'!$D$11:$D$109,B93)","v":0},{"$f":"SUMIFS('RE-UI'!$P$11:$P$109,'RE-UI'!$D$11:$D$109,B93)","v":0},0]
[84,{"$f":"'TAB-C'!B94","v":"C84"},{"$f":"'TAB-C'!D94","v":""},{"$f":"SUMIFS('RE-UI'!$F$11:$F$109,'RE-UI'!$D$11:$D$109,B94)","v":0},{"$f":"SUMIFS('RE-UI'!$G$11:$G$109,'RE-UI'!$D$11:$D$109,B94)","v":0},{"$f":"SUMIFS('RE-UI'!$H$11:$H$109,'RE-UI'!$D$11:$D$109,B94)","v":0},{"$f":"SUMIFS('RE-UI'!$I$11:$I$109,'RE-UI'!$D$11:$D$109,B94)","v":0},{"$f":"SUMIFS('RE-UI'!$J$11:$J$109,'RE-UI'!$D$11:$D$109,B94)","v":0},{"$f":"SUMIFS('RE-UI'!$K$11:$K$109,'RE-UI'!$D$11:$D$109,B94)","v":0},{"$f":"SUMIFS('RE-UI'!$L$11:$L$109,'RE-UI'!$D$11:$D$109,B94)","v":0},{"$f":"SUMIFS('RE-UI'!$M$11:$M$109,'RE-UI'!$D$11:$D$109,B94)","v":0},{"$f":"SUMIFS('RE-UI'!$N$11:$N$109,'RE-UI'!$D$11:$D$109,B94)","v":0},{"$f":"SUMIFS('RE-UI'!$O$11:$O$109,'RE-UI'!$D$11:$D$109,B94)","v":0},{"$f":"SUMIFS('RE-UI'!$P$11:$P$109,'RE-UI'!$D$11:$D$109,B94)","v":0},0]
[85,{"$f":"'TAB-C'!B95","v":"C85"},{"$f":"'TAB-C'!D95","v":""},{"$f":"SUMIFS('RE-UI'!$F$11:$F$109,'RE-UI'!$D$11:$D$109,B95)","v":0},{"$f":"SUMIFS('RE-UI'!$G$11:$G$109,'RE-UI'!$D$11:$D$109,B95)","v":0},{"$f":"SUMIFS('RE-UI'!$H$11:$H$109,'RE-UI'!$D$11:$D$109,B95)","v":0},{"$f":"SUMIFS('RE-UI'!$I$11:$I$109,'RE-UI'!$D$11:$D$109,B95)","v":0},{"$f":"SUMIFS('RE-UI'!$J$11:$J$109,'RE-UI'!$D$11:$D$109,B95)","v":0},{"$f":"SUMIFS('RE-UI'!$K$11:$K$109,'RE-UI'!$D$11:$D$109,B95)","v":0},{"$f":"SUMIFS('RE-UI'!$L$11:$L$109,'RE-UI'!$D$11:$D$109,B95)","v":0},{"$f":"SUMIFS('RE-UI'!$M$11:$M$109,'RE-UI'!$D$11:$D$109,B95)","v":0},{"$f":"SUMIFS('RE-UI'!$N$11:$N$109,'RE-UI'!$D$11:$D$109,B95)","v":0},{"$f":"SUMIFS('RE-UI'!$O$11:$O$109,'RE-UI'!$D$11:$D$109,B95)","v":0},{"$f":"SUMIFS('RE-UI'!$P$11:$P$109,'RE-UI'!$D$11:$D$109,B95)","v":0},0]
[86,{"$f":"'TAB-C'!B96","v":"C86"},{"$f":"'TAB-C'!D96","v":""},{"$f":"SUMIFS('RE-UI'!$F$11:$F$109,'RE-UI'!$D$11:$D$109,B96)","v":0},{"$f":"SUMIFS('RE-UI'!$G$11:$G$109,'RE-UI'!$D$11:$D$109,B96)","v":0},{"$f":"SUMIFS('RE-UI'!$H$11:$H$109,'RE-UI'!$D$11:$D$109,B96)","v":0},{"$f":"SUMIFS('RE-UI'!$I$11:$I$109,'RE-UI'!$D$11:$D$109,B96)","v":0},{"$f":"SUMIFS('RE-UI'!$J$11:$J$109,'RE-UI'!$D$11:$D$109,B96)","v":0},{"$f":"SUMIFS('RE-UI'!$K$11:$K$109,'RE-UI'!$D$11:$D$109,B96)","v":0},{"$f":"SUMIFS('RE-UI'!$L$11:$L$109,'RE-UI'!$D$11:$D$109,B96)","v":0},{"$f":"SUMIFS('RE-UI'!$M$11:$M$109,'RE-UI'!$D$11:$D$109,B96)","v":0},{"$f":"SUMIFS('RE-UI'!$N$11:$N$109,'RE-UI'!$D$11:$D$109,B96)","v":0},{"$f":"SUMIFS('RE-UI'!$O$11:$O$109,'RE-UI'!$D$11:$D$109,B96)","v":0},{"$f":"SUMIFS('RE-UI'!$P$11:$P$109,'RE-UI'!$D$11:$D$109,B96)","v":0},0]
[87,{"$f":"'TAB-C'!B97","v":"C87"},{"$f":"'TAB-C'!D97","v":""},{"$f":"SUMIFS('RE-UI'!$F$11:$F$109,'RE-UI'!$D$11:$D$109,B97)","v":0},{"$f":"SUMIFS('RE-UI'!$G$11:$G$109,'RE-UI'!$D$11:$D$109,B97)","v":0},{"$f":"SUMIFS('RE-UI'!$H$11:$H$109,'RE-UI'!$D$11:$D$109,B97)","v":0},{"$f":"SUMIFS('RE-UI'!$I$11:$I$109,'RE-UI'!$D$11:$D$109,B97)","v":0},{"$f":"SUMIFS('RE-UI'!$J$11:$J$109,'RE-UI'!$D$11:$D$109,B97)","v":0},{"$f":"SUMIFS('RE-UI'!$K$11:$K$109,'RE-UI'!$D$11:$D$109,B97)","v":0},{"$f":"SUMIFS('RE-UI'!$L$11:$L$109,'RE-UI'!$D$11:$D$109,B97)","v":0},{"$f":"SUMIFS('RE-UI'!$M$11:$M$109,'RE-UI'!$D$11:$D$109,B97)","v":0},{"$f":"SUMIFS('RE-UI'!$N$11:$N$109,'RE-UI'!$D$11:$D$109,B97)","v":0},{"$f":"SUMIFS('RE-UI'!$O$11:$O$109,'RE-UI'!$D$11:$D$109,B97)","v":0},{"$f":"SUMIFS('RE-UI'!$P$11:$P$109,'RE-UI'!$D$11:$D$109,B97)","v":0},0]
[88,{"$f":"'TAB-C'!B98","v":"C88"},{"$f":"'TAB-C'!D98","v":""},{"$f":"SUMIFS('RE-UI'!$F$11:$F$109,'RE-UI'!$D$11:$D$109,B98)","v":0},{"$f":"SUMIFS('RE-UI'!$G$11:$G$109,'RE-UI'!$D$11:$D$109,B98)","v":0},{"$f":"SUMIFS('RE-UI'!$H$11:$H$109,'RE-UI'!$D$11:$D$109,B98)","v":0},{"$f":"SUMIFS('RE-UI'!$I$11:$I$109,'RE-UI'!$D$11:$D$109,B98)","v":0},{"$f":"SUMIFS('RE-UI'!$J$11:$J$109,'RE-UI'!$D$11:$D$109,B98)","v":0},{"$f":"SUMIFS('RE-UI'!$K$11:$K$109,'RE-UI'!$D$11:$D$109,B98)","v":0},{"$f":"SUMIFS('RE-UI'!$L$11:$L$109,'RE-UI'!$D$11:$D$109,B98)","v":0},{"$f":"SUMIFS('RE-UI'!$M$11:$M$109,'RE-UI'!$D$11:$D$109,B98)","v":0},{"$f":"SUMIFS('RE-UI'!$N$11:$N$109,'RE-UI'!$D$11:$D$109,B98)","v":0},{"$f":"SUMIFS('RE-UI'!$O$11:$O$109,'RE-UI'!$D$11:$D$109,B98)","v":0},{"$f":"SUMIFS('RE-UI'!$P$11:$P$109,'RE-UI'!$D$11:$D$109,B98)","v":0},0]
[89,{"$f":"'TAB-C'!B99","v":"C89"},{"$f":"'TAB-C'!D99","v":""},{"$f":"SUMIFS('RE-UI'!$F$11:$F$109,'RE-UI'!$D$11:$D$109,B99)","v":0},{"$f":"SUMIFS('RE-UI'!$G$11:$G$109,'RE-UI'!$D$11:$D$109,B99)","v":0},{"$f":"SUMIFS('RE-UI'!$H$11:$H$109,'RE-UI'!$D$11:$D$109,B99)","v":0},{"$f":"SUMIFS('RE-UI'!$I$11:$I$109,'RE-UI'!$D$11:$D$109,B99)","v":0},{"$f":"SUMIFS('RE-UI'!$J$11:$J$109,'RE-UI'!$D$11:$D$109,B99)","v":0},{"$f":"SUMIFS('RE-UI'!$K$11:$K$109,'RE-UI'!$D$11:$D$109,B99)","v":0},{"$f":"SUMIFS('RE-UI'!$L$11:$L$109,'RE-UI'!$D$11:$D$109,B99)","v":0},{"$f":"SUMIFS('RE-UI'!$M$11:$M$109,'RE-UI'!$D$11:$D$109,B99)","v":0},{"$f":"SUMIFS('RE-UI'!$N$11:$N$109,'RE-UI'!$D$11:$D$109,B99)","v":0},{"$f":"SUMIFS('RE-UI'!$O$11:$O$109,'RE-UI'!$D$11:$D$109,B99)","v":0},{"$f":"SUMIFS('RE-UI'!$P$11:$P$109,'RE-UI'!$D$11:$D$109,B99)","v":0},0]
[90,{"$f":"'TAB-C'!B100","v":"C90"},{"$f":"'TAB-C'!D100","v":""},{"$f":"SUMIFS('RE-UI'!$F$11:$F$109,'RE-UI'!$D$11:$D$109,B100)","v":0},{"$f":"SUMIFS('RE-UI'!$G$11:$G$109,'RE-UI'!$D$11:$D$109,B100)","v":0},{"$f":"SUMIFS('RE-UI'!$H$11:$H$109,'RE-UI'!$D$11:$D$109,B100)","v":0},{"$f":"SUMIFS('RE-UI'!$I$11:$I$109,'RE-UI'!$D$11:$D$109,B100)","v":0},{"$f":"SUMIFS('RE-UI'!$J$11:$J$109,'RE-UI'!$D$11:$D$109,B100)","v":0},{"$f":"SUMIFS('RE-UI'!$K$11:$K$109,'RE-UI'!$D$11:$D$109,B100)","v":0},{"$f":"SUMIFS('RE-UI'!$L$11:$L$109,'RE-UI'!$D$11:$D$109,B100)","v":0},{"$f":"SUMIFS('RE-UI'!$M$11:$M$109,'RE-UI'!$D$11:$D$109,B100)","v":0},{"$f":"SUMIFS('RE-UI'!$N$11:$N$109,'RE-UI'!$D$11:$D$109,B100)","v":0},{"$f":"SUMIFS('RE-UI'!$O$11:$O$109,'RE-UI'!$D$11:$D$109,B100)","v":0},{"$f":"SUMIFS('RE-UI'!$P$11:$P$109,'RE-UI'!$D$11:$D$109,B100)","v":0},0]
[91,{"$f":"'TAB-C'!B101","v":"C91"},{"$f":"'TAB-C'!D101","v":""},{"$f":"SUMIFS('RE-UI'!$F$11:$F$109,'RE-UI'!$D$11:$D$109,B101)","v":0},{"$f":"SUMIFS('RE-UI'!$G$11:$G$109,'RE-UI'!$D$11:$D$109,B101)","v":0},{"$f":"SUMIFS('RE-UI'!$H$11:$H$109,'RE-UI'!$D$11:$D$109,B101)","v":0},{"$f":"SUMIFS('RE-UI'!$I$11:$I$109,'RE-UI'!$D$11:$D$109,B101)","v":0},{"$f":"SUMIFS('RE-UI'!$J$11:$J$109,'RE-UI'!$D$11:$D$109,B101)","v":0},{"$f":"SUMIFS('RE-UI'!$K$11:$K$109,'RE-UI'!$D$11:$D$109,B101)","v":0},{"$f":"SUMIFS('RE-UI'!$L$11:$L$109,'RE-UI'!$D$11:$D$109,B101)","v":0},{"$f":"SUMIFS('RE-UI'!$M$11:$M$109,'RE-UI'!$D$11:$D$109,B101)","v":0},{"$f":"SUMIFS('RE-UI'!$N$11:$N$109,'RE-UI'!$D$11:$D$109,B101)","v":0},{"$f":"SUMIFS('RE-UI'!$O$11:$O$109,'RE-UI'!$D$11:$D$109,B101)","v":0},{"$f":"SUMIFS('RE-UI'!$P$11:$P$109,'RE-UI'!$D$11:$D$109,B101)","v":0},0]
[92,{"$f":"'TAB-C'!B102","v":"C92"},{"$f":"'TAB-C'!D102","v":""},{"$f":"SUMIFS('RE-UI'!$F$11:$F$109,'RE-UI'!$D$11:$D$109,B102)","v":0},{"$f":"SUMIFS('RE-UI'!$G$11:$G$109,'RE-UI'!$D$11:$D$109,B102)","v":0},{"$f":"SUMIFS('RE-UI'!$H$11:$H$109,'RE-UI'!$D$11:$D$109,B102)","v":0},{"$f":"SUMIFS('RE-UI'!$I$11:$I$109,'RE-UI'!$D$11:$D$109,B102)","v":0},{"$f":"SUMIFS('RE-UI'!$J$11:$J$109,'RE-UI'!$D$11:$D$109,B102)","v":0},{"$f":"SUMIFS('RE-UI'!$K$11:$K$109,'RE-UI'!$D$11:$D$109,B102)","v":0},{"$f":"SUMIFS('RE-UI'!$L$11:$L$109,'RE-UI'!$D$11:$D$109,B102)","v":0},{"$f":"SUMIFS('RE-UI'!$M$11:$M$109,'RE-UI'!$D$11:$D$109,B102)","v":0},{"$f":"SUMIFS('RE-UI'!$N$11:$N$109,'RE-UI'!$D$11:$D$109,B102)","v":0},{"$f":"SUMIFS('RE-UI'!$O$11:$O$109,'RE-UI'!$D$11:$D$109,B102)","v":0},{"$f":"SUMIFS('RE-UI'!$P$11:$P$109,'RE-UI'!$D$11:$D$109,B102)","v":0},0]
[93,{"$f":"'TAB-C'!B103","v":"C93"},{"$f":"'TAB-C'!D103","v":""},{"$f":"SUMIFS('RE-UI'!$F$11:$F$109,'RE-UI'!$D$11:$D$109,B103)","v":0},{"$f":"SUMIFS('RE-UI'!$G$11:$G$109,'RE-UI'!$D$11:$D$109,B103)","v":0},{"$f":"SUMIFS('RE-UI'!$H$11:$H$109,'RE-UI'!$D$11:$D$109,B103)","v":0},{"$f":"SUMIFS('RE-UI'!$I$11:$I$109,'RE-UI'!$D$11:$D$109,B103)","v":0},{"$f":"SUMIFS('RE-UI'!$J$11:$J$109,'RE-UI'!$D$11:$D$109,B103)","v":0},{"$f":"SUMIFS('RE-UI'!$K$11:$K$109,'RE-UI'!$D$11:$D$109,B103)","v":0},{"$f":"SUMIFS('RE-UI'!$L$11:$L$109,'RE-UI'!$D$11:$D$109,B103)","v":0},{"$f":"SUMIFS('RE-UI'!$M$11:$M$109,'RE-UI'!$D$11:$D$109,B103)","v":0},{"$f":"SUMIFS('RE-UI'!$N$11:$N$109,'RE-UI'!$D$11:$D$109,B103)","v":0},{"$f":"SUMIFS('RE-UI'!$O$11:$O$109,'RE-UI'!$D$11:$D$109,B103)","v":0},{"$f":"SUMIFS('RE-UI'!$P$11:$P$109,'RE-UI'!$D$11:$D$109,B103)","v":0},0]
[94,{"$f":"'TAB-C'!B104","v":"C94"},{"$f":"'TAB-C'!D104","v":""},{"$f":"SUMIFS('RE-UI'!$F$11:$F$109,'RE-UI'!$D$11:$D$109,B104)","v":0},{"$f":"SUMIFS('RE-UI'!$G$11:$G$109,'RE-UI'!$D$11:$D$109,B104)","v":0},{"$f":"SUMIFS('RE-UI'!$H$11:$H$109,'RE-UI'!$D$11:$D$109,B104)","v":0},{"$f":"SUMIFS('RE-UI'!$I$11:$I$109,'RE-UI'!$D$11:$D$109,B104)","v":0},{"$f":"SUMIFS('RE-UI'!$J$11:$J$109,'RE-UI'!$D$11:$D$109,B104)","v":0},{"$f":"SUMIFS('RE-UI'!$K$11:$K$109,'RE-UI'!$D$11:$D$109,B104)","v":0},{"$f":"SUMIFS('RE-UI'!$L$11:$L$109,'RE-UI'!$D$11:$D$109,B104)","v":0},{"$f":"SUMIFS('RE-UI'!$M$11:$M$109,'RE-UI'!$D$11:$D$109,B104)","v":0},{"$f":"SUMIFS('RE-UI'!$N$11:$N$109,'RE-UI'!$D$11:$D$109,B104)","v":0},{"$f":"SUMIFS('RE-UI'!$O$11:$O$109,'RE-UI'!$D$11:$D$109,B104)","v":0},{"$f":"SUMIFS('RE-UI'!$P$11:$P$109,'RE-UI'!$D$11:$D$109,B104)","v":0},0]
[95,{"$f":"'TAB-C'!B105","v":"C95"},{"$f":"'TAB-C'!D105","v":""},{"$f":"SUMIFS('RE-UI'!$F$11:$F$109,'RE-UI'!$D$11:$D$109,B105)","v":0},{"$f":"SUMIFS('RE-UI'!$G$11:$G$109,'RE-UI'!$D$11:$D$109,B105)","v":0},{"$f":"SUMIFS('RE-UI'!$H$11:$H$109,'RE-UI'!$D$11:$D$109,B105)","v":0},{"$f":"SUMIFS('RE-UI'!$I$11:$I$109,'RE-UI'!$D$11:$D$109,B105)","v":0},{"$f":"SUMIFS('RE-UI'!$J$11:$J$109,'RE-UI'!$D$11:$D$109,B105)","v":0},{"$f":"SUMIFS('RE-UI'!$K$11:$K$109,'RE-UI'!$D$11:$D$109,B105)","v":0},{"$f":"SUMIFS('RE-UI'!$L$11:$L$109,'RE-UI'!$D$11:$D$109,B105)","v":0},{"$f":"SUMIFS('RE-UI'!$M$11:$M$109,'RE-UI'!$D$11:$D$109,B105)","v":0},{"$f":"SUMIFS('RE-UI'!$N$11:$N$109,'RE-UI'!$D$11:$D$109,B105)","v":0},{"$f":"SUMIFS('RE-UI'!$O$11:$O$109,'RE-UI'!$D$11:$D$109,B105)","v":0},{"$f":"SUMIFS('RE-UI'!$P$11:$P$109,'RE-UI'!$D$11:$D$109,B105)","v":0},0]
[96,{"$f":"'TAB-C'!B106","v":"C96"},{"$f":"'TAB-C'!D106","v":""},{"$f":"SUMIFS('RE-UI'!$F$11:$F$109,'RE-UI'!$D$11:$D$109,B106)","v":0},{"$f":"SUMIFS('RE-UI'!$G$11:$G$109,'RE-UI'!$D$11:$D$109,B106)","v":0},{"$f":"SUMIFS('RE-UI'!$H$11:$H$109,'RE-UI'!$D$11:$D$109,B106)","v":0},{"$f":"SUMIFS('RE-UI'!$I$11:$I$109,'RE-UI'!$D$11:$D$109,B106)","v":0},{"$f":"SUMIFS('RE-UI'!$J$11:$J$109,'RE-UI'!$D$11:$D$109,B106)","v":0},{"$f":"SUMIFS('RE-UI'!$K$11:$K$109,'RE-UI'!$D$11:$D$109,B106)","v":0},{"$f":"SUMIFS('RE-UI'!$L$11:$L$109,'RE-UI'!$D$11:$D$109,B106)","v":0},{"$f":"SUMIFS('RE-UI'!$M$11:$M$109,'RE-UI'!$D$11:$D$109,B106)","v":0},{"$f":"SUMIFS('RE-UI'!$N$11:$N$109,'RE-UI'!$D$11:$D$109,B106)","v":0},{"$f":"SUMIFS('RE-UI'!$O$11:$O$109,'RE-UI'!$D$11:$D$109,B106)","v":0},{"$f":"SUMIFS('RE-UI'!$P$11:$P$109,'RE-UI'!$D$11:$D$109,B106)","v":0},0]
[97,{"$f":"'TAB-C'!B107","v":"C97"},{"$f":"'TAB-C'!D107","v":""},{"$f":"SUMIFS('RE-UI'!$F$11:$F$109,'RE-UI'!$D$11:$D$109,B107)","v":0},{"$f":"SUMIFS('RE-UI'!$G$11:$G$109,'RE-UI'!$D$11:$D$109,B107)","v":0},{"$f":"SUMIFS('RE-UI'!$H$11:$H$109,'RE-UI'!$D$11:$D$109,B107)","v":0},{"$f":"SUMIFS('RE-UI'!$I$11:$I$109,'RE-UI'!$D$11:$D$109,B107)","v":0},{"$f":"SUMIFS('RE-UI'!$J$11:$J$109,'RE-UI'!$D$11:$D$109,B107)","v":0},{"$f":"SUMIFS('RE-UI'!$K$11:$K$109,'RE-UI'!$D$11:$D$109,B107)","v":0},{"$f":"SUMIFS('RE-UI'!$L$11:$L$109,'RE-UI'!$D$11:$D$109,B107)","v":0},{"$f":"SUMIFS('RE-UI'!$M$11:$M$109,'RE-UI'!$D$11:$D$109,B107)","v":0},{"$f":"SUMIFS('RE-UI'!$N$11:$N$109,'RE-UI'!$D$11:$D$109,B107)","v":0},{"$f":"SUMIFS('RE-UI'!$O$11:$O$109,'RE-UI'!$D$11:$D$109,B107)","v":0},{"$f":"SUMIFS('RE-UI'!$P$11:$P$109,'RE-UI'!$D$11:$D$109,B107)","v":0},0]
[98,{"$f":"'TAB-C'!B108","v":"C98"},{"$f":"'TAB-C'!D108","v":""},{"$f":"SUMIFS('RE-UI'!$F$11:$F$109,'RE-UI'!$D$11:$D$109,B108)","v":0},{"$f":"SUMIFS('RE-UI'!$G$11:$G$109,'RE-UI'!$D$11:$D$109,B108)","v":0},{"$f":"SUMIFS('RE-UI'!$H$11:$H$109,'RE-UI'!$D$11:$D$109,B108)","v":0},{"$f":"SUMIFS('RE-UI'!$I$11:$I$109,'RE-UI'!$D$11:$D$109,B108)","v":0},{"$f":"SUMIFS('RE-UI'!$J$11:$J$109,'RE-UI'!$D$11:$D$109,B108)","v":0},{"$f":"SUMIFS('RE-UI'!$K$11:$K$109,'RE-UI'!$D$11:$D$109,B108)","v":0},{"$f":"SUMIFS('RE-UI'!$L$11:$L$109,'RE-UI'!$D$11:$D$109,B108)","v":0},{"$f":"SUMIFS('RE-UI'!$M$11:$M$109,'RE-UI'!$D$11:$D$109,B108)","v":0},{"$f":"SUMIFS('RE-UI'!$N$11:$N$109,'RE-UI'!$D$11:$D$109,B108)","v":0},{"$f":"SUMIFS('RE-UI'!$O$11:$O$109,'RE-UI'!$D$11:$D$109,B108)","v":0},{"$f":"SUMIFS('RE-UI'!$P$11:$P$109,'RE-UI'!$D$11:$D$109,B108)","v":0},0]
[99,{"$f":"'TAB-C'!B109","v":"C99"},{"$f":"'TAB-C'!D109","v":""},{"$f":"SUMIFS('RE-UI'!$F$11:$F$109,'RE-UI'!$D$11:$D$109,B109)","v":0},{"$f":"SUMIFS('RE-UI'!$G$11:$G$109,'RE-UI'!$D$11:$D$109,B109)","v":0},{"$f":"SUMIFS('RE-UI'!$H$11:$H$109,'RE-UI'!$D$11:$D$109,B109)","v":0},{"$f":"SUMIFS('RE-UI'!$I$11:$I$109,'RE-UI'!$D$11:$D$109,B109)","v":0},{"$f":"SUMIFS('RE-UI'!$J$11:$J$109,'RE-UI'!$D$11:$D$109,B109)","v":0},{"$f":"SUMIFS('RE-UI'!$K$11:$K$109,'RE-UI'!$D$11:$D$109,B109)","v":0},{"$f":"SUMIFS('RE-UI'!$L$11:$L$109,'RE-UI'!$D$11:$D$109,B109)","v":0},{"$f":"SUMIFS('RE-UI'!$M$11:$M$109,'RE-UI'!$D$11:$D$109,B109)","v":0},{"$f":"SUMIFS('RE-UI'!$N$11:$N$109,'RE-UI'!$D$11:$D$109,B109)","v":0},{"$f":"SUMIFS('RE-UI'!$O$11:$O$109,'RE-UI'!$D$11:$D$109,B109)","v":0},{"$f":"SUMIFS('RE-UI'!$P$11:$P$109,'RE-UI'!$D$11:$D$109,B109)","v":0},0]
[null,null,"TOTALI",{"$f":"SUM(D11:D109)","v":3640.0000000000005},{"$f":"SUM(E11:E109)","v":1459.9999999999998},2099.9999999999995,0,0,0,0,0,0,0,20,7220]
[null,null,"controllo uscite",{"$f":"SUM(D110:N110)","v":7220}]

{"sheet":"RE-UF(anni)","index":33,"n_rows":111,"n_cols":10,"rows_kept":111,"cut":false,"hidden":true,"merged":[[110,3,110,6],[7,0,9,0],[7,1,9,1],[7,2,9,2],[110,1,110,2]]}
[]
[]
[]
[]
[]
[]
[{"$f":"\"RIPARTO fra le UNITÀ FUNZIONALI delle SPESE FISCALMENTE DETRAIBILI sostenute con il FONDO \"  & \"alla data \" & DataUltimaregistrazione() &CHAR(10)  & \" suddivise per anno in cui sono state sostenute.\"& CHAR(10)  & DATIG!A40 & CHAR(10) & \"Codice FONDO:  \" & DATIG!A37","v":"RIPARTO fra le UNITÀ FUNZIONALI delle SPESE FISCALMENTE DETRAIBILI sostenute con il FONDO alla data 13-novembre-2019\n suddivise per anno in cui sono state sostenute.\nLavori messa in sicurezza fondazioni da infiltrazioni fognarie\nCodice FONDO:  LAVORO-01"}]
["N. UFC","Codice Unità\nFunzionale\nCondominiale","Codice Unità\nImmobiliare\nCatastale\ncui appartiene","SPESE","SPESE","SPESE","SPESE","SPESE"]
[null,null,null,"ANNO","ANNO","ANNO","ANNO","TOTALI"]
[null,null,null,{"$f":"DATIG!A51","v":2017},{"$f":"DATIG!A52","v":2018},{"$f":"DATIG!A53","v":2019},{"$f":"DATIG!A54","v":0}]
[1,{"$f":"IF('RE-UF'!B11<>\"\",'RE-UF'!B11,\"\")","v":"UFC01"},{"$f":"IF('RE-UF'!C11<>\"\",'RE-UF'!C11,\"\")","v":"U01"},19.82,192.87,234.69,0,{"$f":"SUM(D11:G11)","v":447.38},null,0]
[2,{"$f":"IF('RE-UF'!B12<>\"\",'RE-UF'!B12,\"\")","v":"UFC02"},{"$f":"IF('RE-UF'!C12<>\"\",'RE-UF'!C12,\"\")","v":"U02"},23.78,231.45000000000002,281.64,0,{"$f":"SUM(D12:G12)","v":536.87},null,0]
[3,{"$f":"IF('RE-UF'!B13<>\"\",'RE-UF'!B13,\"\")","v":"UFC03"},{"$f":"IF('RE-UF'!C13<>\"\",'RE-UF'!C13,\"\")","v":"U03"},22.67,220.62,268.45999999999998,0,511.75,null,0]
[4,{"$f":"IF('RE-UF'!B14<>\"\",'RE-UF'!B14,\"\")","v":"UFC04"},{"$f":"IF('RE-UF'!C14<>\"\",'RE-UF'!C14,\"\")","v":"U04"},20.55,145.67000000000002,193.76,0,359.98,null,0]
[5,{"$f":"IF('RE-UF'!B15<>\"\",'RE-UF'!B15,\"\")","v":"UFC05"},{"$f":"IF('RE-UF'!C15<>\"\",'RE-UF'!C15,\"\")","v":"U05"},25.490000000000002,180.64000000000001,240.28,0,446.41,null,0]
[6,{"$f":"IF('RE-UF'!B16<>\"\",'RE-UF'!B16,\"\")","v":"UFC06"},{"$f":"IF('RE-UF'!C16<>\"\",'RE-UF'!C16,\"\")","v":"U06"},24.18,171.35,227.93,0,423.46000000000004,null,0]
[7,{"$f":"IF('RE-UF'!B17<>\"\",'RE-UF'!B17,\"\")","v":"UFC07"},{"$f":"IF('RE-UF'!C17<>\"\",'RE-UF'!C17,\"\")","v":"U07"},20.23,89.91,141.91,0,252.05,null,0]
[8,{"$f":"IF('RE-UF'!B18<>\"\",'RE-UF'!B18,\"\")","v":"UFC08"},{"$f":"IF('RE-UF'!C18<>\"\",'RE-UF'!C18,\"\")","v":"U08"},24.77,110.07000000000001,173.73,0,308.57,null,0]
[9,{"$f":"IF('RE-UF'!B19<>\"\",'RE-UF'!B19,\"\")","v":"UFC09"},{"$f":"IF('RE-UF'!C19<>\"\",'RE-UF'!C19,\"\")","v":"U09"},23.53,104.55,165.01,0,293.08999999999997,null,0]
[10,{"$f":"IF('RE-UF'!B20<>\"\",'RE-UF'!B20,\"\")","v":"UFC10"},{"$f":"IF('RE-UF'!C20<>\"\",'RE-UF'!C20,\"\")","v":"U10"},17.740000000000002,36.730000000000004,85.99,0,140.46,null,0]
[11,{"$f":"IF('RE-UF'!B21<>\"\",'RE-UF'!B21,\"\")","v":"UFC11"},{"$f":"IF('RE-UF'!C21<>\"\",'RE-UF'!C21,\"\")","v":"U11"},22.82,46.18,129.62,0,198.62,null,0]
[12,{"$f":"IF('RE-UF'!B22<>\"\",'RE-UF'!B22,\"\")","v":"UFC12"},{"$f":"IF('RE-UF'!C22<>\"\",'RE-UF'!C22,\"\")","v":"U12"},16.330000000000002,35.01,80.239999999999995,0,131.57999999999998,null,0]
[13,{"$f":"IF('RE-UF'!B23<>\"\",'RE-UF'!B23,\"\")","v":"UFC13"},{"$f":"IF('RE-UF'!C23<>\"\",'RE-UF'!C23,\"\")","v":"U13"},5.08,22.56,35.61,0,63.25,null,0]
[14,{"$f":"IF('RE-UF'!B24<>\"\",'RE-UF'!B24,\"\")","v":"UFC14"},{"$f":"IF('RE-UF'!C24<>\"\",'RE-UF'!C24,\"\")","v":"U14"},16.25,72.19,113.94,0,202.38,null,0]
[15,{"$f":"IF('RE-UF'!B25<>\"\",'RE-UF'!B25,\"\")","v":"UFC15"},{"$f":"IF('RE-UF'!C25<>\"\",'RE-UF'!C25,\"\")","v":"U15"},43.32,256.53000000000003,511.78000000000003,0,811.63000000000011,null,0]
[16,{"$f":"IF('RE-UF'!B26<>\"\",'RE-UF'!B26,\"\")","v":"UFC16"},{"$f":"IF('RE-UF'!C26<>\"\",'RE-UF'!C26,\"\")","v":"U16"},23.96,156.02000000000001,307.77,0,487.75,null,0]
[17,{"$f":"IF('RE-UF'!B27<>\"\",'RE-UF'!B27,\"\")","v":"UFC17"},{"$f":"IF('RE-UF'!C27<>\"\",'RE-UF'!C27,\"\")","v":"U17"},18.86,122.81,242.27,0,383.94000000000005,null,0]
[18,{"$f":"IF('RE-UF'!B28<>\"\",'RE-UF'!B28,\"\")","v":"UFC18"},{"$f":"IF('RE-UF'!C28<>\"\",'RE-UF'!C28,\"\")","v":"U18"},25.07,123.87,253.13,0,402.07,null,0]
[19,{"$f":"IF('RE-UF'!B29<>\"\",'RE-UF'!B29,\"\")","v":"UFC19"},{"$f":"IF('RE-UF'!C29<>\"\",'RE-UF'!C29,\"\")","v":"U19"},20.51,101.36,207.13,0,329,null,0]
[20,{"$f":"IF('RE-UF'!B30<>\"\",'RE-UF'!B30,\"\")","v":"UFC20"},{"$f":"IF('RE-UF'!C30<>\"\",'RE-UF'!C30,\"\")","v":"U20"},43.08,121.14,274.45999999999998,0,438.67999999999995,null,0]
[21,{"$f":"IF('RE-UF'!B31<>\"\",'RE-UF'!B31,\"\")","v":"UFC21"},{"$f":"IF('RE-UF'!C31<>\"\",'RE-UF'!C31,\"\")","v":"U21"},19.2,64.72,141.1,0,225.01999999999998,null,0]
[22,{"$f":"IF('RE-UF'!B32<>\"\",'RE-UF'!B32,\"\")","v":"UFC22"},{"$f":"IF('RE-UF'!C32<>\"\",'RE-UF'!C32,\"\")","v":"U22"},22.76,43.75,109.55,0,176.06,null,0]
[23,{"$f":"IF('RE-UF'!B33<>\"\",'RE-UF'!B33,\"\")","v":"UFC23"},{"$f":"IF('RE-UF'!C33<>\"\",'RE-UF'!C33,\"\")","v":"U20"},null,null,null,null,0,null,0]
[24,{"$f":"IF('RE-UF'!B34<>\"\",'RE-UF'!B34,\"\")","v":"UFC24"},{"$f":"IF('RE-UF'!C34<>\"\",'RE-UF'!C34,\"\")","v":"U15"},null,null,null,null,0,null,0]
[25,{"$f":"IF('RE-UF'!B35<>\"\",'RE-UF'!B35,\"\")","v":"UFC25"},{"$f":"IF('RE-UF'!C35<>\"\",'RE-UF'!C35,\"\")","v":""},null,null,null,null,0]
[26,{"$f":"IF('RE-UF'!B36<>\"\",'RE-UF'!B36,\"\")","v":"UFC26"},{"$f":"IF('RE-UF'!C36<>\"\",'RE-UF'!C36,\"\")","v":""},null,null,null,null,0]
[27,{"$f":"IF('RE-UF'!B37<>\"\",'RE-UF'!B37,\"\")","v":"UFC27"},{"$f":"IF('RE-UF'!C37<>\"\",'RE-UF'!C37,\"\")","v":""},null,null,null,null,0]
[28,{"$f":"IF('RE-UF'!B38<>\"\",'RE-UF'!B38,\"\")","v":"UFC28"},{"$f":"IF('RE-UF'!C38<>\"\",'RE-UF'!C38,\"\")","v":""},null,null,null,null,0]
[29,{"$f":"IF('RE-UF'!B39<>\"\",'RE-UF'!B39,\"\")","v":"UFC29"},{"$f":"IF('RE-UF'!C39<>\"\",'RE-UF'!C39,\"\")","v":""},null,null,null,null,0]
[30,{"$f":"IF('RE-UF'!B40<>\"\",'RE-UF'!B40,\"\")","v":"UFC30"},{"$f":"IF('RE-UF'!C40<>\"\",'RE-UF'!C40,\"\")","v":""},null,null,null,null,0]
[31,{"$f":"IF('RE-UF'!B41<>\"\",'RE-UF'!B41,\"\")","v":"UFC31"},{"$f":"IF('RE-UF'!C41<>\"\",'RE-UF'!C41,\"\")","v":""},null,null,null,null,0]
[32,{"$f":"IF('RE-UF'!B42<>\"\",'RE-UF'!B42,\"\")","v":"UFC32"},{"$f":"IF('RE-UF'!C42<>\"\",'RE-UF'!C42,\"\")","v":""},null,null,null,null,0]
[33,{"$f":"IF('RE-UF'!B43<>\"\",'RE-UF'!B43,\"\")","v":"UFC33"},{"$f":"IF('RE-UF'!C43<>\"\",'RE-UF'!C43,\"\")","v":""},null,null,null,null,0]
[34,{"$f":"IF('RE-UF'!B44<>\"\",'RE-UF'!B44,\"\")","v":"UFC34"},{"$f":"IF('RE-UF'!C44<>\"\",'RE-UF'!C44,\"\")","v":""},null,null,null,null,0]
[35,{"$f":"IF('RE-UF'!B45<>\"\",'RE-UF'!B45,\"\")","v":"UFC35"},{"$f":"IF('RE-UF'!C45<>\"\",'RE-UF'!C45,\"\")","v":""},null,null,null,null,0]
[36,{"$f":"IF('RE-UF'!B46<>\"\",'RE-UF'!B46,\"\")","v":"UFC36"},{"$f":"IF('RE-UF'!C46<>\"\",'RE-UF'!C46,\"\")","v":""},null,null,null,null,0]
[37,{"$f":"IF('RE-UF'!B47<>\"\",'RE-UF'!B47,\"\")","v":"UFC37"},{"$f":"IF('RE-UF'!C47<>\"\",'RE-UF'!C47,\"\")","v":""},null,null,null,null,0]
[38,{"$f":"IF('RE-UF'!B48<>\"\",'RE-UF'!B48,\"\")","v":"UFC38"},{"$f":"IF('RE-UF'!C48<>\"\",'RE-UF'!C48,\"\")","v":""},null,null,null,null,0]
[39,{"$f":"IF('RE-UF'!B49<>\"\",'RE-UF'!B49,\"\")","v":"UFC39"},{"$f":"IF('RE-UF'!C49<>\"\",'RE-UF'!C49,\"\")","v":""},null,null,null,null,0]
[40,{"$f":"IF('RE-UF'!B50<>\"\",'RE-UF'!B50,\"\")","v":"UFC40"},{"$f":"IF('RE-UF'!C50<>\"\",'RE-UF'!C50,\"\")","v":""},null,null,null,null,0]
[41,{"$f":"IF('RE-UF'!B51<>\"\",'RE-UF'!B51,\"\")","v":"UFC41"},{"$f":"IF('RE-UF'!C51<>\"\",'RE-UF'!C51,\"\")","v":""},null,null,null,null,0]
[42,{"$f":"IF('RE-UF'!B52<>\"\",'RE-UF'!B52,\"\")","v":"UFC42"},{"$f":"IF('RE-UF'!C52<>\"\",'RE-UF'!C52,\"\")","v":""},null,null,null,null,0]
[43,{"$f":"IF('RE-UF'!B53<>\"\",'RE-UF'!B53,\"\")","v":"UFC43"},{"$f":"IF('RE-UF'!C53<>\"\",'RE-UF'!C53,\"\")","v":""},null,null,null,null,0]
[44,{"$f":"IF('RE-UF'!B54<>\"\",'RE-UF'!B54,\"\")","v":"UFC44"},{"$f":"IF('RE-UF'!C54<>\"\",'RE-UF'!C54,\"\")","v":""},null,null,null,null,0]
[45,{"$f":"IF('RE-UF'!B55<>\"\",'RE-UF'!B55,\"\")","v":"UFC45"},{"$f":"IF('RE-UF'!C55<>\"\",'RE-UF'!C55,\"\")","v":""},null,null,null,null,0]
[46,{"$f":"IF('RE-UF'!B56<>\"\",'RE-UF'!B56,\"\")","v":"UFC46"},{"$f":"IF('RE-UF'!C56<>\"\",'RE-UF'!C56,\"\")","v":""},null,null,null,null,0]
[47,{"$f":"IF('RE-UF'!B57<>\"\",'RE-UF'!B57,\"\")","v":"UFC47"},{"$f":"IF('RE-UF'!C57<>\"\",'RE-UF'!C57,\"\")","v":""},null,null,null,null,0]
[48,{"$f":"IF('RE-UF'!B58<>\"\",'RE-UF'!B58,\"\")","v":"UFC48"},{"$f":"IF('RE-UF'!C58<>\"\",'RE-UF'!C58,\"\")","v":""},null,null,null,null,0]
[49,{"$f":"IF('RE-UF'!B59<>\"\",'RE-UF'!B59,\"\")","v":"UFC49"},{"$f":"IF('RE-UF'!C59<>\"\",'RE-UF'!C59,\"\")","v":""},null,null,null,null,0]
[50,{"$f":"IF('RE-UF'!B60<>\"\",'RE-UF'!B60,\"\")","v":"UFC50"},{"$f":"IF('RE-UF'!C60<>\"\",'RE-UF'!C60,\"\")","v":""},null,null,null,null,0]
[51,{"$f":"IF('RE-UF'!B61<>\"\",'RE-UF'!B61,\"\")","v":"UFC51"},{"$f":"IF('RE-UF'!C61<>\"\",'RE-UF'!C61,\"\")","v":""},null,null,null,null,0]
[52,{"$f":"IF('RE-UF'!B62<>\"\",'RE-UF'!B62,\"\")","v":"UFC52"},{"$f":"IF('RE-UF'!C62<>\"\",'RE-UF'!C62,\"\")","v":""},null,null,null,null,0]
[53,{"$f":"IF('RE-UF'!B63<>\"\",'RE-UF'!B63,\"\")","v":"UFC53"},{"$f":"IF('RE-UF'!C63<>\"\",'RE-UF'!C63,\"\")","v":""},null,null,null,null,0]
[54,{"$f":"IF('RE-UF'!B64<>\"\",'RE-UF'!B64,\"\")","v":"UFC54"},{"$f":"IF('RE-UF'!C64<>\"\",'RE-UF'!C64,\"\")","v":""},null,null,null,null,0]
[55,{"$f":"IF('RE-UF'!B65<>\"\",'RE-UF'!B65,\"\")","v":"UFC55"},{"$f":"IF('RE-UF'!C65<>\"\",'RE-UF'!C65,\"\")","v":""},null,null,null,null,0]
[56,{"$f":"IF('RE-UF'!B66<>\"\",'RE-UF'!B66,\"\")","v":"UFC56"},{"$f":"IF('RE-UF'!C66<>\"\",'RE-UF'!C66,\"\")","v":""},null,null,null,null,0]
[57,{"$f":"IF('RE-UF'!B67<>\"\",'RE-UF'!B67,\"\")","v":"UFC57"},{"$f":"IF('RE-UF'!C67<>\"\",'RE-UF'!C67,\"\")","v":""},null,null,null,null,0]
[58,{"$f":"IF('RE-UF'!B68<>\"\",'RE-UF'!B68,\"\")","v":"UFC58"},{"$f":"IF('RE-UF'!C68<>\"\",'RE-UF'!C68,\"\")","v":""},null,null,null,null,0]
[59,{"$f":"IF('RE-UF'!B69<>\"\",'RE-UF'!B69,\"\")","v":"UFC59"},{"$f":"IF('RE-UF'!C69<>\"\",'RE-UF'!C69,\"\")","v":""},null,null,null,null,0]
[60,{"$f":"IF('RE-UF'!B70<>\"\",'RE-UF'!B70,\"\")","v":"UFC60"},{"$f":"IF('RE-UF'!C70<>\"\",'RE-UF'!C70,\"\")","v":""},null,null,null,null,0]
[61,{"$f":"IF('RE-UF'!B71<>\"\",'RE-UF'!B71,\"\")","v":"UFC61"},{"$f":"IF('RE-UF'!C71<>\"\",'RE-UF'!C71,\"\")","v":""},null,null,null,null,0]
[62,{"$f":"IF('RE-UF'!B72<>\"\",'RE-UF'!B72,\"\")","v":"UFC62"},{"$f":"IF('RE-UF'!C72<>\"\",'RE-UF'!C72,\"\")","v":""},null,null,null,null,0]
[63,{"$f":"IF('RE-UF'!B73<>\"\",'RE-UF'!B73,\"\")","v":"UFC63"},{"$f":"IF('RE-UF'!C73<>\"\",'RE-UF'!C73,\"\")","v":""},null,null,null,null,0]
[64,{"$f":"IF('RE-UF'!B74<>\"\",'RE-UF'!B74,\"\")","v":"UFC64"},{"$f":"IF('RE-UF'!C74<>\"\",'RE-UF'!C74,\"\")","v":""},null,null,null,null,0]
[65,{"$f":"IF('RE-UF'!B75<>\"\",'RE-UF'!B75,\"\")","v":"UFC65"},{"$f":"IF('RE-UF'!C75<>\"\",'RE-UF'!C75,\"\")","v":""},null,null,null,null,0]
[66,{"$f":"IF('RE-UF'!B76<>\"\",'RE-UF'!B76,\"\")","v":"UFC66"},{"$f":"IF('RE-UF'!C76<>\"\",'RE-UF'!C76,\"\")","v":""},null,null,null,null,{"$f":"SUM(D76:G76)","v":0}]
[67,{"$f":"IF('RE-UF'!B77<>\"\",'RE-UF'!B77,\"\")","v":"UFC67"},{"$f":"IF('RE-UF'!C77<>\"\",'RE-UF'!C77,\"\")","v":""},null,null,null,null,0]
[68,{"$f":"IF('RE-UF'!B78<>\"\",'RE-UF'!B78,\"\")","v":"UFC68"},{"$f":"IF('RE-UF'!C78<>\"\",'RE-UF'!C78,\"\")","v":""},null,null,null,null,0]
[69,{"$f":"IF('RE-UF'!B79<>\"\",'RE-UF'!B79,\"\")","v":"UFC69"},{"$f":"IF('RE-UF'!C79<>\"\",'RE-UF'!C79,\"\")","v":""},null,null,null,null,0]
[70,{"$f":"IF('RE-UF'!B80<>\"\",'RE-UF'!B80,\"\")","v":"UFC70"},{"$f":"IF('RE-UF'!C80<>\"\",'RE-UF'!C80,\"\")","v":""},null,null,null,null,0]
[71,{"$f":"IF('RE-UF'!B81<>\"\",'RE-UF'!B81,\"\")","v":"UFC71"},{"$f":"IF('RE-UF'!C81<>\"\",'RE-UF'!C81,\"\")","v":""},null,null,null,null,0]
[72,{"$f":"IF('RE-UF'!B82<>\"\",'RE-UF'!B82,\"\")","v":"UFC72"},{"$f":"IF('RE-UF'!C82<>\"\",'RE-UF'!C82,\"\")","v":""},null,null,null,null,0]
[73,{"$f":"IF('RE-UF'!B83<>\"\",'RE-UF'!B83,\"\")","v":"UFC73"},{"$f":"IF('RE-UF'!C83<>\"\",'RE-UF'!C83,\"\")","v":""},null,null,null,null,0]
[74,{"$f":"IF('RE-UF'!B84<>\"\",'RE-UF'!B84,\"\")","v":"UFC74"},{"$f":"IF('RE-UF'!C84<>\"\",'RE-UF'!C84,\"\")","v":""},null,null,null,null,0]
[75,{"$f":"IF('RE-UF'!B85<>\"\",'RE-UF'!B85,\"\")","v":"UFC75"},{"$f":"IF('RE-UF'!C85<>\"\",'RE-UF'!C85,\"\")","v":""},null,null,null,null,0]
[76,{"$f":"IF('RE-UF'!B86<>\"\",'RE-UF'!B86,\"\")","v":"UFC76"},{"$f":"IF('RE-UF'!C86<>\"\",'RE-UF'!C86,\"\")","v":""},null,null,null,null,0]
[77,{"$f":"IF('RE-UF'!B87<>\"\",'RE-UF'!B87,\"\")","v":"UFC77"},{"$f":"IF('RE-UF'!C87<>\"\",'RE-UF'!C87,\"\")","v":""},null,null,null,null,0]
[78,{"$f":"IF('RE-UF'!B88<>\"\",'RE-UF'!B88,\"\")","v":"UFC78"},{"$f":"IF('RE-UF'!C88<>\"\",'RE-UF'!C88,\"\")","v":""},null,null,null,null,0]
[79,{"$f":"IF('RE-UF'!B89<>\"\",'RE-UF'!B89,\"\")","v":"UFC79"},{"$f":"IF('RE-UF'!C89<>\"\",'RE-UF'!C89,\"\")","v":""},null,null,null,null,0]
[80,{"$f":"IF('RE-UF'!B90<>\"\",'RE-UF'!B90,\"\")","v":"UFC80"},{"$f":"IF('RE-UF'!C90<>\"\",'RE-UF'!C90,\"\")","v":""},null,null,null,null,0]
[81,{"$f":"IF('RE-UF'!B91<>\"\",'RE-UF'!B91,\"\")","v":"UFC81"},{"$f":"IF('RE-UF'!C91<>\"\",'RE-UF'!C91,\"\")","v":""},null,null,null,null,0]
[82,{"$f":"IF('RE-UF'!B92<>\"\",'RE-UF'!B92,\"\")","v":"UFC82"},{"$f":"IF('RE-UF'!C92<>\"\",'RE-UF'!C92,\"\")","v":""},null,null,null,null,0]
[83,{"$f":"IF('RE-UF'!B93<>\"\",'RE-UF'!B93,\"\")","v":"UFC83"},{"$f":"IF('RE-UF'!C93<>\"\",'RE-UF'!C93,\"\")","v":""},null,null,null,null,0]
[84,{"$f":"IF('RE-UF'!B94<>\"\",'RE-UF'!B94,\"\")","v":"UFC84"},{"$f":"IF('RE-UF'!C94<>\"\",'RE-UF'!C94,\"\")","v":""},null,null,null,null,0]
[85,{"$f":"IF('RE-UF'!B95<>\"\",'RE-UF'!B95,\"\")","v":"UFC85"},{"$f":"IF('RE-UF'!C95<>\"\",'RE-UF'!C95,\"\")","v":""},null,null,null,null,0]
[86,{"$f":"IF('RE-UF'!B96<>\"\",'RE-UF'!B96,\"\")","v":"UFC86"},{"$f":"IF('RE-UF'!C96<>\"\",'RE-UF'!C96,\"\")","v":""},null,null,null,null,0]
[87,{"$f":"IF('RE-UF'!B97<>\"\",'RE-UF'!B97,\"\")","v":"UFC87"},{"$f":"IF('RE-UF'!C97<>\"\",'RE-UF'!C97,\"\")","v":""},null,null,null,null,0]
[88,{"$f":"IF('RE-UF'!B98<>\"\",'RE-UF'!B98,\"\")","v":"UFC88"},{"$f":"IF('RE-UF'!C98<>\"\",'RE-UF'!C98,\"\")","v":""},null,null,null,null,0]
[89,{"$f":"IF('RE-UF'!B99<>\"\",'RE-UF'!B99,\"\")","v":"UFC89"},{"$f":"IF('RE-UF'!C99<>\"\",'RE-UF'!C99,\"\")","v":""},null,null,null,null,0]
[90,{"$f":"IF('RE-UF'!B100<>\"\",'RE-UF'!B100,\"\")","v":"UFC90"},{"$f":"IF('RE-UF'!C100<>\"\",'RE-UF'!C100,\"\")","v":""},null,null,null,null,0]
[91,{"$f":"IF('RE-UF'!B101<>\"\",'RE-UF'!B101,\"\")","v":"UFC91"},{"$f":"IF('RE-UF'!C101<>\"\",'RE-UF'!C101,\"\")","v":""},null,null,null,null,0]
[92,{"$f":"IF('RE-UF'!B102<>\"\",'RE-UF'!B102,\"\")","v":"UFC92"},{"$f":"IF('RE-UF'!C102<>\"\",'RE-UF'!C102,\"\")","v":""},null,null,null,null,0]
[93,{"$f":"IF('RE-UF'!B103<>\"\",'RE-UF'!B103,\"\")","v":"UFC93"},{"$f":"IF('RE-UF'!C103<>\"\",'RE-UF'!C103,\"\")","v":""},null,null,null,null,0]
[94,{"$f":"IF('RE-UF'!B104<>\"\",'RE-UF'!B104,\"\")","v":"UFC94"},{"$f":"IF('RE-UF'!C104<>\"\",'RE-UF'!C104,\"\")","v":""},null,null,null,null,0]
[95,{"$f":"IF('RE-UF'!B105<>\"\",'RE-UF'!B105,\"\")","v":"UFC95"},{"$f":"IF('RE-UF'!C105<>\"\",'RE-UF'!C105,\"\")","v":""},null,null,null,null,0]
[96,{"$f":"IF('RE-UF'!B106<>\"\",'RE-UF'!B106,\"\")","v":"UFC96"},{"$f":"IF('RE-UF'!C106<>\"\",'RE-UF'!C106,\"\")","v":""},null,null,null,null,0]
[97,{"$f":"IF('RE-UF'!B107<>\"\",'RE-UF'!B107,\"\")","v":"UFC97"},{"$f":"IF('RE-UF'!C107<>\"\",'RE-UF'!C107,\"\")","v":""},null,null,null,null,0]
[98,{"$f":"IF('RE-UF'!B108<>\"\",'RE-UF'!B108,\"\")","v":"UFC98"},{"$f":"IF('RE-UF'!C108<>\"\",'RE-UF'!C108,\"\")","v":""},null,null,null,null,0]
[99,{"$f":"IF('RE-UF'!B109<>\"\",'RE-UF'!B109,\"\")","v":"UFC99"},{"$f":"IF('RE-UF'!C109<>\"\",'RE-UF'!C109,\"\")","v":""},null,null,null,null,0]
[null,null,null,{"$f":"SUM(D11:D109)","v":499.99999999999994},{"$f":"SUM(E11:E109)","v":2650},{"$f":"SUM(F11:F109)","v":4420.0000000000009},{"$f":"SUM(G11:G109)","v":0},{"$f":"SUM(H11:H109)","v":7570.0000000000009}]
[null,"controllo uscite",null,{"$f":"SUM(D110:G110)","v":7570.0000000000009}]

{"sheet":"RE-UI(anni)","index":34,"n_rows":111,"n_cols":12,"rows_kept":111,"cut":false,"hidden":true,"merged":[[7,9,9,9],[110,5,110,8],[7,0,9,0],[7,1,9,1],[7,3,9,3],[7,4,9,4],[7,2,9,2]]}
[]
[]
[]
[]
[]
[]
[{"$f":"\"RIPARTO fra le UNITÀ IMMOBILIARI delle SPESE FISCALMENTE DETRAIBILI sostenute con il FONDO \"  & \"alla data \" & DataUltimaregistrazione() &CHAR(10)  & \" suddivise per anno in cui sono state sostenute.\"& CHAR(10)  & DATIG!A40 & CHAR(10) & \"Codice FONDO:  \" & DATIG!A37","v":"RIPARTO fra le UNITÀ IMMOBILIARI delle SPESE FISCALMENTE DETRAIBILI sostenute con il FONDO alla data 13-novembre-2019\n suddivise per anno in cui sono state sostenute.\nLavori messa in sicurezza fondazioni da infiltrazioni fognarie\nCodice FONDO:  LAVORO-01"}]
["N. UFC","Codice Unità\nImmobiliare\nCatastale","UFC\ncostituenti","CODICE CONDOMINO","CONDOMINO","SPESE","SPESE","SPESE","SPESE","TOTALE DOVUTO"]
[null,null,null,null,null,"ANNO","ANNO","ANNO","ANNO"]
[null,null,null,null,null,{"$f":"DATIG!A51","v":2017},{"$f":"DATIG!A52","v":2018},{"$f":"DATIG!A53","v":2019},{"$f":"DATIG!A54","v":0}]
[1,{"$f":"UI!B11","v":"U01"},{"$f":"IF('RE-UI'!C11<>\"\",'RE-UI'!C11,\"\")","v":"UFC01"},{"$f":"IF('RE-UI'!D11<>\"\",'RE-UI'!D11,\"\")","v":"C01"},{"$f":"IF('RE-UI'!E11<>\"\",'RE-UI'!E11,\"\")","v":"CONDOMINO01"},{"$f":"SUMIFS('RE-UF(anni)'!$D$11:$D$109,'RE-UF(anni)'!$C$11:$C$109,'RE-UI(anni)'!B11)","v":19.82},{"$f":"SUMIFS('RE-UF(anni)'!$E$11:$E$109,'RE-UF(anni)'!$C$11:$C$109,'RE-UI(anni)'!B11)","v":192.87},{"$f":"SUMIFS('RE-UF(anni)'!$F$11:$F$109,'RE-UF(anni)'!$C$11:$C$109,'RE-UI(anni)'!B11)","v":234.69},{"$f":"SUMIFS('RE-UF(anni)'!$G$11:$G$109,'RE-UF(anni)'!$C$11:$C$109,'RE-UI(anni)'!B11)","v":0},{"$f":"SUM(F11:I11)","v":447.38},null,0]
[2,{"$f":"UI!B12","v":"U02"},{"$f":"IF('RE-UI'!C12<>\"\",'RE-UI'!C12,\"\")","v":"UFC02"},{"$f":"IF('RE-UI'!D12<>\"\",'RE-UI'!D12,\"\")","v":"C02"},{"$f":"IF('RE-UI'!E12<>\"\",'RE-UI'!E12,\"\")","v":"CONDOMINO02"},{"$f":"SUMIFS('RE-UF(anni)'!$D$11:$D$109,'RE-UF(anni)'!$C$11:$C$109,'RE-UI(anni)'!B12)","v":23.78},{"$f":"SUMIFS('RE-UF(anni)'!$E$11:$E$109,'RE-UF(anni)'!$C$11:$C$109,'RE-UI(anni)'!B12)","v":231.45000000000002},{"$f":"SUMIFS('RE-UF(anni)'!$F$11:$F$109,'RE-UF(anni)'!$C$11:$C$109,'RE-UI(anni)'!B12)","v":281.64},{"$f":"SUMIFS('RE-UF(anni)'!$G$11:$G$109,'RE-UF(anni)'!$C$11:$C$109,'RE-UI(anni)'!B12)","v":0},536.87,null,0]
[3,{"$f":"UI!B13","v":"U03"},{"$f":"IF('RE-UI'!C13<>\"\",'RE-UI'!C13,\"\")","v":"UFC03"},{"$f":"IF('RE-UI'!D13<>\"\",'RE-UI'!D13,\"\")","v":"C03"},{"$f":"IF('RE-UI'!E13<>\"\",'RE-UI'!E13,\"\")","v":"CONDOMINO03"},{"$f":"SUMIFS('RE-UF(anni)'!$D$11:$D$109,'RE-UF(anni)'!$C$11:$C$109,'RE-UI(anni)'!B13)","v":22.67},{"$f":"SUMIFS('RE-UF(anni)'!$E$11:$E$109,'RE-UF(anni)'!$C$11:$C$109,'RE-UI(anni)'!B13)","v":220.62},{"$f":"SUMIFS('RE-UF(anni)'!$F$11:$F$109,'RE-UF(anni)'!$C$11:$C$109,'RE-UI(anni)'!B13)","v":268.45999999999998},{"$f":"SUMIFS('RE-UF(anni)'!$G$11:$G$109,'RE-UF(anni)'!$C$11:$C$109,'RE-UI(anni)'!B13)","v":0},511.75,null,0]
[4,{"$f":"UI!B14","v":"U04"},{"$f":"IF('RE-UI'!C14<>\"\",'RE-UI'!C14,\"\")","v":"UFC04"},{"$f":"IF('RE-UI'!D14<>\"\",'RE-UI'!D14,\"\")","v":"C04"},{"$f":"IF('RE-UI'!E14<>\"\",'RE-UI'!E14,\"\")","v":"CONDOMINO04"},{"$f":"SUMIFS('RE-UF(anni)'!$D$11:$D$109,'RE-UF(anni)'!$C$11:$C$109,'RE-UI(anni)'!B14)","v":20.55},{"$f":"SUMIFS('RE-UF(anni)'!$E$11:$E$109,'RE-UF(anni)'!$C$11:$C$109,'RE-UI(anni)'!B14)","v":145.67000000000002},{"$f":"SUMIFS('RE-UF(anni)'!$F$11:$F$109,'RE-UF(anni)'!$C$11:$C$109,'RE-UI(anni)'!B14)","v":193.76},{"$f":"SUMIFS('RE-UF(anni)'!$G$11:$G$109,'RE-UF(anni)'!$C$11:$C$109,'RE-UI(anni)'!B14)","v":0},359.98,null,0]
[5,{"$f":"UI!B15","v":"U05"},{"$f":"IF('RE-UI'!C15<>\"\",'RE-UI'!C15,\"\")","v":"UFC05"},{"$f":"IF('RE-UI'!D15<>\"\",'RE-UI'!D15,\"\")","v":"C05"},{"$f":"IF('RE-UI'!E15<>\"\",'RE-UI'!E15,\"\")","v":"CONDOMINO05"},{"$f":"SUMIFS('RE-UF(anni)'!$D$11:$D$109,'RE-UF(anni)'!$C$11:$C$109,'RE-UI(anni)'!B15)","v":25.490000000000002},{"$f":"SUMIFS('RE-UF(anni)'!$E$11:$E$109,'RE-UF(anni)'!$C$11:$C$109,'RE-UI(anni)'!B15)","v":180.64000000000001},{"$f":"SUMIFS('RE-UF(anni)'!$F$11:$F$109,'RE-UF(anni)'!$C$11:$C$109,'RE-UI(anni)'!B15)","v":240.28},{"$f":"SUMIFS('RE-UF(anni)'!$G$11:$G$109,'RE-UF(anni)'!$C$11:$C$109,'RE-UI(anni)'!B15)","v":0},446.41,null,0]
[6,{"$f":"UI!B16","v":"U06"},{"$f":"IF('RE-UI'!C16<>\"\",'RE-UI'!C16,\"\")","v":"UFC06"},{"$f":"IF('RE-UI'!D16<>\"\",'RE-UI'!D16,\"\")","v":"C06"},{"$f":"IF('RE-UI'!E16<>\"\",'RE-UI'!E16,\"\")","v":"CONDOMINO06"},{"$f":"SUMIFS('RE-UF(anni)'!$D$11:$D$109,'RE-UF(anni)'!$C$11:$C$109,'RE-UI(anni)'!B16)","v":24.18},{"$f":"SUMIFS('RE-UF(anni)'!$E$11:$E$109,'RE-UF(anni)'!$C$11:$C$109,'RE-UI(anni)'!B16)","v":171.35},{"$f":"SUMIFS('RE-UF(anni)'!$F$11:$F$109,'RE-UF(anni)'!$C$11:$C$109,'RE-UI(anni)'!B16)","v":227.93},{"$f":"SUMIFS('RE-UF(anni)'!$G$11:$G$109,'RE-UF(anni)'!$C$11:$C$109,'RE-UI(anni)'!B16)","v":0},423.46000000000004,null,0]
[7,{"$f":"UI!B17","v":"U07"},{"$f":"IF('RE-UI'!C17<>\"\",'RE-UI'!C17,\"\")","v":"UFC07"},{"$f":"IF('RE-UI'!D17<>\"\",'RE-UI'!D17,\"\")","v":"C07"},{"$f":"IF('RE-UI'!E17<>\"\",'RE-UI'!E17,\"\")","v":"CONDOMINO07"},{"$f":"SUMIFS('RE-UF(anni)'!$D$11:$D$109,'RE-UF(anni)'!$C$11:$C$109,'RE-UI(anni)'!B17)","v":20.23},{"$f":"SUMIFS('RE-UF(anni)'!$E$11:$E$109,'RE-UF(anni)'!$C$11:$C$109,'RE-UI(anni)'!B17)","v":89.91},{"$f":"SUMIFS('RE-UF(anni)'!$F$11:$F$109,'RE-UF(anni)'!$C$11:$C$109,'RE-UI(anni)'!B17)","v":141.91},{"$f":"SUMIFS('RE-UF(anni)'!$G$11:$G$109,'RE-UF(anni)'!$C$11:$C$109,'RE-UI(anni)'!B17)","v":0},252.05,null,0]
[8,{"$f":"UI!B18","v":"U08"},{"$f":"IF('RE-UI'!C18<>\"\",'RE-UI'!C18,\"\")","v":"UFC08"},{"$f":"IF('RE-UI'!D18<>\"\",'RE-UI'!D18,\"\")","v":"C08"},{"$f":"IF('RE-UI'!E18<>\"\",'RE-UI'!E18,\"\")","v":"CONDOMINO08"},{"$f":"SUMIFS('RE-UF(anni)'!$D$11:$D$109,'RE-UF(anni)'!$C$11:$C$109,'RE-UI(anni)'!B18)","v":24.77},{"$f":"SUMIFS('RE-UF(anni)'!$E$11:$E$109,'RE-UF(anni)'!$C$11:$C$109,'RE-UI(anni)'!B18)","v":110.07000000000001},{"$f":"SUMIFS('RE-UF(anni)'!$F$11:$F$109,'RE-UF(anni)'!$C$11:$C$109,'RE-UI(anni)'!B18)","v":173.73},{"$f":"SUMIFS('RE-UF(anni)'!$G$11:$G$109,'RE-UF(anni)'!$C$11:$C$109,'RE-UI(anni)'!B18)","v":0},308.57,null,0]
[9,{"$f":"UI!B19","v":"U09"},{"$f":"IF('RE-UI'!C19<>\"\",'RE-UI'!C19,\"\")","v":"UFC09"},{"$f":"IF('RE-UI'!D19<>\"\",'RE-UI'!D19,\"\")","v":"C09"},{"$f":"IF('RE-UI'!E19<>\"\",'RE-UI'!E19,\"\")","v":"CONDOMINO09"},{"$f":"SUMIFS('RE-UF(anni)'!$D$11:$D$109,'RE-UF(anni)'!$C$11:$C$109,'RE-UI(anni)'!B19)","v":23.53},{"$f":"SUMIFS('RE-UF(anni)'!$E$11:$E$109,'RE-UF(anni)'!$C$11:$C$109,'RE-UI(anni)'!B19)","v":104.55},{"$f":"SUMIFS('RE-UF(anni)'!$F$11:$F$109,'RE-UF(anni)'!$C$11:$C$109,'RE-UI(anni)'!B19)","v":165.01},{"$f":"SUMIFS('RE-UF(anni)'!$G$11:$G$109,'RE-UF(anni)'!$C$11:$C$109,'RE-UI(anni)'!B19)","v":0},293.08999999999997,null,0]
[10,{"$f":"UI!B20","v":"U10"},{"$f":"IF('RE-UI'!C20<>\"\",'RE-UI'!C20,\"\")","v":"UFC10"},{"$f":"IF('RE-UI'!D20<>\"\",'RE-UI'!D20,\"\")","v":"C10"},{"$f":"IF('RE-UI'!E20<>\"\",'RE-UI'!E20,\"\")","v":"CONDOMINO10"},{"$f":"SUMIFS('RE-UF(anni)'!$D$11:$D$109,'RE-UF(anni)'!$C$11:$C$109,'RE-UI(anni)'!B20)","v":17.740000000000002},{"$f":"SUMIFS('RE-UF(anni)'!$E$11:$E$109,'RE-UF(anni)'!$C$11:$C$109,'RE-UI(anni)'!B20)","v":36.730000000000004},{"$f":"SUMIFS('RE-UF(anni)'!$F$11:$F$109,'RE-UF(anni)'!$C$11:$C$109,'RE-UI(anni)'!B20)","v":85.99},{"$f":"SUMIFS('RE-UF(anni)'!$G$11:$G$109,'RE-UF(anni)'!$C$11:$C$109,'RE-UI(anni)'!B20)","v":0},140.46,null,0]
[11,{"$f":"UI!B21","v":"U11"},{"$f":"IF('RE-UI'!C21<>\"\",'RE-UI'!C21,\"\")","v":"UFC11"},{"$f":"IF('RE-UI'!D21<>\"\",'RE-UI'!D21,\"\")","v":"C11"},{"$f":"IF('RE-UI'!E21<>\"\",'RE-UI'!E21,\"\")","v":"CONDOMINO11"},{"$f":"SUMIFS('RE-UF(anni)'!$D$11:$D$109,'RE-UF(anni)'!$C$11:$C$109,'RE-UI(anni)'!B21)","v":22.82},{"$f":"SUMIFS('RE-UF(anni)'!$E$11:$E$109,'RE-UF(anni)'!$C$11:$C$109,'RE-UI(anni)'!B21)","v":46.18},{"$f":"SUMIFS('RE-UF(anni)'!$F$11:$F$109,'RE-UF(anni)'!$C$11:$C$109,'RE-UI(anni)'!B21)","v":129.62},{"$f":"SUMIFS('RE-UF(anni)'!$G$11:$G$109,'RE-UF(anni)'!$C$11:$C$109,'RE-UI(anni)'!B21)","v":0},198.62,null,0]
[12,{"$f":"UI!B22","v":"U12"},{"$f":"IF('RE-UI'!C22<>\"\",'RE-UI'!C22,\"\")","v":"UFC12"},{"$f":"IF('RE-UI'!D22<>\"\",'RE-UI'!D22,\"\")","v":"C12"},{"$f":"IF('RE-UI'!E22<>\"\",'RE-UI'!E22,\"\")","v":"CONDOMINO12"},{"$f":"SUMIFS('RE-UF(anni)'!$D$11:$D$109,'RE-UF(anni)'!$C$11:$C$109,'RE-UI(anni)'!B22)","v":16.330000000000002},{"$f":"SUMIFS('RE-UF(anni)'!$E$11:$E$109,'RE-UF(anni)'!$C$11:$C$109,'RE-UI(anni)'!B22)","v":35.01},{"$f":"SUMIFS('RE-UF(anni)'!$F$11:$F$109,'RE-UF(anni)'!$C$11:$C$109,'RE-UI(anni)'!B22)","v":80.239999999999995},{"$f":"SUMIFS('RE-UF(anni)'!$G$11:$G$109,'RE-UF(anni)'!$C$11:$C$109,'RE-UI(anni)'!B22)","v":0},131.57999999999998,null,0]
[13,{"$f":"UI!B23","v":"U13"},{"$f":"IF('RE-UI'!C23<>\"\",'RE-UI'!C23,\"\")","v":"UFC13"},{"$f":"IF('RE-UI'!D23<>\"\",'RE-UI'!D23,\"\")","v":"C13"},{"$f":"IF('RE-UI'!E23<>\"\",'RE-UI'!E23,\"\")","v":"CONDOMINO13"},{"$f":"SUMIFS('RE-UF(anni)'!$D$11:$D$109,'RE-UF(anni)'!$C$11:$C$109,'RE-UI(anni)'!B23)","v":5.08},{"$f":"SUMIFS('RE-UF(anni)'!$E$11:$E$109,'RE-UF(anni)'!$C$11:$C$109,'RE-UI(anni)'!B23)","v":22.56},{"$f":"SUMIFS('RE-UF(anni)'!$F$11:$F$109,'RE-UF(anni)'!$C$11:$C$109,'RE-UI(anni)'!B23)","v":35.61},{"$f":"SUMIFS('RE-UF(anni)'!$G$11:$G$109,'RE-UF(anni)'!$C$11:$C$109,'RE-UI(anni)'!B23)","v":0},63.25,null,0]
[14,{"$f":"UI!B24","v":"U14"},{"$f":"IF('RE-UI'!C24<>\"\",'RE-UI'!C24,\"\")","v":"UFC14"},{"$f":"IF('RE-UI'!D24<>\"\",'RE-UI'!D24,\"\")","v":"C14"},{"$f":"IF('RE-UI'!E24<>\"\",'RE-UI'!E24,\"\")","v":"CONDOMINO14"},{"$f":"SUMIFS('RE-UF(anni)'!$D$11:$D$109,'RE-UF(anni)'!$C$11:$C$109,'RE-UI(anni)'!B24)","v":16.25},{"$f":"SUMIFS('RE-UF(anni)'!$E$11:$E$109,'RE-UF(anni)'!$C$11:$C$109,'RE-UI(anni)'!B24)","v":72.19},{"$f":"SUMIFS('RE-UF(anni)'!$F$11:$F$109,'RE-UF(anni)'!$C$11:$C$109,'RE-UI(anni)'!B24)","v":113.94},{"$f":"SUMIFS('RE-UF(anni)'!$G$11:$G$109,'RE-UF(anni)'!$C$11:$C$109,'RE-UI(anni)'!B24)","v":0},202.38,null,0]
[15,{"$f":"UI!B25","v":"U15"},{"$f":"IF('RE-UI'!C25<>\"\",'RE-UI'!C25,\"\")","v":"UFC15+UFC24"},{"$f":"IF('RE-UI'!D25<>\"\",'RE-UI'!D25,\"\")","v":"C15"},{"$f":"IF('RE-UI'!E25<>\"\",'RE-UI'!E25,\"\")","v":"CONDOMINO15"},{"$f":"SUMIFS('RE-UF(anni)'!$D$11:$D$109,'RE-UF(anni)'!$C$11:$C$109,'RE-UI(anni)'!B25)","v":43.32},{"$f":"SUMIFS('RE-UF(anni)'!$E$11:$E$109,'RE-UF(anni)'!$C$11:$C$109,'RE-UI(anni)'!B25)","v":256.53000000000003},{"$f":"SUMIFS('RE-UF(anni)'!$F$11:$F$109,'RE-UF(anni)'!$C$11:$C$109,'RE-UI(anni)'!B25)","v":511.78000000000003},{"$f":"SUMIFS('RE-UF(anni)'!$G$11:$G$109,'RE-UF(anni)'!$C$11:$C$109,'RE-UI(anni)'!B25)","v":0},811.63000000000011,null,0]
[16,{"$f":"UI!B26","v":"U16"},{"$f":"IF('RE-UI'!C26<>\"\",'RE-UI'!C26,\"\")","v":"UFC16"},{"$f":"IF('RE-UI'!D26<>\"\",'RE-UI'!D26,\"\")","v":"C16"},{"$f":"IF('RE-UI'!E26<>\"\",'RE-UI'!E26,\"\")","v":"CONDOMINO16"},{"$f":"SUMIFS('RE-UF(anni)'!$D$11:$D$109,'RE-UF(anni)'!$C$11:$C$109,'RE-UI(anni)'!B26)","v":23.96},{"$f":"SUMIFS('RE-UF(anni)'!$E$11:$E$109,'RE-UF(anni)'!$C$11:$C$109,'RE-UI(anni)'!B26)","v":156.02000000000001},{"$f":"SUMIFS('RE-UF(anni)'!$F$11:$F$109,'RE-UF(anni)'!$C$11:$C$109,'RE-UI(anni)'!B26)","v":307.77},{"$f":"SUMIFS('RE-UF(anni)'!$G$11:$G$109,'RE-UF(anni)'!$C$11:$C$109,'RE-UI(anni)'!B26)","v":0},487.75,null,0]
[17,{"$f":"UI!B27","v":"U17"},{"$f":"IF('RE-UI'!C27<>\"\",'RE-UI'!C27,\"\")","v":"UFC17"},{"$f":"IF('RE-UI'!D27<>\"\",'RE-UI'!D27,\"\")","v":"C17"},{"$f":"IF('RE-UI'!E27<>\"\",'RE-UI'!E27,\"\")","v":"CONDOMINO17"},{"$f":"SUMIFS('RE-UF(anni)'!$D$11:$D$109,'RE-UF(anni)'!$C$11:$C$109,'RE-UI(anni)'!B27)","v":18.86},{"$f":"SUMIFS('RE-UF(anni)'!$E$11:$E$109,'RE-UF(anni)'!$C$11:$C$109,'RE-UI(anni)'!B27)","v":122.81},{"$f":"SUMIFS('RE-UF(anni)'!$F$11:$F$109,'RE-UF(anni)'!$C$11:$C$109,'RE-UI(anni)'!B27)","v":242.27},{"$f":"SUMIFS('RE-UF(anni)'!$G$11:$G$109,'RE-UF(anni)'!$C$11:$C$109,'RE-UI(anni)'!B27)","v":0},383.94000000000005,null,0]
[18,{"$f":"UI!B28","v":"U18"},{"$f":"IF('RE-UI'!C28<>\"\",'RE-UI'!C28,\"\")","v":"UFC18"},{"$f":"IF('RE-UI'!D28<>\"\",'RE-UI'!D28,\"\")","v":"C18"},{"$f":"IF('RE-UI'!E28<>\"\",'RE-UI'!E28,\"\")","v":"CONDOMINO18"},{"$f":"SUMIFS('RE-UF(anni)'!$D$11:$D$109,'RE-UF(anni)'!$C$11:$C$109,'RE-UI(anni)'!B28)","v":25.07},{"$f":"SUMIFS('RE-UF(anni)'!$E$11:$E$109,'RE-UF(anni)'!$C$11:$C$109,'RE-UI(anni)'!B28)","v":123.87},{"$f":"SUMIFS('RE-UF(anni)'!$F$11:$F$109,'RE-UF(anni)'!$C$11:$C$109,'RE-UI(anni)'!B28)","v":253.13},{"$f":"SUMIFS('RE-UF(anni)'!$G$11:$G$109,'RE-UF(anni)'!$C$11:$C$109,'RE-UI(anni)'!B28)","v":0},402.07,null,0]
[19,{"$f":"UI!B29","v":"U19"},{"$f":"IF('RE-UI'!C29<>\"\",'RE-UI'!C29,\"\")","v":"UFC19"},{"$f":"IF('RE-UI'!D29<>\"\",'RE-UI'!D29,\"\")","v":"C19"},{"$f":"IF('RE-UI'!E29<>\"\",'RE-UI'!E29,\"\")","v":"CONDOMINO19"},{"$f":"SUMIFS('RE-UF(anni)'!$D$11:$D$109,'RE-UF(anni)'!$C$11:$C$109,'RE-UI(anni)'!B29)","v":20.51},{"$f":"SUMIFS('RE-UF(anni)'!$E$11:$E$109,'RE-UF(anni)'!$C$11:$C$109,'RE-UI(anni)'!B29)","v":101.36},{"$f":"SUMIFS('RE-UF(anni)'!$F$11:$F$109,'RE-UF(anni)'!$C$11:$C$109,'RE-UI(anni)'!B29)","v":207.13},{"$f":"SUMIFS('RE-UF(anni)'!$G$11:$G$109,'RE-UF(anni)'!$C$11:$C$109,'RE-UI(anni)'!B29)","v":0},329,null,0]
[20,{"$f":"UI!B30","v":"U20"},{"$f":"IF('RE-UI'!C30<>\"\",'RE-UI'!C30,\"\")","v":"UFC20+UFC23"},{"$f":"IF('RE-UI'!D30<>\"\",'RE-UI'!D30,\"\")","v":"C07"},{"$f":"IF('RE-UI'!E30<>\"\",'RE-UI'!E30,\"\")","v":"CONDOMINO07"},{"$f":"SUMIFS('RE-UF(anni)'!$D$11:$D$109,'RE-UF(anni)'!$C$11:$C$109,'RE-UI(anni)'!B30)","v":43.08},{"$f":"SUMIFS('RE-UF(anni)'!$E$11:$E$109,'RE-UF(anni)'!$C$11:$C$109,'RE-UI(anni)'!B30)","v":121.14},{"$f":"SUMIFS('RE-UF(anni)'!$F$11:$F$109,'RE-UF(anni)'!$C$11:$C$109,'RE-UI(anni)'!B30)","v":274.45999999999998},{"$f":"SUMIFS('RE-UF(anni)'!$G$11:$G$109,'RE-UF(anni)'!$C$11:$C$109,'RE-UI(anni)'!B30)","v":0},438.67999999999995,null,0]
[21,{"$f":"UI!B31","v":"U21"},{"$f":"IF('RE-UI'!C31<>\"\",'RE-UI'!C31,\"\")","v":"UFC21"},{"$f":"IF('RE-UI'!D31<>\"\",'RE-UI'!D31,\"\")","v":"C08"},{"$f":"IF('RE-UI'!E31<>\"\",'RE-UI'!E31,\"\")","v":"CONDOMINO08"},{"$f":"SUMIFS('RE-UF(anni)'!$D$11:$D$109,'RE-UF(anni)'!$C$11:$C$109,'RE-UI(anni)'!B31)","v":19.2},{"$f":"SUMIFS('RE-UF(anni)'!$E$11:$E$109,'RE-UF(anni)'!$C$11:$C$109,'RE-UI(anni)'!B31)","v":64.72},{"$f":"SUMIFS('RE-UF(anni)'!$F$11:$F$109,'RE-UF(anni)'!$C$11:$C$109,'RE-UI(anni)'!B31)","v":141.1},{"$f":"SUMIFS('RE-UF(anni)'!$G$11:$G$109,'RE-UF(anni)'!$C$11:$C$109,'RE-UI(anni)'!B31)","v":0},225.01999999999998,null,0]
[22,{"$f":"UI!B32","v":"U22"},{"$f":"IF('RE-UI'!C32<>\"\",'RE-UI'!C32,\"\")","v":"UFC22"},{"$f":"IF('RE-UI'!D32<>\"\",'RE-UI'!D32,\"\")","v":"C19"},{"$f":"IF('RE-UI'!E32<>\"\",'RE-UI'!E32,\"\")","v":"CONDOMINO19"},{"$f":"SUMIFS('RE-UF(anni)'!$D$11:$D$109,'RE-UF(anni)'!$C$11:$C$109,'RE-UI(anni)'!B32)","v":22.76},{"$f":"SUMIFS('RE-UF(anni)'!$E$11:$E$109,'RE-UF(anni)'!$C$11:$C$109,'RE-UI(anni)'!B32)","v":43.75},{"$f":"SUMIFS('RE-UF(anni)'!$F$11:$F$109,'RE-UF(anni)'!$C$11:$C$109,'RE-UI(anni)'!B32)","v":109.55},{"$f":"SUMIFS('RE-UF(anni)'!$G$11:$G$109,'RE-UF(anni)'!$C$11:$C$109,'RE-UI(anni)'!B32)","v":0},176.06,null,0]
[23,{"$f":"UI!B33","v":"U23"},{"$f":"IF('RE-UI'!C33<>\"\",'RE-UI'!C33,\"\")","v":""},{"$f":"IF('RE-UI'!D33<>\"\",'RE-UI'!D33,\"\")","v":""},{"$f":"IF('RE-UI'!E33<>\"\",'RE-UI'!E33,\"\")","v":""},{"$f":"SUMIFS('RE-UF(anni)'!$D$11:$D$109,'RE-UF(anni)'!$C$11:$C$109,'RE-UI(anni)'!B33)","v":0},{"$f":"SUMIFS('RE-UF(anni)'!$E$11:$E$109,'RE-UF(anni)'!$C$11:$C$109,'RE-UI(anni)'!B33)","v":0},{"$f":"SUMIFS('RE-UF(anni)'!$F$11:$F$109,'RE-UF(anni)'!$C$11:$C$109,'RE-UI(anni)'!B33)","v":0},{"$f":"SUMIFS('RE-UF(anni)'!$G$11:$G$109,'RE-UF(anni)'!$C$11:$C$109,'RE-UI(anni)'!B33)","v":0},0,null,0]
[24,{"$f":"UI!B34","v":"U24"},{"$f":"IF('RE-UI'!C34<>\"\",'RE-UI'!C34,\"\")","v":""},{"$f":"IF('RE-UI'!D34<>\"\",'RE-UI'!D34,\"\")","v":""},{"$f":"IF('RE-UI'!E34<>\"\",'RE-UI'!E34,\"\")","v":""},{"$f":"SUMIFS('RE-UF(anni)'!$D$11:$D$109,'RE-UF(anni)'!$C$11:$C$109,'RE-UI(anni)'!B34)","v":0},{"$f":"SUMIFS('RE-UF(anni)'!$E$11:$E$109,'RE-UF(anni)'!$C$11:$C$109,'RE-UI(anni)'!B34)","v":0},{"$f":"SUMIFS('RE-UF(anni)'!$F$11:$F$109,'RE-UF(anni)'!$C$11:$C$109,'RE-UI(anni)'!B34)","v":0},{"$f":"SUMIFS('RE-UF(anni)'!$G$11:$G$109,'RE-UF(anni)'!$C$11:$C$109,'RE-UI(anni)'!B34)","v":0},0,null,0]
[25,{"$f":"UI!B35","v":"U25"},{"$f":"IF('RE-UI'!C35<>\"\",'RE-UI'!C35,\"\")","v":""},{"$f":"IF('RE-UI'!D35<>\"\",'RE-UI'!D35,\"\")","v":""},{"$f":"IF('RE-UI'!E35<>\"\",'RE-UI'!E35,\"\")","v":""},{"$f":"SUMIFS('RE-UF(anni)'!$D$11:$D$109,'RE-UF(anni)'!$C$11:$C$109,'RE-UI(anni)'!B35)","v":0},{"$f":"SUMIFS('RE-UF(anni)'!$E$11:$E$109,'RE-UF(anni)'!$C$11:$C$109,'RE-UI(anni)'!B35)","v":0},{"$f":"SUMIFS('RE-UF(anni)'!$F$11:$F$109,'RE-UF(anni)'!$C$11:$C$109,'RE-UI(anni)'!B35)","v":0},{"$f":"SUMIFS('RE-UF(anni)'!$G$11:$G$109,'RE-UF(anni)'!$C$11:$C$109,'RE-UI(anni)'!B35)","v":0},0]
[26,{"$f":"UI!B36","v":"U26"},{"$f":"IF('RE-UI'!C36<>\"\",'RE-UI'!C36,\"\")","v":""},{"$f":"IF('RE-UI'!D36<>\"\",'RE-UI'!D36,\"\")","v":""},{"$f":"IF('RE-UI'!E36<>\"\",'RE-UI'!E36,\"\")","v":""},{"$f":"SUMIFS('RE-UF(anni)'!$D$11:$D$109,'RE-UF(anni)'!$C$11:$C$109,'RE-UI(anni)'!B36)","v":0},{"$f":"SUMIFS('RE-UF(anni)'!$E$11:$E$109,'RE-UF(anni)'!$C$11:$C$109,'RE-UI(anni)'!B36)","v":0},{"$f":"SUMIFS('RE-UF(anni)'!$F$11:$F$109,'RE-UF(anni)'!$C$11:$C$109,'RE-UI(anni)'!B36)","v":0},{"$f":"SUMIFS('RE-UF(anni)'!$G$11:$G$109,'RE-UF(anni)'!$C$11:$C$109,'RE-UI(anni)'!B36)","v":0},0]
[27,{"$f":"UI!B37","v":"U27"},{"$f":"IF('RE-UI'!C37<>\"\",'RE-UI'!C37,\"\")","v":""},{"$f":"IF('RE-UI'!D37<>\"\",'RE-UI'!D37,\"\")","v":""},{"$f":"IF('RE-UI'!E37<>\"\",'RE-UI'!E37,\"\")","v":""},{"$f":"SUMIFS('RE-UF(anni)'!$D$11:$D$109,'RE-UF(anni)'!$C$11:$C$109,'RE-UI(anni)'!B37)","v":0},{"$f":"SUMIFS('RE-UF(anni)'!$E$11:$E$109,'RE-UF(anni)'!$C$11:$C$109,'RE-UI(anni)'!B37)","v":0},{"$f":"SUMIFS('RE-UF(anni)'!$F$11:$F$109,'RE-UF(anni)'!$C$11:$C$109,'RE-UI(anni)'!B37)","v":0},{"$f":"SUMIFS('RE-UF(anni)'!$G$11:$G$109,'RE-UF(anni)'!$C$11:$C$109,'RE-UI(anni)'!B37)","v":0},0]
[28,{"$f":"UI!B38","v":"U28"},{"$f":"IF('RE-UI'!C38<>\"\",'RE-UI'!C38,\"\")","v":""},{"$f":"IF('RE-UI'!D38<>\"\",'RE-UI'!D38,\"\")","v":""},{"$f":"IF('RE-UI'!E38<>\"\",'RE-UI'!E38,\"\")","v":""},{"$f":"SUMIFS('RE-UF(anni)'!$D$11:$D$109,'RE-UF(anni)'!$C$11:$C$109,'RE-UI(anni)'!B38)","v":0},{"$f":"SUMIFS('RE-UF(anni)'!$E$11:$E$109,'RE-UF(anni)'!$C$11:$C$109,'RE-UI(anni)'!B38)","v":0},{"$f":"SUMIFS('RE-UF(anni)'!$F$11:$F$109,'RE-UF(anni)'!$C$11:$C$109,'RE-UI(anni)'!B38)","v":0},{"$f":"SUMIFS('RE-UF(anni)'!$G$11:$G$109,'RE-UF(anni)'!$C$11:$C$109,'RE-UI(anni)'!B38)","v":0},0]
[29,{"$f":"UI!B39","v":"U29"},{"$f":"IF('RE-UI'!C39<>\"\",'RE-UI'!C39,\"\")","v":""},{"$f":"IF('RE-UI'!D39<>\"\",'RE-UI'!D39,\"\")","v":""},{"$f":"IF('RE-UI'!E39<>\"\",'RE-UI'!E39,\"\")","v":""},{"$f":"SUMIFS('RE-UF(anni)'!$D$11:$D$109,'RE-UF(anni)'!$C$11:$C$109,'RE-UI(anni)'!B39)","v":0},{"$f":"SUMIFS('RE-UF(anni)'!$E$11:$E$109,'RE-UF(anni)'!$C$11:$C$109,'RE-UI(anni)'!B39)","v":0},{"$f":"SUMIFS('RE-UF(anni)'!$F$11:$F$109,'RE-UF(anni)'!$C$11:$C$109,'RE-UI(anni)'!B39)","v":0},{"$f":"SUMIFS('RE-UF(anni)'!$G$11:$G$109,'RE-UF(anni)'!$C$11:$C$109,'RE-UI(anni)'!B39)","v":0},0]
[30,{"$f":"UI!B40","v":"U30"},{"$f":"IF('RE-UI'!C40<>\"\",'RE-UI'!C40,\"\")","v":""},{"$f":"IF('RE-UI'!D40<>\"\",'RE-UI'!D40,\"\")","v":""},{"$f":"IF('RE-UI'!E40<>\"\",'RE-UI'!E40,\"\")","v":""},{"$f":"SUMIFS('RE-UF(anni)'!$D$11:$D$109,'RE-UF(anni)'!$C$11:$C$109,'RE-UI(anni)'!B40)","v":0},{"$f":"SUMIFS('RE-UF(anni)'!$E$11:$E$109,'RE-UF(anni)'!$C$11:$C$109,'RE-UI(anni)'!B40)","v":0},{"$f":"SUMIFS('RE-UF(anni)'!$F$11:$F$109,'RE-UF(anni)'!$C$11:$C$109,'RE-UI(anni)'!B40)","v":0},{"$f":"SUMIFS('RE-UF(anni)'!$G$11:$G$109,'RE-UF(anni)'!$C$11:$C$109,'RE-UI(anni)'!B40)","v":0},0]
[31,{"$f":"UI!B41","v":"U31"},{"$f":"IF('RE-UI'!C41<>\"\",'RE-UI'!C41,\"\")","v":""},{"$f":"IF('RE-UI'!D41<>\"\",'RE-UI'!D41,\"\")","v":""},{"$f":"IF('RE-UI'!E41<>\"\",'RE-UI'!E41,\"\")","v":""},{"$f":"SUMIFS('RE-UF(anni)'!$D$11:$D$109,'RE-UF(anni)'!$C$11:$C$109,'RE-UI(anni)'!B41)","v":0},{"$f":"SUMIFS('RE-UF(anni)'!$E$11:$E$109,'RE-UF(anni)'!$C$11:$C$109,'RE-UI(anni)'!B41)","v":0},{"$f":"SUMIFS('RE-UF(anni)'!$F$11:$F$109,'RE-UF(anni)'!$C$11:$C$109,'RE-UI(anni)'!B41)","v":0},{"$f":"SUMIFS('RE-UF(anni)'!$G$11:$G$109,'RE-UF(anni)'!$C$11:$C$109,'RE-UI(anni)'!B41)","v":0},0]
[32,{"$f":"UI!B42","v":"U32"},{"$f":"IF('RE-UI'!C42<>\"\",'RE-UI'!C42,\"\")","v":""},{"$f":"IF('RE-UI'!D42<>\"\",'RE-UI'!D42,\"\")","v":""},{"$f":"IF('RE-UI'!E42<>\"\",'RE-UI'!E42,\"\")","v":""},{"$f":"SUMIFS('RE-UF(anni)'!$D$11:$D$109,'RE-UF(anni)'!$C$11:$C$109,'RE-UI(anni)'!B42)","v":0},{"$f":"SUMIFS('RE-UF(anni)'!$E$11:$E$109,'RE-UF(anni)'!$C$11:$C$109,'RE-UI(anni)'!B42)","v":0},{"$f":"SUMIFS('RE-UF(anni)'!$F$11:$F$109,'RE-UF(anni)'!$C$11:$C$109,'RE-UI(anni)'!B42)","v":0},{"$f":"SUMIFS('RE-UF(anni)'!$G$11:$G$109,'RE-UF(anni)'!$C$11:$C$109,'RE-UI(anni)'!B42)","v":0},0]
[33,{"$f":"UI!B43","v":"U33"},{"$f":"IF('RE-UI'!C43<>\"\",'RE-UI'!C43,\"\")","v":""},{"$f":"IF('RE-UI'!D43<>\"\",'RE-UI'!D43,\"\")","v":""},{"$f":"IF('RE-UI'!E43<>\"\",'RE-UI'!E43,\"\")","v":""},{"$f":"SUMIFS('RE-UF(anni)'!$D$11:$D$109,'RE-UF(anni)'!$C$11:$C$109,'RE-UI(anni)'!B43)","v":0},{"$f":"SUMIFS('RE-UF(anni)'!$E$11:$E$109,'RE-UF(anni)'!$C$11:$C$109,'RE-UI(anni)'!B43)","v":0},{"$f":"SUMIFS('RE-UF(anni)'!$F$11:$F$109,'RE-UF(anni)'!$C$11:$C$109,'RE-UI(anni)'!B43)","v":0},{"$f":"SUMIFS('RE-UF(anni)'!$G$11:$G$109,'RE-UF(anni)'!$C$11:$C$109,'RE-UI(anni)'!B43)","v":0},{"$f":"SUM(F43:I43)","v":0}]
[34,{"$f":"UI!B44","v":"U34"},{"$f":"IF('RE-UI'!C44<>\"\",'RE-UI'!C44,\"\")","v":""},{"$f":"IF('RE-UI'!D44<>\"\",'RE-UI'!D44,\"\")","v":""},{"$f":"IF('RE-UI'!E44<>\"\",'RE-UI'!E44,\"\")","v":""},{"$f":"SUMIFS('RE-UF(anni)'!$D$11:$D$109,'RE-UF(anni)'!$C$11:$C$109,'RE-UI(anni)'!B44)","v":0},{"$f":"SUMIFS('RE-UF(anni)'!$E$11:$E$109,'RE-UF(anni)'!$C$11:$C$109,'RE-UI(anni)'!B44)","v":0},{"$f":"SUMIFS('RE-UF(anni)'!$F$11:$F$109,'RE-UF(anni)'!$C$11:$C$109,'RE-UI(anni)'!B44)","v":0},{"$f":"SUMIFS('RE-UF(anni)'!$G$11:$G$109,'RE-UF(anni)'!$C$11:$C$109,'RE-UI(anni)'!B44)","v":0},0]
[35,{"$f":"UI!B45","v":"U35"},{"$f":"IF('RE-UI'!C45<>\"\",'RE-UI'!C45,\"\")","v":""},{"$f":"IF('RE-UI'!D45<>\"\",'RE-UI'!D45,\"\")","v":""},{"$f":"IF('RE-UI'!E45<>\"\",'RE-UI'!E45,\"\")","v":""},{"$f":"SUMIFS('RE-UF(anni)'!$D$11:$D$109,'RE-UF(anni)'!$C$11:$C$109,'RE-UI(anni)'!B45)","v":0},{"$f":"SUMIFS('RE-UF(anni)'!$E$11:$E$109,'RE-UF(anni)'!$C$11:$C$109,'RE-UI(anni)'!B45)","v":0},{"$f":"SUMIFS('RE-UF(anni)'!$F$11:$F$109,'RE-UF(anni)'!$C$11:$C$109,'RE-UI(anni)'!B45)","v":0},{"$f":"SUMIFS('RE-UF(anni)'!$G$11:$G$109,'RE-UF(anni)'!$C$11:$C$109,'RE-UI(anni)'!B45)","v":0},0]
[36,{"$f":"UI!B46","v":"U36"},{"$f":"IF('RE-UI'!C46<>\"\",'RE-UI'!C46,\"\")","v":""},{"$f":"IF('RE-UI'!D46<>\"\",'RE-UI'!D46,\"\")","v":""},{"$f":"IF('RE-UI'!E46<>\"\",'RE-UI'!E46,\"\")","v":""},{"$f":"SUMIFS('RE-UF(anni)'!$D$11:$D$109,'RE-UF(anni)'!$C$11:$C$109,'RE-UI(anni)'!B46)","v":0},{"$f":"SUMIFS('RE-UF(anni)'!$E$11:$E$109,'RE-UF(anni)'!$C$11:$C$109,'RE-UI(anni)'!B46)","v":0},{"$f":"SUMIFS('RE-UF(anni)'!$F$11:$F$109,'RE-UF(anni)'!$C$11:$C$109,'RE-UI(anni)'!B46)","v":0},{"$f":"SUMIFS('RE-UF(anni)'!$G$11:$G$109,'RE-UF(anni)'!$C$11:$C$109,'RE-UI(anni)'!B46)","v":0},0]
[37,{"$f":"UI!B47","v":"U37"},{"$f":"IF('RE-UI'!C47<>\"\",'RE-UI'!C47,\"\")","v":""},{"$f":"IF('RE-UI'!D47<>\"\",'RE-UI'!D47,\"\")","v":""},{"$f":"IF('RE-UI'!E47<>\"\",'RE-UI'!E47,\"\")","v":""},{"$f":"SUMIFS('RE-UF(anni)'!$D$11:$D$109,'RE-UF(anni)'!$C$11:$C$109,'RE-UI(anni)'!B47)","v":0},{"$f":"SUMIFS('RE-UF(anni)'!$E$11:$E$109,'RE-UF(anni)'!$C$11:$C$109,'RE-UI(anni)'!B47)","v":0},{"$f":"SUMIFS('RE-UF(anni)'!$F$11:$F$109,'RE-UF(anni)'!$C$11:$C$109,'RE-UI(anni)'!B47)","v":0},{"$f":"SUMIFS('RE-UF(anni)'!$G$11:$G$109,'RE-UF(anni)'!$C$11:$C$109,'RE-UI(anni)'!B47)","v":0},0]
[38,{"$f":"UI!B48","v":"U38"},{"$f":"IF('RE-UI'!C48<>\"\",'RE-UI'!C48,\"\")","v":""},{"$f":"IF('RE-UI'!D48<>\"\",'RE-UI'!D48,\"\")","v":""},{"$f":"IF('RE-UI'!E48<>\"\",'RE-UI'!E48,\"\")","v":""},{"$f":"SUMIFS('RE-UF(anni)'!$D$11:$D$109,'RE-UF(anni)'!$C$11:$C$109,'RE-UI(anni)'!B48)","v":0},{"$f":"SUMIFS('RE-UF(anni)'!$E$11:$E$109,'RE-UF(anni)'!$C$11:$C$109,'RE-UI(anni)'!B48)","v":0},{"$f":"SUMIFS('RE-UF(anni)'!$F$11:$F$109,'RE-UF(anni)'!$C$11:$C$109,'RE-UI(anni)'!B48)","v":0},{"$f":"SUMIFS('RE-UF(anni)'!$G$11:$G$109,'RE-UF(anni)'!$C$11:$C$109,'RE-UI(anni)'!B48)","v":0},0]
[39,{"$f":"UI!B49","v":"U39"},{"$f":"IF('RE-UI'!C49<>\"\",'RE-UI'!C49,\"\")","v":""},{"$f":"IF('RE-UI'!D49<>\"\",'RE-UI'!D49,\"\")","v":""},{"$f":"IF('RE-UI'!E49<>\"\",'RE-UI'!E49,\"\")","v":""},{"$f":"SUMIFS('RE-UF(anni)'!$D$11:$D$109,'RE-UF(anni)'!$C$11:$C$109,'RE-UI(anni)'!B49)","v":0},{"$f":"SUMIFS('RE-UF(anni)'!$E$11:$E$109,'RE-UF(anni)'!$C$11:$C$109,'RE-UI(anni)'!B49)","v":0},{"$f":"SUMIFS('RE-UF(anni)'!$F$11:$F$109,'RE-UF(anni)'!$C$11:$C$109,'RE-UI(anni)'!B49)","v":0},{"$f":"SUMIFS('RE-UF(anni)'!$G$11:$G$109,'RE-UF(anni)'!$C$11:$C$109,'RE-UI(anni)'!B49)","v":0},0]
[40,{"$f":"UI!B50","v":"U40"},{"$f":"IF('RE-UI'!C50<>\"\",'RE-UI'!C50,\"\")","v":""},{"$f":"IF('RE-UI'!D50<>\"\",'RE-UI'!D50,\"\")","v":""},{"$f":"IF('RE-UI'!E50<>\"\",'RE-UI'!E50,\"\")","v":""},{"$f":"SUMIFS('RE-UF(anni)'!$D$11:$D$109,'RE-UF(anni)'!$C$11:$C$109,'RE-UI(anni)'!B50)","v":0},{"$f":"SUMIFS('RE-UF(anni)'!$E$11:$E$109,'RE-UF(anni)'!$C$11:$C$109,'RE-UI(anni)'!B50)","v":0},{"$f":"SUMIFS('RE-UF(anni)'!$F$11:$F$109,'RE-UF(anni)'!$C$11:$C$109,'RE-UI(anni)'!B50)","v":0},{"$f":"SUMIFS('RE-UF(anni)'!$G$11:$G$109,'RE-UF(anni)'!$C$11:$C$109,'RE-UI(anni)'!B50)","v":0},0]
[41,{"$f":"UI!B51","v":"U41"},{"$f":"IF('RE-UI'!C51<>\"\",'RE-UI'!C51,\"\")","v":""},{"$f":"IF('RE-UI'!D51<>\"\",'RE-UI'!D51,\"\")","v":""},{"$f":"IF('RE-UI'!E51<>\"\",'RE-UI'!E51,\"\")","v":""},{"$f":"SUMIFS('RE-UF(anni)'!$D$11:$D$109,'RE-UF(anni)'!$C$11:$C$109,'RE-UI(anni)'!B51)","v":0},{"$f":"SUMIFS('RE-UF(anni)'!$E$11:$E$109,'RE-UF(anni)'!$C$11:$C$109,'RE-UI(anni)'!B51)","v":0},{"$f":"SUMIFS('RE-UF(anni)'!$F$11:$F$109,'RE-UF(anni)'!$C$11:$C$109,'RE-UI(anni)'!B51)","v":0},{"$f":"SUMIFS('RE-UF(anni)'!$G$11:$G$109,'RE-UF(anni)'!$C$11:$C$109,'RE-UI(anni)'!B51)","v":0},0]
[42,{"$f":"UI!B52","v":"U42"},{"$f":"IF('RE-UI'!C52<>\"\",'RE-UI'!C52,\"\")","v":""},{"$f":"IF('RE-UI'!D52<>\"\",'RE-UI'!D52,\"\")","v":""},{"$f":"IF('RE-UI'!E52<>\"\",'RE-UI'!E52,\"\")","v":""},{"$f":"SUMIFS('RE-UF(anni)'!$D$11:$D$109,'RE-UF(anni)'!$C$11:$C$109,'RE-UI(anni)'!B52)","v":0},{"$f":"SUMIFS('RE-UF(anni)'!$E$11:$E$109,'RE-UF(anni)'!$C$11:$C$109,'RE-UI(anni)'!B52)","v":0},{"$f":"SUMIFS('RE-UF(anni)'!$F$11:$F$109,'RE-UF(anni)'!$C$11:$C$109,'RE-UI(anni)'!B52)","v":0},{"$f":"SUMIFS('RE-UF(anni)'!$G$11:$G$109,'RE-UF(anni)'!$C$11:$C$109,'RE-UI(anni)'!B52)","v":0},0]
[43,{"$f":"UI!B53","v":"U43"},{"$f":"IF('RE-UI'!C53<>\"\",'RE-UI'!C53,\"\")","v":""},{"$f":"IF('RE-UI'!D53<>\"\",'RE-UI'!D53,\"\")","v":""},{"$f":"IF('RE-UI'!E53<>\"\",'RE-UI'!E53,\"\")","v":""},{"$f":"SUMIFS('RE-UF(anni)'!$D$11:$D$109,'RE-UF(anni)'!$C$11:$C$109,'RE-UI(anni)'!B53)","v":0},{"$f":"SUMIFS('RE-UF(anni)'!$E$11:$E$109,'RE-UF(anni)'!$C$11:$C$109,'RE-UI(anni)'!B53)","v":0},{"$f":"SUMIFS('RE-UF(anni)'!$F$11:$F$109,'RE-UF(anni)'!$C$11:$C$109,'RE-UI(anni)'!B53)","v":0},{"$f":"SUMIFS('RE-UF(anni)'!$G$11:$G$109,'RE-UF(anni)'!$C$11:$C$109,'RE-UI(anni)'!B53)","v":0},0]
[44,{"$f":"UI!B54","v":"U44"},{"$f":"IF('RE-UI'!C54<>\"\",'RE-UI'!C54,\"\")","v":""},{"$f":"IF('RE-UI'!D54<>\"\",'RE-UI'!D54,\"\")","v":""},{"$f":"IF('RE-UI'!E54<>\"\",'RE-UI'!E54,\"\")","v":""},{"$f":"SUMIFS('RE-UF(anni)'!$D$11:$D$109,'RE-UF(anni)'!$C$11:$C$109,'RE-UI(anni)'!B54)","v":0},{"$f":"SUMIFS('RE-UF(anni)'!$E$11:$E$109,'RE-UF(anni)'!$C$11:$C$109,'RE-UI(anni)'!B54)","v":0},{"$f":"SUMIFS('RE-UF(anni)'!$F$11:$F$109,'RE-UF(anni)'!$C$11:$C$109,'RE-UI(anni)'!B54)","v":0},{"$f":"SUMIFS('RE-UF(anni)'!$G$11:$G$109,'RE-UF(anni)'!$C$11:$C$109,'RE-UI(anni)'!B54)","v":0},0]
[45,{"$f":"UI!B55","v":"U45"},{"$f":"IF('RE-UI'!C55<>\"\",'RE-UI'!C55,\"\")","v":""},{"$f":"IF('RE-UI'!D55<>\"\",'RE-UI'!D55,\"\")","v":""},{"$f":"IF('RE-UI'!E55<>\"\",'RE-UI'!E55,\"\")","v":""},{"$f":"SUMIFS('RE-UF(anni)'!$D$11:$D$109,'RE-UF(anni)'!$C$11:$C$109,'RE-UI(anni)'!B55)","v":0},{"$f":"SUMIFS('RE-UF(anni)'!$E$11:$E$109,'RE-UF(anni)'!$C$11:$C$109,'RE-UI(anni)'!B55)","v":0},{"$f":"SUMIFS('RE-UF(anni)'!$F$11:$F$109,'RE-UF(anni)'!$C$11:$C$109,'RE-UI(anni)'!B55)","v":0},{"$f":"SUMIFS('RE-UF(anni)'!$G$11:$G$109,'RE-UF(anni)'!$C$11:$C$109,'RE-UI(anni)'!B55)","v":0},0]
[46,{"$f":"UI!B56","v":"U46"},{"$f":"IF('RE-UI'!C56<>\"\",'RE-UI'!C56,\"\")","v":""},{"$f":"IF('RE-UI'!D56<>\"\",'RE-UI'!D56,\"\")","v":""},{"$f":"IF('RE-UI'!E56<>\"\",'RE-UI'!E56,\"\")","v":""},{"$f":"SUMIFS('RE-UF(anni)'!$D$11:$D$109,'RE-UF(anni)'!$C$11:$C$109,'RE-UI(anni)'!B56)","v":0},{"$f":"SUMIFS('RE-UF(anni)'!$E$11:$E$109,'RE-UF(anni)'!$C$11:$C$109,'RE-UI(anni)'!B56)","v":0},{"$f":"SUMIFS('RE-UF(anni)'!$F$11:$F$109,'RE-UF(anni)'!$C$11:$C$109,'RE-UI(anni)'!B56)","v":0},{"$f":"SUMIFS('RE-UF(anni)'!$G$11:$G$109,'RE-UF(anni)'!$C$11:$C$109,'RE-UI(anni)'!B56)","v":0},0]
[47,{"$f":"UI!B57","v":"U47"},{"$f":"IF('RE-UI'!C57<>\"\",'RE-UI'!C57,\"\")","v":""},{"$f":"IF('RE-UI'!D57<>\"\",'RE-UI'!D57,\"\")","v":""},{"$f":"IF('RE-UI'!E57<>\"\",'RE-UI'!E57,\"\")","v":""},{"$f":"SUMIFS('RE-UF(anni)'!$D$11:$D$109,'RE-UF(anni)'!$C$11:$C$109,'RE-UI(anni)'!B57)","v":0},{"$f":"SUMIFS('RE-UF(anni)'!$E$11:$E$109,'RE-UF(anni)'!$C$11:$C$109,'RE-UI(anni)'!B57)","v":0},{"$f":"SUMIFS('RE-UF(anni)'!$F$11:$F$109,'RE-UF(anni)'!$C$11:$C$109,'RE-UI(anni)'!B57)","v":0},{"$f":"SUMIFS('RE-UF(anni)'!$G$11:$G$109,'RE-UF(anni)'!$C$11:$C$109,'RE-UI(anni)'!B57)","v":0},0]
[48,{"$f":"UI!B58","v":"U48"},{"$f":"IF('RE-UI'!C58<>\"\",'RE-UI'!C58,\"\")","v":""},{"$f":"IF('RE-UI'!D58<>\"\",'RE-UI'!D58,\"\")","v":""},{"$f":"IF('RE-UI'!E58<>\"\",'RE-UI'!E58,\"\")","v":""},{"$f":"SUMIFS('RE-UF(anni)'!$D$11:$D$109,'RE-UF(anni)'!$C$11:$C$109,'RE-UI(anni)'!B58)","v":0},{"$f":"SUMIFS('RE-UF(anni)'!$E$11:$E$109,'RE-UF(anni)'!$C$11:$C$109,'RE-UI(anni)'!B58)","v":0},{"$f":"SUMIFS('RE-UF(anni)'!$F$11:$F$109,'RE-UF(anni)'!$C$11:$C$109,'RE-UI(anni)'!B58)","v":0},{"$f":"SUMIFS('RE-UF(anni)'!$G$11:$G$109,'RE-UF(anni)'!$C$11:$C$109,'RE-UI(anni)'!B58)","v":0},0]
[49,{"$f":"UI!B59","v":"U49"},{"$f":"IF('RE-UI'!C59<>\"\",'RE-UI'!C59,\"\")","v":""},{"$f":"IF('RE-UI'!D59<>\"\",'RE-UI'!D59,\"\")","v":""},{"$f":"IF('RE-UI'!E59<>\"\",'RE-UI'!E59,\"\")","v":""},{"$f":"SUMIFS('RE-UF(anni)'!$D$11:$D$109,'RE-UF(anni)'!$C$11:$C$109,'RE-UI(anni)'!B59)","v":0},{"$f":"SUMIFS('RE-UF(anni)'!$E$11:$E$109,'RE-UF(anni)'!$C$11:$C$109,'RE-UI(anni)'!B59)","v":0},{"$f":"SUMIFS('RE-UF(anni)'!$F$11:$F$109,'RE-UF(anni)'!$C$11:$C$109,'RE-UI(anni)'!B59)","v":0},{"$f":"SUMIFS('RE-UF(anni)'!$G$11:$G$109,'RE-UF(anni)'!$C$11:$C$109,'RE-UI(anni)'!B59)","v":0},0]
[50,{"$f":"UI!B60","v":"U50"},{"$f":"IF('RE-UI'!C60<>\"\",'RE-UI'!C60,\"\")","v":""},{"$f":"IF('RE-UI'!D60<>\"\",'RE-UI'!D60,\"\")","v":""},{"$f":"IF('RE-UI'!E60<>\"\",'RE-UI'!E60,\"\")","v":""},{"$f":"SUMIFS('RE-UF(anni)'!$D$11:$D$109,'RE-UF(anni)'!$C$11:$C$109,'RE-UI(anni)'!B60)","v":0},{"$f":"SUMIFS('RE-UF(anni)'!$E$11:$E$109,'RE-UF(anni)'!$C$11:$C$109,'RE-UI(anni)'!B60)","v":0},{"$f":"SUMIFS('RE-UF(anni)'!$F$11:$F$109,'RE-UF(anni)'!$C$11:$C$109,'RE-UI(anni)'!B60)","v":0},{"$f":"SUMIFS('RE-UF(anni)'!$G$11:$G$109,'RE-UF(anni)'!$C$11:$C$109,'RE-UI(anni)'!B60)","v":0},0]
[51,{"$f":"UI!B61","v":"U51"},{"$f":"IF('RE-UI'!C61<>\"\",'RE-UI'!C61,\"\")","v":""},{"$f":"IF('RE-UI'!D61<>\"\",'RE-UI'!D61,\"\")","v":""},{"$f":"IF('RE-UI'!E61<>\"\",'RE-UI'!E61,\"\")","v":""},{"$f":"SUMIFS('RE-UF(anni)'!$D$11:$D$109,'RE-UF(anni)'!$C$11:$C$109,'RE-UI(anni)'!B61)","v":0},{"$f":"SUMIFS('RE-UF(anni)'!$E$11:$E$109,'RE-UF(anni)'!$C$11:$C$109,'RE-UI(anni)'!B61)","v":0},{"$f":"SUMIFS('RE-UF(anni)'!$F$11:$F$109,'RE-UF(anni)'!$C$11:$C$109,'RE-UI(anni)'!B61)","v":0},{"$f":"SUMIFS('RE-UF(anni)'!$G$11:$G$109,'RE-UF(anni)'!$C$11:$C$109,'RE-UI(anni)'!B61)","v":0},0]
[52,{"$f":"UI!B62","v":"U52"},{"$f":"IF('RE-UI'!C62<>\"\",'RE-UI'!C62,\"\")","v":""},{"$f":"IF('RE-UI'!D62<>\"\",'RE-UI'!D62,\"\")","v":""},{"$f":"IF('RE-UI'!E62<>\"\",'RE-UI'!E62,\"\")","v":""},{"$f":"SUMIFS('RE-UF(anni)'!$D$11:$D$109,'RE-UF(anni)'!$C$11:$C$109,'RE-UI(anni)'!B62)","v":0},{"$f":"SUMIFS('RE-UF(anni)'!$E$11:$E$109,'RE-UF(anni)'!$C$11:$C$109,'RE-UI(anni)'!B62)","v":0},{"$f":"SUMIFS('RE-UF(anni)'!$F$11:$F$109,'RE-UF(anni)'!$C$11:$C$109,'RE-UI(anni)'!B62)","v":0},{"$f":"SUMIFS('RE-UF(anni)'!$G$11:$G$109,'RE-UF(anni)'!$C$11:$C$109,'RE-UI(anni)'!B62)","v":0},0]
[53,{"$f":"UI!B63","v":"U53"},{"$f":"IF('RE-UI'!C63<>\"\",'RE-UI'!C63,\"\")","v":""},{"$f":"IF('RE-UI'!D63<>\"\",'RE-UI'!D63,\"\")","v":""},{"$f":"IF('RE-UI'!E63<>\"\",'RE-UI'!E63,\"\")","v":""},{"$f":"SUMIFS('RE-UF(anni)'!$D$11:$D$109,'RE-UF(anni)'!$C$11:$C$109,'RE-UI(anni)'!B63)","v":0},{"$f":"SUMIFS('RE-UF(anni)'!$E$11:$E$109,'RE-UF(anni)'!$C$11:$C$109,'RE-UI(anni)'!B63)","v":0},{"$f":"SUMIFS('RE-UF(anni)'!$F$11:$F$109,'RE-UF(anni)'!$C$11:$C$109,'RE-UI(anni)'!B63)","v":0},{"$f":"SUMIFS('RE-UF(anni)'!$G$11:$G$109,'RE-UF(anni)'!$C$11:$C$109,'RE-UI(anni)'!B63)","v":0},0]
[54,{"$f":"UI!B64","v":"U54"},{"$f":"IF('RE-UI'!C64<>\"\",'RE-UI'!C64,\"\")","v":""},{"$f":"IF('RE-UI'!D64<>\"\",'RE-UI'!D64,\"\")","v":""},{"$f":"IF('RE-UI'!E64<>\"\",'RE-UI'!E64,\"\")","v":""},{"$f":"SUMIFS('RE-UF(anni)'!$D$11:$D$109,'RE-UF(anni)'!$C$11:$C$109,'RE-UI(anni)'!B64)","v":0},{"$f":"SUMIFS('RE-UF(anni)'!$E$11:$E$109,'RE-UF(anni)'!$C$11:$C$109,'RE-UI(anni)'!B64)","v":0},{"$f":"SUMIFS('RE-UF(anni)'!$F$11:$F$109,'RE-UF(anni)'!$C$11:$C$109,'RE-UI(anni)'!B64)","v":0},{"$f":"SUMIFS('RE-UF(anni)'!$G$11:$G$109,'RE-UF(anni)'!$C$11:$C$109,'RE-UI(anni)'!B64)","v":0},0]
[55,{"$f":"UI!B65","v":"U55"},{"$f":"IF('RE-UI'!C65<>\"\",'RE-UI'!C65,\"\")","v":""},{"$f":"IF('RE-UI'!D65<>\"\",'RE-UI'!D65,\"\")","v":""},{"$f":"IF('RE-UI'!E65<>\"\",'RE-UI'!E65,\"\")","v":""},{"$f":"SUMIFS('RE-UF(anni)'!$D$11:$D$109,'RE-UF(anni)'!$C$11:$C$109,'RE-UI(anni)'!B65)","v":0},{"$f":"SUMIFS('RE-UF(anni)'!$E$11:$E$109,'RE-UF(anni)'!$C$11:$C$109,'RE-UI(anni)'!B65)","v":0},{"$f":"SUMIFS('RE-UF(anni)'!$F$11:$F$109,'RE-UF(anni)'!$C$11:$C$109,'RE-UI(anni)'!B65)","v":0},{"$f":"SUMIFS('RE-UF(anni)'!$G$11:$G$109,'RE-UF(anni)'!$C$11:$C$109,'RE-UI(anni)'!B65)","v":0},0]
[56,{"$f":"UI!B66","v":"U56"},{"$f":"IF('RE-UI'!C66<>\"\",'RE-UI'!C66,\"\")","v":""},{"$f":"IF('RE-UI'!D66<>\"\",'RE-UI'!D66,\"\")","v":""},{"$f":"IF('RE-UI'!E66<>\"\",'RE-UI'!E66,\"\")","v":""},{"$f":"SUMIFS('RE-UF(anni)'!$D$11:$D$109,'RE-UF(anni)'!$C$11:$C$109,'RE-UI(anni)'!B66)","v":0},{"$f":"SUMIFS('RE-UF(anni)'!$E$11:$E$109,'RE-UF(anni)'!$C$11:$C$109,'RE-UI(anni)'!B66)","v":0},{"$f":"SUMIFS('RE-UF(anni)'!$F$11:$F$109,'RE-UF(anni)'!$C$11:$C$109,'RE-UI(anni)'!B66)","v":0},{"$f":"SUMIFS('RE-UF(anni)'!$G$11:$G$109,'RE-UF(anni)'!$C$11:$C$109,'RE-UI(anni)'!B66)","v":0},0]
[57,{"$f":"UI!B67","v":"U57"},{"$f":"IF('RE-UI'!C67<>\"\",'RE-UI'!C67,\"\")","v":""},{"$f":"IF('RE-UI'!D67<>\"\",'RE-UI'!D67,\"\")","v":""},{"$f":"IF('RE-UI'!E67<>\"\",'RE-UI'!E67,\"\")","v":""},{"$f":"SUMIFS('RE-UF(anni)'!$D$11:$D$109,'RE-UF(anni)'!$C$11:$C$109,'RE-UI(anni)'!B67)","v":0},{"$f":"SUMIFS('RE-UF(anni)'!$E$11:$E$109,'RE-UF(anni)'!$C$11:$C$109,'RE-UI(anni)'!B67)","v":0},{"$f":"SUMIFS('RE-UF(anni)'!$F$11:$F$109,'RE-UF(anni)'!$C$11:$C$109,'RE-UI(anni)'!B67)","v":0},{"$f":"SUMIFS('RE-UF(anni)'!$G$11:$G$109,'RE-UF(anni)'!$C$11:$C$109,'RE-UI(anni)'!B67)","v":0},0]
[58,{"$f":"UI!B68","v":"U58"},{"$f":"IF('RE-UI'!C68<>\"\",'RE-UI'!C68,\"\")","v":""},{"$f":"IF('RE-UI'!D68<>\"\",'RE-UI'!D68,\"\")","v":""},{"$f":"IF('RE-UI'!E68<>\"\",'RE-UI'!E68,\"\")","v":""},{"$f":"SUMIFS('RE-UF(anni)'!$D$11:$D$109,'RE-UF(anni)'!$C$11:$C$109,'RE-UI(anni)'!B68)","v":0},{"$f":"SUMIFS('RE-UF(anni)'!$E$11:$E$109,'RE-UF(anni)'!$C$11:$C$109,'RE-UI(anni)'!B68)","v":0},{"$f":"SUMIFS('RE-UF(anni)'!$F$11:$F$109,'RE-UF(anni)'!$C$11:$C$109,'RE-UI(anni)'!B68)","v":0},{"$f":"SUMIFS('RE-UF(anni)'!$G$11:$G$109,'RE-UF(anni)'!$C$11:$C$109,'RE-UI(anni)'!B68)","v":0},0]
[59,{"$f":"UI!B69","v":"U59"},{"$f":"IF('RE-UI'!C69<>\"\",'RE-UI'!C69,\"\")","v":""},{"$f":"IF('RE-UI'!D69<>\"\",'RE-UI'!D69,\"\")","v":""},{"$f":"IF('RE-UI'!E69<>\"\",'RE-UI'!E69,\"\")","v":""},{"$f":"SUMIFS('RE-UF(anni)'!$D$11:$D$109,'RE-UF(anni)'!$C$11:$C$109,'RE-UI(anni)'!B69)","v":0},{"$f":"SUMIFS('RE-UF(anni)'!$E$11:$E$109,'RE-UF(anni)'!$C$11:$C$109,'RE-UI(anni)'!B69)","v":0},{"$f":"SUMIFS('RE-UF(anni)'!$F$11:$F$109,'RE-UF(anni)'!$C$11:$C$109,'RE-UI(anni)'!B69)","v":0},{"$f":"SUMIFS('RE-UF(anni)'!$G$11:$G$109,'RE-UF(anni)'!$C$11:$C$109,'RE-UI(anni)'!B69)","v":0},0]
[60,{"$f":"UI!B70","v":"U60"},{"$f":"IF('RE-UI'!C70<>\"\",'RE-UI'!C70,\"\")","v":""},{"$f":"IF('RE-UI'!D70<>\"\",'RE-UI'!D70,\"\")","v":""},{"$f":"IF('RE-UI'!E70<>\"\",'RE-UI'!E70,\"\")","v":""},{"$f":"SUMIFS('RE-UF(anni)'!$D$11:$D$109,'RE-UF(anni)'!$C$11:$C$109,'RE-UI(anni)'!B70)","v":0},{"$f":"SUMIFS('RE-UF(anni)'!$E$11:$E$109,'RE-UF(anni)'!$C$11:$C$109,'RE-UI(anni)'!B70)","v":0},{"$f":"SUMIFS('RE-UF(anni)'!$F$11:$F$109,'RE-UF(anni)'!$C$11:$C$109,'RE-UI(anni)'!B70)","v":0},{"$f":"SUMIFS('RE-UF(anni)'!$G$11:$G$109,'RE-UF(anni)'!$C$11:$C$109,'RE-UI(anni)'!B70)","v":0},0]
[61,{"$f":"UI!B71","v":"U61"},{"$f":"IF('RE-UI'!C71<>\"\",'RE-UI'!C71,\"\")","v":""},{"$f":"IF('RE-UI'!D71<>\"\",'RE-UI'!D71,\"\")","v":""},{"$f":"IF('RE-UI'!E71<>\"\",'RE-UI'!E71,\"\")","v":""},{"$f":"SUMIFS('RE-UF(anni)'!$D$11:$D$109,'RE-UF(anni)'!$C$11:$C$109,'RE-UI(anni)'!B71)","v":0},{"$f":"SUMIFS('RE-UF(anni)'!$E$11:$E$109,'RE-UF(anni)'!$C$11:$C$109,'RE-UI(anni)'!B71)","v":0},{"$f":"SUMIFS('RE-UF(anni)'!$F$11:$F$109,'RE-UF(anni)'!$C$11:$C$109,'RE-UI(anni)'!B71)","v":0},{"$f":"SUMIFS('RE-UF(anni)'!$G$11:$G$109,'RE-UF(anni)'!$C$11:$C$109,'RE-UI(anni)'!B71)","v":0},0]
[62,{"$f":"UI!B72","v":"U62"},{"$f":"IF('RE-UI'!C72<>\"\",'RE-UI'!C72,\"\")","v":""},{"$f":"IF('RE-UI'!D72<>\"\",'RE-UI'!D72,\"\")","v":""},{"$f":"IF('RE-UI'!E72<>\"\",'RE-UI'!E72,\"\")","v":""},{"$f":"SUMIFS('RE-UF(anni)'!$D$11:$D$109,'RE-UF(anni)'!$C$11:$C$109,'RE-UI(anni)'!B72)","v":0},{"$f":"SUMIFS('RE-UF(anni)'!$E$11:$E$109,'RE-UF(anni)'!$C$11:$C$109,'RE-UI(anni)'!B72)","v":0},{"$f":"SUMIFS('RE-UF(anni)'!$F$11:$F$109,'RE-UF(anni)'!$C$11:$C$109,'RE-UI(anni)'!B72)","v":0},{"$f":"SUMIFS('RE-UF(anni)'!$G$11:$G$109,'RE-UF(anni)'!$C$11:$C$109,'RE-UI(anni)'!B72)","v":0},0]
[63,{"$f":"UI!B73","v":"U63"},{"$f":"IF('RE-UI'!C73<>\"\",'RE-UI'!C73,\"\")","v":""},{"$f":"IF('RE-UI'!D73<>\"\",'RE-UI'!D73,\"\")","v":""},{"$f":"IF('RE-UI'!E73<>\"\",'RE-UI'!E73,\"\")","v":""},{"$f":"SUMIFS('RE-UF(anni)'!$D$11:$D$109,'RE-UF(anni)'!$C$11:$C$109,'RE-UI(anni)'!B73)","v":0},{"$f":"SUMIFS('RE-UF(anni)'!$E$11:$E$109,'RE-UF(anni)'!$C$11:$C$109,'RE-UI(anni)'!B73)","v":0},{"$f":"SUMIFS('RE-UF(anni)'!$F$11:$F$109,'RE-UF(anni)'!$C$11:$C$109,'RE-UI(anni)'!B73)","v":0},{"$f":"SUMIFS('RE-UF(anni)'!$G$11:$G$109,'RE-UF(anni)'!$C$11:$C$109,'RE-UI(anni)'!B73)","v":0},0]
[64,{"$f":"UI!B74","v":"U64"},{"$f":"IF('RE-UI'!C74<>\"\",'RE-UI'!C74,\"\")","v":""},{"$f":"IF('RE-UI'!D74<>\"\",'RE-UI'!D74,\"\")","v":""},{"$f":"IF('RE-UI'!E74<>\"\",'RE-UI'!E74,\"\")","v":""},{"$f":"SUMIFS('RE-UF(anni)'!$D$11:$D$109,'RE-UF(anni)'!$C$11:$C$109,'RE-UI(anni)'!B74)","v":0},{"$f":"SUMIFS('RE-UF(anni)'!$E$11:$E$109,'RE-UF(anni)'!$C$11:$C$109,'RE-UI(anni)'!B74)","v":0},{"$f":"SUMIFS('RE-UF(anni)'!$F$11:$F$109,'RE-UF(anni)'!$C$11:$C$109,'RE-UI(anni)'!B74)","v":0},{"$f":"SUMIFS('RE-UF(anni)'!$G$11:$G$109,'RE-UF(anni)'!$C$11:$C$109,'RE-UI(anni)'!B74)","v":0},0]
[65,{"$f":"UI!B75","v":"U65"},{"$f":"IF('RE-UI'!C75<>\"\",'RE-UI'!C75,\"\")","v":""},{"$f":"IF('RE-UI'!D75<>\"\",'RE-UI'!D75,\"\")","v":""},{"$f":"IF('RE-UI'!E75<>\"\",'RE-UI'!E75,\"\")","v":""},{"$f":"SUMIFS('RE-UF(anni)'!$D$11:$D$109,'RE-UF(anni)'!$C$11:$C$109,'RE-UI(anni)'!B75)","v":0},{"$f":"SUMIFS('RE-UF(anni)'!$E$11:$E$109,'RE-UF(anni)'!$C$11:$C$109,'RE-UI(anni)'!B75)","v":0},{"$f":"SUMIFS('RE-UF(anni)'!$F$11:$F$109,'RE-UF(anni)'!$C$11:$C$109,'RE-UI(anni)'!B75)","v":0},{"$f":"SUMIFS('RE-UF(anni)'!$G$11:$G$109,'RE-UF(anni)'!$C$11:$C$109,'RE-UI(anni)'!B75)","v":0},{"$f":"SUM(F75:I75)","v":0}]
[66,{"$f":"UI!B76","v":"U66"},{"$f":"IF('RE-UI'!C76<>\"\",'RE-UI'!C76,\"\")","v":""},{"$f":"IF('RE-UI'!D76<>\"\",'RE-UI'!D76,\"\")","v":""},{"$f":"IF('RE-UI'!E76<>\"\",'RE-UI'!E76,\"\")","v":""},{"$f":"SUMIFS('RE-UF(anni)'!$D$11:$D$109,'RE-UF(anni)'!$C$11:$C$109,'RE-UI(anni)'!B76)","v":0},{"$f":"SUMIFS('RE-UF(anni)'!$E$11:$E$109,'RE-UF(anni)'!$C$11:$C$109,'RE-UI(anni)'!B76)","v":0},{"$f":"SUMIFS('RE-UF(anni)'!$F$11:$F$109,'RE-UF(anni)'!$C$11:$C$109,'RE-UI(anni)'!B76)","v":0},{"$f":"SUMIFS('RE-UF(anni)'!$G$11:$G$109,'RE-UF(anni)'!$C$11:$C$109,'RE-UI(anni)'!B76)","v":0},0]
[67,{"$f":"UI!B77","v":"U67"},{"$f":"IF('RE-UI'!C77<>\"\",'RE-UI'!C77,\"\")","v":""},{"$f":"IF('RE-UI'!D77<>\"\",'RE-UI'!D77,\"\")","v":""},{"$f":"IF('RE-UI'!E77<>\"\",'RE-UI'!E77,\"\")","v":""},{"$f":"SUMIFS('RE-UF(anni)'!$D$11:$D$109,'RE-UF(anni)'!$C$11:$C$109,'RE-UI(anni)'!B77)","v":0},{"$f":"SUMIFS('RE-UF(anni)'!$E$11:$E$109,'RE-UF(anni)'!$C$11:$C$109,'RE-UI(anni)'!B77)","v":0},{"$f":"SUMIFS('RE-UF(anni)'!$F$11:$F$109,'RE-UF(anni)'!$C$11:$C$109,'RE-UI(anni)'!B77)","v":0},{"$f":"SUMIFS('RE-UF(anni)'!$G$11:$G$109,'RE-UF(anni)'!$C$11:$C$109,'RE-UI(anni)'!B77)","v":0},0]
[68,{"$f":"UI!B78","v":"U68"},{"$f":"IF('RE-UI'!C78<>\"\",'RE-UI'!C78,\"\")","v":""},{"$f":"IF('RE-UI'!D78<>\"\",'RE-UI'!D78,\"\")","v":""},{"$f":"IF('RE-UI'!E78<>\"\",'RE-UI'!E78,\"\")","v":""},{"$f":"SUMIFS('RE-UF(anni)'!$D$11:$D$109,'RE-UF(anni)'!$C$11:$C$109,'RE-UI(anni)'!B78)","v":0},{"$f":"SUMIFS('RE-UF(anni)'!$E$11:$E$109,'RE-UF(anni)'!$C$11:$C$109,'RE-UI(anni)'!B78)","v":0},{"$f":"SUMIFS('RE-UF(anni)'!$F$11:$F$109,'RE-UF(anni)'!$C$11:$C$109,'RE-UI(anni)'!B78)","v":0},{"$f":"SUMIFS('RE-UF(anni)'!$G$11:$G$109,'RE-UF(anni)'!$C$11:$C$109,'RE-UI(anni)'!B78)","v":0},0]
[69,{"$f":"UI!B79","v":"U69"},{"$f":"IF('RE-UI'!C79<>\"\",'RE-UI'!C79,\"\")","v":""},{"$f":"IF('RE-UI'!D79<>\"\",'RE-UI'!D79,\"\")","v":""},{"$f":"IF('RE-UI'!E79<>\"\",'RE-UI'!E79,\"\")","v":""},{"$f":"SUMIFS('RE-UF(anni)'!$D$11:$D$109,'RE-UF(anni)'!$C$11:$C$109,'RE-UI(anni)'!B79)","v":0},{"$f":"SUMIFS('RE-UF(anni)'!$E$11:$E$109,'RE-UF(anni)'!$C$11:$C$109,'RE-UI(anni)'!B79)","v":0},{"$f":"SUMIFS('RE-UF(anni)'!$F$11:$F$109,'RE-UF(anni)'!$C$11:$C$109,'RE-UI(anni)'!B79)","v":0},{"$f":"SUMIFS('RE-UF(anni)'!$G$11:$G$109,'RE-UF(anni)'!$C$11:$C$109,'RE-UI(anni)'!B79)","v":0},0]
[70,{"$f":"UI!B80","v":"U70"},{"$f":"IF('RE-UI'!C80<>\"\",'RE-UI'!C80,\"\")","v":""},{"$f":"IF('RE-UI'!D80<>\"\",'RE-UI'!D80,\"\")","v":""},{"$f":"IF('RE-UI'!E80<>\"\",'RE-UI'!E80,\"\")","v":""},{"$f":"SUMIFS('RE-UF(anni)'!$D$11:$D$109,'RE-UF(anni)'!$C$11:$C$109,'RE-UI(anni)'!B80)","v":0},{"$f":"SUMIFS('RE-UF(anni)'!$E$11:$E$109,'RE-UF(anni)'!$C$11:$C$109,'RE-UI(anni)'!B80)","v":0},{"$f":"SUMIFS('RE-UF(anni)'!$F$11:$F$109,'RE-UF(anni)'!$C$11:$C$109,'RE-UI(anni)'!B80)","v":0},{"$f":"SUMIFS('RE-UF(anni)'!$G$11:$G$109,'RE-UF(anni)'!$C$11:$C$109,'RE-UI(anni)'!B80)","v":0},0]
[71,{"$f":"UI!B81","v":"U71"},{"$f":"IF('RE-UI'!C81<>\"\",'RE-UI'!C81,\"\")","v":""},{"$f":"IF('RE-UI'!D81<>\"\",'RE-UI'!D81,\"\")","v":""},{"$f":"IF('RE-UI'!E81<>\"\",'RE-UI'!E81,\"\")","v":""},{"$f":"SUMIFS('RE-UF(anni)'!$D$11:$D$109,'RE-UF(anni)'!$C$11:$C$109,'RE-UI(anni)'!B81)","v":0},{"$f":"SUMIFS('RE-UF(anni)'!$E$11:$E$109,'RE-UF(anni)'!$C$11:$C$109,'RE-UI(anni)'!B81)","v":0},{"$f":"SUMIFS('RE-UF(anni)'!$F$11:$F$109,'RE-UF(anni)'!$C$11:$C$109,'RE-UI(anni)'!B81)","v":0},{"$f":"SUMIFS('RE-UF(anni)'!$G$11:$G$109,'RE-UF(anni)'!$C$11:$C$109,'RE-UI(anni)'!B81)","v":0},0]
[72,{"$f":"UI!B82","v":"U72"},{"$f":"IF('RE-UI'!C82<>\"\",'RE-UI'!C82,\"\")","v":""},{"$f":"IF('RE-UI'!D82<>\"\",'RE-UI'!D82,\"\")","v":""},{"$f":"IF('RE-UI'!E82<>\"\",'RE-UI'!E82,\"\")","v":""},{"$f":"SUMIFS('RE-UF(anni)'!$D$11:$D$109,'RE-UF(anni)'!$C$11:$C$109,'RE-UI(anni)'!B82)","v":0},{"$f":"SUMIFS('RE-UF(anni)'!$E$11:$E$109,'RE-UF(anni)'!$C$11:$C$109,'RE-UI(anni)'!B82)","v":0},{"$f":"SUMIFS('RE-UF(anni)'!$F$11:$F$109,'RE-UF(anni)'!$C$11:$C$109,'RE-UI(anni)'!B82)","v":0},{"$f":"SUMIFS('RE-UF(anni)'!$G$11:$G$109,'RE-UF(anni)'!$C$11:$C$109,'RE-UI(anni)'!B82)","v":0},0]
[73,{"$f":"UI!B83","v":"U73"},{"$f":"IF('RE-UI'!C83<>\"\",'RE-UI'!C83,\"\")","v":""},{"$f":"IF('RE-UI'!D83<>\"\",'RE-UI'!D83,\"\")","v":""},{"$f":"IF('RE-UI'!E83<>\"\",'RE-UI'!E83,\"\")","v":""},{"$f":"SUMIFS('RE-UF(anni)'!$D$11:$D$109,'RE-UF(anni)'!$C$11:$C$109,'RE-UI(anni)'!B83)","v":0},{"$f":"SUMIFS('RE-UF(anni)'!$E$11:$E$109,'RE-UF(anni)'!$C$11:$C$109,'RE-UI(anni)'!B83)","v":0},{"$f":"SUMIFS('RE-UF(anni)'!$F$11:$F$109,'RE-UF(anni)'!$C$11:$C$109,'RE-UI(anni)'!B83)","v":0},{"$f":"SUMIFS('RE-UF(anni)'!$G$11:$G$109,'RE-UF(anni)'!$C$11:$C$109,'RE-UI(anni)'!B83)","v":0},0]
[74,{"$f":"UI!B84","v":"U74"},{"$f":"IF('RE-UI'!C84<>\"\",'RE-UI'!C84,\"\")","v":""},{"$f":"IF('RE-UI'!D84<>\"\",'RE-UI'!D84,\"\")","v":""},{"$f":"IF('RE-UI'!E84<>\"\",'RE-UI'!E84,\"\")","v":""},{"$f":"SUMIFS('RE-UF(anni)'!$D$11:$D$109,'RE-UF(anni)'!$C$11:$C$109,'RE-UI(anni)'!B84)","v":0},{"$f":"SUMIFS('RE-UF(anni)'!$E$11:$E$109,'RE-UF(anni)'!$C$11:$C$109,'RE-UI(anni)'!B84)","v":0},{"$f":"SUMIFS('RE-UF(anni)'!$F$11:$F$109,'RE-UF(anni)'!$C$11:$C$109,'RE-UI(anni)'!B84)","v":0},{"$f":"SUMIFS('RE-UF(anni)'!$G$11:$G$109,'RE-UF(anni)'!$C$11:$C$109,'RE-UI(anni)'!B84)","v":0},0]
[75,{"$f":"UI!B85","v":"U75"},{"$f":"IF('RE-UI'!C85<>\"\",'RE-UI'!C85,\"\")","v":""},{"$f":"IF('RE-UI'!D85<>\"\",'RE-UI'!D85,\"\")","v":""},{"$f":"IF('RE-UI'!E85<>\"\",'RE-UI'!E85,\"\")","v":""},{"$f":"SUMIFS('RE-UF(anni)'!$D$11:$D$109,'RE-UF(anni)'!$C$11:$C$109,'RE-UI(anni)'!B85)","v":0},{"$f":"SUMIFS('RE-UF(anni)'!$E$11:$E$109,'RE-UF(anni)'!$C$11:$C$109,'RE-UI(anni)'!B85)","v":0},{"$f":"SUMIFS('RE-UF(anni)'!$F$11:$F$109,'RE-UF(anni)'!$C$11:$C$109,'RE-UI(anni)'!B85)","v":0},{"$f":"SUMIFS('RE-UF(anni)'!$G$11:$G$109,'RE-UF(anni)'!$C$11:$C$109,'RE-UI(anni)'!B85)","v":0},0]
[76,{"$f":"UI!B86","v":"U76"},{"$f":"IF('RE-UI'!C86<>\"\",'RE-UI'!C86,\"\")","v":""},{"$f":"IF('RE-UI'!D86<>\"\",'RE-UI'!D86,\"\")","v":""},{"$f":"IF('RE-UI'!E86<>\"\",'RE-UI'!E86,\"\")","v":""},{"$f":"SUMIFS('RE-UF(anni)'!$D$11:$D$109,'RE-UF(anni)'!$C$11:$C$109,'RE-UI(anni)'!B86)","v":0},{"$f":"SUMIFS('RE-UF(anni)'!$E$11:$E$109,'RE-UF(anni)'!$C$11:$C$109,'RE-UI(anni)'!B86)","v":0},{"$f":"SUMIFS('RE-UF(anni)'!$F$11:$F$109,'RE-UF(anni)'!$C$11:$C$109,'RE-UI(anni)'!B86)","v":0},{"$f":"SUMIFS('RE-UF(anni)'!$G$11:$G$109,'RE-UF(anni)'!$C$11:$C$109,'RE-UI(anni)'!B86)","v":0},0]
[77,{"$f":"UI!B87","v":"U77"},{"$f":"IF('RE-UI'!C87<>\"\",'RE-UI'!C87,\"\")","v":""},{"$f":"IF('RE-UI'!D87<>\"\",'RE-UI'!D87,\"\")","v":""},{"$f":"IF('RE-UI'!E87<>\"\",'RE-UI'!E87,\"\")","v":""},{"$f":"SUMIFS('RE-UF(anni)'!$D$11:$D$109,'RE-UF(anni)'!$C$11:$C$109,'RE-UI(anni)'!B87)","v":0},{"$f":"SUMIFS('RE-UF(anni)'!$E$11:$E$109,'RE-UF(anni)'!$C$11:$C$109,'RE-UI(anni)'!B87)","v":0},{"$f":"SUMIFS('RE-UF(anni)'!$F$11:$F$109,'RE-UF(anni)'!$C$11:$C$109,'RE-UI(anni)'!B87)","v":0},{"$f":"SUMIFS('RE-UF(anni)'!$G$11:$G$109,'RE-UF(anni)'!$C$11:$C$109,'RE-UI(anni)'!B87)","v":0},0]
[78,{"$f":"UI!B88","v":"U78"},{"$f":"IF('RE-UI'!C88<>\"\",'RE-UI'!C88,\"\")","v":""},{"$f":"IF('RE-UI'!D88<>\"\",'RE-UI'!D88,\"\")","v":""},{"$f":"IF('RE-UI'!E88<>\"\",'RE-UI'!E88,\"\")","v":""},{"$f":"SUMIFS('RE-UF(anni)'!$D$11:$D$109,'RE-UF(anni)'!$C$11:$C$109,'RE-UI(anni)'!B88)","v":0},{"$f":"SUMIFS('RE-UF(anni)'!$E$11:$E$109,'RE-UF(anni)'!$C$11:$C$109,'RE-UI(anni)'!B88)","v":0},{"$f":"SUMIFS('RE-UF(anni)'!$F$11:$F$109,'RE-UF(anni)'!$C$11:$C$109,'RE-UI(anni)'!B88)","v":0},{"$f":"SUMIFS('RE-UF(anni)'!$G$11:$G$109,'RE-UF(anni)'!$C$11:$C$109,'RE-UI(anni)'!B88)","v":0},0]
[79,{"$f":"UI!B89","v":"U79"},{"$f":"IF('RE-UI'!C89<>\"\",'RE-UI'!C89,\"\")","v":""},{"$f":"IF('RE-UI'!D89<>\"\",'RE-UI'!D89,\"\")","v":""},{"$f":"IF('RE-UI'!E89<>\"\",'RE-UI'!E89,\"\")","v":""},{"$f":"SUMIFS('RE-UF(anni)'!$D$11:$D$109,'RE-UF(anni)'!$C$11:$C$109,'RE-UI(anni)'!B89)","v":0},{"$f":"SUMIFS('RE-UF(anni)'!$E$11:$E$109,'RE-UF(anni)'!$C$11:$C$109,'RE-UI(anni)'!B89)","v":0},{"$f":"SUMIFS('RE-UF(anni)'!$F$11:$F$109,'RE-UF(anni)'!$C$11:$C$109,'RE-UI(anni)'!B89)","v":0},{"$f":"SUMIFS('RE-UF(anni)'!$G$11:$G$109,'RE-UF(anni)'!$C$11:$C$109,'RE-UI(anni)'!B89)","v":0},0]
[80,{"$f":"UI!B90","v":"U80"},{"$f":"IF('RE-UI'!C90<>\"\",'RE-UI'!C90,\"\")","v":""},{"$f":"IF('RE-UI'!D90<>\"\",'RE-UI'!D90,\"\")","v":""},{"$f":"IF('RE-UI'!E90<>\"\",'RE-UI'!E90,\"\")","v":""},{"$f":"SUMIFS('RE-UF(anni)'!$D$11:$D$109,'RE-UF(anni)'!$C$11:$C$109,'RE-UI(anni)'!B90)","v":0},{"$f":"SUMIFS('RE-UF(anni)'!$E$11:$E$109,'RE-UF(anni)'!$C$11:$C$109,'RE-UI(anni)'!B90)","v":0},{"$f":"SUMIFS('RE-UF(anni)'!$F$11:$F$109,'RE-UF(anni)'!$C$11:$C$109,'RE-UI(anni)'!B90)","v":0},{"$f":"SUMIFS('RE-UF(anni)'!$G$11:$G$109,'RE-UF(anni)'!$C$11:$C$109,'RE-UI(anni)'!B90)","v":0},0]
[81,{"$f":"UI!B91","v":"U81"},{"$f":"IF('RE-UI'!C91<>\"\",'RE-UI'!C91,\"\")","v":""},{"$f":"IF('RE-UI'!D91<>\"\",'RE-UI'!D91,\"\")","v":""},{"$f":"IF('RE-UI'!E91<>\"\",'RE-UI'!E91,\"\")","v":""},{"$f":"SUMIFS('RE-UF(anni)'!$D$11:$D$109,'RE-UF(anni)'!$C$11:$C$109,'RE-UI(anni)'!B91)","v":0},{"$f":"SUMIFS('RE-UF(anni)'!$E$11:$E$109,'RE-UF(anni)'!$C$11:$C$109,'RE-UI(anni)'!B91)","v":0},{"$f":"SUMIFS('RE-UF(anni)'!$F$11:$F$109,'RE-UF(anni)'!$C$11:$C$109,'RE-UI(anni)'!B91)","v":0},{"$f":"SUMIFS('RE-UF(anni)'!$G$11:$G$109,'RE-UF(anni)'!$C$11:$C$109,'RE-UI(anni)'!B91)","v":0},0]
[82,{"$f":"UI!B92","v":"U82"},{"$f":"IF('RE-UI'!C92<>\"\",'RE-UI'!C92,\"\")","v":""},{"$f":"IF('RE-UI'!D92<>\"\",'RE-UI'!D92,\"\")","v":""},{"$f":"IF('RE-UI'!E92<>\"\",'RE-UI'!E92,\"\")","v":""},{"$f":"SUMIFS('RE-UF(anni)'!$D$11:$D$109,'RE-UF(anni)'!$C$11:$C$109,'RE-UI(anni)'!B92)","v":0},{"$f":"SUMIFS('RE-UF(anni)'!$E$11:$E$109,'RE-UF(anni)'!$C$11:$C$109,'RE-UI(anni)'!B92)","v":0},{"$f":"SUMIFS('RE-UF(anni)'!$F$11:$F$109,'RE-UF(anni)'!$C$11:$C$109,'RE-UI(anni)'!B92)","v":0},{"$f":"SUMIFS('RE-UF(anni)'!$G$11:$G$109,'RE-UF(anni)'!$C$11:$C$109,'RE-UI(anni)'!B92)","v":0},0]
[83,{"$f":"UI!B93","v":"U83"},{"$f":"IF('RE-UI'!C93<>\"\",'RE-UI'!C93,\"\")","v":""},{"$f":"IF('RE-UI'!D93<>\"\",'RE-UI'!D93,\"\")","v":""},{"$f":"IF('RE-UI'!E93<>\"\",'RE-UI'!E93,\"\")","v":""},{"$f":"SUMIFS('RE-UF(anni)'!$D$11:$D$109,'RE-UF(anni)'!$C$11:$C$109,'RE-UI(anni)'!B93)","v":0},{"$f":"SUMIFS('RE-UF(anni)'!$E$11:$E$109,'RE-UF(anni)'!$C$11:$C$109,'RE-UI(anni)'!B93)","v":0},{"$f":"SUMIFS('RE-UF(anni)'!$F$11:$F$109,'RE-UF(anni)'!$C$11:$C$109,'RE-UI(anni)'!B93)","v":0},{"$f":"SUMIFS('RE-UF(anni)'!$G$11:$G$109,'RE-UF(anni)'!$C$11:$C$109,'RE-UI(anni)'!B93)","v":0},0]
[84,{"$f":"UI!B94","v":"U84"},{"$f":"IF('RE-UI'!C94<>\"\",'RE-UI'!C94,\"\")","v":""},{"$f":"IF('RE-UI'!D94<>\"\",'RE-UI'!D94,\"\")","v":""},{"$f":"IF('RE-UI'!E94<>\"\",'RE-UI'!E94,\"\")","v":""},{"$f":"SUMIFS('RE-UF(anni)'!$D$11:$D$109,'RE-UF(anni)'!$C$11:$C$109,'RE-UI(anni)'!B94)","v":0},{"$f":"SUMIFS('RE-UF(anni)'!$E$11:$E$109,'RE-UF(anni)'!$C$11:$C$109,'RE-UI(anni)'!B94)","v":0},{"$f":"SUMIFS('RE-UF(anni)'!$F$11:$F$109,'RE-UF(anni)'!$C$11:$C$109,'RE-UI(anni)'!B94)","v":0},{"$f":"SUMIFS('RE-UF(anni)'!$G$11:$G$109,'RE-UF(anni)'!$C$11:$C$109,'RE-UI(anni)'!B94)","v":0},0]
[85,{"$f":"UI!B95","v":"U85"},{"$f":"IF('RE-UI'!C95<>\"\",'RE-UI'!C95,\"\")","v":""},{"$f":"IF('RE-UI'!D95<>\"\",'RE-UI'!D95,\"\")","v":""},{"$f":"IF('RE-UI'!E95<>\"\",'RE-UI'!E95,\"\")","v":""},{"$f":"SUMIFS('RE-UF(anni)'!$D$11:$D$109,'RE-UF(anni)'!$C$11:$C$109,'RE-UI(anni)'!B95)","v":0},{"$f":"SUMIFS('RE-UF(anni)'!$E$11:$E$109,'RE-UF(anni)'!$C$11:$C$109,'RE-UI(anni)'!B95)","v":0},{"$f":"SUMIFS('RE-UF(anni)'!$F$11:$F$109,'RE-UF(anni)'!$C$11:$C$109,'RE-UI(anni)'!B95)","v":0},{"$f":"SUMIFS('RE-UF(anni)'!$G$11:$G$109,'RE-UF(anni)'!$C$11:$C$109,'RE-UI(anni)'!B95)","v":0},0]
[86,{"$f":"UI!B96","v":"U86"},{"$f":"IF('RE-UI'!C96<>\"\",'RE-UI'!C96,\"\")","v":""},{"$f":"IF('RE-UI'!D96<>\"\",'RE-UI'!D96,\"\")","v":""},{"$f":"IF('RE-UI'!E96<>\"\",'RE-UI'!E96,\"\")","v":""},{"$f":"SUMIFS('RE-UF(anni)'!$D$11:$D$109,'RE-UF(anni)'!$C$11:$C$109,'RE-UI(anni)'!B96)","v":0},{"$f":"SUMIFS('RE-UF(anni)'!$E$11:$E$109,'RE-UF(anni)'!$C$11:$C$109,'RE-UI(anni)'!B96)","v":0},{"$f":"SUMIFS('RE-UF(anni)'!$F$11:$F$109,'RE-UF(anni)'!$C$11:$C$109,'RE-UI(anni)'!B96)","v":0},{"$f":"SUMIFS('RE-UF(anni)'!$G$11:$G$109,'RE-UF(anni)'!$C$11:$C$109,'RE-UI(anni)'!B96)","v":0},0]
[87,{"$f":"UI!B97","v":"U87"},{"$f":"IF('RE-UI'!C97<>\"\",'RE-UI'!C97,\"\")","v":""},{"$f":"IF('RE-UI'!D97<>\"\",'RE-UI'!D97,\"\")","v":""},{"$f":"IF('RE-UI'!E97<>\"\",'RE-UI'!E97,\"\")","v":""},{"$f":"SUMIFS('RE-UF(anni)'!$D$11:$D$109,'RE-UF(anni)'!$C$11:$C$109,'RE-UI(anni)'!B97)","v":0},{"$f":"SUMIFS('RE-UF(anni)'!$E$11:$E$109,'RE-UF(anni)'!$C$11:$C$109,'RE-UI(anni)'!B97)","v":0},{"$f":"SUMIFS('RE-UF(anni)'!$F$11:$F$109,'RE-UF(anni)'!$C$11:$C$109,'RE-UI(anni)'!B97)","v":0},{"$f":"SUMIFS('RE-UF(anni)'!$G$11:$G$109,'RE-UF(anni)'!$C$11:$C$109,'RE-UI(anni)'!B97)","v":0},0]
[88,{"$f":"UI!B98","v":"U88"},{"$f":"IF('RE-UI'!C98<>\"\",'RE-UI'!C98,\"\")","v":""},{"$f":"IF('RE-UI'!D98<>\"\",'RE-UI'!D98,\"\")","v":""},{"$f":"IF('RE-UI'!E98<>\"\",'RE-UI'!E98,\"\")","v":""},{"$f":"SUMIFS('RE-UF(anni)'!$D$11:$D$109,'RE-UF(anni)'!$C$11:$C$109,'RE-UI(anni)'!B98)","v":0},{"$f":"SUMIFS('RE-UF(anni)'!$E$11:$E$109,'RE-UF(anni)'!$C$11:$C$109,'RE-UI(anni)'!B98)","v":0},{"$f":"SUMIFS('RE-UF(anni)'!$F$11:$F$109,'RE-UF(anni)'!$C$11:$C$109,'RE-UI(anni)'!B98)","v":0},{"$f":"SUMIFS('RE-UF(anni)'!$G$11:$G$109,'RE-UF(anni)'!$C$11:$C$109,'RE-UI(anni)'!B98)","v":0},0]
[89,{"$f":"UI!B99","v":"U89"},{"$f":"IF('RE-UI'!C99<>\"\",'RE-UI'!C99,\"\")","v":""},{"$f":"IF('RE-UI'!D99<>\"\",'RE-UI'!D99,\"\")","v":""},{"$f":"IF('RE-UI'!E99<>\"\",'RE-UI'!E99,\"\")","v":""},{"$f":"SUMIFS('RE-UF(anni)'!$D$11:$D$109,'RE-UF(anni)'!$C$11:$C$109,'RE-UI(anni)'!B99)","v":0},{"$f":"SUMIFS('RE-UF(anni)'!$E$11:$E$109,'RE-UF(anni)'!$C$11:$C$109,'RE-UI(anni)'!B99)","v":0},{"$f":"SUMIFS('RE-UF(anni)'!$F$11:$F$109,'RE-UF(anni)'!$C$11:$C$109,'RE-UI(anni)'!B99)","v":0},{"$f":"SUMIFS('RE-UF(anni)'!$G$11:$G$109,'RE-UF(anni)'!$C$11:$C$109,'RE-UI(anni)'!B99)","v":0},0]
[90,{"$f":"UI!B100","v":"U90"},{"$f":"IF('RE-UI'!C100<>\"\",'RE-UI'!C100,\"\")","v":""},{"$f":"IF('RE-UI'!D100<>\"\",'RE-UI'!D100,\"\")","v":""},{"$f":"IF('RE-UI'!E100<>\"\",'RE-UI'!E100,\"\")","v":""},{"$f":"SUMIFS('RE-UF(anni)'!$D$11:$D$109,'RE-UF(anni)'!$C$11:$C$109,'RE-UI(anni)'!B100)","v":0},{"$f":"SUMIFS('RE-UF(anni)'!$E$11:$E$109,'RE-UF(anni)'!$C$11:$C$109,'RE-UI(anni)'!B100)","v":0},{"$f":"SUMIFS('RE-UF(anni)'!$F$11:$F$109,'RE-UF(anni)'!$C$11:$C$109,'RE-UI(anni)'!B100)","v":0},{"$f":"SUMIFS('RE-UF(anni)'!$G$11:$G$109,'RE-UF(anni)'!$C$11:$C$109,'RE-UI(anni)'!B100)","v":0},0]
[91,{"$f":"UI!B101","v":"U91"},{"$f":"IF('RE-UI'!C101<>\"\",'RE-UI'!C101,\"\")","v":""},{"$f":"IF('RE-UI'!D101<>\"\",'RE-UI'!D101,\"\")","v":""},{"$f":"IF('RE-UI'!E101<>\"\",'RE-UI'!E101,\"\")","v":""},{"$f":"SUMIFS('RE-UF(anni)'!$D$11:$D$109,'RE-UF(anni)'!$C$11:$C$109,'RE-UI(anni)'!B101)","v":0},{"$f":"SUMIFS('RE-UF(anni)'!$E$11:$E$109,'RE-UF(anni)'!$C$11:$C$109,'RE-UI(anni)'!B101)","v":0},{"$f":"SUMIFS('RE-UF(anni)'!$F$11:$F$109,'RE-UF(anni)'!$C$11:$C$109,'RE-UI(anni)'!B101)","v":0},{"$f":"SUMIFS('RE-UF(anni)'!$G$11:$G$109,'RE-UF(anni)'!$C$11:$C$109,'RE-UI(anni)'!B101)","v":0},0]
[92,{"$f":"UI!B102","v":"U92"},{"$f":"IF('RE-UI'!C102<>\"\",'RE-UI'!C102,\"\")","v":""},{"$f":"IF('RE-UI'!D102<>\"\",'RE-UI'!D102,\"\")","v":""},{"$f":"IF('RE-UI'!E102<>\"\",'RE-UI'!E102,\"\")","v":""},{"$f":"SUMIFS('RE-UF(anni)'!$D$11:$D$109,'RE-UF(anni)'!$C$11:$C$109,'RE-UI(anni)'!B102)","v":0},{"$f":"SUMIFS('RE-UF(anni)'!$E$11:$E$109,'RE-UF(anni)'!$C$11:$C$109,'RE-UI(anni)'!B102)","v":0},{"$f":"SUMIFS('RE-UF(anni)'!$F$11:$F$109,'RE-UF(anni)'!$C$11:$C$109,'RE-UI(anni)'!B102)","v":0},{"$f":"SUMIFS('RE-UF(anni)'!$G$11:$G$109,'RE-UF(anni)'!$C$11:$C$109,'RE-UI(anni)'!B102)","v":0},0]
[93,{"$f":"UI!B103","v":"U93"},{"$f":"IF('RE-UI'!C103<>\"\",'RE-UI'!C103,\"\")","v":""},{"$f":"IF('RE-UI'!D103<>\"\",'RE-UI'!D103,\"\")","v":""},{"$f":"IF('RE-UI'!E103<>\"\",'RE-UI'!E103,\"\")","v":""},{"$f":"SUMIFS('RE-UF(anni)'!$D$11:$D$109,'RE-UF(anni)'!$C$11:$C$109,'RE-UI(anni)'!B103)","v":0},{"$f":"SUMIFS('RE-UF(anni)'!$E$11:$E$109,'RE-UF(anni)'!$C$11:$C$109,'RE-UI(anni)'!B103)","v":0},{"$f":"SUMIFS('RE-UF(anni)'!$F$11:$F$109,'RE-UF(anni)'!$C$11:$C$109,'RE-UI(anni)'!B103)","v":0},{"$f":"SUMIFS('RE-UF(anni)'!$G$11:$G$109,'RE-UF(anni)'!$C$11:$C$109,'RE-UI(anni)'!B103)","v":0},0]
[94,{"$f":"UI!B104","v":"U94"},{"$f":"IF('RE-UI'!C104<>\"\",'RE-UI'!C104,\"\")","v":""},{"$f":"IF('RE-UI'!D104<>\"\",'RE-UI'!D104,\"\")","v":""},{"$f":"IF('RE-UI'!E104<>\"\",'RE-UI'!E104,\"\")","v":""},{"$f":"SUMIFS('RE-UF(anni)'!$D$11:$D$109,'RE-UF(anni)'!$C$11:$C$109,'RE-UI(anni)'!B104)","v":0},{"$f":"SUMIFS('RE-UF(anni)'!$E$11:$E$109,'RE-UF(anni)'!$C$11:$C$109,'RE-UI(anni)'!B104)","v":0},{"$f":"SUMIFS('RE-UF(anni)'!$F$11:$F$109,'RE-UF(anni)'!$C$11:$C$109,'RE-UI(anni)'!B104)","v":0},{"$f":"SUMIFS('RE-UF(anni)'!$G$11:$G$109,'RE-UF(anni)'!$C$11:$C$109,'RE-UI(anni)'!B104)","v":0},0]
[95,{"$f":"UI!B105","v":"U95"},{"$f":"IF('RE-UI'!C105<>\"\",'RE-UI'!C105,\"\")","v":""},{"$f":"IF('RE-UI'!D105<>\"\",'RE-UI'!D105,\"\")","v":""},{"$f":"IF('RE-UI'!E105<>\"\",'RE-UI'!E105,\"\")","v":""},{"$f":"SUMIFS('RE-UF(anni)'!$D$11:$D$109,'RE-UF(anni)'!$C$11:$C$109,'RE-UI(anni)'!B105)","v":0},{"$f":"SUMIFS('RE-UF(anni)'!$E$11:$E$109,'RE-UF(anni)'!$C$11:$C$109,'RE-UI(anni)'!B105)","v":0},{"$f":"SUMIFS('RE-UF(anni)'!$F$11:$F$109,'RE-UF(anni)'!$C$11:$C$109,'RE-UI(anni)'!B105)","v":0},{"$f":"SUMIFS('RE-UF(anni)'!$G$11:$G$109,'RE-UF(anni)'!$C$11:$C$109,'RE-UI(anni)'!B105)","v":0},0]
[96,{"$f":"UI!B106","v":"U96"},{"$f":"IF('RE-UI'!C106<>\"\",'RE-UI'!C106,\"\")","v":""},{"$f":"IF('RE-UI'!D106<>\"\",'RE-UI'!D106,\"\")","v":""},{"$f":"IF('RE-UI'!E106<>\"\",'RE-UI'!E106,\"\")","v":""},{"$f":"SUMIFS('RE-UF(anni)'!$D$11:$D$109,'RE-UF(anni)'!$C$11:$C$109,'RE-UI(anni)'!B106)","v":0},{"$f":"SUMIFS('RE-UF(anni)'!$E$11:$E$109,'RE-UF(anni)'!$C$11:$C$109,'RE-UI(anni)'!B106)","v":0},{"$f":"SUMIFS('RE-UF(anni)'!$F$11:$F$109,'RE-UF(anni)'!$C$11:$C$109,'RE-UI(anni)'!B106)","v":0},{"$f":"SUMIFS('RE-UF(anni)'!$G$11:$G$109,'RE-UF(anni)'!$C$11:$C$109,'RE-UI(anni)'!B106)","v":0},0]
[97,{"$f":"UI!B107","v":"U97"},{"$f":"IF('RE-UI'!C107<>\"\",'RE-UI'!C107,\"\")","v":""},{"$f":"IF('RE-UI'!D107<>\"\",'RE-UI'!D107,\"\")","v":""},{"$f":"IF('RE-UI'!E107<>\"\",'RE-UI'!E107,\"\")","v":""},{"$f":"SUMIFS('RE-UF(anni)'!$D$11:$D$109,'RE-UF(anni)'!$C$11:$C$109,'RE-UI(anni)'!B107)","v":0},{"$f":"SUMIFS('RE-UF(anni)'!$E$11:$E$109,'RE-UF(anni)'!$C$11:$C$109,'RE-UI(anni)'!B107)","v":0},{"$f":"SUMIFS('RE-UF(anni)'!$F$11:$F$109,'RE-UF(anni)'!$C$11:$C$109,'RE-UI(anni)'!B107)","v":0},{"$f":"SUMIFS('RE-UF(anni)'!$G$11:$G$109,'RE-UF(anni)'!$C$11:$C$109,'RE-UI(anni)'!B107)","v":0},{"$f":"SUM(F107:I107)","v":0}]
[98,{"$f":"UI!B108","v":"U98"},{"$f":"IF('RE-UI'!C108<>\"\",'RE-UI'!C108,\"\")","v":""},{"$f":"IF('RE-UI'!D108<>\"\",'RE-UI'!D108,\"\")","v":""},{"$f":"IF('RE-UI'!E108<>\"\",'RE-UI'!E108,\"\")","v":""},{"$f":"SUMIFS('RE-UF(anni)'!$D$11:$D$109,'RE-UF(anni)'!$C$11:$C$109,'RE-UI(anni)'!B108)","v":0},{"$f":"SUMIFS('RE-UF(anni)'!$E$11:$E$109,'RE-UF(anni)'!$C$11:$C$109,'RE-UI(anni)'!B108)","v":0},{"$f":"SUMIFS('RE-UF(anni)'!$F$11:$F$109,'RE-UF(anni)'!$C$11:$C$109,'RE-UI(anni)'!B108)","v":0},{"$f":"SUMIFS('RE-UF(anni)'!$G$11:$G$109,'RE-UF(anni)'!$C$11:$C$109,'RE-UI(anni)'!B108)","v":0},{"$f":"SUM(F108:I108)","v":0}]
[99,{"$f":"UI!B109","v":"U99"},{"$f":"IF('RE-UI'!C109<>\"\",'RE-UI'!C109,\"\")","v":""},{"$f":"IF('RE-UI'!D109<>\"\",'RE-UI'!D109,\"\")","v":""},{"$f":"IF('RE-UI'!E109<>\"\",'RE-UI'!E109,\"\")","v":""},{"$f":"SUMIFS('RE-UF(anni)'!$D$11:$D$109,'RE-UF(anni)'!$C$11:$C$109,'RE-UI(anni)'!B109)","v":0},{"$f":"SUMIFS('RE-UF(anni)'!$E$11:$E$109,'RE-UF(anni)'!$C$11:$C$109,'RE-UI(anni)'!B109)","v":0},{"$f":"SUMIFS('RE-UF(anni)'!$F$11:$F$109,'RE-UF(anni)'!$C$11:$C$109,'RE-UI(anni)'!B109)","v":0},{"$f":"SUMIFS('RE-UF(anni)'!$G$11:$G$109,'RE-UF(anni)'!$C$11:$C$109,'RE-UI(anni)'!B109)","v":0},{"$f":"SUM(F109:I109)","v":0}]
[null,null,null,null,"TOTALI",{"$f":"SUM(F11:F109)","v":499.99999999999994},{"$f":"SUM(G11:G109)","v":2650},{"$f":"SUM(H11:H109)","v":4420.0000000000009},{"$f":"SUM(I11:I109)","v":0},{"$f":"SUM(J11:J109)","v":7570.0000000000009}]
[null,null,null,null,"controllo uscite",{"$f":"SUM(F110:I110)","v":7570.0000000000009}]

{"sheet":"RE-C(anni)","index":35,"n_rows":111,"n_cols":8,"rows_kept":111,"cut":false,"hidden":true,"merged":[[7,0,9,0],[7,1,9,1],[7,2,9,2],[7,7,9,7],[110,3,110,6]]}
[]
[]
[]
[]
[]
[]
[{"$f":"\"RIPARTO fra i CONDOMINI delle SPESE FISCALMENTE DETRAIBILI sostenute con il FONDO \"  & \"alla data \" & DataUltimaregistrazione() &CHAR(10)  & \" suddivise per anno in cui sono state sostenute.\"& CHAR(10)  & DATIG!A40 & CHAR(10) & \"Codice FONDO:  \" & DATIG!A37","v":"RIPARTO fra i CONDOMINI delle SPESE FISCALMENTE DETRAIBILI sostenute con il FONDO alla data 13-novembre-2019\n suddivise per anno in cui sono state sostenute.\nLavori messa in sicurezza fondazioni da infiltrazioni fognarie\nCodice FONDO:  LAVORO-01"}]
["n. condom.","CODICE CONDOMINO","CONDOMINO","SPESE","SPESE","SPESE","SPESE","TOTALE DOVUTO"]
[null,null,null,"ANNO","ANNO","ANNO","ANNO"]
[null,null,null,{"$f":"DATIG!A51","v":2017},{"$f":"DATIG!A52","v":2018},{"$f":"DATIG!A53","v":2019},{"$f":"DATIG!A54","v":0}]
[1,{"$f":"'TAB-C'!B11","v":"C01"},{"$f":"'TAB-C'!D11","v":"CONDOMINO01"},{"$f":"SUMIFS('RE-UI(anni)'!$F$11:$F$109,'RE-UI(anni)'!$D$11:$D$109,B11)","v":19.82},{"$f":"SUMIFS('RE-UI(anni)'!$G$11:$G$109,'RE-UI(anni)'!$D$11:$D$109,B11)","v":192.87},{"$f":"SUMIFS('RE-UI(anni)'!$H$11:$H$109,'RE-UI(anni)'!$D$11:$D$109,B11)","v":234.69},{"$f":"SUMIFS('RE-UI(anni)'!$I$11:$I$109,'RE-UI(anni)'!$D$11:$D$109,B11)","v":0},{"$f":"SUM(D11:G11)","v":447.38}]
[2,{"$f":"'TAB-C'!B12","v":"C02"},{"$f":"'TAB-C'!D12","v":"CONDOMINO02"},{"$f":"SUMIFS('RE-UI(anni)'!$F$11:$F$109,'RE-UI(anni)'!$D$11:$D$109,B12)","v":23.78},{"$f":"SUMIFS('RE-UI(anni)'!$G$11:$G$109,'RE-UI(anni)'!$D$11:$D$109,B12)","v":231.45000000000002},{"$f":"SUMIFS('RE-UI(anni)'!$H$11:$H$109,'RE-UI(anni)'!$D$11:$D$109,B12)","v":281.64},{"$f":"SUMIFS('RE-UI(anni)'!$I$11:$I$109,'RE-UI(anni)'!$D$11:$D$109,B12)","v":0},536.87]
[3,{"$f":"'TAB-C'!B13","v":"C03"},{"$f":"'TAB-C'!D13","v":"CONDOMINO03"},{"$f":"SUMIFS('RE-UI(anni)'!$F$11:$F$109,'RE-UI(anni)'!$D$11:$D$109,B13)","v":22.67},{"$f":"SUMIFS('RE-UI(anni)'!$G$11:$G$109,'RE-UI(anni)'!$D$11:$D$109,B13)","v":220.62},{"$f":"SUMIFS('RE-UI(anni)'!$H$11:$H$109,'RE-UI(anni)'!$D$11:$D$109,B13)","v":268.45999999999998},{"$f":"SUMIFS('RE-UI(anni)'!$I$11:$I$109,'RE-UI(anni)'!$D$11:$D$109,B13)","v":0},511.75]
[4,{"$f":"'TAB-C'!B14","v":"C04"},{"$f":"'TAB-C'!D14","v":"CONDOMINO04"},{"$f":"SUMIFS('RE-UI(anni)'!$F$11:$F$109,'RE-UI(anni)'!$D$11:$D$109,B14)","v":20.55},{"$f":"SUMIFS('RE-UI(anni)'!$G$11:$G$109,'RE-UI(anni)'!$D$11:$D$109,B14)","v":145.67000000000002},{"$f":"SUMIFS('RE-UI(anni)'!$H$11:$H$109,'RE-UI(anni)'!$D$11:$D$109,B14)","v":193.76},{"$f":"SUMIFS('RE-UI(anni)'!$I$11:$I$109,'RE-UI(anni)'!$D$11:$D$109,B14)","v":0},359.98]
[5,{"$f":"'TAB-C'!B15","v":"C05"},{"$f":"'TAB-C'!D15","v":"CONDOMINO05"},{"$f":"SUMIFS('RE-UI(anni)'!$F$11:$F$109,'RE-UI(anni)'!$D$11:$D$109,B15)","v":25.490000000000002},{"$f":"SUMIFS('RE-UI(anni)'!$G$11:$G$109,'RE-UI(anni)'!$D$11:$D$109,B15)","v":180.64000000000001},{"$f":"SUMIFS('RE-UI(anni)'!$H$11:$H$109,'RE-UI(anni)'!$D$11:$D$109,B15)","v":240.28},{"$f":"SUMIFS('RE-UI(anni)'!$I$11:$I$109,'RE-UI(anni)'!$D$11:$D$109,B15)","v":0},446.41]
[6,{"$f":"'TAB-C'!B16","v":"C06"},{"$f":"'TAB-C'!D16","v":"CONDOMINO06"},{"$f":"SUMIFS('RE-UI(anni)'!$F$11:$F$109,'RE-UI(anni)'!$D$11:$D$109,B16)","v":24.18},{"$f":"SUMIFS('RE-UI(anni)'!$G$11:$G$109,'RE-UI(anni)'!$D$11:$D$109,B16)","v":171.35},{"$f":"SUMIFS('RE-UI(anni)'!$H$11:$H$109,'RE-UI(anni)'!$D$11:$D$109,B16)","v":227.93},{"$f":"SUMIFS('RE-UI(anni)'!$I$11:$I$109,'RE-UI(anni)'!$D$11:$D$109,B16)","v":0},423.46000000000004]
[7,{"$f":"'TAB-C'!B17","v":"C07"},{"$f":"'TAB-C'!D17","v":"CONDOMINO07"},{"$f":"SUMIFS('RE-UI(anni)'!$F$11:$F$109,'RE-UI(anni)'!$D$11:$D$109,B17)","v":63.31},{"$f":"SUMIFS('RE-UI(anni)'!$G$11:$G$109,'RE-UI(anni)'!$D$11:$D$109,B17)","v":211.05},{"$f":"SUMIFS('RE-UI(anni)'!$H$11:$H$109,'RE-UI(anni)'!$D$11:$D$109,B17)","v":416.37},{"$f":"SUMIFS('RE-UI(anni)'!$I$11:$I$109,'RE-UI(anni)'!$D$11:$D$109,B17)","v":0},690.73]
[8,{"$f":"'TAB-C'!B18","v":"C08"},{"$f":"'TAB-C'!D18","v":"CONDOMINO08"},{"$f":"SUMIFS('RE-UI(anni)'!$F$11:$F$109,'RE-UI(anni)'!$D$11:$D$109,B18)","v":43.97},{"$f":"SUMIFS('RE-UI(anni)'!$G$11:$G$109,'RE-UI(anni)'!$D$11:$D$109,B18)","v":174.79000000000002},{"$f":"SUMIFS('RE-UI(anni)'!$H$11:$H$109,'RE-UI(anni)'!$D$11:$D$109,B18)","v":314.83},{"$f":"SUMIFS('RE-UI(anni)'!$I$11:$I$109,'RE-UI(anni)'!$D$11:$D$109,B18)","v":0},533.59]
[9,{"$f":"'TAB-C'!B19","v":"C09"},{"$f":"'TAB-C'!D19","v":"CONDOMINO09"},{"$f":"SUMIFS('RE-UI(anni)'!$F$11:$F$109,'RE-UI(anni)'!$D$11:$D$109,B19)","v":23.53},{"$f":"SUMIFS('RE-UI(anni)'!$G$11:$G$109,'RE-UI(anni)'!$D$11:$D$109,B19)","v":104.55},{"$f":"SUMIFS('RE-UI(anni)'!$H$11:$H$109,'RE-UI(anni)'!$D$11:$D$109,B19)","v":165.01},{"$f":"SUMIFS('RE-UI(anni)'!$I$11:$I$109,'RE-UI(anni)'!$D$11:$D$109,B19)","v":0},293.08999999999997]
[10,{"$f":"'TAB-C'!B20","v":"C10"},{"$f":"'TAB-C'!D20","v":"CONDOMINO10"},{"$f":"SUMIFS('RE-UI(anni)'!$F$11:$F$109,'RE-UI(anni)'!$D$11:$D$109,B20)","v":17.740000000000002},{"$f":"SUMIFS('RE-UI(anni)'!$G$11:$G$109,'RE-UI(anni)'!$D$11:$D$109,B20)","v":36.730000000000004},{"$f":"SUMIFS('RE-UI(anni)'!$H$11:$H$109,'RE-UI(anni)'!$D$11:$D$109,B20)","v":85.99},{"$f":"SUMIFS('RE-UI(anni)'!$I$11:$I$109,'RE-UI(anni)'!$D$11:$D$109,B20)","v":0},140.46]
[11,{"$f":"'TAB-C'!B21","v":"C11"},{"$f":"'TAB-C'!D21","v":"CONDOMINO11"},{"$f":"SUMIFS('RE-UI(anni)'!$F$11:$F$109,'RE-UI(anni)'!$D$11:$D$109,B21)","v":22.82},{"$f":"SUMIFS('RE-UI(anni)'!$G$11:$G$109,'RE-UI(anni)'!$D$11:$D$109,B21)","v":46.18},{"$f":"SUMIFS('RE-UI(anni)'!$H$11:$H$109,'RE-UI(anni)'!$D$11:$D$109,B21)","v":129.62},{"$f":"SUMIFS('RE-UI(anni)'!$I$11:$I$109,'RE-UI(anni)'!$D$11:$D$109,B21)","v":0},198.62]
[12,{"$f":"'TAB-C'!B22","v":"C12"},{"$f":"'TAB-C'!D22","v":"CONDOMINO12"},{"$f":"SUMIFS('RE-UI(anni)'!$F$11:$F$109,'RE-UI(anni)'!$D$11:$D$109,B22)","v":16.330000000000002},{"$f":"SUMIFS('RE-UI(anni)'!$G$11:$G$109,'RE-UI(anni)'!$D$11:$D$109,B22)","v":35.01},{"$f":"SUMIFS('RE-UI(anni)'!$H$11:$H$109,'RE-UI(anni)'!$D$11:$D$109,B22)","v":80.239999999999995},{"$f":"SUMIFS('RE-UI(anni)'!$I$11:$I$109,'RE-UI(anni)'!$D$11:$D$109,B22)","v":0},131.57999999999998]
[13,{"$f":"'TAB-C'!B23","v":"C13"},{"$f":"'TAB-C'!D23","v":"CONDOMINO13"},{"$f":"SUMIFS('RE-UI(anni)'!$F$11:$F$109,'RE-UI(anni)'!$D$11:$D$109,B23)","v":5.08},{"$f":"SUMIFS('RE-UI(anni)'!$G$11:$G$109,'RE-UI(anni)'!$D$11:$D$109,B23)","v":22.56},{"$f":"SUMIFS('RE-UI(anni)'!$H$11:$H$109,'RE-UI(anni)'!$D$11:$D$109,B23)","v":35.61},{"$f":"SUMIFS('RE-UI(anni)'!$I$11:$I$109,'RE-UI(anni)'!$D$11:$D$109,B23)","v":0},63.25]
[14,{"$f":"'TAB-C'!B24","v":"C14"},{"$f":"'TAB-C'!D24","v":"CONDOMINO14"},{"$f":"SUMIFS('RE-UI(anni)'!$F$11:$F$109,'RE-UI(anni)'!$D$11:$D$109,B24)","v":16.25},{"$f":"SUMIFS('RE-UI(anni)'!$G$11:$G$109,'RE-UI(anni)'!$D$11:$D$109,B24)","v":72.19},{"$f":"SUMIFS('RE-UI(anni)'!$H$11:$H$109,'RE-UI(anni)'!$D$11:$D$109,B24)","v":113.94},{"$f":"SUMIFS('RE-UI(anni)'!$I$11:$I$109,'RE-UI(anni)'!$D$11:$D$109,B24)","v":0},202.38]
[15,{"$f":"'TAB-C'!B25","v":"C15"},{"$f":"'TAB-C'!D25","v":"CONDOMINO15"},{"$f":"SUMIFS('RE-UI(anni)'!$F$11:$F$109,'RE-UI(anni)'!$D$11:$D$109,B25)","v":43.32},{"$f":"SUMIFS('RE-UI(anni)'!$G$11:$G$109,'RE-UI(anni)'!$D$11:$D$109,B25)","v":256.53000000000003},{"$f":"SUMIFS('RE-UI(anni)'!$H$11:$H$109,'RE-UI(anni)'!$D$11:$D$109,B25)","v":511.78000000000003},{"$f":"SUMIFS('RE-UI(anni)'!$I$11:$I$109,'RE-UI(anni)'!$D$11:$D$109,B25)","v":0},811.63000000000011]
[16,{"$f":"'TAB-C'!B26","v":"C16"},{"$f":"'TAB-C'!D26","v":"CONDOMINO16"},{"$f":"SUMIFS('RE-UI(anni)'!$F$11:$F$109,'RE-UI(anni)'!$D$11:$D$109,B26)","v":23.96},{"$f":"SUMIFS('RE-UI(anni)'!$G$11:$G$109,'RE-UI(anni)'!$D$11:$D$109,B26)","v":156.02000000000001},{"$f":"SUMIFS('RE-UI(anni)'!$H$11:$H$109,'RE-UI(anni)'!$D$11:$D$109,B26)","v":307.77},{"$f":"SUMIFS('RE-UI(anni)'!$I$11:$I$109,'RE-UI(anni)'!$D$11:$D$109,B26)","v":0},487.75]
[17,{"$f":"'TAB-C'!B27","v":"C17"},{"$f":"'TAB-C'!D27","v":"CONDOMINO17"},{"$f":"SUMIFS('RE-UI(anni)'!$F$11:$F$109,'RE-UI(anni)'!$D$11:$D$109,B27)","v":18.86},{"$f":"SUMIFS('RE-UI(anni)'!$G$11:$G$109,'RE-UI(anni)'!$D$11:$D$109,B27)","v":122.81},{"$f":"SUMIFS('RE-UI(anni)'!$H$11:$H$109,'RE-UI(anni)'!$D$11:$D$109,B27)","v":242.27},{"$f":"SUMIFS('RE-UI(anni)'!$I$11:$I$109,'RE-UI(anni)'!$D$11:$D$109,B27)","v":0},383.94000000000005]
[18,{"$f":"'TAB-C'!B28","v":"C18"},{"$f":"'TAB-C'!D28","v":"CONDOMINO18"},{"$f":"SUMIFS('RE-UI(anni)'!$F$11:$F$109,'RE-UI(anni)'!$D$11:$D$109,B28)","v":25.07},{"$f":"SUMIFS('RE-UI(anni)'!$G$11:$G$109,'RE-UI(anni)'!$D$11:$D$109,B28)","v":123.87},{"$f":"SUMIFS('RE-UI(anni)'!$H$11:$H$109,'RE-UI(anni)'!$D$11:$D$109,B28)","v":253.13},{"$f":"SUMIFS('RE-UI(anni)'!$I$11:$I$109,'RE-UI(anni)'!$D$11:$D$109,B28)","v":0},402.07]
[19,{"$f":"'TAB-C'!B29","v":"C19"},{"$f":"'TAB-C'!D29","v":"CONDOMINO19"},{"$f":"SUMIFS('RE-UI(anni)'!$F$11:$F$109,'RE-UI(anni)'!$D$11:$D$109,B29)","v":43.27},{"$f":"SUMIFS('RE-UI(anni)'!$G$11:$G$109,'RE-UI(anni)'!$D$11:$D$109,B29)","v":145.11000000000001},{"$f":"SUMIFS('RE-UI(anni)'!$H$11:$H$109,'RE-UI(anni)'!$D$11:$D$109,B29)","v":316.68},{"$f":"SUMIFS('RE-UI(anni)'!$I$11:$I$109,'RE-UI(anni)'!$D$11:$D$109,B29)","v":0},505.06000000000006]
[20,{"$f":"'TAB-C'!B30","v":"C20"},{"$f":"'TAB-C'!D30","v":""},{"$f":"SUMIFS('RE-UI(anni)'!$F$11:$F$109,'RE-UI(anni)'!$D$11:$D$109,B30)","v":0},{"$f":"SUMIFS('RE-UI(anni)'!$G$11:$G$109,'RE-UI(anni)'!$D$11:$D$109,B30)","v":0},{"$f":"SUMIFS('RE-UI(anni)'!$H$11:$H$109,'RE-UI(anni)'!$D$11:$D$109,B30)","v":0},{"$f":"SUMIFS('RE-UI(anni)'!$I$11:$I$109,'RE-UI(anni)'!$D$11:$D$109,B30)","v":0},0]
[21,{"$f":"'TAB-C'!B31","v":"C21"},{"$f":"'TAB-C'!D31","v":""},{"$f":"SUMIFS('RE-UI(anni)'!$F$11:$F$109,'RE-UI(anni)'!$D$11:$D$109,B31)","v":0},{"$f":"SUMIFS('RE-UI(anni)'!$G$11:$G$109,'RE-UI(anni)'!$D$11:$D$109,B31)","v":0},{"$f":"SUMIFS('RE-UI(anni)'!$H$11:$H$109,'RE-UI(anni)'!$D$11:$D$109,B31)","v":0},{"$f":"SUMIFS('RE-UI(anni)'!$I$11:$I$109,'RE-UI(anni)'!$D$11:$D$109,B31)","v":0},0]
[22,{"$f":"'TAB-C'!B32","v":"C22"},{"$f":"'TAB-C'!D32","v":""},{"$f":"SUMIFS('RE-UI(anni)'!$F$11:$F$109,'RE-UI(anni)'!$D$11:$D$109,B32)","v":0},{"$f":"SUMIFS('RE-UI(anni)'!$G$11:$G$109,'RE-UI(anni)'!$D$11:$D$109,B32)","v":0},{"$f":"SUMIFS('RE-UI(anni)'!$H$11:$H$109,'RE-UI(anni)'!$D$11:$D$109,B32)","v":0},{"$f":"SUMIFS('RE-UI(anni)'!$I$11:$I$109,'RE-UI(anni)'!$D$11:$D$109,B32)","v":0},0]
[23,{"$f":"'TAB-C'!B33","v":"C23"},{"$f":"'TAB-C'!D33","v":""},{"$f":"SUMIFS('RE-UI(anni)'!$F$11:$F$109,'RE-UI(anni)'!$D$11:$D$109,B33)","v":0},{"$f":"SUMIFS('RE-UI(anni)'!$G$11:$G$109,'RE-UI(anni)'!$D$11:$D$109,B33)","v":0},{"$f":"SUMIFS('RE-UI(anni)'!$H$11:$H$109,'RE-UI(anni)'!$D$11:$D$109,B33)","v":0},{"$f":"SUMIFS('RE-UI(anni)'!$I$11:$I$109,'RE-UI(anni)'!$D$11:$D$109,B33)","v":0},0]
[24,{"$f":"'TAB-C'!B34","v":"C24"},{"$f":"'TAB-C'!D34","v":""},{"$f":"SUMIFS('RE-UI(anni)'!$F$11:$F$109,'RE-UI(anni)'!$D$11:$D$109,B34)","v":0},{"$f":"SUMIFS('RE-UI(anni)'!$G$11:$G$109,'RE-UI(anni)'!$D$11:$D$109,B34)","v":0},{"$f":"SUMIFS('RE-UI(anni)'!$H$11:$H$109,'RE-UI(anni)'!$D$11:$D$109,B34)","v":0},{"$f":"SUMIFS('RE-UI(anni)'!$I$11:$I$109,'RE-UI(anni)'!$D$11:$D$109,B34)","v":0},0]
[25,{"$f":"'TAB-C'!B35","v":"C25"},{"$f":"'TAB-C'!D35","v":""},{"$f":"SUMIFS('RE-UI(anni)'!$F$11:$F$109,'RE-UI(anni)'!$D$11:$D$109,B35)","v":0},{"$f":"SUMIFS('RE-UI(anni)'!$G$11:$G$109,'RE-UI(anni)'!$D$11:$D$109,B35)","v":0},{"$f":"SUMIFS('RE-UI(anni)'!$H$11:$H$109,'RE-UI(anni)'!$D$11:$D$109,B35)","v":0},{"$f":"SUMIFS('RE-UI(anni)'!$I$11:$I$109,'RE-UI(anni)'!$D$11:$D$109,B35)","v":0},0]
[26,{"$f":"'TAB-C'!B36","v":"C26"},{"$f":"'TAB-C'!D36","v":""},{"$f":"SUMIFS('RE-UI(anni)'!$F$11:$F$109,'RE-UI(anni)'!$D$11:$D$109,B36)","v":0},{"$f":"SUMIFS('RE-UI(anni)'!$G$11:$G$109,'RE-UI(anni)'!$D$11:$D$109,B36)","v":0},{"$f":"SUMIFS('RE-UI(anni)'!$H$11:$H$109,'RE-UI(anni)'!$D$11:$D$109,B36)","v":0},{"$f":"SUMIFS('RE-UI(anni)'!$I$11:$I$109,'RE-UI(anni)'!$D$11:$D$109,B36)","v":0},0]
[27,{"$f":"'TAB-C'!B37","v":"C27"},{"$f":"'TAB-C'!D37","v":""},{"$f":"SUMIFS('RE-UI(anni)'!$F$11:$F$109,'RE-UI(anni)'!$D$11:$D$109,B37)","v":0},{"$f":"SUMIFS('RE-UI(anni)'!$G$11:$G$109,'RE-UI(anni)'!$D$11:$D$109,B37)","v":0},{"$f":"SUMIFS('RE-UI(anni)'!$H$11:$H$109,'RE-UI(anni)'!$D$11:$D$109,B37)","v":0},{"$f":"SUMIFS('RE-UI(anni)'!$I$11:$I$109,'RE-UI(anni)'!$D$11:$D$109,B37)","v":0},0]
[28,{"$f":"'TAB-C'!B38","v":"C28"},{"$f":"'TAB-C'!D38","v":""},{"$f":"SUMIFS('RE-UI(anni)'!$F$11:$F$109,'RE-UI(anni)'!$D$11:$D$109,B38)","v":0},{"$f":"SUMIFS('RE-UI(anni)'!$G$11:$G$109,'RE-UI(anni)'!$D$11:$D$109,B38)","v":0},{"$f":"SUMIFS('RE-UI(anni)'!$H$11:$H$109,'RE-UI(anni)'!$D$11:$D$109,B38)","v":0},{"$f":"SUMIFS('RE-UI(anni)'!$I$11:$I$109,'RE-UI(anni)'!$D$11:$D$109,B38)","v":0},0]
[29,{"$f":"'TAB-C'!B39","v":"C29"},{"$f":"'TAB-C'!D39","v":""},{"$f":"SUMIFS('RE-UI(anni)'!$F$11:$F$109,'RE-UI(anni)'!$D$11:$D$109,B39)","v":0},{"$f":"SUMIFS('RE-UI(anni)'!$G$11:$G$109,'RE-UI(anni)'!$D$11:$D$109,B39)","v":0},{"$f":"SUMIFS('RE-UI(anni)'!$H$11:$H$109,'RE-UI(anni)'!$D$11:$D$109,B39)","v":0},{"$f":"SUMIFS('RE-UI(anni)'!$I$11:$I$109,'RE-UI(anni)'!$D$11:$D$109,B39)","v":0},0]
[30,{"$f":"'TAB-C'!B40","v":"C30"},{"$f":"'TAB-C'!D40","v":""},{"$f":"SUMIFS('RE-UI(anni)'!$F$11:$F$109,'RE-UI(anni)'!$D$11:$D$109,B40)","v":0},{"$f":"SUMIFS('RE-UI(anni)'!$G$11:$G$109,'RE-UI(anni)'!$D$11:$D$109,B40)","v":0},{"$f":"SUMIFS('RE-UI(anni)'!$H$11:$H$109,'RE-UI(anni)'!$D$11:$D$109,B40)","v":0},{"$f":"SUMIFS('RE-UI(anni)'!$I$11:$I$109,'RE-UI(anni)'!$D$11:$D$109,B40)","v":0},0]
[31,{"$f":"'TAB-C'!B41","v":"C31"},{"$f":"'TAB-C'!D41","v":""},{"$f":"SUMIFS('RE-UI(anni)'!$F$11:$F$109,'RE-UI(anni)'!$D$11:$D$109,B41)","v":0},{"$f":"SUMIFS('RE-UI(anni)'!$G$11:$G$109,'RE-UI(anni)'!$D$11:$D$109,B41)","v":0},{"$f":"SUMIFS('RE-UI(anni)'!$H$11:$H$109,'RE-UI(anni)'!$D$11:$D$109,B41)","v":0},{"$f":"SUMIFS('RE-UI(anni)'!$I$11:$I$109,'RE-UI(anni)'!$D$11:$D$109,B41)","v":0},0]
[32,{"$f":"'TAB-C'!B42","v":"C32"},{"$f":"'TAB-C'!D42","v":""},{"$f":"SUMIFS('RE-UI(anni)'!$F$11:$F$109,'RE-UI(anni)'!$D$11:$D$109,B42)","v":0},{"$f":"SUMIFS('RE-UI(anni)'!$G$11:$G$109,'RE-UI(anni)'!$D$11:$D$109,B42)","v":0},{"$f":"SUMIFS('RE-UI(anni)'!$H$11:$H$109,'RE-UI(anni)'!$D$11:$D$109,B42)","v":0},{"$f":"SUMIFS('RE-UI(anni)'!$I$11:$I$109,'RE-UI(anni)'!$D$11:$D$109,B42)","v":0},0]
[33,{"$f":"'TAB-C'!B43","v":"C33"},{"$f":"'TAB-C'!D43","v":""},{"$f":"SUMIFS('RE-UI(anni)'!$F$11:$F$109,'RE-UI(anni)'!$D$11:$D$109,B43)","v":0},{"$f":"SUMIFS('RE-UI(anni)'!$G$11:$G$109,'RE-UI(anni)'!$D$11:$D$109,B43)","v":0},{"$f":"SUMIFS('RE-UI(anni)'!$H$11:$H$109,'RE-UI(anni)'!$D$11:$D$109,B43)","v":0},{"$f":"SUMIFS('RE-UI(anni)'!$I$11:$I$109,'RE-UI(anni)'!$D$11:$D$109,B43)","v":0},{"$f":"SUM(D43:G43)","v":0}]
[34,{"$f":"'TAB-C'!B44","v":"C34"},{"$f":"'TAB-C'!D44","v":""},{"$f":"SUMIFS('RE-UI(anni)'!$F$11:$F$109,'RE-UI(anni)'!$D$11:$D$109,B44)","v":0},{"$f":"SUMIFS('RE-UI(anni)'!$G$11:$G$109,'RE-UI(anni)'!$D$11:$D$109,B44)","v":0},{"$f":"SUMIFS('RE-UI(anni)'!$H$11:$H$109,'RE-UI(anni)'!$D$11:$D$109,B44)","v":0},{"$f":"SUMIFS('RE-UI(anni)'!$I$11:$I$109,'RE-UI(anni)'!$D$11:$D$109,B44)","v":0},0]
[35,{"$f":"'TAB-C'!B45","v":"C35"},{"$f":"'TAB-C'!D45","v":""},{"$f":"SUMIFS('RE-UI(anni)'!$F$11:$F$109,'RE-UI(anni)'!$D$11:$D$109,B45)","v":0},{"$f":"SUMIFS('RE-UI(anni)'!$G$11:$G$109,'RE-UI(anni)'!$D$11:$D$109,B45)","v":0},{"$f":"SUMIFS('RE-UI(anni)'!$H$11:$H$109,'RE-UI(anni)'!$D$11:$D$109,B45)","v":0},{"$f":"SUMIFS('RE-UI(anni)'!$I$11:$I$109,'RE-UI(anni)'!$D$11:$D$109,B45)","v":0},0]
[36,{"$f":"'TAB-C'!B46","v":"C36"},{"$f":"'TAB-C'!D46","v":""},{"$f":"SUMIFS('RE-UI(anni)'!$F$11:$F$109,'RE-UI(anni)'!$D$11:$D$109,B46)","v":0},{"$f":"SUMIFS('RE-UI(anni)'!$G$11:$G$109,'RE-UI(anni)'!$D$11:$D$109,B46)","v":0},{"$f":"SUMIFS('RE-UI(anni)'!$H$11:$H$109,'RE-UI(anni)'!$D$11:$D$109,B46)","v":0},{"$f":"SUMIFS('RE-UI(anni)'!$I$11:$I$109,'RE-UI(anni)'!$D$11:$D$109,B46)","v":0},0]
[37,{"$f":"'TAB-C'!B47","v":"C37"},{"$f":"'TAB-C'!D47","v":""},{"$f":"SUMIFS('RE-UI(anni)'!$F$11:$F$109,'RE-UI(anni)'!$D$11:$D$109,B47)","v":0},{"$f":"SUMIFS('RE-UI(anni)'!$G$11:$G$109,'RE-UI(anni)'!$D$11:$D$109,B47)","v":0},{"$f":"SUMIFS('RE-UI(anni)'!$H$11:$H$109,'RE-UI(anni)'!$D$11:$D$109,B47)","v":0},{"$f":"SUMIFS('RE-UI(anni)'!$I$11:$I$109,'RE-UI(anni)'!$D$11:$D$109,B47)","v":0},0]
[38,{"$f":"'TAB-C'!B48","v":"C38"},{"$f":"'TAB-C'!D48","v":""},{"$f":"SUMIFS('RE-UI(anni)'!$F$11:$F$109,'RE-UI(anni)'!$D$11:$D$109,B48)","v":0},{"$f":"SUMIFS('RE-UI(anni)'!$G$11:$G$109,'RE-UI(anni)'!$D$11:$D$109,B48)","v":0},{"$f":"SUMIFS('RE-UI(anni)'!$H$11:$H$109,'RE-UI(anni)'!$D$11:$D$109,B48)","v":0},{"$f":"SUMIFS('RE-UI(anni)'!$I$11:$I$109,'RE-UI(anni)'!$D$11:$D$109,B48)","v":0},0]
[39,{"$f":"'TAB-C'!B49","v":"C39"},{"$f":"'TAB-C'!D49","v":""},{"$f":"SUMIFS('RE-UI(anni)'!$F$11:$F$109,'RE-UI(anni)'!$D$11:$D$109,B49)","v":0},{"$f":"SUMIFS('RE-UI(anni)'!$G$11:$G$109,'RE-UI(anni)'!$D$11:$D$109,B49)","v":0},{"$f":"SUMIFS('RE-UI(anni)'!$H$11:$H$109,'RE-UI(anni)'!$D$11:$D$109,B49)","v":0},{"$f":"SUMIFS('RE-UI(anni)'!$I$11:$I$109,'RE-UI(anni)'!$D$11:$D$109,B49)","v":0},0]
[40,{"$f":"'TAB-C'!B50","v":"C40"},{"$f":"'TAB-C'!D50","v":""},{"$f":"SUMIFS('RE-UI(anni)'!$F$11:$F$109,'RE-UI(anni)'!$D$11:$D$109,B50)","v":0},{"$f":"SUMIFS('RE-UI(anni)'!$G$11:$G$109,'RE-UI(anni)'!$D$11:$D$109,B50)","v":0},{"$f":"SUMIFS('RE-UI(anni)'!$H$11:$H$109,'RE-UI(anni)'!$D$11:$D$109,B50)","v":0},{"$f":"SUMIFS('RE-UI(anni)'!$I$11:$I$109,'RE-UI(anni)'!$D$11:$D$109,B50)","v":0},0]
[41,{"$f":"'TAB-C'!B51","v":"C41"},{"$f":"'TAB-C'!D51","v":""},{"$f":"SUMIFS('RE-UI(anni)'!$F$11:$F$109,'RE-UI(anni)'!$D$11:$D$109,B51)","v":0},{"$f":"SUMIFS('RE-UI(anni)'!$G$11:$G$109,'RE-UI(anni)'!$D$11:$D$109,B51)","v":0},{"$f":"SUMIFS('RE-UI(anni)'!$H$11:$H$109,'RE-UI(anni)'!$D$11:$D$109,B51)","v":0},{"$f":"SUMIFS('RE-UI(anni)'!$I$11:$I$109,'RE-UI(anni)'!$D$11:$D$109,B51)","v":0},0]
[42,{"$f":"'TAB-C'!B52","v":"C42"},{"$f":"'TAB-C'!D52","v":""},{"$f":"SUMIFS('RE-UI(anni)'!$F$11:$F$109,'RE-UI(anni)'!$D$11:$D$109,B52)","v":0},{"$f":"SUMIFS('RE-UI(anni)'!$G$11:$G$109,'RE-UI(anni)'!$D$11:$D$109,B52)","v":0},{"$f":"SUMIFS('RE-UI(anni)'!$H$11:$H$109,'RE-UI(anni)'!$D$11:$D$109,B52)","v":0},{"$f":"SUMIFS('RE-UI(anni)'!$I$11:$I$109,'RE-UI(anni)'!$D$11:$D$109,B52)","v":0},0]
[43,{"$f":"'TAB-C'!B53","v":"C43"},{"$f":"'TAB-C'!D53","v":""},{"$f":"SUMIFS('RE-UI(anni)'!$F$11:$F$109,'RE-UI(anni)'!$D$11:$D$109,B53)","v":0},{"$f":"SUMIFS('RE-UI(anni)'!$G$11:$G$109,'RE-UI(anni)'!$D$11:$D$109,B53)","v":0},{"$f":"SUMIFS('RE-UI(anni)'!$H$11:$H$109,'RE-UI(anni)'!$D$11:$D$109,B53)","v":0},{"$f":"SUMIFS('RE-UI(anni)'!$I$11:$I$109,'RE-UI(anni)'!$D$11:$D$109,B53)","v":0},0]
[44,{"$f":"'TAB-C'!B54","v":"C44"},{"$f":"'TAB-C'!D54","v":""},{"$f":"SUMIFS('RE-UI(anni)'!$F$11:$F$109,'RE-UI(anni)'!$D$11:$D$109,B54)","v":0},{"$f":"SUMIFS('RE-UI(anni)'!$G$11:$G$109,'RE-UI(anni)'!$D$11:$D$109,B54)","v":0},{"$f":"SUMIFS('RE-UI(anni)'!$H$11:$H$109,'RE-UI(anni)'!$D$11:$D$109,B54)","v":0},{"$f":"SUMIFS('RE-UI(anni)'!$I$11:$I$109,'RE-UI(anni)'!$D$11:$D$109,B54)","v":0},0]
[45,{"$f":"'TAB-C'!B55","v":"C45"},{"$f":"'TAB-C'!D55","v":""},{"$f":"SUMIFS('RE-UI(anni)'!$F$11:$F$109,'RE-UI(anni)'!$D$11:$D$109,B55)","v":0},{"$f":"SUMIFS('RE-UI(anni)'!$G$11:$G$109,'RE-UI(anni)'!$D$11:$D$109,B55)","v":0},{"$f":"SUMIFS('RE-UI(anni)'!$H$11:$H$109,'RE-UI(anni)'!$D$11:$D$109,B55)","v":0},{"$f":"SUMIFS('RE-UI(anni)'!$I$11:$I$109,'RE-UI(anni)'!$D$11:$D$109,B55)","v":0},0]
[46,{"$f":"'TAB-C'!B56","v":"C46"},{"$f":"'TAB-C'!D56","v":""},{"$f":"SUMIFS('RE-UI(anni)'!$F$11:$F$109,'RE-UI(anni)'!$D$11:$D$109,B56)","v":0},{"$f":"SUMIFS('RE-UI(anni)'!$G$11:$G$109,'RE-UI(anni)'!$D$11:$D$109,B56)","v":0},{"$f":"SUMIFS('RE-UI(anni)'!$H$11:$H$109,'RE-UI(anni)'!$D$11:$D$109,B56)","v":0},{"$f":"SUMIFS('RE-UI(anni)'!$I$11:$I$109,'RE-UI(anni)'!$D$11:$D$109,B56)","v":0},0]
[47,{"$f":"'TAB-C'!B57","v":"C47"},{"$f":"'TAB-C'!D57","v":""},{"$f":"SUMIFS('RE-UI(anni)'!$F$11:$F$109,'RE-UI(anni)'!$D$11:$D$109,B57)","v":0},{"$f":"SUMIFS('RE-UI(anni)'!$G$11:$G$109,'RE-UI(anni)'!$D$11:$D$109,B57)","v":0},{"$f":"SUMIFS('RE-UI(anni)'!$H$11:$H$109,'RE-UI(anni)'!$D$11:$D$109,B57)","v":0},{"$f":"SUMIFS('RE-UI(anni)'!$I$11:$I$109,'RE-UI(anni)'!$D$11:$D$109,B57)","v":0},0]
[48,{"$f":"'TAB-C'!B58","v":"C48"},{"$f":"'TAB-C'!D58","v":""},{"$f":"SUMIFS('RE-UI(anni)'!$F$11:$F$109,'RE-UI(anni)'!$D$11:$D$109,B58)","v":0},{"$f":"SUMIFS('RE-UI(anni)'!$G$11:$G$109,'RE-UI(anni)'!$D$11:$D$109,B58)","v":0},{"$f":"SUMIFS('RE-UI(anni)'!$H$11:$H$109,'RE-UI(anni)'!$D$11:$D$109,B58)","v":0},{"$f":"SUMIFS('RE-UI(anni)'!$I$11:$I$109,'RE-UI(anni)'!$D$11:$D$109,B58)","v":0},0]
[49,{"$f":"'TAB-C'!B59","v":"C49"},{"$f":"'TAB-C'!D59","v":""},{"$f":"SUMIFS('RE-UI(anni)'!$F$11:$F$109,'RE-UI(anni)'!$D$11:$D$109,B59)","v":0},{"$f":"SUMIFS('RE-UI(anni)'!$G$11:$G$109,'RE-UI(anni)'!$D$11:$D$109,B59)","v":0},{"$f":"SUMIFS('RE-UI(anni)'!$H$11:$H$109,'RE-UI(anni)'!$D$11:$D$109,B59)","v":0},{"$f":"SUMIFS('RE-UI(anni)'!$I$11:$I$109,'RE-UI(anni)'!$D$11:$D$109,B59)","v":0},0]
[50,{"$f":"'TAB-C'!B60","v":"C50"},{"$f":"'TAB-C'!D60","v":""},{"$f":"SUMIFS('RE-UI(anni)'!$F$11:$F$109,'RE-UI(anni)'!$D$11:$D$109,B60)","v":0},{"$f":"SUMIFS('RE-UI(anni)'!$G$11:$G$109,'RE-UI(anni)'!$D$11:$D$109,B60)","v":0},{"$f":"SUMIFS('RE-UI(anni)'!$H$11:$H$109,'RE-UI(anni)'!$D$11:$D$109,B60)","v":0},{"$f":"SUMIFS('RE-UI(anni)'!$I$11:$I$109,'RE-UI(anni)'!$D$11:$D$109,B60)","v":0},0]
[51,{"$f":"'TAB-C'!B61","v":"C51"},{"$f":"'TAB-C'!D61","v":""},{"$f":"SUMIFS('RE-UI(anni)'!$F$11:$F$109,'RE-UI(anni)'!$D$11:$D$109,B61)","v":0},{"$f":"SUMIFS('RE-UI(anni)'!$G$11:$G$109,'RE-UI(anni)'!$D$11:$D$109,B61)","v":0},{"$f":"SUMIFS('RE-UI(anni)'!$H$11:$H$109,'RE-UI(anni)'!$D$11:$D$109,B61)","v":0},{"$f":"SUMIFS('RE-UI(anni)'!$I$11:$I$109,'RE-UI(anni)'!$D$11:$D$109,B61)","v":0},0]
[52,{"$f":"'TAB-C'!B62","v":"C52"},{"$f":"'TAB-C'!D62","v":""},{"$f":"SUMIFS('RE-UI(anni)'!$F$11:$F$109,'RE-UI(anni)'!$D$11:$D$109,B62)","v":0},{"$f":"SUMIFS('RE-UI(anni)'!$G$11:$G$109,'RE-UI(anni)'!$D$11:$D$109,B62)","v":0},{"$f":"SUMIFS('RE-UI(anni)'!$H$11:$H$109,'RE-UI(anni)'!$D$11:$D$109,B62)","v":0},{"$f":"SUMIFS('RE-UI(anni)'!$I$11:$I$109,'RE-UI(anni)'!$D$11:$D$109,B62)","v":0},0]
[53,{"$f":"'TAB-C'!B63","v":"C53"},{"$f":"'TAB-C'!D63","v":""},{"$f":"SUMIFS('RE-UI(anni)'!$F$11:$F$109,'RE-UI(anni)'!$D$11:$D$109,B63)","v":0},{"$f":"SUMIFS('RE-UI(anni)'!$G$11:$G$109,'RE-UI(anni)'!$D$11:$D$109,B63)","v":0},{"$f":"SUMIFS('RE-UI(anni)'!$H$11:$H$109,'RE-UI(anni)'!$D$11:$D$109,B63)","v":0},{"$f":"SUMIFS('RE-UI(anni)'!$I$11:$I$109,'RE-UI(anni)'!$D$11:$D$109,B63)","v":0},0]
[54,{"$f":"'TAB-C'!B64","v":"C54"},{"$f":"'TAB-C'!D64","v":""},{"$f":"SUMIFS('RE-UI(anni)'!$F$11:$F$109,'RE-UI(anni)'!$D$11:$D$109,B64)","v":0},{"$f":"SUMIFS('RE-UI(anni)'!$G$11:$G$109,'RE-UI(anni)'!$D$11:$D$109,B64)","v":0},{"$f":"SUMIFS('RE-UI(anni)'!$H$11:$H$109,'RE-UI(anni)'!$D$11:$D$109,B64)","v":0},{"$f":"SUMIFS('RE-UI(anni)'!$I$11:$I$109,'RE-UI(anni)'!$D$11:$D$109,B64)","v":0},0]
[55,{"$f":"'TAB-C'!B65","v":"C55"},{"$f":"'TAB-C'!D65","v":""},{"$f":"SUMIFS('RE-UI(anni)'!$F$11:$F$109,'RE-UI(anni)'!$D$11:$D$109,B65)","v":0},{"$f":"SUMIFS('RE-UI(anni)'!$G$11:$G$109,'RE-UI(anni)'!$D$11:$D$109,B65)","v":0},{"$f":"SUMIFS('RE-UI(anni)'!$H$11:$H$109,'RE-UI(anni)'!$D$11:$D$109,B65)","v":0},{"$f":"SUMIFS('RE-UI(anni)'!$I$11:$I$109,'RE-UI(anni)'!$D$11:$D$109,B65)","v":0},0]
[56,{"$f":"'TAB-C'!B66","v":"C56"},{"$f":"'TAB-C'!D66","v":""},{"$f":"SUMIFS('RE-UI(anni)'!$F$11:$F$109,'RE-UI(anni)'!$D$11:$D$109,B66)","v":0},{"$f":"SUMIFS('RE-UI(anni)'!$G$11:$G$109,'RE-UI(anni)'!$D$11:$D$109,B66)","v":0},{"$f":"SUMIFS('RE-UI(anni)'!$H$11:$H$109,'RE-UI(anni)'!$D$11:$D$109,B66)","v":0},{"$f":"SUMIFS('RE-UI(anni)'!$I$11:$I$109,'RE-UI(anni)'!$D$11:$D$109,B66)","v":0},0]
[57,{"$f":"'TAB-C'!B67","v":"C57"},{"$f":"'TAB-C'!D67","v":""},{"$f":"SUMIFS('RE-UI(anni)'!$F$11:$F$109,'RE-UI(anni)'!$D$11:$D$109,B67)","v":0},{"$f":"SUMIFS('RE-UI(anni)'!$G$11:$G$109,'RE-UI(anni)'!$D$11:$D$109,B67)","v":0},{"$f":"SUMIFS('RE-UI(anni)'!$H$11:$H$109,'RE-UI(anni)'!$D$11:$D$109,B67)","v":0},{"$f":"SUMIFS('RE-UI(anni)'!$I$11:$I$109,'RE-UI(anni)'!$D$11:$D$109,B67)","v":0},0]
[58,{"$f":"'TAB-C'!B68","v":"C58"},{"$f":"'TAB-C'!D68","v":""},{"$f":"SUMIFS('RE-UI(anni)'!$F$11:$F$109,'RE-UI(anni)'!$D$11:$D$109,B68)","v":0},{"$f":"SUMIFS('RE-UI(anni)'!$G$11:$G$109,'RE-UI(anni)'!$D$11:$D$109,B68)","v":0},{"$f":"SUMIFS('RE-UI(anni)'!$H$11:$H$109,'RE-UI(anni)'!$D$11:$D$109,B68)","v":0},{"$f":"SUMIFS('RE-UI(anni)'!$I$11:$I$109,'RE-UI(anni)'!$D$11:$D$109,B68)","v":0},0]
[59,{"$f":"'TAB-C'!B69","v":"C59"},{"$f":"'TAB-C'!D69","v":""},{"$f":"SUMIFS('RE-UI(anni)'!$F$11:$F$109,'RE-UI(anni)'!$D$11:$D$109,B69)","v":0},{"$f":"SUMIFS('RE-UI(anni)'!$G$11:$G$109,'RE-UI(anni)'!$D$11:$D$109,B69)","v":0},{"$f":"SUMIFS('RE-UI(anni)'!$H$11:$H$109,'RE-UI(anni)'!$D$11:$D$109,B69)","v":0},{"$f":"SUMIFS('RE-UI(anni)'!$I$11:$I$109,'RE-UI(anni)'!$D$11:$D$109,B69)","v":0},0]
[60,{"$f":"'TAB-C'!B70","v":"C60"},{"$f":"'TAB-C'!D70","v":""},{"$f":"SUMIFS('RE-UI(anni)'!$F$11:$F$109,'RE-UI(anni)'!$D$11:$D$109,B70)","v":0},{"$f":"SUMIFS('RE-UI(anni)'!$G$11:$G$109,'RE-UI(anni)'!$D$11:$D$109,B70)","v":0},{"$f":"SUMIFS('RE-UI(anni)'!$H$11:$H$109,'RE-UI(anni)'!$D$11:$D$109,B70)","v":0},{"$f":"SUMIFS('RE-UI(anni)'!$I$11:$I$109,'RE-UI(anni)'!$D$11:$D$109,B70)","v":0},0]
[61,{"$f":"'TAB-C'!B71","v":"C61"},{"$f":"'TAB-C'!D71","v":""},{"$f":"SUMIFS('RE-UI(anni)'!$F$11:$F$109,'RE-UI(anni)'!$D$11:$D$109,B71)","v":0},{"$f":"SUMIFS('RE-UI(anni)'!$G$11:$G$109,'RE-UI(anni)'!$D$11:$D$109,B71)","v":0},{"$f":"SUMIFS('RE-UI(anni)'!$H$11:$H$109,'RE-UI(anni)'!$D$11:$D$109,B71)","v":0},{"$f":"SUMIFS('RE-UI(anni)'!$I$11:$I$109,'RE-UI(anni)'!$D$11:$D$109,B71)","v":0},0]
[62,{"$f":"'TAB-C'!B72","v":"C62"},{"$f":"'TAB-C'!D72","v":""},{"$f":"SUMIFS('RE-UI(anni)'!$F$11:$F$109,'RE-UI(anni)'!$D$11:$D$109,B72)","v":0},{"$f":"SUMIFS('RE-UI(anni)'!$G$11:$G$109,'RE-UI(anni)'!$D$11:$D$109,B72)","v":0},{"$f":"SUMIFS('RE-UI(anni)'!$H$11:$H$109,'RE-UI(anni)'!$D$11:$D$109,B72)","v":0},{"$f":"SUMIFS('RE-UI(anni)'!$I$11:$I$109,'RE-UI(anni)'!$D$11:$D$109,B72)","v":0},0]
[63,{"$f":"'TAB-C'!B73","v":"C63"},{"$f":"'TAB-C'!D73","v":""},{"$f":"SUMIFS('RE-UI(anni)'!$F$11:$F$109,'RE-UI(anni)'!$D$11:$D$109,B73)","v":0},{"$f":"SUMIFS('RE-UI(anni)'!$G$11:$G$109,'RE-UI(anni)'!$D$11:$D$109,B73)","v":0},{"$f":"SUMIFS('RE-UI(anni)'!$H$11:$H$109,'RE-UI(anni)'!$D$11:$D$109,B73)","v":0},{"$f":"SUMIFS('RE-UI(anni)'!$I$11:$I$109,'RE-UI(anni)'!$D$11:$D$109,B73)","v":0},0]
[64,{"$f":"'TAB-C'!B74","v":"C64"},{"$f":"'TAB-C'!D74","v":""},{"$f":"SUMIFS('RE-UI(anni)'!$F$11:$F$109,'RE-UI(anni)'!$D$11:$D$109,B74)","v":0},{"$f":"SUMIFS('RE-UI(anni)'!$G$11:$G$109,'RE-UI(anni)'!$D$11:$D$109,B74)","v":0},{"$f":"SUMIFS('RE-UI(anni)'!$H$11:$H$109,'RE-UI(anni)'!$D$11:$D$109,B74)","v":0},{"$f":"SUMIFS('RE-UI(anni)'!$I$11:$I$109,'RE-UI(anni)'!$D$11:$D$109,B74)","v":0},0]
[65,{"$f":"'TAB-C'!B75","v":"C65"},{"$f":"'TAB-C'!D75","v":""},{"$f":"SUMIFS('RE-UI(anni)'!$F$11:$F$109,'RE-UI(anni)'!$D$11:$D$109,B75)","v":0},{"$f":"SUMIFS('RE-UI(anni)'!$G$11:$G$109,'RE-UI(anni)'!$D$11:$D$109,B75)","v":0},{"$f":"SUMIFS('RE-UI(anni)'!$H$11:$H$109,'RE-UI(anni)'!$D$11:$D$109,B75)","v":0},{"$f":"SUMIFS('RE-UI(anni)'!$I$11:$I$109,'RE-UI(anni)'!$D$11:$D$109,B75)","v":0},{"$f":"SUM(D75:G75)","v":0}]
[66,{"$f":"'TAB-C'!B76","v":"C66"},{"$f":"'TAB-C'!D76","v":""},{"$f":"SUMIFS('RE-UI(anni)'!$F$11:$F$109,'RE-UI(anni)'!$D$11:$D$109,B76)","v":0},{"$f":"SUMIFS('RE-UI(anni)'!$G$11:$G$109,'RE-UI(anni)'!$D$11:$D$109,B76)","v":0},{"$f":"SUMIFS('RE-UI(anni)'!$H$11:$H$109,'RE-UI(anni)'!$D$11:$D$109,B76)","v":0},{"$f":"SUMIFS('RE-UI(anni)'!$I$11:$I$109,'RE-UI(anni)'!$D$11:$D$109,B76)","v":0},0]
[67,{"$f":"'TAB-C'!B77","v":"C67"},{"$f":"'TAB-C'!D77","v":""},{"$f":"SUMIFS('RE-UI(anni)'!$F$11:$F$109,'RE-UI(anni)'!$D$11:$D$109,B77)","v":0},{"$f":"SUMIFS('RE-UI(anni)'!$G$11:$G$109,'RE-UI(anni)'!$D$11:$D$109,B77)","v":0},{"$f":"SUMIFS('RE-UI(anni)'!$H$11:$H$109,'RE-UI(anni)'!$D$11:$D$109,B77)","v":0},{"$f":"SUMIFS('RE-UI(anni)'!$I$11:$I$109,'RE-UI(anni)'!$D$11:$D$109,B77)","v":0},0]
[68,{"$f":"'TAB-C'!B78","v":"C68"},{"$f":"'TAB-C'!D78","v":""},{"$f":"SUMIFS('RE-UI(anni)'!$F$11:$F$109,'RE-UI(anni)'!$D$11:$D$109,B78)","v":0},{"$f":"SUMIFS('RE-UI(anni)'!$G$11:$G$109,'RE-UI(anni)'!$D$11:$D$109,B78)","v":0},{"$f":"SUMIFS('RE-UI(anni)'!$H$11:$H$109,'RE-UI(anni)'!$D$11:$D$109,B78)","v":0},{"$f":"SUMIFS('RE-UI(anni)'!$I$11:$I$109,'RE-UI(anni)'!$D$11:$D$109,B78)","v":0},0]
[69,{"$f":"'TAB-C'!B79","v":"C69"},{"$f":"'TAB-C'!D79","v":""},{"$f":"SUMIFS('RE-UI(anni)'!$F$11:$F$109,'RE-UI(anni)'!$D$11:$D$109,B79)","v":0},{"$f":"SUMIFS('RE-UI(anni)'!$G$11:$G$109,'RE-UI(anni)'!$D$11:$D$109,B79)","v":0},{"$f":"SUMIFS('RE-UI(anni)'!$H$11:$H$109,'RE-UI(anni)'!$D$11:$D$109,B79)","v":0},{"$f":"SUMIFS('RE-UI(anni)'!$I$11:$I$109,'RE-UI(anni)'!$D$11:$D$109,B79)","v":0},0]
[70,{"$f":"'TAB-C'!B80","v":"C70"},{"$f":"'TAB-C'!D80","v":""},{"$f":"SUMIFS('RE-UI(anni)'!$F$11:$F$109,'RE-UI(anni)'!$D$11:$D$109,B80)","v":0},{"$f":"SUMIFS('RE-UI(anni)'!$G$11:$G$109,'RE-UI(anni)'!$D$11:$D$109,B80)","v":0},{"$f":"SUMIFS('RE-UI(anni)'!$H$11:$H$109,'RE-UI(anni)'!$D$11:$D$109,B80)","v":0},{"$f":"SUMIFS('RE-UI(anni)'!$I$11:$I$109,'RE-UI(anni)'!$D$11:$D$109,B80)","v":0},0]
[71,{"$f":"'TAB-C'!B81","v":"C71"},{"$f":"'TAB-C'!D81","v":""},{"$f":"SUMIFS('RE-UI(anni)'!$F$11:$F$109,'RE-UI(anni)'!$D$11:$D$109,B81)","v":0},{"$f":"SUMIFS('RE-UI(anni)'!$G$11:$G$109,'RE-UI(anni)'!$D$11:$D$109,B81)","v":0},{"$f":"SUMIFS('RE-UI(anni)'!$H$11:$H$109,'RE-UI(anni)'!$D$11:$D$109,B81)","v":0},{"$f":"SUMIFS('RE-UI(anni)'!$I$11:$I$109,'RE-UI(anni)'!$D$11:$D$109,B81)","v":0},0]
[72,{"$f":"'TAB-C'!B82","v":"C72"},{"$f":"'TAB-C'!D82","v":""},{"$f":"SUMIFS('RE-UI(anni)'!$F$11:$F$109,'RE-UI(anni)'!$D$11:$D$109,B82)","v":0},{"$f":"SUMIFS('RE-UI(anni)'!$G$11:$G$109,'RE-UI(anni)'!$D$11:$D$109,B82)","v":0},{"$f":"SUMIFS('RE-UI(anni)'!$H$11:$H$109,'RE-UI(anni)'!$D$11:$D$109,B82)","v":0},{"$f":"SUMIFS('RE-UI(anni)'!$I$11:$I$109,'RE-UI(anni)'!$D$11:$D$109,B82)","v":0},0]
[73,{"$f":"'TAB-C'!B83","v":"C73"},{"$f":"'TAB-C'!D83","v":""},{"$f":"SUMIFS('RE-UI(anni)'!$F$11:$F$109,'RE-UI(anni)'!$D$11:$D$109,B83)","v":0},{"$f":"SUMIFS('RE-UI(anni)'!$G$11:$G$109,'RE-UI(anni)'!$D$11:$D$109,B83)","v":0},{"$f":"SUMIFS('RE-UI(anni)'!$H$11:$H$109,'RE-UI(anni)'!$D$11:$D$109,B83)","v":0},{"$f":"SUMIFS('RE-UI(anni)'!$I$11:$I$109,'RE-UI(anni)'!$D$11:$D$109,B83)","v":0},0]
[74,{"$f":"'TAB-C'!B84","v":"C74"},{"$f":"'TAB-C'!D84","v":""},{"$f":"SUMIFS('RE-UI(anni)'!$F$11:$F$109,'RE-UI(anni)'!$D$11:$D$109,B84)","v":0},{"$f":"SUMIFS('RE-UI(anni)'!$G$11:$G$109,'RE-UI(anni)'!$D$11:$D$109,B84)","v":0},{"$f":"SUMIFS('RE-UI(anni)'!$H$11:$H$109,'RE-UI(anni)'!$D$11:$D$109,B84)","v":0},{"$f":"SUMIFS('RE-UI(anni)'!$I$11:$I$109,'RE-UI(anni)'!$D$11:$D$109,B84)","v":0},0]
[75,{"$f":"'TAB-C'!B85","v":"C75"},{"$f":"'TAB-C'!D85","v":""},{"$f":"SUMIFS('RE-UI(anni)'!$F$11:$F$109,'RE-UI(anni)'!$D$11:$D$109,B85)","v":0},{"$f":"SUMIFS('RE-UI(anni)'!$G$11:$G$109,'RE-UI(anni)'!$D$11:$D$109,B85)","v":0},{"$f":"SUMIFS('RE-UI(anni)'!$H$11:$H$109,'RE-UI(anni)'!$D$11:$D$109,B85)","v":0},{"$f":"SUMIFS('RE-UI(anni)'!$I$11:$I$109,'RE-UI(anni)'!$D$11:$D$109,B85)","v":0},0]
[76,{"$f":"'TAB-C'!B86","v":"C76"},{"$f":"'TAB-C'!D86","v":""},{"$f":"SUMIFS('RE-UI(anni)'!$F$11:$F$109,'RE-UI(anni)'!$D$11:$D$109,B86)","v":0},{"$f":"SUMIFS('RE-UI(anni)'!$G$11:$G$109,'RE-UI(anni)'!$D$11:$D$109,B86)","v":0},{"$f":"SUMIFS('RE-UI(anni)'!$H$11:$H$109,'RE-UI(anni)'!$D$11:$D$109,B86)","v":0},{"$f":"SUMIFS('RE-UI(anni)'!$I$11:$I$109,'RE-UI(anni)'!$D$11:$D$109,B86)","v":0},0]
[77,{"$f":"'TAB-C'!B87","v":"C77"},{"$f":"'TAB-C'!D87","v":""},{"$f":"SUMIFS('RE-UI(anni)'!$F$11:$F$109,'RE-UI(anni)'!$D$11:$D$109,B87)","v":0},{"$f":"SUMIFS('RE-UI(anni)'!$G$11:$G$109,'RE-UI(anni)'!$D$11:$D$109,B87)","v":0},{"$f":"SUMIFS('RE-UI(anni)'!$H$11:$H$109,'RE-UI(anni)'!$D$11:$D$109,B87)","v":0},{"$f":"SUMIFS('RE-UI(anni)'!$I$11:$I$109,'RE-UI(anni)'!$D$11:$D$109,B87)","v":0},0]
[78,{"$f":"'TAB-C'!B88","v":"C78"},{"$f":"'TAB-C'!D88","v":""},{"$f":"SUMIFS('RE-UI(anni)'!$F$11:$F$109,'RE-UI(anni)'!$D$11:$D$109,B88)","v":0},{"$f":"SUMIFS('RE-UI(anni)'!$G$11:$G$109,'RE-UI(anni)'!$D$11:$D$109,B88)","v":0},{"$f":"SUMIFS('RE-UI(anni)'!$H$11:$H$109,'RE-UI(anni)'!$D$11:$D$109,B88)","v":0},{"$f":"SUMIFS('RE-UI(anni)'!$I$11:$I$109,'RE-UI(anni)'!$D$11:$D$109,B88)","v":0},0]
[79,{"$f":"'TAB-C'!B89","v":"C79"},{"$f":"'TAB-C'!D89","v":""},{"$f":"SUMIFS('RE-UI(anni)'!$F$11:$F$109,'RE-UI(anni)'!$D$11:$D$109,B89)","v":0},{"$f":"SUMIFS('RE-UI(anni)'!$G$11:$G$109,'RE-UI(anni)'!$D$11:$D$109,B89)","v":0},{"$f":"SUMIFS('RE-UI(anni)'!$H$11:$H$109,'RE-UI(anni)'!$D$11:$D$109,B89)","v":0},{"$f":"SUMIFS('RE-UI(anni)'!$I$11:$I$109,'RE-UI(anni)'!$D$11:$D$109,B89)","v":0},0]
[80,{"$f":"'TAB-C'!B90","v":"C80"},{"$f":"'TAB-C'!D90","v":""},{"$f":"SUMIFS('RE-UI(anni)'!$F$11:$F$109,'RE-UI(anni)'!$D$11:$D$109,B90)","v":0},{"$f":"SUMIFS('RE-UI(anni)'!$G$11:$G$109,'RE-UI(anni)'!$D$11:$D$109,B90)","v":0},{"$f":"SUMIFS('RE-UI(anni)'!$H$11:$H$109,'RE-UI(anni)'!$D$11:$D$109,B90)","v":0},{"$f":"SUMIFS('RE-UI(anni)'!$I$11:$I$109,'RE-UI(anni)'!$D$11:$D$109,B90)","v":0},0]
[81,{"$f":"'TAB-C'!B91","v":"C81"},{"$f":"'TAB-C'!D91","v":""},{"$f":"SUMIFS('RE-UI(anni)'!$F$11:$F$109,'RE-UI(anni)'!$D$11:$D$109,B91)","v":0},{"$f":"SUMIFS('RE-UI(anni)'!$G$11:$G$109,'RE-UI(anni)'!$D$11:$D$109,B91)","v":0},{"$f":"SUMIFS('RE-UI(anni)'!$H$11:$H$109,'RE-UI(anni)'!$D$11:$D$109,B91)","v":0},{"$f":"SUMIFS('RE-UI(anni)'!$I$11:$I$109,'RE-UI(anni)'!$D$11:$D$109,B91)","v":0},0]
[82,{"$f":"'TAB-C'!B92","v":"C82"},{"$f":"'TAB-C'!D92","v":""},{"$f":"SUMIFS('RE-UI(anni)'!$F$11:$F$109,'RE-UI(anni)'!$D$11:$D$109,B92)","v":0},{"$f":"SUMIFS('RE-UI(anni)'!$G$11:$G$109,'RE-UI(anni)'!$D$11:$D$109,B92)","v":0},{"$f":"SUMIFS('RE-UI(anni)'!$H$11:$H$109,'RE-UI(anni)'!$D$11:$D$109,B92)","v":0},{"$f":"SUMIFS('RE-UI(anni)'!$I$11:$I$109,'RE-UI(anni)'!$D$11:$D$109,B92)","v":0},0]
[83,{"$f":"'TAB-C'!B93","v":"C83"},{"$f":"'TAB-C'!D93","v":""},{"$f":"SUMIFS('RE-UI(anni)'!$F$11:$F$109,'RE-UI(anni)'!$D$11:$D$109,B93)","v":0},{"$f":"SUMIFS('RE-UI(anni)'!$G$11:$G$109,'RE-UI(anni)'!$D$11:$D$109,B93)","v":0},{"$f":"SUMIFS('RE-UI(anni)'!$H$11:$H$109,'RE-UI(anni)'!$D$11:$D$109,B93)","v":0},{"$f":"SUMIFS('RE-UI(anni)'!$I$11:$I$109,'RE-UI(anni)'!$D$11:$D$109,B93)","v":0},0]
[84,{"$f":"'TAB-C'!B94","v":"C84"},{"$f":"'TAB-C'!D94","v":""},{"$f":"SUMIFS('RE-UI(anni)'!$F$11:$F$109,'RE-UI(anni)'!$D$11:$D$109,B94)","v":0},{"$f":"SUMIFS('RE-UI(anni)'!$G$11:$G$109,'RE-UI(anni)'!$D$11:$D$109,B94)","v":0},{"$f":"SUMIFS('RE-UI(anni)'!$H$11:$H$109,'RE-UI(anni)'!$D$11:$D$109,B94)","v":0},{"$f":"SUMIFS('RE-UI(anni)'!$I$11:$I$109,'RE-UI(anni)'!$D$11:$D$109,B94)","v":0},0]
[85,{"$f":"'TAB-C'!B95","v":"C85"},{"$f":"'TAB-C'!D95","v":""},{"$f":"SUMIFS('RE-UI(anni)'!$F$11:$F$109,'RE-UI(anni)'!$D$11:$D$109,B95)","v":0},{"$f":"SUMIFS('RE-UI(anni)'!$G$11:$G$109,'RE-UI(anni)'!$D$11:$D$109,B95)","v":0},{"$f":"SUMIFS('RE-UI(anni)'!$H$11:$H$109,'RE-UI(anni)'!$D$11:$D$109,B95)","v":0},{"$f":"SUMIFS('RE-UI(anni)'!$I$11:$I$109,'RE-UI(anni)'!$D$11:$D$109,B95)","v":0},0]
[86,{"$f":"'TAB-C'!B96","v":"C86"},{"$f":"'TAB-C'!D96","v":""},{"$f":"SUMIFS('RE-UI(anni)'!$F$11:$F$109,'RE-UI(anni)'!$D$11:$D$109,B96)","v":0},{"$f":"SUMIFS('RE-UI(anni)'!$G$11:$G$109,'RE-UI(anni)'!$D$11:$D$109,B96)","v":0},{"$f":"SUMIFS('RE-UI(anni)'!$H$11:$H$109,'RE-UI(anni)'!$D$11:$D$109,B96)","v":0},{"$f":"SUMIFS('RE-UI(anni)'!$I$11:$I$109,'RE-UI(anni)'!$D$11:$D$109,B96)","v":0},0]
[87,{"$f":"'TAB-C'!B97","v":"C87"},{"$f":"'TAB-C'!D97","v":""},{"$f":"SUMIFS('RE-UI(anni)'!$F$11:$F$109,'RE-UI(anni)'!$D$11:$D$109,B97)","v":0},{"$f":"SUMIFS('RE-UI(anni)'!$G$11:$G$109,'RE-UI(anni)'!$D$11:$D$109,B97)","v":0},{"$f":"SUMIFS('RE-UI(anni)'!$H$11:$H$109,'RE-UI(anni)'!$D$11:$D$109,B97)","v":0},{"$f":"SUMIFS('RE-UI(anni)'!$I$11:$I$109,'RE-UI(anni)'!$D$11:$D$109,B97)","v":0},0]
[88,{"$f":"'TAB-C'!B98","v":"C88"},{"$f":"'TAB-C'!D98","v":""},{"$f":"SUMIFS('RE-UI(anni)'!$F$11:$F$109,'RE-UI(anni)'!$D$11:$D$109,B98)","v":0},{"$f":"SUMIFS('RE-UI(anni)'!$G$11:$G$109,'RE-UI(anni)'!$D$11:$D$109,B98)","v":0},{"$f":"SUMIFS('RE-UI(anni)'!$H$11:$H$109,'RE-UI(anni)'!$D$11:$D$109,B98)","v":0},{"$f":"SUMIFS('RE-UI(anni)'!$I$11:$I$109,'RE-UI(anni)'!$D$11:$D$109,B98)","v":0},0]
[89,{"$f":"'TAB-C'!B99","v":"C89"},{"$f":"'TAB-C'!D99","v":""},{"$f":"SUMIFS('RE-UI(anni)'!$F$11:$F$109,'RE-UI(anni)'!$D$11:$D$109,B99)","v":0},{"$f":"SUMIFS('RE-UI(anni)'!$G$11:$G$109,'RE-UI(anni)'!$D$11:$D$109,B99)","v":0},{"$f":"SUMIFS('RE-UI(anni)'!$H$11:$H$109,'RE-UI(anni)'!$D$11:$D$109,B99)","v":0},{"$f":"SUMIFS('RE-UI(anni)'!$I$11:$I$109,'RE-UI(anni)'!$D$11:$D$109,B99)","v":0},0]
[90,{"$f":"'TAB-C'!B100","v":"C90"},{"$f":"'TAB-C'!D100","v":""},{"$f":"SUMIFS('RE-UI(anni)'!$F$11:$F$109,'RE-UI(anni)'!$D$11:$D$109,B100)","v":0},{"$f":"SUMIFS('RE-UI(anni)'!$G$11:$G$109,'RE-UI(anni)'!$D$11:$D$109,B100)","v":0},{"$f":"SUMIFS('RE-UI(anni)'!$H$11:$H$109,'RE-UI(anni)'!$D$11:$D$109,B100)","v":0},{"$f":"SUMIFS('RE-UI(anni)'!$I$11:$I$109,'RE-UI(anni)'!$D$11:$D$109,B100)","v":0},0]
[91,{"$f":"'TAB-C'!B101","v":"C91"},{"$f":"'TAB-C'!D101","v":""},{"$f":"SUMIFS('RE-UI(anni)'!$F$11:$F$109,'RE-UI(anni)'!$D$11:$D$109,B101)","v":0},{"$f":"SUMIFS('RE-UI(anni)'!$G$11:$G$109,'RE-UI(anni)'!$D$11:$D$109,B101)","v":0},{"$f":"SUMIFS('RE-UI(anni)'!$H$11:$H$109,'RE-UI(anni)'!$D$11:$D$109,B101)","v":0},{"$f":"SUMIFS('RE-UI(anni)'!$I$11:$I$109,'RE-UI(anni)'!$D$11:$D$109,B101)","v":0},0]
[92,{"$f":"'TAB-C'!B102","v":"C92"},{"$f":"'TAB-C'!D102","v":""},{"$f":"SUMIFS('RE-UI(anni)'!$F$11:$F$109,'RE-UI(anni)'!$D$11:$D$109,B102)","v":0},{"$f":"SUMIFS('RE-UI(anni)'!$G$11:$G$109,'RE-UI(anni)'!$D$11:$D$109,B102)","v":0},{"$f":"SUMIFS('RE-UI(anni)'!$H$11:$H$109,'RE-UI(anni)'!$D$11:$D$109,B102)","v":0},{"$f":"SUMIFS('RE-UI(anni)'!$I$11:$I$109,'RE-UI(anni)'!$D$11:$D$109,B102)","v":0},0]
[93,{"$f":"'TAB-C'!B103","v":"C93"},{"$f":"'TAB-C'!D103","v":""},{"$f":"SUMIFS('RE-UI(anni)'!$F$11:$F$109,'RE-UI(anni)'!$D$11:$D$109,B103)","v":0},{"$f":"SUMIFS('RE-UI(anni)'!$G$11:$G$109,'RE-UI(anni)'!$D$11:$D$109,B103)","v":0},{"$f":"SUMIFS('RE-UI(anni)'!$H$11:$H$109,'RE-UI(anni)'!$D$11:$D$109,B103)","v":0},{"$f":"SUMIFS('RE-UI(anni)'!$I$11:$I$109,'RE-UI(anni)'!$D$11:$D$109,B103)","v":0},0]
[94,{"$f":"'TAB-C'!B104","v":"C94"},{"$f":"'TAB-C'!D104","v":""},{"$f":"SUMIFS('RE-UI(anni)'!$F$11:$F$109,'RE-UI(anni)'!$D$11:$D$109,B104)","v":0},{"$f":"SUMIFS('RE-UI(anni)'!$G$11:$G$109,'RE-UI(anni)'!$D$11:$D$109,B104)","v":0},{"$f":"SUMIFS('RE-UI(anni)'!$H$11:$H$109,'RE-UI(anni)'!$D$11:$D$109,B104)","v":0},{"$f":"SUMIFS('RE-UI(anni)'!$I$11:$I$109,'RE-UI(anni)'!$D$11:$D$109,B104)","v":0},0]
[95,{"$f":"'TAB-C'!B105","v":"C95"},{"$f":"'TAB-C'!D105","v":""},{"$f":"SUMIFS('RE-UI(anni)'!$F$11:$F$109,'RE-UI(anni)'!$D$11:$D$109,B105)","v":0},{"$f":"SUMIFS('RE-UI(anni)'!$G$11:$G$109,'RE-UI(anni)'!$D$11:$D$109,B105)","v":0},{"$f":"SUMIFS('RE-UI(anni)'!$H$11:$H$109,'RE-UI(anni)'!$D$11:$D$109,B105)","v":0},{"$f":"SUMIFS('RE-UI(anni)'!$I$11:$I$109,'RE-UI(anni)'!$D$11:$D$109,B105)","v":0},0]
[96,{"$f":"'TAB-C'!B106","v":"C96"},{"$f":"'TAB-C'!D106","v":""},{"$f":"SUMIFS('RE-UI(anni)'!$F$11:$F$109,'RE-UI(anni)'!$D$11:$D$109,B106)","v":0},{"$f":"SUMIFS('RE-UI(anni)'!$G$11:$G$109,'RE-UI(anni)'!$D$11:$D$109,B106)","v":0},{"$f":"SUMIFS('RE-UI(anni)'!$H$11:$H$109,'RE-UI(anni)'!$D$11:$D$109,B106)","v":0},{"$f":"SUMIFS('RE-UI(anni)'!$I$11:$I$109,'RE-UI(anni)'!$D$11:$D$109,B106)","v":0},0]
[97,{"$f":"'TAB-C'!B107","v":"C97"},{"$f":"'TAB-C'!D107","v":""},{"$f":"SUMIFS('RE-UI(anni)'!$F$11:$F$109,'RE-UI(anni)'!$D$11:$D$109,B107)","v":0},{"$f":"SUMIFS('RE-UI(anni)'!$G$11:$G$109,'RE-UI(anni)'!$D$11:$D$109,B107)","v":0},{"$f":"SUMIFS('RE-UI(anni)'!$H$11:$H$109,'RE-UI(anni)'!$D$11:$D$109,B107)","v":0},{"$f":"SUMIFS('RE-UI(anni)'!$I$11:$I$109,'RE-UI(anni)'!$D$11:$D$109,B107)","v":0},{"$f":"SUM(D107:G107)","v":0}]
[98,{"$f":"'TAB-C'!B108","v":"C98"},{"$f":"'TAB-C'!D108","v":""},{"$f":"SUMIFS('RE-UI(anni)'!$F$11:$F$109,'RE-UI(anni)'!$D$11:$D$109,B108)","v":0},{"$f":"SUMIFS('RE-UI(anni)'!$G$11:$G$109,'RE-UI(anni)'!$D$11:$D$109,B108)","v":0},{"$f":"SUMIFS('RE-UI(anni)'!$H$11:$H$109,'RE-UI(anni)'!$D$11:$D$109,B108)","v":0},{"$f":"SUMIFS('RE-UI(anni)'!$I$11:$I$109,'RE-UI(anni)'!$D$11:$D$109,B108)","v":0},{"$f":"SUM(D108:G108)","v":0}]
[99,{"$f":"'TAB-C'!B109","v":"C99"},{"$f":"'TAB-C'!D109","v":""},{"$f":"SUMIFS('RE-UI(anni)'!$F$11:$F$109,'RE-UI(anni)'!$D$11:$D$109,B109)","v":0},{"$f":"SUMIFS('RE-UI(anni)'!$G$11:$G$109,'RE-UI(anni)'!$D$11:$D$109,B109)","v":0},{"$f":"SUMIFS('RE-UI(anni)'!$H$11:$H$109,'RE-UI(anni)'!$D$11:$D$109,B109)","v":0},{"$f":"SUMIFS('RE-UI(anni)'!$I$11:$I$109,'RE-UI(anni)'!$D$11:$D$109,B109)","v":0},{"$f":"SUM(D109:G109)","v":0}]
[null,null,"TOTALI",{"$f":"SUM(D11:D109)","v":499.99999999999994},{"$f":"SUM(E11:E109)","v":2650},{"$f":"SUM(F11:F109)","v":4420},{"$f":"SUM(G11:G109)","v":0},{"$f":"SUM(H11:H109)","v":7570.0000000000009}]
[null,null,"controllo uscite",{"$f":"SUM(D110:G110)","v":7570}]

{"sheet":"ESEMPI_RC","index":36,"n_rows":43,"n_cols":15,"rows_kept":43,"cut":false,"hidden":true,"merged":[[12,13,12,16],[0,0,0,12],[1,0,2,0],[1,1,3,2],[1,4,3,4],[1,5,2,7],[1,8,2,10],[1,11,2,12],[5,4,5,12],[6,4,6,12],[7,4,7,12],[9,13,9,16],[11,13,11,16],[26,13,26,16],[28,4,28,12],[29,13,29,16],[30,13,30,16],[13,4,13,12],[15,13,15,16],[16,4,16,12],[18,13,18,16],[19,4,19,12],[22,3,22,12],[31,4,31,12],[35,4,35,12],[36,4,36,12],[39,4,39,12],[23,4,23,12],[25,4,25,12]]}
["GUIDA ED ESEMPI DI REGISTRAZIONI CONTABILI"]
["Reg.","data",null,null,"DESCRIZIONE OPERAZIONE","CASSA",null,null,"CONTO CORRENTE",null,null,"MOVIMENTO"]
[]
["n°",null,null,null,null,"ENTRATE","USCITE","SALDO","ENTRATE","USCITE","SALDO","CONTO","IMPOR."]
[null,"g","m","a"," TOTALI",null,null,null,null,null,null,null,null,null,"  indica valori alternativi o per cassa o per conto"]
["e",null,null,null,"=========== SCRITTURE IN CORSO DI ESERCIZIO ====================="]
[null,null,null,null,"ENTRATE"]
[null,null,null,null,"INCASSO DA CONDOMINI"]
[null,null,null,null,"INCASSO IN CONTANTE - ASSEGNO - BONIFICO",null,null,null,null,null,null,null,{"$f":"IF(L9<>\"\",F9+G9+I9+J9,\"\")","v":""}]
[null,null,null,null,"NOMECONDOMINO - ric zz/20XX - @versamento in [contanti - assegno - bonifico] ",1,null,null,1,null,null,"Q.01.nc",1]
[null,null,null,null,"INCASSO CON BOLLETTINO POSTALE",null,null,null,null,null,null,null,{"$f":"IF(L11<>\"\",F11+G11+I11+J11,\"\")","v":""}]
[null,null,null,null,"NOMECONDOMINO - @versamento con bollettino c.c.p.",null,null,null,1,null,null,"Q.01.nc",1]
[null,null,null,null,"la spesa personale commissione accredito bollettino va messa in gestione ordinaria, mentre l'importo del bollettina è scritto depurato della commissione di incasso."]
[null,null,null,null,"INCASSO DA ALTRE ENTRATE"]
[null,null,null,null,"INCASSO SU CASSA o CONTO CORRENTE"]
[null,null,null,null,"descrizione dell'operazione",1,null,null,1,null,null,"E.01.nv",1]
[null,null,null,null,"ABBUONI SU PAGAMENTI DA EFFETTUARE"]
[null,null,null,null,"Diminuire la spesa oggetto di abbuono"]
[null,null,null,null,"descrizione dell'operazione",null,null,null,null,null,null,"S.cc.nv",-1]
[null,null,null,null,"INCASSO PRESTITO DA TERZI\n(nel versamento di quote in eccesso rispetto al preventivo da parte di un condomino, il condomino è da considerare terzo)"]
[null,null,null,null,"INCASSO SU CASSA o CONTO CORRENTE"]
[null,null,null,null,"descrizione dell'operazione",1,null,null,1,null,null,"D.02.04.EC",1]
[null,null,null,"USCITE"]
[null,null,null,null,"PAGAMENTO SPESA GENERICA SU SCONTRINO, RICEVUTA NON FISCALE o FATTURA DA FORNITORE DA NON INSERIRE NEL 770"]
[null,null,null,null,"descrizione dell'operazione",null,1,null,null,1,null,"S.kk.zz",1]
[null,null,null,null,"PAGAMENTO CONTESTUALE A RICEZIONE FATTURA o RICEVUTA "]
[null,null,null,null,"Ricevuta e Pagata fattura n. xxx di WWWWWWW QQQQQQ  (Importo Totale di fattura 110 = 100 imponibile e 10  IVA)",null,null,null,null,null,null,"S.kk.zz",110]
[null,null,null,null,"tramite bonifico bancario (importo pari al Totale meno la ritenuta d'acconto = 110-4)",null,null,null,null,110]
[null,null,null,null,"SOLO RICEZIONE FATTURA o RICEVUTA FORNITORE [ senza contestuale pagamento della stessa]"]
[null,null,null,null,"Ricevuta fattura n. xxx da WWWWWWW QQQQQQ (Importo Totale di fattura 110 = 100 imponibile e 10  IVA)",null,null,null,null,null,null,"S.kk.zz",110]
[null,null,null,null,"Debito verso fornitore WWWWWWW QQQQQQ (Importo Totale di fattura 110 = 100 imponibile e 10  IVA)",null,null,null,null,null,null,"D.02.nv",110]
[null,null,null,null,"PAGAMENTO FATTURA o RICEVUTA FORNITORE [già inserita in contabilità]"]
[null,null,null,null,"Pagata fattura n. xxx di WWWWWWW QQQQQQ (Importo Totale = 110 = 100 imponibile e 10  IVA)"]
[null,null,null,null,"con assegno c.c. postale n. 00000  intestato a WWWWW o tramite bonifico bancario, [importo pari al Totale meno la ritenuta d'acconto (= 110-4)]",null,null,null,null,106]
[null,null,null,null,"annullamento debito verso fornitore WWWWWWW QQQQQQ (pari al totale)",null,null,null,null,null,null,"D.02.nv",-110]
[null,null,null,null,"SPOSTAMENTI DI LIQUIDITÀ"]
[null,null,null,null,"SPOSTAMENTO DI LIQUIDITÀ FRA CASSA E CONTO (per somme di sola gestione ordinaria)"]
[null,null,null,null,"Movimento fra conti numerari: da cassa a banca ([contante] [assegni] [bonifico amministratore])",null,1,null,1]
[null,null,null,null,"Movimento fra conti numerari: da banca a cassa ([prelievo POSTAMAT] [assegno] [contante])",1,null,null,null,1]
[null,null,null,null,"SPOSTAMENTO DI LIQUIDITÀ FRA CASSA E CONTO (per somme comprendenti anche quote di fondi)"]
[null,null,null,null,"Movimento fra conti numerari (gestione FONDI): da cassa a banca ([contante] [assegni])",null,1,null,1]
[null,null,null,null,"Aumento della quota del Fondo nf sul conto bancario",null,null,null,null,null,null,"F.nf.02",1]
[null,null,null,null,"Conseguente diminuzione sulla cassa contante della quota del FONDO nf",null,null,null,null,null,null,"F.nf.01",-1]

{"sheet":"GIORNALE","index":37,"n_rows":1112,"n_cols":18,"rows_kept":1112,"cut":false,"hidden":true,"merged":[[3,0,3,13],[4,0,4,13],[5,0,5,13],[7,1,8,2],[7,4,8,4],[7,5,7,7],[7,8,7,10],[7,11,7,12],[7,13,8,13]]}
["!!! Non variare il contenuto delle celle delle prime dieci righe.",null,null,null,null,null,null,null,null,null,null,null,null,null,0]
[]
[]
["Non inserire mai dati nelle celle delle colonne dei saldi H e K, in quanto contengono delle formule.\n Se in una cella delle predette colonne compare una segnalazione di errore oppure manca del tutto il valore, occorre copiare in essa la sola formula della cella sovrastante."]
["Le celle di colonna M contengono solitamente la formula più comune per associare l'importo al conto movimentato. In alcuni casi, specie quando l'importo non corrisponde ad una entrata o uscita immessa sulla stessa riga, la formula non è applicabile in modo automatico per cui occorre variarla o scrivere direttamente l'importo.  Nelle successive righe inserite, la formula originaria può essere riscritta copiandola dalla cella M10. ",null,null,null,null,null,null,null,null,null,null,null,null,null,null,null,"Colcolo di controllo\nsui singoli conti"]
["Le formule delle colonne H e K mostano i saldi solo quando nella colonna A viene posto un dato qualsiasi.",null,null,null,null,null,null,null,null,null,null,null,null,null,null,null,"Conto","Importo"]
[{"$f":"\"REGISTRO DELLE OPERAZIONI CONTABILI - \" & DATIG!A37","v":"REGISTRO DELLE OPERAZIONI CONTABILI - LAVORO-01"},null,null,null,null,null,null,null,null,null,null,null,null,null,null,null,"D.03.03.EC",{"$f":"SUMIFS(M72:M464,L72:L464,Q7)","v":0}]
["Reg.","Data",null,null,"DESCRIZIONE OPERAZIONE","CASSA",null,null,"CONTO CORRENTE",null,null,"MOVIMENTO",null,"Pezza\ngiustificativa "]
["n°",null,null,null,null,"ENTRATE","USCITE","SALDO","ENTRATE","USCITE","SALDO","CONTO","IMPOR."]
[{"$f":"COUNTA(A11:A1049)","v":78},"g","m","a"," TOTALI",{"$f":"ROUND(SUM(F11:F1110),2)","v":5901.95},{"$f":"SUM(G11:G1110)","v":5889.3},{"$f":"F10-G10","v":12.649999999999636},{"$f":"ROUND(SUM(I11:I1110),2)","v":8157.3},{"$f":"SUM(J11:J1110)","v":7220},{"$f":"I10-J10","v":937.30000000000018},null,{"$f":"IF(L10<>\"\",F10+G10+I10+J10,\"\")","v":""},"n°"]
[1,18,1,2017,"Apertura Fondo lavori",null,null,0,null,null,0]
[2,7,1,2017,"Condomino19 - ric  12 @Vers.  contanti in conto quota Lavori",135,null,{"$f":"IF(A12<>\"\",IF(INDIRECT(ADDRESS(ROW()-1,8))=\"\",SUM(INDIRECT(ADDRESS(ROW()-2,8)),F12,-G12),SUM(INDIRECT(ADDRESS(ROW()-1,8)),F12,-G12)),\"\")","v":135},null,null,{"$f":"IF(A12<>\"\",IF(INDIRECT(ADDRESS(ROW()-1,11))=\"\",SUM(INDIRECT(ADDRESS(ROW()-2,11)),I12,-J12),SUM(INDIRECT(ADDRESS(ROW()-1,11)),I12,-J12)),\"\")","v":0},"Q.19.19",{"$f":"F12","v":135}]
[3,14,1,2017,"Condomino09 - ric 13 - @Versamento in contanti in conto quota Lavori",102,null,{"$f":"IF(A13<>\"\",IF(INDIRECT(ADDRESS(ROW()-1,8))=\"\",SUM(INDIRECT(ADDRESS(ROW()-2,8)),F13,-G13),SUM(INDIRECT(ADDRESS(ROW()-1,8)),F13,-G13)),\"\")","v":237},null,null,{"$f":"IF(A13<>\"\",IF(INDIRECT(ADDRESS(ROW()-1,11))=\"\",SUM(INDIRECT(ADDRESS(ROW()-2,11)),I13,-J13),SUM(INDIRECT(ADDRESS(ROW()-1,11)),I13,-J13)),\"\")","v":0},"Q.09.09",{"$f":"F13","v":102}]
[4,15,1,2017,"Movimento fra conti numerari: da cassa a banca (contante)",null,200,{"$f":"IF(A14<>\"\",IF(INDIRECT(ADDRESS(ROW()-1,8))=\"\",SUM(INDIRECT(ADDRESS(ROW()-2,8)),F14,-G14),SUM(INDIRECT(ADDRESS(ROW()-1,8)),F14,-G14)),\"\")","v":37},200,null,{"$f":"IF(A14<>\"\",IF(INDIRECT(ADDRESS(ROW()-1,11))=\"\",SUM(INDIRECT(ADDRESS(ROW()-2,11)),I14,-J14),SUM(INDIRECT(ADDRESS(ROW()-1,11)),I14,-J14)),\"\")","v":200}]
[5,7,1,2017,"Condomino19 - ric  12 @Versamento in contanti in conto quota Lavori",135,null,172,null,null,200,"Q.22.19",{"$f":"F15","v":135}]
[6,14,1,2017,"Condomino09 - ric 13 - @Versamento in contanti in conto quota Lavori",102,null,274,null,null,200,"Q.09.09",{"$f":"F16","v":102}]
[7,18,1,2017,"Condomino17 @Bonifico in conto quota Lavori",null,null,274,300,null,500,"Q.17.17",{"$f":"IF(L17<>\"\",F17+G17+I17+J17,\"\")","v":300}]
[8,21,1,2017,"Condomino07 @Versamento in contanti in conto quota Lavori",60,null,334,null,null,500,"Q.07,07",{"$f":"F18","v":60}]
[9,23,1,2017,"Condomino12 @Bonifico in conto quota Lavori",null,null,334,157,null,657,"Q.12.12",157]
[10,26,1,2017,"Condomino03 - ric. 15 @Versamento in contanti in conto quota Lavori",650,null,984,null,null,657,"Q.03.03",{"$f":"IF(L20<>\"\",F20+G20+I20+J20,\"\")","v":650}]
[11,28,1,2017,"Movimento fra conti numerari: da cassa a banca (contante)",null,800,184,800,null,1457]
[12,29,1,2017,"Condomino04 @Bonifico in conto quota Lavori",null,null,184,105,null,1562,"Q.04.04",{"$f":"IF(L22<>\"\",F22+G22+I22+J22,\"\")","v":105}]
[13,30,1,2017,"Condomino16 - ric. 16   @Versamento in contanti in conto quota Lavori",720,null,904,null,null,1562,"Q.16.16",{"$f":"IF(L23<>\"\",F23+G23+I23+J23,\"\")","v":720}]
[14,30,1,2017,"Condomino15 - ric. 17   @Vers. con assegno in conto quota Lavori",290,null,1194,null,null,1562,"Q.15.15",290]
[15,30,1,2017,"Pagamento fattura 1 Architetto CUPOLA",null,null,1194,null,500,1062,"S.02.01",{"$f":"IF(L25<>\"\",F25+G25+I25+J25,\"\")","v":500}]
[16,1,2,2017,"Spese copie disegni",null,null,1194,null,40,1022,"S.01.10",{"$f":"IF(L26<>\"\",F26+G26+I26+J26,\"\")","v":40}]
[17,1,2,2018,"Movimento fra conti numerari: da cassa a banca (contane)",null,800,394,800,null,1822]
[17,1,2,2018,"Movimento fra conti numerari: da cassa a banca (assegni)",null,390,4,390,null,2212]
[18,6,2,2018,"Pagamento Fattura 1 Impresa COSTRUIRE srl",null,null,4,null,900,1312,"S.03.01",{"$f":"IF(L29<>\"\",F29+G29+I29+J29,\"\")","v":900}]
[19,2,3,2018,"Pagamento Fattura 2 Impresa COSTRUIRE srl",null,null,4,null,400,912,"S.03.02",{"$f":"IF(L30<>\"\",F30+G30+I30+J30,\"\")","v":400}]
[20,2,3,2018,"Pagamento Fattura 3 Impresa COSTRUIRE srl",null,null,4,null,800,112,"S.03.03",{"$f":"IF(L31<>\"\",F31+G31+I31+J31,\"\")","v":800}]
[21,7,3,2018,"Condomino01 @Bonifico in conto quota Lavori",null,null,4,150,null,262,"Q.01.01",{"$f":"I32","v":150}]
[22,9,3,2018,"Pagamento fattura 1 Architetto COLONNA",null,null,4,null,200,62,"S.02.02",{"$f":"IF(L33<>\"\",F33+G33+I33+J33,\"\")","v":200}]
[23,25,3,2018,"Condomino15 - ric. 26  @Versamento in contanti in conto Lavori",200,null,204,null,null,62,"Q.15.15",200]
[24,25,3,2018,"Condomino19 - ric 20 - @Vers. con assegno in conto quota Lavori",68,null,272,null,null,62,"Q.22.19",{"$f":"IF(L35<>\"\",F35+G35+I35+J35,\"\")","v":68}]
[25,26,3,2018,"Condomino09 - ric. 21  @Versamento in contanti in conto quota Lavori ",102,null,374,null,null,62,"Q.09.09",{"$f":"F36","v":102}]
[26,26,3,2018,"Movimento fra conti numerari: da cassa a banca (assegni)",null,218,156,218,null,280]
[27,31,3,2018,"Pagamento fattura 1 Architetto STILOBATE",null,null,156,null,250,30,"S.02.03",{"$f":"IF(L38<>\"\",F38+G38+I38+J38,\"\")","v":250}]
[28,1,4,2018,"Condomino17  @Versamento in contanti in conto quota Lavori",200,null,356,null,null,30,"Q.17.07",{"$f":"F39","v":200}]
[29,4,4,2018,"Condomino06 @Versamento in contanti in conto quota Lavori",350,null,706,null,null,30,"Q.06.06",{"$f":"IF(L40<>\"\",F40+G40+I40+J40,\"\")","v":350}]
[30,5,4,2018,"Condomino19   @Versamento in contanti in conto quota Lavori",20,null,726,null,null,30,"Q.22.19",{"$f":"F41","v":20}]
[31,4,4,2019,"Condomino14 @Versamento in contanti in conto Lavori",230,null,956,null,null,30,"Q.14.14",{"$f":"F42","v":230}]
[32,4,4,2019,"Condomino06  @Versamento in contanti in conto quota Lavori",100,null,1056,null,null,30,"Q.21.06",{"$f":"F43","v":100}]
[33,11,4,2019,"Condomino08 @Bonifico in conto quota Lavori",null,null,1056,132,null,162,"Q.08.08",{"$f":"I44","v":132}]
[34,12,4,2019,"Movimento fra conti numerari: da cassa a banca (contante)",null,1050,6,1050,null,1212]
[35,27,4,2019,"Condomino18 - ric. 24  @Vers. Con assegno in conto quota Lavori",220,null,{"$f":"IF(A46<>\"\",IF(INDIRECT(ADDRESS(ROW()-1,8))=\"\",SUM(INDIRECT(ADDRESS(ROW()-2,8)),F46,-G46),SUM(INDIRECT(ADDRESS(ROW()-1,8)),F46,-G46)),\"\")","v":226},null,null,{"$f":"IF(A46<>\"\",IF(INDIRECT(ADDRESS(ROW()-1,11))=\"\",SUM(INDIRECT(ADDRESS(ROW()-2,11)),I46,-J46),SUM(INDIRECT(ADDRESS(ROW()-1,11)),I46,-J46)),\"\")","v":1212},"Q.18.18",{"$f":"F46","v":220}]
[36,7,5,2019,"Movimento fra conti numerari: da cassa a banca (assegni)",null,220,{"$f":"IF(A47<>\"\",IF(INDIRECT(ADDRESS(ROW()-1,8))=\"\",SUM(INDIRECT(ADDRESS(ROW()-2,8)),F47,-G47),SUM(INDIRECT(ADDRESS(ROW()-1,8)),F47,-G47)),\"\")","v":6},220,null,{"$f":"IF(A47<>\"\",IF(INDIRECT(ADDRESS(ROW()-1,11))=\"\",SUM(INDIRECT(ADDRESS(ROW()-2,11)),I47,-J47),SUM(INDIRECT(ADDRESS(ROW()-1,11)),I47,-J47)),\"\")","v":1432}]
[37,8,5,2019,"Condomino06 - ric. 25  @Vers. con assegno in conto quota Lavori",200,null,{"$f":"IF(A48<>\"\",IF(INDIRECT(ADDRESS(ROW()-1,8))=\"\",SUM(INDIRECT(ADDRESS(ROW()-2,8)),F48,-G48),SUM(INDIRECT(ADDRESS(ROW()-1,8)),F48,-G48)),\"\")","v":206},null,null,{"$f":"IF(A48<>\"\",IF(INDIRECT(ADDRESS(ROW()-1,11))=\"\",SUM(INDIRECT(ADDRESS(ROW()-2,11)),I48,-J48),SUM(INDIRECT(ADDRESS(ROW()-1,11)),I48,-J48)),\"\")","v":1432},"Q.06.06",{"$f":"F48","v":200}]
[38,10,5,2019,"Movimento fra conti numerari: da cassa a banca (assegni)",null,200,{"$f":"IF(A49<>\"\",IF(INDIRECT(ADDRESS(ROW()-1,8))=\"\",SUM(INDIRECT(ADDRESS(ROW()-2,8)),F49,-G49),SUM(INDIRECT(ADDRESS(ROW()-1,8)),F49,-G49)),\"\")","v":6},200,null,{"$f":"IF(A49<>\"\",IF(INDIRECT(ADDRESS(ROW()-1,11))=\"\",SUM(INDIRECT(ADDRESS(ROW()-2,11)),I49,-J49),SUM(INDIRECT(ADDRESS(ROW()-1,11)),I49,-J49)),\"\")","v":1632}]
[39,11,5,2019,"Pagamento Fattura 4 Impresa COSTRUIRE srl",null,null,6,null,1400,232,"S.03.01",{"$f":"IF(L50<>\"\",F50+G50+I50+J50,\"\")","v":1400}]
[40,15,5,2019,"Pagamento Fattura 5 Impresa COSTRUIRE srl",null,null,6,null,200,32,"S.03.03",{"$f":"IF(L51<>\"\",F51+G51+I51+J51,\"\")","v":200}]
[41,23,5,2019,"Condomino17 @Bonifico in conto quota Lavori",null,null,6,300,null,332,"Q.17.17",{"$f":"I52","v":300}]
[42,27,5,2019,"Condomino20 @Vers. con assegno in conto quota Lavori",244,null,250,null,null,332,"Q.20.07",{"$f":"IF(L53<>\"\",F53+G53+I53+J53,\"\")","v":244}]
[43,30,5,2019,"Condomino12 @Bonifico in conto quota Lavori ",null,null,250,20,null,352,"Q.12.12",{"$f":"IF(L54<>\"\",F54+G54+I54+J54,\"\")","v":20}]
[44,31,5,2019,"Pagamento Fattura 6 Impresa COSTRUIRE srl",null,null,250,null,350,2,"S.03.02",{"$f":"IF(L55<>\"\",F55+G55+I55+J55,\"\")","v":350}]
[45,3,6,2019,"Condomino02  @Versamento in  contanti in conto quota Lavori",200,null,450,null,null,2,"Q.02.02",200]
[46,3,6,2019,"Movimento fra conti numerari: da cassa a banca (contante)",null,200,250,200,null,202]
[47,3,6,2019,"Movimento fra conti numerari: da cassa a banca (assegni)",null,244,6,244,null,446]
[48,4,6,2019,"Condomino01 - bonifico @Bonifico in conto quota Lavori",null,null,6,174,null,620,"Q.01.01",{"$f":"IF(L59<>\"\",F59+G59+I59+J59,\"\")","v":174}]
[49,7,6,2019,"Condomino10 @Bonifico in conto quota Lavori",null,null,6,200,null,820,"Q.10.10",200]
[50,12,6,2019,"Pagamento fattura 2 Architetto STILOBATE",null,null,6,null,450,370,"S.02.03",{"$f":"IF(L61<>\"\",F61+G61+I61+J61,\"\")","v":450}]
[51,15,6,2019,"Condomino19  @Versamento in contanti in conto quota Lavori",20,null,26,null,null,370,"Q.22.19",{"$f":"IF(L62<>\"\",F62+G62+I62+J62,\"\")","v":20}]
[52,25,6,2019,"Condomino08  @Bonifico in conto quota Lavori",null,null,26,132,null,502,"Q.08.08",{"$f":"I63","v":132}]
[53,26,6,2019,"Movimento fra conti numerari: da cassa a banca (contante)",null,20,{"$f":"IF(A64<>\"\",IF(INDIRECT(ADDRESS(ROW()-1,8))=\"\",SUM(INDIRECT(ADDRESS(ROW()-2,8)),F64,-G64),SUM(INDIRECT(ADDRESS(ROW()-1,8)),F64,-G64)),\"\")","v":6},20,null,522]
[54,30,6,2019,"Pagamento fattura 1 Architetto COLONNA",null,null,{"$f":"IF(A65<>\"\",IF(INDIRECT(ADDRESS(ROW()-1,8))=\"\",SUM(INDIRECT(ADDRESS(ROW()-2,8)),F65,-G65),SUM(INDIRECT(ADDRESS(ROW()-1,8)),F65,-G65)),\"\")","v":6},null,300,222,"S.02.02",{"$f":"IF(L65<>\"\",F65+G65+I65+J65,\"\")","v":300}]
[55,30,6,2019,"Pagamento Fattura 7 Impresa COSTRUIRE srl",null,null,{"$f":"IF(A66<>\"\",IF(INDIRECT(ADDRESS(ROW()-1,8))=\"\",SUM(INDIRECT(ADDRESS(ROW()-2,8)),F66,-G66),SUM(INDIRECT(ADDRESS(ROW()-1,8)),F66,-G66)),\"\")","v":6},null,200,22,"S.03.02",200]
[56,1,7,2019,"Condomino02  @Versamento in contanti in conto quota lavori",250,null,{"$f":"IF(A67<>\"\",IF(INDIRECT(ADDRESS(ROW()-1,8))=\"\",SUM(INDIRECT(ADDRESS(ROW()-2,8)),F67,-G67),SUM(INDIRECT(ADDRESS(ROW()-1,8)),F67,-G67)),\"\")","v":256},null,null,22,"Q.02.02",250]
[57,2,7,2019,"Condomino11 @versamento bollettino ccp in conto quota Lavori",null,null,256,106,null,128,"Q.01.11",106]
[58,2,7,2019,"Condomino11 spese personali per l'unità immobiliare n. 11",null,null,256,null,20,108,"P.00.11",20]
[59,16,7,2019,"Condomino07 @Vers. con assegno in conto quota Lavori",222.8,null,478.8,null,null,108,"Q.07.07",222.8]
[60,17,7,2019,"Movimento fra conti numerari: da cassa a banca (assegni)",null,222.8,256,222.8,null,330.8]
[61,22,7,2019,"Condomino09  @Versamento in contanti in conto quota Lavori ",238,null,494,null,null,330.8,"Q.09.09",{"$f":"F72","v":238}]
[62,23,7,2019,"Movimento fra conti numerari: da cassa a banca (contante)",null,490,4,490,null,820.8]
[63,29,7,2019,"Pagamento Fattura 8 Impresa COSTRUIRE srl",null,null,4,null,800,20.799999999999955,"S.03.01",{"$f":"IF(L74<>\"\",F74+G74+I74+J74,\"\")","v":800}]
[64,20,8,2019,"Condomino05  @Versamento in contanti in conto quota Lavori",188.65,null,192.65,null,null,20.799999999999955,"Q.05.05",{"$f":"IF(L75<>\"\",F75+G75+I75+J75,\"\")","v":188.65}]
[65,20,8,2019,"Condomino14  @Versamento in contanti in conto quota Lavori ",70,null,262.64999999999998,null,null,20.799999999999955,"Q.14.14",{"$f":"F76","v":70}]
[66,20,8,2019,"Movimento fra conti numerari: da cassa a banca (contante)",null,250,12.649999999999977,250,null,270.79999999999995]
[67,5,9,2019,"Condomino01 @Bonifico in conto quota Lavori",null,null,12.649999999999977,160,null,430.79999999999995,"Q.01.01",{"$f":"IF(L78<>\"\",F78+G78+I78+J78,\"\")","v":160}]
[68,6,9,2019,"Pagamento Fattura 8 Impresa COSTRUIRE srl",null,null,12.649999999999977,null,400,30.799999999999955,"S.03.03",{"$f":"IF(L79<>\"\",F79+G79+I79+J79,\"\")","v":400}]
[69,21,9,2019,"Acquisto libro contabile e blocchetto ricevute",null,null,12.649999999999977,null,10,20.799999999999955,"S.01.02",{"$f":"IF(L80<>\"\",F80+G80+I80+J80,\"\")","v":10}]
[70,28,9,2019,"Condomino08 @Bonifico in conto quota Lavori",null,null,12.649999999999977,132,null,152.79999999999995,"Q.08.08",{"$f":"I81","v":132}]
[71,2,10,2019,"Condomino07  @Versamento con assegno in conto quota Lavori ",277.5,null,290.14999999999998,null,null,152.79999999999995,"Q.20.07",{"$f":"IF(L82<>\"\",F82+G82+I82+J82,\"\")","v":277.5}]
[72,2,10,2019,"Condomino19  @Versamento in contanti in conto quota Lavori ",150,null,440.15,null,null,152.79999999999995,"Q.19.19",{"$f":"IF(L83<>\"\",F83+G83+I83+J83,\"\")","v":150}]
[73,4,10,2019,"Movimento fra conti numerari: da cassa a banca (assegni)",null,277.5,162.64999999999998,277.5,null,430.29999999999995]
[74,4,10,2019,"Movimento fra conti numerari: da cassa a banca (contante)",null,150,12.649999999999977,150,null,580.29999999999995]
[75,21,10,2019,"Condomino18  @Versamento con assegno in conto quota Lavori ",157,null,169.64999999999998,null,null,580.29999999999995,"Q.18.18",{"$f":"IF(L86<>\"\",F86+G86+I86+J86,\"\")","v":157}]
[76,22,10,2019,"Movimento fra conti numerari: da cassa a banca (assegni)",null,157,12.649999999999977,157,null,737.3]
[77,13,11,2019,"Condomino07 @Bonifico in conto quota Lavori",null,null,12.649999999999977,200,null,937.3,"Q.07.07",{"$f":"IF(L88<>\"\",F88+G88+I88+J88,\"\")","v":200}]
[]
[]
[]
[]
[]
[]
[]
[]
[]
[]
[]
[]
[null,null,null,null,null,null,null,null,null,null,null,null,null,null,null," "]
[]
[]
[]
[]
[]
[]
[]
[]
[]
[]
[]
[]
[]
[]
[]
[]
[]
[]
[]
[]
[]
[]
[]
[]
[]
[]
[]
[]
[]
[]
[]
[]
[]
[]
[]
[]
[]
[]
[]
[]
[]
[]
[]
[]
[]
[]
[]
[]
[]
[]
[]
[]
[]
[]
[]
[]
[]
[]
[]
[]
[]
[]
[]
[]
[]
[]
[]
[]
[]
[]
[]
[]
[]
[]
[]
[]
[]
[]
[]
[]
[]
[]
[]
[]
[]
[]
[]
[]
[]
[]
[]
[]
[]
[]
[]
[]
[]
[]
[]
[]
[]
[]
[]
[]
[]
[]
[]
[]
[]
[]
[]
[]
[]
[]
[]
[]
[]
[]
[]
[]
[]
[]
[]
[]
[]
[]
[]
[]
[]
[]
[]
[]
[]
[]
[]
[]
[]
[]
[]
[]
[]
[]
[]
[]
[]
[]
[]
[]
[]
[]
[]
[]
[]
[]
[]
[]
[]
[]
[]
[]
[]
[]
[]
[]
[]
[]
[]
[]
[]
[]
[]
[]
[]
[]
[]
[]
[]
[]
[]
[]
[]
[]
[]
[]
[]
[]
[]
[]
[]
[]
[]
[]
[]
[]
[]
[]
[]
[]
[]
[]
[]
[]
[]
[]
[]
[]
[]
[]
[]
[]
[]
[]
[]
[]
[]
[]
[]
[]
[]
[]
[]
[]
[]
[]
[]
[]
[]
[]
[]
[]
[]
[]
[]
[]
[]
[]
[]
[]
[]
[]
[]
[]
[]
[]
[]
[]
[]
[]
[]
[]
[]
[]
[]
[]
[]
[]
[]
[]
[]
[]
[]
[]
[]
[]
[]
[]
[]
[]
[]
[]
[]
[]
[]
[]
[]
[]
[]
[]
[]
[]
[]
[]
[]
[]
[]
[]
[]
[]
[]
[]
[]
[]
[]
[]
[]
[]
[]
[]
[]
[]
[]
[]
[]
[]
[]
[]
[]
[]
[]
[]
[]
[]
[]
[]
[]
[]
[]
[]
[]
[]
[]
[]
[]
[]
[]
[]
[]
[]
[]
[]
[]
[]
[]
[]
[]
[]
[]
[]
[]
[]
[]
[]
[]
[]
[]
[]
[]
[]
[]
[]
[]
[]
[]
[]
[]
[]
[]
[]
[]
[]
[]
[]
[]
[]
[]
[]
[]
[]
[]
[]
[]
[]
[]
[]
[]
[]
[]
[]
[]
[]
[]
[]
[]
[]
[]
[]
[]
[]
[]
[]
[]
[]
[]
[]
[]
[]
[]
[]
[]
[]
[]
[]
[]
[]
[]
[]
[]
[]
[]
[]
[]
[]
[]
[]
[]
[]
[]
[]
[]
[]
[]
[]
[]
[]
[]
[]
[]
[]
[]
[]
[]
[]
[]
[]
[]
[]
[]
[]
[]
[]
[]
[]
[]
[]
[]
[]
[]
[]
[]
[]
[]
[]
[]
[]
[]
[]
[]
[]
[]
[]
[]
[]
[]
[]
[]
[]
[]
[]
[]
[]
[]
[]
[]
[]
[]
[]
[]
[]
[]
[]
[]
[]
[]
[]
[]
[]
[]
[]
[]
[]
[]
[]
[]
[]
[]
[]
[]
[]
[]
[]
[]
[]
[]
[]
[]
[]
[]
[]
[]
[]
[]
[]
[]
[]
[]
[]
[]
[]
[]
[]
[]
[]
[]
[]
[]
[]
[]
[]
[]
[]
[]
[]
[]
[]
[]
[]
[]
[]
[]
[]
[]
[]
[]
[]
[]
[]
[]
[]
[]
[]
[]
[]
[]
[]
[]
[]
[]
[]
[]
[]
[]
[]
[]
[]
[]
[]
[]
[]
[]
[]
[]
[]
[]
[]
[]
[]
[]
[]
[]
[]
[]
[]
[]
[]
[]
[]
[]
[]
[]
[]
[]
[]
[]
[]
[]
[]
[]
[]
[]
[]
[]
[]
[]
[]
[]
[]
[]
[]
[]
[]
[]
[]
[]
[]
[]
[]
[]
[]
[]
[]
[]
[]
[]
[]
[]
[]
[]
[]
[]
[]
[]
[]
[]
[]
[]
[]
[]
[]
[]
[]
[]
[]
[]
[]
[]
[]
[]
[]
[]
[]
[]
[]
[]
[]
[]
[]
[]
[]
[]
[]
[]
[]
[]
[]
[]
[]
[]
[]
[]
[]
[]
[]
[]
[]
[]
[]
[]
[]
[]
[]
[]
[]
[]
[]
[]
[]
[]
[]
[]
[]
[]
[]
[]
[]
[]
[]
[]
[]
[]
[]
[]
[]
[]
[]
[]
[]
[]
[]
[]
[]
[]
[]
[]
[]
[]
[]
[]
[]
[]
[]
[]
[]
[]
[]
[]
[]
[]
[]
[]
[]
[]
[]
[]
[]
[]
[]
[]
[]
[]
[]
[]
[]
[]
[]
[]
[]
[]
[]
[]
[]
[]
[]
[]
[]
[]
[]
[]
[]
[]
[]
[]
[]
[]
[]
[]
[]
[]
[]
[]
[]
[]
[]
[]
[]
[]
[]
[]
[]
[]
[]
[]
[]
[]
[]
[]
[]
[]
[]
[]
[]
[]
[]
[]
[]
[]
[]
[]
[]
[]
[]
[]
[]
[]
[]
[]
[]
[]
[]
[]
[]
[]
[]
[]
[]
[]
[]
[]
[]
[]
[]
[]
[]
[]
[]
[]
[]
[]
[]
[]
[]
[]
[]
[]
[]
[]
[]
[]
[]
[]
[]
[]
[]
[]
[]
[]
[]
[]
[]
[]
[]
[]
[]
[]
[]
[]
[]
[]
[]
[]
[]
[]
[]
[]
[]
[]
[]
[]
[]
[]
[]
[]
[]
[]
[]
[]
[]
[]
[]
[]
[]
[]
[]
[]
[]
[]
[]
[]
[]
[]
[]
[]
[]
[]
[]
[]
[]
[]
[]
[]
[]
[]
[]
[]
[]
[]
[]
[]
[]
[]
[]
[]
[]
[]
[]
[]
[]
[]
[]
[]
[]
[]
[]
[]
[]
[]
[]
[]
[]
[]
[]
[]
[]
[]
[]
[]
[]
[]
[]
[]
[]
[]
[]
[]
[]
[]
[]
[]
[]
[]
[]
[]
[]
[]
[]
[]
[0]
[]
[]
[]
[]
[]
[]
[]
[]
[]
[]
[]
[]
[]
[]
[]
[]
[]
[]
[]
[]
[]
[]
[]
[]
[]
[]
[]
[]
[]
[]
[]
[]
[]
[]
[]
[]
[]
[]
[]
[]
[]
[]
[]
[]
[]
[]
[]
[]
[]
[]
[]
[]
[]
[0,null,null,null,null,null,null,null,null,null,null,null,null,null,0]
[0]

{"sheet":"SD_CONDOMINI_GL","index":38,"n_rows":111,"n_cols":12,"rows_kept":111,"cut":false,"hidden":true,"merged":[[109,0,109,1],[110,0,110,11],[4,0,4,11],[5,0,5,1],[5,3,5,4],[5,5,6,5],[5,6,5,9],[5,10,5,11]]}
[]
[]
[]
[]
["SITUAZIONE CONTABILE dei CONDOMINI alla data  31-dicembre-2019 (ultima registrazione: n. 77 del 13-novembre-2019)\r\nFONDO: Lavori messa in sicurezza fondazioni da infiltrazioni fognarie\r\nCodice FONDO: LAVORO-01"]
[null,null,"DOVUTO","INCASSATO",null,"DEBITO\nRESIDUO","IMPORTI RATE",null,null,null,"DEBITI ESIGIBILI"]
["n.","CONDOMINO","QUOTA \nLAVORI\n(da PREVENT.)","SU QUOTA","RESTITUZIONI \nE ABBUONI DA \nFORNITORI",null,"RATA 1","RATA 2","RATA 3","RATA 4","IMPORTO\nSCADUTO","IMPORTO\nIN MORA"]
[null,"Data scadenza pagamenti",null,null,null,null,{"$f":"DATIG!A43","v":"2017-04-10"},{"$f":"DATIG!A44","v":"2018-04-10"},{"$f":"DATIG!A45","v":"2019-07-10"},{"$f":"DATIG!A46","v":"00:00:00"},{"$f":"DATIG!A39","v":"2019-12-31"},{"$f":"DATIG!A39","v":"2019-12-31"}]
[null,"Dilazione consentita (in giorni)",null,null,0,null,{"$f":"DATIG!$A$48","v":30},{"$f":"DATIG!$A$48","v":30},{"$f":"DATIG!$A$48","v":30},{"$f":"DATIG!$A$48","v":30},"00:00:00","00:00:00"]
[null,"Data fine dilazione",null,null,0,null,{"$f":"IF(G8>0,G8+G9,\"\")","v":"2017-05-10"},{"$f":"IF(H8>0,H8+H9,\"\")","v":"2018-05-10"},"2019-08-09","","00:00:00","00:00:00"]
[1,{"$f":"IF(CONDOMINI!C11<>\"\",CONDOMINI!C11,\"\")","v":"CONDOMINO01"},{"$f":"'RP-C'!O11","v":1022.4300000000001},{"$f":"'ENTRATE-C'!C40","v":590},null,{"$f":"SUM(C11:C11)-SUM(D11:D11)","v":432.43000000000006},0,91.62,340.81000000000006,null,432.43000000000006,432.43000000000006]
[2,{"$f":"IF(CONDOMINI!C12<>\"\",CONDOMINI!C12,\"\")","v":"CONDOMINO02"},{"$f":"'RP-C'!O12","v":1226.96},{"$f":"'ENTRATE-C'!C41","v":450},null,{"$f":"SUM(C12:C12)-SUM(D12:D12)","v":776.96},0,367.98,408.98,null,776.96,776.96]
[3,{"$f":"IF(CONDOMINI!C13<>\"\",CONDOMINI!C13,\"\")","v":"CONDOMINO03"},{"$f":"'RP-C'!O13","v":1369.54},{"$f":"'ENTRATE-C'!C42","v":650},null,719.54,0,263.03999999999996,456.5,null,719.54,719.54]
[4,{"$f":"IF(CONDOMINI!C14<>\"\",CONDOMINI!C14,\"\")","v":"CONDOMINO04"},{"$f":"'RP-C'!O14","v":775.36},{"$f":"'ENTRATE-C'!C43","v":105},null,670.36,153.45999999999998,258.45999999999998,258.44000000000005,null,670.36,670.36]
[5,{"$f":"IF(CONDOMINI!C15<>\"\",CONDOMINI!C15,\"\")","v":"CONDOMINO05"},{"$f":"'RP-C'!O15","v":961.43000000000006},{"$f":"'ENTRATE-C'!C44","v":188.65},null,772.78000000000009,131.83000000000001,320.48,320.47000000000003,null,772.78000000000009,772.78000000000009]
[6,{"$f":"IF(CONDOMINI!C16<>\"\",CONDOMINI!C16,\"\")","v":"CONDOMINO06"},{"$f":"'RP-C'!O16","v":912.07},{"$f":"'ENTRATE-C'!C45","v":550},null,362.07000000000005,0,260.64,455.32000000000005,null,715.96,715.96]
[7,{"$f":"IF(CONDOMINI!C17<>\"\",CONDOMINI!C17,\"\")","v":"CONDOMINO07"},{"$f":"'RP-C'!O17","v":1292.1999999999998},{"$f":"'ENTRATE-C'!C46","v":1004.3},null,287.89999999999986,0,0,287.89999999999986,null,287.89999999999986,287.89999999999986]
[8,{"$f":"IF(CONDOMINI!C18<>\"\",CONDOMINI!C18,\"\")","v":"CONDOMINO08"},{"$f":"'RP-C'!O18","v":1044.97},{"$f":"'ENTRATE-C'!C47","v":496},null,548.97,0,0,195.08000000000004,null,195.08000000000004,195.08000000000004]
[9,{"$f":"IF(CONDOMINI!C19<>\"\",CONDOMINI!C19,\"\")","v":"CONDOMINO09"},{"$f":"'RP-C'!O19","v":561.41000000000008},{"$f":"'ENTRATE-C'!C48","v":544},null,17.410000000000082,0,0,17.410000000000053,null,17.410000000000053,17.410000000000053]
[10,{"$f":"IF(CONDOMINI!C20<>\"\",CONDOMINI!C20,\"\")","v":"CONDOMINO10"},{"$f":"'RP-C'!O20","v":202.54999999999998},{"$f":"'ENTRATE-C'!C49","v":200},null,2.5499999999999829,0,0,2.5499999999999687,null,2.5499999999999687,2.5499999999999687]
[11,{"$f":"IF(CONDOMINI!C21<>\"\",CONDOMINI!C21,\"\")","v":"CONDOMINO11"},{"$f":"'RP-C'!O21","v":254.97},{"$f":"'ENTRATE-C'!C50","v":0},null,254.97,84.99,84.99,84.990000000000009,null,254.97,254.97]
[12,{"$f":"IF(CONDOMINI!C22<>\"\",CONDOMINI!C22,\"\")","v":"CONDOMINO12"},{"$f":"'RP-C'!O22","v":592.76},{"$f":"'ENTRATE-C'!C51","v":177},null,415.76,20.590000000000003,197.59,197.57999999999998,null,415.76,415.76]
[13,{"$f":"IF(CONDOMINI!C23<>\"\",CONDOMINI!C23,\"\")","v":"CONDOMINO13"},{"$f":"'RP-C'!O23","v":121.14000000000001},{"$f":"'ENTRATE-C'!C52","v":0},null,121.14000000000001,40.380000000000003,40.380000000000003,40.38000000000001,null,121.14000000000001,121.14000000000001]
[14,{"$f":"IF(CONDOMINI!C24<>\"\",CONDOMINI!C24,\"\")","v":"CONDOMINO14"},{"$f":"'RP-C'!O24","v":387.66},{"$f":"'ENTRATE-C'!C53","v":300},null,87.660000000000025,0,0,87.660000000000025,null,87.660000000000025,87.660000000000025]
[15,{"$f":"IF(CONDOMINI!C25<>\"\",CONDOMINI!C25,\"\")","v":"CONDOMINO15"},{"$f":"'RP-C'!O25","v":1983.5500000000002},{"$f":"'ENTRATE-C'!C54","v":490},null,1493.5500000000002,171.19000000000005,661.19,661.17000000000007,null,1493.5500000000002,1493.5500000000002]
[16,{"$f":"IF(CONDOMINI!C26<>\"\",CONDOMINI!C26,\"\")","v":"CONDOMINO16"},{"$f":"'RP-C'!O26","v":1219.8599999999999},{"$f":"'ENTRATE-C'!C55","v":720},null,499.8599999999999,0,93.240000000000009,406.61999999999989,null,499.8599999999999,499.8599999999999]
[17,{"$f":"IF(CONDOMINI!C27<>\"\",CONDOMINI!C27,\"\")","v":"CONDOMINO17"},{"$f":"'RP-C'!O27","v":960.26},{"$f":"'ENTRATE-C'!C56","v":800},null,160.26,0,0,160.26,null,160.26,160.26]
[18,{"$f":"IF(CONDOMINI!C28<>\"\",CONDOMINI!C28,\"\")","v":"CONDOMINO18"},{"$f":"'RP-C'!O28","v":1284.48},{"$f":"'ENTRATE-C'!C57","v":377},null,907.48,51.160000000000025,428.16,428.15999999999997,null,907.48,907.48]
[19,{"$f":"IF(CONDOMINI!C29<>\"\",CONDOMINI!C29,\"\")","v":"CONDOMINO19"},{"$f":"'RP-C'!O29","v":1016.4},{"$f":"'ENTRATE-C'!C58","v":528},null,488.4,0,149.60000000000002,338.79999999999995,null,488.4,488.4]
[20,{"$f":"IF(CONDOMINI!C30<>\"\",CONDOMINI!C30,\"\")","v":""},{"$f":"'RP-C'!O30","v":0},{"$f":"'ENTRATE-C'!C59","v":""},null,0,0,0,0,0,0,0]
[21,{"$f":"IF(CONDOMINI!C31<>\"\",CONDOMINI!C31,\"\")","v":""},{"$f":"'RP-C'!O31","v":0},{"$f":"'ENTRATE-C'!C60","v":""},null,0,0,0,0,0,0,0]
[22,{"$f":"IF(CONDOMINI!C32<>\"\",CONDOMINI!C32,\"\")","v":""},{"$f":"'RP-C'!O32","v":0},{"$f":"'ENTRATE-C'!C61","v":""},null,0,0,0,0,0,0,0]
[23,{"$f":"IF(CONDOMINI!C33<>\"\",CONDOMINI!C33,\"\")","v":""},{"$f":"'RP-C'!O33","v":0},{"$f":"'ENTRATE-C'!C62","v":""},null,0,0,0,0,0,0,0]
[24,{"$f":"IF(CONDOMINI!C34<>\"\",CONDOMINI!C34,\"\")","v":""},{"$f":"'RP-C'!O34","v":0},{"$f":"'ENTRATE-C'!C63","v":""},null,0,0,0,0,0,0,0]
[25,{"$f":"IF(CONDOMINI!C35<>\"\",CONDOMINI!C35,\"\")","v":""},{"$f":"'RP-C'!O35","v":0},{"$f":"'ENTRATE-C'!C64","v":""},null,{"$f":"SUM(C35:C35)-SUM(D35:E35)","v":0},0,0,0,0,0,0]
[26,{"$f":"IF(CONDOMINI!C36<>\"\",CONDOMINI!C36,\"\")","v":""},{"$f":"'RP-C'!O36","v":0},{"$f":"'ENTRATE-C'!C65","v":""},null,0,0,0,0,0,0,0]
[27,{"$f":"IF(CONDOMINI!C37<>\"\",CONDOMINI!C37,\"\")","v":""},{"$f":"'RP-C'!O37","v":0},{"$f":"'ENTRATE-C'!C66","v":""},null,0,0,0,0,0,0,0]
[28,{"$f":"IF(CONDOMINI!C38<>\"\",CONDOMINI!C38,\"\")","v":""},{"$f":"'RP-C'!O38","v":0},{"$f":"'ENTRATE-C'!C67","v":""},null,0,0,0,0,0,0,0]
[29,{"$f":"IF(CONDOMINI!C39<>\"\",CONDOMINI!C39,\"\")","v":""},{"$f":"'RP-C'!O39","v":0},{"$f":"'ENTRATE-C'!C68","v":""},null,0,0,0,0,0,0,0]
[30,{"$f":"IF(CONDOMINI!C40<>\"\",CONDOMINI!C40,\"\")","v":""},{"$f":"'RP-C'!O40","v":0},{"$f":"'ENTRATE-C'!C69","v":""},null,0,0,0,0,0,0,0]
[31,{"$f":"IF(CONDOMINI!C41<>\"\",CONDOMINI!C41,\"\")","v":""},{"$f":"'RP-C'!O41","v":0},{"$f":"'ENTRATE-C'!C70","v":""},null,0,0,0,0,0,0,0]
[32,{"$f":"IF(CONDOMINI!C42<>\"\",CONDOMINI!C42,\"\")","v":""},{"$f":"'RP-C'!O42","v":0},{"$f":"'ENTRATE-C'!C71","v":""},null,0,0,0,0,0,0,0]
[33,{"$f":"IF(CONDOMINI!C43<>\"\",CONDOMINI!C43,\"\")","v":""},{"$f":"'RP-C'!O43","v":0},{"$f":"'ENTRATE-C'!C72","v":""},null,{"$f":"SUM(C43:C43)-SUM(D43:E43)","v":0},0,0,0,0,0,0]
[34,{"$f":"IF(CONDOMINI!C44<>\"\",CONDOMINI!C44,\"\")","v":""},{"$f":"'RP-C'!O44","v":0},{"$f":"'ENTRATE-C'!C73","v":""},null,0,0,0,0,0,0,0]
[35,{"$f":"IF(CONDOMINI!C45<>\"\",CONDOMINI!C45,\"\")","v":""},{"$f":"'RP-C'!O45","v":0},{"$f":"'ENTRATE-C'!C74","v":""},null,0,0,0,0,0,0,0]
[36,{"$f":"IF(CONDOMINI!C46<>\"\",CONDOMINI!C46,\"\")","v":""},{"$f":"'RP-C'!O46","v":0},{"$f":"'ENTRATE-C'!C75","v":""},null,0,0,0,0,0,0,0]
[37,{"$f":"IF(CONDOMINI!C47<>\"\",CONDOMINI!C47,\"\")","v":""},{"$f":"'RP-C'!O47","v":0},{"$f":"'ENTRATE-C'!C76","v":""},null,0,0,0,0,0,0,0]
[38,{"$f":"IF(CONDOMINI!C48<>\"\",CONDOMINI!C48,\"\")","v":""},{"$f":"'RP-C'!O48","v":0},{"$f":"'ENTRATE-C'!C77","v":""},null,0,0,0,0,0,0,0]
[39,{"$f":"IF(CONDOMINI!C49<>\"\",CONDOMINI!C49,\"\")","v":""},{"$f":"'RP-C'!O49","v":0},{"$f":"'ENTRATE-C'!C78","v":""},null,0,0,0,0,0,0,0]
[40,{"$f":"IF(CONDOMINI!C50<>\"\",CONDOMINI!C50,\"\")","v":""},{"$f":"'RP-C'!O50","v":0},{"$f":"'ENTRATE-C'!C79","v":""},null,0,0,0,0,0,0,0]
[41,{"$f":"IF(CONDOMINI!C51<>\"\",CONDOMINI!C51,\"\")","v":""},{"$f":"'RP-C'!O51","v":0},{"$f":"'ENTRATE-C'!C80","v":""},null,0,0,0,0,0,0,0]
[42,{"$f":"IF(CONDOMINI!C52<>\"\",CONDOMINI!C52,\"\")","v":""},{"$f":"'RP-C'!O52","v":0},{"$f":"'ENTRATE-C'!C81","v":""},null,0,0,0,0,0,0,0]
[43,{"$f":"IF(CONDOMINI!C53<>\"\",CONDOMINI!C53,\"\")","v":""},{"$f":"'RP-C'!O53","v":0},{"$f":"'ENTRATE-C'!C82","v":""},null,0,0,0,0,0,0,0]
[44,{"$f":"IF(CONDOMINI!C54<>\"\",CONDOMINI!C54,\"\")","v":""},{"$f":"'RP-C'!O54","v":0},{"$f":"'ENTRATE-C'!C83","v":""},null,0,0,0,0,0,0,0]
[45,{"$f":"IF(CONDOMINI!C55<>\"\",CONDOMINI!C55,\"\")","v":""},{"$f":"'RP-C'!O55","v":0},{"$f":"'ENTRATE-C'!C84","v":""},null,0,0,0,0,0,0,0]
[46,{"$f":"IF(CONDOMINI!C56<>\"\",CONDOMINI!C56,\"\")","v":""},{"$f":"'RP-C'!O56","v":0},{"$f":"'ENTRATE-C'!C85","v":""},null,0,0,0,0,0,0,0]
[47,{"$f":"IF(CONDOMINI!C57<>\"\",CONDOMINI!C57,\"\")","v":""},{"$f":"'RP-C'!O57","v":0},{"$f":"'ENTRATE-C'!C86","v":""},null,0,0,0,0,0,0,0]
[48,{"$f":"IF(CONDOMINI!C58<>\"\",CONDOMINI!C58,\"\")","v":""},{"$f":"'RP-C'!O58","v":0},{"$f":"'ENTRATE-C'!C87","v":""},null,0,0,0,0,0,0,0]
[49,{"$f":"IF(CONDOMINI!C59<>\"\",CONDOMINI!C59,\"\")","v":""},{"$f":"'RP-C'!O59","v":0},{"$f":"'ENTRATE-C'!C88","v":""},null,0,0,0,0,0,0,0]
[50,{"$f":"IF(CONDOMINI!C60<>\"\",CONDOMINI!C60,\"\")","v":""},{"$f":"'RP-C'!O60","v":0},{"$f":"'ENTRATE-C'!C89","v":""},null,0,0,0,0,0,0,0]
[51,{"$f":"IF(CONDOMINI!C61<>\"\",CONDOMINI!C61,\"\")","v":""},{"$f":"'RP-C'!O61","v":0},{"$f":"'ENTRATE-C'!C90","v":""},null,0,0,0,0,0,0,0]
[52,{"$f":"IF(CONDOMINI!C62<>\"\",CONDOMINI!C62,\"\")","v":""},{"$f":"'RP-C'!O62","v":0},{"$f":"'ENTRATE-C'!C91","v":""},null,0,0,0,0,0,0,0]
[53,{"$f":"IF(CONDOMINI!C63<>\"\",CONDOMINI!C63,\"\")","v":""},{"$f":"'RP-C'!O63","v":0},{"$f":"'ENTRATE-C'!C92","v":""},null,0,0,0,0,0,0,0]
[54,{"$f":"IF(CONDOMINI!C64<>\"\",CONDOMINI!C64,\"\")","v":""},{"$f":"'RP-C'!O64","v":0},{"$f":"'ENTRATE-C'!C93","v":""},null,0,0,0,0,0,0,0]
[55,{"$f":"IF(CONDOMINI!C65<>\"\",CONDOMINI!C65,\"\")","v":""},{"$f":"'RP-C'!O65","v":0},{"$f":"'ENTRATE-C'!C94","v":""},null,0,0,0,0,0,0,0]
[56,{"$f":"IF(CONDOMINI!C66<>\"\",CONDOMINI!C66,\"\")","v":""},{"$f":"'RP-C'!O66","v":0},{"$f":"'ENTRATE-C'!C95","v":""},null,0,0,0,0,0,0,0]
[57,{"$f":"IF(CONDOMINI!C67<>\"\",CONDOMINI!C67,\"\")","v":""},{"$f":"'RP-C'!O67","v":0},{"$f":"'ENTRATE-C'!C96","v":""},null,0,0,0,0,0,0,0]
[58,{"$f":"IF(CONDOMINI!C68<>\"\",CONDOMINI!C68,\"\")","v":""},{"$f":"'RP-C'!O68","v":0},{"$f":"'ENTRATE-C'!C97","v":""},null,0,0,0,0,0,0,0]
[59,{"$f":"IF(CONDOMINI!C69<>\"\",CONDOMINI!C69,\"\")","v":""},{"$f":"'RP-C'!O69","v":0},{"$f":"'ENTRATE-C'!C98","v":""},null,0,0,0,0,0,0,0]
[60,{"$f":"IF(CONDOMINI!C70<>\"\",CONDOMINI!C70,\"\")","v":""},{"$f":"'RP-C'!O70","v":0},{"$f":"'ENTRATE-C'!C99","v":""},null,0,0,0,0,0,0,0]
[61,{"$f":"IF(CONDOMINI!C71<>\"\",CONDOMINI!C71,\"\")","v":""},{"$f":"'RP-C'!O71","v":0},{"$f":"'ENTRATE-C'!C100","v":""},null,0,0,0,0,0,0,0]
[62,{"$f":"IF(CONDOMINI!C72<>\"\",CONDOMINI!C72,\"\")","v":""},{"$f":"'RP-C'!O72","v":0},{"$f":"'ENTRATE-C'!C101","v":""},null,0,0,0,0,0,0,0]
[63,{"$f":"IF(CONDOMINI!C73<>\"\",CONDOMINI!C73,\"\")","v":""},{"$f":"'RP-C'!O73","v":0},{"$f":"'ENTRATE-C'!C102","v":""},null,0,0,0,0,0,0,0]
[64,{"$f":"IF(CONDOMINI!C74<>\"\",CONDOMINI!C74,\"\")","v":""},{"$f":"'RP-C'!O74","v":0},{"$f":"'ENTRATE-C'!C103","v":""},null,0,0,0,0,0,0,0]
[65,{"$f":"IF(CONDOMINI!C75<>\"\",CONDOMINI!C75,\"\")","v":""},{"$f":"'RP-C'!O75","v":0},{"$f":"'ENTRATE-C'!C104","v":""},null,0,0,0,0,0,0,0]
[66,{"$f":"IF(CONDOMINI!C76<>\"\",CONDOMINI!C76,\"\")","v":""},{"$f":"'RP-C'!O76","v":0},{"$f":"'ENTRATE-C'!C105","v":""},null,0,0,0,0,0,0,0]
[67,{"$f":"IF(CONDOMINI!C77<>\"\",CONDOMINI!C77,\"\")","v":""},{"$f":"'RP-C'!O77","v":0},{"$f":"'ENTRATE-C'!C106","v":""},null,0,0,0,0,0,0,0]
[68,{"$f":"IF(CONDOMINI!C78<>\"\",CONDOMINI!C78,\"\")","v":""},{"$f":"'RP-C'!O78","v":0},{"$f":"'ENTRATE-C'!C107","v":""},null,0,0,0,0,0,0,0]
[69,{"$f":"IF(CONDOMINI!C79<>\"\",CONDOMINI!C79,\"\")","v":""},{"$f":"'RP-C'!O79","v":0},{"$f":"'ENTRATE-C'!C108","v":""},null,0,0,0,0,0,0,0]
[70,{"$f":"IF(CONDOMINI!C80<>\"\",CONDOMINI!C80,\"\")","v":""},{"$f":"'RP-C'!O80","v":0},{"$f":"'ENTRATE-C'!C109","v":""},null,0,0,0,0,0,0,0]
[71,{"$f":"IF(CONDOMINI!C81<>\"\",CONDOMINI!C81,\"\")","v":""},{"$f":"'RP-C'!O81","v":0},{"$f":"'ENTRATE-C'!C110","v":""},null,0,0,0,0,0,0,0]
[72,{"$f":"IF(CONDOMINI!C82<>\"\",CONDOMINI!C82,\"\")","v":""},{"$f":"'RP-C'!O82","v":0},{"$f":"'ENTRATE-C'!C111","v":""},null,0,0,0,0,0,0,0]
[73,{"$f":"IF(CONDOMINI!C83<>\"\",CONDOMINI!C83,\"\")","v":""},{"$f":"'RP-C'!O83","v":0},{"$f":"'ENTRATE-C'!C112","v":""},null,0,0,0,0,0,0,0]
[74,{"$f":"IF(CONDOMINI!C84<>\"\",CONDOMINI!C84,\"\")","v":""},{"$f":"'RP-C'!O84","v":0},{"$f":"'ENTRATE-C'!C113","v":""},null,0,0,0,0,0,0,0]
[75,{"$f":"IF(CONDOMINI!C85<>\"\",CONDOMINI!C85,\"\")","v":""},{"$f":"'RP-C'!O85","v":0},{"$f":"'ENTRATE-C'!C114","v":""},null,0,0,0,0,0,0,0]
[76,{"$f":"IF(CONDOMINI!C86<>\"\",CONDOMINI!C86,\"\")","v":""},{"$f":"'RP-C'!O86","v":0},{"$f":"'ENTRATE-C'!C115","v":""},null,0,0,0,0,0,0,0]
[77,{"$f":"IF(CONDOMINI!C87<>\"\",CONDOMINI!C87,\"\")","v":""},{"$f":"'RP-C'!O87","v":0},{"$f":"'ENTRATE-C'!C116","v":""},null,0,0,0,0,0,0,0]
[78,{"$f":"IF(CONDOMINI!C88<>\"\",CONDOMINI!C88,\"\")","v":""},{"$f":"'RP-C'!O88","v":0},{"$f":"'ENTRATE-C'!C117","v":""},null,0,0,0,0,0,0,0]
[79,{"$f":"IF(CONDOMINI!C89<>\"\",CONDOMINI!C89,\"\")","v":""},{"$f":"'RP-C'!O89","v":0},{"$f":"'ENTRATE-C'!C118","v":""},null,0,0,0,0,0,0,0]
[80,{"$f":"IF(CONDOMINI!C90<>\"\",CONDOMINI!C90,\"\")","v":""},{"$f":"'RP-C'!O90","v":0},{"$f":"'ENTRATE-C'!C119","v":""},null,0,0,0,0,0,0,0]
[81,{"$f":"IF(CONDOMINI!C91<>\"\",CONDOMINI!C91,\"\")","v":""},{"$f":"'RP-C'!O91","v":0},{"$f":"'ENTRATE-C'!C120","v":""},null,0,0,0,0,0,0,0]
[82,{"$f":"IF(CONDOMINI!C92<>\"\",CONDOMINI!C92,\"\")","v":""},{"$f":"'RP-C'!O92","v":0},{"$f":"'ENTRATE-C'!C121","v":""},null,0,0,0,0,0,0,0]
[83,{"$f":"IF(CONDOMINI!C93<>\"\",CONDOMINI!C93,\"\")","v":""},{"$f":"'RP-C'!O93","v":0},{"$f":"'ENTRATE-C'!C122","v":""},null,0,0,0,0,0,0,0]
[84,{"$f":"IF(CONDOMINI!C94<>\"\",CONDOMINI!C94,\"\")","v":""},{"$f":"'RP-C'!O94","v":0},{"$f":"'ENTRATE-C'!C123","v":""},null,0,0,0,0,0,0,0]
[85,{"$f":"IF(CONDOMINI!C95<>\"\",CONDOMINI!C95,\"\")","v":""},{"$f":"'RP-C'!O95","v":0},{"$f":"'ENTRATE-C'!C124","v":""},null,0,0,0,0,0,0,0]
[86,{"$f":"IF(CONDOMINI!C96<>\"\",CONDOMINI!C96,\"\")","v":""},{"$f":"'RP-C'!O96","v":0},{"$f":"'ENTRATE-C'!C125","v":""},null,0,0,0,0,0,0,0]
[87,{"$f":"IF(CONDOMINI!C97<>\"\",CONDOMINI!C97,\"\")","v":""},{"$f":"'RP-C'!O97","v":0},{"$f":"'ENTRATE-C'!C126","v":""},null,0,0,0,0,0,0,0]
[88,{"$f":"IF(CONDOMINI!C98<>\"\",CONDOMINI!C98,\"\")","v":""},{"$f":"'RP-C'!O98","v":0},{"$f":"'ENTRATE-C'!C127","v":""},null,0,0,0,0,0,0,0]
[89,{"$f":"IF(CONDOMINI!C99<>\"\",CONDOMINI!C99,\"\")","v":""},{"$f":"'RP-C'!O99","v":0},{"$f":"'ENTRATE-C'!C128","v":""},null,0,0,0,0,0,0,0]
[90,{"$f":"IF(CONDOMINI!C100<>\"\",CONDOMINI!C100,\"\")","v":""},{"$f":"'RP-C'!O100","v":0},{"$f":"'ENTRATE-C'!C129","v":""},null,0,0,0,0,0,0,0]
[91,{"$f":"IF(CONDOMINI!C101<>\"\",CONDOMINI!C101,\"\")","v":""},{"$f":"'RP-C'!O101","v":0},{"$f":"'ENTRATE-C'!C130","v":""},null,0,0,0,0,0,0,0]
[92,{"$f":"IF(CONDOMINI!C102<>\"\",CONDOMINI!C102,\"\")","v":""},{"$f":"'RP-C'!O102","v":0},{"$f":"'ENTRATE-C'!C131","v":""},null,0,0,0,0,0,0,0]
[93,{"$f":"IF(CONDOMINI!C103<>\"\",CONDOMINI!C103,\"\")","v":""},{"$f":"'RP-C'!O103","v":0},{"$f":"'ENTRATE-C'!C132","v":""},null,0,0,0,0,0,0,0]
[94,{"$f":"IF(CONDOMINI!C104<>\"\",CONDOMINI!C104,\"\")","v":""},{"$f":"'RP-C'!O104","v":0},{"$f":"'ENTRATE-C'!C133","v":""},null,0,0,0,0,0,0,0]
[95,{"$f":"IF(CONDOMINI!C105<>\"\",CONDOMINI!C105,\"\")","v":""},{"$f":"'RP-C'!O105","v":0},{"$f":"'ENTRATE-C'!C134","v":""},null,0,0,0,0,0,0,0]
[96,{"$f":"IF(CONDOMINI!C106<>\"\",CONDOMINI!C106,\"\")","v":""},{"$f":"'RP-C'!O106","v":0},{"$f":"'ENTRATE-C'!C135","v":""},null,0,0,0,0,0,0,0]
[97,{"$f":"IF(CONDOMINI!C107<>\"\",CONDOMINI!C107,\"\")","v":""},{"$f":"'RP-C'!O107","v":0},{"$f":"'ENTRATE-C'!C136","v":""},null,{"$f":"SUM(C107:C107)-SUM(D107:E107)","v":0},0,0,0,0,0,0]
[98,{"$f":"IF(CONDOMINI!C108<>\"\",CONDOMINI!C108,\"\")","v":""},{"$f":"'RP-C'!O108","v":0},{"$f":"'ENTRATE-C'!C137","v":""},null,{"$f":"SUM(C108:C108)-SUM(D108:E108)","v":0},0,0,0,0,0,0]
[99,{"$f":"IF(CONDOMINI!C109<>\"\",CONDOMINI!C109,\"\")","v":""},{"$f":"'RP-C'!O109","v":0},{"$f":"'ENTRATE-C'!C138","v":""},null,{"$f":"SUM(C109:C109)-SUM(D109:E109)","v":0},0,0,0,0,0,0]
["TOTALI",null,{"$f":"SUM(C11:C109)","v":17189.999999999996},8169.95,null,9020.0500000000011,653.60000000000014,3217.3699999999994,5149.08,0,9020.0500000000011,9020.0500000000011]
["Il prospetto riporta la situazione debitoria dei condomini nei confronti del condominio (importi negativi indicano al contrario i crediti vantati dal condomino nei confronti del condominio).\nLa situazione è aggiornata alla data dell'ultima operazione registrata sul giornale contabile.\nPer ogni condomino sono riportati gli importi a debito e le date entro le quali occorreva o occore adempiere al relativo pagamento. \nNelle ultime due colonne sono riepilogati gli importi dei debiti già scaduti e quelli per i quali il condomino è da considerare in mora e quindi oggetto di possibile diffida, per scadenze oltre la dilazione.  "]

{"sheet":"SD-UI-GL","index":39,"n_rows":111,"n_cols":12,"rows_kept":111,"cut":false,"hidden":true,"merged":[[109,0,109,1],[110,0,110,11],[4,0,4,11],[5,0,5,1],[5,3,5,4],[5,5,6,5],[5,6,5,9],[5,10,5,11]]}
[]
[]
[]
[]
["SITUAZIONE CONTABILE per U.I. alla data  31-dicembre-2019 (ultima registrazione: n. 77 del 13-novembre-2019)\r\nFONDO: Lavori messa in sicurezza fondazioni da infiltrazioni fognarie\r\nCodice FONDO: LAVORO-01"]
[null,null,"DOVUTO","INCASSATO",null,"DEBITO\nRESIDUO","IMPORTI RATE",null,null,null,"DEBITI ESIGIBILI"]
["n.","UNITÀ IMMOBILIARE","QUOTA \nLAVORI\n(da PREVENT.)","SU QUOTA","RESTITUZIONI \nE ABBUONI DA \nFORNITORI",null,"RATA 1","RATA 2","RATA 3","RATA 4","IMPORTO\nSCADUTO","IMPORTO\nIN MORA"]
[null,"Data scadenza pagamenti",null,null,null,null,{"$f":"DATIG!A43","v":"2017-04-10"},{"$f":"DATIG!A44","v":"2018-04-10"},{"$f":"DATIG!A45","v":"2019-07-10"},{"$f":"DATIG!A46","v":"00:00:00"},{"$f":"DATIG!A39","v":"2019-12-31"},{"$f":"DATIG!A39","v":"2019-12-31"}]
[null,"Dilazione consentita (in giorni)",null,null,0,null,{"$f":"DATIG!$A$48","v":30},{"$f":"DATIG!$A$48","v":30},{"$f":"DATIG!$A$48","v":30},{"$f":"DATIG!$A$48","v":30},"00:00:00","00:00:00"]
[null,"Data fine dilazione",null,null,0,null,{"$f":"IF(G8>0,G8+G9,\"\")","v":"2017-05-10"},{"$f":"IF(H8>0,H8+H9,\"\")","v":"2018-05-10"},"2019-08-09","","00:00:00","00:00:00"]
[1,{"$f":"IF('ENTRATE-UI'!A40<>\"\",'ENTRATE-UI'!A40,\"\")","v":"QUOTA Unità U01 di proprietà CONDOMINO01"},{"$f":"'RP-UI'!Q11","v":1022.4300000000001},{"$f":"'ENTRATE-UI'!C40","v":590},null,{"$f":"SUM(C11:C11)-SUM(D11:D11)","v":432.43000000000006},0,91.62,340.81000000000006,null,432.43000000000006,432.43000000000006]
[2,{"$f":"IF('ENTRATE-UI'!A41<>\"\",'ENTRATE-UI'!A41,\"\")","v":"QUOTA Unità U02 di proprietà CONDOMINO02"},{"$f":"'RP-UI'!Q12","v":1226.96},{"$f":"'ENTRATE-UI'!C41","v":450},null,{"$f":"SUM(C12:C12)-SUM(D12:D12)","v":776.96},0,367.98,408.98,null,776.96,776.96]
[3,{"$f":"IF('ENTRATE-UI'!A42<>\"\",'ENTRATE-UI'!A42,\"\")","v":"QUOTA Unità U03 di proprietà CONDOMINO03"},{"$f":"'RP-UI'!Q13","v":1369.54},{"$f":"'ENTRATE-UI'!C42","v":650},null,719.54,0,263.03999999999996,456.5,null,719.54,719.54]
[4,{"$f":"IF('ENTRATE-UI'!A43<>\"\",'ENTRATE-UI'!A43,\"\")","v":"QUOTA Unità U04 di proprietà CONDOMINO04"},{"$f":"'RP-UI'!Q14","v":775.36},{"$f":"'ENTRATE-UI'!C43","v":105},null,670.36,153.45999999999998,258.45999999999998,258.44000000000005,null,670.36,670.36]
[5,{"$f":"IF('ENTRATE-UI'!A44<>\"\",'ENTRATE-UI'!A44,\"\")","v":"QUOTA Unità U05 di proprietà CONDOMINO05"},{"$f":"'RP-UI'!Q15","v":961.43000000000006},{"$f":"'ENTRATE-UI'!C44","v":188.65},null,772.78000000000009,131.83000000000001,320.48,320.47000000000003,null,772.78000000000009,772.78000000000009]
[6,{"$f":"IF('ENTRATE-UI'!A45<>\"\",'ENTRATE-UI'!A45,\"\")","v":"QUOTA Unità U06 di proprietà CONDOMINO06"},{"$f":"'RP-UI'!Q16","v":912.07},{"$f":"'ENTRATE-UI'!C45","v":550},null,362.07000000000005,0,58.060000000000059,304.01,null,362.07000000000005,362.07000000000005]
[7,{"$f":"IF('ENTRATE-UI'!A46<>\"\",'ENTRATE-UI'!A46,\"\")","v":"QUOTA Unità U07 di proprietà CONDOMINO07"},{"$f":"'RP-UI'!Q17","v":482.8},{"$f":"'ENTRATE-UI'!C46","v":482.8},null,0,0,0,0,0,0,0]
[8,{"$f":"IF('ENTRATE-UI'!A47<>\"\",'ENTRATE-UI'!A47,\"\")","v":"QUOTA Unità U08 di proprietà CONDOMINO08"},{"$f":"'RP-UI'!Q18","v":591.08000000000004},{"$f":"'ENTRATE-UI'!C47","v":396},null,195.08000000000004,0,0,195.08000000000004,null,195.08000000000004,195.08000000000004]
[9,{"$f":"IF('ENTRATE-UI'!A48<>\"\",'ENTRATE-UI'!A48,\"\")","v":"QUOTA Unità U09 di proprietà CONDOMINO09"},{"$f":"'RP-UI'!Q19","v":561.41000000000008},{"$f":"'ENTRATE-UI'!C48","v":544},null,17.410000000000082,0,0,17.410000000000053,null,17.410000000000053,17.410000000000053]
[10,{"$f":"IF('ENTRATE-UI'!A49<>\"\",'ENTRATE-UI'!A49,\"\")","v":"QUOTA Unità U10 di proprietà CONDOMINO10"},{"$f":"'RP-UI'!Q20","v":202.54999999999998},{"$f":"'ENTRATE-UI'!C49","v":200},null,2.5499999999999829,0,0,2.5499999999999687,null,2.5499999999999687,2.5499999999999687]
[11,{"$f":"IF('ENTRATE-UI'!A50<>\"\",'ENTRATE-UI'!A50,\"\")","v":"QUOTA Unità U11 di proprietà CONDOMINO11"},{"$f":"'RP-UI'!Q21","v":254.97},{"$f":"'ENTRATE-UI'!C50","v":0},null,254.97,84.99,84.99,84.990000000000009,null,254.97,254.97]
[12,{"$f":"IF('ENTRATE-UI'!A51<>\"\",'ENTRATE-UI'!A51,\"\")","v":"QUOTA Unità U12 di proprietà CONDOMINO12"},{"$f":"'RP-UI'!Q22","v":592.76},{"$f":"'ENTRATE-UI'!C51","v":177},null,415.76,20.590000000000003,197.59,197.57999999999998,null,415.76,415.76]
[13,{"$f":"IF('ENTRATE-UI'!A52<>\"\",'ENTRATE-UI'!A52,\"\")","v":"QUOTA Unità U13 di proprietà CONDOMINO13"},{"$f":"'RP-UI'!Q23","v":121.14000000000001},{"$f":"'ENTRATE-UI'!C52","v":0},null,121.14000000000001,40.380000000000003,40.380000000000003,40.38000000000001,null,121.14000000000001,121.14000000000001]
[14,{"$f":"IF('ENTRATE-UI'!A53<>\"\",'ENTRATE-UI'!A53,\"\")","v":"QUOTA Unità U14 di proprietà CONDOMINO14"},{"$f":"'RP-UI'!Q24","v":387.66},{"$f":"'ENTRATE-UI'!C53","v":300},null,87.660000000000025,0,0,87.660000000000025,null,87.660000000000025,87.660000000000025]
[15,{"$f":"IF('ENTRATE-UI'!A54<>\"\",'ENTRATE-UI'!A54,\"\")","v":"QUOTA Unità U15 di proprietà CONDOMINO15"},{"$f":"'RP-UI'!Q25","v":1983.5500000000002},{"$f":"'ENTRATE-UI'!C54","v":490},null,1493.5500000000002,171.19000000000005,661.19,661.17000000000007,null,1493.5500000000002,1493.5500000000002]
[16,{"$f":"IF('ENTRATE-UI'!A55<>\"\",'ENTRATE-UI'!A55,\"\")","v":"QUOTA Unità U16 di proprietà CONDOMINO16"},{"$f":"'RP-UI'!Q26","v":1219.8599999999999},{"$f":"'ENTRATE-UI'!C55","v":720},null,499.8599999999999,0,93.240000000000009,406.61999999999989,null,499.8599999999999,499.8599999999999]
[17,{"$f":"IF('ENTRATE-UI'!A56<>\"\",'ENTRATE-UI'!A56,\"\")","v":"QUOTA Unità U17 di proprietà CONDOMINO17"},{"$f":"'RP-UI'!Q27","v":960.26},{"$f":"'ENTRATE-UI'!C56","v":800},null,160.26,0,0,160.26,null,160.26,160.26]
[18,{"$f":"IF('ENTRATE-UI'!A57<>\"\",'ENTRATE-UI'!A57,\"\")","v":"QUOTA Unità U18 di proprietà CONDOMINO18"},{"$f":"'RP-UI'!Q28","v":1284.48},{"$f":"'ENTRATE-UI'!C57","v":377},null,907.48,51.160000000000025,428.16,428.15999999999997,null,907.48,907.48]
[19,{"$f":"IF('ENTRATE-UI'!A58<>\"\",'ENTRATE-UI'!A58,\"\")","v":"QUOTA Unità U19 di proprietà CONDOMINO19"},{"$f":"'RP-UI'!Q29","v":764.67},{"$f":"'ENTRATE-UI'!C58","v":285},null,479.66999999999996,0,224.78000000000003,254.88999999999993,null,479.66999999999996,479.66999999999996]
[20,{"$f":"IF('ENTRATE-UI'!A59<>\"\",'ENTRATE-UI'!A59,\"\")","v":"QUOTA Unità U20 di proprietà CONDOMINO07"},{"$f":"'RP-UI'!Q30","v":809.4},{"$f":"'ENTRATE-UI'!C59","v":521.5},null,287.89999999999998,0,18.100000000000023,269.79999999999995,null,287.89999999999998,287.89999999999998]
[21,{"$f":"IF('ENTRATE-UI'!A60<>\"\",'ENTRATE-UI'!A60,\"\")","v":"QUOTA Unità U21 di proprietà CONDOMINO08"},{"$f":"'RP-UI'!Q31","v":453.89},{"$f":"'ENTRATE-UI'!C60","v":100},null,353.89,51.300000000000011,151.30000000000001,151.28999999999996,null,353.89,353.89]
[22,{"$f":"IF('ENTRATE-UI'!A61<>\"\",'ENTRATE-UI'!A61,\"\")","v":"QUOTA Unità U22 di proprietà CONDOMINO19"},{"$f":"'RP-UI'!Q32","v":251.73000000000002},{"$f":"'ENTRATE-UI'!C61","v":243},null,8.7300000000000182,0,0,8.7300000000000324,null,8.7300000000000324,8.7300000000000324]
[23,{"$f":"IF('ENTRATE-UI'!A62<>\"\",'ENTRATE-UI'!A62,\"\")","v":""},{"$f":"'RP-UI'!Q33","v":0},{"$f":"'ENTRATE-UI'!C62","v":0},null,0,0,0,0,0,0,0]
[24,{"$f":"IF('ENTRATE-UI'!A63<>\"\",'ENTRATE-UI'!A63,\"\")","v":""},{"$f":"'RP-UI'!Q34","v":0},{"$f":"'ENTRATE-UI'!C63","v":0},null,0,0,0,0,0,0,0]
[25,{"$f":"IF('ENTRATE-UI'!A64<>\"\",'ENTRATE-UI'!A64,\"\")","v":""},{"$f":"'RP-UI'!Q35","v":0},{"$f":"'ENTRATE-UI'!C64","v":0},null,{"$f":"SUM(C35:C35)-SUM(D35:E35)","v":0},0,0,0,0,0,0]
[26,{"$f":"IF('ENTRATE-UI'!A65<>\"\",'ENTRATE-UI'!A65,\"\")","v":""},{"$f":"'RP-UI'!Q36","v":0},{"$f":"'ENTRATE-UI'!C65","v":0},null,0,0,0,0,0,0,0]
[27,{"$f":"IF('ENTRATE-UI'!A66<>\"\",'ENTRATE-UI'!A66,\"\")","v":""},{"$f":"'RP-UI'!Q37","v":0},{"$f":"'ENTRATE-UI'!C66","v":0},null,0,0,0,0,0,0,0]
[28,{"$f":"IF('ENTRATE-UI'!A67<>\"\",'ENTRATE-UI'!A67,\"\")","v":""},{"$f":"'RP-UI'!Q38","v":0},{"$f":"'ENTRATE-UI'!C67","v":0},null,0,0,0,0,0,0,0]
[29,{"$f":"IF('ENTRATE-UI'!A68<>\"\",'ENTRATE-UI'!A68,\"\")","v":""},{"$f":"'RP-UI'!Q39","v":0},{"$f":"'ENTRATE-UI'!C68","v":0},null,0,0,0,0,0,0,0]
[30,{"$f":"IF('ENTRATE-UI'!A69<>\"\",'ENTRATE-UI'!A69,\"\")","v":""},{"$f":"'RP-UI'!Q40","v":0},{"$f":"'ENTRATE-UI'!C69","v":0},null,0,0,0,0,0,0,0]
[31,{"$f":"IF('ENTRATE-UI'!A70<>\"\",'ENTRATE-UI'!A70,\"\")","v":""},{"$f":"'RP-UI'!Q41","v":0},{"$f":"'ENTRATE-UI'!C70","v":0},null,0,0,0,0,0,0,0]
[32,{"$f":"IF('ENTRATE-UI'!A71<>\"\",'ENTRATE-UI'!A71,\"\")","v":""},{"$f":"'RP-UI'!Q42","v":0},{"$f":"'ENTRATE-UI'!C71","v":0},null,0,0,0,0,0,0,0]
[33,{"$f":"IF('ENTRATE-UI'!A72<>\"\",'ENTRATE-UI'!A72,\"\")","v":""},{"$f":"'RP-UI'!Q43","v":0},{"$f":"'ENTRATE-UI'!C72","v":0},null,0,0,0,0,0,0,0]
[34,{"$f":"IF('ENTRATE-UI'!A73<>\"\",'ENTRATE-UI'!A73,\"\")","v":""},{"$f":"'RP-UI'!Q44","v":0},{"$f":"'ENTRATE-UI'!C73","v":0},null,0,0,0,0,0,0,0]
[35,{"$f":"IF('ENTRATE-UI'!A74<>\"\",'ENTRATE-UI'!A74,\"\")","v":""},{"$f":"'RP-UI'!Q45","v":0},{"$f":"'ENTRATE-UI'!C74","v":0},null,0,0,0,0,0,0,0]
[36,{"$f":"IF('ENTRATE-UI'!A75<>\"\",'ENTRATE-UI'!A75,\"\")","v":""},{"$f":"'RP-UI'!Q46","v":0},{"$f":"'ENTRATE-UI'!C75","v":0},null,0,0,0,0,0,0,0]
[37,{"$f":"IF('ENTRATE-UI'!A76<>\"\",'ENTRATE-UI'!A76,\"\")","v":""},{"$f":"'RP-UI'!Q47","v":0},{"$f":"'ENTRATE-UI'!C76","v":0},null,0,0,0,0,0,0,0]
[38,{"$f":"IF('ENTRATE-UI'!A77<>\"\",'ENTRATE-UI'!A77,\"\")","v":""},{"$f":"'RP-UI'!Q48","v":0},{"$f":"'ENTRATE-UI'!C77","v":0},null,0,0,0,0,0,0,0]
[39,{"$f":"IF('ENTRATE-UI'!A78<>\"\",'ENTRATE-UI'!A78,\"\")","v":""},{"$f":"'RP-UI'!Q49","v":0},{"$f":"'ENTRATE-UI'!C78","v":0},null,0,0,0,0,0,0,0]
[40,{"$f":"IF('ENTRATE-UI'!A79<>\"\",'ENTRATE-UI'!A79,\"\")","v":""},{"$f":"'RP-UI'!Q50","v":0},{"$f":"'ENTRATE-UI'!C79","v":0},null,0,0,0,0,0,0,0]
[41,{"$f":"IF('ENTRATE-UI'!A80<>\"\",'ENTRATE-UI'!A80,\"\")","v":""},{"$f":"'RP-UI'!Q51","v":0},{"$f":"'ENTRATE-UI'!C80","v":0},null,0,0,0,0,0,0,0]
[42,{"$f":"IF('ENTRATE-UI'!A81<>\"\",'ENTRATE-UI'!A81,\"\")","v":""},{"$f":"'RP-UI'!Q52","v":0},{"$f":"'ENTRATE-UI'!C81","v":0},null,0,0,0,0,0,0,0]
[43,{"$f":"IF('ENTRATE-UI'!A82<>\"\",'ENTRATE-UI'!A82,\"\")","v":""},{"$f":"'RP-UI'!Q53","v":0},{"$f":"'ENTRATE-UI'!C82","v":0},null,0,0,0,0,0,0,0]
[44,{"$f":"IF('ENTRATE-UI'!A83<>\"\",'ENTRATE-UI'!A83,\"\")","v":""},{"$f":"'RP-UI'!Q54","v":0},{"$f":"'ENTRATE-UI'!C83","v":0},null,0,0,0,0,0,0,0]
[45,{"$f":"IF('ENTRATE-UI'!A84<>\"\",'ENTRATE-UI'!A84,\"\")","v":""},{"$f":"'RP-UI'!Q55","v":0},{"$f":"'ENTRATE-UI'!C84","v":0},null,0,0,0,0,0,0,0]
[46,{"$f":"IF('ENTRATE-UI'!A85<>\"\",'ENTRATE-UI'!A85,\"\")","v":""},{"$f":"'RP-UI'!Q56","v":0},{"$f":"'ENTRATE-UI'!C85","v":0},null,0,0,0,0,0,0,0]
[47,{"$f":"IF('ENTRATE-UI'!A86<>\"\",'ENTRATE-UI'!A86,\"\")","v":""},{"$f":"'RP-UI'!Q57","v":0},{"$f":"'ENTRATE-UI'!C86","v":0},null,0,0,0,0,0,0,0]
[48,{"$f":"IF('ENTRATE-UI'!A87<>\"\",'ENTRATE-UI'!A87,\"\")","v":""},{"$f":"'RP-UI'!Q58","v":0},{"$f":"'ENTRATE-UI'!C87","v":0},null,0,0,0,0,0,0,0]
[49,{"$f":"IF('ENTRATE-UI'!A88<>\"\",'ENTRATE-UI'!A88,\"\")","v":""},{"$f":"'RP-UI'!Q59","v":0},{"$f":"'ENTRATE-UI'!C88","v":0},null,0,0,0,0,0,0,0]
[50,{"$f":"IF('ENTRATE-UI'!A89<>\"\",'ENTRATE-UI'!A89,\"\")","v":""},{"$f":"'RP-UI'!Q60","v":0},{"$f":"'ENTRATE-UI'!C89","v":0},null,0,0,0,0,0,0,0]
[51,{"$f":"IF('ENTRATE-UI'!A90<>\"\",'ENTRATE-UI'!A90,\"\")","v":""},{"$f":"'RP-UI'!Q61","v":0},{"$f":"'ENTRATE-UI'!C90","v":0},null,0,0,0,0,0,0,0]
[52,{"$f":"IF('ENTRATE-UI'!A91<>\"\",'ENTRATE-UI'!A91,\"\")","v":""},{"$f":"'RP-UI'!Q62","v":0},{"$f":"'ENTRATE-UI'!C91","v":0},null,0,0,0,0,0,0,0]
[53,{"$f":"IF('ENTRATE-UI'!A92<>\"\",'ENTRATE-UI'!A92,\"\")","v":""},{"$f":"'RP-UI'!Q63","v":0},{"$f":"'ENTRATE-UI'!C92","v":0},null,0,0,0,0,0,0,0]
[54,{"$f":"IF('ENTRATE-UI'!A93<>\"\",'ENTRATE-UI'!A93,\"\")","v":""},{"$f":"'RP-UI'!Q64","v":0},{"$f":"'ENTRATE-UI'!C93","v":0},null,0,0,0,0,0,0,0]
[55,{"$f":"IF('ENTRATE-UI'!A94<>\"\",'ENTRATE-UI'!A94,\"\")","v":""},{"$f":"'RP-UI'!Q65","v":0},{"$f":"'ENTRATE-UI'!C94","v":0},null,0,0,0,0,0,0,0]
[56,{"$f":"IF('ENTRATE-UI'!A95<>\"\",'ENTRATE-UI'!A95,\"\")","v":""},{"$f":"'RP-UI'!Q66","v":0},{"$f":"'ENTRATE-UI'!C95","v":0},null,0,0,0,0,0,0,0]
[57,{"$f":"IF('ENTRATE-UI'!A96<>\"\",'ENTRATE-UI'!A96,\"\")","v":""},{"$f":"'RP-UI'!Q67","v":0},{"$f":"'ENTRATE-UI'!C96","v":0},null,0,0,0,0,0,0,0]
[58,{"$f":"IF('ENTRATE-UI'!A97<>\"\",'ENTRATE-UI'!A97,\"\")","v":""},{"$f":"'RP-UI'!Q68","v":0},{"$f":"'ENTRATE-UI'!C97","v":0},null,0,0,0,0,0,0,0]
[59,{"$f":"IF('ENTRATE-UI'!A98<>\"\",'ENTRATE-UI'!A98,\"\")","v":""},{"$f":"'RP-UI'!Q69","v":0},{"$f":"'ENTRATE-UI'!C98","v":0},null,0,0,0,0,0,0,0]
[60,{"$f":"IF('ENTRATE-UI'!A99<>\"\",'ENTRATE-UI'!A99,\"\")","v":""},{"$f":"'RP-UI'!Q70","v":0},{"$f":"'ENTRATE-UI'!C99","v":0},null,0,0,0,0,0,0,0]
[61,{"$f":"IF('ENTRATE-UI'!A100<>\"\",'ENTRATE-UI'!A100,\"\")","v":""},{"$f":"'RP-UI'!Q71","v":0},{"$f":"'ENTRATE-UI'!C100","v":0},null,0,0,0,0,0,0,0]
[62,{"$f":"IF('ENTRATE-UI'!A101<>\"\",'ENTRATE-UI'!A101,\"\")","v":""},{"$f":"'RP-UI'!Q72","v":0},{"$f":"'ENTRATE-UI'!C101","v":0},null,0,0,0,0,0,0,0]
[63,{"$f":"IF('ENTRATE-UI'!A102<>\"\",'ENTRATE-UI'!A102,\"\")","v":""},{"$f":"'RP-UI'!Q73","v":0},{"$f":"'ENTRATE-UI'!C102","v":0},null,0,0,0,0,0,0,0]
[64,{"$f":"IF('ENTRATE-UI'!A103<>\"\",'ENTRATE-UI'!A103,\"\")","v":""},{"$f":"'RP-UI'!Q74","v":0},{"$f":"'ENTRATE-UI'!C103","v":0},null,0,0,0,0,0,0,0]
[65,{"$f":"IF('ENTRATE-UI'!A104<>\"\",'ENTRATE-UI'!A104,\"\")","v":""},{"$f":"'RP-UI'!Q75","v":0},{"$f":"'ENTRATE-UI'!C104","v":0},null,0,0,0,0,0,0,0]
[66,{"$f":"IF('ENTRATE-UI'!A105<>\"\",'ENTRATE-UI'!A105,\"\")","v":""},{"$f":"'RP-UI'!Q76","v":0},{"$f":"'ENTRATE-UI'!C105","v":0},null,0,0,0,0,0,0,0]
[67,{"$f":"IF('ENTRATE-UI'!A106<>\"\",'ENTRATE-UI'!A106,\"\")","v":""},{"$f":"'RP-UI'!Q77","v":0},{"$f":"'ENTRATE-UI'!C106","v":0},null,0,0,0,0,0,0,0]
[68,{"$f":"IF('ENTRATE-UI'!A107<>\"\",'ENTRATE-UI'!A107,\"\")","v":""},{"$f":"'RP-UI'!Q78","v":0},{"$f":"'ENTRATE-UI'!C107","v":0},null,0,0,0,0,0,0,0]
[69,{"$f":"IF('ENTRATE-UI'!A108<>\"\",'ENTRATE-UI'!A108,\"\")","v":""},{"$f":"'RP-UI'!Q79","v":0},{"$f":"'ENTRATE-UI'!C108","v":0},null,0,0,0,0,0,0,0]
[70,{"$f":"IF('ENTRATE-UI'!A109<>\"\",'ENTRATE-UI'!A109,\"\")","v":""},{"$f":"'RP-UI'!Q80","v":0},{"$f":"'ENTRATE-UI'!C109","v":0},null,0,0,0,0,0,0,0]
[71,{"$f":"IF('ENTRATE-UI'!A110<>\"\",'ENTRATE-UI'!A110,\"\")","v":""},{"$f":"'RP-UI'!Q81","v":0},{"$f":"'ENTRATE-UI'!C110","v":0},null,0,0,0,0,0,0,0]
[72,{"$f":"IF('ENTRATE-UI'!A111<>\"\",'ENTRATE-UI'!A111,\"\")","v":""},{"$f":"'RP-UI'!Q82","v":0},{"$f":"'ENTRATE-UI'!C111","v":0},null,0,0,0,0,0,0,0]
[73,{"$f":"IF('ENTRATE-UI'!A112<>\"\",'ENTRATE-UI'!A112,\"\")","v":""},{"$f":"'RP-UI'!Q83","v":0},{"$f":"'ENTRATE-UI'!C112","v":0},null,0,0,0,0,0,0,0]
[74,{"$f":"IF('ENTRATE-UI'!A113<>\"\",'ENTRATE-UI'!A113,\"\")","v":""},{"$f":"'RP-UI'!Q84","v":0},{"$f":"'ENTRATE-UI'!C113","v":0},null,0,0,0,0,0,0,0]
[75,{"$f":"IF('ENTRATE-UI'!A114<>\"\",'ENTRATE-UI'!A114,\"\")","v":""},{"$f":"'RP-UI'!Q85","v":0},{"$f":"'ENTRATE-UI'!C114","v":0},null,0,0,0,0,0,0,0]
[76,{"$f":"IF('ENTRATE-UI'!A115<>\"\",'ENTRATE-UI'!A115,\"\")","v":""},{"$f":"'RP-UI'!Q86","v":0},{"$f":"'ENTRATE-UI'!C115","v":0},null,0,0,0,0,0,0,0]
[77,{"$f":"IF('ENTRATE-UI'!A116<>\"\",'ENTRATE-UI'!A116,\"\")","v":""},{"$f":"'RP-UI'!Q87","v":0},{"$f":"'ENTRATE-UI'!C116","v":0},null,0,0,0,0,0,0,0]
[78,{"$f":"IF('ENTRATE-UI'!A117<>\"\",'ENTRATE-UI'!A117,\"\")","v":""},{"$f":"'RP-UI'!Q88","v":0},{"$f":"'ENTRATE-UI'!C117","v":0},null,0,0,0,0,0,0,0]
[79,{"$f":"IF('ENTRATE-UI'!A118<>\"\",'ENTRATE-UI'!A118,\"\")","v":""},{"$f":"'RP-UI'!Q89","v":0},{"$f":"'ENTRATE-UI'!C118","v":0},null,0,0,0,0,0,0,0]
[80,{"$f":"IF('ENTRATE-UI'!A119<>\"\",'ENTRATE-UI'!A119,\"\")","v":""},{"$f":"'RP-UI'!Q90","v":0},{"$f":"'ENTRATE-UI'!C119","v":0},null,0,0,0,0,0,0,0]
[81,{"$f":"IF('ENTRATE-UI'!A120<>\"\",'ENTRATE-UI'!A120,\"\")","v":""},{"$f":"'RP-UI'!Q91","v":0},{"$f":"'ENTRATE-UI'!C120","v":0},null,0,0,0,0,0,0,0]
[82,{"$f":"IF('ENTRATE-UI'!A121<>\"\",'ENTRATE-UI'!A121,\"\")","v":""},{"$f":"'RP-UI'!Q92","v":0},{"$f":"'ENTRATE-UI'!C121","v":0},null,0,0,0,0,0,0,0]
[83,{"$f":"IF('ENTRATE-UI'!A122<>\"\",'ENTRATE-UI'!A122,\"\")","v":""},{"$f":"'RP-UI'!Q93","v":0},{"$f":"'ENTRATE-UI'!C122","v":0},null,0,0,0,0,0,0,0]
[84,{"$f":"IF('ENTRATE-UI'!A123<>\"\",'ENTRATE-UI'!A123,\"\")","v":""},{"$f":"'RP-UI'!Q94","v":0},{"$f":"'ENTRATE-UI'!C123","v":0},null,0,0,0,0,0,0,0]
[85,{"$f":"IF('ENTRATE-UI'!A124<>\"\",'ENTRATE-UI'!A124,\"\")","v":""},{"$f":"'RP-UI'!Q95","v":0},{"$f":"'ENTRATE-UI'!C124","v":0},null,0,0,0,0,0,0,0]
[86,{"$f":"IF('ENTRATE-UI'!A125<>\"\",'ENTRATE-UI'!A125,\"\")","v":""},{"$f":"'RP-UI'!Q96","v":0},{"$f":"'ENTRATE-UI'!C125","v":0},null,0,0,0,0,0,0,0]
[87,{"$f":"IF('ENTRATE-UI'!A126<>\"\",'ENTRATE-UI'!A126,\"\")","v":""},{"$f":"'RP-UI'!Q97","v":0},{"$f":"'ENTRATE-UI'!C126","v":0},null,0,0,0,0,0,0,0]
[88,{"$f":"IF('ENTRATE-UI'!A127<>\"\",'ENTRATE-UI'!A127,\"\")","v":""},{"$f":"'RP-UI'!Q98","v":0},{"$f":"'ENTRATE-UI'!C127","v":0},null,0,0,0,0,0,0,0]
[89,{"$f":"IF('ENTRATE-UI'!A128<>\"\",'ENTRATE-UI'!A128,\"\")","v":""},{"$f":"'RP-UI'!Q99","v":0},{"$f":"'ENTRATE-UI'!C128","v":0},null,{"$f":"SUM(C99:C99)-SUM(D99:E99)","v":0},0,0,0,0,0,0]
[90,{"$f":"IF('ENTRATE-UI'!A129<>\"\",'ENTRATE-UI'!A129,\"\")","v":""},{"$f":"'RP-UI'!Q100","v":0},{"$f":"'ENTRATE-UI'!C129","v":0},null,0,0,0,0,0,0,0]
[91,{"$f":"IF('ENTRATE-UI'!A130<>\"\",'ENTRATE-UI'!A130,\"\")","v":""},{"$f":"'RP-UI'!Q101","v":0},{"$f":"'ENTRATE-UI'!C130","v":0},null,0,0,0,0,0,0,0]
[92,{"$f":"IF('ENTRATE-UI'!A131<>\"\",'ENTRATE-UI'!A131,\"\")","v":""},{"$f":"'RP-UI'!Q102","v":0},{"$f":"'ENTRATE-UI'!C131","v":0},null,0,0,0,0,0,0,0]
[93,{"$f":"IF('ENTRATE-UI'!A132<>\"\",'ENTRATE-UI'!A132,\"\")","v":""},{"$f":"'RP-UI'!Q103","v":0},{"$f":"'ENTRATE-UI'!C132","v":0},null,0,0,0,0,0,0,0]
[94,{"$f":"IF('ENTRATE-UI'!A133<>\"\",'ENTRATE-UI'!A133,\"\")","v":""},{"$f":"'RP-UI'!Q104","v":0},{"$f":"'ENTRATE-UI'!C133","v":0},null,0,0,0,0,0,0,0]
[95,{"$f":"IF('ENTRATE-UI'!A134<>\"\",'ENTRATE-UI'!A134,\"\")","v":""},{"$f":"'RP-UI'!Q105","v":0},{"$f":"'ENTRATE-UI'!C134","v":0},null,0,0,0,0,0,0,0]
[96,{"$f":"IF('ENTRATE-UI'!A135<>\"\",'ENTRATE-UI'!A135,\"\")","v":""},{"$f":"'RP-UI'!Q106","v":0},{"$f":"'ENTRATE-UI'!C135","v":0},null,0,0,0,0,0,0,0]
[97,{"$f":"IF('ENTRATE-UI'!A136<>\"\",'ENTRATE-UI'!A136,\"\")","v":""},{"$f":"'RP-UI'!Q107","v":0},{"$f":"'ENTRATE-UI'!C136","v":0},null,{"$f":"SUM(C107:C107)-SUM(D107:E107)","v":0},0,0,0,0,0,0]
[98,{"$f":"IF('ENTRATE-UI'!A137<>\"\",'ENTRATE-UI'!A137,\"\")","v":""},{"$f":"'RP-UI'!Q108","v":0},{"$f":"'ENTRATE-UI'!C137","v":0},null,{"$f":"SUM(C108:C108)-SUM(D108:E108)","v":0},0,0,0,0,0,0]
[99,{"$f":"IF('ENTRATE-UI'!A138<>\"\",'ENTRATE-UI'!A138,\"\")","v":""},{"$f":"'RP-UI'!Q109","v":0},{"$f":"'ENTRATE-UI'!C138","v":0},null,{"$f":"SUM(C109:C109)-SUM(D109:E109)","v":0},0,0,0,0,0,0]
["TOTALI",null,{"$f":"SUM(C11:C109)","v":17190},8169.9500000000007,null,9020.0499999999993,704.90000000000009,3259.37,5055.7800000000007,0,9020.0499999999993,9020.0499999999993]
["Il prospetto riporta la situazione debitoria dei condomini nei confronti del condominio (importi negativi indicano al contrario i crediti vantati dal condomino nei confronti del condominio).\nLa situazione è aggiornata alla data dell'ultima operazione registrata sul giornale contabile.\nPer ogni condomino sono riportati gli importi a debito e le date entro le quali occorreva o occore adempiere al relativo pagamento. \nNelle ultime due colonne sono riepilogati gli importi dei debiti già scaduti e quelli per i quali il condomino è da considerare in mora e quindi oggetto di possibile diffida, per scadenze oltre la dilazione.  "]

{"sheet":"COMUNICAZIONE-DF","index":40,"n_rows":128,"n_cols":19,"rows_kept":128,"cut":false,"hidden":true,"merged":[[2,0,2,18],[3,3,3,9],[125,1,125,8],[125,9,125,14],[125,17,127,17],[126,1,126,8],[126,9,126,14],[127,1,127,8],[127,9,127,14]]}
[]
[]
[{"$f":"\"PROSPETTO DELLE QUOTE DA COMUNICARE ALL'AGENZIA DELLE ENTRATE QUALI SPESE DETRAIBILI PER LAVORI CONDOMINIALI\" & CHAR(10)\n & DATIG!A40 & \": \"  & DATIG!A37 & CHAR(10) &\"QUOTE RELATIVE ALL'ANNO :  \" & DATIG!A58","v":"PROSPETTO DELLE QUOTE DA COMUNICARE ALL'AGENZIA DELLE ENTRATE QUALI SPESE DETRAIBILI PER LAVORI CONDOMINIALI\nLavori messa in sicurezza fondazioni da infiltrazioni fognarie: LAVORO-01\nQUOTE RELATIVE ALL'ANNO :  2019"}]
["INTERVENTO",null,null,"DATI DELL'UNITÀ IMMOBILIARE",null,null,null,null,null,null,null,null,"SOGGETTO CUI È STATA ATTRIBUITA LA SPESA"]
["QUOTA DETR. n.","INTERVENTO","TIPO DI INTERVENTO","COMUNE\nCATASTALE","Foglio","Particella","Subalterno","Categoria","DESTINAZIONE","Unità","Pertinenza 1","Pertinenza 2","Codice Condomino","SOGGETTO","CODICE\nFISCALE","TIPO DI SOGGETTO","IMPORTO SPESA\nDETRAIBILE","PAGAMENTO\nEFFETTUATO","Numero U.I\na cui è riferita la spesa."]
[1,1,"1","I872",40,55,1,null,"Abitazione","U01",null,null,"C01","SOGGETTO01-01","PPPKKK00G00T100Q","0",235,"S",{"$f":"COUNTA(J6:L6)","v":1}]
[2,1,"1","I872",40,55,2,null,"Abitazione","U02",null,null,"C02","SOGGETTO01-02","PPPKKK00G00T200Q","0",282,"N",{"$f":"COUNTA(J7:L7)","v":1}]
[3,1,"1","I872",40,55,3,null,"Abitazione","U03",null,null,"C03","SOGGETTO01-03","PPPKKK00G00T300Q","0",268,"S",1]
[4,1,"1","I872",40,55,4,null,"Abitazione","U04",null,null,"C04","SOGGETTO01-04","PPPKKK00G00T400Q","0",194,"N",1]
[5,1,"1","I872",40,55,5,null,"Abitazione","U05",null,null,"C05","SOGGETTO01-05","PPPKKK00G00T500Q","0",240,"N",1]
[6,1,"1","I872",40,55,6,null,"Abitazione","U06",null,null,"C06","SOGGETTO01-06","PPPKKK00G00T600Q","0",228,"S",1]
[7,1,"1","I872",40,55,7,null,"Abitazione","U07",null,null,"C07","SOGGETTO01-07","PPPKKK00G00T700Q","0",142,"S",1]
[8,1,"1","I872",40,55,8,null,"Abitazione","U08","U21",null,"C08","SOGGETTO01-08","PPPKKK00G00T800Q","0",157,"N",2]
[9,1,"1","I872",40,55,8,null,"Abitazione","U08","U21",null,"C08","SOGGETTO02-08","UUUKKK00G00T100Q","0",157,"N",2]
[10,1,"1","I872",40,55,9,null,"Abitazione","U09",null,null,"C09","SOGGETTO01-09","PPPKKK00G00T900Q",1,165,"S",1]
[11,1,"1","I872",40,55,10,null,"Abitazione","U10",null,null,"C10","SOGGETTO01-10","PPPKKK00G00T110Q","0",86,"S",1]
[12,1,"1","I872",40,55,11,null,"Abitazione","U11",null,null,"C11","SOGGETTO01-11","PPPKKK00G00T120Q","0",130,"N",1]
[13,1,"1","I872",40,55,12,null,"Abitazione","U12",null,null,"C12","SOGGETTO01-12","PPPKKK00G00T130Q","0",80,"S",1]
[14,1,"1","I872",40,55,13,null,"Abitazione","U13",null,null,"C13","SOGGETTO01-13","00044455566","0",36,"N",1]
[15,1,"1","I872",40,55,14,null,"Abitazione","U14",null,null,"C14","SOGGETTO01-14","PPPKKK00G00T150Q","0",57,"S",1]
[16,1,"1","I872",40,55,14,null,"Abitazione","U14",null,null,"C14","SOGGETTO02-14","UUUKKK00G00T200Q","0",57,"S",1]
[17,1,"1","I872",40,55,15,null,"Abitazione","U15",null,null,"C15","SOGGETTO01-15","PPPKKK00G00T160Q","2",512,"N",1]
[18,1,"1","I872",40,55,16,null,"Abitazione","U16",null,null,"C16","SOGGETTO01-16","PPPKKK00G00T170Q","0",308,"S",1]
[19,1,"1","I872",40,55,17,null,"Garage","U17",null,null,"C17","SOGGETTO01-17","PPPKKK00G00T180Q","0",242,"S",1]
[20,1,"1","I872",40,55,18,null,"Abitazione","U18",null,null,"C18","SOGGETTO01-18","PPPKKK00G00T190Q","0",253,"N",1]
[21,1,"1","I872",40,55,24,null,"Abitazione","U19",null,null,"C19","SOGGETTO01-19","PPPKKK00G00T200Q","0",104,"N",1]
[22,1,"1","I872",40,55,24,null,"Abitazione","U19",null,null,"C19","SOGGETTO02-19","UUUKKK00G00T300Q","0",52,"N",1]
[23,1,"1","I872",40,55,24,null,"Abitazione","U19",null,null,"C19","SOGGETTO03-19","ZZZKKK55G55T555Q",1,52,"N",1]
[24,1,"1","I872",40,55,23,null,"Abitazione","U20",null,null,"C07","SOGGETTO01-20","PPPKKK00J00T200W","0",274,"S",1]
[25,1,"1","I872",40,55,55,null,"Abitazione","U22",null,null,"C19","SOGGETTO01-19","PPPKKK00G00T200Q","0",55,"S",1]
[26,1,"1","I872",40,55,55,null,"Abitazione","U22",null,null,"C19","SOGGETTO02-19","UUUKKK00G00T300Q","0",27,"S",1]
[27,1,"1","I872",40,55,55,null,"Abitazione","U22",null,null,"C19","SOGGETTO03-19","ZZZKKK55G55T555Q",1,27,"S",1]
[]
[]
[]
[]
[]
[]
[]
[]
[]
[]
[]
[]
[]
[]
[]
[]
[]
[]
[]
[]
[]
[]
[]
[]
[]
[]
[]
[]
[]
[]
[]
[]
[]
[]
[]
[]
[]
[]
[]
[]
[]
[]
[]
[]
[]
[]
[]
[]
[]
[]
[]
[]
[]
[]
[]
[]
[]
[]
[]
[]
[]
[]
[]
[]
[]
[]
[]
[]
[]
[]
[]
[]
[]
[]
[]
[]
[]
[]
[]
[]
[]
[]
[]
[]
[]
[]
[]
[]
[]
[]
[]
[]
[]
[{"$f":"COUNTA(A6:A125)","v":27},"Numero Totale Quote Detraibili",null,null,null,null,null,null,null,"IMPORTO TOTALE QUOTE",null,null,null,null,null,null,{"$f":"SUM(Q6:Q123)","v":4420}]
[{"$f":"A126-A128","v":26},"Numero Quote da comunicare",null,null,null,null,null,null,null,"IMPORTO TOTALE QUOTE PERSONE FISICHE [da comunicare]",null,null,null,null,null,null,{"$f":"SUMIF(O6:O123,\"????????????????\",Q6:Q123)","v":4384}]
[{"$f":"COUNTIF(O6:O123,\"???????????\")","v":1},"Numero Quote da non comunicare",null,null,null,null,null,null,null,"IMPORTO TOTALE QUOTE PERSONE GIURIDICHE [da non comunicare]",null,null,null,null,null,null,{"$f":"SUMIF(O6:O123,\"???????????\",Q6:Q123)","v":36}]

{"sheet":"RIPSUBCOND","index":41,"n_rows":56,"n_cols":11,"rows_kept":56,"cut":false,"hidden":true,"merged":[[1,0,1,10],[2,0,2,5],[2,7,2,9],[3,0,3,6],[3,7,3,10]]}
[]
["RIPARTIZIONE DI SPESE PER SUB-CONDOMINIO (o CONDOMINIO PARZIALE)"]
["IMPORTO DELLA SPESA DA RIPARTIRE",null,null,null,null,null,3421.23,"TABELLA DI RIPARTIZIONE",null,null,"A"]
["RIPARTO PER UNITÀ IMMOBILIARE",null,null,null,null,null,null,"RIPARTO PER CONDOMINO"]
["n.","Unità \nimmobiliare","Codice\nCondomino","Condomino","MILLESIMI\nDI\nTABELLA","MILLESIMI\ndi\nSUBCONDOMINIO","QUOTA\nDI\nRIPARTO","Codice\nCondomino","Condomino","MILLESIMI\ndi\nSUBCONDOMINIO","QUOTA\nDI\nRIPARTO"]
[1,"U03",{"$f":"IF(B6<>\"\",VLOOKUP(B6,'TAB-UI'!$B$11:$D$109,3,FALSE),\"\")","v":"C03"},{"$f":"IF(B6<>\"\",VLOOKUP(B6,'TAB-UI'!$B$11:$E$109,4,FALSE),\"\")","v":"CONDOMINO03"},45.34,142.20253982392478,486.50759532180621,"C01",{"$f":"IF(H6<>\"\",VLOOKUP(H6,$C$6:$D$55,2,FALSE),\"\")","v":"CONDOMINO01"},{"$f":"IF(H6<>\"\",SUMIFS($F$6:$F$55,$C$6:$C$55,H6),0)","v":124.31588158361063},{"$f":"IF(H6<>\"\",SUMIFS($G$6:$G$55,$C$6:$C$55,H6),0)","v":425.31322355029619}]
[2,"U09",{"$f":"IF(B7<>\"\",VLOOKUP(B7,'TAB-UI'!$B$11:$D$109,3,FALSE),\"\")","v":"C09"},{"$f":"IF(B7<>\"\",VLOOKUP(B7,'TAB-UI'!$B$11:$E$109,4,FALSE),\"\")","v":"CONDOMINO09"},47.052,147.57198729147129,504.87771008120029,"C02",{"$f":"IF(H7<>\"\",VLOOKUP(H7,$C$6:$D$55,2,FALSE),\"\")","v":"CONDOMINO02"},{"$f":"IF(H7<>\"\",SUMIFS($F$6:$F$55,$C$6:$C$55,H7),0)","v":149.18407607553607},{"$f":"IF(H7<>\"\",SUMIFS($G$6:$G$55,$C$6:$C$55,H7),0)","v":510.39303659190625}]
[3,"U05",{"$f":"IF(B8<>\"\",VLOOKUP(B8,'TAB-UI'!$B$11:$D$109,3,FALSE),\"\")","v":"C05"},{"$f":"IF(B8<>\"\",VLOOKUP(B8,'TAB-UI'!$B$11:$E$109,4,FALSE),\"\")","v":"CONDOMINO05"},50.970999999999997,159.86338018008976,546.92939217352853,"C03","CONDOMINO03",142.20253982392478,486.50759532180621]
[4,"U11",{"$f":"IF(B9<>\"\",VLOOKUP(B9,'TAB-UI'!$B$11:$D$109,3,FALSE),\"\")","v":"C11"},{"$f":"IF(B9<>\"\",VLOOKUP(B9,'TAB-UI'!$B$11:$E$109,4,FALSE),\"\")","v":"CONDOMINO11"},45.631999999999998,143.11835679852967,489.64081582983368,"C05","CONDOMINO05",159.86338018008976,546.92939217352853]
[5,"U13",{"$f":"IF(B10<>\"\",VLOOKUP(B10,'TAB-UI'!$B$11:$D$109,3,FALSE),\"\")","v":"C13"},{"$f":"IF(B10<>\"\",VLOOKUP(B10,'TAB-UI'!$B$11:$E$109,4,FALSE),\"\")","v":"CONDOMINO13"},10.153,31.843458024532602,108.94379389727168,"C09","CONDOMINO09",147.57198729147129,504.87771008120029]
[6,"U14",{"$f":"IF(B11<>\"\",VLOOKUP(B11,'TAB-UI'!$B$11:$D$109,3,FALSE),\"\")","v":"C14"},{"$f":"IF(B11<>\"\",VLOOKUP(B11,'TAB-UI'!$B$11:$E$109,4,FALSE),\"\")","v":"CONDOMINO14"},32.49,101.90032022230517,348.62443255415712,"C11","CONDOMINO11",143.11835679852967,489.64081582983368]
[7,"U01",{"$f":"IF(B12<>\"\",VLOOKUP(B12,'TAB-UI'!$B$11:$D$109,3,FALSE),\"\")","v":"C01"},{"$f":"IF(B12<>\"\",VLOOKUP(B12,'TAB-UI'!$B$11:$E$109,4,FALSE),\"\")","v":"CONDOMINO01"},39.637,124.31588158361063,425.31322355029619,"C13","CONDOMINO13",31.843458024532602,108.94379389727168]
[8,"U02",{"$f":"IF(B13<>\"\",VLOOKUP(B13,'TAB-UI'!$B$11:$D$109,3,FALSE),\"\")","v":"C02"},{"$f":"IF(B13<>\"\",VLOOKUP(B13,'TAB-UI'!$B$11:$E$109,4,FALSE),\"\")","v":"CONDOMINO02"},47.566000000000003,149.18407607553607,510.39303659190625,"C14","CONDOMINO14",101.90032022230517,348.62443255415712]
[9,null,{"$f":"IF(B14<>\"\",VLOOKUP(B14,'TAB-UI'!$A$11:$D$110,16,FALSE),\"\")","v":""},{"$f":"IF(B14<>\"\",VLOOKUP(B14,'TAB-UI'!$A$11:$E$109,4,FALSE),\"\")","v":""},null,0,0,"","",0,0]
[10,null,{"$f":"IF(B15<>\"\",VLOOKUP(B15,'TAB-UI'!$A$11:$D$110,16,FALSE),\"\")","v":""},{"$f":"IF(B15<>\"\",VLOOKUP(B15,'TAB-UI'!$A$11:$E$109,4,FALSE),\"\")","v":""},null,0,0,null,"",0,0]
[11,null,{"$f":"IF(B16<>\"\",VLOOKUP(B16,'TAB-UI'!$A$11:$D$110,16,FALSE),\"\")","v":""},{"$f":"IF(B16<>\"\",VLOOKUP(B16,'TAB-UI'!$A$11:$E$109,4,FALSE),\"\")","v":""},null,0,0,null,"",0,0]
[12,null,{"$f":"IF(B17<>\"\",VLOOKUP(B17,'TAB-UI'!$A$11:$D$110,16,FALSE),\"\")","v":""},{"$f":"IF(B17<>\"\",VLOOKUP(B17,'TAB-UI'!$A$11:$E$109,4,FALSE),\"\")","v":""},null,0,0,null,"",0,0]
[13,null,{"$f":"IF(B18<>\"\",VLOOKUP(B18,'TAB-UI'!$A$11:$D$110,16,FALSE),\"\")","v":""},{"$f":"IF(B18<>\"\",VLOOKUP(B18,'TAB-UI'!$A$11:$E$109,4,FALSE),\"\")","v":""},null,0,0,null,"",0,0]
[14,null,{"$f":"IF(B19<>\"\",VLOOKUP(B19,'TAB-UI'!$A$11:$D$110,16,FALSE),\"\")","v":""},{"$f":"IF(B19<>\"\",VLOOKUP(B19,'TAB-UI'!$A$11:$E$109,4,FALSE),\"\")","v":""},null,0,0,null,"",0,0]
[15,null,{"$f":"IF(B20<>\"\",VLOOKUP(B20,'TAB-UI'!$A$11:$D$110,16,FALSE),\"\")","v":""},{"$f":"IF(B20<>\"\",VLOOKUP(B20,'TAB-UI'!$A$11:$E$109,4,FALSE),\"\")","v":""},null,0,0,null,"",0,0]
[16,null,{"$f":"IF(B21<>\"\",VLOOKUP(B21,'TAB-UI'!$A$11:$D$110,16,FALSE),\"\")","v":""},{"$f":"IF(B21<>\"\",VLOOKUP(B21,'TAB-UI'!$A$11:$E$109,4,FALSE),\"\")","v":""},null,0,0,null,"",0,0]
[17,null,{"$f":"IF(B22<>\"\",VLOOKUP(B22,'TAB-UI'!$A$11:$D$110,16,FALSE),\"\")","v":""},{"$f":"IF(B22<>\"\",VLOOKUP(B22,'TAB-UI'!$A$11:$E$109,4,FALSE),\"\")","v":""},null,0,0,null,"",0,0]
[18,null,{"$f":"IF(B23<>\"\",VLOOKUP(B23,'TAB-UI'!$A$11:$D$110,16,FALSE),\"\")","v":""},{"$f":"IF(B23<>\"\",VLOOKUP(B23,'TAB-UI'!$A$11:$E$110,17,FALSE),\"\")","v":""},null,0,0,null,"",0,0]
[19,null,{"$f":"IF(B24<>\"\",VLOOKUP(B24,'TAB-UI'!$A$11:$D$110,16,FALSE),\"\")","v":""},{"$f":"IF(B24<>\"\",VLOOKUP(B24,'TAB-UI'!$A$11:$E$110,17,FALSE),\"\")","v":""},null,0,0,null,"",0,0]
[20,null,{"$f":"IF(B25<>\"\",VLOOKUP(B25,'TAB-UI'!$A$11:$D$110,16,FALSE),\"\")","v":""},{"$f":"IF(B25<>\"\",VLOOKUP(B25,'TAB-UI'!$A$11:$E$110,17,FALSE),\"\")","v":""},null,0,0,null,"",0,0]
[21,null,{"$f":"IF(B26<>\"\",VLOOKUP(B26,'TAB-UI'!$A$11:$D$110,16,FALSE),\"\")","v":""},{"$f":"IF(B26<>\"\",VLOOKUP(B26,'TAB-UI'!$A$11:$E$110,17,FALSE),\"\")","v":""},null,0,0,null,"",0,0]
[22,null,{"$f":"IF(B27<>\"\",VLOOKUP(B27,'TAB-UI'!$A$11:$D$110,16,FALSE),\"\")","v":""},{"$f":"IF(B27<>\"\",VLOOKUP(B27,'TAB-UI'!$A$11:$E$110,17,FALSE),\"\")","v":""},null,0,0,null,"",0,0]
[23,null,{"$f":"IF(B28<>\"\",VLOOKUP(B28,'TAB-UI'!$A$11:$D$110,16,FALSE),\"\")","v":""},{"$f":"IF(B28<>\"\",VLOOKUP(B28,'TAB-UI'!$A$11:$E$110,17,FALSE),\"\")","v":""},null,0,0,null,"",0,0]
[24,null,{"$f":"IF(B29<>\"\",VLOOKUP(B29,'TAB-UI'!$A$11:$D$110,16,FALSE),\"\")","v":""},{"$f":"IF(B29<>\"\",VLOOKUP(B29,'TAB-UI'!$A$11:$E$110,17,FALSE),\"\")","v":""},null,0,0,null,"",0,0]
[25,null,{"$f":"IF(B30<>\"\",VLOOKUP(B30,'TAB-UI'!$A$11:$D$110,16,FALSE),\"\")","v":""},{"$f":"IF(B30<>\"\",VLOOKUP(B30,'TAB-UI'!$A$11:$E$110,17,FALSE),\"\")","v":""},null,0,0,null,"",0,0]
[26,null,{"$f":"IF(B31<>\"\",VLOOKUP(B31,'TAB-UI'!$A$11:$D$110,16,FALSE),\"\")","v":""},{"$f":"IF(B31<>\"\",VLOOKUP(B31,'TAB-UI'!$A$11:$E$110,17,FALSE),\"\")","v":""},null,0,0,null,"",0,0]
[27,null,{"$f":"IF(B32<>\"\",VLOOKUP(B32,'TAB-UI'!$A$11:$D$110,16,FALSE),\"\")","v":""},{"$f":"IF(B32<>\"\",VLOOKUP(B32,'TAB-UI'!$A$11:$E$110,17,FALSE),\"\")","v":""},null,0,0,null,"",0,0]
[28,null,{"$f":"IF(B33<>\"\",VLOOKUP(B33,'TAB-UI'!$A$11:$D$110,16,FALSE),\"\")","v":""},{"$f":"IF(B33<>\"\",VLOOKUP(B33,'TAB-UI'!$A$11:$E$110,17,FALSE),\"\")","v":""},null,0,0,null,"",0,0]
[29,null,{"$f":"IF(B34<>\"\",VLOOKUP(B34,'TAB-UI'!$A$11:$D$110,16,FALSE),\"\")","v":""},{"$f":"IF(B34<>\"\",VLOOKUP(B34,'TAB-UI'!$A$11:$E$110,17,FALSE),\"\")","v":""},null,0,0,null,"",0,0]
[30,null,{"$f":"IF(B35<>\"\",VLOOKUP(B35,'TAB-UI'!$A$11:$D$110,16,FALSE),\"\")","v":""},{"$f":"IF(B35<>\"\",VLOOKUP(B35,'TAB-UI'!$A$11:$E$110,17,FALSE),\"\")","v":""},null,0,0,null,"",0,0]
[31,null,{"$f":"IF(B36<>\"\",VLOOKUP(B36,'TAB-UI'!$A$11:$D$110,16,FALSE),\"\")","v":""},{"$f":"IF(B36<>\"\",VLOOKUP(B36,'TAB-UI'!$A$11:$E$110,17,FALSE),\"\")","v":""},null,0,0,null,"",0,0]
[32,null,{"$f":"IF(B37<>\"\",VLOOKUP(B37,'TAB-UI'!$A$11:$D$110,16,FALSE),\"\")","v":""},{"$f":"IF(B37<>\"\",VLOOKUP(B37,'TAB-UI'!$A$11:$E$110,17,FALSE),\"\")","v":""},null,0,0,null,"",0,0]
[33,null,{"$f":"IF(B38<>\"\",VLOOKUP(B38,'TAB-UI'!$A$11:$D$110,16,FALSE),\"\")","v":""},{"$f":"IF(B38<>\"\",VLOOKUP(B38,'TAB-UI'!$A$11:$E$110,17,FALSE),\"\")","v":""},null,0,0,null,"",0,0]
[34,null,{"$f":"IF(B39<>\"\",VLOOKUP(B39,'TAB-UI'!$A$11:$D$110,16,FALSE),\"\")","v":""},{"$f":"IF(B39<>\"\",VLOOKUP(B39,'TAB-UI'!$A$11:$E$110,17,FALSE),\"\")","v":""},null,0,0,null,"",0,0]
[35,null,{"$f":"IF(B40<>\"\",VLOOKUP(B40,'TAB-UI'!$A$11:$D$110,16,FALSE),\"\")","v":""},{"$f":"IF(B40<>\"\",VLOOKUP(B40,'TAB-UI'!$A$11:$E$110,17,FALSE),\"\")","v":""},null,0,0,null,"",0,0]
[36,null,{"$f":"IF(B41<>\"\",VLOOKUP(B41,'TAB-UI'!$A$11:$D$110,16,FALSE),\"\")","v":""},{"$f":"IF(B41<>\"\",VLOOKUP(B41,'TAB-UI'!$A$11:$E$110,17,FALSE),\"\")","v":""},null,0,0,null,"",0,0]
[37,null,{"$f":"IF(B42<>\"\",VLOOKUP(B42,'TAB-UI'!$A$11:$D$110,16,FALSE),\"\")","v":""},{"$f":"IF(B42<>\"\",VLOOKUP(B42,'TAB-UI'!$A$11:$E$110,17,FALSE),\"\")","v":""},null,0,0,null,"",0,0]
[38,null,{"$f":"IF(B43<>\"\",VLOOKUP(B43,'TAB-UI'!$A$11:$D$110,16,FALSE),\"\")","v":""},{"$f":"IF(B43<>\"\",VLOOKUP(B43,'TAB-UI'!$A$11:$E$110,17,FALSE),\"\")","v":""},null,0,0,null,"",0,0]
[39,null,{"$f":"IF(B44<>\"\",VLOOKUP(B44,'TAB-UI'!$A$11:$D$110,16,FALSE),\"\")","v":""},{"$f":"IF(B44<>\"\",VLOOKUP(B44,'TAB-UI'!$A$11:$E$110,17,FALSE),\"\")","v":""},null,0,0,null,"",0,0]
[40,null,{"$f":"IF(B45<>\"\",VLOOKUP(B45,'TAB-UI'!$A$11:$D$110,16,FALSE),\"\")","v":""},{"$f":"IF(B45<>\"\",VLOOKUP(B45,'TAB-UI'!$A$11:$E$110,17,FALSE),\"\")","v":""},null,0,0,null,"",0,0]
[41,null,{"$f":"IF(B46<>\"\",VLOOKUP(B46,'TAB-UI'!$A$11:$D$110,16,FALSE),\"\")","v":""},{"$f":"IF(B46<>\"\",VLOOKUP(B46,'TAB-UI'!$A$11:$E$110,17,FALSE),\"\")","v":""},null,0,0,null,"",0,0]
[42,null,{"$f":"IF(B47<>\"\",VLOOKUP(B47,'TAB-UI'!$A$11:$D$110,16,FALSE),\"\")","v":""},{"$f":"IF(B47<>\"\",VLOOKUP(B47,'TAB-UI'!$A$11:$E$110,17,FALSE),\"\")","v":""},null,0,0,null,"",0,0]
[43,null,{"$f":"IF(B48<>\"\",VLOOKUP(B48,'TAB-UI'!$A$11:$D$110,16,FALSE),\"\")","v":""},{"$f":"IF(B48<>\"\",VLOOKUP(B48,'TAB-UI'!$A$11:$E$110,17,FALSE),\"\")","v":""},null,0,0,null,"",0,0]
[44,null,{"$f":"IF(B49<>\"\",VLOOKUP(B49,'TAB-UI'!$A$11:$D$110,16,FALSE),\"\")","v":""},{"$f":"IF(B49<>\"\",VLOOKUP(B49,'TAB-UI'!$A$11:$E$110,17,FALSE),\"\")","v":""},null,0,0,null,"",0,0]
[45,null,{"$f":"IF(B50<>\"\",VLOOKUP(B50,'TAB-UI'!$A$11:$D$110,16,FALSE),\"\")","v":""},{"$f":"IF(B50<>\"\",VLOOKUP(B50,'TAB-UI'!$A$11:$E$110,17,FALSE),\"\")","v":""},null,0,0,null,"",0,0]
[46,null,{"$f":"IF(B51<>\"\",VLOOKUP(B51,'TAB-UI'!$A$11:$D$110,16,FALSE),\"\")","v":""},{"$f":"IF(B51<>\"\",VLOOKUP(B51,'TAB-UI'!$A$11:$E$110,17,FALSE),\"\")","v":""},null,0,0,null,"",0,0]
[47,null,{"$f":"IF(B52<>\"\",VLOOKUP(B52,'TAB-UI'!$A$11:$D$110,16,FALSE),\"\")","v":""},{"$f":"IF(B52<>\"\",VLOOKUP(B52,'TAB-UI'!$A$11:$E$110,17,FALSE),\"\")","v":""},null,0,0,null,"",0,0]
[48,null,{"$f":"IF(B53<>\"\",VLOOKUP(B53,'TAB-UI'!$A$11:$D$110,16,FALSE),\"\")","v":""},{"$f":"IF(B53<>\"\",VLOOKUP(B53,'TAB-UI'!$A$11:$E$110,17,FALSE),\"\")","v":""},null,0,0,null,"",0,0]
[49,null,{"$f":"IF(B54<>\"\",VLOOKUP(B54,'TAB-UI'!$A$11:$D$110,16,FALSE),\"\")","v":""},{"$f":"IF(B54<>\"\",VLOOKUP(B54,'TAB-UI'!$A$11:$E$110,17,FALSE),\"\")","v":""},null,0,0,null,"",0,0]
[50,null,{"$f":"IF(B55<>\"\",VLOOKUP(B55,'TAB-UI'!$A$11:$D$110,16,FALSE),\"\")","v":""},{"$f":"IF(B55<>\"\",VLOOKUP(B55,'TAB-UI'!$A$11:$E$110,17,FALSE),\"\")","v":""},null,0,0,null,"",0,0]
[null,{"$f":"COUNTA(B6:B55)","v":8},null,"TOTALI",{"$f":"SUM(E6:E55)","v":318.84100000000001},{"$f":"SUM(F6:F55)","v":1000},{"$f":"SUM(G6:G55)","v":3421.2299999999996},null,null,{"$f":"SUM(J6:J55)","v":1000},{"$f":"SUM(K6:K55)","v":3421.2299999999996}]

{"sheet":"PROMEMORIA1","index":42,"n_rows":151,"n_cols":27,"rows_kept":151,"cut":false,"hidden":true,"merged":[]}
[null,null,null,null,null,null,null,null,null,null,null,null,null,null,null,null,null,null,null,null,null,null,null,null,null,null,0]
["n.","CONDOMINO","COMUNICAZIONE\ndd mmm aaaa"]
[1,{"$f":"#REF!","v":{"$error":"#REF!"}},"e-mail"]
[2,{"$f":"#REF!","v":{"$error":"#REF!"}},"e-mail"]
[3,{"$f":"#REF!","v":{"$error":"#REF!"}},"per posta"]
[4,{"$f":"#REF!","v":{"$error":"#REF!"}},"e-mail"]
[5,{"$f":"#REF!","v":{"$error":"#REF!"}},"e-mail"]
[6,{"$f":"#REF!","v":{"$error":"#REF!"}},"e-mail"]
[7,{"$f":"#REF!","v":{"$error":"#REF!"}},"Consegna a mano"]
[8,{"$f":"#REF!","v":{"$error":"#REF!"}},"e-mail"]
[9,{"$f":"#REF!","v":{"$error":"#REF!"}},"e-mail"]
[10,{"$f":"#REF!","v":{"$error":"#REF!"}},"e-mail"]
[11,{"$f":"#REF!","v":{"$error":"#REF!"}},"e-mail"]
[12,{"$f":"#REF!","v":{"$error":"#REF!"}},"e-mail"]
[13,{"$f":"#REF!","v":{"$error":"#REF!"}},"e-mail"]
[14,{"$f":"#REF!","v":{"$error":"#REF!"}},"Consegna a mano"]
[15,{"$f":"#REF!","v":{"$error":"#REF!"}},"Consegna a mano"]
[16,{"$f":"#REF!","v":{"$error":"#REF!"}},"e-mail"]
[17,{"$f":"#REF!","v":{"$error":"#REF!"}},"e-mail"]
[18,{"$f":"#REF!","v":{"$error":"#REF!"}},"e-mail"]
[19,{"$f":"#REF!","v":{"$error":"#REF!"}},"e-mail"]
[]
[]
[]
[]
[]
[]
[]
[]
[]
[]
[]
[]
[]
[]
[]
[]
[]
[]
[]
[]
[]
[]
[]
[]
[]
[]
[]
[]
[]
[]
[]
[]
[]
[]
[]
[]
[]
[]
[]
[]
[]
[]
[]
[]
[]
[]
[]
[]
[]
[]
[]
[]
[]
[]
[]
[]
[]
[]
[]
[]
[]
[]
[]
[]
[]
[]
[]
[]
[]
[]
[]
[]
[]
[]
[]
[]
[]
[]
[]
[]
[]
[]
[]
[]
[]
[]
[]
[]
[]
[]
[]
[]
[]
[]
[]
[]
[]
[]
[]
[]
[]
[]
[]
[]
[]
[]
[]
[]
[]
[]
[]
[]
[]
[]
[]
[]
[]
[]
[]
[]
[]
[]
[]
[]
[]
[]
[]
[]
[]
[0,null,null,null,null,null,null,null,null,null,null,null,null,null,null,null,null,null,null,null,null,null,null,null,null,null,0]

{"sheet":"PROMEMORIA2","index":43,"n_rows":150,"n_cols":27,"rows_kept":150,"cut":false,"hidden":true,"merged":[[6,1,6,4],[1,1,1,4],[2,1,2,4],[3,1,3,4],[4,1,4,4],[5,1,5,4],[18,1,18,4],[7,1,7,4],[8,1,8,4],[9,1,9,4],[10,1,10,4],[11,1,11,4],[12,1,12,4],[13,1,13,4],[14,1,14,4],[15,1,15,4],[16,1,16,4],[17,1,17,4],[25,1,25,4],[19,1,19,4],[20,1,20,4],[21,1,21,4],[22,1,22,4],[23,1,23,4],[24,1,24,4]]}
[null,null,null,null,null,null,null,null,null,null,null,null,null,null,null,null,null,null,null,null,null,null,null,null,null,null,0]
["n.","ADEMPIMENTO",null,null,null,"DATA"]
[]
[]
[]
[]
[]
[]
[]
[]
[]
[]
[]
[]
[]
[]
[]
[]
[]
[]
[]
[]
[]
[]
[]
[]
[]
[]
[]
[]
[]
[]
[]
[]
[]
[]
[]
[]
[]
[]
[]
[]
[]
[]
[]
[]
[]
[]
[]
[]
[]
[]
[]
[]
[]
[]
[]
[]
[]
[]
[]
[]
[]
[]
[]
[]
[]
[]
[]
[]
[]
[]
[]
[]
[]
[]
[]
[]
[]
[]
[]
[]
[]
[]
[]
[]
[]
[]
[]
[]
[]
[]
[]
[]
[]
[]
[]
[]
[]
[]
[]
[]
[]
[]
[]
[]
[]
[]
[]
[]
[]
[]
[]
[]
[]
[]
[]
[]
[]
[]
[]
[]
[]
[]
[]
[]
[]
[]
[]
[]
[]
[]
[]
[]
[]
[]
[]
[]
[]
[]
[]
[]
[]
[]
[]
[]
[]
[]
[]
[null,null,null,null,null,null,null,null,null,null,null,null,null,null,null,null,null,null,null,null,null,null,null,null,null,null,0]

{"sheet":"Ricevuta","index":44,"n_rows":50,"n_cols":27,"rows_kept":50,"cut":false,"hidden":true,"merged":[[1,1,1,5],[1,7,24,7],[1,26,4,28],[2,16,3,18],[2,19,3,21],[5,17,5,19],[8,1,8,4],[8,15,8,21],[9,1,10,5],[9,15,9,21],[10,15,10,21],[11,15,11,21],[13,10,13,21],[15,1,15,5],[16,1,16,4],[16,9,16,19],[16,20,16,22],[17,1,17,4],[17,9,17,19],[17,20,17,22],[18,1,18,4],[18,9,18,19],[18,20,18,22],[25,8,25,22],[19,1,19,4],[19,9,19,19],[19,20,19,22],[20,1,20,4],[20,9,20,19],[20,20,20,22],[21,3,21,4],[21,17,21,19],[21,20,21,22],[23,9,23,15],[23,16,23,22],[27,1,27,5],[27,7,49,7],[28,16,29,18],[28,19,29,21],[31,17,31,19],[34,1,34,4],[34,15,34,21],[35,1,36,5],[35,15,35,21],[36,15,36,21],[37,15,37,21],[39,10,39,21],[41,1,41,5],[42,1,42,4],[42,9,42,19],[42,20,42,22],[43,1,43,4],[43,9,43,19],[43,20,43,22],[44,1,44,4],[44,9,44,19],[44,20,44,22],[45,1,45,4],[45,9,45,19],[45,20,45,22],[46,1,46,4],[46,9,46,19],[46,20,46,22],[47,3,47,4],[47,17,47,19],[47,20,47,22],[49,9,49,15],[49,16,49,22]]}
[]
[null,"MATRICE",null,null,null,null,null,"& ----------------------------------------------------------------------------------------------------------------------------",null,"Condominio",null,null,null,null,null,null,null,null,null,null,null,null,null,null,null,null,"SCRIVERE SOLO SUI CAMPI CON SFONDO COLORATO"]
[null,null,null,null,null,null,null,null,null,{"$f":"DATIG!A5","v":"Condominio \"PROTOTIPO\""},null,null,null,null,null,null,"RICEVUTA n."]
[null,"RICEVUTA",{"$f":"T3","v":0},null,null,null,null,null,null,{"$f":"DATIG!A6","v":"Via BELLA, 22-30-38"}]
[null,null,null,null,null,null,null,null,null,{"$f":"DATIG!A7","v":"88068 - SOVERATO (CZ)"}]
[null,"Data",{"$f":"R6","v":"00:00:00"},null,null,null,null,null,null,{"$f":"DATIG!A8","v":"C.F.  80000000796"},null,null,null,null,null,null,"Data "]
[]
[]
[null,"Condomino",null,null,null,null,null,null,null,"Ricevute dal Condomino"]
[null,{"$f":"P9","v":0},null,null,null,null,null,null,null,"Unita Immobiliare"]
[null,null,null,null,null,null,null,null,null,"Part.","Sub"]
[null,"Unità immobiliare","Part.",{"$f":"J12","v":0},"Sub",{"$f":"K12","v":0}]
[]
[null,null,null,null,null,null,null,null,null,"€",{"$f":"IF(U22>0,NumeroInLettere(U22,2),\"\")","v":""}]
[]
[null,"CAUSALE",null,null,null,null,null,null,null,"per"]
[null,{"$f":"J17","v":0},null,null,null,{"$f":"U17","v":0}]
[null,{"$f":"J18","v":0},null,null,null,{"$f":"U18","v":0}]
[null,{"$f":"J19","v":0},null,null,null,{"$f":"U19","v":0}]
[null,{"$f":"J20","v":0},null,null,null,{"$f":"U20","v":0}]
[null,{"$f":"J21","v":0},null,null,null,{"$f":"U21","v":0}]
[null,null,null,"TOTALE",null,{"$f":"SUM(F17:F21)","v":0},null,null,null,null,null,null,null,null,null,null,null,"TOTALE RICEVUTO   ",null,null,{"$f":"SUM(U17:W21)","v":0}]
[]
[null,null,null,null,null,null,null,null,null,"firma dell'Amminstratore",null,null,null,null,null,null,"La presente ricevuta viene rilasciata s.b.f. degli assegni e con riserva di esigere ogni altra somma che risultasse dovuta in seguito a rendiconto consuntivo, nuovi accertamenti, nuove delibere dell'Assemblea o rate pregresse non pagate."]
[]
["& ---------------------------------------------------------------------------------------------------------------------------------------",null,null,null,null,null,null,null,"&---------------------------------------------------------------------------------------------------------------------------------------------------------------------------------------"]
[]
[null,"MATRICE",null,null,null,null,null,"& ----------------------------------------------------------------------------------------------------------------------------",null,"Condominio"]
[null,null,null,null,null,null,null,null,null,{"$f":"DATIG!A5","v":"Condominio \"PROTOTIPO\""},null,null,null,null,null,null,"RICEVUTA n."]
[null,"RICEVUTA",{"$f":"T29","v":0},null,null,null,null,null,null,{"$f":"DATIG!A6","v":"Via BELLA, 22-30-38"}]
[null,null,null,null,null,null,null,null,null,{"$f":"DATIG!A7","v":"88068 - SOVERATO (CZ)"}]
[null,"Data",{"$f":"R32","v":"00:00:00"},null,null,null,null,null,null,{"$f":"DATIG!A8","v":"C.F.  80000000796"},null,null,null,null,null,null,"Data "]
[]
[]
[null,"Condomino",null,null,null,null,null,null,null,"Ricevute dal Condomino"]
[null,{"$f":"P35","v":0},null,null,null,null,null,null,null,"Unita Immobiliare"]
[null,null,null,null,null,null,null,null,null,"Part.","Sub"]
[null,"Unità immobiliare","Part.",{"$f":"J38","v":0},"Sub",{"$f":"K38","v":0}]
[]
[null,null,null,null,null,null,null,null,null,"€",{"$f":"IF(U48>0,NumeroInLettere(U48,2),\"\")","v":""}]
[]
[null,"CAUSALE",null,null,null,null,null,null,null,"per"]
[null,{"$f":"J43","v":0},null,null,null,{"$f":"U43","v":0}]
[null,{"$f":"J44","v":0},null,null,null,{"$f":"U44","v":0}]
[null,{"$f":"J45","v":0},null,null,null,{"$f":"U45","v":0}]
[null,{"$f":"J46","v":0},null,null,null,{"$f":"U46","v":0}]
[null,{"$f":"J47","v":0},null,null,null,{"$f":"U47","v":0}]
[null,null,null,"TOTALE",null,{"$f":"SUM(F43:F47)","v":0},null,null,null,null,null,null,null,null,null,null,null,"TOTALE RICEVUTO   ",null,null,{"$f":"SUM(U43:W47)","v":0}]
[]
[null,null,null,null,null,null,null,null,null,"firma dell'Amminstratore",null,null,null,null,null,null,"La presente ricevuta viene rilasciata s.b.f. degli assegni e con riserva di esigere ogni altra somma che risultasse dovuta in seguito a rendiconto consuntivo, nuovi accertamenti, nuove delibere dell'Assemblea o rate pregresse non pagate."]