{"text_format":"1","workbook":"xlsx","n_sheets":56,"sheets":["MENÙ","iP1","iP2","iP3","iCONDOMINI","iUI","nPC","iPCU","iPCE","iPCDC","iFCD","iFIGURE","iRP2","sBP","nBP","cSPI","iPUS","iGIORNALE","iPU1","iPU2","sRE","iPARTAB","cTABUI","cTABSS","cCDI","cRPUI","cRPSS","cRATE","cUSCITE","cRAFFRONTO","cREUI","cRESS","cENTRATE","cREED","cCREDITI","cDEBITI","cRENDICONTO","cSPE","cCDE","cSC1","fF770","fCU","aUC","hHELP","nTAB","hSC","iGIORNALEold","mR","mS","mB","mCOPERTINA","mLRPQC","mGENERICA","mSOLLECITO","mRATE","mDIFFIDA"],"not_rendered":{"charts":0,"images":6,"macros":1,"external_links":0,"defined_names":80,"comments":13,"pivot_tables":0},"unopened":[],"bounds":{"document_bytes":16777216,"sheet_cells":100000,"rows_first":2000,"rows_last":500,"rows_between":2000,"halvings":0,"cell_chars":16384,"cell_head_chars":4096},"cells_cut":0,"cells_raw":0,"read":"whole","date_system":"1900"}

{"sheet":"MENÙ","index":0,"n_rows":47,"n_cols":32,"rows_kept":47,"cut":false,"hidden":false,"merged":[[42,30,42,33],[4,30,4,33],[5,5,5,8],[5,30,5,33],[7,30,7,33],[42,5,42,8],[42,10,42,13],[42,15,42,18],[42,20,42,23],[42,25,42,28],[2,5,2,8],[2,11,2,27],[3,5,3,8],[3,11,3,27],[4,5,4,8],[4,11,4,27]]}
["\nDATI GENERALI"]
[]
[null,null,null,null,null,{"$f":"'iP1'!A56","v":"Amministratore"},null,null,null,null,null,{"$f":"'iP1'!A5","v":"Condominio \"TERMICO\""}]
[null,null,null,null,null,{"$f":"'iP1'!A57","v":"Pietro CHIEFARI"},null,null,null,null,null,{"$f":"'iP1'!A6","v":"Via dei MILLE 22-30-38"}]
[null,null,null,null,null,{"$f":"'iP1'!A58","v":"Via Mazzini, 14"},null,null,null,null,null,{"$f":"'iP1'!A7","v":"88068 SOVERATO CZ"},null,null,null,null,null,null,null,null,null,null,null,null,null,null,null,null,null,null,"Codice Condominio-Esercizio"]
[null,null,null,null,null,{"$f":"'iP1'!A59","v":"88068 - SOVERATO (CZ)"},null,null,null,null,{"$f":"IF('iP1'!A8<>\"\",\"C.F. \" & 'iP1'!A8,\"\")","v":"C.F. 80000000796"},null,null,{"$f":"IF('iP1'!A9<>\"\",'iP1'!A9,\"\")","v":""},null,null,null,null,null,null,null,null,null,null,null,null,{"$f":"IF('iP1'!A60<>\"\",'iP1'!A60,'iP1'!A61)","v":"cell. 328-7569407"},null,null,null,{"$f":"'iP1'!A12 & \"-\" & 'iP1'!A37","v":"Termico-2021-2022"}]
[]
[null,null,null,null,null,"Giornale aggiornato al 2-4-2022",null,null,null,null,null,null,null,null,null,null,null,null,null,null,null,null,null,null,null,null,null,null,null,null,{"$f":"'iP1'!A39","v":"2022-09-30"}]
[null,null,null,null,"FUNZIONI DI GESTIONE DEL CONDOMINIO"]
[]
[]
[]
[]
[]
[]
[]
[]
[]
[]
[]
[]
[]
[]
[]
[]
[]
[]
[]
[]
[]
[]
[]
[]
[]
[]
[]
[]
[]
[]
[]
[]
[null,null,null,null,"FUNZIONI DI GESTIONE DEL PROGRAMMA"]
[null,null,null,null,null,"GUIDE ALL'UTILIZZO",null,null,null,null,"DATI GENERALI",null,null,null,null,"ADATTAMENTO AL CONDOMINIO",null,null,null,null,"SCELTE UTILIZZATORE",null,null,null,null,"OPERAZIONI SUL CONDOMINIO",null,null,null,null,"FINE UTILIZZO PROGRAMMA"]
[]
[]
[]
[null,null,null,null,null,null,null,null,null,null,null,null,null,null,null,null,null,null,null,null,null,null,null,null,null,null,null,null,null,null,null," "]

{"sheet":"iP1","index":1,"n_rows":71,"n_cols":5,"rows_kept":71,"cut":false,"hidden":true,"merged":[[55,2,55,3],[56,2,56,3],[57,2,57,3],[58,2,58,3],[32,2,32,3],[43,2,43,3],[44,2,44,3],[45,2,45,3],[46,2,46,3],[36,2,36,3],[37,2,37,3],[38,2,38,3]]}
["Possono essere variati solo i valori delle celle senza sfondo colorato.",null,null,null,0]
[{"$f":"'iP1'!A5","v":"Condominio \"TERMICO\""},"DATI ESERCIZIO"]
["VALORE","TIPO","INDICAZIONE SUL DATO"]
["DATI GENERALI"]
["Condominio \"TERMICO\"","Testo","Nome ufficiale del Condominio"]
["Via dei MILLE 22-30-38","Testo","Indirizzo di Ubicazione del condominio"]
["88068 SOVERATO CZ","Testo","Città"]
["80000000796","Testo","Codice Fiscale del Condominio"]
[null,"Testo","Indirizzo e-mail del Condominio"]
[null,"Testo","Indirizzo pec del Condominio"]
[null,"Testo","Sito WEB"]
["Termico","Testo","Codice GOICO del Condominio (attribuito dall'utilizzatore)"]
["IT02 J076 0104 4000 0114 2786 471","Testo","IBAN del conto corrente condominiale"]
["CONDOMINIO TERMICO - SOVERATO","Testo","Intestazione del conto corrente condominiale","(max 68 car.)"]
["DENOMINAZIONI DELLE TABELLE DI RIPARTIZIONE DEL CONDOMINIO",null,null,"NOME"]
["PROPRIETÀ GENERALE","Testo","Tabella n. 1   - (solo i primi 12 caratteri saranno usati)","Tabella A"]
["UTILIZZO","Testo","Tabella n. 2   - (solo i primi 12 caratteri saranno usati)","Tabella B"]
["POTENZA INSTALLATA","Testo","Tabella n. 3   - (solo i primi 12 caratteri saranno usati)","Tabella C"]
["NUMERO TERMOSIFONI","Testo","Tabella n. 4   - (solo i primi 12 caratteri saranno usati)","Tabella D"]
["CONSUMI","Testo","Tabella n. 5   - (solo i primi 12 caratteri saranno usati)","Tabella E"]
[]
[]
[]
[]
[]
[]
[]
[]
[]
[]
[]
["DATA E MODALITÀ DI APPROVAZIONE DELLE TABELLE MILLESIMALI"]
["2016-12-16","Data","Data di approvazione delle TABELLE MILLESIMALI"]
["DELIBERA ASSEMBLEARE","Testo","Modalità di approvazione"]
[]
["DATI ESERCIZIO"]
["2021-2022","Testo","Esercizio condominiale gestito"]
["2021-05-05","Data","Data redazione BILANCIO PREVENTIVO e PIANO DEI CONTI per l'Esercizio"]
[{"$f":"TODAY()","v":"2022-09-30"},"Data","Data alla quale sono eseguiti i calcoli  dei prospetti contabili. \n(nel corso dell'esercizio si pone la formula   \"=OGGI()\" a fine esercizio si pone direttamente la data del 31-12 dell'anno dell'esercizio)"]
["01/10/2021-30/09/2022","Testo","Inizio-Fine Esercizio (gg/mm/aaaa-gg/mm/aaaa)"]
["DATE di SCADENZA dei PAGAMENTI"]
["2021-11-30","Data","Conguaglio a debito per l'esercizio precedente"]
["2021-11-30","Data","1a Rata trimestrale (di solito uguale a quella dell'esercizio precedente)"]
["2021-12-31","Data","2a Rata trimestrale (con detrazione di 1/3 credito esercizio precedente)"]
["2022-01-31","Data","3a Rata trimestrale (con detrazione di 1/3 credito esercizio precedente)"]
["2022-02-28","Data","4a Rata trimestrale (con detrazione di 1/3 credito esercizio precedente)"]
["2021-06-15","Data","Data approvazione RENDICONTO esercizio precedente e BILANCIO PREVENTIVO esercizio in corso"]
[]
[]
["DILAZIONI concesse dall'Assemblea "]
[30,"Numero","Numero di giorni di dilazione per pagamento rate"]
[15,"Numero","Numero di giorni di dilazione per pagamento conguagli"]
[]
[]
["DATI AMMINISTRATORE"]
["Amministratore","Testo","Caratteristica di chi amministra, ovvero \"in qualità di\""]
["Pietro CHIEFARI","Testo","Titolo professionale, Cognome e Nome o Ragione Sociale"]
["Via Mazzini, 14","Testo","Indirizzo"]
["88068 - SOVERATO (CZ)","Testo","CAP - Città -Provincia"]
[null,"Testo","Telefono"]
["cell. 328-7569407","Testo","Cellulare"]
["piasoft@piasoft.it","Testo","Indirizzo e-mail"]
[null,"Testo","Indirizzo pec"]
[]
[]
[]
[]
[]
[]
[]
[0,null,null,null,0]

{"sheet":"iP2","index":2,"n_rows":61,"n_cols":5,"rows_kept":61,"cut":false,"hidden":true,"merged":[[61,0,61,3],[1,0,1,3],[12,0,12,3],[52,0,52,3],[4,0,4,3],[44,0,44,3],[49,0,49,3]]}
[{"$f":"'iP1'!A5","v":"Condominio \"TERMICO\""},null,null,"ADATTAMENTO DEI PROSPETTTI AL CONDOMINIO",0]
["I prospetti della procedura, sia di input che di output, hanno un numero massimo di righe e colonne, fissato dalla procedura stessa.\nIn considerazione del fatto che il numero così fissato potrebbe essere sovrabbondante per il particolare condominio, la procedura automaticamente nasconde le righe e le colonne non necessarie per quel condominio, al fine di migliorare la leggibilità dei prospetti.\nPer farlo, utilizza i valori dei parametri forniti dall'utilizzatore nelle celle senza sfondo colorato del prospetto sottostante.\nI contenuti delle celle con sfondo colorato non possono essere variati così come le posizioni delle celle.\nNon saranno accettati valori dei parametri superiori a quelli massimi riportati nella colonna B.\nL'adattamento sarà fatto automaticamente dalla procedura quando si disattiva questo foglio, visualizzandone un altro."]
["PARAMETRI DI ADATTAMENTO"]
["VALORE","VALORE MAX","TIPO","Descrizione e indicazioni sul PARAMETRO"]
["PARAMETRI relativi al CONDOMINIO"]
[]
[24,99,"NUMERO","Numero di UNITÀ IMMOBILIARI CATASTALI (UI)"]
[23,99,"NUMERO","Numero di Condomini o proprietari delle UNITÀ IMMOBILIARI CATASTALI"]
[5,99,"NUMERO","Numero di Inquilini delle U.I. del Condominio"]
[]
[]
[]
["NUMERO di CAPITOLI e VOCI nei PIANI DEI CONTI CONDOMINIALI"]
[10,10,"NUMERO","Numero massimo di Capitoli nel piano dei conti delle USCITE"]
[7,15,"NUMERO","Numero di voci del capitolo S.01 delle USCITE"]
[1,10,"NUMERO","Numero di voci del capitolo S.02 delle USCITE"]
[2,10,"NUMERO","Numero di voci del capitolo S.03 delle USCITE"]
[4,10,"NUMERO","Numero di voci del capitolo S.04 delle USCITE"]
[2,10,"NUMERO","Numero di voci del capitolo S.05 delle USCITE"]
[1,5,"NUMERO","Numero di voci del capitolo S.06 delle USCITE"]
[2,5,"NUMERO","Numero di voci del capitolo S.07 delle USCITE"]
[2,5,"NUMERO","Numero di voci del capitolo L       delle USCITE"]
[2,5,"NUMERO","Numero di voci del capitolo U      delle USCITE"]
[]
[4,4,"NUMERO","Numero massimo di Capitoli nel piano dei conti delle ENTRATE"]
[1,10,"NUMERO","Numero di voci del capitolo E      delle ENTRATE"]
[3,5,"NUMERO","Numero di voci del capitolo V      delle ENTRATE"]
[0,10,"NUMERO","Numero di voci del capitolo F     delle Entrate (= 2 x numero FONDI SPECIALI)"]
[]
[4,4,"NUMERO","Numero massimo di Capitoli nel piano dei conti dei CREDITI"]
[5,5,"NUMERO","Numero di voci del capitolo C.01 dei CREDITI"]
[5,5,"NUMERO","Numero di voci del capitolo C.02 dei CREDITI"]
[1,1,"NUMERO","Numero di voci del capitolo C.06 dei CREDITI"]
[]
[4,4,"NUMERO","Numero massimo di Capitoli nel piano dei conti dei DEBITI"]
[5,5,"NUMERO","Numero di voci del capitolo D.01 dei DEBITI"]
[5,5,"NUMERO","Numero di voci del capitolo D.02 dei DEBITI (sempre 5)"]
[5,5,"NUMERO","Numero di voci del capitolo D.03 dei DEBITI"]
[]
[]
[]
[]
[]
[]
[]
[]
[]
[]
[]
["PARAMETRI RELATIVI AD ALTRE GESTIONI"]
[1,1,"NUMERO","Numero altre gestioni con le quali la gestione interagisce (solo Gestione Ordinaria)"]
[]
["PARAMETRI relativi all'esistenza di spese personali nel Preventivo"]
[1,null,"NUMERO","0 - Preventivo senza spese personali  --- 1 - Preventivo con spese personali"]
[]
[]
[]
[]
[]
[]
[0,null,null,null,0]

{"sheet":"iP3","index":3,"n_rows":30,"n_cols":4,"rows_kept":30,"cut":false,"hidden":true,"merged":[]}
[{"$f":"'iP1'!A5","v":"Condominio \"TERMICO\""},null,"SCELTE dell'UTILIZZATORE",0]
["È consentito immettere e/o variare solo i valori delle celle senza sfondo colorato, non è consentito spostare alcuna cella."]
["DATO","TIPO","Indicazioni varie sul dato"]
["OPZIONI NELLA CREAZIONE DEI FILE PDF DELLE COMUNICAZIONI"]
[1,"Testo","0 - per creare un file della comunicazione per ogni condomino.\n1 - per creare un unico file della comunicazione per tutti i condomini."]
[0,"Testo","0 - per cancellare la cartella EXCEL utilizzata per la creazione del file PDF.\n1 - per mantenere  la cartella EXCEL utilizzata per la creazione del file PDF."]
["Tabella B","Testo","Tabella i cui millesimi sono riportati nell'intestazione della comunicazione.\n(Nel caso di comunicazione generica, la comunicazione sarà redatta solo per i condomini che hanno millesimi diversi da zero nella tabella indicata.)"]
["Adobe Acrobat Reader DC","Testo","Programma di lettura dei PDF (Vivamente consigliato AdobeAcrobat Reader DC)"]
[0,"Testo","0 - per non riportare la data di stampa sulla copertina\n1 - per riportare la data di stampa sulla copertina"]
["SOVERATO","Testo","Luogo della comunicazione"]
[{"$f":"TODAY()","v":"2022-09-30"},"Data","Data della comunicazione. \n(si può porre \"=OGGI()\" o direttamente una data nel formato gg-mm-aaaa)"]
["TESTO sui PULSANTI dei PROMEMORIA"]
["CONSEGNE COMUNICAZ.","Testo","Pulsante PROMEMORIA 1  [ max. 22 caratteri]"]
["SCADENZE","Testo","Pulsante PROMEMORIA 2  [ max. 22 caratteri]"]
[]
[]
["TESTO per le INTESTAZIONI e PIÈ DI PAGINA delle PAGINE da STAMPARE"]
["Condominio \"Termico\"","Testo","Intestazione [compatibilmente con la larghezza della pagina]"]
["Condominio TERMICO","Testo","Piè di pagina [compatibilmente con la larghezza della pagina]"]
[]
[]
[]
["ALTRI PARAMETRI A SCELTA DALL'UTILIZZATORE"]
[0,"Testo","0 - stampa elenco condomini uso amministratore.\n1 - stampa elenco condomini uso esterno."]
[3,"Testo","1 - Stampa Tabella per Unità Immobiliari.\n2 - Stampa Tabella per Unità Immobiliari e per Condomini.\n3 - Stampa Tabella per Unità Immobiliari,  per Condomini e per Fruitori."]
[0,"Testo","0 - stampa pagine interne fascicolo PDF in bianco e nero.\n1 - stampa pagine interne fascicolo PDF a colori.\nL'opzione non è valida per il fascicolo del Bilancio Preventivo e del Rendiconto "]
[]
["U2022-054","Testo","Numero ultima lettera-ricevuta emessa per pagamento quote condominiali.\n(U[anno esercizio]-[stringa di tre lettere che interpetrata come numero sarà incrementata all'emissione della successiva lettera-ricevuta])"]
[]
[0,null,null,0]

{"sheet":"iCONDOMINI","index":4,"n_rows":111,"n_cols":14,"rows_kept":111,"cut":false,"hidden":true,"merged":[]}
["È consentito variare i dati delle sole celle senza sfondo colorato. I dati necessari hanno l'intestazione di colonna in rosso.",null,null,null,null,null,null,null,null,null,null,null,null,0]
[]
[]
[]
[]
[]
[{"$f":"'iP1'!A5","v":"Condominio \"TERMICO\""}]
[null,null,"CONDOMINI e INQUILINI"]
["N.","DATI IDENTIFICATIVI",null,null,"DATI DI CONTATTO"]
[null,"CODICE","DENOMINAZIONE","S","REFERENTE","INDIRIZZO","CAP","CITTÀ","PROV.","TELEFONO","CELLULLARE","INDIRIZZO EMAIL","INDIRIZZO PEC"]
[1,"C01","Condomino01","M",null,"Via Corrado Alvaro  trav. 4 n. 13","89044","LOCRI","RC"]
[2,"C02","Condomino02","P","CHIEFARI PIETRO","Viale CUTURELLA  2/D",88068,"SOVERATO","CZ"]
[3,"C03","Condomino03","F",null,"Via dei MILLE  86",88068,"SOVERATO","CZ"]
[4,"C04","Condomino04 S.r.l.","D",null,"Via dei MILLE  16/18",88068,"SOVERATO","CZ"]
[5,"C05","Condomino05","T",null,"Via dei MILLE  38",88068,"SOVERATO","CZ"]
[6,"C06","Condomino06","M",null,"Via NAZIONALE  255","88060","BADOLATO","CZ"]
[7,"C07","Condomino07","F",null,"Via dei MILLE  22",88068,"SOVERATO","CZ"]
[8,"C08","Eredi Condomino08","P",null,"Via MONTI IBLEI  1",88068,"SOVERATO","CZ"]
[9,"C09","Condomino09 S.r.l.","D",null,"Via dei MILLE  86",88068,"SOVERATO","CZ"]
[10,"C10","Condomino10","M",null,"Via dei MILLE  22",88068,"SOVERATO","CZ"]
[11,"C11","Condomino11","F",null,"Via SPASARI  33","88100","CATANZARO","CZ"]
[12,"C12","Condomino12","M",null,"Via dei MILLE  30",88068,"SOVERATO","CZ"]
[13,"C13","Condomino13","M",null,"Via dei MILLE  38",88068,"SOVERATO","CZ"]
[14,"C14","Condomino14","M",null,"Via dei MILLE  30",88068,"SOVERATO","CZ"]
[15,"C15","Condomino15","M",null,"Via dei MILLE  20/18",88068,"SOVERATO","CZ"]
[16,"C16","Condomino16","T",null,"Via dei MILLE  30",88068,"SOVERATO","CZ"]
[17,"C17","Condomino17","R",null,"Via dei MILLE  22",88068,"SOVERATO","CZ"]
[18,"C18","Condomino18","F",null,"Viale Bruno BUOZZI  31/A9","00173","ROMA","RM"]
[19,"C19","Condomino19","M",null,"Via dei MILLE  38",88068,"SOVERATO","CZ"]
[20,"C20","Condomino20","M",null,"Via MONTI PELORITANI  3",88068,"SOVERATO","CZ"]
[21,"C21","Condomino21","F",null,"Via dei MILLE  30",88068,"SOVERATO","CZ"]
[22,"C22","Condomino22","F",null,"Via dei MILLE  38",88068,"SOVERATO","CZ"]
[23,"C23","Condomino23","M",null,"Via dei MILLE 38","88068","SOVERATO","CZ"]
[24,"I01","Inquilino1","M",null,"Via dei MILLE 38","88068","SOVERATO","CZ"]
[25,"I02","Inquilino2","M",null,"Via dei MILLE 38","88068","SOVERATO","CZ"]
[26,"I03","Inquilino3","M",null,"Via dei MILLE 38","88068","SOVERATO","CZ"]
[27,"I04","Inquilino4","M",null,"Via dei MILLE 38","88068","SOVERATO","CZ"]
[28,"I05","Inquilino5","M",null,"Via dei MILLE 38","88068","SOVERATO","CZ"]
[29]
[30]
[31]
[32]
[33]
[34]
[35]
[36]
[37]
[38]
[39]
[40]
[41]
[42]
[43]
[44]
[45]
[46]
[47]
[48]
[49]
[50]
[51]
[52]
[53]
[54]
[55]
[56]
[57]
[58]
[59]
[60]
[61]
[62]
[63]
[64]
[65]
[66]
[67]
[68]
[69]
[70]
[71]
[72]
[73]
[74]
[75]
[76]
[77]
[78]
[79]
[80]
[81]
[82]
[83]
[84]
[85]
[86]
[87]
[88]
[89]
[90]
[91]
[92]
[93]
[94]
[95]
[96]
[97]
[98]
[99]
[]
[0,null,null,null,null,null,null,null,null,null,null,null,null,0]

{"sheet":"iUI","index":5,"n_rows":111,"n_cols":23,"rows_kept":111,"cut":false,"hidden":true,"merged":[[7,0,7,21]]}
["È consentito variare i dati delle sole celle senza sfondo colorato. I dati necessari hanno l'intestazione di colonna in rosso.",null,null,null,null,null,null,null,null,null,null,null,null,null,null,null,null,null,null,null,null,null,0]
[]
[]
[]
[]
[{"$f":"'iP1'!A5","v":"Condominio \"TERMICO\""}]
["UNITÀ IMMOBILIARI CATASTALI"]
[]
["IDENTIFICATIVI\nCONDOMINIALI",null,null,"PROPRIETÀ",null,"IDENTIFICATIVI CATASTALI",null,null,null,null,null,null,null,null,null,"UBICAZIONE\nCATASTALE",null,null,null,null,null,"DESTINAZIONE\nCATASTALE"]
["n° U.I.","Codice\nUnità Immobiliare\nCatastale","Codice Condomino","Codice \nFruitore","Denominazione\nCondomino/Inquilino","Codice Catastale\nComune","Foglio","Particella","Subalterno","Zona Censuaria","Categoria","Classe","Consistenza\n(vani)","Consistenza\n(mq)","Rendita\n(euro)","Odonimo","Civico","Edificio","Scala","Piano","Interno","Utilizzazione\nCatastale"]
[1,"U01","C20","I01",{"$f":"IF(C11<>\"\",IFERROR(VLOOKUP(C11,iCONDOMINI!$B$11:$C$109,2,FALSE),\"\") & \" /  \" &  IFERROR(VLOOKUP(D11,iCONDOMINI!$B$11:$C$109,2,FALSE),\"\"),\"\")","v":"Condomino20 /  Inquilino1"},"I872",2,326,75,"U","A/2","U","7,5",null,426.08,"Via dei MILLE",38,"A","A","S1-P2",2,"ABITAZIONE"]
[2,"U02","C09","C09",{"$f":"IF(C12<>\"\",IFERROR(VLOOKUP(C12,iCONDOMINI!$B$11:$C$109,2,FALSE),\"\") & \" /  \" &  IFERROR(VLOOKUP(D12,iCONDOMINI!$B$11:$C$109,2,FALSE),\"\"),\"\")","v":"Condomino09 S.r.l. /  Condomino09 S.r.l."},"I872",2,326,58,"U","C/1","2",null,116,1102.33,"Via dei MILLE",38,"A","A","PT",null,"NEGOZIO"]
[3,"U03","C03","C03",{"$f":"IF(C13<>\"\",IFERROR(VLOOKUP(C13,iCONDOMINI!$B$11:$C$109,2,FALSE),\"\") & \" /  \" &  IFERROR(VLOOKUP(D13,iCONDOMINI!$B$11:$C$109,2,FALSE),\"\"),\"\")","v":"Condomino03 /  Condomino03"},"I872",2,326,76,"U","A/10","U","3,5",null,343.44,"Via dei MILLE",38,"A","A","PT",null,"STUDIO"]
[4,"U04","C04","C04",{"$f":"IF(C14<>\"\",IFERROR(VLOOKUP(C14,iCONDOMINI!$B$11:$C$109,2,FALSE),\"\") & \" /  \" &  IFERROR(VLOOKUP(D14,iCONDOMINI!$B$11:$C$109,2,FALSE),\"\"),\"\")","v":"Condomino04 S.r.l. /  Condomino04 S.r.l."},"I872",2,326,60,"U","C/1","2",null,122,1159.3399999999999,"Via dei MILLE",30,"B","B","PT",null,"NEGOZIO"]
[5,"U05","C23","C23",{"$f":"IF(C15<>\"\",IFERROR(VLOOKUP(C15,iCONDOMINI!$B$11:$C$109,2,FALSE),\"\") & \" /  \" &  IFERROR(VLOOKUP(D15,iCONDOMINI!$B$11:$C$109,2,FALSE),\"\"),\"\")","v":"Condomino23 /  Condomino23"},"I872",2,326,61,"U","C/1","2",null,161,1529.95,"Via dei MILLE",30,"B","B","PT",null,"NEGOZIO"]
[6,"U06","C15","C15",{"$f":"IF(C16<>\"\",IFERROR(VLOOKUP(C16,iCONDOMINI!$B$11:$C$109,2,FALSE),\"\") & \" /  \" &  IFERROR(VLOOKUP(D16,iCONDOMINI!$B$11:$C$109,2,FALSE),\"\"),\"\")","v":"Condomino15 /  Condomino15"},"I872",2,326,62,"U","C/1","2",null,140,1330.39,"Via dei MILLE",22,"C","C","PT",null,"NEGOZIO"]
[7,"U07","C05","C05",{"$f":"IF(C17<>\"\",IFERROR(VLOOKUP(C17,iCONDOMINI!$B$11:$C$109,2,FALSE),\"\") & \" /  \" &  IFERROR(VLOOKUP(D17,iCONDOMINI!$B$11:$C$109,2,FALSE),\"\"),\"\")","v":"Condomino05 /  Condomino05"},"I872",2,326,7,"U","A/2","U","7",null,"397,67","Via dei MILLE",38,"A","A","P1",1,"ABITAZIONE"]
[8,"U08","C13","C13",{"$f":"IF(C18<>\"\",IFERROR(VLOOKUP(C18,iCONDOMINI!$B$11:$C$109,2,FALSE),\"\") & \" /  \" &  IFERROR(VLOOKUP(D18,iCONDOMINI!$B$11:$C$109,2,FALSE),\"\"),\"\")","v":"Condomino13 /  Condomino13"},"I872",2,326,8,"U","A/2","U","6,5",null,369.27,"Via dei MILLE",38,"A","A","P1",2,"ABITAZIONE"]
[9,"U09","C11","C11",{"$f":"IF(C19<>\"\",IFERROR(VLOOKUP(C19,iCONDOMINI!$B$11:$C$109,2,FALSE),\"\") & \" /  \" &  IFERROR(VLOOKUP(D19,iCONDOMINI!$B$11:$C$109,2,FALSE),\"\"),\"\")","v":"Condomino11 /  Condomino11"},"I872",2,326,10,"U","A/2","U","6",null,340.86,"Via dei MILLE",38,"A","A","P2",4,"ABITAZIONE"]
[10,"U10","C19","C19",{"$f":"IF(C20<>\"\",IFERROR(VLOOKUP(C20,iCONDOMINI!$B$11:$C$109,2,FALSE),\"\") & \" /  \" &  IFERROR(VLOOKUP(D20,iCONDOMINI!$B$11:$C$109,2,FALSE),\"\"),\"\")","v":"Condomino19 /  Condomino19"},"I872",2,326,79,"U","A/2","U","6,5",null,369.27,"Via dei MILLE",38,"A","A","P3-P4",5,"ABITAZIONE"]
[11,"U11","C22","C22",{"$f":"IF(C21<>\"\",IFERROR(VLOOKUP(C21,iCONDOMINI!$B$11:$C$109,2,FALSE),\"\") & \" /  \" &  IFERROR(VLOOKUP(D21,iCONDOMINI!$B$11:$C$109,2,FALSE),\"\"),\"\")","v":"Condomino22 /  Condomino22"},"I872",2,326,80,"U","A/3","2","6",null,189.02,"Via dei MILLE",38,"A","A","P3",6,"ABITAZIONE"]
[12,"U12","C21","C21",{"$f":"IF(C22<>\"\",IFERROR(VLOOKUP(C22,iCONDOMINI!$B$11:$C$109,2,FALSE),\"\") & \" /  \" &  IFERROR(VLOOKUP(D22,iCONDOMINI!$B$11:$C$109,2,FALSE),\"\"),\"\")","v":"Condomino21 /  Condomino21"},"I872",2,326,14,"U","A/2","U","6",null,340.86,"Via dei MILLE",38,"A","A","P1",1,"ABITAZIONE"]
[13,"U13","C18","I02",{"$f":"IF(C23<>\"\",IFERROR(VLOOKUP(C23,iCONDOMINI!$B$11:$C$109,2,FALSE),\"\") & \" /  \" &  IFERROR(VLOOKUP(D23,iCONDOMINI!$B$11:$C$109,2,FALSE),\"\"),\"\")","v":"Condomino18 /  Inquilino2"},"I872",2,326,15,"U","A/2","U","6",null,340.86,"Via dei MILLE",30,"B","B","P1",2,"ABITAZIONE"]
[14,"U14","C14","C14",{"$f":"IF(C24<>\"\",IFERROR(VLOOKUP(C24,iCONDOMINI!$B$11:$C$109,2,FALSE),\"\") & \" /  \" &  IFERROR(VLOOKUP(D24,iCONDOMINI!$B$11:$C$109,2,FALSE),\"\"),\"\")","v":"Condomino14 /  Condomino14"},"I872",2,326,16,"U","A/2","U","5,5",null,312.45999999999998,"Via dei MILLE",30,"B","B","P1",2,"ABITAZIONE"]
[15,"U15","C02","I03",{"$f":"IF(C25<>\"\",IFERROR(VLOOKUP(C25,iCONDOMINI!$B$11:$C$109,2,FALSE),\"\") & \" /  \" &  IFERROR(VLOOKUP(D25,iCONDOMINI!$B$11:$C$109,2,FALSE),\"\"),\"\")","v":"Condomino02 /  Inquilino3"},"I872",2,326,17,"U","A/3","4","4",null,171.46,"Via dei MILLE",30,"B","B","P2",4,"ABITAZIONE"]
[16,"U16","C16","C16",{"$f":"IF(C26<>\"\",IFERROR(VLOOKUP(C26,iCONDOMINI!$B$11:$C$109,2,FALSE),\"\") & \" /  \" &  IFERROR(VLOOKUP(D26,iCONDOMINI!$B$11:$C$109,2,FALSE),\"\"),\"\")","v":"Condomino16 /  Condomino16"},"I872",2,326,83,"U","A/2","U","6",null,340.86,"Via dei MILLE",30,"B","B","P3",4,"ABITAZIONE"]
[17,"U17","C12","C12",{"$f":"IF(C27<>\"\",IFERROR(VLOOKUP(C27,iCONDOMINI!$B$11:$C$109,2,FALSE),\"\") & \" /  \" &  IFERROR(VLOOKUP(D27,iCONDOMINI!$B$11:$C$109,2,FALSE),\"\"),\"\")","v":"Condomino12 /  Condomino12"},"I872",2,326,81,"U","A/2","U","6",null,340.86,"Via dei MILLE",30,"B","B","P3-P4",6,"ABITAZIONE"]
[18,"U18","C06","C06",{"$f":"IF(C28<>\"\",IFERROR(VLOOKUP(C28,iCONDOMINI!$B$11:$C$109,2,FALSE),\"\") & \" /  \" &  IFERROR(VLOOKUP(D28,iCONDOMINI!$B$11:$C$109,2,FALSE),\"\"),\"\")","v":"Condomino06 /  Condomino06"},"I872",2,326,21,"U","A/2","U","6",null,340.86,"Via dei MILLE",30,"B","B","P1",1,"ABITAZIONE"]
[19,"U19","C07","C07",{"$f":"IF(C29<>\"\",IFERROR(VLOOKUP(C29,iCONDOMINI!$B$11:$C$109,2,FALSE),\"\") & \" /  \" &  IFERROR(VLOOKUP(D29,iCONDOMINI!$B$11:$C$109,2,FALSE),\"\"),\"\")","v":"Condomino07 /  Condomino07"},"I872",2,326,22,"U","A/2","U","7",null,397.67,"Via dei MILLE",22,"C","C","P1",4,"ABITAZIONE"]
[20,"U20","C17","C17",{"$f":"IF(C30<>\"\",IFERROR(VLOOKUP(C30,iCONDOMINI!$B$11:$C$109,2,FALSE),\"\") & \" /  \" &  IFERROR(VLOOKUP(D30,iCONDOMINI!$B$11:$C$109,2,FALSE),\"\"),\"\")","v":"Condomino17 /  Condomino17"},"I872",2,326,23,"U","A/1","U","6",null,557.77,"Via dei MILLE",22,"C","C","P2",3,"ABITAZIONE"]
[21,"U21","C01","C01",{"$f":"IF(C31<>\"\",IFERROR(VLOOKUP(C31,iCONDOMINI!$B$11:$C$109,2,FALSE),\"\") & \" /  \" &  IFERROR(VLOOKUP(D31,iCONDOMINI!$B$11:$C$109,2,FALSE),\"\"),\"\")","v":"Condomino01 /  Condomino01"},"I872",2,326,24,"U","A/2","U","6,5",null,369.27,"Via dei MILLE",22,"C","C","P2",4,"ABITAZIONE"]
[22,"U22","C10","I04",{"$f":"IF(C32<>\"\",IFERROR(VLOOKUP(C32,iCONDOMINI!$B$11:$C$109,2,FALSE),\"\") & \" /  \" &  IFERROR(VLOOKUP(D32,iCONDOMINI!$B$11:$C$109,2,FALSE),\"\"),\"\")","v":"Condomino10 /  Inquilino4"},"I872",2,326,82,"U","A/2","U","9,5",null,539.70000000000005,"Via dei MILLE",22,"C","C","P3-P4",5,"ABITAZIONE"]
[23,"U23","C08","C08",{"$f":"IF(C33<>\"\",IFERROR(VLOOKUP(C33,iCONDOMINI!$B$11:$C$109,2,FALSE),\"\") & \" /  \" &  IFERROR(VLOOKUP(D33,iCONDOMINI!$B$11:$C$109,2,FALSE),\"\"),\"\")","v":"Eredi Condomino08 /  Eredi Condomino08"},"I872",2,326,73,"U","C/2","1",null,61,66.16,"Via dei MILLE",22,"C","C","P4",null,"SOFFITTA"]
[24,"U24","C12","I05",{"$f":"IF(C34<>\"\",IFERROR(VLOOKUP(C34,iCONDOMINI!$B$11:$C$109,2,FALSE),\"\") & \" /  \" &  IFERROR(VLOOKUP(D34,iCONDOMINI!$B$11:$C$109,2,FALSE),\"\"),\"\")","v":"Condomino12 /  Inquilino5"},"I872",2,326,78,"U","C/2","2",null,24,30.99,"Via dei MILLE",38,"A","A","P4",null,"SOFFITTA"]
[25,"U25",null,null,{"$f":"IF(C35<>\"\",IFERROR(VLOOKUP(C35,iCONDOMINI!$B$11:$C$109,2,FALSE),\"\") & \" /  \" &  IFERROR(VLOOKUP(D35,iCONDOMINI!$B$11:$C$109,2,FALSE),\"\"),\"\")","v":""}]
[26,"U26",null,null,{"$f":"IF(C36<>\"\",IFERROR(VLOOKUP(C36,iCONDOMINI!$B$11:$C$109,2,FALSE),\"\") & \" /  \" &  IFERROR(VLOOKUP(D36,iCONDOMINI!$B$11:$C$109,2,FALSE),\"\"),\"\")","v":""}]
[27,"U27",null,null,{"$f":"IF(C37<>\"\",IFERROR(VLOOKUP(C37,iCONDOMINI!$B$11:$C$109,2,FALSE),\"\") & \" /  \" &  IFERROR(VLOOKUP(D37,iCONDOMINI!$B$11:$C$109,2,FALSE),\"\"),\"\")","v":""}]
[28,"U28",null,null,{"$f":"IF(C38<>\"\",IFERROR(VLOOKUP(C38,iCONDOMINI!$B$11:$C$109,2,FALSE),\"\") & \" /  \" &  IFERROR(VLOOKUP(D38,iCONDOMINI!$B$11:$C$109,2,FALSE),\"\"),\"\")","v":""}]
[29,"U29",null,null,{"$f":"IF(C39<>\"\",IFERROR(VLOOKUP(C39,iCONDOMINI!$B$11:$C$109,2,FALSE),\"\") & \" /  \" &  IFERROR(VLOOKUP(D39,iCONDOMINI!$B$11:$C$109,2,FALSE),\"\"),\"\")","v":""}]
[30,"U30",null,null,{"$f":"IF(C40<>\"\",IFERROR(VLOOKUP(C40,iCONDOMINI!$B$11:$C$109,2,FALSE),\"\") & \" /  \" &  IFERROR(VLOOKUP(D40,iCONDOMINI!$B$11:$C$109,2,FALSE),\"\"),\"\")","v":""}]
[31,"U31",null,null,{"$f":"IF(C41<>\"\",IFERROR(VLOOKUP(C41,iCONDOMINI!$B$11:$C$109,2,FALSE),\"\") & \" /  \" &  IFERROR(VLOOKUP(D41,iCONDOMINI!$B$11:$C$109,2,FALSE),\"\"),\"\")","v":""}]
[32,"U32",null,null,{"$f":"IF(C42<>\"\",IFERROR(VLOOKUP(C42,iCONDOMINI!$B$11:$C$109,2,FALSE),\"\") & \" /  \" &  IFERROR(VLOOKUP(D42,iCONDOMINI!$B$11:$C$109,2,FALSE),\"\"),\"\")","v":""}]
[33,"U33",null,null,{"$f":"IF(C43<>\"\",IFERROR(VLOOKUP(C43,iCONDOMINI!$B$11:$C$109,2,FALSE),\"\") & \" /  \" &  IFERROR(VLOOKUP(D43,iCONDOMINI!$B$11:$C$109,2,FALSE),\"\"),\"\")","v":""}]
[34,"U34",null,null,{"$f":"IF(C44<>\"\",IFERROR(VLOOKUP(C44,iCONDOMINI!$B$11:$C$109,2,FALSE),\"\") & \" /  \" &  IFERROR(VLOOKUP(D44,iCONDOMINI!$B$11:$C$109,2,FALSE),\"\"),\"\")","v":""}]
[35,"U35",null,null,{"$f":"IF(C45<>\"\",IFERROR(VLOOKUP(C45,iCONDOMINI!$B$11:$C$109,2,FALSE),\"\") & \" /  \" &  IFERROR(VLOOKUP(D45,iCONDOMINI!$B$11:$C$109,2,FALSE),\"\"),\"\")","v":""}]
[36,"U36",null,null,{"$f":"IF(C46<>\"\",IFERROR(VLOOKUP(C46,iCONDOMINI!$B$11:$C$109,2,FALSE),\"\") & \" /  \" &  IFERROR(VLOOKUP(D46,iCONDOMINI!$B$11:$C$109,2,FALSE),\"\"),\"\")","v":""}]
[37,"U37",null,null,{"$f":"IF(C47<>\"\",IFERROR(VLOOKUP(C47,iCONDOMINI!$B$11:$C$109,2,FALSE),\"\") & \" /  \" &  IFERROR(VLOOKUP(D47,iCONDOMINI!$B$11:$C$109,2,FALSE),\"\"),\"\")","v":""}]
[38,"U38",null,null,{"$f":"IF(C48<>\"\",IFERROR(VLOOKUP(C48,iCONDOMINI!$B$11:$C$109,2,FALSE),\"\") & \" /  \" &  IFERROR(VLOOKUP(D48,iCONDOMINI!$B$11:$C$109,2,FALSE),\"\"),\"\")","v":""}]
[39,"U39",null,null,{"$f":"IF(C49<>\"\",IFERROR(VLOOKUP(C49,iCONDOMINI!$B$11:$C$109,2,FALSE),\"\") & \" /  \" &  IFERROR(VLOOKUP(D49,iCONDOMINI!$B$11:$C$109,2,FALSE),\"\"),\"\")","v":""}]
[40,"U40",null,null,{"$f":"IF(C50<>\"\",IFERROR(VLOOKUP(C50,iCONDOMINI!$B$11:$C$109,2,FALSE),\"\") & \" /  \" &  IFERROR(VLOOKUP(D50,iCONDOMINI!$B$11:$C$109,2,FALSE),\"\"),\"\")","v":""}]
[41,"U41",null,null,{"$f":"IF(C51<>\"\",IFERROR(VLOOKUP(C51,iCONDOMINI!$B$11:$C$109,2,FALSE),\"\") & \" /  \" &  IFERROR(VLOOKUP(D51,iCONDOMINI!$B$11:$C$109,2,FALSE),\"\"),\"\")","v":""}]
[42,"U42",null,null,{"$f":"IF(C52<>\"\",IFERROR(VLOOKUP(C52,iCONDOMINI!$B$11:$C$109,2,FALSE),\"\") & \" /  \" &  IFERROR(VLOOKUP(D52,iCONDOMINI!$B$11:$C$109,2,FALSE),\"\"),\"\")","v":""}]
[43,"U43",null,null,{"$f":"IF(C53<>\"\",IFERROR(VLOOKUP(C53,iCONDOMINI!$B$11:$C$109,2,FALSE),\"\") & \" /  \" &  IFERROR(VLOOKUP(D53,iCONDOMINI!$B$11:$C$109,2,FALSE),\"\"),\"\")","v":""}]
[44,"U44",null,null,{"$f":"IF(C54<>\"\",IFERROR(VLOOKUP(C54,iCONDOMINI!$B$11:$C$109,2,FALSE),\"\") & \" /  \" &  IFERROR(VLOOKUP(D54,iCONDOMINI!$B$11:$C$109,2,FALSE),\"\"),\"\")","v":""}]
[45,"U45",null,null,{"$f":"IF(C55<>\"\",IFERROR(VLOOKUP(C55,iCONDOMINI!$B$11:$C$109,2,FALSE),\"\") & \" /  \" &  IFERROR(VLOOKUP(D55,iCONDOMINI!$B$11:$C$109,2,FALSE),\"\"),\"\")","v":""}]
[46,"U46",null,null,{"$f":"IF(C56<>\"\",IFERROR(VLOOKUP(C56,iCONDOMINI!$B$11:$C$109,2,FALSE),\"\") & \" /  \" &  IFERROR(VLOOKUP(D56,iCONDOMINI!$B$11:$C$109,2,FALSE),\"\"),\"\")","v":""}]
[47,"U47",null,null,{"$f":"IF(C57<>\"\",IFERROR(VLOOKUP(C57,iCONDOMINI!$B$11:$C$109,2,FALSE),\"\") & \" /  \" &  IFERROR(VLOOKUP(D57,iCONDOMINI!$B$11:$C$109,2,FALSE),\"\"),\"\")","v":""}]
[48,"U48",null,null,{"$f":"IF(C58<>\"\",IFERROR(VLOOKUP(C58,iCONDOMINI!$B$11:$C$109,2,FALSE),\"\") & \" /  \" &  IFERROR(VLOOKUP(D58,iCONDOMINI!$B$11:$C$109,2,FALSE),\"\"),\"\")","v":""}]
[49,"U49",null,null,{"$f":"IF(C59<>\"\",IFERROR(VLOOKUP(C59,iCONDOMINI!$B$11:$C$109,2,FALSE),\"\") & \" /  \" &  IFERROR(VLOOKUP(D59,iCONDOMINI!$B$11:$C$109,2,FALSE),\"\"),\"\")","v":""}]
[50,"U50",null,null,{"$f":"IF(C60<>\"\",IFERROR(VLOOKUP(C60,iCONDOMINI!$B$11:$C$109,2,FALSE),\"\") & \" /  \" &  IFERROR(VLOOKUP(D60,iCONDOMINI!$B$11:$C$109,2,FALSE),\"\"),\"\")","v":""}]
[51,"U51",null,null,{"$f":"IF(C61<>\"\",IFERROR(VLOOKUP(C61,iCONDOMINI!$B$11:$C$109,2,FALSE),\"\") & \" /  \" &  IFERROR(VLOOKUP(D61,iCONDOMINI!$B$11:$C$109,2,FALSE),\"\"),\"\")","v":""}]
[52,"U52",null,null,{"$f":"IF(C62<>\"\",IFERROR(VLOOKUP(C62,iCONDOMINI!$B$11:$C$109,2,FALSE),\"\") & \" /  \" &  IFERROR(VLOOKUP(D62,iCONDOMINI!$B$11:$C$109,2,FALSE),\"\"),\"\")","v":""}]
[53,"U53",null,null,{"$f":"IF(C63<>\"\",IFERROR(VLOOKUP(C63,iCONDOMINI!$B$11:$C$109,2,FALSE),\"\") & \" /  \" &  IFERROR(VLOOKUP(D63,iCONDOMINI!$B$11:$C$109,2,FALSE),\"\"),\"\")","v":""}]
[54,"U54",null,null,{"$f":"IF(C64<>\"\",IFERROR(VLOOKUP(C64,iCONDOMINI!$B$11:$C$109,2,FALSE),\"\") & \" /  \" &  IFERROR(VLOOKUP(D64,iCONDOMINI!$B$11:$C$109,2,FALSE),\"\"),\"\")","v":""}]
[55,"U55",null,null,{"$f":"IF(C65<>\"\",IFERROR(VLOOKUP(C65,iCONDOMINI!$B$11:$C$109,2,FALSE),\"\") & \" /  \" &  IFERROR(VLOOKUP(D65,iCONDOMINI!$B$11:$C$109,2,FALSE),\"\"),\"\")","v":""}]
[56,"U56",null,null,{"$f":"IF(C66<>\"\",IFERROR(VLOOKUP(C66,iCONDOMINI!$B$11:$C$109,2,FALSE),\"\") & \" /  \" &  IFERROR(VLOOKUP(D66,iCONDOMINI!$B$11:$C$109,2,FALSE),\"\"),\"\")","v":""}]
[57,"U57",null,null,{"$f":"IF(C67<>\"\",IFERROR(VLOOKUP(C67,iCONDOMINI!$B$11:$C$109,2,FALSE),\"\") & \" /  \" &  IFERROR(VLOOKUP(D67,iCONDOMINI!$B$11:$C$109,2,FALSE),\"\"),\"\")","v":""}]
[58,"U58",null,null,{"$f":"IF(C68<>\"\",IFERROR(VLOOKUP(C68,iCONDOMINI!$B$11:$C$109,2,FALSE),\"\") & \" /  \" &  IFERROR(VLOOKUP(D68,iCONDOMINI!$B$11:$C$109,2,FALSE),\"\"),\"\")","v":""}]
[59,"U59",null,null,{"$f":"IF(C69<>\"\",IFERROR(VLOOKUP(C69,iCONDOMINI!$B$11:$C$109,2,FALSE),\"\") & \" /  \" &  IFERROR(VLOOKUP(D69,iCONDOMINI!$B$11:$C$109,2,FALSE),\"\"),\"\")","v":""}]
[60,"U60",null,null,{"$f":"IF(C70<>\"\",IFERROR(VLOOKUP(C70,iCONDOMINI!$B$11:$C$109,2,FALSE),\"\") & \" /  \" &  IFERROR(VLOOKUP(D70,iCONDOMINI!$B$11:$C$109,2,FALSE),\"\"),\"\")","v":""}]
[61,"U61",null,null,{"$f":"IF(C71<>\"\",IFERROR(VLOOKUP(C71,iCONDOMINI!$B$11:$C$109,2,FALSE),\"\") & \" /  \" &  IFERROR(VLOOKUP(D71,iCONDOMINI!$B$11:$C$109,2,FALSE),\"\"),\"\")","v":""}]
[62,"U62",null,null,{"$f":"IF(C72<>\"\",IFERROR(VLOOKUP(C72,iCONDOMINI!$B$11:$C$109,2,FALSE),\"\") & \" /  \" &  IFERROR(VLOOKUP(D72,iCONDOMINI!$B$11:$C$109,2,FALSE),\"\"),\"\")","v":""}]
[63,"U63",null,null,{"$f":"IF(C73<>\"\",IFERROR(VLOOKUP(C73,iCONDOMINI!$B$11:$C$109,2,FALSE),\"\") & \" /  \" &  IFERROR(VLOOKUP(D73,iCONDOMINI!$B$11:$C$109,2,FALSE),\"\"),\"\")","v":""}]
[64,"U64",null,null,{"$f":"IF(C74<>\"\",IFERROR(VLOOKUP(C74,iCONDOMINI!$B$11:$C$109,2,FALSE),\"\") & \" /  \" &  IFERROR(VLOOKUP(D74,iCONDOMINI!$B$11:$C$109,2,FALSE),\"\"),\"\")","v":""}]
[65,"U65",null,null,{"$f":"IF(C75<>\"\",IFERROR(VLOOKUP(C75,iCONDOMINI!$B$11:$C$109,2,FALSE),\"\") & \" /  \" &  IFERROR(VLOOKUP(D75,iCONDOMINI!$B$11:$C$109,2,FALSE),\"\"),\"\")","v":""}]
[66,"U66",null,null,{"$f":"IF(C76<>\"\",IFERROR(VLOOKUP(C76,iCONDOMINI!$B$11:$C$109,2,FALSE),\"\") & \" /  \" &  IFERROR(VLOOKUP(D76,iCONDOMINI!$B$11:$C$109,2,FALSE),\"\"),\"\")","v":""}]
[67,"U67",null,null,{"$f":"IF(C77<>\"\",IFERROR(VLOOKUP(C77,iCONDOMINI!$B$11:$C$109,2,FALSE),\"\") & \" /  \" &  IFERROR(VLOOKUP(D77,iCONDOMINI!$B$11:$C$109,2,FALSE),\"\"),\"\")","v":""}]
[68,"U68",null,null,{"$f":"IF(C78<>\"\",IFERROR(VLOOKUP(C78,iCONDOMINI!$B$11:$C$109,2,FALSE),\"\") & \" /  \" &  IFERROR(VLOOKUP(D78,iCONDOMINI!$B$11:$C$109,2,FALSE),\"\"),\"\")","v":""}]
[69,"U69",null,null,{"$f":"IF(C79<>\"\",IFERROR(VLOOKUP(C79,iCONDOMINI!$B$11:$C$109,2,FALSE),\"\") & \" /  \" &  IFERROR(VLOOKUP(D79,iCONDOMINI!$B$11:$C$109,2,FALSE),\"\"),\"\")","v":""}]
[70,"U70",null,null,{"$f":"IF(C80<>\"\",IFERROR(VLOOKUP(C80,iCONDOMINI!$B$11:$C$109,2,FALSE),\"\") & \" /  \" &  IFERROR(VLOOKUP(D80,iCONDOMINI!$B$11:$C$109,2,FALSE),\"\"),\"\")","v":""}]
[71,"U71",null,null,{"$f":"IF(C81<>\"\",IFERROR(VLOOKUP(C81,iCONDOMINI!$B$11:$C$109,2,FALSE),\"\") & \" /  \" &  IFERROR(VLOOKUP(D81,iCONDOMINI!$B$11:$C$109,2,FALSE),\"\"),\"\")","v":""}]
[72,"U72",null,null,{"$f":"IF(C82<>\"\",IFERROR(VLOOKUP(C82,iCONDOMINI!$B$11:$C$109,2,FALSE),\"\") & \" /  \" &  IFERROR(VLOOKUP(D82,iCONDOMINI!$B$11:$C$109,2,FALSE),\"\"),\"\")","v":""}]
[73,"U73",null,null,{"$f":"IF(C83<>\"\",IFERROR(VLOOKUP(C83,iCONDOMINI!$B$11:$C$109,2,FALSE),\"\") & \" /  \" &  IFERROR(VLOOKUP(D83,iCONDOMINI!$B$11:$C$109,2,FALSE),\"\"),\"\")","v":""}]
[74,"U74",null,null,{"$f":"IF(C84<>\"\",IFERROR(VLOOKUP(C84,iCONDOMINI!$B$11:$C$109,2,FALSE),\"\") & \" /  \" &  IFERROR(VLOOKUP(D84,iCONDOMINI!$B$11:$C$109,2,FALSE),\"\"),\"\")","v":""}]
[75,"U75",null,null,{"$f":"IF(C85<>\"\",IFERROR(VLOOKUP(C85,iCONDOMINI!$B$11:$C$109,2,FALSE),\"\") & \" /  \" &  IFERROR(VLOOKUP(D85,iCONDOMINI!$B$11:$C$109,2,FALSE),\"\"),\"\")","v":""}]
[76,"U76",null,null,{"$f":"IF(C86<>\"\",IFERROR(VLOOKUP(C86,iCONDOMINI!$B$11:$C$109,2,FALSE),\"\") & \" /  \" &  IFERROR(VLOOKUP(D86,iCONDOMINI!$B$11:$C$109,2,FALSE),\"\"),\"\")","v":""}]
[77,"U77",null,null,{"$f":"IF(C87<>\"\",IFERROR(VLOOKUP(C87,iCONDOMINI!$B$11:$C$109,2,FALSE),\"\") & \" /  \" &  IFERROR(VLOOKUP(D87,iCONDOMINI!$B$11:$C$109,2,FALSE),\"\"),\"\")","v":""}]
[78,"U78",null,null,{"$f":"IF(C88<>\"\",IFERROR(VLOOKUP(C88,iCONDOMINI!$B$11:$C$109,2,FALSE),\"\") & \" /  \" &  IFERROR(VLOOKUP(D88,iCONDOMINI!$B$11:$C$109,2,FALSE),\"\"),\"\")","v":""}]
[79,"U79",null,null,{"$f":"IF(C89<>\"\",IFERROR(VLOOKUP(C89,iCONDOMINI!$B$11:$C$109,2,FALSE),\"\") & \" /  \" &  IFERROR(VLOOKUP(D89,iCONDOMINI!$B$11:$C$109,2,FALSE),\"\"),\"\")","v":""}]
[80,"U80",null,null,{"$f":"IF(C90<>\"\",IFERROR(VLOOKUP(C90,iCONDOMINI!$B$11:$C$109,2,FALSE),\"\") & \" /  \" &  IFERROR(VLOOKUP(D90,iCONDOMINI!$B$11:$C$109,2,FALSE),\"\"),\"\")","v":""}]
[81,"U81",null,null,{"$f":"IF(C91<>\"\",IFERROR(VLOOKUP(C91,iCONDOMINI!$B$11:$C$109,2,FALSE),\"\") & \" /  \" &  IFERROR(VLOOKUP(D91,iCONDOMINI!$B$11:$C$109,2,FALSE),\"\"),\"\")","v":""}]
[82,"U82",null,null,{"$f":"IF(C92<>\"\",IFERROR(VLOOKUP(C92,iCONDOMINI!$B$11:$C$109,2,FALSE),\"\") & \" /  \" &  IFERROR(VLOOKUP(D92,iCONDOMINI!$B$11:$C$109,2,FALSE),\"\"),\"\")","v":""}]
[83,"U83",null,null,{"$f":"IF(C93<>\"\",IFERROR(VLOOKUP(C93,iCONDOMINI!$B$11:$C$109,2,FALSE),\"\") & \" /  \" &  IFERROR(VLOOKUP(D93,iCONDOMINI!$B$11:$C$109,2,FALSE),\"\"),\"\")","v":""}]
[84,"U84",null,null,{"$f":"IF(C94<>\"\",IFERROR(VLOOKUP(C94,iCONDOMINI!$B$11:$C$109,2,FALSE),\"\") & \" /  \" &  IFERROR(VLOOKUP(D94,iCONDOMINI!$B$11:$C$109,2,FALSE),\"\"),\"\")","v":""}]
[85,"U85",null,null,{"$f":"IF(C95<>\"\",IFERROR(VLOOKUP(C95,iCONDOMINI!$B$11:$C$109,2,FALSE),\"\") & \" /  \" &  IFERROR(VLOOKUP(D95,iCONDOMINI!$B$11:$C$109,2,FALSE),\"\"),\"\")","v":""}]
[86,"U86",null,null,{"$f":"IF(C96<>\"\",IFERROR(VLOOKUP(C96,iCONDOMINI!$B$11:$C$109,2,FALSE),\"\") & \" /  \" &  IFERROR(VLOOKUP(D96,iCONDOMINI!$B$11:$C$109,2,FALSE),\"\"),\"\")","v":""}]
[87,"U87",null,null,{"$f":"IF(C97<>\"\",IFERROR(VLOOKUP(C97,iCONDOMINI!$B$11:$C$109,2,FALSE),\"\") & \" /  \" &  IFERROR(VLOOKUP(D97,iCONDOMINI!$B$11:$C$109,2,FALSE),\"\"),\"\")","v":""}]
[88,"U88",null,null,{"$f":"IF(C98<>\"\",IFERROR(VLOOKUP(C98,iCONDOMINI!$B$11:$C$109,2,FALSE),\"\") & \" /  \" &  IFERROR(VLOOKUP(D98,iCONDOMINI!$B$11:$C$109,2,FALSE),\"\"),\"\")","v":""}]
[89,"U89",null,null,{"$f":"IF(C99<>\"\",IFERROR(VLOOKUP(C99,iCONDOMINI!$B$11:$C$109,2,FALSE),\"\") & \" /  \" &  IFERROR(VLOOKUP(D99,iCONDOMINI!$B$11:$C$109,2,FALSE),\"\"),\"\")","v":""}]
[90,"U90",null,null,{"$f":"IF(C100<>\"\",IFERROR(VLOOKUP(C100,iCONDOMINI!$B$11:$C$109,2,FALSE),\"\") & \" /  \" &  IFERROR(VLOOKUP(D100,iCONDOMINI!$B$11:$C$109,2,FALSE),\"\"),\"\")","v":""}]
[91,"U91",null,null,{"$f":"IF(C101<>\"\",IFERROR(VLOOKUP(C101,iCONDOMINI!$B$11:$C$109,2,FALSE),\"\") & \" /  \" &  IFERROR(VLOOKUP(D101,iCONDOMINI!$B$11:$C$109,2,FALSE),\"\"),\"\")","v":""}]
[92,"U92",null,null,{"$f":"IF(C102<>\"\",IFERROR(VLOOKUP(C102,iCONDOMINI!$B$11:$C$109,2,FALSE),\"\") & \" /  \" &  IFERROR(VLOOKUP(D102,iCONDOMINI!$B$11:$C$109,2,FALSE),\"\"),\"\")","v":""}]
[93,"U93",null,null,{"$f":"IF(C103<>\"\",IFERROR(VLOOKUP(C103,iCONDOMINI!$B$11:$C$109,2,FALSE),\"\") & \" /  \" &  IFERROR(VLOOKUP(D103,iCONDOMINI!$B$11:$C$109,2,FALSE),\"\"),\"\")","v":""}]
[94,"U94",null,null,{"$f":"IF(C104<>\"\",IFERROR(VLOOKUP(C104,iCONDOMINI!$B$11:$C$109,2,FALSE),\"\") & \" /  \" &  IFERROR(VLOOKUP(D104,iCONDOMINI!$B$11:$C$109,2,FALSE),\"\"),\"\")","v":""}]
[95,"U95",null,null,{"$f":"IF(C105<>\"\",IFERROR(VLOOKUP(C105,iCONDOMINI!$B$11:$C$109,2,FALSE),\"\") & \" /  \" &  IFERROR(VLOOKUP(D105,iCONDOMINI!$B$11:$C$109,2,FALSE),\"\"),\"\")","v":""}]
[96,"U96",null,null,{"$f":"IF(C106<>\"\",IFERROR(VLOOKUP(C106,iCONDOMINI!$B$11:$C$109,2,FALSE),\"\") & \" /  \" &  IFERROR(VLOOKUP(D106,iCONDOMINI!$B$11:$C$109,2,FALSE),\"\"),\"\")","v":""}]
[97,"U97",null,null,{"$f":"IF(C107<>\"\",IFERROR(VLOOKUP(C107,iCONDOMINI!$B$11:$C$109,2,FALSE),\"\") & \" /  \" &  IFERROR(VLOOKUP(D107,iCONDOMINI!$B$11:$C$109,2,FALSE),\"\"),\"\")","v":""}]
[98,"U98",null,null,{"$f":"IF(C108<>\"\",IFERROR(VLOOKUP(C108,iCONDOMINI!$B$11:$C$109,2,FALSE),\"\") & \" /  \" &  IFERROR(VLOOKUP(D108,iCONDOMINI!$B$11:$C$109,2,FALSE),\"\"),\"\")","v":""}]
[99,"U99",null,null,{"$f":"IF(C109<>\"\",IFERROR(VLOOKUP(C109,iCONDOMINI!$B$11:$C$109,2,FALSE),\"\") & \" /  \" &  IFERROR(VLOOKUP(D109,iCONDOMINI!$B$11:$C$109,2,FALSE),\"\"),\"\")","v":""}]
[]
[0,null,null,null,null,null,null,null,null,null,null,null,null,null,null,null,null,null,null,null,null,null,0]

{"sheet":"nPC","index":6,"n_rows":8,"n_cols":1,"rows_kept":8,"cut":false,"hidden":true,"merged":[[7,0,7,3],[2,0,2,3],[3,0,3,3],[4,0,4,3],[5,0,5,3],[6,0,6,3]]}
[{"$f":"'iP1'!A5","v":"Condominio \"TERMICO\""}]
["IL PIANO DEI CONTI"]
["La procedura GSRIS gestisce la contabilità condominiale con il metodo del Piano dei Conti.\nCon tale metodo ad ogni operazione o rilevazione contabile è assegnato uno o più codici di conto, al fine di caratterizzare l'operazione attribuendole così sia una causale di raggruppamento e sia una conseguente modalità di trattamento contabile.\nIl piano dei conti è costituito dall'insieme di tutti i conti utilizzabili nella tenuta delle scritture contabili relative alla gestione economico-finanziaria del condominio.\nIl piano dei conti è suddiviso in più piani parziali dei conti :\n1 - PIANO DELLE USCITE\n2 - PIANO DELLE ENTRATE\n3 - PIANO DEI CREDITI\n4 - PIANO DEI DEBITI\n\n"]
["Un piano parziale dei conti si presenta sotto forma di un prospetto che associa le descrizioni delle operazioni contabili (di pagamento, di incasso, ecc.) normalmente eseguite dall'amministratore e designate come causale o intestazione o oggetto del conto o voce di bilancio ad una stringa alfanumerica di tre o quattro campi separati da punti (codice del conto).\nIl primo campo del CODICE CONTO è detto Sezione ed è costituito da una sola lettera maiuscola.\nIl secondo campo è costituito di solito da un numero a due cifre ed indica il capitolo o mastro della sezione, quale causale comune che raggruppa i sottoconti o voci individuati dal terzo campo, sempre di tipo numerico a due cifre. \nPer alcune voci si potrebbe avere un ulteriore campo che fornisce una ulteriore suddivisione per gli elementi che costituiscono la voce.\n"]
["PIANO DELLE USCITE.\nLe sezioni sono sei e sono individuati dalle lettere S, L, G, P, U e R.\nIl piano dei conti delle uscite condominiali, a differenza di quello per aziende, prevede, per i conti relativi a spese, un’ulteriore indicazione che è quella della tabella millesimale da utilizzare per ripartire la spesa fra i singoli condomini."]
["PIANO DELLE ENTRATE.\nLe sezioni sono quattro: Q - A - E - V."]
["PIANO DEI CREDITI.\nLa sezione è una sola la C con cinque capitoli (manca il capitolo 05)."]
["PIANO DEI DEBITI.\nLa sezione è una sola la D con cinque capitoli (manca il capitolo 01)."]

{"sheet":"iPCU","index":7,"n_rows":208,"n_cols":4,"rows_kept":208,"cut":false,"hidden":true,"merged":[[8,0,9,0],[8,2,9,2],[8,1,9,1]]}
["È consentito variare i dati delle sole celle senza sfondo colorato. I dati necessari hanno l'intestazione di colonna in rosso.",null,null,0]
[]
[]
[]
[]
[{"$f":"'iP1'!A5","v":"Condominio \"TERMICO\""}]
["PIANO GENERALE DEI CONTI"]
["PIANO DELLE USCITE"]
["SEZIONI, CAPITOLI e VOCI","CODICE\nCONTO","TABELLA\nRIPARTO"]
[]
["SPESE GENERALI","S.01"]
["POSTALI, TELEGRAFICHE, TELEFONICHE E WEB ","S.01.01","B"]
["DIRITTI BOLLI TASSE ","S.01.02","B"]
["COMPENSI AMMINISTRATORE","S.01.03","B"]
["COMPENSI A TERZI (consulenti, ...)","S.01.04","B"]
["SPESE LEGALI, CONTRATTUALI e RECUPERO CREDITI","S.01.05","A"]
["ALTRE SPESE GENERALI CONDOMINI","S.01.06","A"]
["ALTRE SPESE GENERALI UTILIZZATORI","S.01.07","B"]
[null,"S.01.08"]
[null,"S.01.09"]
[null,"S.01.10"]
[null,"S.01.11"]
[null,"S.01.12"]
[null,"S.01.13"]
[null,"S.01.14"]
[null,"S.01.15"]
["PULIZIE","S.02"]
["PULIZIA LOCALI CALDAIA","S.02.01","B"]
[null,"S.02.02"]
[null,"S.02.03"]
[null,"S.02.04"]
[null,"S.02.05"]
[null,"S.02.06"]
[null,"S.02.07"]
[null,"S.02.08"]
[null,"S.02.09"]
[null,"S.02.10"]
["MANUTENZIONE ORDINARIA","S.03"]
["CANONE MANTENZIONE CALDAIA ED IMPIANTO","S.03.01","B"]
["SPESE VARIE DI MANUTENZIONE ORDINARIA","S.03.02","B"]
[null,"S.03.03"]
[null,"S.03.04"]
[null,"S.03.05"]
[null,"S.03.06"]
[null,"S.03.07"]
[null,"S.03.08"]
[null,"S.03.09"]
[null,"S.03.10"]
["CONSUMI DI ENERGIA","S.04"]
["CONSUMO GAS (Quota rapportata alla potenza termica)","S.04.01","C"]
["CONSUMO ENERGIA ELETTRICA (Quota rapportata alla potenza termica)","S.04.02","C"]
["CONSUMO GAS (Quota rapportata al consumo)","S.04.03","E"]
["CONSUMO ENERGIA ELETTRICA (Quota rapportata al consumo)","S.04.04","E"]
[null,"S.04.05"]
[null,"S.04.06"]
[null,"S.04.07"]
[null,"S.04.08"]
[null,"S.04.09"]
[null,"S.04.10"]
["MANUTENZIONE STRAORDINARIA","S.05"]
["MANUTENZIONE STRAORDINARIA CALDAIA","S.05.01","A"]
["MANUTENZIONE STRAORDINARIA IMPIANTO","S.05.02","A"]
[null,"S.05.03"]
[null,"S.05.04"]
[null,"S.05.05"]
[null,"S.05.06"]
[null,"S.05.07"]
[null,"S.05.08"]
[null,"S.05.09"]
[null,"S.05.10"]
["SPESE VARIE A CARICO DEI CONDOMINI","S.06"]
["VARIE IMPREVISTE ED ALTRE SPESE DOCUMENTATE CONDOMINI","S.06.01","A"]
[null,"S.06.02"]
[null,"S.06.03"]
[null,"S.06.04"]
[null,"S.06.05"]
["SPESE VARIE A CARICO DEGLI UTILIZZATORI","S.07"]
["VARIE IMPREVISTE ED ALTRE SPESE DOCUMENTATE UTILIZZATORI","S.07.01","B"]
["SPESE PER RIPARTIZIONE COSTI LETTURE CONSUMI CONTATORI RISCALDAMENTO","S.07.02","D"]
[null,"S.07.03"]
[null,"S.07.04"]
[null,"S.07.05"]
["USCITE PER COSTITUZIONE DEPOSITI PRESSO TERZI e PRESTITI A TERZI","L"]
["DEPOSITI CAUZIONALI","L.01.01","A"]
["PRESTITI A TERZI","L.01.02","A"]
[null,"L.01.03"]
[null,"L.01.04"]
[null,"L.01.05"]
["SPESE PERSONALI o ASSEGNATE DIRETTAMENTE AI CONDOMINI E AGLI INQUILINI","P"]
[{"$f":"iCONDOMINI!C11","v":"Condomino01"},"P.01.01"]
[{"$f":"iCONDOMINI!C12","v":"Condomino02"},"P.01.02"]
[{"$f":"iCONDOMINI!C13","v":"Condomino03"},"P.01.03"]
[{"$f":"iCONDOMINI!C14","v":"Condomino04 S.r.l."},"P.01.04"]
[{"$f":"iCONDOMINI!C15","v":"Condomino05"},"P.01.05"]
[{"$f":"iCONDOMINI!C16","v":"Condomino06"},"P.01.06"]
[{"$f":"iCONDOMINI!C17","v":"Condomino07"},"P.01.07"]
[{"$f":"iCONDOMINI!C18","v":"Eredi Condomino08"},"P.01.08"]
[{"$f":"iCONDOMINI!C19","v":"Condomino09 S.r.l."},"P.01.09"]
[{"$f":"iCONDOMINI!C20","v":"Condomino10"},"P.01.10"]
[{"$f":"iCONDOMINI!C21","v":"Condomino11"},"P.01.11"]
[{"$f":"iCONDOMINI!C22","v":"Condomino12"},"P.01.12"]
[{"$f":"iCONDOMINI!C23","v":"Condomino13"},"P.01.13"]
[{"$f":"iCONDOMINI!C24","v":"Condomino14"},"P.01.14"]
[{"$f":"iCONDOMINI!C25","v":"Condomino15"},"P.01.15"]
[{"$f":"iCONDOMINI!C26","v":"Condomino16"},"P.01.16"]
[{"$f":"iCONDOMINI!C27","v":"Condomino17"},"P.01.17"]
[{"$f":"iCONDOMINI!C28","v":"Condomino18"},"P.01.18"]
[{"$f":"iCONDOMINI!C29","v":"Condomino19"},"P.01.19"]
[{"$f":"iCONDOMINI!C30","v":"Condomino20"},"P.01.20"]
[{"$f":"iCONDOMINI!C31","v":"Condomino21"},"P.01.21"]
[{"$f":"iCONDOMINI!C32","v":"Condomino22"},"P.01.22"]
[{"$f":"iCONDOMINI!C33","v":"Condomino23"},"P.01.23"]
[{"$f":"iCONDOMINI!C34","v":"Inquilino1"},"P.01.24"]
[{"$f":"iCONDOMINI!C35","v":"Inquilino2"},"P.01.25"]
[{"$f":"iCONDOMINI!C36","v":"Inquilino3"},"P.01.26"]
[{"$f":"iCONDOMINI!C37","v":"Inquilino4"},"P.01.27"]
[{"$f":"iCONDOMINI!C38","v":"Inquilino5"},"P.01.28"]
[{"$f":"iCONDOMINI!C39","v":0},"P.01.29"]
[{"$f":"iCONDOMINI!C40","v":0},"P.01.30"]
[{"$f":"iCONDOMINI!C41","v":0},"P.01.31"]
[{"$f":"iCONDOMINI!C42","v":0},"P.01.32"]
[{"$f":"iCONDOMINI!C43","v":0},"P.01.33"]
[{"$f":"iCONDOMINI!C44","v":0},"P.01.34"]
[{"$f":"iCONDOMINI!C45","v":0},"P.01.35"]
[{"$f":"iCONDOMINI!C46","v":0},"P.01.36"]
[{"$f":"iCONDOMINI!C47","v":0},"P.01.37"]
[{"$f":"iCONDOMINI!C48","v":0},"P.01.38"]
[{"$f":"iCONDOMINI!C49","v":0},"P.01.39"]
[{"$f":"iCONDOMINI!C50","v":0},"P.01.40"]
[{"$f":"iCONDOMINI!C51","v":0},"P.01.41"]
[{"$f":"iCONDOMINI!C52","v":0},"P.01.42"]
[{"$f":"iCONDOMINI!C53","v":0},"P.01.43"]
[{"$f":"iCONDOMINI!C54","v":0},"P.01.44"]
[{"$f":"iCONDOMINI!C55","v":0},"P.01.45"]
[{"$f":"iCONDOMINI!C56","v":0},"P.01.46"]
[{"$f":"iCONDOMINI!C57","v":0},"P.01.47"]
[{"$f":"iCONDOMINI!C58","v":0},"P.01.48"]
[{"$f":"iCONDOMINI!C59","v":0},"P.01.49"]
[{"$f":"iCONDOMINI!C60","v":0},"P.01.50"]
[{"$f":"iCONDOMINI!C61","v":0},"P.01.51"]
[{"$f":"iCONDOMINI!C62","v":0},"P.01.52"]
[{"$f":"iCONDOMINI!C63","v":0},"P.01.53"]
[{"$f":"iCONDOMINI!C64","v":0},"P.01.54"]
[{"$f":"iCONDOMINI!C65","v":0},"P.01.55"]
[{"$f":"iCONDOMINI!C66","v":0},"P.01.56"]
[{"$f":"iCONDOMINI!C67","v":0},"P.01.57"]
[{"$f":"iCONDOMINI!C68","v":0},"P.01.58"]
[{"$f":"iCONDOMINI!C69","v":0},"P.01.59"]
[{"$f":"iCONDOMINI!C70","v":0},"P.01.60"]
[{"$f":"iCONDOMINI!C71","v":0},"P.01.61"]
[{"$f":"iCONDOMINI!C72","v":0},"P.01.62"]
[{"$f":"iCONDOMINI!C73","v":0},"P.01.63"]
[{"$f":"iCONDOMINI!C74","v":0},"P.01.64"]
[{"$f":"iCONDOMINI!C75","v":0},"P.01.65"]
[{"$f":"iCONDOMINI!C76","v":0},"P.01.66"]
[{"$f":"iCONDOMINI!C77","v":0},"P.01.67"]
[{"$f":"iCONDOMINI!C78","v":0},"P.01.68"]
[{"$f":"iCONDOMINI!C79","v":0},"P.01.69"]
[{"$f":"iCONDOMINI!C80","v":0},"P.01.70"]
[{"$f":"iCONDOMINI!C81","v":0},"P.01.71"]
[{"$f":"iCONDOMINI!C82","v":0},"P.01.72"]
[{"$f":"iCONDOMINI!C83","v":0},"P.01.73"]
[{"$f":"iCONDOMINI!C84","v":0},"P.01.74"]
[{"$f":"iCONDOMINI!C85","v":0},"P.01.75"]
[{"$f":"iCONDOMINI!C86","v":0},"P.01.76"]
[{"$f":"iCONDOMINI!C87","v":0},"P.01.77"]
[{"$f":"iCONDOMINI!C88","v":0},"P.01.78"]
[{"$f":"iCONDOMINI!C89","v":0},"P.01.79"]
[{"$f":"iCONDOMINI!C90","v":0},"P.01.80"]
[{"$f":"iCONDOMINI!C91","v":0},"P.01.81"]
[{"$f":"iCONDOMINI!C92","v":0},"P.01.82"]
[{"$f":"iCONDOMINI!C93","v":0},"P.01.83"]
[{"$f":"iCONDOMINI!C94","v":0},"P.01.84"]
[{"$f":"iCONDOMINI!C95","v":0},"P.01.85"]
[{"$f":"iCONDOMINI!C96","v":0},"P.01.86"]
[{"$f":"iCONDOMINI!C97","v":0},"P.01.87"]
[{"$f":"iCONDOMINI!C98","v":0},"P.01.88"]
[{"$f":"iCONDOMINI!C99","v":0},"P.01.89"]
[{"$f":"iCONDOMINI!C100","v":0},"P.01.90"]
[{"$f":"iCONDOMINI!C101","v":0},"P.01.91"]
[{"$f":"iCONDOMINI!C102","v":0},"P.01.92"]
[{"$f":"iCONDOMINI!C103","v":0},"P.01.93"]
[{"$f":"iCONDOMINI!C104","v":0},"P.01.94"]
[{"$f":"iCONDOMINI!C105","v":0},"P.01.95"]
[{"$f":"iCONDOMINI!C106","v":0},"P.01.96"]
[{"$f":"iCONDOMINI!C107","v":0},"P.01.97"]
[{"$f":"iCONDOMINI!C108","v":0},"P.01.98"]
[{"$f":"iCONDOMINI!C109","v":0},"P.01.99"]
["RESTITUZIONI, PAGAMENTI DEBITI E VERSAMENTI R.A.","U","U"]
["Restituzioni a Condomini versamenti in eccesso per l'esercizio precedente","U.01.nc"]
["Pagamenti Debiti v/s  Terzi","U.02.00"]
[null,"U.03.00"]
[null,"U.04.00"]
[null,"U.05.00"]
["PRESTITI A GESTIONE ORDINARIA",null,"R"]
["Prestito a Gestione Ordinaria","R.01.01"]
[{"$f":"IF(LEN('iP1'!A28)>0,\"PRESTITO a  \" &'iP1'!A28,\"\")","v":""}]
[{"$f":"IF(LEN('iP1'!A29)>0,\"PRESTITO a  \" &'iP1'!A29,\"\")","v":""}]
[{"$f":"IF(LEN('iP1'!A30)>0,\"PRESTITO a  \" &'iP1'!A30,\"\")","v":""}]
[{"$f":"IF(LEN('iP1'!A31)>0,\"PRESTITO a  \" &'iP1'!A31,\"\")","v":""}]
[]
[{"$f":"IF(LEN('iP1'!A27)>0,\"USCITE per \" &'iP1'!A27,\"\")","v":""}]
[{"$f":"IF(LEN('iP1'!A28)>0,\"USCITE per \" &'iP1'!A28,\"\")","v":""}]
[{"$f":"IF(LEN('iP1'!A29)>0,\"USCITE per \" &'iP1'!A29,\"\")","v":""}]
[{"$f":"IF(LEN('iP1'!A30)>0,\"USCITE per \" &'iP1'!A30,\"\")","v":""}]
[{"$f":"IF(LEN('iP1'!A31)>0,\"USCITE per \" &'iP1'!A31,\"\")","v":""}]
[]
[0,null,null,0]

{"sheet":"iPCE","index":8,"n_rows":157,"n_cols":5,"rows_kept":157,"cut":false,"hidden":true,"merged":[]}
["È consentito variare i dati delle sole celle senza sfondo colorato. I dati necessari hanno l'intestazione di colonna in rosso.",null,null,null,0]
[]
[]
[]
[]
[]
[{"$f":"'iP1'!A5","v":"Condominio \"TERMICO\""}]
["PIANO GENERALE DEI CONTI"]
["PIANO DELLE ENTRATE"]
["SEZIONI, CAPITOLI e VOCI","CODICI CONTO"]
["INCASSO CONTRIBUTI CONDOMINIALI","Q.01\nQUOTE\nEsercizio\nin corso","Q.02\nCONGUAGLIO\nEsercizio\nprecedente","Q.03\nARRETRATI"]
[{"$f":"iCONDOMINI!C11","v":"Condomino01"},"Q.01.01","Q.02.01","Q.03.01"]
[{"$f":"iCONDOMINI!C12","v":"Condomino02"},"Q.01.02","Q.02.02","Q.03.02"]
[{"$f":"iCONDOMINI!C13","v":"Condomino03"},"Q.01.03","Q.02.03","Q.03.03"]
[{"$f":"iCONDOMINI!C14","v":"Condomino04 S.r.l."},"Q.01.04","Q.02.04","Q.03.04"]
[{"$f":"iCONDOMINI!C15","v":"Condomino05"},"Q.01.05","Q.02.05","Q.03.05"]
[{"$f":"iCONDOMINI!C16","v":"Condomino06"},"Q.01.06","Q.02.06","Q.03.06"]
[{"$f":"iCONDOMINI!C17","v":"Condomino07"},"Q.01.07","Q.02.07","Q.03.07"]
[{"$f":"iCONDOMINI!C18","v":"Eredi Condomino08"},"Q.01.08","Q.02.08","Q.03.08"]
[{"$f":"iCONDOMINI!C19","v":"Condomino09 S.r.l."},"Q.01.09","Q.02.09","Q.03.09"]
[{"$f":"iCONDOMINI!C20","v":"Condomino10"},"Q.01.10","Q.02.10","Q.03.10"]
[{"$f":"iCONDOMINI!C21","v":"Condomino11"},"Q.01.11","Q.02.11","Q.03.11"]
[{"$f":"iCONDOMINI!C22","v":"Condomino12"},"Q.01.12","Q.02.12","Q.03.12"]
[{"$f":"iCONDOMINI!C23","v":"Condomino13"},"Q.01.13","Q.02.13","Q.03.13"]
[{"$f":"iCONDOMINI!C24","v":"Condomino14"},"Q.01.14","Q.02.14","Q.03.14"]
[{"$f":"iCONDOMINI!C25","v":"Condomino15"},"Q.01.15","Q.02.15","Q.03.15"]
[{"$f":"iCONDOMINI!C26","v":"Condomino16"},"Q.01.16","Q.02.16","Q.03.16"]
[{"$f":"iCONDOMINI!C27","v":"Condomino17"},"Q.01.17","Q.02.17","Q.03.17"]
[{"$f":"iCONDOMINI!C28","v":"Condomino18"},"Q.01.18","Q.02.18","Q.03.18"]
[{"$f":"iCONDOMINI!C29","v":"Condomino19"},"Q.01.19","Q.02.19","Q.03.19"]
[{"$f":"iCONDOMINI!C30","v":"Condomino20"},"Q.01.20","Q.02.20","Q.03.20"]
[{"$f":"iCONDOMINI!C31","v":"Condomino21"},"Q.01.21","Q.02.21","Q.03.21"]
[{"$f":"iCONDOMINI!C32","v":"Condomino22"},"Q.01.22","Q.02.22","Q.03.22"]
[{"$f":"iCONDOMINI!C33","v":"Condomino23"},"Q.01.23","Q.02.23","Q.03.23"]
[{"$f":"iCONDOMINI!C34","v":"Inquilino1"},"Q.01.24","Q.02.24","Q.03.24"]
[{"$f":"iCONDOMINI!C35","v":"Inquilino2"},"Q.01.25","Q.02.25","Q.03.25"]
[{"$f":"iCONDOMINI!C36","v":"Inquilino3"},"Q.01.26","Q.02.26","Q.03.26"]
[{"$f":"iCONDOMINI!C37","v":"Inquilino4"},"Q.01.27","Q.02.27","Q.03.27"]
[{"$f":"iCONDOMINI!C38","v":"Inquilino5"},"Q.01.28","Q.02.28","Q.03.28"]
[{"$f":"iCONDOMINI!C39","v":0},"Q.01.29","Q.02.29","Q.03.29"]
[{"$f":"iCONDOMINI!C40","v":0},"Q.01.30","Q.02.30","Q.03.30"]
[{"$f":"iCONDOMINI!C41","v":0},"Q.01.31","Q.02.31","Q.03.31"]
[{"$f":"iCONDOMINI!C42","v":0},"Q.01.32","Q.02.32","Q.03.32"]
[{"$f":"iCONDOMINI!C43","v":0},"Q.01.33","Q.02.33","Q.03.33"]
[{"$f":"iCONDOMINI!C44","v":0},"Q.01.34","Q.02.34","Q.03.34"]
[{"$f":"iCONDOMINI!C45","v":0},"Q.01.35","Q.02.35","Q.03.35"]
[{"$f":"iCONDOMINI!C46","v":0},"Q.01.36","Q.02.36","Q.03.36"]
[{"$f":"iCONDOMINI!C47","v":0},"Q.01.37","Q.02.37","Q.03.37"]
[{"$f":"iCONDOMINI!C48","v":0},"Q.01.38","Q.02.38","Q.03.38"]
[{"$f":"iCONDOMINI!C49","v":0},"Q.01.39","Q.02.39","Q.03.39"]
[{"$f":"iCONDOMINI!C50","v":0},"Q.01.40","Q.02.40","Q.03.40"]
[{"$f":"iCONDOMINI!C51","v":0},"Q.01.41","Q.02.41","Q.03.41"]
[{"$f":"iCONDOMINI!C52","v":0},"Q.01.42","Q.02.42","Q.03.42"]
[{"$f":"iCONDOMINI!C53","v":0},"Q.01.43","Q.02.43","Q.03.43"]
[{"$f":"iCONDOMINI!C54","v":0},"Q.01.44","Q.02.44","Q.03.44"]
[{"$f":"iCONDOMINI!C55","v":0},"Q.01.45","Q.02.45","Q.03.45"]
[{"$f":"iCONDOMINI!C56","v":0},"Q.01.46","Q.02.46","Q.03.46"]
[{"$f":"iCONDOMINI!C57","v":0},"Q.01.47","Q.02.47","Q.03.47"]
[{"$f":"iCONDOMINI!C58","v":0},"Q.01.48","Q.02.48","Q.03.48"]
[{"$f":"iCONDOMINI!C59","v":0},"Q.01.49","Q.02.49","Q.03.49"]
[{"$f":"iCONDOMINI!C60","v":0},"Q.01.50","Q.02.50","Q.03.50"]
[{"$f":"iCONDOMINI!C61","v":0},"Q.01.51","Q.02.51","Q.03.51"]
[{"$f":"iCONDOMINI!C62","v":0},"Q.01.52","Q.02.52","Q.03.52"]
[{"$f":"iCONDOMINI!C63","v":0},"Q.01.53","Q.02.53","Q.03.53"]
[{"$f":"iCONDOMINI!C64","v":0},"Q.01.54","Q.02.54","Q.03.54"]
[{"$f":"iCONDOMINI!C65","v":0},"Q.01.55","Q.02.55","Q.03.55"]
[{"$f":"iCONDOMINI!C66","v":0},"Q.01.56","Q.02.56","Q.03.56"]
[{"$f":"iCONDOMINI!C67","v":0},"Q.01.57","Q.02.57","Q.03.57"]
[{"$f":"iCONDOMINI!C68","v":0},"Q.01.58","Q.02.58","Q.03.58"]
[{"$f":"iCONDOMINI!C69","v":0},"Q.01.59","Q.02.59","Q.03.59"]
[{"$f":"iCONDOMINI!C70","v":0},"Q.01.60","Q.02.60","Q.03.60"]
[{"$f":"iCONDOMINI!C71","v":0},"Q.01.61","Q.02.61","Q.03.61"]
[{"$f":"iCONDOMINI!C72","v":0},"Q.01.62","Q.02.62","Q.03.62"]
[{"$f":"iCONDOMINI!C73","v":0},"Q.01.63","Q.02.63","Q.03.63"]
[{"$f":"iCONDOMINI!C74","v":0},"Q.01.64","Q.02.64","Q.03.64"]
[{"$f":"iCONDOMINI!C75","v":0},"Q.01.65","Q.02.65","Q.03.65"]
[{"$f":"iCONDOMINI!C76","v":0},"Q.01.66","Q.02.66","Q.03.66"]
[{"$f":"iCONDOMINI!C77","v":0},"Q.01.67","Q.02.67","Q.03.67"]
[{"$f":"iCONDOMINI!C78","v":0},"Q.01.68","Q.02.68","Q.03.68"]
[{"$f":"iCONDOMINI!C79","v":0},"Q.01.69","Q.02.69","Q.03.69"]
[{"$f":"iCONDOMINI!C80","v":0},"Q.01.70","Q.02.70","Q.03.70"]
[{"$f":"iCONDOMINI!C81","v":0},"Q.01.71","Q.02.71","Q.03.71"]
[{"$f":"iCONDOMINI!C82","v":0},"Q.01.72","Q.02.72","Q.03.72"]
[{"$f":"iCONDOMINI!C83","v":0},"Q.01.73","Q.02.73","Q.03.73"]
[{"$f":"iCONDOMINI!C84","v":0},"Q.01.74","Q.02.74","Q.03.74"]
[{"$f":"iCONDOMINI!C85","v":0},"Q.01.75","Q.02.75","Q.03.75"]
[{"$f":"iCONDOMINI!C86","v":0},"Q.01.76","Q.02.76","Q.03.76"]
[{"$f":"iCONDOMINI!C87","v":0},"Q.01.77","Q.02.77","Q.03.77"]
[{"$f":"iCONDOMINI!C88","v":0},"Q.01.78","Q.02.78","Q.03.78"]
[{"$f":"iCONDOMINI!C89","v":0},"Q.01.79","Q.02.79","Q.03.79"]
[{"$f":"iCONDOMINI!C90","v":0},"Q.01.80","Q.02.80","Q.03.80"]
[{"$f":"iCONDOMINI!C91","v":0},"Q.01.81","Q.02.81","Q.03.81"]
[{"$f":"iCONDOMINI!C92","v":0},"Q.01.82","Q.02.82","Q.03.82"]
[{"$f":"iCONDOMINI!C93","v":0},"Q.01.83","Q.02.83","Q.03.83"]
[{"$f":"iCONDOMINI!C94","v":0},"Q.01.84","Q.02.84","Q.03.84"]
[{"$f":"iCONDOMINI!C95","v":0},"Q.01.85","Q.02.85","Q.03.85"]
[{"$f":"iCONDOMINI!C96","v":0},"Q.01.86","Q.02.86","Q.03.86"]
[{"$f":"iCONDOMINI!C97","v":0},"Q.01.87","Q.02.87","Q.03.87"]
[{"$f":"iCONDOMINI!C98","v":0},"Q.01.88","Q.02.88","Q.03.88"]
[{"$f":"iCONDOMINI!C99","v":0},"Q.01.89","Q.02.89","Q.03.89"]
[{"$f":"iCONDOMINI!C100","v":0},"Q.01.90","Q.02.90","Q.03.90"]
[{"$f":"iCONDOMINI!C101","v":0},"Q.01.91","Q.02.91","Q.03.91"]
[{"$f":"iCONDOMINI!C102","v":0},"Q.01.92","Q.02.92","Q.03.92"]
[{"$f":"iCONDOMINI!C103","v":0},"Q.01.93","Q.02.93","Q.03.93"]
[{"$f":"iCONDOMINI!C104","v":0},"Q.01.94","Q.02.94","Q.03.94"]
[{"$f":"iCONDOMINI!C105","v":0},"Q.01.95","Q.02.95","Q.03.95"]
[{"$f":"iCONDOMINI!C106","v":0},"Q.01.96","Q.02.96","Q.03.96"]
[{"$f":"iCONDOMINI!C107","v":0},"Q.01.97","Q.02.97","Q.03.97"]
[{"$f":"iCONDOMINI!C108","v":0},"Q.01.98","Q.02.98","Q.03.98"]
[{"$f":"iCONDOMINI!C109","v":0},"Q.01.99","Q.02.99","Q.03.99"]
["RIMBORSI e ABBUONI SU SPESE GESTIONE ORDINARIA","A"]
[{"$f":"\"Spese già ripartite con TABELLA \" &'iP1'!D16","v":"Spese già ripartite con TABELLA Tabella A"},"A.01.01"]
[{"$f":"\"Spese già ripartite con TABELLA \" &'iP1'!D17","v":"Spese già ripartite con TABELLA Tabella B"},"A.01.02"]
[{"$f":"\"Spese già ripartite con TABELLA \" &'iP1'!D18","v":"Spese già ripartite con TABELLA Tabella C"},"A.01.03"]
[{"$f":"\"Spese già ripartite con TABELLA \" &'iP1'!D19","v":"Spese già ripartite con TABELLA Tabella D"},"A.01.04"]
[{"$f":"\"Spese già ripartite con TABELLA \" &'iP1'!D20","v":"Spese già ripartite con TABELLA Tabella E"},"A.01.05"]
[{"$f":"\"Spese già ripartite con TABELLA \" &'iP1'!D21","v":"Spese già ripartite con TABELLA "},"A.01.06"]
[{"$f":"\"Spese già ripartite con TABELLA \" &'iP1'!D22","v":"Spese già ripartite con TABELLA "},"A.01.07"]
[{"$f":"\"Spese già ripartite con TABELLA \" &'iP1'!D23","v":"Spese già ripartite con TABELLA "},"A.01.08"]
[{"$f":"\"Spese già ripartite con TABELLA \" &'iP1'!D24","v":"Spese già ripartite con TABELLA "},"A.01.09"]
[{"$f":"\"Spese già ripartite con TABELLA \" &'iP1'!D25","v":"Spese già ripartite con TABELLA "},"A.01.10"]
["RENDITE, ALTRE ENTRATE E PROVENTI DIVERSI","E"]
["Entrate varie","E.01.01"]
[null,"E.01.02"]
[null,"E.01.03"]
[null,"E.01.04"]
[null,"E.01.05"]
[null,"E.01.06"]
[null,"E.01.07"]
[null,"E.01.08"]
[null,"E.01.09"]
[null,"E.01.10"]
[]
[]
[]
[]
[]
[]
[]
[]
[]
[]
[]
["PRESTITI RICEVUTI e PARTITE DI GIRO","V"]
["Anticipazione di cassa da Amministratore","V.01.01"]
["Prestiti ricevuti da terzi e condomini","V.01.02"]
["Prestito da Gestione Ordinaria","V.01.03"]
[null,"V.01.04"]
[null,"V.01.05"]
[]
[{"$f":"IF(LEN('iP1'!A27)>0,\"Anticipazione da GESTIONE SPECIALE  \"&'iP1'!A27,\"\")","v":""}]
[{"$f":"IF(LEN('iP1'!A28)>0,\"Anticipazione da GESTIONE SPECIALE  \"&'iP1'!A28,\"\")","v":""}]
[{"$f":"IF(LEN('iP1'!A29)>0,\"Anticipazione da GESTIONE SPECIALE  \"&'iP1'!A29,\"\")","v":""}]
[{"$f":"IF(LEN('iP1'!A30)>0,\"Anticipazione da GESTIONE SPECIALE  \"&'iP1'!A30,\"\")","v":""}]
[{"$f":"IF(LEN('iP1'!A31)>0,\"Anticipazione da GESTIONE SPECIALE  \"&'iP1'!A31,\"\")","v":""}]
[]
[0,null,null,null,0]

{"sheet":"iPCDC","index":9,"n_rows":136,"n_cols":7,"rows_kept":136,"cut":false,"hidden":true,"merged":[]}
["È consentito variare i dati delle sole celle senza sfondo colorato. I dati necessari hanno l'intestazione di colonna in rosso.",null,null,null,null,null,0]
[]
[]
[]
[]
[]
[{"$f":"'iP1'!A5","v":"Condominio \"TERMICO\""}]
["PIANO GENERALE DEI CONTI"]
["PIANO DEI CREDITI",null,null,"PIANO DEI DEBITI"]
["CAPITOLI e VOCI","CODICE CONTO",null,"CAPITOLI e VOCI","CODICI CONTO"]
["da DEPOSITI di DENARO presso Terzi","C.01"]
[{"$f":"iPCU!A84","v":"DEPOSITI CAUZIONALI"},"C.01.01.YY"]
[{"$f":"iPCU!A85","v":"PRESTITI A TERZI"},"C.01.02.YY"]
[{"$f":"iPCU!A86","v":0},"C.01.03.YY"]
[{"$f":"iPCU!A87","v":0},"C.01.04.YY",null,{"$f":"A15","v":0}]
[{"$f":"iPCU!A88","v":0},"C.01.05.YY",null,{"$f":"A16","v":0}]
["da TERZI PRIVATI","C.02",null,"v/s TERZI PRIVATI","D.02"]
["da FORNITORI","C.02.01.YY",null,"v/s FORNITORI per FATTURE RICEVUTE","D.02.01.YY"]
["da DEBITORI DIVERSI","C.02.02.YY",null,"v/s FORNITORI per AVVISI DI FATTURA RICEVUTI","D.02.02.YY"]
[null,"C.02.03.YY",null,"v/s FORNITORI per IMPEGNI DI SPESA","D.02.03.YY"]
[null,"C.02.04.YY",null,"v/s TERZI per PRESTITI RICEVUTI","D.02.04.YY"]
[null,"C.02.05.YY",null,"v/s CREDITORI DIVERSI","D.02.05.YY"]
["da TERZI PUBBLICI","C.03",null,"v/s TERZI PUBBLICI","D.03"]
["da ERARIO","C.03.01.YY",null,"v/s ERARIO  per RITENUTE  ACCONTO SU SPESE","D.03.01.YY"]
["da altri Enti Pubblici","C.03.02.YY",null,"v/s ERARIO per TRIBUTI","D.03.02.YY"]
[null,"C.03.03.YY",null,"v/s ERARIO  per R.A. SU PAGAMENTI DEBITI","D.03.03.YY"]
[null,"C.03.04.YY",null,null,"D.03.04.YY"]
[null,"C.03.05.YY",null,null,"D.03.05.YY"]
["da CONDOMINI e FRUITORI","C.04",null,"v/s CONDOMINI e FRUITORI","D.04","D.05"]
[{"$f":"iCONDOMINI!C11","v":"Condomino01"},"C.04.01.YY",null,{"$f":"iCONDOMINI!C11","v":"Condomino01"},"D.04.01","D.05.01"]
[{"$f":"iCONDOMINI!C12","v":"Condomino02"},"C.04.02.YY",null,{"$f":"iCONDOMINI!C12","v":"Condomino02"},"D.04.02","D.05.02"]
[{"$f":"iCONDOMINI!C13","v":"Condomino03"},"C.04.03.YY",null,{"$f":"iCONDOMINI!C13","v":"Condomino03"},"D.04.03","D.05.03"]
[{"$f":"iCONDOMINI!C14","v":"Condomino04 S.r.l."},"C.04.04.YY",null,{"$f":"iCONDOMINI!C14","v":"Condomino04 S.r.l."},"D.04.04","D.05.04"]
[{"$f":"iCONDOMINI!C15","v":"Condomino05"},"C.04.05.YY",null,{"$f":"iCONDOMINI!C15","v":"Condomino05"},"D.04.05","D.05.05"]
[{"$f":"iCONDOMINI!C16","v":"Condomino06"},"C.04.06.YY",null,{"$f":"iCONDOMINI!C16","v":"Condomino06"},"D.04.06","D.05.06"]
[{"$f":"iCONDOMINI!C17","v":"Condomino07"},"C.04.07.YY",null,{"$f":"iCONDOMINI!C17","v":"Condomino07"},"D.04.07","D.05.07"]
[{"$f":"iCONDOMINI!C18","v":"Eredi Condomino08"},"C.04.08.YY",null,{"$f":"iCONDOMINI!C18","v":"Eredi Condomino08"},"D.04.08","D.05.08"]
[{"$f":"iCONDOMINI!C19","v":"Condomino09 S.r.l."},"C.04.09.YY",null,{"$f":"iCONDOMINI!C19","v":"Condomino09 S.r.l."},"D.04.09","D.05.09"]
[{"$f":"iCONDOMINI!C20","v":"Condomino10"},"C.04.10.YY",null,{"$f":"iCONDOMINI!C20","v":"Condomino10"},"D.04.10","D.05.10"]
[{"$f":"iCONDOMINI!C21","v":"Condomino11"},"C.04.11.YY",null,{"$f":"iCONDOMINI!C21","v":"Condomino11"},"D.04.11","D.05.11"]
[{"$f":"iCONDOMINI!C22","v":"Condomino12"},"C.04.12.YY",null,{"$f":"iCONDOMINI!C22","v":"Condomino12"},"D.04.12","D.05.12"]
[{"$f":"iCONDOMINI!C23","v":"Condomino13"},"C.04.13.YY",null,{"$f":"iCONDOMINI!C23","v":"Condomino13"},"D.04.13","D.05.13"]
[{"$f":"iCONDOMINI!C24","v":"Condomino14"},"C.04.14.YY",null,{"$f":"iCONDOMINI!C24","v":"Condomino14"},"D.04.14","D.05.14"]
[{"$f":"iCONDOMINI!C25","v":"Condomino15"},"C.04.15.YY",null,{"$f":"iCONDOMINI!C25","v":"Condomino15"},"D.04.15","D.05.15"]
[{"$f":"iCONDOMINI!C26","v":"Condomino16"},"C.04.16.YY",null,{"$f":"iCONDOMINI!C26","v":"Condomino16"},"D.04.16","D.05.16"]
[{"$f":"iCONDOMINI!C27","v":"Condomino17"},"C.04.17.YY",null,{"$f":"iCONDOMINI!C27","v":"Condomino17"},"D.04.17","D.05.17"]
[{"$f":"iCONDOMINI!C28","v":"Condomino18"},"C.04.18.YY",null,{"$f":"iCONDOMINI!C28","v":"Condomino18"},"D.04.18","D.05.18"]
[{"$f":"iCONDOMINI!C29","v":"Condomino19"},"C.04.19.YY",null,{"$f":"iCONDOMINI!C29","v":"Condomino19"},"D.04.19","D.05.19"]
[{"$f":"iCONDOMINI!C30","v":"Condomino20"},"C.04.20.YY",null,{"$f":"iCONDOMINI!C30","v":"Condomino20"},"D.04.20","D.05.20"]
[{"$f":"iCONDOMINI!C31","v":"Condomino21"},"C.04.21.YY",null,{"$f":"iCONDOMINI!C31","v":"Condomino21"},"D.04.21","D.05.21"]
[{"$f":"iCONDOMINI!C32","v":"Condomino22"},"C.04.22.YY",null,{"$f":"iCONDOMINI!C32","v":"Condomino22"},"D.04.22","D.05.22"]
[{"$f":"iCONDOMINI!C33","v":"Condomino23"},"C.04.23.YY",null,{"$f":"iCONDOMINI!C33","v":"Condomino23"},"D.04.23","D.05.23"]
[{"$f":"iCONDOMINI!C34","v":"Inquilino1"},"C.04.24.YY",null,{"$f":"iCONDOMINI!C34","v":"Inquilino1"},"D.04.24","D.05.24"]
[{"$f":"iCONDOMINI!C35","v":"Inquilino2"},"C.04.25.YY",null,{"$f":"iCONDOMINI!C35","v":"Inquilino2"},"D.04.25","D.05.25"]
[{"$f":"iCONDOMINI!C36","v":"Inquilino3"},"C.04.26.YY",null,{"$f":"iCONDOMINI!C36","v":"Inquilino3"},"D.04.26","D.05.26"]
[{"$f":"iCONDOMINI!C37","v":"Inquilino4"},"C.04.27.YY",null,{"$f":"iCONDOMINI!C37","v":"Inquilino4"},"D.04.27","D.05.27"]
[{"$f":"iCONDOMINI!C38","v":"Inquilino5"},"C.04.28.YY",null,{"$f":"iCONDOMINI!C38","v":"Inquilino5"},"D.04.28","D.05.28"]
[{"$f":"iCONDOMINI!C39","v":0},"C.04.29.YY",null,{"$f":"iCONDOMINI!C39","v":0},"D.04.29","D.05.29"]
[{"$f":"iCONDOMINI!C40","v":0},"C.04.30.YY",null,{"$f":"iCONDOMINI!C40","v":0},"D.04.30","D.05.30"]
[{"$f":"iCONDOMINI!C41","v":0},"C.04.31.YY",null,{"$f":"iCONDOMINI!C41","v":0},"D.04.31","D.05.31"]
[{"$f":"iCONDOMINI!C42","v":0},"C.04.32.YY",null,{"$f":"iCONDOMINI!C42","v":0},"D.04.32","D.05.32"]
[{"$f":"iCONDOMINI!C43","v":0},"C.04.33.YY",null,{"$f":"iCONDOMINI!C43","v":0},"D.04.33","D.05.33"]
[{"$f":"iCONDOMINI!C44","v":0},"C.04.34.YY",null,{"$f":"iCONDOMINI!C44","v":0},"D.04.34","D.05.34"]
[{"$f":"iCONDOMINI!C45","v":0},"C.04.35.YY",null,{"$f":"iCONDOMINI!C45","v":0},"D.04.35","D.05.35"]
[{"$f":"iCONDOMINI!C46","v":0},"C.04.36.YY",null,{"$f":"iCONDOMINI!C46","v":0},"D.04.36","D.05.36"]
[{"$f":"iCONDOMINI!C47","v":0},"C.04.37.YY",null,{"$f":"iCONDOMINI!C47","v":0},"D.04.37","D.05.37"]
[{"$f":"iCONDOMINI!C48","v":0},"C.04.38.YY",null,{"$f":"iCONDOMINI!C48","v":0},"D.04.38","D.05.38"]
[{"$f":"iCONDOMINI!C49","v":0},"C.04.39.YY",null,{"$f":"iCONDOMINI!C49","v":0},"D.04.39","D.05.39"]
[{"$f":"iCONDOMINI!C50","v":0},"C.04.40.YY",null,{"$f":"iCONDOMINI!C50","v":0},"D.04.40","D.05.40"]
[{"$f":"iCONDOMINI!C51","v":0},"C.04.41.YY",null,{"$f":"iCONDOMINI!C51","v":0},"D.04.41","D.05.41"]
[{"$f":"iCONDOMINI!C52","v":0},"C.04.42.YY",null,{"$f":"iCONDOMINI!C52","v":0},"D.04.42","D.05.42"]
[{"$f":"iCONDOMINI!C53","v":0},"C.04.43.YY",null,{"$f":"iCONDOMINI!C53","v":0},"D.04.43","D.05.43"]
[{"$f":"iCONDOMINI!C54","v":0},"C.04.44.YY",null,{"$f":"iCONDOMINI!C54","v":0},"D.04.44","D.05.44"]
[{"$f":"iCONDOMINI!C55","v":0},"C.04.45.YY",null,{"$f":"iCONDOMINI!C55","v":0},"D.04.45","D.05.45"]
[{"$f":"iCONDOMINI!C56","v":0},"C.04.46.YY",null,{"$f":"iCONDOMINI!C56","v":0},"D.04.46","D.05.46"]
[{"$f":"iCONDOMINI!C57","v":0},"C.04.47.YY",null,{"$f":"iCONDOMINI!C57","v":0},"D.04.47","D.05.47"]
[{"$f":"iCONDOMINI!C58","v":0},"C.04.48.YY",null,{"$f":"iCONDOMINI!C58","v":0},"D.04.48","D.05.48"]
[{"$f":"iCONDOMINI!C59","v":0},"C.04.49.YY",null,{"$f":"iCONDOMINI!C59","v":0},"D.04.49","D.05.49"]
[{"$f":"iCONDOMINI!C60","v":0},"C.04.50.YY",null,{"$f":"iCONDOMINI!C60","v":0},"D.04.50","D.05.50"]
[{"$f":"iCONDOMINI!C61","v":0},"C.04.51.YY",null,{"$f":"iCONDOMINI!C61","v":0},"D.04.51","D.05.51"]
[{"$f":"iCONDOMINI!C62","v":0},"C.04.52.YY",null,{"$f":"iCONDOMINI!C62","v":0},"D.04.52","D.05.52"]
[{"$f":"iCONDOMINI!C63","v":0},"C.04.53.YY",null,{"$f":"iCONDOMINI!C63","v":0},"D.04.53","D.05.53"]
[{"$f":"iCONDOMINI!C64","v":0},"C.04.54.YY",null,{"$f":"iCONDOMINI!C64","v":0},"D.04.54","D.05.54"]
[{"$f":"iCONDOMINI!C65","v":0},"C.04.55.YY",null,{"$f":"iCONDOMINI!C65","v":0},"D.04.55","D.05.55"]
[{"$f":"iCONDOMINI!C66","v":0},"C.04.56.YY",null,{"$f":"iCONDOMINI!C66","v":0},"D.04.56","D.05.56"]
[{"$f":"iCONDOMINI!C67","v":0},"C.04.57.YY",null,{"$f":"iCONDOMINI!C67","v":0},"D.04.57","D.05.57"]
[{"$f":"iCONDOMINI!C68","v":0},"C.04.58.YY",null,{"$f":"iCONDOMINI!C68","v":0},"D.04.58","D.05.58"]
[{"$f":"iCONDOMINI!C69","v":0},"C.04.59.YY",null,{"$f":"iCONDOMINI!C69","v":0},"D.04.59","D.05.59"]
[{"$f":"iCONDOMINI!C70","v":0},"C.04.60.YY",null,{"$f":"iCONDOMINI!C70","v":0},"D.04.60","D.05.60"]
[{"$f":"iCONDOMINI!C71","v":0},"C.04.61.YY",null,{"$f":"iCONDOMINI!C71","v":0},"D.04.61","D.05.61"]
[{"$f":"iCONDOMINI!C72","v":0},"C.04.62.YY",null,{"$f":"iCONDOMINI!C72","v":0},"D.04.62","D.05.62"]
[{"$f":"iCONDOMINI!C73","v":0},"C.04.63.YY",null,{"$f":"iCONDOMINI!C73","v":0},"D.04.63","D.05.63"]
[{"$f":"iCONDOMINI!C74","v":0},"C.04.64.YY",null,{"$f":"iCONDOMINI!C74","v":0},"D.04.64","D.05.64"]
[{"$f":"iCONDOMINI!C75","v":0},"C.04.65.YY",null,{"$f":"iCONDOMINI!C75","v":0},"D.04.65","D.05.65"]
[{"$f":"iCONDOMINI!C76","v":0},"C.04.66.YY",null,{"$f":"iCONDOMINI!C76","v":0},"D.04.66","D.05.66"]
[{"$f":"iCONDOMINI!C77","v":0},"C.04.67.YY",null,{"$f":"iCONDOMINI!C77","v":0},"D.04.67","D.05.67"]
[{"$f":"iCONDOMINI!C78","v":0},"C.04.68.YY",null,{"$f":"iCONDOMINI!C78","v":0},"D.04.68","D.05.68"]
[{"$f":"iCONDOMINI!C79","v":0},"C.04.69.YY",null,{"$f":"iCONDOMINI!C79","v":0},"D.04.69","D.05.69"]
[{"$f":"iCONDOMINI!C80","v":0},"C.04.70.YY",null,{"$f":"iCONDOMINI!C80","v":0},"D.04.70","D.05.70"]
[{"$f":"iCONDOMINI!C81","v":0},"C.04.71.YY",null,{"$f":"iCONDOMINI!C81","v":0},"D.04.71","D.05.71"]
[{"$f":"iCONDOMINI!C82","v":0},"C.04.72.YY",null,{"$f":"iCONDOMINI!C82","v":0},"D.04.72","D.05.72"]
[{"$f":"iCONDOMINI!C83","v":0},"C.04.73.YY",null,{"$f":"iCONDOMINI!C83","v":0},"D.04.73","D.05.73"]
[{"$f":"iCONDOMINI!C84","v":0},"C.04.74.YY",null,{"$f":"iCONDOMINI!C84","v":0},"D.04.74","D.05.74"]
[{"$f":"iCONDOMINI!C85","v":0},"C.04.75.YY",null,{"$f":"iCONDOMINI!C85","v":0},"D.04.75","D.05.75"]
[{"$f":"iCONDOMINI!C86","v":0},"C.04.76.YY",null,{"$f":"iCONDOMINI!C86","v":0},"D.04.76","D.05.76"]
[{"$f":"iCONDOMINI!C87","v":0},"C.04.77.YY",null,{"$f":"iCONDOMINI!C87","v":0},"D.04.77","D.05.77"]
[{"$f":"iCONDOMINI!C88","v":0},"C.04.78.YY",null,{"$f":"iCONDOMINI!C88","v":0},"D.04.78","D.05.78"]
[{"$f":"iCONDOMINI!C89","v":0},"C.04.79.YY",null,{"$f":"iCONDOMINI!C89","v":0},"D.04.79","D.05.79"]
[{"$f":"iCONDOMINI!C90","v":0},"C.04.80.YY",null,{"$f":"iCONDOMINI!C90","v":0},"D.04.80","D.05.80"]
[{"$f":"iCONDOMINI!C91","v":0},"C.04.81.YY",null,{"$f":"iCONDOMINI!C91","v":0},"D.04.81","D.05.81"]
[{"$f":"iCONDOMINI!C92","v":0},"C.04.82.YY",null,{"$f":"iCONDOMINI!C92","v":0},"D.04.82","D.05.82"]
[{"$f":"iCONDOMINI!C93","v":0},"C.04.83.YY",null,{"$f":"iCONDOMINI!C93","v":0},"D.04.83","D.05.83"]
[{"$f":"iCONDOMINI!C94","v":0},"C.04.84.YY",null,{"$f":"iCONDOMINI!C94","v":0},"D.04.84","D.05.84"]
[{"$f":"iCONDOMINI!C95","v":0},"C.04.85.YY",null,{"$f":"iCONDOMINI!C95","v":0},"D.04.85","D.05.85"]
[{"$f":"iCONDOMINI!C96","v":0},"C.04.86.YY",null,{"$f":"iCONDOMINI!C96","v":0},"D.04.86","D.05.86"]
[{"$f":"iCONDOMINI!C97","v":0},"C.04.87.YY",null,{"$f":"iCONDOMINI!C97","v":0},"D.04.87","D.05.87"]
[{"$f":"iCONDOMINI!C98","v":0},"C.04.88.YY",null,{"$f":"iCONDOMINI!C98","v":0},"D.04.88","D.05.88"]
[{"$f":"iCONDOMINI!C99","v":0},"C.04.89.YY",null,{"$f":"iCONDOMINI!C99","v":0},"D.04.89","D.05.89"]
[{"$f":"iCONDOMINI!C100","v":0},"C.04.90.YY",null,{"$f":"iCONDOMINI!C100","v":0},"D.04.90","D.05.90"]
[{"$f":"iCONDOMINI!C101","v":0},"C.04.91.YY",null,{"$f":"iCONDOMINI!C101","v":0},"D.04.91","D.05.91"]
[{"$f":"iCONDOMINI!C102","v":0},"C.04.92.YY",null,{"$f":"iCONDOMINI!C102","v":0},"D.04.92","D.05.92"]
[{"$f":"iCONDOMINI!C103","v":0},"C.04.93.YY",null,{"$f":"iCONDOMINI!C103","v":0},"D.04.93","D.05.93"]
[{"$f":"iCONDOMINI!C104","v":0},"C.04.94.YY",null,{"$f":"iCONDOMINI!C104","v":0},"D.04.94","D.05.94"]
[{"$f":"iCONDOMINI!C105","v":0},"C.04.95.YY",null,{"$f":"iCONDOMINI!C105","v":0},"D.04.95","D.05.95"]
[{"$f":"iCONDOMINI!C106","v":0},"C.04.96.YY",null,{"$f":"iCONDOMINI!C106","v":0},"D.04.96","D.05.96"]
[{"$f":"iCONDOMINI!C107","v":0},"C.04.97.YY",null,{"$f":"iCONDOMINI!C107","v":0},"D.04.97","D.05.97"]
[{"$f":"iCONDOMINI!C108","v":0},"C.04.98.YY",null,{"$f":"iCONDOMINI!C108","v":0},"D.04.98","D.05.98"]
[{"$f":"iCONDOMINI!C109","v":0},"C.04.99.YY",null,{"$f":"iCONDOMINI!C109","v":0},"D.04.99","D.05.99"]
["da GESTIONE ORDINARIA","C.06",null,"v/s GESTIONE ORDINARIA","D.06"]
["Gestione Ordinaria","C.06.01",null,"Gestione Ordinaria","D.06.01"]
[{"$f":" IF('iP1'!A28<>\"\",\"Da \"  & 'iP1'!A28,\"\")","v":""},null,null,{"$f":" IF('iP1'!A28<>\"\",\"v/s \"  & 'iP1'!A28,\"\")","v":""}]
[{"$f":" IF('iP1'!A29<>\"\",\"Da \"  & 'iP1'!A29,\"\")","v":""},null,null,{"$f":" IF('iP1'!A29<>\"\",\"v/s \"  & 'iP1'!A29,\"\")","v":""}]
[{"$f":" IF('iP1'!A30<>\"\",\"Da \"  & 'iP1'!A30,\"\")","v":""},null,null,{"$f":" IF('iP1'!A30<>\"\",\"v/s \"  & 'iP1'!A30,\"\")","v":""}]
[{"$f":" IF('iP1'!A31<>\"\",\"Da \"  & 'iP1'!A31,\"\")","v":""},null,null,{"$f":" IF('iP1'!A31<>\"\",\"v/s \"  & 'iP1'!A31,\"\")","v":""}]
[]
[0,null,null,null,null,null,0]

{"sheet":"iFCD","index":10,"n_rows":85,"n_cols":11,"rows_kept":85,"cut":false,"hidden":true,"merged":[]}
["È consentito variare i dati delle sole celle senza sfondo colorato. I dati necessari hanno l'intestazione di colonna in rosso.",null,null,null,null,null,null,null,null,null,0]
[]
[]
[]
[]
[]
[]
[{"$f":"'iP1'!A5","v":"Condominio \"TERMICO\""}]
["n.","Cognome/\nDitta","Nome/\nForma societaria","Codice Fiscale","Sesso","Data nascita","Comune di nascita","Prov. nascita","Domicilio fiscale","Codice"]
[null,"FORNITORI DI OPERE, PRESTAZIONI E SERVIZI\r\n(Somme erogate da attestare con Certificazione Unica)",null,null,null,null,null,null,null,"F"]
[1,"SAMUELE","Saverio","SSSSSS77T30B758X","M","1968-11-30","CARDINALE","CZ","Via Luca - 88064 CHIARAVALLE CENTRALE (CZ)","F-01"]
[2,"MAI ANTINCENDIO","Snc","03622650794",null,null,null,null,"Via Palermo, snc - 88054 SERSALE (CZ)","F-02"]
[3,"OTIR SERVIZI","Srl","01729590033",null,null,null,null,"Viale LIBIA, 44 00199 ROMA (RM)","F-03"]
[4,"Pippo","Pippo","PPPPPP67D21K324A","M","1970-02-21","STILO","RC","Via Cavour, 28 - 88060 SATRIANO (CZ)","F-04"]
[5,"SPURGHI PERFETTI","Srl","02984760796",null,null,null,null,"VIA Martiri di GERACE - 88060 GUARDAVALLE (CZ)","F-05"]
[6,"Consulente","Fiscale","PPPCCM59S15I872J","M","1959-10-25","SOVERATO","CZ","Via Giotto 72 - 88060 SATRIANO (CZ)","F-06"]
[7,"CHIEFARI","Pietro","CCCPTR37F21I872Y","M","1937-01-21","SANT'ANDREA JONIO","CZ","ViaLe CUTURELLA 2/D - 88068 SOVERATO (CZ)","F-07"]
[8,"AVVOCATO","Giuseppe","VVVGPP84S10C352Z","M","10/11/1984","CATANZARO","CZ","Via Sandro Botticelli, 11 - 88060 SANT'ANDREA JONIO (CZ)","F-08"]
[9,"FALEGNAMERIA","Srl","02384400194",null,null,null,null,"Via Arlecchino,99 - 88040 SETTINGIANO (CZ)","F-09"]
[10,"ELETTRICISTA","Giuseppe","ZZZGPP59R03C352P","M","03/10/1959","CATANZARO","CZ","Viale Piave, 18 - 88100 CATANZARO (CZ)","F-10"]
[11]
[12]
[13]
[14]
[15]
[16]
[17]
[18]
[19]
[20]
[null,"UTENZE e FORNITORI DI BENI\r\n(Somme erogate da non attestare con Certificazione Unica)",null,null,null,null,null,null,null,"C"]
[1,"Gas Pulito SpA",null,null,null,null,null,null,null,"C-01"]
[2,"Cartoleria MINERVA",null,null,null,null,null,null,null,"C-02"]
[3,"ENEL ENERGIA ",null,null,null,null,null,null,null,"C-03"]
[4]
[5]
[6]
[7]
[8]
[9]
[10]
[null,"CREDITORI PUBBLICI PER IMPOSTE E TASSE",null,null,null,null,null,null,null,"A"]
[1,"ERARIO",null,null,null,null,null,null,null,"A-01"]
[2]
[3]
[4]
[5]
[null,"CREDITORI VARI PRIVATI",null,null,null,null,null,null,null,"Z"]
[1,"Amministratore",null,null,null,null,null,null,null,"Z-01"]
[2]
[3]
[4]
[5]
[null,"CREDITORI ALTRE GESTIONI e FONDI STESSO CONDOMINIO",null,null,null,null,null,null,null,"U"]
[1,"GESTIONE ORDINARIA",null,null,null,null,null,null,null,"U-01"]
[2]
[3]
[4]
[5]
[null,"DEBITORI TERZI\r\n(Somme condominiali depositate presso Terzi)",null,null,null,null,null,null,null,"D"]
[1,"ENEL ENERGIA ",null,null,null,null,null,null,null,"D-01"]
[2]
[3]
[4]
[5]
[null,"DEBITORI VARI TERZI PRIVATI"]
[1]
[2]
[3]
[4]
[5]
[null,"DEBITORI TERZI PUBBLICI",null,null,null,null,null,null,null,"E"]
[1]
[2]
[3]
[4]
[5]
[null,"DEBITORI ALTRE GESTIONI e FONDI STESSO CONDOMINIO",null,null,null,null,null,null,null,"S"]
[1,"GESTIONE ORDINARIA",null,null,null,null,null,null,null,"S-01"]
[2]
[3]
[4]
[5]
[]
[0,null,null,null,null,null,null,null,null,null,0]

{"sheet":"iFIGURE","index":11,"n_rows":22,"n_cols":8,"rows_kept":22,"cut":false,"hidden":true,"merged":[]}
[]
[]
[]
[]
[]
[]
[]
[null,"Nome immagine: foto"]
[null,null,null,null,null,null,"Dimensioni massime"]
[null,null,null,null,null,null,"L","7,70 cm"]
[null,null,null,null,null,null,"H","4,00 cm"]
[]
[]
[]
[]
[]
[]
[]
[null,"Nome immagine: firma"]
[null,null,null,null,null,null,"Dimensioni massime"]
[null,null,null,null,null,null,"L","7,70 cm"]
[null,null,null,null,null,null,"H","2,70 cm"]

{"sheet":"iRP2","index":12,"n_rows":41,"n_cols":5,"rows_kept":41,"cut":false,"hidden":true,"merged":[]}
["Fornire i dati solo nelle celle senza sfondo colorato. Non variare mai contenuto e posizione delle celle con sfondo colorato.",null,null,null,0]
[{"$f":"'iP1'!A5","v":"Condominio \"TERMICO\""}]
[{"$f":" \"DEPOSITI CAUZIONALI\"","v":"DEPOSITI CAUZIONALI"}]
[{"$f":"\"al giorno \" & TEXT('iP1'!A39,\"gg-mmm-aaaa\")","v":"al giorno 30-set-2022"}]
["n.","DEPOSITARIO","CAUSALE","IMPORTO DEPOSITATO"]
[1,"ENEL ENERGIA","deposito cauzionale",42.27]
[2]
[3]
[4]
[5]
[6]
[7]
[8]
[9]
[10]
[11]
[12]
[13]
[14]
[15]
[null,null,"TOTALE DEPOSITO",{"$f":"SUM(D6:D20)","v":42.27}]
["DEPOSITI CAUZIONALI"]
[{"$f":"\"al giorno 1-gen-\" & 'iP1'!A37 & \" (inizio esercizio)\"","v":"al giorno 1-gen-2021-2022 (inizio esercizio)"}]
["n.","DEPOSITARIO","CAUSALE","IMPORTO DEPOSITATO"]
[1,"ENEL ENERGIA","deposito cauzionale",42.27]
[2]
[3]
[4]
[5]
[6]
[7]
[8]
[9]
[10]
[11]
[12]
[13]
[14]
[15]
[null,null,"TOTALE DEPOSITO",{"$f":"SUM(D25:D39)","v":42.27}]
[0,null,null,null,0]

{"sheet":"sBP","index":13,"n_rows":18,"n_cols":3,"rows_kept":18,"cut":false,"hidden":true,"merged":[[1,0,1,2],[16,1,16,2],[19,1,19,2],[9,1,9,2],[3,0,3,2],[5,1,5,2],[7,1,7,2],[18,1,18,2],[11,1,11,2],[13,1,13,2],[15,1,15,2]]}
[]
["INDICE DEI PROSPETTI DEL BILANCIO PREVENTIVO"]
[]
["Il fascicolo del Bilancio Preventivo è composto dai seguenti prospetti:"]
[]
["1 \n\n","SITUAZIONE PATRIMONIALE ad INIZIO ESERCIZIO"]
[null,null,"Riporta gli importi dei crediti e dei debiti che il condominio ha all'inizio dell'esercizio nonchè la disponibilità liquida su cassa (in contante) e su conto corrente.\n\n"]
[2,"PREVENTIVO DELLE SPESE PER L' ESERCIZIO"]
[null,null,"Riporta gli importi delle spese che si stima occorre affrontare nel corso dell'esercizio, suddivise per voci, raggruppati in capitoli."]
[3,"RIPARTO DELLE SPESE PREVISTE FRA I CONDOMINI"]
[null,null,"Riporta gli importi con i quali i singoli condomini e inquilini devono concorrere al pagamento delle spese costi previste, suddivisi per tabella di spesa. La somma di tali importi costituisce la quota per l'esercizio."]
[4,"RATEAZIONE E SCADENZE DEI PAGAMENTI DOVUTI DAI SINGOLI CONDOMINI"]
[null,null,"Riporta le quote dovute per l'esercizio da ciascun condomino e inquilino suddivise in rate. I criteri di rateizzazione sono quelli della delibera assembleare vigente al riguardo, che prevede:\nUn numero di rate pari a 4.\nL'importo della prima rata è uguale all'importo delle rate previste per l'esercizio.\nL'importo delle tre rate restanti è pari sempre a quello della rata trimestrale dalla quale è dedotto 1/3 dell'eventuale conguaglio a credito del condomino o inquilino.\n"]
[5,"PROSPETTI DEI CREDITORI e DEI DEBITORI TERZI"]
[null,null,"Riportano i debiti ed i crediti con i relativi debitori e creditori, nonché le causali, all'inizio dell'esercizio. "]
[6,"PROSPETTO dei DEPOSITI ATTIVI PRESSO TERZI "]
[null,"(non riportato se non ci sono depositi attivi) "]
[null,null,"Riporta i depositi attivi che il condominio vanta nei confronti di terzi, all'inizio dell'esercizio. "]

{"sheet":"nBP","index":14,"n_rows":10,"n_cols":2,"rows_kept":10,"cut":false,"hidden":true,"merged":[[9,0,9,1],[1,0,1,1],[3,0,3,1],[8,0,8,1]]}
[]
["NOTA BILANCIO PREVENTIVO"]
[]
["Il bilancio preventivo 2021-2022 prevede un totale di spese in aumento rispetto a quello di 6.000,00 dell’esercizio 2020-2021 al fine di tener conto di maggior previsioni di spesa, quali"]
[]
["1.","Aumento delle spese per la fornitura di energia elettrica. \nUn tale tipo di aumento si rende necessario per tener conto delle previsioni di un aumento particolarmente sensibile, a detta degli organi di informazione, del costo di produzione dell’energia. \nSi è stimato, forse ottimisticamente, un aumento di spesa pari al 20% rispetto a quello preventivato per le stesse voci di spesa nello scorso esercizio."]
["5.","Inflazione stimata in aumento. E quindi aumento delle voci soggette ad inflazione."]
[]
["Tutto queste considerazioni portano ad una previsione totale di spesa di 6,950,00 euro per l’esercizio 2021-2022."]
["Il bilancio preventivo 2021-2022 mantiene le stesse voci di spesa dell’esercizio 2020-2021, ma con importi maggiorati per alcune voci per come sopra specificato. "]

{"sheet":"cSPI","index":15,"n_rows":139,"n_cols":16,"rows_kept":139,"cut":false,"hidden":true,"merged":[[8,15,9,15],[8,0,9,0],[8,1,9,1],[8,7,9,7],[8,8,9,8],[8,9,9,9]]}
["Condominio \"TERMICO\""]
["STATO PATRIMONIALE alla data inizio esercizio - 01/10/2021"]
["ATTIVITÀ",null,null,null,null,null,null,null,"PASSIVITÀ"]
["DISPONIBILITÀ LIQUIDA"]
[null,"TOTALE",{"$f":"IF(C6+C7<>0,\"Fondo 1\",\"\")","v":""},{"$f":"IF(D6+D7<>0,\"Fondo 2\",\"\")","v":""},{"$f":"IF(E6+E7<>0,\"Fondo 3\",\"\")","v":""},{"$f":"IF(F6+F7<>0,\"Fondo 4\",\"\")","v":""},{"$f":"IF(G6+G7<>0,\"Fondo 5\",\"\")","v":""},{"$f":"SUM(H6:H7)","v":101.46}]
["CASSA",0,null,null,null,null,null,{"$f":"SUM(B6:G6)","v":0}]
["CONTO CORRENTE POSTALE ",101.46,null,null,null,null,null,{"$f":"SUM(B7:G7)","v":101.46}]
["CREDITI",null,null,null,null,null,null,null,"DEBITI"]
["VOCE","Conto","2016-2017","2017-2018","2018-2019","2019-2020","2020-2021","TOTALE","VOCE","Conto",null,null,{"$f":"E9","v":"2018-2019"},"2019-2020","2020-2021","TOTALE"]
[null,null,{"$f":"IF(C9<>\"\",\"YY = \" & RIGHT(C9,2),\"\")","v":"YY = 17"},{"$f":"IF(D9<>\"\",\"YY = \" & RIGHT(D9,2),\"\")","v":"YY = 18"},{"$f":"IF(E9<>\"\",\"YY = \" & RIGHT(E9,2),\"\")","v":"YY = 19"},{"$f":"IF(F9<>\"\",\"YY = \" & RIGHT(F9,2),\"\")","v":"YY = 20"},{"$f":"IF(G9<>\"\",\"YY = \" & RIGHT(G9,2),\"\")","v":"YY = 21"},null,null,null,"YY = 17","YY = 18","YY = 19","YY = 20","YY = 21"]
[{"$f":"\"CREDITI \" &cCREDITI!A11","v":"CREDITI da DEPOSITI di DENARO presso Terzi"},null,{"$f":"SUM(C12:C16)","v":0},0,0,0,42.27,42.27,{"$f":"\"DEBITI \" &cDEBITI!A11","v":"DEBITI "},null,{"$f":"SUM(K12:K16)","v":0},0,0,0,0,0]
[{"$f":"cCREDITI!A12","v":"DEPOSITI CAUZIONALI"},{"$f":"cCREDITI!B12","v":"C.01.01.YY"},null,null,null,null,42.27,{"$f":"SUM(C12:G12)","v":42.27},{"$f":"cDEBITI!A12","v":0},{"$f":"cDEBITI!B11","v":"00:00:00"},null,null,null,null,null,{"$f":"SUM(K12:O12)","v":0}]
[{"$f":"cCREDITI!A13","v":"PRESTITI A TERZI"},{"$f":"cCREDITI!B13","v":"C.01.02.YY"},null,null,null,null,null,0,{"$f":"cDEBITI!A13","v":0},{"$f":"cDEBITI!B12","v":"00:00:00"},null,null,null,null,null,{"$f":"SUM(K13:O13)","v":0}]
[{"$f":"cCREDITI!A14","v":"00:00:00"},{"$f":"cCREDITI!B14","v":"C.01.03.YY"},null,null,null,null,null,0,{"$f":"cDEBITI!A14","v":0},{"$f":"cDEBITI!B13","v":"00:00:00"},null,null,null,null,null,{"$f":"SUM(K14:O14)","v":0}]
[{"$f":"cCREDITI!A15","v":"00:00:00"},{"$f":"cCREDITI!B15","v":"C.01.04.YY"},null,null,null,null,null,0,{"$f":"cDEBITI!A15","v":0},{"$f":"cDEBITI!B14","v":"00:00:00"},null,null,null,null,null,{"$f":"SUM(K15:O15)","v":0}]
[{"$f":"cCREDITI!A16","v":"00:00:00"},{"$f":"cCREDITI!B16","v":"C.01.05.YY"},null,null,null,null,null,0,{"$f":"cDEBITI!A16","v":0},{"$f":"cDEBITI!B15","v":"00:00:00"},null,null,null,null,null,{"$f":"SUM(K16:O16)","v":0}]
[{"$f":"\"CREDITI \" &cCREDITI!A17","v":"CREDITI da TERZI PRIVATI"},null,null,{"$f":"SUM(D18:D22)","v":0},{"$f":"SUM(E18:E22)","v":0},{"$f":"SUM(F18:F22)","v":0},{"$f":"SUM(G18:G22)","v":0},{"$f":"SUM(H18:H22)","v":0},{"$f":"\"DEBITI \" &cDEBITI!A17","v":"DEBITI v/s TERZI PRIVATI"},null,{"$f":"SUM(K18:K22)","v":0},0,250,340,613.38,1203.3800000000001]
[{"$f":"cCREDITI!A18","v":"da FORNITORI"},{"$f":"cCREDITI!B18","v":"C.02.01.YY"},null,null,null,null,null,0,{"$f":"cDEBITI!A18","v":"v/s FORNITORI per FATTURE RICEVUTE"},{"$f":"cDEBITI!B18","v":"D.02.01.YY"},null,null,null,null,363.38,{"$f":"SUM(K18:O18)","v":363.38}]
[{"$f":"cCREDITI!A19","v":"da DEBITORI DIVERSI"},{"$f":"cCREDITI!B19","v":"C.02.02.YY"},null,null,null,null,null,0,{"$f":"cDEBITI!A19","v":"v/s FORNITORI per AVVISI DI FATTURA RICEVUTI"},{"$f":"cDEBITI!B19","v":"D.02.02.YY"},null,null,null,50,null,{"$f":"SUM(K19:O19)","v":50}]
[{"$f":"cCREDITI!A20","v":"00:00:00"},{"$f":"cCREDITI!B20","v":"C.02.03.YY"},null,null,null,null,null,0,{"$f":"cDEBITI!A20","v":"v/s FORNITORI per IMPEGNI DI SPESA"},{"$f":"cDEBITI!B20","v":"D.02.03.YY"},null,null,250,290,250,{"$f":"SUM(K20:O20)","v":790}]
[{"$f":"cCREDITI!A21","v":"00:00:00"},{"$f":"cCREDITI!B21","v":"C.02.04.YY"},null,null,null,null,null,0,{"$f":"cDEBITI!A21","v":"v/s TERZI per PRESTITI RICEVUTI"},{"$f":"cDEBITI!B21","v":"D.02.04.YY"},null,null,null,null,null,{"$f":"SUM(K21:O21)","v":0}]
[{"$f":"cCREDITI!A22","v":"00:00:00"},{"$f":"cCREDITI!B22","v":"C.02.05.YY"},null,null,null,null,null,0,{"$f":"cDEBITI!A22","v":"v/s CREDITORI DIVERSI"},{"$f":"cDEBITI!B22","v":"D.02.05.YY"},null,null,null,null,null,{"$f":"SUM(K22:O22)","v":0}]
[{"$f":"\"CREDITI \" &cCREDITI!A23","v":"CREDITI da TERZI PUBBLICI"},null,null,null,null,null,null,{"$f":"SUM(H24:H28)","v":0},{"$f":"\"DEBITI \" &cDEBITI!A23","v":"DEBITI v/s TERZI PUBBLICI"},null,{"$f":"SUM(K24:K28)","v":0},0,0,0,0,0]
[{"$f":"cCREDITI!A24","v":"da ERARIO"},{"$f":"cCREDITI!B24","v":"C.03.01.YY"},null,null,null,null,null,0,{"$f":"cDEBITI!A24","v":"v/s ERARIO  per RITENUTE  ACCONTO SU SPESE"},{"$f":"cDEBITI!B24","v":"D.03.01.YY"},null,null,null,null,null,{"$f":"SUM(K24:O24)","v":0}]
[{"$f":"cCREDITI!A25","v":"da altri Enti Pubblici"},{"$f":"cCREDITI!B25","v":"C.03.02.YY"},null,null,null,null,null,0,{"$f":"cDEBITI!A25","v":"v/s ERARIO per TRIBUTI"},{"$f":"cDEBITI!B25","v":"D.03.02.YY"},null,null,null,null,null,{"$f":"SUM(K25:O25)","v":0}]
[{"$f":"cCREDITI!A26","v":0},{"$f":"cCREDITI!B26","v":"C.03.03.YY"},null,null,null,null,null,0,{"$f":"cDEBITI!A26","v":"v/s ERARIO  per R.A. SU PAGAMENTI DEBITI"},{"$f":"cDEBITI!B26","v":"D.03.03.YY"},null,null,null,null,null,{"$f":"SUM(K26:O26)","v":0}]
[{"$f":"cCREDITI!A27","v":0},{"$f":"cCREDITI!B27","v":"C.03.04.YY"},null,null,null,null,null,0,{"$f":"cDEBITI!A27","v":"00:00:00"},{"$f":"cDEBITI!B27","v":"D.03.04.YY"},null,null,null,null,null,{"$f":"SUM(K27:O27)","v":0}]
[{"$f":"cCREDITI!A28","v":0},{"$f":"cCREDITI!B28","v":"C.03.05.YY"},null,null,null,null,null,0,{"$f":"cDEBITI!A28","v":"00:00:00"},{"$f":"cDEBITI!B28","v":"D.03.05.YY"},null,null,null,null,null,{"$f":"SUM(K28:O28)","v":0}]
[{"$f":"\"CREDITI \" &cCREDITI!A29","v":"CREDITI da CONDOMINI e FRUITORI"},null,{"$f":"SUM(C30:C128)","v":0},0,0,786.76,1058.7099999999998,1845.4699999999998,{"$f":"\"DEBITI \" &cDEBITI!A29","v":"DEBITI v/s CONDOMINI e FRUITORI"},"Quote in eccesso",null,null,null,"Cauzioni",null,{"$f":"SUM(P30:P128)","v":785.81999999999982}]
[{"$f":"iPCDC!A30","v":"Condomino01"},{"$f":"cCREDITI!B30","v":"C.04.01.YY"},null,null,null,null,null,0,{"$f":"iPCDC!D30","v":"Condomino01"},{"$f":"cDEBITI!B30","v":"D.04.01"},null,null,78.06,{"$f":"cDEBITI!G30","v":"D.05.01"},1.3073999999999999,{"$f":"M30+O30","v":79.367400000000004}]
[{"$f":"iPCDC!A31","v":"Condomino02"},{"$f":"cCREDITI!B31","v":"C.04.02.YY"},null,null,null,null,null,0,{"$f":"iPCDC!D31","v":"Condomino02"},{"$f":"cDEBITI!B31","v":"D.04.02"},null,null,8.0500000000000007,{"$f":"cDEBITI!G31","v":"D.05.02"},1.7238,{"$f":"M31+O31","v":9.7738000000000014}]
[{"$f":"iPCDC!A32","v":"Condomino03"},{"$f":"cCREDITI!B32","v":"C.04.03.YY"},null,null,null,169.05,264.68,433.73,{"$f":"iPCDC!D32","v":"Condomino03"},{"$f":"cDEBITI!B32","v":"D.04.03"},null,null,null,{"$f":"cDEBITI!G32","v":"D.05.03"},3.0143,3.0143]
[{"$f":"iPCDC!A33","v":"Condomino04 S.r.l."},{"$f":"cCREDITI!B33","v":"C.04.04.YY"},null,null,null,129.27000000000001,154.47999999999999,283.75,{"$f":"iPCDC!D33","v":"Condomino04 S.r.l."},{"$f":"cDEBITI!B33","v":"D.04.04"},null,null,null,{"$f":"cDEBITI!G33","v":"D.05.04"},1.4561999999999999,1.4561999999999999]
[{"$f":"iPCDC!A34","v":"Condomino05"},{"$f":"cCREDITI!B34","v":"C.04.05.YY"},null,null,null,null,null,0,{"$f":"iPCDC!D34","v":"Condomino05"},{"$f":"cDEBITI!B34","v":"D.04.05"},null,null,12.14,{"$f":"cDEBITI!G34","v":"D.05.05"},2.4077000000000002,14.547700000000001]
[{"$f":"iPCDC!A35","v":"Condomino06"},{"$f":"cCREDITI!B35","v":"C.04.06.YY"},null,null,null,275.60000000000002,273.66000000000003,549.26,{"$f":"iPCDC!D35","v":"Condomino06"},{"$f":"cDEBITI!B35","v":"D.04.06"},null,null,null,{"$f":"cDEBITI!G35","v":"D.05.06"},2.4407000000000001,2.4407000000000001]
[{"$f":"iPCDC!A36","v":"Condomino07"},{"$f":"cCREDITI!B36","v":"C.04.07.YY"},null,null,null,null,null,0,{"$f":"iPCDC!D36","v":"Condomino07"},{"$f":"cDEBITI!B36","v":"D.04.07"},null,null,79.040000000000006,{"$f":"cDEBITI!G36","v":"D.05.07"},1.2419,80.281900000000007]
[{"$f":"iPCDC!A37","v":"Eredi Condomino08"},{"$f":"cCREDITI!B37","v":"C.04.08.YY"},null,null,null,null,null,0,{"$f":"iPCDC!D37","v":"Eredi Condomino08"},{"$f":"cDEBITI!B37","v":"D.04.08"},null,null,18.8,{"$f":"cDEBITI!G37","v":"D.05.08"},0.35759999999999997,19.157600000000002]
[{"$f":"iPCDC!A38","v":"Condomino09 S.r.l."},{"$f":"cCREDITI!B38","v":"C.04.09.YY"},null,null,null,null,null,0,{"$f":"iPCDC!D38","v":"Condomino09 S.r.l."},{"$f":"cDEBITI!B38","v":"D.04.09"},null,null,15.36,{"$f":"cDEBITI!G38","v":"D.05.09"},1.5009999999999999,16.861000000000001]
[{"$f":"iPCDC!A39","v":"Condomino10"},{"$f":"cCREDITI!B39","v":"C.04.10.YY"},null,null,null,5.3,13.3,18.600000000000001,{"$f":"iPCDC!D39","v":"Condomino10"},{"$f":"cDEBITI!B39","v":"D.04.10"},null,null,null,{"$f":"cDEBITI!G39","v":"D.05.10"},1.0550999999999999,1.0550999999999999]
[{"$f":"iPCDC!A40","v":"Condomino11"},{"$f":"cCREDITI!B40","v":"C.04.11.YY"},null,null,null,null,null,0,{"$f":"iPCDC!D40","v":"Condomino11"},{"$f":"cDEBITI!B40","v":"D.04.11"},null,null,97.88,{"$f":"cDEBITI!G40","v":"D.05.11"},1.1053999999999999,98.985399999999998]
[{"$f":"iPCDC!A41","v":"Condomino12"},{"$f":"cCREDITI!B41","v":"C.04.12.YY"},null,null,null,null,null,0,{"$f":"iPCDC!D41","v":"Condomino12"},{"$f":"cDEBITI!B41","v":"D.04.12"},null,null,91.44,{"$f":"cDEBITI!G41","v":"D.05.12"},2.5125000000000002,93.952500000000001]
[{"$f":"iPCDC!A42","v":"Condomino13"},{"$f":"cCREDITI!B42","v":"C.04.13.YY"},null,null,null,null,null,0,{"$f":"iPCDC!D42","v":"Condomino13"},{"$f":"cDEBITI!B42","v":"D.04.13"},null,null,19.89,{"$f":"cDEBITI!G42","v":"D.05.13"},1.9837,21.873699999999999]
[{"$f":"iPCDC!A43","v":"Condomino14"},{"$f":"cCREDITI!B43","v":"C.04.14.YY"},null,null,null,null,null,0,{"$f":"iPCDC!D43","v":"Condomino14"},{"$f":"cDEBITI!B43","v":"D.04.14"},null,null,90.2,{"$f":"cDEBITI!G43","v":"D.05.14"},1.6244000000000001,91.824399999999997]
[{"$f":"iPCDC!A44","v":"Condomino15"},{"$f":"cCREDITI!B44","v":"C.04.15.YY"},null,null,null,207.54,208.93,416.47,{"$f":"iPCDC!D44","v":"Condomino15"},{"$f":"cDEBITI!B44","v":"D.04.15"},null,null,null,{"$f":"cDEBITI!G44","v":"D.05.15"},1.7745,1.7745]
[{"$f":"iPCDC!A45","v":"Condomino16"},{"$f":"cCREDITI!B45","v":"C.04.16.YY"},null,null,null,null,null,0,{"$f":"iPCDC!D45","v":"Condomino16"},{"$f":"cDEBITI!B45","v":"D.04.16"},null,null,34.35,{"$f":"cDEBITI!G45","v":"D.05.16"},2.1972,36.547200000000004]
[{"$f":"iPCDC!A46","v":"Condomino17"},{"$f":"cCREDITI!B46","v":"C.04.17.YY"},null,null,null,null,130.56,130.56,{"$f":"iPCDC!D46","v":"Condomino17"},{"$f":"cDEBITI!B46","v":"D.04.17"},null,null,null,{"$f":"cDEBITI!G46","v":"D.05.17"},3.1562999999999999,3.1562999999999999]
[{"$f":"iPCDC!A47","v":"Condomino18"},{"$f":"cCREDITI!B47","v":"C.04.18.YY"},null,null,null,null,null,0,{"$f":"iPCDC!D47","v":"Condomino18"},{"$f":"cDEBITI!B47","v":"D.04.18"},null,null,11.03,{"$f":"cDEBITI!G47","v":"D.05.18"},3.1564999999999999,14.186499999999999]
[{"$f":"iPCDC!A48","v":"Condomino19"},{"$f":"cCREDITI!B48","v":"C.04.19.YY"},null,null,null,null,null,0,{"$f":"iPCDC!D48","v":"Condomino19"},{"$f":"cDEBITI!B48","v":"D.04.19"},null,null,59.28,{"$f":"cDEBITI!G48","v":"D.05.19"},2.6457000000000002,61.925699999999999]
[{"$f":"iPCDC!A49","v":"Condomino20"},{"$f":"cCREDITI!B49","v":"C.04.20.YY"},null,null,null,null,null,0,{"$f":"iPCDC!D49","v":"Condomino20"},{"$f":"cDEBITI!B49","v":"D.04.20"},null,null,7.45,{"$f":"cDEBITI!G49","v":"D.05.20"},0.73680000000000001,8.1867999999999999]
[{"$f":"iPCDC!A50","v":"Condomino21"},{"$f":"cCREDITI!B50","v":"C.04.21.YY"},null,null,null,null,null,0,{"$f":"iPCDC!D50","v":"Condomino21"},{"$f":"cDEBITI!B50","v":"D.04.21"},null,null,23.21,{"$f":"cDEBITI!G50","v":"D.05.21"},1.7813000000000001,24.991300000000003]
[{"$f":"iPCDC!A51","v":"Condomino22"},{"$f":"cCREDITI!B51","v":"C.04.22.YY"},null,null,null,null,null,0,{"$f":"iPCDC!D51","v":"Condomino22"},{"$f":"cDEBITI!B51","v":"D.04.22"},null,null,97.37,{"$f":"cDEBITI!G51","v":"D.05.22"},1.2283999999999999,98.598399999999998]
[{"$f":"iPCDC!A52","v":"Condomino23"},{"$f":"cCREDITI!B52","v":"C.04.23.YY"},null,null,null,null,13.1,13.1,{"$f":"iPCDC!D52","v":"Condomino23"},{"$f":"cDEBITI!B52","v":"D.04.23"},null,null,null,{"$f":"cDEBITI!G52","v":"D.05.23"},1.8615999999999999,1.8615999999999999]
[{"$f":"iPCDC!A53","v":"Inquilino1"},{"$f":"cCREDITI!B53","v":"C.04.24.YY"},null,null,null,null,null,0,{"$f":"iPCDC!D53","v":"Inquilino1"},{"$f":"cDEBITI!B53","v":"D.04.24"},null,null,null,{"$f":"cDEBITI!G53","v":"D.05.24"},null,0]
[{"$f":"iPCDC!A54","v":"Inquilino2"},{"$f":"cCREDITI!B54","v":"C.04.25.YY"},null,null,null,null,null,0,{"$f":"iPCDC!D54","v":"Inquilino2"},{"$f":"cDEBITI!B54","v":"D.04.25"},null,null,null,{"$f":"cDEBITI!G54","v":"D.05.25"},null,0]
[{"$f":"iPCDC!A55","v":"Inquilino3"},{"$f":"cCREDITI!B55","v":"C.04.26.YY"},null,null,null,null,null,0,{"$f":"iPCDC!D55","v":"Inquilino3"},{"$f":"cDEBITI!B55","v":"D.04.26"},null,null,null,{"$f":"cDEBITI!G55","v":"D.05.26"},null,0]
[{"$f":"iPCDC!A56","v":"Inquilino4"},{"$f":"cCREDITI!B56","v":"C.04.27.YY"},null,null,null,null,null,0,{"$f":"iPCDC!D56","v":"Inquilino4"},{"$f":"cDEBITI!B56","v":"D.04.27"},null,null,null,{"$f":"cDEBITI!G56","v":"D.05.27"},null,0]
[{"$f":"iPCDC!A57","v":"Inquilino5"},{"$f":"cCREDITI!B57","v":"C.04.28.YY"},null,null,null,null,null,0,{"$f":"iPCDC!D57","v":"Inquilino5"},{"$f":"cDEBITI!B57","v":"D.04.28"},null,null,null,{"$f":"cDEBITI!G57","v":"D.05.28"},null,0]
[{"$f":"iPCDC!A58","v":0},{"$f":"cCREDITI!B58","v":"C.04.29.YY"},null,null,null,null,null,0,{"$f":"iPCDC!D58","v":0},{"$f":"cDEBITI!B58","v":"D.04.29"},null,null,null,{"$f":"cDEBITI!G58","v":"D.05.29"},null,0]
[{"$f":"iPCDC!A59","v":0},{"$f":"cCREDITI!B59","v":"C.04.30.YY"},null,null,null,null,null,0,{"$f":"iPCDC!D59","v":0},{"$f":"cDEBITI!B59","v":"D.04.30"},null,null,null,{"$f":"cDEBITI!G59","v":"D.05.30"},null,0]
[{"$f":"iPCDC!A60","v":0},{"$f":"cCREDITI!B60","v":"C.04.31.YY"},null,null,null,null,null,0,{"$f":"iPCDC!D60","v":0},{"$f":"cDEBITI!B60","v":"D.04.31"},null,null,null,{"$f":"cDEBITI!G60","v":"D.05.31"},null,0]
[{"$f":"iPCDC!A61","v":0},{"$f":"cCREDITI!B61","v":"C.04.32.YY"},null,null,null,null,null,0,{"$f":"iPCDC!D61","v":0},{"$f":"cDEBITI!B61","v":"D.04.32"},null,null,null,{"$f":"cDEBITI!G61","v":"D.05.32"},null,0]
[{"$f":"iPCDC!A62","v":0},{"$f":"cCREDITI!B62","v":"C.04.33.YY"},null,null,null,null,null,0,{"$f":"iPCDC!D62","v":0},{"$f":"cDEBITI!B62","v":"D.04.33"},null,null,null,{"$f":"cDEBITI!G62","v":"D.05.33"},null,0]
[{"$f":"iPCDC!A63","v":0},{"$f":"cCREDITI!B63","v":"C.04.34.YY"},null,null,null,null,null,0,{"$f":"iPCDC!D63","v":0},{"$f":"cDEBITI!B63","v":"D.04.34"},null,null,null,{"$f":"cDEBITI!G63","v":"D.05.34"},null,0]
[{"$f":"iPCDC!A64","v":0},{"$f":"cCREDITI!B64","v":"C.04.35.YY"},null,null,null,null,null,0,{"$f":"iPCDC!D64","v":0},{"$f":"cDEBITI!B64","v":"D.04.35"},null,null,null,{"$f":"cDEBITI!G64","v":"D.05.35"},null,0]
[{"$f":"iPCDC!A65","v":0},{"$f":"cCREDITI!B65","v":"C.04.36.YY"},null,null,null,null,null,0,{"$f":"iPCDC!D65","v":0},{"$f":"cDEBITI!B65","v":"D.04.36"},null,null,null,{"$f":"cDEBITI!G65","v":"D.05.36"},null,0]
[{"$f":"iPCDC!A66","v":0},{"$f":"cCREDITI!B66","v":"C.04.37.YY"},null,null,null,null,null,0,{"$f":"iPCDC!D66","v":0},{"$f":"cDEBITI!B66","v":"D.04.37"},null,null,null,{"$f":"cDEBITI!G66","v":"D.05.37"},null,0]
[{"$f":"iPCDC!A67","v":0},{"$f":"cCREDITI!B67","v":"C.04.38.YY"},null,null,null,null,null,0,{"$f":"iPCDC!D67","v":0},{"$f":"cDEBITI!B67","v":"D.04.38"},null,null,null,{"$f":"cDEBITI!G67","v":"D.05.38"},null,0]
[{"$f":"iPCDC!A68","v":0},{"$f":"cCREDITI!B68","v":"C.04.39.YY"},null,null,null,null,null,0,{"$f":"iPCDC!D68","v":0},{"$f":"cDEBITI!B68","v":"D.04.39"},null,null,null,{"$f":"cDEBITI!G68","v":"D.05.39"},null,0]
[{"$f":"iPCDC!A69","v":0},{"$f":"cCREDITI!B69","v":"C.04.40.YY"},null,null,null,null,null,0,{"$f":"iPCDC!D69","v":0},{"$f":"cDEBITI!B69","v":"D.04.40"},null,null,null,{"$f":"cDEBITI!G69","v":"D.05.40"},null,0]
[{"$f":"iPCDC!A70","v":0},{"$f":"cCREDITI!B70","v":"C.04.41.YY"},null,null,null,null,null,0,{"$f":"iPCDC!D70","v":0},{"$f":"cDEBITI!B70","v":"D.04.41"},null,null,null,{"$f":"cDEBITI!G70","v":"D.05.41"},null,0]
[{"$f":"iPCDC!A71","v":0},{"$f":"cCREDITI!B71","v":"C.04.42.YY"},null,null,null,null,null,0,{"$f":"iPCDC!D71","v":0},{"$f":"cDEBITI!B71","v":"D.04.42"},null,null,null,{"$f":"cDEBITI!G71","v":"D.05.42"},null,0]
[{"$f":"iPCDC!A72","v":0},{"$f":"cCREDITI!B72","v":"C.04.43.YY"},null,null,null,null,null,0,{"$f":"iPCDC!D72","v":0},{"$f":"cDEBITI!B72","v":"D.04.43"},null,null,null,{"$f":"cDEBITI!G72","v":"D.05.43"},null,0]
[{"$f":"iPCDC!A73","v":0},{"$f":"cCREDITI!B73","v":"C.04.44.YY"},null,null,null,null,null,0,{"$f":"iPCDC!D73","v":0},{"$f":"cDEBITI!B73","v":"D.04.44"},null,null,null,{"$f":"cDEBITI!G73","v":"D.05.44"},null,0]
[{"$f":"iPCDC!A74","v":0},{"$f":"cCREDITI!B74","v":"C.04.45.YY"},null,null,null,null,null,0,{"$f":"iPCDC!D74","v":0},{"$f":"cDEBITI!B74","v":"D.04.45"},null,null,null,{"$f":"cDEBITI!G74","v":"D.05.45"},null,0]
[{"$f":"iPCDC!A75","v":0},{"$f":"cCREDITI!B75","v":"C.04.46.YY"},null,null,null,null,null,0,{"$f":"iPCDC!D75","v":0},{"$f":"cDEBITI!B75","v":"D.04.46"},null,null,null,{"$f":"cDEBITI!G75","v":"D.05.46"},null,0]
[{"$f":"iPCDC!A76","v":0},{"$f":"cCREDITI!B76","v":"C.04.47.YY"},null,null,null,null,null,0,{"$f":"iPCDC!D76","v":0},{"$f":"cDEBITI!B76","v":"D.04.47"},null,null,null,{"$f":"cDEBITI!G76","v":"D.05.47"},null,0]
[{"$f":"iPCDC!A77","v":0},{"$f":"cCREDITI!B77","v":"C.04.48.YY"},null,null,null,null,null,{"$f":"SUM(C77:G77)","v":0},{"$f":"iPCDC!D77","v":0},{"$f":"cDEBITI!B77","v":"D.04.48"},null,null,null,{"$f":"cDEBITI!G77","v":"D.05.48"},null,0]
[{"$f":"iPCDC!A78","v":0},{"$f":"cCREDITI!B78","v":"C.04.49.YY"},null,null,null,null,null,0,{"$f":"iPCDC!D78","v":0},{"$f":"cDEBITI!B78","v":"D.04.49"},null,null,null,{"$f":"cDEBITI!G78","v":"D.05.49"},null,0]
[{"$f":"iPCDC!A79","v":0},{"$f":"cCREDITI!B79","v":"C.04.50.YY"},null,null,null,null,null,0,{"$f":"iPCDC!D79","v":0},{"$f":"cDEBITI!B79","v":"D.04.50"},null,null,null,{"$f":"cDEBITI!G79","v":"D.05.50"},null,0]
[{"$f":"iPCDC!A80","v":0},{"$f":"cCREDITI!B80","v":"C.04.51.YY"},null,null,null,null,null,0,{"$f":"iPCDC!D80","v":0},{"$f":"cDEBITI!B80","v":"D.04.51"},null,null,null,{"$f":"cDEBITI!G80","v":"D.05.51"},null,0]
[{"$f":"iPCDC!A81","v":0},{"$f":"cCREDITI!B81","v":"C.04.52.YY"},null,null,null,null,null,0,{"$f":"iPCDC!D81","v":0},{"$f":"cDEBITI!B81","v":"D.04.52"},null,null,null,{"$f":"cDEBITI!G81","v":"D.05.52"},null,0]
[{"$f":"iPCDC!A82","v":0},{"$f":"cCREDITI!B82","v":"C.04.53.YY"},null,null,null,null,null,0,{"$f":"iPCDC!D82","v":0},{"$f":"cDEBITI!B82","v":"D.04.53"},null,null,null,{"$f":"cDEBITI!G82","v":"D.05.53"},null,0]
[{"$f":"iPCDC!A83","v":0},{"$f":"cCREDITI!B83","v":"C.04.54.YY"},null,null,null,null,null,0,{"$f":"iPCDC!D83","v":0},{"$f":"cDEBITI!B83","v":"D.04.54"},null,null,null,{"$f":"cDEBITI!G83","v":"D.05.54"},null,0]
[{"$f":"iPCDC!A84","v":0},{"$f":"cCREDITI!B84","v":"C.04.55.YY"},null,null,null,null,null,0,{"$f":"iPCDC!D84","v":0},{"$f":"cDEBITI!B84","v":"D.04.55"},null,null,null,{"$f":"cDEBITI!G84","v":"D.05.55"},null,0]
[{"$f":"iPCDC!A85","v":0},{"$f":"cCREDITI!B85","v":"C.04.56.YY"},null,null,null,null,null,0,{"$f":"iPCDC!D85","v":0},{"$f":"cDEBITI!B85","v":"D.04.56"},null,null,null,{"$f":"cDEBITI!G85","v":"D.05.56"},null,0]
[{"$f":"iPCDC!A86","v":0},{"$f":"cCREDITI!B86","v":"C.04.57.YY"},null,null,null,null,null,0,{"$f":"iPCDC!D86","v":0},{"$f":"cDEBITI!B86","v":"D.04.57"},null,null,null,{"$f":"cDEBITI!G86","v":"D.05.57"},null,0]
[{"$f":"iPCDC!A87","v":0},{"$f":"cCREDITI!B87","v":"C.04.58.YY"},null,null,null,null,null,0,{"$f":"iPCDC!D87","v":0},{"$f":"cDEBITI!B87","v":"D.04.58"},null,null,null,{"$f":"cDEBITI!G87","v":"D.05.58"},null,0]
[{"$f":"iPCDC!A88","v":0},{"$f":"cCREDITI!B88","v":"C.04.59.YY"},null,null,null,null,null,0,{"$f":"iPCDC!D88","v":0},{"$f":"cDEBITI!B88","v":"D.04.59"},null,null,null,{"$f":"cDEBITI!G88","v":"D.05.59"},null,0]
[{"$f":"iPCDC!A89","v":0},{"$f":"cCREDITI!B89","v":"C.04.60.YY"},null,null,null,null,null,0,{"$f":"iPCDC!D89","v":0},{"$f":"cDEBITI!B89","v":"D.04.60"},null,null,null,{"$f":"cDEBITI!G89","v":"D.05.60"},null,0]
[{"$f":"iPCDC!A90","v":0},{"$f":"cCREDITI!B90","v":"C.04.61.YY"},null,null,null,null,null,0,{"$f":"iPCDC!D90","v":0},{"$f":"cDEBITI!B90","v":"D.04.61"},null,null,null,{"$f":"cDEBITI!G90","v":"D.05.61"},null,0]
[{"$f":"iPCDC!A91","v":0},{"$f":"cCREDITI!B91","v":"C.04.62.YY"},null,null,null,null,null,0,{"$f":"iPCDC!D91","v":0},{"$f":"cDEBITI!B91","v":"D.04.62"},null,null,null,{"$f":"cDEBITI!G91","v":"D.05.62"},null,0]
[{"$f":"iPCDC!A92","v":0},{"$f":"cCREDITI!B92","v":"C.04.63.YY"},null,null,null,null,null,0,{"$f":"iPCDC!D92","v":0},{"$f":"cDEBITI!B92","v":"D.04.63"},null,null,null,{"$f":"cDEBITI!G92","v":"D.05.63"},null,0]
[{"$f":"iPCDC!A93","v":0},{"$f":"cCREDITI!B93","v":"C.04.64.YY"},null,null,null,null,null,0,{"$f":"iPCDC!D93","v":0},{"$f":"cDEBITI!B93","v":"D.04.64"},null,null,null,{"$f":"cDEBITI!G93","v":"D.05.64"},null,0]
[{"$f":"iPCDC!A94","v":0},{"$f":"cCREDITI!B94","v":"C.04.65.YY"},null,null,null,null,null,0,{"$f":"iPCDC!D94","v":0},{"$f":"cDEBITI!B94","v":"D.04.65"},null,null,null,{"$f":"cDEBITI!G94","v":"D.05.65"},null,0]
[{"$f":"iPCDC!A95","v":0},{"$f":"cCREDITI!B95","v":"C.04.66.YY"},null,null,null,null,null,0,{"$f":"iPCDC!D95","v":0},{"$f":"cDEBITI!B95","v":"D.04.66"},null,null,null,{"$f":"cDEBITI!G95","v":"D.05.66"},null,{"$f":"M95+O95","v":0}]
[{"$f":"iPCDC!A96","v":0},{"$f":"cCREDITI!B96","v":"C.04.67.YY"},null,null,null,null,null,0,{"$f":"iPCDC!D96","v":0},{"$f":"cDEBITI!B96","v":"D.04.67"},null,null,null,{"$f":"cDEBITI!G96","v":"D.05.67"},null,0]
[{"$f":"iPCDC!A97","v":0},{"$f":"cCREDITI!B97","v":"C.04.68.YY"},null,null,null,null,null,0,{"$f":"iPCDC!D97","v":0},{"$f":"cDEBITI!B97","v":"D.04.68"},null,null,null,{"$f":"cDEBITI!G97","v":"D.05.68"},null,0]
[{"$f":"iPCDC!A98","v":0},{"$f":"cCREDITI!B98","v":"C.04.69.YY"},null,null,null,null,null,0,{"$f":"iPCDC!D98","v":0},{"$f":"cDEBITI!B98","v":"D.04.69"},null,null,null,{"$f":"cDEBITI!G98","v":"D.05.69"},null,0]
[{"$f":"iPCDC!A99","v":0},{"$f":"cCREDITI!B99","v":"C.04.70.YY"},null,null,null,null,null,0,{"$f":"iPCDC!D99","v":0},{"$f":"cDEBITI!B99","v":"D.04.70"},null,null,null,{"$f":"cDEBITI!G99","v":"D.05.70"},null,0]
[{"$f":"iPCDC!A100","v":0},{"$f":"cCREDITI!B100","v":"C.04.71.YY"},null,null,null,null,null,0,{"$f":"iPCDC!D100","v":0},{"$f":"cDEBITI!B100","v":"D.04.71"},null,null,null,{"$f":"cDEBITI!G100","v":"D.05.71"},null,0]
[{"$f":"iPCDC!A101","v":0},{"$f":"cCREDITI!B101","v":"C.04.72.YY"},null,null,null,null,null,0,{"$f":"iPCDC!D101","v":0},{"$f":"cDEBITI!B101","v":"D.04.72"},null,null,null,{"$f":"cDEBITI!G101","v":"D.05.72"},null,0]
[{"$f":"iPCDC!A102","v":0},{"$f":"cCREDITI!B102","v":"C.04.73.YY"},null,null,null,null,null,0,{"$f":"iPCDC!D102","v":0},{"$f":"cDEBITI!B102","v":"D.04.73"},null,null,null,{"$f":"cDEBITI!G102","v":"D.05.73"},null,0]
[{"$f":"iPCDC!A103","v":0},{"$f":"cCREDITI!B103","v":"C.04.74.YY"},null,null,null,null,null,0,{"$f":"iPCDC!D103","v":0},{"$f":"cDEBITI!B103","v":"D.04.74"},null,null,null,{"$f":"cDEBITI!G103","v":"D.05.74"},null,0]
[{"$f":"iPCDC!A104","v":0},{"$f":"cCREDITI!B104","v":"C.04.75.YY"},null,null,null,null,null,0,{"$f":"iPCDC!D104","v":0},{"$f":"cDEBITI!B104","v":"D.04.75"},null,null,null,{"$f":"cDEBITI!G104","v":"D.05.75"},null,0]
[{"$f":"iPCDC!A105","v":0},{"$f":"cCREDITI!B105","v":"C.04.76.YY"},null,null,null,null,null,0,{"$f":"iPCDC!D105","v":0},{"$f":"cDEBITI!B105","v":"D.04.76"},null,null,null,{"$f":"cDEBITI!G105","v":"D.05.76"},null,0]
[{"$f":"iPCDC!A106","v":0},{"$f":"cCREDITI!B106","v":"C.04.77.YY"},null,null,null,null,null,0,{"$f":"iPCDC!D106","v":0},{"$f":"cDEBITI!B106","v":"D.04.77"},null,null,null,{"$f":"cDEBITI!G106","v":"D.05.77"},null,0]
[{"$f":"iPCDC!A107","v":0},{"$f":"cCREDITI!B107","v":"C.04.78.YY"},null,null,null,null,null,0,{"$f":"iPCDC!D107","v":0},{"$f":"cDEBITI!B107","v":"D.04.78"},null,null,null,{"$f":"cDEBITI!G107","v":"D.05.78"},null,0]
[{"$f":"iPCDC!A108","v":0},{"$f":"cCREDITI!B108","v":"C.04.79.YY"},null,null,null,null,null,0,{"$f":"iPCDC!D108","v":0},{"$f":"cDEBITI!B108","v":"D.04.79"},null,null,null,{"$f":"cDEBITI!G108","v":"D.05.79"},null,0]
[{"$f":"iPCDC!A109","v":0},{"$f":"cCREDITI!B109","v":"C.04.80.YY"},null,null,null,null,null,0,{"$f":"iPCDC!D109","v":0},{"$f":"cDEBITI!B109","v":"D.04.80"},null,null,null,{"$f":"cDEBITI!G109","v":"D.05.80"},null,0]
[{"$f":"iPCDC!A110","v":0},{"$f":"cCREDITI!B110","v":"C.04.81.YY"},null,null,null,null,null,0,{"$f":"iPCDC!D110","v":0},{"$f":"cDEBITI!B110","v":"D.04.81"},null,null,null,{"$f":"cDEBITI!G110","v":"D.05.81"},null,0]
[{"$f":"iPCDC!A111","v":0},{"$f":"cCREDITI!B111","v":"C.04.82.YY"},null,null,null,null,null,0,{"$f":"iPCDC!D111","v":0},{"$f":"cDEBITI!B111","v":"D.04.82"},null,null,null,{"$f":"cDEBITI!G111","v":"D.05.82"},null,0]
[{"$f":"iPCDC!A112","v":0},{"$f":"cCREDITI!B112","v":"C.04.83.YY"},null,null,null,null,null,0,{"$f":"iPCDC!D112","v":0},{"$f":"cDEBITI!B112","v":"D.04.83"},null,null,null,{"$f":"cDEBITI!G112","v":"D.05.83"},null,0]
[{"$f":"iPCDC!A113","v":0},{"$f":"cCREDITI!B113","v":"C.04.84.YY"},null,null,null,null,null,0,{"$f":"iPCDC!D113","v":0},{"$f":"cDEBITI!B113","v":"D.04.84"},null,null,null,{"$f":"cDEBITI!G113","v":"D.05.84"},null,0]
[{"$f":"iPCDC!A114","v":0},{"$f":"cCREDITI!B114","v":"C.04.85.YY"},null,null,null,null,null,0,{"$f":"iPCDC!D114","v":0},{"$f":"cDEBITI!B114","v":"D.04.85"},null,null,null,{"$f":"cDEBITI!G114","v":"D.05.85"},null,0]
[{"$f":"iPCDC!A115","v":0},{"$f":"cCREDITI!B115","v":"C.04.86.YY"},null,null,null,null,null,0,{"$f":"iPCDC!D115","v":0},{"$f":"cDEBITI!B115","v":"D.04.86"},null,null,null,{"$f":"cDEBITI!G115","v":"D.05.86"},null,0]
[{"$f":"iPCDC!A116","v":0},{"$f":"cCREDITI!B116","v":"C.04.87.YY"},null,null,null,null,null,0,{"$f":"iPCDC!D116","v":0},{"$f":"cDEBITI!B116","v":"D.04.87"},null,null,null,{"$f":"cDEBITI!G116","v":"D.05.87"},null,0]
[{"$f":"iPCDC!A117","v":0},{"$f":"cCREDITI!B117","v":"C.04.88.YY"},null,null,null,null,null,0,{"$f":"iPCDC!D117","v":0},{"$f":"cDEBITI!B117","v":"D.04.88"},null,null,null,{"$f":"cDEBITI!G117","v":"D.05.88"},null,0]
[{"$f":"iPCDC!A118","v":0},{"$f":"cCREDITI!B118","v":"C.04.89.YY"},null,null,null,null,null,0,{"$f":"iPCDC!D118","v":0},{"$f":"cDEBITI!B118","v":"D.04.89"},null,null,null,{"$f":"cDEBITI!G118","v":"D.05.89"},null,0]
[{"$f":"iPCDC!A119","v":0},{"$f":"cCREDITI!B119","v":"C.04.90.YY"},null,null,null,null,null,0,{"$f":"iPCDC!D119","v":0},{"$f":"cDEBITI!B119","v":"D.04.90"},null,null,null,{"$f":"cDEBITI!G119","v":"D.05.90"},null,0]
[{"$f":"iPCDC!A120","v":0},{"$f":"cCREDITI!B120","v":"C.04.91.YY"},null,null,null,null,null,0,{"$f":"iPCDC!D120","v":0},{"$f":"cDEBITI!B120","v":"D.04.91"},null,null,null,{"$f":"cDEBITI!G120","v":"D.05.91"},null,0]
[{"$f":"iPCDC!A121","v":0},{"$f":"cCREDITI!B121","v":"C.04.92.YY"},null,null,null,null,null,0,{"$f":"iPCDC!D121","v":0},{"$f":"cDEBITI!B121","v":"D.04.92"},null,null,null,{"$f":"cDEBITI!G121","v":"D.05.92"},null,0]
[{"$f":"iPCDC!A122","v":0},{"$f":"cCREDITI!B122","v":"C.04.93.YY"},null,null,null,null,null,0,{"$f":"iPCDC!D122","v":0},{"$f":"cDEBITI!B122","v":"D.04.93"},null,null,null,{"$f":"cDEBITI!G122","v":"D.05.93"},null,0]
[{"$f":"iPCDC!A123","v":0},{"$f":"cCREDITI!B123","v":"C.04.94.YY"},null,null,null,null,null,0,{"$f":"iPCDC!D123","v":0},{"$f":"cDEBITI!B123","v":"D.04.94"},null,null,null,{"$f":"cDEBITI!G123","v":"D.05.94"},null,0]
[{"$f":"iPCDC!A124","v":0},{"$f":"cCREDITI!B124","v":"C.04.95.YY"},null,null,null,null,null,0,{"$f":"iPCDC!D124","v":0},{"$f":"cDEBITI!B124","v":"D.04.95"},null,null,null,{"$f":"cDEBITI!G124","v":"D.05.95"},null,0]
[{"$f":"iPCDC!A125","v":0},{"$f":"cCREDITI!B125","v":"C.04.96.YY"},null,null,null,null,null,0,{"$f":"iPCDC!D125","v":0},{"$f":"cDEBITI!B125","v":"D.04.96"},null,null,null,{"$f":"cDEBITI!G125","v":"D.05.96"},null,0]
[{"$f":"iPCDC!A126","v":0},{"$f":"cCREDITI!B126","v":"C.04.97.YY"},null,null,null,null,null,0,{"$f":"iPCDC!D126","v":0},{"$f":"cDEBITI!B126","v":"D.04.97"},null,null,null,{"$f":"cDEBITI!G126","v":"D.05.97"},null,0]
[{"$f":"iPCDC!A127","v":0},{"$f":"cCREDITI!B127","v":"C.04.98.YY"},null,null,null,null,null,0,{"$f":"iPCDC!D127","v":0},{"$f":"cDEBITI!B127","v":"D.04.98"},null,null,null,{"$f":"cDEBITI!G127","v":"D.05.98"},null,0]
[{"$f":"iPCDC!A128","v":0},{"$f":"cCREDITI!B128","v":"C.04.99.YY"},null,null,null,null,null,0,{"$f":"iPCDC!D128","v":0},{"$f":"cDEBITI!B128","v":"D.04.99"},null,null,null,{"$f":"cDEBITI!G128","v":"D.05.99"},null,0]
[{"$f":"\"CREDITI \" &cCREDITI!A129","v":"CREDITI da FONDI SPECIALI"},null,{"$f":"SUM(C130:C134)","v":0},0,0,0,0,0,{"$f":"\"DEBITI \" &cDEBITI!A129","v":"DEBITI v/s GESTIONE ORDINARIA"},null,{"$f":"SUM(K130:K134)","v":0},0,0,0,0,0]
[{"$f":"cCREDITI!A130","v":"Gestione Ordinaria"},{"$f":"cCREDITI!B130","v":"C.06.01"},null,null,null,null,null,{"$f":"SUM(C130:G130)","v":0},{"$f":"cDEBITI!A130","v":"Gestione Ordinaria"},{"$f":"cDEBITI!B130","v":"D.06.01"},null,null,null,null,null,{"$f":"SUM(K130:O130)","v":0}]
[{"$f":"cCREDITI!A131","v":""},{"$f":"cCREDITI!B131","v":"00:00:00"},null,null,null,null,null,{"$f":"SUM(C131:G131)","v":0},{"$f":"cDEBITI!A131","v":""},{"$f":"cDEBITI!B131","v":"00:00:00"},null,null,null,null,null,{"$f":"SUM(K131:O131)","v":0}]
[{"$f":"cCREDITI!A132","v":""},{"$f":"cCREDITI!B132","v":"00:00:00"},null,null,null,null,null,{"$f":"SUM(C132:G132)","v":0},{"$f":"cDEBITI!A132","v":""},{"$f":"cDEBITI!B132","v":"00:00:00"},null,null,null,null,null,{"$f":"SUM(K132:O132)","v":0}]
[{"$f":"cCREDITI!A133","v":""},{"$f":"cCREDITI!B133","v":"00:00:00"},null,null,null,null,null,{"$f":"SUM(C133:G133)","v":0},{"$f":"cDEBITI!A133","v":""},{"$f":"cDEBITI!B133","v":"00:00:00"},null,null,null,null,null,{"$f":"SUM(K133:O133)","v":0}]
[{"$f":"cCREDITI!A134","v":""},{"$f":"cCREDITI!B134","v":"00:00:00"},null,null,null,null,null,{"$f":"SUM(C134:G134)","v":0},{"$f":"cDEBITI!A134","v":""},{"$f":"cDEBITI!B134","v":"00:00:00"},null,null,null,null,null,{"$f":"SUM(K134:O134)","v":0}]
["RIEPILOGO ATTIVITÀ",null,null,null,null,null,null,null,"RIEPILOGO PASSIVITÀ"]
["LIQUIDITÀ",null,null,null,null,null,null,{"$f":"H5","v":101.46}]
["TOTALI CREDITI DIRETTI DA CONDOMINI",null,{"$f":"C29","v":0},0,0,786.76,1058.7099999999998,1845.4699999999998,"TOTALE DEBITI v/s CONDOMINI",null,null,null,{"$f":"SUM(M30:M128)","v":743.55000000000007},null,{"$f":"SUM(O30:O128)","v":42.27},{"$f":"M137+O137","v":785.82}]
["TOTALI ALTRI CREDITI",null,{"$f":"C11+C17+C23","v":0},0,0,0,42.27,42.27,"TOTALI DEBITI v/s TERZI",null,{"$f":"K11+K17+K23","v":0},{"$f":"L11+L17+L23","v":0},{"$f":"M11+M17+M23","v":250},{"$f":"N11+N17+N23","v":340},{"$f":"O11+O17+O23","v":613.38},{"$f":"SUM(K138:O138)","v":1203.3800000000001}]
["ATTIVITÀ",{"$f":"H136+H137+H138","v":1989.1999999999998},null,null,null,null,null,null,"PASSIVITÀ",{"$f":"P137+P138","v":1989.2000000000003}]

{"sheet":"iPUS","index":16,"n_rows":196,"n_cols":5,"rows_kept":196,"cut":false,"hidden":true,"merged":[[8,2,9,2],[8,0,9,0],[8,1,9,1]]}
["È consentito variare i dati delle sole celle senza sfondo colorato. I dati necessari hanno l'intestazione di colonna in rosso.",null,null,null,0]
[]
[]
[]
[]
[]
[{"$f":"'iP1'!A5","v":"Condominio \"TERMICO\""}]
[{"$f":"\"PREVENTIVO DELLE SPESE PER L'ESERCIZIO \" & 'iP1'!A37","v":"PREVENTIVO DELLE SPESE PER L'ESERCIZIO 2021-2022"}]
["CAPITOLI e VOCI DI SPESA","CODICE\nCONTO","TABELLA\nRIPARTO","IMPORTI"]
[null,null,null,"PREVENTIV."]
[{"$f":"iPCU!A11","v":"SPESE GENERALI"},null,{"$f":"iPCU!C11","v":0},{"$f":"SUMIFS(D12:D26,C12:C26,\"=?\")","v":1100}]
[{"$f":"iPCU!A12","v":"POSTALI, TELEGRAFICHE, TELEFONICHE E WEB "},{"$f":"iPCU!B12","v":"S.01.01"},{"$f":"iPCU!C12","v":"B"},50]
[{"$f":"iPCU!A13","v":"DIRITTI BOLLI TASSE "},{"$f":"iPCU!B13","v":"S.01.02"},{"$f":"iPCU!C13","v":"B"},50]
[{"$f":"iPCU!A14","v":"COMPENSI AMMINISTRATORE"},{"$f":"iPCU!B14","v":"S.01.03"},{"$f":"iPCU!C14","v":"B"},800]
[{"$f":"iPCU!A15","v":"COMPENSI A TERZI (consulenti, ...)"},{"$f":"iPCU!B15","v":"S.01.04"},{"$f":"iPCU!C15","v":"B"},50]
[{"$f":"iPCU!A16","v":"SPESE LEGALI, CONTRATTUALI e RECUPERO CREDITI"},{"$f":"iPCU!B16","v":"S.01.05"},{"$f":"iPCU!C16","v":"A"},50]
[{"$f":"iPCU!A17","v":"ALTRE SPESE GENERALI CONDOMINI"},{"$f":"iPCU!B17","v":"S.01.06"},{"$f":"iPCU!C17","v":"A"},50]
[{"$f":"iPCU!A18","v":"ALTRE SPESE GENERALI UTILIZZATORI"},{"$f":"iPCU!B18","v":"S.01.07"},{"$f":"iPCU!C18","v":"B"},50]
[{"$f":"iPCU!A19","v":0},{"$f":"iPCU!B19","v":"S.01.08"},{"$f":"iPCU!C19","v":0}]
[{"$f":"iPCU!A20","v":0},{"$f":"iPCU!B20","v":"S.01.09"},{"$f":"iPCU!C20","v":0}]
[{"$f":"iPCU!A21","v":0},{"$f":"iPCU!B21","v":"S.01.10"},{"$f":"iPCU!C21","v":0}]
[{"$f":"iPCU!A22","v":0},{"$f":"iPCU!B22","v":"S.01.11"},{"$f":"iPCU!C22","v":0}]
[{"$f":"iPCU!A23","v":0},{"$f":"iPCU!B23","v":"S.01.12"},{"$f":"iPCU!C23","v":0}]
[{"$f":"iPCU!A24","v":0},{"$f":"iPCU!B24","v":"S.01.13"},{"$f":"iPCU!C24","v":0},0]
[{"$f":"iPCU!A25","v":0},{"$f":"iPCU!B25","v":"S.01.14"},{"$f":"iPCU!C25","v":0},0]
[{"$f":"iPCU!A26","v":0},{"$f":"iPCU!B26","v":"S.01.15"},{"$f":"iPCU!C26","v":0}]
[{"$f":"iPCU!A27","v":"PULIZIE"},null,{"$f":"iPCU!C27","v":0},{"$f":"SUMIFS(D28:D37,C28:C37,\"=?\")","v":200}]
[{"$f":"iPCU!A28","v":"PULIZIA LOCALI CALDAIA"},{"$f":"iPCU!B28","v":"S.02.01"},{"$f":"iPCU!C28","v":"B"},200]
[{"$f":"iPCU!A29","v":0},{"$f":"iPCU!B29","v":"S.02.02"},{"$f":"iPCU!C29","v":0}]
[{"$f":"iPCU!A30","v":0},{"$f":"iPCU!B30","v":"S.02.03"},{"$f":"iPCU!C30","v":0}]
[{"$f":"iPCU!A31","v":0},{"$f":"iPCU!B31","v":"S.02.04"},{"$f":"iPCU!C31","v":0}]
[{"$f":"iPCU!A32","v":0},{"$f":"iPCU!B32","v":"S.02.05"},{"$f":"iPCU!C32","v":0}]
[{"$f":"iPCU!A33","v":0},{"$f":"iPCU!B33","v":"S.02.06"},{"$f":"iPCU!C33","v":0}]
[{"$f":"iPCU!A34","v":0},{"$f":"iPCU!B34","v":"S.02.07"},{"$f":"iPCU!C34","v":0}]
[{"$f":"iPCU!A35","v":0},{"$f":"iPCU!B35","v":"S.02.08"},{"$f":"iPCU!C35","v":0}]
[{"$f":"iPCU!A36","v":0},{"$f":"iPCU!B36","v":"S.02.09"},{"$f":"iPCU!C36","v":0}]
[{"$f":"iPCU!A37","v":0},{"$f":"iPCU!B37","v":"S.02.10"},{"$f":"iPCU!C37","v":0}]
[{"$f":"iPCU!A38","v":"MANUTENZIONE ORDINARIA"},null,{"$f":"iPCU!C38","v":0},{"$f":"SUMIFS(D39:D48,C39:C48,\"=?\")","v":500}]
[{"$f":"iPCU!A39","v":"CANONE MANTENZIONE CALDAIA ED IMPIANTO"},{"$f":"iPCU!B39","v":"S.03.01"},{"$f":"iPCU!C39","v":"B"},250]
[{"$f":"iPCU!A40","v":"SPESE VARIE DI MANUTENZIONE ORDINARIA"},{"$f":"iPCU!B40","v":"S.03.02"},{"$f":"iPCU!C40","v":"B"},250]
[{"$f":"iPCU!A41","v":0},{"$f":"iPCU!B41","v":"S.03.03"},{"$f":"iPCU!C41","v":0}]
[{"$f":"iPCU!A42","v":0},{"$f":"iPCU!B42","v":"S.03.04"},{"$f":"iPCU!C42","v":0}]
[{"$f":"iPCU!A43","v":0},{"$f":"iPCU!B43","v":"S.03.05"},{"$f":"iPCU!C43","v":0}]
[{"$f":"iPCU!A44","v":0},{"$f":"iPCU!B44","v":"S.03.06"},{"$f":"iPCU!C44","v":0}]
[{"$f":"iPCU!A45","v":0},{"$f":"iPCU!B45","v":"S.03.07"},{"$f":"iPCU!C45","v":0}]
[{"$f":"iPCU!A46","v":0},{"$f":"iPCU!B46","v":"S.03.08"},{"$f":"iPCU!C46","v":0}]
[{"$f":"iPCU!A47","v":0},{"$f":"iPCU!B47","v":"S.03.09"},{"$f":"iPCU!C47","v":0}]
[{"$f":"iPCU!A48","v":0},{"$f":"iPCU!B48","v":"S.03.10"},{"$f":"iPCU!C48","v":0},0]
[{"$f":"iPCU!A49","v":"CONSUMI DI ENERGIA"},null,{"$f":"iPCU!C49","v":0},{"$f":"SUMIFS(D50:D59,C50:C59,\"=?\")","v":4400}]
[{"$f":"iPCU!A50","v":"CONSUMO GAS (Quota rapportata alla potenza termica)"},{"$f":"iPCU!B50","v":"S.04.01"},{"$f":"iPCU!C50","v":"C"},800]
[{"$f":"iPCU!A51","v":"CONSUMO ENERGIA ELETTRICA (Quota rapportata alla potenza termica)"},{"$f":"iPCU!B51","v":"S.04.02"},{"$f":"iPCU!C51","v":"C"},150]
[{"$f":"iPCU!A52","v":"CONSUMO GAS (Quota rapportata al consumo)"},{"$f":"iPCU!B52","v":"S.04.03"},{"$f":"iPCU!C52","v":"E"},3200]
[{"$f":"iPCU!A53","v":"CONSUMO ENERGIA ELETTRICA (Quota rapportata al consumo)"},{"$f":"iPCU!B53","v":"S.04.04"},{"$f":"iPCU!C53","v":"E"},250]
[{"$f":"iPCU!A54","v":0},{"$f":"iPCU!B54","v":"S.04.05"},{"$f":"iPCU!C54","v":0}]
[{"$f":"iPCU!A55","v":0},{"$f":"iPCU!B55","v":"S.04.06"},{"$f":"iPCU!C55","v":0}]
[{"$f":"iPCU!A56","v":0},{"$f":"iPCU!B56","v":"S.04.07"},{"$f":"iPCU!C56","v":0}]
[{"$f":"iPCU!A57","v":0},{"$f":"iPCU!B57","v":"S.04.08"},{"$f":"iPCU!C57","v":0}]
[{"$f":"iPCU!A58","v":0},{"$f":"iPCU!B58","v":"S.04.09"},{"$f":"iPCU!C58","v":0}]
[{"$f":"iPCU!A59","v":0},{"$f":"iPCU!B59","v":"S.04.10"},{"$f":"iPCU!C59","v":0}]
[{"$f":"iPCU!A60","v":"MANUTENZIONE STRAORDINARIA"},null,{"$f":"iPCU!C60","v":0},{"$f":"SUM(D61:D70)","v":200}]
[{"$f":"iPCU!A61","v":"MANUTENZIONE STRAORDINARIA CALDAIA"},{"$f":"iPCU!B61","v":"S.05.01"},{"$f":"iPCU!C61","v":"A"},100]
[{"$f":"iPCU!A62","v":"MANUTENZIONE STRAORDINARIA IMPIANTO"},{"$f":"iPCU!B62","v":"S.05.02"},{"$f":"iPCU!C62","v":"A"},100]
[{"$f":"iPCU!A63","v":0},{"$f":"iPCU!B63","v":"S.05.03"},{"$f":"iPCU!C63","v":0}]
[{"$f":"iPCU!A64","v":0},{"$f":"iPCU!B64","v":"S.05.04"},{"$f":"iPCU!C64","v":0}]
[{"$f":"iPCU!A65","v":0},{"$f":"iPCU!B65","v":"S.05.05"},{"$f":"iPCU!C65","v":0}]
[{"$f":"iPCU!A66","v":0},{"$f":"iPCU!B66","v":"S.05.06"},{"$f":"iPCU!C66","v":0}]
[{"$f":"iPCU!A67","v":0},{"$f":"iPCU!B67","v":"S.05.07"},{"$f":"iPCU!C67","v":0}]
[{"$f":"iPCU!A68","v":0},{"$f":"iPCU!B68","v":"S.05.08"},{"$f":"iPCU!C68","v":0}]
[{"$f":"iPCU!A69","v":0},{"$f":"iPCU!B69","v":"S.05.09"},{"$f":"iPCU!C69","v":0}]
[{"$f":"iPCU!A70","v":0},{"$f":"iPCU!B70","v":"S.05.10"},{"$f":"iPCU!C70","v":0}]
[{"$f":"iPCU!A71","v":"SPESE VARIE A CARICO DEI CONDOMINI"},null,{"$f":"iPCU!C71","v":0},{"$f":"SUMIFS(D72:D76,C72:C76,\"=?\")","v":50}]
[{"$f":"iPCU!A72","v":"VARIE IMPREVISTE ED ALTRE SPESE DOCUMENTATE CONDOMINI"},{"$f":"iPCU!B72","v":"S.06.01"},{"$f":"iPCU!C72","v":"A"},50]
[{"$f":"iPCU!A73","v":0},{"$f":"iPCU!B73","v":"S.06.02"},{"$f":"iPCU!C73","v":0}]
[{"$f":"iPCU!A74","v":0},{"$f":"iPCU!B74","v":"S.06.03"},{"$f":"iPCU!C74","v":0}]
[{"$f":"iPCU!A75","v":0},{"$f":"iPCU!B75","v":"S.06.04"},{"$f":"iPCU!C75","v":0}]
[{"$f":"iPCU!A76","v":0},{"$f":"iPCU!B76","v":"S.06.05"},{"$f":"iPCU!C76","v":0}]
[{"$f":"iPCU!A77","v":"SPESE VARIE A CARICO DEGLI UTILIZZATORI"},null,{"$f":"iPCU!C77","v":0},{"$f":"SUMIFS(D78:D82,C78:C82,\"=?\")","v":500}]
[{"$f":"iPCU!A78","v":"VARIE IMPREVISTE ED ALTRE SPESE DOCUMENTATE UTILIZZATORI"},{"$f":"iPCU!B78","v":"S.07.01"},{"$f":"iPCU!C78","v":"B"},100]
[{"$f":"iPCU!A79","v":"SPESE PER RIPARTIZIONE COSTI LETTURE CONSUMI CONTATORI RISCALDAMENTO"},{"$f":"iPCU!B79","v":"S.07.02"},{"$f":"iPCU!C79","v":"D"},400]
[{"$f":"iPCU!A80","v":0},{"$f":"iPCU!B80","v":"S.07.03"},{"$f":"iPCU!C80","v":0}]
[{"$f":"iPCU!A81","v":0},{"$f":"iPCU!B81","v":"S.07.04"},{"$f":"iPCU!C81","v":0}]
[{"$f":"iPCU!A82","v":0},{"$f":"iPCU!B82","v":"S.07.05"},{"$f":"iPCU!C82","v":0}]
[{"$f":"iPCU!A83","v":"USCITE PER COSTITUZIONE DEPOSITI PRESSO TERZI e PRESTITI A TERZI"},null,{"$f":"iPCU!C83","v":0},{"$f":"SUMIFS(D84:D88,C84:C88,\"=?\")","v":0}]
[{"$f":"iPCU!A84","v":"DEPOSITI CAUZIONALI"},{"$f":"iPCU!B84","v":"L.01.01"},{"$f":"iPCU!C84","v":"A"}]
[{"$f":"iPCU!A85","v":"PRESTITI A TERZI"},{"$f":"iPCU!B85","v":"L.01.02"},{"$f":"iPCU!C85","v":"A"}]
[{"$f":"iPCU!A86","v":0},{"$f":"iPCU!B86","v":"L.01.03"},{"$f":"iPCU!C86","v":0}]
[{"$f":"iPCU!A87","v":0},{"$f":"iPCU!B87","v":"L.01.04"},{"$f":"iPCU!C87","v":0}]
[{"$f":"iPCU!A88","v":0},{"$f":"iPCU!B88","v":"L.01.05"},{"$f":"iPCU!C88","v":0}]
[{"$f":"iPCU!A201","v":0},{"$f":"iPCU!B201","v":0},{"$f":"iPCU!C201","v":0}]
[{"$f":"iPCU!A202","v":""},{"$f":"iPCU!B202","v":0},{"$f":"iPCU!C90","v":0}]
[{"$f":"iPCU!A203","v":""},{"$f":"iPCU!B203","v":0},{"$f":"iPCU!C91","v":0}]
[{"$f":"iPCU!A204","v":""},{"$f":"iPCU!B204","v":0},{"$f":"iPCU!C92","v":0}]
[{"$f":"iPCU!A205","v":""},{"$f":"iPCU!B205","v":0},{"$f":"iPCU!C93","v":0}]
[{"$f":"iPCU!A206","v":""},{"$f":"iPCU!B206","v":0},{"$f":"iPCU!C94","v":0}]
[{"$f":"iPCU!A89","v":"SPESE PERSONALI o ASSEGNATE DIRETTAMENTE AI CONDOMINI E AGLI INQUILINI"},{"$f":"iPCU!B89","v":"P"},{"$f":"iPCU!C89","v":0}]
[{"$f":"iPCU!A90","v":"Condomino01"},{"$f":"iPCU!B90","v":"P.01.01"}]
[{"$f":"iPCU!A91","v":"Condomino02"},{"$f":"iPCU!B91","v":"P.01.02"}]
[{"$f":"iPCU!A92","v":"Condomino03"},{"$f":"iPCU!B92","v":"P.01.03"}]
[{"$f":"iPCU!A93","v":"Condomino04 S.r.l."},{"$f":"iPCU!B93","v":"P.01.04"}]
[{"$f":"iPCU!A94","v":"Condomino05"},{"$f":"iPCU!B94","v":"P.01.05"}]
[{"$f":"iPCU!A95","v":"Condomino06"},{"$f":"iPCU!B95","v":"P.01.06"}]
[{"$f":"iPCU!A96","v":"Condomino07"},{"$f":"iPCU!B96","v":"P.01.07"}]
[{"$f":"iPCU!A97","v":"Eredi Condomino08"},{"$f":"iPCU!B97","v":"P.01.08"}]
[{"$f":"iPCU!A98","v":"Condomino09 S.r.l."},{"$f":"iPCU!B98","v":"P.01.09"}]
[{"$f":"iPCU!A99","v":"Condomino10"},{"$f":"iPCU!B99","v":"P.01.10"}]
[{"$f":"iPCU!A100","v":"Condomino11"},{"$f":"iPCU!B100","v":"P.01.11"}]
[{"$f":"iPCU!A101","v":"Condomino12"},{"$f":"iPCU!B101","v":"P.01.12"}]
[{"$f":"iPCU!A102","v":"Condomino13"},{"$f":"iPCU!B102","v":"P.01.13"}]
[{"$f":"iPCU!A103","v":"Condomino14"},{"$f":"iPCU!B103","v":"P.01.14"}]
[{"$f":"iPCU!A104","v":"Condomino15"},{"$f":"iPCU!B104","v":"P.01.15"}]
[{"$f":"iPCU!A105","v":"Condomino16"},{"$f":"iPCU!B105","v":"P.01.16"}]
[{"$f":"iPCU!A106","v":"Condomino17"},{"$f":"iPCU!B106","v":"P.01.17"}]
[{"$f":"iPCU!A107","v":"Condomino18"},{"$f":"iPCU!B107","v":"P.01.18"}]
[{"$f":"iPCU!A108","v":"Condomino19"},{"$f":"iPCU!B108","v":"P.01.19"}]
[{"$f":"iPCU!A109","v":"Condomino20"},{"$f":"iPCU!B109","v":"P.01.20"}]
[{"$f":"iPCU!A110","v":"Condomino21"},{"$f":"iPCU!B110","v":"P.01.21"}]
[{"$f":"iPCU!A111","v":"Condomino22"},{"$f":"iPCU!B111","v":"P.01.22"}]
[{"$f":"iPCU!A112","v":"Condomino23"},{"$f":"iPCU!B112","v":"P.01.23"}]
[{"$f":"iPCU!A113","v":"Inquilino1"},{"$f":"iPCU!B113","v":"P.01.24"}]
[{"$f":"iPCU!A114","v":"Inquilino2"},{"$f":"iPCU!B114","v":"P.01.25"}]
[{"$f":"iPCU!A115","v":"Inquilino3"},{"$f":"iPCU!B115","v":"P.01.26"}]
[{"$f":"iPCU!A116","v":"Inquilino4"},{"$f":"iPCU!B116","v":"P.01.27"}]
[{"$f":"iPCU!A117","v":"Inquilino5"},{"$f":"iPCU!B117","v":"P.01.28"}]
[{"$f":"iPCU!A118","v":0},{"$f":"iPCU!B118","v":"P.01.29"}]
[{"$f":"iPCU!A119","v":0},{"$f":"iPCU!B119","v":"P.01.30"}]
[{"$f":"iPCU!A120","v":0},{"$f":"iPCU!B120","v":"P.01.31"}]
[{"$f":"iPCU!A121","v":0},{"$f":"iPCU!B121","v":"P.01.32"}]
[{"$f":"iPCU!A122","v":0},{"$f":"iPCU!B122","v":"P.01.33"}]
[{"$f":"iPCU!A123","v":0},{"$f":"iPCU!B123","v":"P.01.34"}]
[{"$f":"iPCU!A124","v":0},{"$f":"iPCU!B124","v":"P.01.35"}]
[{"$f":"iPCU!A125","v":0},{"$f":"iPCU!B125","v":"P.01.36"}]
[{"$f":"iPCU!A126","v":0},{"$f":"iPCU!B126","v":"P.01.37"}]
[{"$f":"iPCU!A127","v":0},{"$f":"iPCU!B127","v":"P.01.38"}]
[{"$f":"iPCU!A128","v":0},{"$f":"iPCU!B128","v":"P.01.39"}]
[{"$f":"iPCU!A129","v":0},{"$f":"iPCU!B129","v":"P.01.40"}]
[{"$f":"iPCU!A130","v":0},{"$f":"iPCU!B130","v":"P.01.41"}]
[{"$f":"iPCU!A131","v":0},{"$f":"iPCU!B131","v":"P.01.42"}]
[{"$f":"iPCU!A132","v":0},{"$f":"iPCU!B132","v":"P.01.43"}]
[{"$f":"iPCU!A133","v":0},{"$f":"iPCU!B133","v":"P.01.44"}]
[{"$f":"iPCU!A134","v":0},{"$f":"iPCU!B134","v":"P.01.45"}]
[{"$f":"iPCU!A135","v":0},{"$f":"iPCU!B135","v":"P.01.46"}]
[{"$f":"iPCU!A136","v":0},{"$f":"iPCU!B136","v":"P.01.47"}]
[{"$f":"iPCU!A137","v":0},{"$f":"iPCU!B137","v":"P.01.48"}]
[{"$f":"iPCU!A138","v":0},{"$f":"iPCU!B138","v":"P.01.49"}]
[{"$f":"iPCU!A139","v":0},{"$f":"iPCU!B139","v":"P.01.50"}]
[{"$f":"iPCU!A140","v":0},{"$f":"iPCU!B140","v":"P.01.51"}]
[{"$f":"iPCU!A141","v":0},{"$f":"iPCU!B141","v":"P.01.52"}]
[{"$f":"iPCU!A142","v":0},{"$f":"iPCU!B142","v":"P.01.53"}]
[{"$f":"iPCU!A143","v":0},{"$f":"iPCU!B143","v":"P.01.54"}]
[{"$f":"iPCU!A144","v":0},{"$f":"iPCU!B144","v":"P.01.55"}]
[{"$f":"iPCU!A145","v":0},{"$f":"iPCU!B145","v":"P.01.56"}]
[{"$f":"iPCU!A146","v":0},{"$f":"iPCU!B146","v":"P.01.57"}]
[{"$f":"iPCU!A147","v":0},{"$f":"iPCU!B147","v":"P.01.58"}]
[{"$f":"iPCU!A148","v":0},{"$f":"iPCU!B148","v":"P.01.59"}]
[{"$f":"iPCU!A149","v":0},{"$f":"iPCU!B149","v":"P.01.60"}]
[{"$f":"iPCU!A150","v":0},{"$f":"iPCU!B150","v":"P.01.61"}]
[{"$f":"iPCU!A151","v":0},{"$f":"iPCU!B151","v":"P.01.62"}]
[{"$f":"iPCU!A152","v":0},{"$f":"iPCU!B152","v":"P.01.63"}]
[{"$f":"iPCU!A153","v":0},{"$f":"iPCU!B153","v":"P.01.64"}]
[{"$f":"iPCU!A154","v":0},{"$f":"iPCU!B154","v":"P.01.65"}]
[{"$f":"iPCU!A155","v":0},{"$f":"iPCU!B155","v":"P.01.66"}]
[{"$f":"iPCU!A156","v":0},{"$f":"iPCU!B156","v":"P.01.67"}]
[{"$f":"iPCU!A157","v":0},{"$f":"iPCU!B157","v":"P.01.68"}]
[{"$f":"iPCU!A158","v":0},{"$f":"iPCU!B158","v":"P.01.69"}]
[{"$f":"iPCU!A159","v":0},{"$f":"iPCU!B159","v":"P.01.70"}]
[{"$f":"iPCU!A160","v":0},{"$f":"iPCU!B160","v":"P.01.71"}]
[{"$f":"iPCU!A161","v":0},{"$f":"iPCU!B161","v":"P.01.72"}]
[{"$f":"iPCU!A162","v":0},{"$f":"iPCU!B162","v":"P.01.73"}]
[{"$f":"iPCU!A163","v":0},{"$f":"iPCU!B163","v":"P.01.74"}]
[{"$f":"iPCU!A164","v":0},{"$f":"iPCU!B164","v":"P.01.75"}]
[{"$f":"iPCU!A165","v":0},{"$f":"iPCU!B165","v":"P.01.76"}]
[{"$f":"iPCU!A166","v":0},{"$f":"iPCU!B166","v":"P.01.77"}]
[{"$f":"iPCU!A167","v":0},{"$f":"iPCU!B167","v":"P.01.78"}]
[{"$f":"iPCU!A168","v":0},{"$f":"iPCU!B168","v":"P.01.79"}]
[{"$f":"iPCU!A169","v":0},{"$f":"iPCU!B169","v":"P.01.80"}]
[{"$f":"iPCU!A170","v":0},{"$f":"iPCU!B170","v":"P.01.81"}]
[{"$f":"iPCU!A171","v":0},{"$f":"iPCU!B171","v":"P.01.82"}]
[{"$f":"iPCU!A172","v":0},{"$f":"iPCU!B172","v":"P.01.83"}]
[{"$f":"iPCU!A173","v":0},{"$f":"iPCU!B173","v":"P.01.84"}]
[{"$f":"iPCU!A174","v":0},{"$f":"iPCU!B174","v":"P.01.85"}]
[{"$f":"iPCU!A175","v":0},{"$f":"iPCU!B175","v":"P.01.86"}]
[{"$f":"iPCU!A176","v":0},{"$f":"iPCU!B176","v":"P.01.87"}]
[{"$f":"iPCU!A177","v":0},{"$f":"iPCU!B177","v":"P.01.88"}]
[{"$f":"iPCU!A178","v":0},{"$f":"iPCU!B178","v":"P.01.89"}]
[{"$f":"iPCU!A179","v":0},{"$f":"iPCU!B179","v":"P.01.90"}]
[{"$f":"iPCU!A180","v":0},{"$f":"iPCU!B180","v":"P.01.91"}]
[{"$f":"iPCU!A181","v":0},{"$f":"iPCU!B181","v":"P.01.92"}]
[{"$f":"iPCU!A182","v":0},{"$f":"iPCU!B182","v":"P.01.93"}]
[{"$f":"iPCU!A183","v":0},{"$f":"iPCU!B183","v":"P.01.94"}]
[{"$f":"iPCU!A184","v":0},{"$f":"iPCU!B184","v":"P.01.95"}]
[{"$f":"iPCU!A185","v":0},{"$f":"iPCU!B185","v":"P.01.96"}]
[{"$f":"iPCU!A186","v":0},{"$f":"iPCU!B186","v":"P.01.97"}]
[{"$f":"iPCU!A187","v":0},{"$f":"iPCU!B187","v":"P.01.98"}]
[{"$f":"iPCU!A188","v":0},{"$f":"iPCU!B188","v":"P.01.99"}]
["TOTALE SPESE PREVENTIVATE DA RIPARTIRE",null,null,{"$f":"SUMIFS(D11:D194,C11:C194,\"=?\")","v":6950}]
[null,null,null,null,0]

{"sheet":"iGIORNALE","index":17,"n_rows":1469,"n_cols":18,"rows_kept":1469,"cut":false,"hidden":true,"merged":[[11,4,11,13],[1,0,1,13],[10,4,10,13],[2,0,2,13],[7,4,8,4],[7,5,7,7],[7,8,7,10],[7,11,7,12],[7,13,8,13],[3,7,4,13],[7,1,8,3]]}
[null,null,null,null,null,null,null,null,null,null,null,null,null,null,0]
["Le celle con sfondo giallo contengono formule e non devono essere mai sovrascritte. I risultati delle formule sono visualizzati solo se la cella di colonna A della riga non è vuota. Le formule possono essere ricopiate singolarmente o con il metodo \"seleziona e trascina\" partendo da una cella che contiene la formula."]
["Le celle di colonna M contengono solitamente una formula, quella più usuale per associare l'importo al conto movimentato. La formula può essere variata o si può scrivere direttamente il valore, quando l'importo movimentato non corrisponde ad una entrata o uscita scritta sulla stessa riga. La formula originaria può sempre essere riscritta copiandola dalla cella M10. "]
[null,null,null,null,null,null,null,"ATTENZIONE!\nLe scritture guidate saranno attendibili solo se i prospetti contabili sono aggiornati.\n È bene quindi, prima di ogni scrittura guidata automatizzata, ricalcolare il bilancio di esercizio e le scritture fiscali.",null,null,null,null,null,null,null,null,"Calcolo di controllo\nsui singoli conti"]
[null,null,null,null,null,null,null,null,null,null,null,null,null,null,null,null,"Conto","Importo"]
[{"$f":"'iP1'!A5","v":"Condominio \"TERMICO\""}]
[{"$f":"\"REGISTRO DELLE OPERAZIONI CONTABILI - ANNO \" & 'iP1'!A37","v":"REGISTRO DELLE OPERAZIONI CONTABILI - ANNO 2021-2022"},null,null,null,null,null,null,null,null,null,null,null,null,null,null,null,"A.01.01",{"$f":"SUMIFS($M$11:M$1468,L$11:L$1468,Q7)","v":0}]
["Reg.","Data",null,null,"DESCRIZIONE OPERAZIONE (e/o STRINGA INFORMATIVA)","CASSA",null,null,"CONTO CORRENTE",null,null,"MOVIMENTO",null,"Pezza\ngiustificativa ",null,null,{"$f":"\"D.03.01.\"  & RIGHT('iP1'!A37,2)","v":"D.03.01.22"},{"$f":"SUMIFS($M$11:M$1468,L$11:L$1468,Q8,M$11:M$1468,\">0\")","v":13.114754098360654}]
["n°",null,null,null,null,"ENTRATA","USCITA","SALDO","ENTRATA","USCITA","SALDO","CONTO","IMPOR."]
[{"$f":"COUNTA(A11:A1424)","v":159},"g","m","a"," TOTALI",{"$f":"ROUND(SUM(F12:F885),2)","v":1411.28},{"$f":"SUM(G12:G885)","v":1381},{"$f":"F10-G10","v":30.279999999999973},{"$f":"ROUND(SUM(I12:I885),2)","v":4432.46},{"$f":"SUM(J12:J885)","v":577.23},{"$f":"I10-J10","v":3855.23},null,{"$f":"IF(LEN(L10)>0,F10+G10+I10+J10,\"\")","v":""},"n°"]
[0,"0",0,2021,"=========== SCRITTURE DI APERTURA ESERCIZIO ========== (riporto valori da esercizio precedente)"]
["a","0",0,2021,"=========== SCRITTURE DI APERTURA ESERCIZIO ========== (riporto valori da stato patrimoniale esercizio precedente)"]
["l",0,0,null,"LIQUIDITÀ"]
["l",0,0,2021,"SITUAZIONE LIQUIDITÀ INIZIALE (Gestione Speciale Riscaldamento Centralizzato)",0,null,{"$f":"IF(A14<>\"\",IF(INDIRECT(ADDRESS(ROW()-1,8))=\"\",ROUND(SUM(INDIRECT(ADDRESS(ROW()-2,8)),F14,-G14),2),ROUND(SUM(INDIRECT(ADDRESS(ROW()-1,8)),F14,-G14),2)),\"\")","v":0},101.46,null,{"$f":"IF(A14<>\"\",IF(INDIRECT(ADDRESS(ROW()-1,11))=\"\",ROUND(SUM(INDIRECT(ADDRESS(ROW()-2,11)),I14,-J14),2),ROUND(SUM(INDIRECT(ADDRESS(ROW()-1,11)),I14,-J14),2)),\"\")","v":101.46},""]
["c",0,0,null,"CREDITI",null,null,{"$f":"IF(A15<>\"\",IF(INDIRECT(ADDRESS(ROW()-1,8))=\"\",ROUND(SUM(INDIRECT(ADDRESS(ROW()-2,8)),F15,-G15),2),ROUND(SUM(INDIRECT(ADDRESS(ROW()-1,8)),F15,-G15),2)),\"\")","v":0},null,null,{"$f":"IF(A15<>\"\",IF(INDIRECT(ADDRESS(ROW()-1,11))=\"\",ROUND(SUM(INDIRECT(ADDRESS(ROW()-2,11)),I15,-J15),2),ROUND(SUM(INDIRECT(ADDRESS(ROW()-1,11)),I15,-J15),2)),\"\")","v":101.46}]
["c",0,0,null,"da DEPOSITI di DENARO presso Terzi",null,null,0,null,null,101.46]
["c",0,0,2021,"da ENEL ENERGIA SpA  # deposito cauzionale # 01 # D-01 # 06/07/2021",null,null,0,null,null,101.46,"C.01.01.21",42.27]
["c",0,0,null,"da CONDOMINI",null,null,0,null,null,101.46]
["c",0,0,null,"ESERCIZIO 2020",null,null,0,null,null,101.46]
["c",0,0,2021,"Condomino03",null,null,0,null,null,101.46,"C.04.03.20",169.05]
["c",0,0,2021,"Condomino04 S.r.l.",null,null,0,null,null,101.46,"C.04.04.20",129.27000000000001]
["c",0,0,2021,"Condomino06",null,null,0,null,null,101.46,"C.04.06.20",275.60000000000002]
["c",0,0,2021,"Condomino10",null,null,0,null,null,101.46,"C.04.10.20",5.3]
["c",0,0,2021,"Condomino15",null,null,0,null,null,101.46,"C.04.15.20",207.54]
["c",0,0,null,"ESERCIZIO 2021",null,null,0,null,null,101.46]
["c",0,0,2021,"Condomino03",null,null,0,null,null,101.46,"C.04.03.21",264.68]
["c",0,0,2021,"Condomino04 S.r.l.",null,null,0,null,null,101.46,"C.04.04.21",154.47999999999999]
["c",0,0,2021,"Condomino06",null,null,0,null,null,101.46,"C.04.06.21",273.66000000000003]
["c",0,0,2021,"Condomino10",null,null,0,null,null,101.46,"C.04.10.21",13.3]
["c",0,0,2021,"Condomino15",null,null,0,null,null,101.46,"C.04.15.21",208.93]
["c",0,0,2021,"Condomino17",null,null,0,null,null,101.46,"C.04.17.21",130.56]
["c",0,0,2021,"Condomino23",null,null,0,null,null,101.46,"C.04.23.21",13.1]
["d",0,0,null,"DEBITI",null,null,0,null,null,101.46]
["d",0,0,null,"DEPOSITI presso TERZI",null,null,0,null,null,101.46]
["d",0,0,2021,"Condomino01",null,null,0,null,null,101.46,"D.05.01",1.3073999999999999]
["d",0,0,2021,"Condomino02",null,null,0,null,null,101.46,"D.05.02",1.7238]
["d",0,0,2021,"Condomino03",null,null,0,null,null,101.46,"D.05.03",3.0143]
["d",0,0,2021,"Condomino04 S.r.l.",null,null,0,null,null,101.46,"D.05.04",1.4561999999999999]
["d",0,0,2021,"Condomino05",null,null,0,null,null,101.46,"D.05.05",2.4077000000000002]
["d",0,0,2021,"Condomino06",null,null,0,null,null,101.46,"D.05.06",2.4407000000000001]
["d",0,0,2021,"Condomino07",null,null,0,null,null,101.46,"D.05.07",1.2419]
["d",0,0,2021,"Condomino08",null,null,0,null,null,101.46,"D.05.08",0.35759999999999997]
["d",0,0,2021,"Condomino09 S.r.l.",null,null,0,null,null,101.46,"D.05.09",1.5009999999999999]
["d",0,0,2021,"Condomino10",null,null,0,null,null,101.46,"D.05.10",1.0550999999999999]
["d",0,0,2021,"Condomino11 ",null,null,0,null,null,101.46,"D.05.11",1.1053999999999999,null,null," "]
["d",0,0,2021,"Condomino12",null,null,0,null,null,101.46,"D.05.12",2.5125000000000002]
["d",0,0,2021,"Condomino13",null,null,0,null,null,101.46,"D.05.13",1.9837]
["d",0,0,2021,"Condomino14",null,null,0,null,null,101.46,"D.05.14",1.6244000000000001]
["d",0,0,2021,"Condomino15",null,null,0,null,null,101.46,"D.05.15",1.7745]
["d",0,0,2021,"Condomino16",null,null,0,null,null,101.46,"D.05.16",2.1972]
["d",0,0,2021,"Condomino17",null,null,0,null,null,101.46,"D.05.17",3.1562999999999999]
["d",0,0,2021,"Condomino18",null,null,0,null,null,101.46,"D.05.18",3.1564999999999999]
["d",0,0,2021,"Condomino19",null,null,0,null,null,101.46,"D.05.19",2.6457000000000002]
["d",0,0,2021,"Condomino20",null,null,0,null,null,101.46,"D.05.20",0.73680000000000001]
["d",0,0,2021,"Condomino21",null,null,0,null,null,101.46,"D.05.21",1.7813000000000001]
["d",0,0,2021,"Condomino22",null,null,0,null,null,101.46,"D.05.22",1.2283999999999999]
["d",0,0,2021,"Condomino23",null,null,0,null,null,101.46,"D.05.23",1.8615999999999999]
["d",0,0,null,"v/s TERZI PRIVATI",null,null,0,null,null,101.46]
["d",0,0,2021,"v/s CONSULENTE FISCALE # Impegno di spesa Consulenza fiscale 2019 # 01 # F-06 # 31/12/2019",null,null,0,null,null,101.46,"D.02.03.19",50]
["d",0,0,2021,"v/s CHIEFARI Pietro # impegno spesa comp. Amm. Es. 2019 # 02 # F-07 # 31/12/2019",null,null,0,null,null,101.46,"D.02.03.19",200]
["d",0,0,2021,"v/s AVVOCATO Giuseppe # avviso fattura n. 10/2020 del 1-12-2020 # 03 # F-08 # 01/12/2020",null,null,0,null,null,101.46,"D.02.02.20",50]
["d",0,0,2021,"v/s CHIEFARI Pietro # impegno spesa comp. Amm. Es. 2020 # 04 # F-07 # 31/12/2020",null,null,{"$f":"IF(A62<>\"\",IF(INDIRECT(ADDRESS(ROW()-1,8))=\"\",ROUND(SUM(INDIRECT(ADDRESS(ROW()-2,8)),F62,-G62),2),ROUND(SUM(INDIRECT(ADDRESS(ROW()-1,8)),F62,-G62),2)),\"\")","v":0},null,null,{"$f":"IF(A62<>\"\",IF(INDIRECT(ADDRESS(ROW()-1,11))=\"\",ROUND(SUM(INDIRECT(ADDRESS(ROW()-2,11)),I62,-J62),2),ROUND(SUM(INDIRECT(ADDRESS(ROW()-1,11)),I62,-J62),2)),\"\")","v":101.46},"D.02.03.20",200]
["d",0,0,2021,"v/s CONSULENTE FISCALE # Impegno di spesa Consulenza fiscale 2020 # 05 # F-06 # 31/12/2020",null,null,0,null,null,101.46,"D.02.03.20",90]
["d",0,0,2021,"v/s ENEL ENERGIA SpA  # Fattura n. 4157845945 del  08-12-2021 # 06 # C-03 # 08/12/2021",null,null,0,null,null,101.46,"D.02.01.21",168.38]
["d",0,0,2021,"v/s Samuele SAVERIO # Fattura n. 310 del 22-12-2021 # 07 # F-01 # 11/12/2021",null,null,0,null,null,101.46,"D.02.01.21",65]
["d",0,0,2021,"v/s Samuele SAVERIO # Fattura n. 311 del 22-12-2021 # 08 # F-01 # 22/12/2021",null,null,0,null,null,101.46,"D.02.01.21",65]
["d",0,0,2021,"v/s Samuele SAVERIO # Fattura n. 312 del 22-12-2021 # 09 # F-01 # 22/12/2021",null,null,0,null,null,101.46,"D.02.01.21",65]
["d",0,0,2021,"v/s CHIEFARI Pietro # Impegno di spesa competenze Amministratore 2021 # 10 # F-07 # 31/12/2021",null,null,0,null,null,101.46,"D.02.03.21",200]
["d",0,0,2021,"v/s CONSULENTE FISCALE # Impegno di spesa consulenza fiscale 2021 # 11 # F-06 # 31/12/2021",null,null,0,null,null,101.46,"D.02.03.21",50]
["d",0,0,null,"v/s CONDOMINI (Quote versate in eccesso)",null,null,0,null,null,101.46]
["d",0,0,2021,"Condomino01",null,null,0,null,null,101.46,"D.04.01",78.06]
["d",0,0,2021,"Condomino02",null,null,0,null,null,101.46,"D.04.02",8.0500000000000007]
["d",0,0,2021,"Condomino05",null,null,0,null,null,101.46,"D.04.05",12.14]
["d",0,0,2021,"Condomino07",null,null,0,null,null,101.46,"D.04.07",79.040000000000006]
["d",0,0,2021,"Condomino08",null,null,0,null,null,101.46,"D.04.08",18.8]
["d",0,0,2021,"Condomino09 S.r.l.",null,null,0,null,null,101.46,"D.04.09",15.36]
["d",0,0,2021,"Condomino11 ",null,null,0,null,null,101.46,"D.04.11",97.88]
["d",0,0,2021,"Condomino12",null,null,0,null,null,101.46,"D.04.12",91.44]
["d",0,0,2021,"Condomino13",null,null,0,null,null,101.46,"D.04.13",19.89]
["d",0,0,2021,"Condomino14",null,null,0,null,null,101.46,"D.04.14",90.2]
["d",0,0,2021,"Condomino16",null,null,0,null,null,101.46,"D.04.16",34.35]
["d",0,0,2021,"Condomino18",null,null,0,null,null,101.46,"D.04.18",11.03]
["d",0,0,2021,"Condomino19",null,null,0,null,null,101.46,"D.04.19",59.28]
["d",0,0,2021,"Condomino20",null,null,0,null,null,101.46,"D.04.20",7.45]
["d",0,0,2021,"Condomino21",null,null,0,null,null,101.46,"D.04.21",23.21]
["d",0,0,2021,"Condomino22",null,null,0,null,null,101.46,"D.04.22",97.37]
["s",1,1,null,"OPERAZIONI DI STORNO CREDITI",null,null,0,null,null,101.46]
["s",1,1,2021,"Restituzione a Condomino01",null,null,0,null,null,101.46,"U.01.01",78.06]
["s",1,1,2021,"Condomino01 # Versamento in conto quota esercizio 2022 per storno credito 2021",null,null,0,null,null,101.46,"Q.01.01",78.06]
["s",1,1,2021,"Restituzione a Condomino02",null,null,0,null,null,101.46,"U.01.02",8.0500000000000007]
["s",1,1,2021,"Condomino02 # Versamento in conto quota esercizio 2022 per storno credito 2021",null,null,0,null,null,101.46,"Q.01.02",8.0500000000000007]
["s",1,1,2021,"Restituzione a Condomino05",null,null,0,null,null,101.46,"U.01.05",12.14]
["s",1,1,2021,"Condomino05 # Versamento in conto quota esercizio 2022 per storno credito 2021",null,null,0,null,null,101.46,"Q.01.05",12.14]
["s",1,1,2021,"Restituzione a Condomino07",null,null,0,null,null,101.46,"U.01.07",79.040000000000006]
["s",1,1,2021,"Condomino07 # Versamento in conto quota esercizio 2022 per storno credito 2021",null,null,0,null,null,101.46,"Q.01.07",79.040000000000006]
["s",1,1,2021,"Restituzione a Condomino08",null,null,0,null,null,101.46,"U.01.08",18.8]
["s",1,1,2021,"Condomino08 # Versamento in conto quota esercizio 2022 per storno credito 2021",null,null,0,null,null,101.46,"Q.01.08",18.8]
["s",1,1,2021,"Restituzione a Condomino09 S.r.l.",null,null,0,null,null,101.46,"U.01.09",15.36]
["s",1,1,2021,"Condomino09 S.r.l. # Versamento in conto quota esercizio 2022 per storno credito 2021",null,null,0,null,null,101.46,"Q.01.09",15.36]
["s",1,1,2021,"Restituzione a Condomino11 ",null,null,0,null,null,101.46,"U.01.11",97.88]
["s",1,1,2021,"Condomino11  # Versamento in conto quota esercizio 2022 per storno credito 2021",null,null,0,null,null,101.46,"Q.01.11",97.88]
["s",1,1,2021,"Restituzione a Condomino12",null,null,0,null,null,101.46,"U.01.12",91.44]
["s",1,1,2021,"Condomino12 # Versamento in conto quota esercizio 2022 per storno credito 2021",null,null,0,null,null,101.46,"Q.01.12",91.44]
["s",1,1,2021,"Restituzione a Condomino13",null,null,0,null,null,101.46,"U.01.13",19.89]
["s",1,1,2021,"Condomino13 # Versamento in conto quota esercizio 2022 per storno credito 2021",null,null,0,null,null,101.46,"Q.01.13",19.89]
["s",1,1,2021,"Restituzione a Condomino14",null,null,0,null,null,101.46,"U.01.14",90.2]
["s",1,1,2021,"Condomino14 # Versamento in conto quota esercizio 2022 per storno credito 2021",null,null,0,null,null,101.46,"Q.01.14",90.2]
["s",1,1,2021,"Restituzione a Condomino16",null,null,0,null,null,101.46,"U.01.16",34.35]
["s",1,1,2021,"Condomino16 # Versamento in conto quota esercizio 2022 per storno credito 2021",null,null,0,null,null,101.46,"Q.01.16",34.35]
["s",1,1,2021,"Restituzione a Condomino18",null,null,0,null,null,101.46,"U.01.18",11.03]
["s",1,1,2021,"Condomino18 # Versamento in conto quota esercizio 2022 per storno credito 2021",null,null,0,null,null,101.46,"Q.01.18",11.03]
["s",1,1,2021,"Restituzione a Condomino19",null,null,0,null,null,101.46,"U.01.19",59.28]
["s",1,1,2021,"Condomino19 # Versamento in conto quota esercizio 2022 per storno credito 2021",null,null,0,null,null,101.46,"Q.01.19",59.28]
["s",1,1,2021,"Restituzione a Condomino20",null,null,0,null,null,101.46,"U.01.20",7.45]
["s",1,1,2021,"Condomino20 # Versamento in conto quota esercizio 2022 per storno credito 2021",null,null,0,null,null,101.46,"Q.01.20",7.45]
["s",1,1,2021,"Restituzione a Condomino21",null,null,0,null,null,101.46,"U.01.21",23.21]
["s",1,1,2021,"Condomino21 # Versamento in conto quota esercizio 2022 per storno credito 2021",null,null,0,null,null,101.46,"Q.01.21",23.21]
["s",1,1,2021,"Restituzione a Condomino22",null,null,0,null,null,101.46,"U.01.22",97.37]
["s",1,1,2021,"Condomino22 # Versamento in conto quota esercizio 2022 per storno credito 2021",null,null,0,null,null,101.46,"Q.01.22",97.37]
["s",1,1,null,"OPERAZIONI DI TRASLAZIONE DEBITI",null,null,{"$f":"IF(A120<>\"\",IF(INDIRECT(ADDRESS(ROW()-1,8))=\"\",ROUND(SUM(INDIRECT(ADDRESS(ROW()-2,8)),F120,-G120),2),ROUND(SUM(INDIRECT(ADDRESS(ROW()-1,8)),F120,-G120),2)),\"\")","v":0},null,null,{"$f":"IF(A120<>\"\",IF(INDIRECT(ADDRESS(ROW()-1,11))=\"\",ROUND(SUM(INDIRECT(ADDRESS(ROW()-2,11)),I120,-J120),2),ROUND(SUM(INDIRECT(ADDRESS(ROW()-1,11)),I120,-J120),2)),\"\")","v":101.46}]
["s",1,1,null,"OPERAZIONI DI TRASLAZIONI CREDITI",null,null,0,null,null,101.46]
["e",1,1,null,"=== SCRITTURE RELATIVE ALL'ESERCIZIO IN CORSO ===",null,null,0,null,null,101.46]
[1,5,11,2021,"Condomino19  # Versamento tramite bonifico in conto esercizio 2021-2022",null,null,{"$f":"IF(A123<>\"\",IF(INDIRECT(ADDRESS(ROW()-1,8))=\"\",SUM(INDIRECT(ADDRESS(ROW()-2,8)),F123,-G123),SUM(INDIRECT(ADDRESS(ROW()-1,8)),F123,-G123)),\"\")","v":0},50,null,{"$f":"IF(A123<>\"\",IF(INDIRECT(ADDRESS(ROW()-1,11))=\"\",SUM(INDIRECT(ADDRESS(ROW()-2,11)),I123,-J123),SUM(INDIRECT(ADDRESS(ROW()-1,11)),I123,-J123)),\"\")","v":151.45999999999998},"Q.01.19",{"$f":"IF(LEN(L123)>0,F123+G123+I123+J123,\"\")","v":50}]
[2,10,11,2021,"CONDOMINO03 # Versamento in contanti a saldo Arretrato Esercizio 2019-2020",169.05,null,{"$f":"IF(A124<>\"\",IF(INDIRECT(ADDRESS(ROW()-1,8))=\"\",ROUND(SUM(INDIRECT(ADDRESS(ROW()-2,8)),F124,-G124),2),ROUND(SUM(INDIRECT(ADDRESS(ROW()-1,8)),F124,-G124),2)),\"\")","v":169.05},null,null,{"$f":"IF(A124<>\"\",IF(INDIRECT(ADDRESS(ROW()-1,11))=\"\",ROUND(SUM(INDIRECT(ADDRESS(ROW()-2,11)),I124,-J124),2),ROUND(SUM(INDIRECT(ADDRESS(ROW()-1,11)),I124,-J124),2)),\"\")","v":151.46},"Q.03.03",169.05]
[2,10,11,2021,"CONDOMINO03 # Versamento in contanti in conto Conguaglio 2020-2021",130.94999999999999,null,300,null,null,151.46,"Q.02.03",130.94999999999999]
[3,21,11,2021,"CONDOMINO01 # Versamento tramite bonifico in conto quota esercizio in corso (2021-2022)",null,null,300,200,null,351.46,"Q.01.01",200]
[4,22,11,2021,"CONDOMINO07 # Versamento in contanti in conto quota esercizio in corso (2021-2022)",156,null,456,null,null,351.46,"Q.01.07",156]
[5,23,11,2021,"INQUILINO2 # Versamento in contanti in conto quota esercizio in corso (2021-2022)",150,null,606,null,null,351.46,"Q.01.25",150]
[6,11,12,2021,"Regalo figlio portiera per pulizia caldaia",null,null,606,null,50,301.45999999999998,"S.02.01",50]
[7,22,12,2021,"CONDOMINO05 # Versamento tramite bollettino in conto quota esercizio in corso (2021-2022)",null,null,{"$f":"IF(A130<>\"\",IF(INDIRECT(ADDRESS(ROW()-1,8))=\"\",SUM(INDIRECT(ADDRESS(ROW()-2,8)),F130,-G130),SUM(INDIRECT(ADDRESS(ROW()-1,8)),F130,-G130)),\"\")","v":606},100,null,{"$f":"IF(A130<>\"\",IF(INDIRECT(ADDRESS(ROW()-1,11))=\"\",SUM(INDIRECT(ADDRESS(ROW()-2,11)),I130,-J130),SUM(INDIRECT(ADDRESS(ROW()-1,11)),I130,-J130)),\"\")","v":401.46},"Q.01.05",{"$f":"IF(LEN(L130)>0,F130+G130+I130+J130,\"\")","v":100}]
[7,22,12,2021,"CONDOMINO05 spese personali di accredito bollettino c.c. postale",null,null,{"$f":"IF(A131<>\"\",IF(INDIRECT(ADDRESS(ROW()-1,8))=\"\",SUM(INDIRECT(ADDRESS(ROW()-2,8)),F131,-G131),SUM(INDIRECT(ADDRESS(ROW()-1,8)),F131,-G131)),\"\")","v":606},null,0.34,{"$f":"IF(A131<>\"\",IF(INDIRECT(ADDRESS(ROW()-1,11))=\"\",ROUND(SUM(INDIRECT(ADDRESS(ROW()-2,11)),I131,-J131),2),ROUND(SUM(INDIRECT(ADDRESS(ROW()-1,11)),I131,-J131),2)),\"\")","v":401.12},"P.01.05",0.34]
[8,28,12,2021,"Incasso per prestito da Amministratore  (contante)",123,null,{"$f":"IF(A132<>\"\",IF(INDIRECT(ADDRESS(ROW()-1,8))=\"\",ROUND(SUM(INDIRECT(ADDRESS(ROW()-2,8)),F132,-G132),2),ROUND(SUM(INDIRECT(ADDRESS(ROW()-1,8)),F132,-G132),2)),\"\")","v":729},null,null,{"$f":"IF(A132<>\"\",IF(INDIRECT(ADDRESS(ROW()-1,11))=\"\",ROUND(SUM(INDIRECT(ADDRESS(ROW()-2,11)),I132,-J132),2),ROUND(SUM(INDIRECT(ADDRESS(ROW()-1,11)),I132,-J132),2)),\"\")","v":401.12},"V.01.01",123]
[9,28,12,2021,"Si origina debito v/s Amministratore  # Scrittura privata del 20-02-2022 # 12 # Z-01 # 20-02-2022",null,null,{"$f":"IF(A133<>\"\",IF(INDIRECT(ADDRESS(ROW()-1,8))=\"\",ROUND(SUM(INDIRECT(ADDRESS(ROW()-2,8)),F133,-G133),2),ROUND(SUM(INDIRECT(ADDRESS(ROW()-1,8)),F133,-G133),2)),\"\")","v":729},null,null,{"$f":"IF(A133<>\"\",IF(INDIRECT(ADDRESS(ROW()-1,11))=\"\",ROUND(SUM(INDIRECT(ADDRESS(ROW()-2,11)),I133,-J133),2),ROUND(SUM(INDIRECT(ADDRESS(ROW()-1,11)),I133,-J133),2)),\"\")","v":401.12},"D.02.04.22",123]
[10,20,1,2022,"Giroconto di disponibilità liquide: da CASSA CONTANTI ----> a BANCA",null,251,{"$f":"IF(A134<>\"\",IF(INDIRECT(ADDRESS(ROW()-1,8))=\"\",SUM(INDIRECT(ADDRESS(ROW()-2,8)),F134,-G134),SUM(INDIRECT(ADDRESS(ROW()-1,8)),F134,-G134)),\"\")","v":478},251,null,{"$f":"IF(A134<>\"\",IF(INDIRECT(ADDRESS(ROW()-1,11))=\"\",SUM(INDIRECT(ADDRESS(ROW()-2,11)),I134,-J134),SUM(INDIRECT(ADDRESS(ROW()-1,11)),I134,-J134)),\"\")","v":652.12},null,{"$f":"IF(LEN(L134)>0,F134+G134+I134+J134,\"\")","v":""}]
[10,20,1,2022,"Giroconto di disponibilità liquide: da CASSA CONTANTI ----> a BANCA",null,130,{"$f":"IF(A135<>\"\",IF(INDIRECT(ADDRESS(ROW()-1,8))=\"\",ROUND(SUM(INDIRECT(ADDRESS(ROW()-2,8)),F135,-G135),2),ROUND(SUM(INDIRECT(ADDRESS(ROW()-1,8)),F135,-G135),2)),\"\")","v":348},130,null,{"$f":"IF(A135<>\"\",IF(INDIRECT(ADDRESS(ROW()-1,11))=\"\",ROUND(SUM(INDIRECT(ADDRESS(ROW()-2,11)),I135,-J135),2),ROUND(SUM(INDIRECT(ADDRESS(ROW()-1,11)),I135,-J135),2)),\"\")","v":782.12},null,{"$f":"IF(LEN(L135)>0,F135+G135+I135+J135,\"\")","v":""}]
[11,10,3,2022,"Pagamento bolletta ITALGAS n. 8852555 ( spesa involontaria pari al 25% della spesa totale)",null,null,{"$f":"IF(A136<>\"\",IF(INDIRECT(ADDRESS(ROW()-1,8))=\"\",SUM(INDIRECT(ADDRESS(ROW()-2,8)),F136,-G136),SUM(INDIRECT(ADDRESS(ROW()-1,8)),F136,-G136)),\"\")","v":348},null,85,{"$f":"IF(A136<>\"\",IF(INDIRECT(ADDRESS(ROW()-1,11))=\"\",SUM(INDIRECT(ADDRESS(ROW()-2,11)),I136,-J136),SUM(INDIRECT(ADDRESS(ROW()-1,11)),I136,-J136)),\"\")","v":697.12},"S.04.01",85]
[12,10,3,2022,"Spesa rapportata al consumo",null,null,{"$f":"IF(A137<>\"\",IF(INDIRECT(ADDRESS(ROW()-1,8))=\"\",SUM(INDIRECT(ADDRESS(ROW()-2,8)),F137,-G137),SUM(INDIRECT(ADDRESS(ROW()-1,8)),F137,-G137)),\"\")","v":348},null,315,{"$f":"IF(A137<>\"\",IF(INDIRECT(ADDRESS(ROW()-1,11))=\"\",ROUND(SUM(INDIRECT(ADDRESS(ROW()-2,11)),I137,-J137),2),ROUND(SUM(INDIRECT(ADDRESS(ROW()-1,11)),I137,-J137),2)),\"\")","v":382.12},null,{"$f":"IF(LEN(L137)>0,F137+G137+I137+J137,\"\")","v":""}]
[12,10,3,2022,"pagamento bolletta ITALGAS n. 8852555 (spesa volontaria pari al 75% della spesa totale)",null,null,{"$f":"IF(A138<>\"\",IF(INDIRECT(ADDRESS(ROW()-1,8))=\"\",SUM(INDIRECT(ADDRESS(ROW()-2,8)),F138,-G138),SUM(INDIRECT(ADDRESS(ROW()-1,8)),F138,-G138)),\"\")","v":348},null,null,{"$f":"IF(A138<>\"\",IF(INDIRECT(ADDRESS(ROW()-1,11))=\"\",SUM(INDIRECT(ADDRESS(ROW()-2,11)),I138,-J138),SUM(INDIRECT(ADDRESS(ROW()-1,11)),I138,-J138)),\"\")","v":382.12},"S.04.03",315]
[13,20,3,2022,"Pagamento per pulizia lacale caldaia",null,null,{"$f":"IF(A139<>\"\",IF(INDIRECT(ADDRESS(ROW()-1,8))=\"\",SUM(INDIRECT(ADDRESS(ROW()-2,8)),F139,-G139),SUM(INDIRECT(ADDRESS(ROW()-1,8)),F139,-G139)),\"\")","v":348},null,60,{"$f":"IF(A139<>\"\",IF(INDIRECT(ADDRESS(ROW()-1,11))=\"\",SUM(INDIRECT(ADDRESS(ROW()-2,11)),I139,-J139),SUM(INDIRECT(ADDRESS(ROW()-1,11)),I139,-J139)),\"\")","v":322.12},null,{"$f":"IF(LEN(L139)>0,F139+G139+I139+J139,\"\")","v":""}]
[13,20,3,2022,"Pagamento fattura 121/22 a SAMUELE Saverio",null,null,348,null,null,322.12,"S.02.01",60]
[13,20,3,2022,"Registrazione Fiscale - Imponibile mod 770: F-01 # Fattura # 121/22 # 11-03-2022 # 00",null,null,348,null,null,322.12,"H.P00.01",60]
[14,21,3,2022,"Pagamento fattura 11/22 Consulente fiscale",null,null,348,null,66.89,255.23000000000002,"S.01.04",80]
[14,21,3,2022,"Registrazione Fiscale - Imponibile mod 770: F-06 # Fattura # 11/22 # 12/03/2022 # 00",null,null,348,null,null,255.23000000000002,"H.P20.06",65.573770491803273]
[14,21,3,2022,"Si origina debito v/s ERARIO # R.A. su Fattura  n. 11/22 del 12/03/2022 di Consulente Fiscale # 13 # A-01 # 21-03-2022",null,null,348,null,null,255.23000000000002,"D.03.01.22",13.114754098360654]
[15,22,3,2022,"CONDOMINO03 # Versamento tramite bonifico a saldo Conguaglio 2019-2020",null,null,{"$f":"IF(A145<>\"\",IF(INDIRECT(ADDRESS(ROW()-1,8))=\"\",ROUND(SUM(INDIRECT(ADDRESS(ROW()-2,8)),F145,-G145),2),ROUND(SUM(INDIRECT(ADDRESS(ROW()-1,8)),F145,-G145),2)),\"\")","v":348},133.72999999999999,null,{"$f":"IF(A145<>\"\",IF(INDIRECT(ADDRESS(ROW()-1,11))=\"\",ROUND(SUM(INDIRECT(ADDRESS(ROW()-2,11)),I145,-J145),2),ROUND(SUM(INDIRECT(ADDRESS(ROW()-1,11)),I145,-J145),2)),\"\")","v":388.96},"Q.02.03",{"$f":"IF(LEN(L145)>0,F145+G145+I145+J145,\"\")","v":133.72999999999999}]
[15,22,3,2022,"CONDOMINO03 # Versamento tramite bonifico in conto quota esercizio in corso (2021-2022)",null,null,348,66.27000000000001,null,455.23,"Q.01.03",66.27000000000001]
[16,23,3,2022,"CONDOMINO04 S.R.L. # Versamento tramite bonifico a saldo Arretrato Esercizio 2018-2019",null,null,348,129.27000000000001,null,584.5,"Q.03.04",129.27000000000001]
[16,23,3,2022,"CONDOMINO04 S.R.L. # Versamento tramite bonifico in conto Conguaglio 2019-2020",null,null,348,120.72999999999999,null,705.23,"Q.02.04",120.72999999999999]
[17,25,3,2022,"CONDOMINO05 # Versamento in contanti in conto quota esercizio in corso (2021-2022)",80,null,428,null,null,705.23,"Q.01.05",80]
[18,24,3,2022,"CONDOMINO06 # Versamento tramite bonifico a saldo Arretrato Esercizio 2018-2019",null,null,428,275.60000000000002,null,980.83,"Q.03.06",275.60000000000002]
[18,24,3,2022,"CONDOMINO06 # Versamento tramite bonifico in conto Conguaglio 2019-2020",null,null,428,24.399999999999977,null,1005.23,"Q.02.06",24.399999999999977]
[19,24,3,2022,"CONDOMINO07 # Versamento in contanti in conto quota esercizio in corso (2021-2022)",90,null,518,null,null,1005.23,"Q.01.07",90]
[20,25,3,2022,"EREDI CONDOMINO08 # Versamento tramite bonifico in conto quota esercizio in corso (2021-2022)",null,null,518,300,null,1305.23,"Q.01.08",300]
[21,26,3,2022,"CONDOMINO09 S.R.L. # Versamento tramite bonifico in conto quota esercizio in corso (2021-2022)",null,null,518,120,null,1425.23,"Q.01.09",120]
[22,27,3,2022,"CONDOMINO11 # Versamento con assegno in conto quota esercizio in corso (2021-2022)",125,null,{"$f":"IF(A155<>\"\",IF(INDIRECT(ADDRESS(ROW()-1,8))=\"\",SUM(INDIRECT(ADDRESS(ROW()-2,8)),F155,-G155),SUM(INDIRECT(ADDRESS(ROW()-1,8)),F155,-G155)),\"\")","v":643},null,null,{"$f":"IF(A155<>\"\",IF(INDIRECT(ADDRESS(ROW()-1,11))=\"\",SUM(INDIRECT(ADDRESS(ROW()-2,11)),I155,-J155),SUM(INDIRECT(ADDRESS(ROW()-1,11)),I155,-J155)),\"\")","v":1425.23},"Q.01.11",125]
[23,27,3,2022,"CONDOMINO12 # Versamento tramite bonifico in conto quota esercizio in corso (2021-2022)",null,null,{"$f":"IF(A156<>\"\",IF(INDIRECT(ADDRESS(ROW()-1,8))=\"\",ROUND(SUM(INDIRECT(ADDRESS(ROW()-2,8)),F156,-G156),2),ROUND(SUM(INDIRECT(ADDRESS(ROW()-1,8)),F156,-G156),2)),\"\")","v":643},150,null,{"$f":"IF(A156<>\"\",IF(INDIRECT(ADDRESS(ROW()-1,11))=\"\",ROUND(SUM(INDIRECT(ADDRESS(ROW()-2,11)),I156,-J156),2),ROUND(SUM(INDIRECT(ADDRESS(ROW()-1,11)),I156,-J156),2)),\"\")","v":1575.23},"Q.01.12",150]
[24,28,3,2022,"CONDOMINO14 # Versamento in contanti in conto quota esercizio in corso (2021-2022)",200,null,843,null,null,1575.23,"Q.01.14",200]
[25,29,3,2022,"CONDOMINO17 # Versamento tramite bonifico a saldo Conguaglio 2019-2020",null,null,843,130.56,null,1705.79,"Q.02.17",130.56]
[25,29,3,2022,"CONDOMINO17 # Versamento tramite bonifico in conto quota esercizio in corso (2021-2022)",null,null,843,119.44,null,1825.23,"Q.01.17",119.44]
[26,29,3,2022,"CONDOMINO22 # Versamento tramite bonifico in conto quota esercizio in corso (2021-2022)",null,null,843,130,null,1955.23,"Q.01.22",130]
[27,30,3,2022,"INQUILINO1 # Versamento in contanti in conto quota esercizio in corso (2021-2022)",110,null,953,null,null,1955.23,"Q.01.24",110]
[28,30,3,2022,"INQUILINO4 # Versamento tramite bonifico in conto quota esercizio in corso (2021-2022)",null,null,953,320,null,2275.23,"Q.01.27",320]
[29,31,3,2022,"INQUILINO5 # Versamento in contanti in conto quota esercizio in corso (2021-2022)",20,null,973,null,null,2275.23,"Q.01.28",20]
[30,31,3,2022,"CONDOMINO15 # Versamento tramite bonifico a saldo Arretrato Esercizio 2018-2019",null,null,973,207.54,null,2482.77,"Q.03.15",207.54]
[30,31,3,2022,"CONDOMINO15 # Versamento tramite bonifico in conto Conguaglio 2019-2020",null,null,973,192.46,null,2675.23,"Q.02.15",192.46]
[31,31,3,2022,"CONDOMINO01 # Versamento in contanti in conto quota esercizio in corso (2021-2022)",52.38,null,1025.3800000000001,null,null,2675.23,"Q.01.01",52.38]
[32,1,4,2022,"CONDOMINO02 # Versamento in contanti in conto quota esercizio in corso (2021-2022)",4.9000000000000004,null,1030.28,null,null,2675.23,"Q.01.02",4.9000000000000004]
[33,1,4,2022,"CONDOMINO03 # Versamento tramite bonifico in conto quota esercizio in corso (2021-2022)",null,null,1030.28,180,null,2855.23,"Q.01.03",180]
[34,2,4,2022,"Giroconto di disponibilità liquide: da CASSA CONTANTI ----> a BANCA",null,1000,30.28,1000,null,3855.23,null,{"$f":"IF(LEN(L169)>0,F169+G169+I169+J169,\"\")","v":""}]
[null,null,null,null,null,null,null,"",null,null,"",null,""]
[null,null,null,null,null,null,null,"",null,null,"",null,""]
[null,null,null,null,null,null,null,"",null,null,"",null,""]
[null,null,null,null,null,null,null,"",null,null,"",null,""]
[null,null,null,null,null,null,null,"",null,null,"",null,""]
[null,null,null,null,null,null,null,"",null,null,"",null,""]
[null,null,null,null,null,null,null,"",null,null,"",null,""]
[null,null,null,null,null,null,null,"",null,null,"",null,""]
[null,null,null,null,null,null,null,"",null,null,"",null,""]
[null,null,null,null,null,null,null,"",null,null,"",null,""]
[null,null,null,null,null,null,null,"",null,null,"",null,""]
[null,null,null,null,null,null,null,"",null,null,"",null,""]
[null,null,null,null,null,null,null,"",null,null,"",null,""]
[null,null,null,null,null,null,null,"",null,null,"",null,""]
[null,null,null,null,null,null,null,"",null,null,"",null,""]
[null,null,null,null,null,null,null,"",null,null,"",null,""]
[null,null,null,null,null,null,null,"",null,null,"",null,""]
[null,null,null,null,null,null,null,"",null,null,"",null,{"$f":"IF(LEN(L187)>0,F187+G187+I187+J187,\"\")","v":""}]
[null,null,null,null,null,null,null,"",null,null,"",null,""]
[null,null,null,null,null,null,null,"",null,null,"",null,""]
[null,null,null,null,null,null,null,"",null,null,"",null,""]
[null,null,null,null,null,null,null,"",null,null,"",null,""]
[null,null,null,null,null,null,null,"",null,null,"",null,""]
[null,null,null,null,null,null,null,"",null,null,"",null,""]
[null,null,null,null,null,null,null,"",null,null,"",null,""]
[null,null,null,null,null,null,null,"",null,null,"",null,""]
[null,null,null,null,null,null,null,"",null,null,"",null,""]
[null,null,null,null,null,null,null,"",null,null,"",null,""]
[null,null,null,null,null,null,null,"",null,null,"",null,""]
[null,null,null,null,null,null,null,"",null,null,"",null,""]
[null,null,null,null,null,null,null,"",null,null,"",null,""]
[null,null,null,null,null,null,null,"",null,null,"",null,""]
[null,null,null,null,null,null,null,"",null,null,"",null,""]
[null,null,null,null,null,null,null,"",null,null,"",null,""]
[null,null,null,null,null,null,null,"",null,null,"",null,""]
[null,null,null,null,null,null,null,"",null,null,"",null,""]
[null,null,null,null,null,null,null,"",null,null,"",null,""]
[null,null,null,null,null,null,null,"",null,null,"",null,""]
[null,null,null,null,null,null,null,"",null,null,"",null,""]
[null,null,null,null,null,null,null,"",null,null,"",null,""]
[null,null,null,null,null,null,null,"",null,null,"",null,""]
[null,null,null,null,null,null,null,"",null,null,"",null,""]
[null,null,null,null,null,null,null,"",null,null,"",null,""]
[null,null,null,null,null,null,null,"",null,null,"",null,""]
[null,null,null,null,null,null,null,"",null,null,"",null,""]
[null,null,null,null,null,null,null,"",null,null,"",null,""]
[null,null,null,null,null,null,null,"",null,null,"",null,""]
[null,null,null,null,null,null,null,"",null,null,"",null,""]
[null,null,null,null,null,null,null,"",null,null,"",null,""]
[null,null,null,null,null,null,null,"",null,null,"",null,""]
[null,null,null,null,null,null,null,{"$f":"IF(A220<>\"\",IF(INDIRECT(ADDRESS(ROW()-1,8))=\"\",ROUND(SUM(INDIRECT(ADDRESS(ROW()-2,8)),F220,-G220),2),ROUND(SUM(INDIRECT(ADDRESS(ROW()-1,8)),F220,-G220),2)),\"\")","v":""},null,null,"",null,""]
[null,null,null,null,null,null,null,"",null,null,{"$f":"IF(A221<>\"\",IF(INDIRECT(ADDRESS(ROW()-1,11))=\"\",ROUND(SUM(INDIRECT(ADDRESS(ROW()-2,11)),I221,-J221),2),ROUND(SUM(INDIRECT(ADDRESS(ROW()-1,11)),I221,-J221),2)),\"\")","v":""},null,""]
[null,null,null,null,null,null,null,"",null,null,"",null,""]
[null,null,null,null,null,null,null,"",null,null,"",null,""]
[null,null,null,null,null,null,null,"",null,null,"",null,""]
[null,null,null,null,null,null,null,"",null,null,"",null,""]
[null,null,null,null,null,null,null,"",null,null,"",null,""]
[null,null,null,null,null,null,null,"",null,null,"",null,""]
[null,null,null,null,null,null,null,"",null,null,"",null,""]
[null,null,null,null,null,null,null,"",null,null,"",null,""]
[null,null,null,null,null,null,null,"",null,null,"",null,""]
[null,null,null,null,null,null,null,"",null,null,"",null,""]
[null,null,null,null,null,null,null,"",null,null,"",null,""]
[null,null,null,null,null,null,null,"",null,null,"",null,""]
[null,null,null,null,null,null,null,"",null,null,"",null,""]
[null,null,null,null,null,null,null,"",null,null,"",null,""]
[null,null,null,null,null,null,null,"",null,null,"",null,""]
[null,null,null,null,null,null,null,"",null,null,"",null,""]
[null,null,null,null,null,null,null,"",null,null,"",null,""]
[null,null,null,null,null,null,null,"",null,null,"",null,""]
[null,null,null,null,null,null,null,"",null,null,"",null,""]
[null,null,null,null,null,null,null,"",null,null,"",null,""]
[null,null,null,null,null,null,null,"",null,null,"",null,""]
[null,null,null,null,null,null,null,"",null,null,"",null,""]
[null,null,null,null,null,null,null,"",null,null,"",null,""]
[null,null,null,null,null,null,null,"",null,null,"",null,""]
[null,null,null,null,null,null,null,"",null,null,"",null,""]
[null,null,null,null,null,null,null,"",null,null,"",null,""]
[null,null,null,null,null,null,null,"",null,null,"",null,""]
[null,null,null,null,null,null,null,"",null,null,"",null,""]
[null,null,null,null,null,null,null,"",null,null,"",null,{"$f":"IF(LEN(L250)>0,F250+G250+I250+J250,\"\")","v":""}]
[null,null,null,null,null,null,null,"",null,null,"",null,""]
[null,null,null,null,null,null,null,"",null,null,"",null,""]
[null,null,null,null,null,null,null,"",null,null,"",null,""]
[null,null,null,null,null,null,null,"",null,null,"",null,""]
[null,null,null,null,null,null,null,"",null,null,"",null,""]
[null,null,null,null,null,null,null,"",null,null,"",null,""]
[null,null,null,null,null,null,null,"",null,null,"",null,""]
[null,null,null,null,null,null,null,"",null,null,"",null,""]
[null,null,null,null,null,null,null,"",null,null,"",null,""]
[null,null,null,null,null,null,null,"",null,null,"",null,""]
[null,null,null,null,null,null,null,"",null,null,"",null,""]
[null,null,null,null,null,null,null,"",null,null,"",null,""]
[null,null,null,null,null,null,null,"",null,null,"",null,""]
[null,null,null,null,null,null,null,"",null,null,"",null,""]
[null,null,null,null,null,null,null,"",null,null,"",null,""]
[null,null,null,null,null,null,null,"",null,null,"",null,""]
[null,null,null,null,null,null,null,"",null,null,"",null,""]
[null,null,null,null,null,null,null,"",null,null,"",null,""]
[null,null,null,null,null,null,null,"",null,null,"",null,""]
[null,null,null,null,null,null,null,"",null,null,"",null,""]
[null,null,null,null,null,null,null,"",null,null,"",null,""]
[null,null,null,null,null,null,null,"",null,null,"",null,""]
[null,null,null,null,null,null,null,"",null,null,"",null,""]
[null,null,null,null,null,null,null,"",null,null,"",null,""]
[null,null,null,null,null,null,null,"",null,null,"",null,""]
[null,null,null,null,null,null,null,"",null,null,"",null,""]
[null,null,null,null,null,null,null,"",null,null,"",null,""]
[null,null,null,null,null,null,null,"",null,null,"",null,""]
[null,null,null,null,null,null,null,"",null,null,"",null,""]
[null,null,null,null,null,null,null,"",null,null,"",null,""]
[null,null,null,null,null,null,null,"",null,null,"",null,""]
[null,null,null,null,null,null,null,"",null,null,"",null,""]
[null,null,null,null,null,null,null,"",null,null,"",null,""]
[null,null,null,null,null,null,null,{"$f":"IF(A284<>\"\",IF(INDIRECT(ADDRESS(ROW()-1,8))=\"\",ROUND(SUM(INDIRECT(ADDRESS(ROW()-2,8)),F284,-G284),2),ROUND(SUM(INDIRECT(ADDRESS(ROW()-1,8)),F284,-G284),2)),\"\")","v":""},null,null,"",null,""]
[null,null,null,null,null,null,null,"",null,null,{"$f":"IF(A285<>\"\",IF(INDIRECT(ADDRESS(ROW()-1,11))=\"\",ROUND(SUM(INDIRECT(ADDRESS(ROW()-2,11)),I285,-J285),2),ROUND(SUM(INDIRECT(ADDRESS(ROW()-1,11)),I285,-J285),2)),\"\")","v":""},null,""]
[null,null,null,null,null,null,null,"",null,null,"",null,""]
[null,null,null,null,null,null,null,"",null,null,"",null,""]
[null,null,null,null,null,null,null,"",null,null,"",null,{"$f":"IF(LEN(L288)>0,F288+G288+I288+J288,\"\")","v":""}]
[null,null,null,null,null,null,null,"",null,null,"",null,""]
[null,null,null,null,null,null,null,"",null,null,"",null,""]
[null,null,null,null,null,null,null,"",null,null,"",null,""]
[null,null,null,null,null,null,null,"",null,null,"",null,""]
[null,null,null,null,null,null,null,"",null,null,"",null,""]
[null,null,null,null,null,null,null,"",null,null,"",null,""]
[null,null,null,null,null,null,null,"",null,null,"",null,""]
[null,null,null,null,null,null,null,"",null,null,"",null,""]
[null,null,null,null,null,null,null,"",null,null,"",null,""]
[null,null,null,null,null,null,null,"",null,null,"",null,""]
[null,null,null,null,null,null,null,"",null,null,"",null,""]
[null,null,null,null,null,null,null,"",null,null,"",null,""]
[null,null,null,null,null,null,null,"",null,null,"",null,""]
[null,null,null,null,null,null,null,"",null,null,"",null,""]
[null,null,null,null,null,null,null,"",null,null,"",null,""]
[null,null,null,null,null,null,null,"",null,null,"",null,""]
[null,null,null,null,null,null,null,"",null,null,"",null,""]
[null,null,null,null,null,null,null,"",null,null,"",null,""]
[null,null,null,null,null,null,null,"",null,null,"",null,""]
[null,null,null,null,null,null,null,"",null,null,"",null,""]
[null,null,null,null,null,null,null,"",null,null,"",null,""]
[null,null,null,null,null,null,null,"",null,null,"",null,""]
[null,null,null,null,null,null,null,"",null,null,"",null,""]
[null,null,null,null,null,null,null,"",null,null,"",null,""]
[null,null,null,null,null,null,null,"",null,null,"",null,""]
[null,null,null,null,null,null,null,"",null,null,"",null,""]
[null,null,null,null,null,null,null,"",null,null,"",null,""]
[null,null,null,null,null,null,null,"",null,null,"",null,""]
[null,null,null,null,null,null,null,"",null,null,"",null,""]
[null,null,null,null,null,null,null,"",null,null,"",null,""]
[null,null,null,null,null,null,null,"",null,null,"",null,""]
[null,null,null,null,null,null,null,"",null,null,"",null,""]
[null,null,null,null,null,null,null,"",null,null,"",null,""]
[null,null,null,null,null,null,null,"",null,null,"",null,""]
[null,null,null,null,null,null,null,"",null,null,"",null,""]
[null,null,null,null,null,null,null,"",null,null,"",null,""]
[null,null,null,null,null,null,null,"",null,null,"",null,""]
[null,null,null,null,null,null,null,"",null,null,"",null,""]
[null,null,null,null,null,null,null,"",null,null,"",null,""]
[null,null,null,null,null,null,null,"",null,null,"",null,""]
[null,null,null,null,null,null,null,"",null,null,"",null,""]
[null,null,null,null,null,null,null,"",null,null,"",null,""]
[null,null,null,null,null,null,null,"",null,null,"",null,""]
[null,null,null,null,null,null,null,"",null,null,"",null,""]
[null,null,null,null,null,null,null,"",null,null,"",null,""]
[null,null,null,null,null,null,null,"",null,null,"",null,""]
[null,null,null,null,null,null,null,"",null,null,"",null,""]
[null,null,null,null,null,null,null,"",null,null,"",null,""]
[null,null,null,null,null,null,null,"",null,null,"",null,""]
[null,null,null,null,null,null,null,"",null,null,"",null,""]
[null,null,null,null,null,null,null,"",null,null,"",null,""]
[null,null,null,null,null,null,null,"",null,null,"",null,""]
[null,null,null,null,null,null,null,"",null,null,"",null,""]
[null,null,null,null,null,null,null,"",null,null,"",null,""]
[null,null,null,null,null,null,null,"",null,null,"",null,""]
[null,null,null,null,null,null,null,"",null,null,"",null,""]
[null,null,null,null,null,null,null,"",null,null,"",null,""]
[null,null,null,null,null,null,null,"",null,null,"",null,""]
[null,null,null,null,null,null,null,"",null,null,"",null,""]
[null,null,null,null,null,null,null,{"$f":"IF(A348<>\"\",IF(INDIRECT(ADDRESS(ROW()-1,8))=\"\",ROUND(SUM(INDIRECT(ADDRESS(ROW()-2,8)),F348,-G348),2),ROUND(SUM(INDIRECT(ADDRESS(ROW()-1,8)),F348,-G348),2)),\"\")","v":""},null,null,"",null,""]
[null,null,null,null,null,null,null,"",null,null,{"$f":"IF(A349<>\"\",IF(INDIRECT(ADDRESS(ROW()-1,11))=\"\",ROUND(SUM(INDIRECT(ADDRESS(ROW()-2,11)),I349,-J349),2),ROUND(SUM(INDIRECT(ADDRESS(ROW()-1,11)),I349,-J349),2)),\"\")","v":""},null,""]
[null,null,null,null,null,null,null,"",null,null,"",null,""]
[null,null,null,null,null,null,null,"",null,null,"",null,""]
[null,null,null,null,null,null,null,"",null,null,"",null,{"$f":"IF(LEN(L352)>0,F352+G352+I352+J352,\"\")","v":""}]
[null,null,null,null,null,null,null,"",null,null,"",null,""]
[null,null,null,null,null,null,null,"",null,null,"",null,""]
[null,null,null,null,null,null,null,"",null,null,"",null,""]
[null,null,null,null,null,null,null,"",null,null,"",null,""]
[null,null,null,null,null,null,null,"",null,null,"",null,""]
[null,null,null,null,null,null,null,"",null,null,"",null,""]
[null,null,null,null,null,null,null,"",null,null,"",null,""]
[null,null,null,null,null,null,null,"",null,null,"",null,""]
[null,null,null,null,null,null,null,"",null,null,"",null,""]
[null,null,null,null,null,null,null,"",null,null,"",null,""]
[null,null,null,null,null,null,null,"",null,null,"",null,""]
[null,null,null,null,null,null,null,"",null,null,"",null,""]
[null,null,null,null,null,null,null,"",null,null,"",null,""]
[null,null,null,null,null,null,null,"",null,null,"",null,""]
[null,null,null,null,null,null,null,"",null,null,"",null,""]
[null,null,null,null,null,null,null,"",null,null,"",null,""]
[null,null,null,null,null,null,null,"",null,null,"",null,""]
[null,null,null,null,null,null,null,"",null,null,"",null,""]
[null,null,null,null,null,null,null,"",null,null,"",null,""]
[null,null,null,null,null,null,null,"",null,null,"",null,""]
[null,null,null,null,null,null,null,"",null,null,"",null,""]
[null,null,null,null,null,null,null,"",null,null,"",null,""]
[null,null,null,null,null,null,null,"",null,null,"",null,""]
[null,null,null,null,null,null,null,"",null,null,"",null,""]
[null,null,null,null,null,null,null,"",null,null,"",null,""]
[null,null,null,null,null,null,null,"",null,null,"",null,""]
[null,null,null,null,null,null,null,"",null,null,"",null,""]
[null,null,null,null,null,null,null,"",null,null,"",null,""]
[null,null,null,null,null,null,null,"",null,null,"",null,""]
[null,null,null,null,null,null,null,"",null,null,"",null,""]
[null,null,null,null,null,null,null,"",null,null,"",null,""]
[null,null,null,null,null,null,null,"",null,null,"",null,""]
[null,null,null,null,null,null,null,"",null,null,"",null,""]
[null,null,null,null,null,null,null,"",null,null,"",null,""]
[null,null,null,null,null,null,null,"",null,null,"",null,""]
[null,null,null,null,null,null,null,"",null,null,"",null,""]
[null,null,null,null,null,null,null,"",null,null,"",null,""]
[null,null,null,null,null,null,null,"",null,null,"",null,""]
[null,null,null,null,null,null,null,"",null,null,"",null,""]
[null,null,null,null,null,null,null,"",null,null,"",null,""]
[null,null,null,null,null,null,null,"",null,null,"",null,""]
[null,null,null,null,null,null,null,"",null,null,"",null,""]
[null,null,null,null,null,null,null,"",null,null,"",null,""]
[null,null,null,null,null,null,null,"",null,null,"",null,""]
[null,null,null,null,null,null,null,"",null,null,"",null,""]
[null,null,null,null,null,null,null,"",null,null,"",null,""]
[null,null,null,null,null,null,null,"",null,null,"",null,""]
[null,null,null,null,null,null,null,"",null,null,"",null,""]
[null,null,null,null,null,null,null,"",null,null,"",null,""]
[null,null,null,null,null,null,null,"",null,null,"",null,""]
[null,null,null,null,null,null,null,"",null,null,"",null,""]
[null,null,null,null,null,null,null,"",null,null,"",null,""]
[null,null,null,null,null,null,null,"",null,null,"",null,""]
[null,null,null,null,null,null,null,"",null,null,"",null,""]
[null,null,null,null,null,null,null,"",null,null,"",null,""]
[null,null,null,null,null,null,null,"",null,null,"",null,""]
[null,null,null,null,null,null,null,"",null,null,"",null,""]
[null,null,null,null,null,null,null,"",null,null,"",null,""]
[null,null,null,null,null,null,null,"",null,null,"",null,""]
[null,null,null,null,null,null,null,{"$f":"IF(A412<>\"\",IF(INDIRECT(ADDRESS(ROW()-1,8))=\"\",ROUND(SUM(INDIRECT(ADDRESS(ROW()-2,8)),F412,-G412),2),ROUND(SUM(INDIRECT(ADDRESS(ROW()-1,8)),F412,-G412),2)),\"\")","v":""},null,null,"",null,""]
[null,null,null,null,null,null,null,"",null,null,{"$f":"IF(A413<>\"\",IF(INDIRECT(ADDRESS(ROW()-1,11))=\"\",ROUND(SUM(INDIRECT(ADDRESS(ROW()-2,11)),I413,-J413),2),ROUND(SUM(INDIRECT(ADDRESS(ROW()-1,11)),I413,-J413),2)),\"\")","v":""},null,""]
[null,null,null,null,null,null,null,"",null,null,"",null,""]
[null,null,null,null,null,null,null,"",null,null,"",null,""]
[null,null,null,null,null,null,null,"",null,null,"",null,{"$f":"IF(LEN(L416)>0,F416+G416+I416+J416,\"\")","v":""}]
[null,null,null,null,null,null,null,"",null,null,"",null,""]
[null,null,null,null,null,null,null,"",null,null,"",null,""]
[null,null,null,null,null,null,null,"",null,null,"",null,""]
[null,null,null,null,null,null,null,"",null,null,"",null,""]
[null,null,null,null,null,null,null,"",null,null,"",null,""]
[null,null,null,null,null,null,null,"",null,null,"",null,""]
[null,null,null,null,null,null,null,"",null,null,"",null,""]
[null,null,null,null,null,null,null,"",null,null,"",null,""]
[null,null,null,null,null,null,null,"",null,null,"",null,""]
[null,null,null,null,null,null,null,"",null,null,"",null,""]
[null,null,null,null,null,null,null,"",null,null,"",null,""]
[null,null,null,null,null,null,null,"",null,null,"",null,""]
[null,null,null,null,null,null,null,"",null,null,"",null,""]
[null,null,null,null,null,null,null,"",null,null,"",null,""]
[null,null,null,null,null,null,null,"",null,null,"",null,""]
[null,null,null,null,null,null,null,"",null,null,"",null,""]
[null,null,null,null,null,null,null,"",null,null,"",null,""]
[null,null,null,null,null,null,null,"",null,null,"",null,""]
[null,null,null,null,null,null,null,"",null,null,"",null,""]
[null,null,null,null,null,null,null,"",null,null,"",null,""]
[null,null,null,null,null,null,null,"",null,null,"",null,""]
[null,null,null,null,null,null,null,"",null,null,"",null,""]
[null,null,null,null,null,null,null,"",null,null,"",null,""]
[null,null,null,null,null,null,null,"",null,null,"",null,""]
[null,null,null,null,null,null,null,"",null,null,"",null,""]
[null,null,null,null,null,null,null,"",null,null,"",null,""]
[null,null,null,null,null,null,null,"",null,null,"",null,""]
[null,null,null,null,null,null,null,"",null,null,"",null,""]
[null,null,null,null,null,null,null,"",null,null,"",null,""]
[null,null,null,null,null,null,null,"",null,null,"",null,""]
[null,null,null,null,null,null,null,"",null,null,"",null,""]
[null,null,null,null,null,null,null,"",null,null,"",null,""]
[null,null,null,null,null,null,null,"",null,null,"",null,""]
[null,null,null,null,null,null,null,"",null,null,"",null,""]
[null,null,null,null,null,null,null,"",null,null,"",null,""]
[null,null,null,null,null,null,null,"",null,null,"",null,""]
[null,null,null,null,null,null,null,"",null,null,"",null,""]
[null,null,null,null,null,null,null,"",null,null,"",null,""]
[null,null,null,null,null,null,null,"",null,null,"",null,""]
[null,null,null,null,null,null,null,"",null,null,"",null,""]
[null,null,null,null,null,null,null,"",null,null,"",null,""]
[null,null,null,null,null,null,null,"",null,null,"",null,""]
[null,null,null,null,null,null,null,"",null,null,"",null,""]
[null,null,null,null,null,null,null,"",null,null,"",null,""]
[null,null,null,null,null,null,null,"",null,null,"",null,""]
[null,null,null,null,null,null,null,"",null,null,"",null,""]
[null,null,null,null,null,null,null,"",null,null,"",null,""]
[null,null,null,null,null,null,null,"",null,null,"",null,""]
[null,null,null,null,null,null,null,"",null,null,"",null,""]
[null,null,null,null,null,null,null,"",null,null,"",null,""]
[null,null,null,null,null,null,null,"",null,null,"",null,""]
[null,null,null,null,null,null,null,"",null,null,"",null,""]
[null,null,null,null,null,null,null,"",null,null,"",null,""]
[null,null,null,null,null,null,null,"",null,null,"",null,""]
[null,null,null,null,null,null,null,"",null,null,"",null,""]
[null,null,null,null,null,null,null,"",null,null,"",null,""]
[null,null,null,null,null,null,null,"",null,null,"",null,""]
[null,null,null,null,null,null,null,"",null,null,"",null,""]
[null,null,null,null,null,null,null,"",null,null,"",null,""]
[null,null,null,null,null,null,null,{"$f":"IF(A476<>\"\",IF(INDIRECT(ADDRESS(ROW()-1,8))=\"\",ROUND(SUM(INDIRECT(ADDRESS(ROW()-2,8)),F476,-G476),2),ROUND(SUM(INDIRECT(ADDRESS(ROW()-1,8)),F476,-G476),2)),\"\")","v":""},null,null,"",null,""]
[null,null,null,null,null,null,null,"",null,null,{"$f":"IF(A477<>\"\",IF(INDIRECT(ADDRESS(ROW()-1,11))=\"\",ROUND(SUM(INDIRECT(ADDRESS(ROW()-2,11)),I477,-J477),2),ROUND(SUM(INDIRECT(ADDRESS(ROW()-1,11)),I477,-J477),2)),\"\")","v":""},null,""]
[null,null,null,null,null,null,null,"",null,null,"",null,""]
[null,null,null,null,null,null,null,"",null,null,"",null,""]
[null,null,null,null,null,null,null,"",null,null,"",null,{"$f":"IF(LEN(L480)>0,F480+G480+I480+J480,\"\")","v":""}]
[null,null,null,null,null,null,null,"",null,null,"",null,""]
[null,null,null,null,null,null,null,"",null,null,"",null,""]
[null,null,null,null,null,null,null,"",null,null,"",null,""]
[null,null,null,null,null,null,null,"",null,null,"",null,""]
[null,null,null,null,null,null,null,"",null,null,"",null,""]
[null,null,null,null,null,null,null,"",null,null,"",null,""]
[null,null,null,null,null,null,null,"",null,null,"",null,""]
[null,null,null,null,null,null,null,"",null,null,"",null,""]
[null,null,null,null,null,null,null,"",null,null,"",null,""]
[null,null,null,null,null,null,null,"",null,null,"",null,""]
[null,null,null,null,null,null,null,"",null,null,"",null,""]
[null,null,null,null,null,null,null,"",null,null,"",null,""]
[null,null,null,null,null,null,null,"",null,null,"",null,""]
[null,null,null,null,null,null,null,"",null,null,"",null,""]
[null,null,null,null,null,null,null,"",null,null,"",null,""]
[null,null,null,null,null,null,null,"",null,null,"",null,""]
[null,null,null,null,null,null,null,"",null,null,"",null,""]
[null,null,null,null,null,null,null,"",null,null,"",null,""]
[null,null,null,null,null,null,null,"",null,null,"",null,""]
[null,null,null,null,null,null,null,"",null,null,"",null,""]
[null,null,null,null,null,null,null,"",null,null,"",null,""]
[null,null,null,null,null,null,null,"",null,null,"",null,""]
[null,null,null,null,null,null,null,"",null,null,"",null,""]
[null,null,null,null,null,null,null,"",null,null,"",null,""]
[null,null,null,null,null,null,null,"",null,null,"",null,""]
[null,null,null,null,null,null,null,"",null,null,"",null,""]
[null,null,null,null,null,null,null,"",null,null,"",null,""]
[null,null,null,null,null,null,null,"",null,null,"",null,""]
[null,null,null,null,null,null,null,"",null,null,"",null,""]
[null,null,null,null,null,null,null,"",null,null,"",null,""]
[null,null,null,null,null,null,null,"",null,null,"",null,""]
[null,null,null,null,null,null,null,"",null,null,"",null,""]
[null,null,null,null,null,null,null,"",null,null,"",null,""]
[null,null,null,null,null,null,null,"",null,null,"",null,""]
[null,null,null,null,null,null,null,"",null,null,"",null,""]
[null,null,null,null,null,null,null,"",null,null,"",null,""]
[null,null,null,null,null,null,null,"",null,null,"",null,""]
[null,null,null,null,null,null,null,"",null,null,"",null,""]
[null,null,null,null,null,null,null,"",null,null,"",null,""]
[null,null,null,null,null,null,null,"",null,null,"",null,""]
[null,null,null,null,null,null,null,"",null,null,"",null,""]
[null,null,null,null,null,null,null,"",null,null,"",null,""]
[null,null,null,null,null,null,null,"",null,null,"",null,""]
[null,null,null,null,null,null,null,"",null,null,"",null,""]
[null,null,null,null,null,null,null,"",null,null,"",null,""]
[null,null,null,null,null,null,null,"",null,null,"",null,""]
[null,null,null,null,null,null,null,"",null,null,"",null,""]
[null,null,null,null,null,null,null,"",null,null,"",null,""]
[null,null,null,null,null,null,null,"",null,null,"",null,""]
[null,null,null,null,null,null,null,"",null,null,"",null,""]
[null,null,null,null,null,null,null,"",null,null,"",null,""]
[null,null,null,null,null,null,null,"",null,null,"",null,""]
[null,null,null,null,null,null,null,"",null,null,"",null,""]
[null,null,null,null,null,null,null,"",null,null,"",null,""]
[null,null,null,null,null,null,null,"",null,null,"",null,""]
[null,null,null,null,null,null,null,"",null,null,"",null,""]
[null,null,null,null,null,null,null,"",null,null,"",null,""]
[null,null,null,null,null,null,null,"",null,null,"",null,""]
[null,null,null,null,null,null,null,"",null,null,"",null,""]
[null,null,null,null,null,null,null,{"$f":"IF(A540<>\"\",IF(INDIRECT(ADDRESS(ROW()-1,8))=\"\",ROUND(SUM(INDIRECT(ADDRESS(ROW()-2,8)),F540,-G540),2),ROUND(SUM(INDIRECT(ADDRESS(ROW()-1,8)),F540,-G540),2)),\"\")","v":""},null,null,"",null,""]
[null,null,null,null,null,null,null,"",null,null,{"$f":"IF(A541<>\"\",IF(INDIRECT(ADDRESS(ROW()-1,11))=\"\",ROUND(SUM(INDIRECT(ADDRESS(ROW()-2,11)),I541,-J541),2),ROUND(SUM(INDIRECT(ADDRESS(ROW()-1,11)),I541,-J541),2)),\"\")","v":""},null,""]
[null,null,null,null,null,null,null,"",null,null,"",null,""]
[null,null,null,null,null,null,null,"",null,null,"",null,""]
[null,null,null,null,null,null,null,"",null,null,"",null,{"$f":"IF(LEN(L544)>0,F544+G544+I544+J544,\"\")","v":""}]
[null,null,null,null,null,null,null,"",null,null,"",null,""]
[null,null,null,null,null,null,null,"",null,null,"",null,""]
[null,null,null,null,null,null,null,"",null,null,"",null,""]
[null,null,null,null,null,null,null,"",null,null,"",null,""]
[null,null,null,null,null,null,null,"",null,null,"",null,""]
[null,null,null,null,null,null,null,"",null,null,"",null,""]
[null,null,null,null,null,null,null,"",null,null,"",null,""]
[null,null,null,null,null,null,null,"",null,null,"",null,""]
[null,null,null,null,null,null,null,"",null,null,"",null,""]
[null,null,null,null,null,null,null,"",null,null,"",null,""]
[null,null,null,null,null,null,null,"",null,null,"",null,""]
[null,null,null,null,null,null,null,"",null,null,"",null,""]
[null,null,null,null,null,null,null,"",null,null,"",null,""]
[null,null,null,null,null,null,null,"",null,null,"",null,""]
[null,null,null,null,null,null,null,"",null,null,"",null,""]
[null,null,null,null,null,null,null,"",null,null,"",null,""]
[null,null,null,null,null,null,null,"",null,null,"",null,""]
[null,null,null,null,null,null,null,"",null,null,"",null,""]
[null,null,null,null,null,null,null,"",null,null,"",null,""]
[null,null,null,null,null,null,null,"",null,null,"",null,""]
[null,null,null,null,null,null,null,"",null,null,"",null,""]
[null,null,null,null,null,null,null,"",null,null,"",null,""]
[null,null,null,null,null,null,null,"",null,null,"",null,""]
[null,null,null,null,null,null,null,"",null,null,"",null,""]
[null,null,null,null,null,null,null,"",null,null,"",null,""]
[null,null,null,null,null,null,null,"",null,null,"",null,""]
[null,null,null,null,null,null,null,"",null,null,"",null,""]
[null,null,null,null,null,null,null,"",null,null,"",null,""]
[null,null,null,null,null,null,null,"",null,null,"",null,""]
[null,null,null,null,null,null,null,"",null,null,"",null,""]
[null,null,null,null,null,null,null,"",null,null,"",null,""]
[null,null,null,null,null,null,null,"",null,null,"",null,""]
[null,null,null,null,null,null,null,"",null,null,"",null,""]
[null,null,null,null,null,null,null,"",null,null,"",null,""]
[null,null,null,null,null,null,null,"",null,null,"",null,""]
[null,null,null,null,null,null,null,"",null,null,"",null,""]
[null,null,null,null,null,null,null,"",null,null,"",null,""]
[null,null,null,null,null,null,null,"",null,null,"",null,""]
[null,null,null,null,null,null,null,"",null,null,"",null,""]
[null,null,null,null,null,null,null,"",null,null,"",null,""]
[null,null,null,null,null,null,null,"",null,null,"",null,""]
[null,null,null,null,null,null,null,"",null,null,"",null,""]
[null,null,null,null,null,null,null,"",null,null,"",null,""]
[null,null,null,null,null,null,null,"",null,null,"",null,""]
[null,null,null,null,null,null,null,"",null,null,"",null,""]
[null,null,null,null,null,null,null,"",null,null,"",null,""]
[null,null,null,null,null,null,null,"",null,null,"",null,""]
[null,null,null,null,null,null,null,"",null,null,"",null,""]
[null,null,null,null,null,null,null,"",null,null,"",null,""]
[null,null,null,null,null,null,null,"",null,null,"",null,""]
[null,null,null,null,null,null,null,"",null,null,"",null,""]
[null,null,null,null,null,null,null,"",null,null,"",null,""]
[null,null,null,null,null,null,null,"",null,null,"",null,""]
[null,null,null,null,null,null,null,"",null,null,"",null,""]
[null,null,null,null,null,null,null,"",null,null,"",null,""]
[null,null,null,null,null,null,null,"",null,null,"",null,""]
[null,null,null,null,null,null,null,"",null,null,"",null,""]
[null,null,null,null,null,null,null,"",null,null,"",null,""]
[null,null,null,null,null,null,null,"",null,null,"",null,""]
[null,null,null,null,null,null,null,{"$f":"IF(A604<>\"\",IF(INDIRECT(ADDRESS(ROW()-1,8))=\"\",ROUND(SUM(INDIRECT(ADDRESS(ROW()-2,8)),F604,-G604),2),ROUND(SUM(INDIRECT(ADDRESS(ROW()-1,8)),F604,-G604),2)),\"\")","v":""},null,null,"",null,""]
[null,null,null,null,null,null,null,"",null,null,{"$f":"IF(A605<>\"\",IF(INDIRECT(ADDRESS(ROW()-1,11))=\"\",ROUND(SUM(INDIRECT(ADDRESS(ROW()-2,11)),I605,-J605),2),ROUND(SUM(INDIRECT(ADDRESS(ROW()-1,11)),I605,-J605),2)),\"\")","v":""},null,""]
[null,null,null,null,null,null,null,"",null,null,"",null,""]
[null,null,null,null,null,null,null,"",null,null,"",null,""]
[null,null,null,null,null,null,null,"",null,null,"",null,{"$f":"IF(LEN(L608)>0,F608+G608+I608+J608,\"\")","v":""}]
[null,null,null,null,null,null,null,"",null,null,"",null,""]
[null,null,null,null,null,null,null,"",null,null,"",null,""]
[null,null,null,null,null,null,null,"",null,null,"",null,""]
[null,null,null,null,null,null,null,"",null,null,"",null,""]
[null,null,null,null,null,null,null,"",null,null,"",null,""]
[null,null,null,null,null,null,null,"",null,null,"",null,""]
[null,null,null,null,null,null,null,"",null,null,"",null,""]
[null,null,null,null,null,null,null,"",null,null,"",null,""]
[null,null,null,null,null,null,null,"",null,null,"",null,""]
[null,null,null,null,null,null,null,"",null,null,"",null,""]
[null,null,null,null,null,null,null,"",null,null,"",null,""]
[null,null,null,null,null,null,null,"",null,null,"",null,""]
[null,null,null,null,null,null,null,"",null,null,"",null,""]
[null,null,null,null,null,null,null,"",null,null,"",null,""]
[null,null,null,null,null,null,null,"",null,null,"",null,""]
[null,null,null,null,null,null,null,"",null,null,"",null,""]
[null,null,null,null,null,null,null,"",null,null,"",null,""]
[null,null,null,null,null,null,null,"",null,null,"",null,""]
[null,null,null,null,null,null,null,"",null,null,"",null,""]
[null,null,null,null,null,null,null,"",null,null,"",null,""]
[null,null,null,null,null,null,null,"",null,null,"",null,""]
[null,null,null,null,null,null,null,"",null,null,"",null,""]
[null,null,null,null,null,null,null,"",null,null,"",null,""]
[null,null,null,null,null,null,null,"",null,null,"",null,""]
[null,null,null,null,null,null,null,"",null,null,"",null,""]
[null,null,null,null,null,null,null,"",null,null,"",null,""]
[null,null,null,null,null,null,null,"",null,null,"",null,""]
[null,null,null,null,null,null,null,"",null,null,"",null,""]
[null,null,null,null,null,null,null,"",null,null,"",null,""]
[null,null,null,null,null,null,null,"",null,null,"",null,""]
[null,null,null,null,null,null,null,"",null,null,"",null,""]
[null,null,null,null,null,null,null,"",null,null,"",null,""]
[null,null,null,null,null,null,null,"",null,null,"",null,""]
[null,null,null,null,null,null,null,"",null,null,"",null,""]
[null,null,null,null,null,null,null,"",null,null,"",null,""]
[null,null,null,null,null,null,null,"",null,null,"",null,""]
[null,null,null,null,null,null,null,"",null,null,"",null,""]
[null,null,null,null,null,null,null,"",null,null,"",null,""]
[null,null,null,null,null,null,null,"",null,null,"",null,""]
[null,null,null,null,null,null,null,"",null,null,"",null,""]
[null,null,null,null,null,null,null,"",null,null,"",null,""]
[null,null,null,null,null,null,null,"",null,null,"",null,""]
[null,null,null,null,null,null,null,"",null,null,"",null,""]
[null,null,null,null,null,null,null,"",null,null,"",null,""]
[null,null,null,null,null,null,null,"",null,null,"",null,""]
[null,null,null,null,null,null,null,"",null,null,"",null,""]
[null,null,null,null,null,null,null,"",null,null,"",null,""]
[null,null,null,null,null,null,null,"",null,null,"",null,""]
[null,null,null,null,null,null,null,"",null,null,"",null,""]
[null,null,null,null,null,null,null,"",null,null,"",null,""]
[null,null,null,null,null,null,null,"",null,null,"",null,""]
[null,null,null,null,null,null,null,"",null,null,"",null,""]
[null,null,null,null,null,null,null,"",null,null,"",null,""]
[null,null,null,null,null,null,null,"",null,null,"",null,""]
[null,null,null,null,null,null,null,"",null,null,"",null,""]
[null,null,null,null,null,null,null,"",null,null,"",null,""]
[null,null,null,null,null,null,null,"",null,null,"",null,""]
[null,null,null,null,null,null,null,"",null,null,"",null,""]
[null,null,null,null,null,null,null,"",null,null,"",null,""]
[null,null,null,null,null,null,null,{"$f":"IF(A668<>\"\",IF(INDIRECT(ADDRESS(ROW()-1,8))=\"\",ROUND(SUM(INDIRECT(ADDRESS(ROW()-2,8)),F668,-G668),2),ROUND(SUM(INDIRECT(ADDRESS(ROW()-1,8)),F668,-G668),2)),\"\")","v":""},null,null,"",null,""]
[null,null,null,null,null,null,null,"",null,null,{"$f":"IF(A669<>\"\",IF(INDIRECT(ADDRESS(ROW()-1,11))=\"\",ROUND(SUM(INDIRECT(ADDRESS(ROW()-2,11)),I669,-J669),2),ROUND(SUM(INDIRECT(ADDRESS(ROW()-1,11)),I669,-J669),2)),\"\")","v":""},null,""]
[null,null,null,null,null,null,null,"",null,null,"",null,""]
[null,null,null,null,null,null,null,"",null,null,"",null,""]
[null,null,null,null,null,null,null,"",null,null,"",null,{"$f":"IF(LEN(L672)>0,F672+G672+I672+J672,\"\")","v":""}]
[null,null,null,null,null,null,null,"",null,null,"",null,""]
[null,null,null,null,null,null,null,"",null,null,"",null,""]
[null,null,null,null,null,null,null,"",null,null,"",null,""]
[null,null,null,null,null,null,null,"",null,null,"",null,""]
[null,null,null,null,null,null,null,"",null,null,"",null,""]
[null,null,null,null,null,null,null,"",null,null,"",null,""]
[null,null,null,null,null,null,null,"",null,null,"",null,""]
[null,null,null,null,null,null,null,"",null,null,"",null,""]
[null,null,null,null,null,null,null,"",null,null,"",null,""]
[null,null,null,null,null,null,null,"",null,null,"",null,""]
[null,null,null,null,null,null,null,"",null,null,"",null,""]
[null,null,null,null,null,null,null,"",null,null,"",null,""]
[null,null,null,null,null,null,null,"",null,null,"",null,""]
[null,null,null,null,null,null,null,"",null,null,"",null,""]
[null,null,null,null,null,null,null,"",null,null,"",null,""]
[null,null,null,null,null,null,null,"",null,null,"",null,""]
[null,null,null,null,null,null,null,"",null,null,"",null,""]
[null,null,null,null,null,null,null,"",null,null,"",null,""]
[null,null,null,null,null,null,null,"",null,null,"",null,""]
[null,null,null,null,null,null,null,"",null,null,"",null,""]
[null,null,null,null,null,null,null,"",null,null,"",null,""]
[null,null,null,null,null,null,null,"",null,null,"",null,""]
[null,null,null,null,null,null,null,"",null,null,"",null,""]
[null,null,null,null,null,null,null,"",null,null,"",null,""]
[null,null,null,null,null,null,null,"",null,null,"",null,""]
[null,null,null,null,null,null,null,"",null,null,"",null,""]
[null,null,null,null,null,null,null,"",null,null,"",null,""]
[null,null,null,null,null,null,null,"",null,null,"",null,""]
[null,null,null,null,null,null,null,"",null,null,"",null,""]
[null,null,null,null,null,null,null,"",null,null,"",null,""]
[null,null,null,null,null,null,null,"",null,null,"",null,""]
[null,null,null,null,null,null,null,"",null,null,"",null,""]
[null,null,null,null,null,null,null,"",null,null,"",null,""]
[null,null,null,null,null,null,null,"",null,null,"",null,""]
[null,null,null,null,null,null,null,"",null,null,"",null,""]
[null,null,null,null,null,null,null,"",null,null,"",null,""]
[null,null,null,null,null,null,null,"",null,null,"",null,""]
[null,null,null,null,null,null,null,"",null,null,"",null,""]
[null,null,null,null,null,null,null,"",null,null,"",null,""]
[null,null,null,null,null,null,null,"",null,null,"",null,""]
[null,null,null,null,null,null,null,"",null,null,"",null,""]
[null,null,null,null,null,null,null,"",null,null,"",null,""]
[null,null,null,null,null,null,null,"",null,null,"",null,""]
[null,null,null,null,null,null,null,"",null,null,"",null,""]
[null,null,null,null,null,null,null,"",null,null,"",null,""]
[null,null,null,null,null,null,null,"",null,null,"",null,""]
[null,null,null,null,null,null,null,"",null,null,"",null,""]
[null,null,null,null,null,null,null,"",null,null,"",null,""]
[null,null,null,null,null,null,null,"",null,null,"",null,""]
[null,null,null,null,null,null,null,"",null,null,"",null,""]
[null,null,null,null,null,null,null,"",null,null,"",null,""]
[null,null,null,null,null,null,null,"",null,null,"",null,""]
[null,null,null,null,null,null,null,"",null,null,"",null,""]
[null,null,null,null,null,null,null,"",null,null,"",null,""]
[null,null,null,null,null,null,null,"",null,null,"",null,""]
[null,null,null,null,null,null,null,"",null,null,"",null,""]
[null,null,null,null,null,null,null,"",null,null,"",null,""]
[null,null,null,null,null,null,null,"",null,null,"",null,""]
[null,null,null,null,null,null,null,"",null,null,"",null,""]
[null,null,null,null,null,null,null,{"$f":"IF(A732<>\"\",IF(INDIRECT(ADDRESS(ROW()-1,8))=\"\",ROUND(SUM(INDIRECT(ADDRESS(ROW()-2,8)),F732,-G732),2),ROUND(SUM(INDIRECT(ADDRESS(ROW()-1,8)),F732,-G732),2)),\"\")","v":""},null,null,"",null,""]
[null,null,null,null,null,null,null,"",null,null,{"$f":"IF(A733<>\"\",IF(INDIRECT(ADDRESS(ROW()-1,11))=\"\",ROUND(SUM(INDIRECT(ADDRESS(ROW()-2,11)),I733,-J733),2),ROUND(SUM(INDIRECT(ADDRESS(ROW()-1,11)),I733,-J733),2)),\"\")","v":""},null,""]
[null,null,null,null,null,null,null,"",null,null,"",null,""]
[null,null,null,null,null,null,null,"",null,null,"",null,""]
[null,null,null,null,null,null,null,"",null,null,"",null,{"$f":"IF(LEN(L736)>0,F736+G736+I736+J736,\"\")","v":""}]
[null,null,null,null,null,null,null,"",null,null,"",null,""]
[null,null,null,null,null,null,null,"",null,null,"",null,""]
[null,null,null,null,null,null,null,"",null,null,"",null,""]
[null,null,null,null,null,null,null,"",null,null,"",null,""]
[null,null,null,null,null,null,null,"",null,null,"",null,""]
[null,null,null,null,null,null,null,"",null,null,"",null,""]
[null,null,null,null,null,null,null,"",null,null,"",null,""]
[null,null,null,null,null,null,null,"",null,null,"",null,""]
[null,null,null,null,null,null,null,"",null,null,"",null,""]
[null,null,null,null,null,null,null,"",null,null,"",null,""]
[null,null,null,null,null,null,null,"",null,null,"",null,""]
[null,null,null,null,null,null,null,"",null,null,"",null,""]
[null,null,null,null,null,null,null,"",null,null,"",null,""]
[null,null,null,null,null,null,null,"",null,null,"",null,""]
[null,null,null,null,null,null,null,"",null,null,"",null,""]
[null,null,null,null,null,null,null,"",null,null,"",null,""]
[null,null,null,null,null,null,null,"",null,null,"",null,""]
[null,null,null,null,null,null,null,"",null,null,"",null,""]
[null,null,null,null,null,null,null,"",null,null,"",null,""]
[null,null,null,null,null,null,null,"",null,null,"",null,""]
[null,null,null,null,null,null,null,"",null,null,"",null,""]
[null,null,null,null,null,null,null,"",null,null,"",null,""]
[null,null,null,null,null,null,null,"",null,null,"",null,""]
[null,null,null,null,null,null,null,"",null,null,"",null,""]
[null,null,null,null,null,null,null,"",null,null,"",null,""]
[null,null,null,null,null,null,null,"",null,null,"",null,""]
[null,null,null,null,null,null,null,"",null,null,"",null,""]
[null,null,null,null,null,null,null,"",null,null,"",null,""]
[null,null,null,null,null,null,null,"",null,null,"",null,""]
[null,null,null,null,null,null,null,"",null,null,"",null,""]
[null,null,null,null,null,null,null,"",null,null,"",null,""]
[null,null,null,null,null,null,null,"",null,null,"",null,""]
[null,null,null,null,null,null,null,"",null,null,"",null,""]
[null,null,null,null,null,null,null,"",null,null,"",null,""]
[null,null,null,null,null,null,null,"",null,null,"",null,""]
[null,null,null,null,null,null,null,"",null,null,"",null,""]
[null,null,null,null,null,null,null,"",null,null,"",null,""]
[null,null,null,null,null,null,null,"",null,null,"",null,""]
[null,null,null,null,null,null,null,"",null,null,"",null,""]
[null,null,null,null,null,null,null,"",null,null,"",null,""]
[null,null,null,null,null,null,null,"",null,null,"",null,""]
[null,null,null,null,null,null,null,"",null,null,"",null,""]
[null,null,null,null,null,null,null,"",null,null,"",null,""]
[null,null,null,null,null,null,null,"",null,null,"",null,""]
[null,null,null,null,null,null,null,"",null,null,"",null,""]
[null,null,null,null,null,null,null,"",null,null,"",null,""]
[null,null,null,null,null,null,null,"",null,null,"",null,""]
[null,null,null,null,null,null,null,"",null,null,"",null,""]
[null,null,null,null,null,null,null,"",null,null,"",null,""]
[null,null,null,null,null,null,null,"",null,null,"",null,""]
[null,null,null,null,null,null,null,"",null,null,"",null,""]
[null,null,null,null,null,null,null,"",null,null,"",null,""]
[null,null,null,null,null,null,null,"",null,null,"",null,""]
[null,null,null,null,null,null,null,"",null,null,"",null,""]
[null,null,null,null,null,null,null,"",null,null,"",null,""]
[null,null,null,null,null,null,null,"",null,null,"",null,""]
[null,null,null,null,null,null,null,"",null,null,"",null,""]
[null,null,null,null,null,null,null,"",null,null,"",null,""]
[null,null,null,null,null,null,null,"",null,null,"",null,""]
[null,null,null,null,null,null,null,{"$f":"IF(A796<>\"\",IF(INDIRECT(ADDRESS(ROW()-1,8))=\"\",ROUND(SUM(INDIRECT(ADDRESS(ROW()-2,8)),F796,-G796),2),ROUND(SUM(INDIRECT(ADDRESS(ROW()-1,8)),F796,-G796),2)),\"\")","v":""},null,null,"",null,""]
[null,null,null,null,null,null,null,"",null,null,{"$f":"IF(A797<>\"\",IF(INDIRECT(ADDRESS(ROW()-1,11))=\"\",ROUND(SUM(INDIRECT(ADDRESS(ROW()-2,11)),I797,-J797),2),ROUND(SUM(INDIRECT(ADDRESS(ROW()-1,11)),I797,-J797),2)),\"\")","v":""},null,""]
[null,null,null,null,null,null,null,"",null,null,"",null,""]
[null,null,null,null,null,null,null,"",null,null,"",null,""]
[null,null,null,null,null,null,null,"",null,null,"",null,{"$f":"IF(LEN(L800)>0,F800+G800+I800+J800,\"\")","v":""}]
[null,null,null,null,null,null,null,"",null,null,"",null,""]
[null,null,null,null,null,null,null,"",null,null,"",null,""]
[null,null,null,null,null,null,null,"",null,null,"",null,""]
[null,null,null,null,null,null,null,"",null,null,"",null,""]
[null,null,null,null,null,null,null,"",null,null,"",null,""]
[null,null,null,null,null,null,null,"",null,null,"",null,""]
[null,null,null,null,null,null,null,"",null,null,"",null,""]
[null,null,null,null,null,null,null,"",null,null,"",null,""]
[null,null,null,null,null,null,null,"",null,null,"",null,""]
[null,null,null,null,null,null,null,"",null,null,"",null,""]
[null,null,null,null,null,null,null,"",null,null,"",null,""]
[null,null,null,null,null,null,null,"",null,null,"",null,""]
[null,null,null,null,null,null,null,"",null,null,"",null,""]
[null,null,null,null,null,null,null,"",null,null,"",null,""]
[null,null,null,null,null,null,null,"",null,null,"",null,""]
[null,null,null,null,null,null,null,"",null,null,"",null,""]
[null,null,null,null,null,null,null,"",null,null,"",null,""]
[null,null,null,null,null,null,null,"",null,null,"",null,""]
[null,null,null,null,null,null,null,"",null,null,"",null,""]
[null,null,null,null,null,null,null,"",null,null,"",null,""]
[null,null,null,null,null,null,null,"",null,null,"",null,""]
[null,null,null,null,null,null,null,"",null,null,"",null,""]
[null,null,null,null,null,null,null,"",null,null,"",null,""]
[null,null,null,null,null,null,null,"",null,null,"",null,""]
[null,null,null,null,null,null,null,"",null,null,"",null,""]
[null,null,null,null,null,null,null,"",null,null,"",null,""]
[null,null,null,null,null,null,null,"",null,null,"",null,""]
[null,null,null,null,null,null,null,"",null,null,"",null,""]
[null,null,null,null,null,null,null,"",null,null,"",null,""]
[null,null,null,null,null,null,null,"",null,null,"",null,""]
[null,null,null,null,null,null,null,"",null,null,"",null,""]
[null,null,null,null,null,null,null,"",null,null,"",null,""]
[null,null,null,null,null,null,null,"",null,null,"",null,""]
[null,null,null,null,null,null,null,"",null,null,"",null,""]
[null,null,null,null,null,null,null,"",null,null,"",null,""]
[null,null,null,null,null,null,null,"",null,null,"",null,""]
[null,null,null,null,null,null,null,"",null,null,"",null,""]
[null,null,null,null,null,null,null,"",null,null,"",null,""]
[null,null,null,null,null,null,null,"",null,null,"",null,""]
[null,null,null,null,null,null,null,"",null,null,"",null,""]
[null,null,null,null,null,null,null,"",null,null,"",null,""]
[null,null,null,null,null,null,null,"",null,null,"",null,""]
[null,null,null,null,null,null,null,"",null,null,"",null,""]
[null,null,null,null,null,null,null,"",null,null,"",null,""]
[null,null,null,null,null,null,null,"",null,null,"",null,""]
[null,null,null,null,null,null,null,"",null,null,"",null,""]
[null,null,null,null,null,null,null,"",null,null,"",null,""]
[null,null,null,null,null,null,null,"",null,null,"",null,""]
[null,null,null,null,null,null,null,"",null,null,"",null,""]
[null,null,null,null,null,null,null,"",null,null,"",null,""]
[null,null,null,null,null,null,null,"",null,null,"",null,""]
[null,null,null,null,null,null,null,"",null,null,"",null,""]
[null,null,null,null,null,null,null,"",null,null,"",null,""]
[null,null,null,null,null,null,null,"",null,null,"",null,""]
[null,null,null,null,null,null,null,"",null,null,"",null,""]
[null,null,null,null,null,null,null,"",null,null,"",null,""]
[null,null,null,null,null,null,null,"",null,null,"",null,""]
[null,null,null,null,null,null,null,"",null,null,"",null,""]
[null,null,null,null,null,null,null,"",null,null,"",null,""]
[null,null,null,null,null,null,null,{"$f":"IF(A860<>\"\",IF(INDIRECT(ADDRESS(ROW()-1,8))=\"\",ROUND(SUM(INDIRECT(ADDRESS(ROW()-2,8)),F860,-G860),2),ROUND(SUM(INDIRECT(ADDRESS(ROW()-1,8)),F860,-G860),2)),\"\")","v":""},null,null,"",null,""]
[null,null,null,null,null,null,null,"",null,null,{"$f":"IF(A861<>\"\",IF(INDIRECT(ADDRESS(ROW()-1,11))=\"\",ROUND(SUM(INDIRECT(ADDRESS(ROW()-2,11)),I861,-J861),2),ROUND(SUM(INDIRECT(ADDRESS(ROW()-1,11)),I861,-J861),2)),\"\")","v":""},null,""]
[null,null,null,null,null,null,null,"",null,null,"",null,""]
[null,null,null,null,null,null,null,"",null,null,"",null,""]
[null,null,null,null,null,null,null,"",null,null,"",null,{"$f":"IF(LEN(L864)>0,F864+G864+I864+J864,\"\")","v":""}]
[null,null,null,null,null,null,null,"",null,null,"",null,""]
[null,null,null,null,null,null,null,"",null,null,"",null,""]
[null,null,null,null,null,null,null,"",null,null,"",null,""]
[null,null,null,null,null,null,null,"",null,null,"",null,""]
[null,null,null,null,null,null,null,"",null,null,"",null,""]
[null,null,null,null,null,null,null,"",null,null,"",null,""]
[null,null,null,null,null,null,null,"",null,null,"",null,""]
[null,null,null,null,null,null,null,"",null,null,"",null,""]
[null,null,null,null,null,null,null,"",null,null,"",null,""]
[null,null,null,null,null,null,null,"",null,null,"",null,""]
[null,null,null,null,null,null,null,"",null,null,"",null,""]
[null,null,null,null,null,null,null,"",null,null,"",null,""]
[null,null,null,null,null,null,null,"",null,null,"",null,""]
[null,null,null,null,null,null,null,"",null,null,"",null,""]
[null,null,null,null,null,null,null,"",null,null,"",null,""]
[null,null,null,null,null,null,null,"",null,null,"",null,""]
[null,null,null,null,null,null,null,"",null,null,"",null,""]
[null,null,null,null,null,null,null,"",null,null,"",null,""]
[null,null,null,null,null,null,null,"",null,null,"",null,""]
[null,null,null,null,null,null,null,"",null,null,"",null,""]
[null,null,null,null,null,null,null,"",null,null,"",null,""]
[null,null,null,null,null,null,null,"",null,null,"",null,""]
[null,null,null,null,null,null,null,"",null,null,"",null,""]
[null,null,null,null,null,null,null,"",null,null,"",null,""]
[null,null,null,null,null,null,null,"",null,null,"",null,""]
[null,null,null,null,null,null,null,"",null,null,"",null,""]
[null,null,null,null,null,null,null,"",null,null,"",null,""]
[null,null,null,null,null,null,null,"",null,null,"",null,""]
[null,null,null,null,null,null,null,"",null,null,"",null,""]
[null,null,null,null,null,null,null,"",null,null,"",null,""]
[null,null,null,null,null,null,null,"",null,null,"",null,""]
[null,null,null,null,null,null,null,"",null,null,"",null,""]
[null,null,null,null,null,null,null,"",null,null,"",null,""]
[null,null,null,null,null,null,null,"",null,null,"",null,""]
[null,null,null,null,null,null,null,"",null,null,"",null,""]
[null,null,null,null,null,null,null,"",null,null,"",null,""]
[null,null,null,null,null,null,null,"",null,null,"",null,""]
[null,null,null,null,null,null,null,"",null,null,"",null,""]
[null,null,null,null,null,null,null,"",null,null,"",null,""]
[null,null,null,null,null,null,null,"",null,null,"",null,""]
[null,null,null,null,null,null,null,"",null,null,"",null,""]
[null,null,null,null,null,null,null,"",null,null,"",null,""]
[null,null,null,null,null,null,null,"",null,null,"",null,""]
[null,null,null,null,null,null,null,"",null,null,"",null,""]
[null,null,null,null,null,null,null,"",null,null,"",null,""]
[null,null,null,null,null,null,null,"",null,null,"",null,""]
[null,null,null,null,null,null,null,"",null,null,"",null,""]
[null,null,null,null,null,null,null,"",null,null,"",null,""]
[null,null,null,null,null,null,null,"",null,null,"",null,""]
[null,null,null,null,null,null,null,"",null,null,"",null,""]
[null,null,null,null,null,null,null,"",null,null,"",null,""]
[null,null,null,null,null,null,null,"",null,null,"",null,""]
[null,null,null,null,null,null,null,"",null,null,"",null,""]
[null,null,null,null,null,null,null,"",null,null,"",null,""]
[null,null,null,null,null,null,null,"",null,null,"",null,""]
[null,null,null,null,null,null,null,"",null,null,"",null,""]
[null,null,null,null,null,null,null,"",null,null,"",null,""]
[null,null,null,null,null,null,null,"",null,null,"",null,""]
[null,null,null,null,null,null,null,"",null,null,"",null,""]
[null,null,null,null,null,null,null,{"$f":"IF(A924<>\"\",IF(INDIRECT(ADDRESS(ROW()-1,8))=\"\",ROUND(SUM(INDIRECT(ADDRESS(ROW()-2,8)),F924,-G924),2),ROUND(SUM(INDIRECT(ADDRESS(ROW()-1,8)),F924,-G924),2)),\"\")","v":""},null,null,"",null,""]
[null,null,null,null,null,null,null,"",null,null,{"$f":"IF(A925<>\"\",IF(INDIRECT(ADDRESS(ROW()-1,11))=\"\",ROUND(SUM(INDIRECT(ADDRESS(ROW()-2,11)),I925,-J925),2),ROUND(SUM(INDIRECT(ADDRESS(ROW()-1,11)),I925,-J925),2)),\"\")","v":""},null,""]
[null,null,null,null,null,null,null,"",null,null,"",null,""]
[null,null,null,null,null,null,null,"",null,null,"",null,""]
[null,null,null,null,null,null,null,"",null,null,"",null,{"$f":"IF(LEN(L928)>0,F928+G928+I928+J928,\"\")","v":""}]
[null,null,null,null,null,null,null,"",null,null,"",null,""]
[null,null,null,null,null,null,null,"",null,null,"",null,""]
[null,null,null,null,null,null,null,"",null,null,"",null,""]
[null,null,null,null,null,null,null,"",null,null,"",null,""]
[null,null,null,null,null,null,null,"",null,null,"",null,""]
[null,null,null,null,null,null,null,"",null,null,"",null,""]
[null,null,null,null,null,null,null,"",null,null,"",null,""]
[null,null,null,null,null,null,null,"",null,null,"",null,""]
[null,null,null,null,null,null,null,"",null,null,"",null,""]
[null,null,null,null,null,null,null,"",null,null,"",null,""]
[null,null,null,null,null,null,null,"",null,null,"",null,""]
[null,null,null,null,null,null,null,"",null,null,"",null,""]
[null,null,null,null,null,null,null,"",null,null,"",null,""]
[null,null,null,null,null,null,null,"",null,null,"",null,""]
[null,null,null,null,null,null,null,"",null,null,"",null,""]
[null,null,null,null,null,null,null,"",null,null,"",null,""]
[null,null,null,null,null,null,null,"",null,null,"",null,""]
[null,null,null,null,null,null,null,"",null,null,"",null,""]
[null,null,null,null,null,null,null,"",null,null,"",null,""]
[null,null,null,null,null,null,null,"",null,null,"",null,""]
[null,null,null,null,null,null,null,"",null,null,"",null,""]
[null,null,null,null,null,null,null,"",null,null,"",null,""]
[null,null,null,null,null,null,null,"",null,null,"",null,""]
[null,null,null,null,null,null,null,"",null,null,"",null,""]
[null,null,null,null,null,null,null,"",null,null,"",null,""]
[null,null,null,null,null,null,null,"",null,null,"",null,""]
[null,null,null,null,null,null,null,"",null,null,"",null,""]
[null,null,null,null,null,null,null,"",null,null,"",null,""]
[null,null,null,null,null,null,null,"",null,null,"",null,""]
[null,null,null,null,null,null,null,"",null,null,"",null,""]
[null,null,null,null,null,null,null,"",null,null,"",null,""]
[null,null,null,null,null,null,null,"",null,null,"",null,""]
[null,null,null,null,null,null,null,"",null,null,"",null,""]
[null,null,null,null,null,null,null,"",null,null,"",null,""]
[null,null,null,null,null,null,null,"",null,null,"",null,""]
[null,null,null,null,null,null,null,"",null,null,"",null,""]
[null,null,null,null,null,null,null,"",null,null,"",null,""]
[null,null,null,null,null,null,null,"",null,null,"",null,""]
[null,null,null,null,null,null,null,"",null,null,"",null,""]
[null,null,null,null,null,null,null,"",null,null,"",null,""]
[null,null,null,null,null,null,null,"",null,null,"",null,""]
[null,null,null,null,null,null,null,"",null,null,"",null,""]
[null,null,null,null,null,null,null,"",null,null,"",null,""]
[null,null,null,null,null,null,null,"",null,null,"",null,""]
[null,null,null,null,null,null,null,"",null,null,"",null,""]
[null,null,null,null,null,null,null,"",null,null,"",null,""]
[null,null,null,null,null,null,null,"",null,null,"",null,""]
[null,null,null,null,null,null,null,"",null,null,"",null,""]
[null,null,null,null,null,null,null,"",null,null,"",null,""]
[null,null,null,null,null,null,null,"",null,null,"",null,""]
[null,null,null,null,null,null,null,"",null,null,"",null,""]
[null,null,null,null,null,null,null,"",null,null,"",null,""]
[null,null,null,null,null,null,null,"",null,null,"",null,""]
[null,null,null,null,null,null,null,"",null,null,"",null,""]
[null,null,null,null,null,null,null,"",null,null,"",null,""]
[null,null,null,null,null,null,null,"",null,null,"",null,""]
[null,null,null,null,null,null,null,"",null,null,"",null,""]
[null,null,null,null,null,null,null,"",null,null,"",null,""]
[null,null,null,null,null,null,null,"",null,null,"",null,""]
[null,null,null,null,null,null,null,{"$f":"IF(A988<>\"\",IF(INDIRECT(ADDRESS(ROW()-1,8))=\"\",ROUND(SUM(INDIRECT(ADDRESS(ROW()-2,8)),F988,-G988),2),ROUND(SUM(INDIRECT(ADDRESS(ROW()-1,8)),F988,-G988),2)),\"\")","v":""},null,null,"",null,""]
[null,null,null,null,null,null,null,"",null,null,{"$f":"IF(A989<>\"\",IF(INDIRECT(ADDRESS(ROW()-1,11))=\"\",ROUND(SUM(INDIRECT(ADDRESS(ROW()-2,11)),I989,-J989),2),ROUND(SUM(INDIRECT(ADDRESS(ROW()-1,11)),I989,-J989),2)),\"\")","v":""},null,""]
[null,null,null,null,null,null,null,"",null,null,"",null,""]
[null,null,null,null,null,null,null,"",null,null,"",null,""]
[null,null,null,null,null,null,null,"",null,null,"",null,{"$f":"IF(LEN(L992)>0,F992+G992+I992+J992,\"\")","v":""}]
[null,null,null,null,null,null,null,"",null,null,"",null,""]
[null,null,null,null,null,null,null,"",null,null,"",null,""]
[null,null,null,null,null,null,null,"",null,null,"",null,""]
[null,null,null,null,null,null,null,"",null,null,"",null,""]
[null,null,null,null,null,null,null,"",null,null,"",null,""]
[null,null,null,null,null,null,null,"",null,null,"",null,""]
[null,null,null,null,null,null,null,"",null,null,"",null,""]
[null,null,null,null,null,null,null,"",null,null,"",null,""]
[null,null,null,null,null,null,null,"",null,null,"",null,""]
[null,null,null,null,null,null,null,"",null,null,"",null,""]
[null,null,null,null,null,null,null,"",null,null,"",null,""]
[null,null,null,null,null,null,null,"",null,null,"",null,""]
[null,null,null,null,null,null,null,"",null,null,"",null,""]
[null,null,null,null,null,null,null,"",null,null,"",null,""]
[null,null,null,null,null,null,null,"",null,null,"",null,""]
[null,null,null,null,null,null,null,"",null,null,"",null,""]
[null,null,null,null,null,null,null,"",null,null,"",null,""]
[null,null,null,null,null,null,null,"",null,null,"",null,""]
[null,null,null,null,null,null,null,"",null,null,"",null,""]
[null,null,null,null,null,null,null,"",null,null,"",null,""]
[null,null,null,null,null,null,null,"",null,null,"",null,""]
[null,null,null,null,null,null,null,"",null,null,"",null,""]
[null,null,null,null,null,null,null,"",null,null,"",null,""]
[null,null,null,null,null,null,null,"",null,null,"",null,""]
[null,null,null,null,null,null,null,"",null,null,"",null,""]
[null,null,null,null,null,null,null,"",null,null,"",null,""]
[null,null,null,null,null,null,null,"",null,null,"",null,""]
[null,null,null,null,null,null,null,"",null,null,"",null,""]
[null,null,null,null,null,null,null,"",null,null,"",null,""]
[null,null,null,null,null,null,null,"",null,null,"",null,""]
[null,null,null,null,null,null,null,"",null,null,"",null,""]
[null,null,null,null,null,null,null,"",null,null,"",null,""]
[null,null,null,null,null,null,null,"",null,null,"",null,""]
[null,null,null,null,null,null,null,"",null,null,"",null,""]
[null,null,null,null,null,null,null,"",null,null,"",null,""]
[null,null,null,null,null,null,null,"",null,null,"",null,""]
[null,null,null,null,null,null,null,"",null,null,"",null,""]
[null,null,null,null,null,null,null,"",null,null,"",null,""]
[null,null,null,null,null,null,null,"",null,null,"",null,""]
[null,null,null,null,null,null,null,"",null,null,"",null,""]
[null,null,null,null,null,null,null,"",null,null,"",null,""]
[null,null,null,null,null,null,null,"",null,null,"",null,""]
[null,null,null,null,null,null,null,"",null,null,"",null,""]
[null,null,null,null,null,null,null,"",null,null,"",null,""]
[null,null,null,null,null,null,null,"",null,null,"",null,""]
[null,null,null,null,null,null,null,"",null,null,"",null,""]
[null,null,null,null,null,null,null,"",null,null,"",null,""]
[null,null,null,null,null,null,null,"",null,null,"",null,""]
[null,null,null,null,null,null,null,"",null,null,"",null,""]
[null,null,null,null,null,null,null,"",null,null,"",null,""]
[null,null,null,null,null,null,null,"",null,null,"",null,""]
[null,null,null,null,null,null,null,"",null,null,"",null,""]
[null,null,null,null,null,null,null,"",null,null,"",null,""]
[null,null,null,null,null,null,null,"",null,null,"",null,""]
[null,null,null,null,null,null,null,"",null,null,"",null,""]
[null,null,null,null,null,null,null,"",null,null,"",null,""]
[null,null,null,null,null,null,null,"",null,null,"",null,""]
[null,null,null,null,null,null,null,"",null,null,"",null,""]
[null,null,null,null,null,null,null,"",null,null,"",null,""]
[null,null,null,null,null,null,null,{"$f":"IF(A1052<>\"\",IF(INDIRECT(ADDRESS(ROW()-1,8))=\"\",ROUND(SUM(INDIRECT(ADDRESS(ROW()-2,8)),F1052,-G1052),2),ROUND(SUM(INDIRECT(ADDRESS(ROW()-1,8)),F1052,-G1052),2)),\"\")","v":""},null,null,"",null,""]
[null,null,null,null,null,null,null,"",null,null,{"$f":"IF(A1053<>\"\",IF(INDIRECT(ADDRESS(ROW()-1,11))=\"\",ROUND(SUM(INDIRECT(ADDRESS(ROW()-2,11)),I1053,-J1053),2),ROUND(SUM(INDIRECT(ADDRESS(ROW()-1,11)),I1053,-J1053),2)),\"\")","v":""},null,""]
[null,null,null,null,null,null,null,"",null,null,"",null,""]
[null,null,null,null,null,null,null,"",null,null,"",null,""]
[null,null,null,null,null,null,null,"",null,null,"",null,{"$f":"IF(LEN(L1056)>0,F1056+G1056+I1056+J1056,\"\")","v":""}]
[null,null,null,null,null,null,null,"",null,null,"",null,""]
[null,null,null,null,null,null,null,"",null,null,"",null,""]
[null,null,null,null,null,null,null,"",null,null,"",null,""]
[null,null,null,null,null,null,null,"",null,null,"",null,""]
[null,null,null,null,null,null,null,"",null,null,"",null,""]
[null,null,null,null,null,null,null,"",null,null,"",null,""]
[null,null,null,null,null,null,null,"",null,null,"",null,""]
[null,null,null,null,null,null,null,"",null,null,"",null,""]
[null,null,null,null,null,null,null,"",null,null,"",null,""]
[null,null,null,null,null,null,null,"",null,null,"",null,""]
[null,null,null,null,null,null,null,"",null,null,"",null,""]
[null,null,null,null,null,null,null,"",null,null,"",null,""]
[null,null,null,null,null,null,null,"",null,null,"",null,""]
[null,null,null,null,null,null,null,"",null,null,"",null,""]
[null,null,null,null,null,null,null,"",null,null,"",null,""]
[null,null,null,null,null,null,null,"",null,null,"",null,""]
[null,null,null,null,null,null,null,"",null,null,"",null,""]
[null,null,null,null,null,null,null,"",null,null,"",null,""]
[null,null,null,null,null,null,null,"",null,null,"",null,""]
[null,null,null,null,null,null,null,"",null,null,"",null,""]
[null,null,null,null,null,null,null,"",null,null,"",null,""]
[null,null,null,null,null,null,null,"",null,null,"",null,""]
[null,null,null,null,null,null,null,"",null,null,"",null,""]
[null,null,null,null,null,null,null,"",null,null,"",null,""]
[null,null,null,null,null,null,null,"",null,null,"",null,""]
[null,null,null,null,null,null,null,"",null,null,"",null,""]
[null,null,null,null,null,null,null,"",null,null,"",null,""]
[null,null,null,null,null,null,null,"",null,null,"",null,""]
[null,null,null,null,null,null,null,"",null,null,"",null,""]
[null,null,null,null,null,null,null,"",null,null,"",null,""]
[null,null,null,null,null,null,null,"",null,null,"",null,""]
[null,null,null,null,null,null,null,"",null,null,"",null,""]
[null,null,null,null,null,null,null,"",null,null,"",null,""]
[null,null,null,null,null,null,null,"",null,null,"",null,""]
[null,null,null,null,null,null,null,"",null,null,"",null,""]
[null,null,null,null,null,null,null,"",null,null,"",null,""]
[null,null,null,null,null,null,null,"",null,null,"",null,""]
[null,null,null,null,null,null,null,"",null,null,"",null,""]
[null,null,null,null,null,null,null,"",null,null,"",null,""]
[null,null,null,null,null,null,null,"",null,null,"",null,""]
[null,null,null,null,null,null,null,"",null,null,"",null,""]
[null,null,null,null,null,null,null,"",null,null,"",null,""]
[null,null,null,null,null,null,null,"",null,null,"",null,""]
[null,null,null,null,null,null,null,"",null,null,"",null,""]
[null,null,null,null,null,null,null,"",null,null,"",null,""]
[null,null,null,null,null,null,null,"",null,null,"",null,""]
[null,null,null,null,null,null,null,"",null,null,"",null,""]
[null,null,null,null,null,null,null,"",null,null,"",null,""]
[null,null,null,null,null,null,null,"",null,null,"",null,""]
[null,null,null,null,null,null,null,"",null,null,"",null,""]
[null,null,null,null,null,null,null,"",null,null,"",null,""]
[null,null,null,null,null,null,null,"",null,null,"",null,""]
[null,null,null,null,null,null,null,"",null,null,"",null,""]
[null,null,null,null,null,null,null,"",null,null,"",null,""]
[null,null,null,null,null,null,null,"",null,null,"",null,""]
[null,null,null,null,null,null,null,"",null,null,"",null,""]
[null,null,null,null,null,null,null,"",null,null,"",null,""]
[null,null,null,null,null,null,null,"",null,null,"",null,""]
[null,null,null,null,null,null,null,"",null,null,"",null,""]
[null,null,null,null,null,null,null,{"$f":"IF(A1116<>\"\",IF(INDIRECT(ADDRESS(ROW()-1,8))=\"\",ROUND(SUM(INDIRECT(ADDRESS(ROW()-2,8)),F1116,-G1116),2),ROUND(SUM(INDIRECT(ADDRESS(ROW()-1,8)),F1116,-G1116),2)),\"\")","v":""},null,null,"",null,""]
[null,null,null,null,null,null,null,"",null,null,{"$f":"IF(A1117<>\"\",IF(INDIRECT(ADDRESS(ROW()-1,11))=\"\",ROUND(SUM(INDIRECT(ADDRESS(ROW()-2,11)),I1117,-J1117),2),ROUND(SUM(INDIRECT(ADDRESS(ROW()-1,11)),I1117,-J1117),2)),\"\")","v":""},null,""]
[null,null,null,null,null,null,null,"",null,null,"",null,""]
[null,null,null,null,null,null,null,"",null,null,"",null,""]
[null,null,null,null,null,null,null,"",null,null,"",null,{"$f":"IF(LEN(L1120)>0,F1120+G1120+I1120+J1120,\"\")","v":""}]
[null,null,null,null,null,null,null,"",null,null,"",null,""]
[null,null,null,null,null,null,null,"",null,null,"",null,""]
[null,null,null,null,null,null,null,"",null,null,"",null,""]
[null,null,null,null,null,null,null,"",null,null,"",null,""]
[null,null,null,null,null,null,null,"",null,null,"",null,""]
[null,null,null,null,null,null,null,"",null,null,"",null,""]
[null,null,null,null,null,null,null,"",null,null,"",null,""]
[null,null,null,null,null,null,null,"",null,null,"",null,""]
[null,null,null,null,null,null,null,"",null,null,"",null,""]
[null,null,null,null,null,null,null,"",null,null,"",null,""]
[null,null,null,null,null,null,null,"",null,null,"",null,""]
[null,null,null,null,null,null,null,"",null,null,"",null,""]
[null,null,null,null,null,null,null,"",null,null,"",null,""]
[null,null,null,null,null,null,null,"",null,null,"",null,""]
[null,null,null,null,null,null,null,"",null,null,"",null,""]
[null,null,null,null,null,null,null,"",null,null,"",null,""]
[null,null,null,null,null,null,null,"",null,null,"",null,""]
[null,null,null,null,null,null,null,"",null,null,"",null,""]
[null,null,null,null,null,null,null,"",null,null,"",null,""]
[null,null,null,null,null,null,null,"",null,null,"",null,""]
[null,null,null,null,null,null,null,"",null,null,"",null,""]
[null,null,null,null,null,null,null,"",null,null,"",null,""]
[null,null,null,null,null,null,null,"",null,null,"",null,""]
[null,null,null,null,null,null,null,"",null,null,"",null,""]
[null,null,null,null,null,null,null,"",null,null,"",null,""]
[null,null,null,null,null,null,null,"",null,null,"",null,""]
[null,null,null,null,null,null,null,"",null,null,"",null,""]
[null,null,null,null,null,null,null,"",null,null,"",null,""]
[null,null,null,null,null,null,null,"",null,null,"",null,""]
[null,null,null,null,null,null,null,"",null,null,"",null,""]
[null,null,null,null,null,null,null,"",null,null,"",null,""]
[null,null,null,null,null,null,null,"",null,null,"",null,""]
[null,null,null,null,null,null,null,"",null,null,"",null,""]
[null,null,null,null,null,null,null,"",null,null,"",null,""]
[null,null,null,null,null,null,null,"",null,null,"",null,""]
[null,null,null,null,null,null,null,"",null,null,"",null,""]
[null,null,null,null,null,null,null,"",null,null,"",null,""]
[null,null,null,null,null,null,null,"",null,null,"",null,""]
[null,null,null,null,null,null,null,"",null,null,"",null,""]
[null,null,null,null,null,null,null,"",null,null,"",null,""]
[null,null,null,null,null,null,null,"",null,null,"",null,""]
[null,null,null,null,null,null,null,"",null,null,"",null,""]
[null,null,null,null,null,null,null,"",null,null,"",null,""]
[null,null,null,null,null,null,null,"",null,null,"",null,""]
[null,null,null,null,null,null,null,"",null,null,"",null,""]
[null,null,null,null,null,null,null,"",null,null,"",null,""]
[null,null,null,null,null,null,null,"",null,null,"",null,""]
[null,null,null,null,null,null,null,"",null,null,"",null,""]
[null,null,null,null,null,null,null,"",null,null,"",null,""]
[null,null,null,null,null,null,null,"",null,null,"",null,""]
[null,null,null,null,null,null,null,"",null,null,"",null,""]
[null,null,null,null,null,null,null,"",null,null,"",null,""]
[null,null,null,null,null,null,null,"",null,null,"",null,""]
[null,null,null,null,null,null,null,"",null,null,"",null,""]
[null,null,null,null,null,null,null,"",null,null,"",null,""]
[null,null,null,null,null,null,null,"",null,null,"",null,""]
[null,null,null,null,null,null,null,"",null,null,"",null,""]
[null,null,null,null,null,null,null,"",null,null,"",null,""]
[null,null,null,null,null,null,null,"",null,null,"",null,""]
[null,null,null,null,null,null,null,{"$f":"IF(A1180<>\"\",IF(INDIRECT(ADDRESS(ROW()-1,8))=\"\",ROUND(SUM(INDIRECT(ADDRESS(ROW()-2,8)),F1180,-G1180),2),ROUND(SUM(INDIRECT(ADDRESS(ROW()-1,8)),F1180,-G1180),2)),\"\")","v":""},null,null,"",null,""]
[null,null,null,null,null,null,null,"",null,null,{"$f":"IF(A1181<>\"\",IF(INDIRECT(ADDRESS(ROW()-1,11))=\"\",ROUND(SUM(INDIRECT(ADDRESS(ROW()-2,11)),I1181,-J1181),2),ROUND(SUM(INDIRECT(ADDRESS(ROW()-1,11)),I1181,-J1181),2)),\"\")","v":""},null,""]
[null,null,null,null,null,null,null,"",null,null,"",null,""]
[null,null,null,null,null,null,null,"",null,null,"",null,""]
[null,null,null,null,null,null,null,"",null,null,"",null,{"$f":"IF(LEN(L1184)>0,F1184+G1184+I1184+J1184,\"\")","v":""}]
[null,null,null,null,null,null,null,"",null,null,"",null,""]
[null,null,null,null,null,null,null,"",null,null,"",null,""]
[null,null,null,null,null,null,null,"",null,null,"",null,""]
[null,null,null,null,null,null,null,"",null,null,"",null,""]
[null,null,null,null,null,null,null,"",null,null,"",null,""]
[null,null,null,null,null,null,null,"",null,null,"",null,""]
[null,null,null,null,null,null,null,"",null,null,"",null,""]
[null,null,null,null,null,null,null,"",null,null,"",null,""]
[null,null,null,null,null,null,null,"",null,null,"",null,""]
[null,null,null,null,null,null,null,"",null,null,"",null,""]
[null,null,null,null,null,null,null,"",null,null,"",null,""]
[null,null,null,null,null,null,null,"",null,null,"",null,""]
[null,null,null,null,null,null,null,"",null,null,"",null,""]
[null,null,null,null,null,null,null,"",null,null,"",null,""]
[null,null,null,null,null,null,null,"",null,null,"",null,""]
[null,null,null,null,null,null,null,"",null,null,"",null,""]
[null,null,null,null,null,null,null,"",null,null,"",null,""]
[null,null,null,null,null,null,null,"",null,null,"",null,""]
[null,null,null,null,null,null,null,"",null,null,"",null,""]
[null,null,null,null,null,null,null,"",null,null,"",null,""]
[null,null,null,null,null,null,null,"",null,null,"",null,""]
[null,null,null,null,null,null,null,"",null,null,"",null,""]
[null,null,null,null,null,null,null,"",null,null,"",null,""]
[null,null,null,null,null,null,null,"",null,null,"",null,""]
[null,null,null,null,null,null,null,"",null,null,"",null,""]
[null,null,null,null,null,null,null,"",null,null,"",null,""]
[null,null,null,null,null,null,null,"",null,null,"",null,""]
[null,null,null,null,null,null,null,"",null,null,"",null,""]
[null,null,null,null,null,null,null,"",null,null,"",null,""]
[null,null,null,null,null,null,null,"",null,null,"",null,""]
[null,null,null,null,null,null,null,"",null,null,"",null,""]
[null,null,null,null,null,null,null,"",null,null,"",null,""]
[null,null,null,null,null,null,null,"",null,null,"",null,""]
[null,null,null,null,null,null,null,"",null,null,"",null,""]
[null,null,null,null,null,null,null,"",null,null,"",null,""]
[null,null,null,null,null,null,null,"",null,null,"",null,""]
[null,null,null,null,null,null,null,"",null,null,"",null,""]
[null,null,null,null,null,null,null,"",null,null,"",null,""]
[null,null,null,null,null,null,null,"",null,null,"",null,""]
[null,null,null,null,null,null,null,"",null,null,"",null,""]
[null,null,null,null,null,null,null,"",null,null,"",null,""]
[null,null,null,null,null,null,null,"",null,null,"",null,""]
[null,null,null,null,null,null,null,"",null,null,"",null,""]
[null,null,null,null,null,null,null,"",null,null,"",null,""]
[null,null,null,null,null,null,null,"",null,null,"",null,""]
[null,null,null,null,null,null,null,"",null,null,"",null,""]
[null,null,null,null,null,null,null,"",null,null,"",null,""]
[null,null,null,null,null,null,null,"",null,null,"",null,""]
[null,null,null,null,null,null,null,"",null,null,"",null,""]
[null,null,null,null,null,null,null,"",null,null,"",null,""]
[null,null,null,null,null,null,null,"",null,null,"",null,""]
[null,null,null,null,null,null,null,"",null,null,"",null,""]
[null,null,null,null,null,null,null,"",null,null,"",null,""]
[null,null,null,null,null,null,null,"",null,null,"",null,""]
[null,null,null,null,null,null,null,"",null,null,"",null,""]
[null,null,null,null,null,null,null,"",null,null,"",null,""]
[null,null,null,null,null,null,null,"",null,null,"",null,""]
[null,null,null,null,null,null,null,"",null,null,"",null,""]
[null,null,null,null,null,null,null,"",null,null,"",null,""]
[null,null,null,null,null,null,null,{"$f":"IF(A1244<>\"\",IF(INDIRECT(ADDRESS(ROW()-1,8))=\"\",ROUND(SUM(INDIRECT(ADDRESS(ROW()-2,8)),F1244,-G1244),2),ROUND(SUM(INDIRECT(ADDRESS(ROW()-1,8)),F1244,-G1244),2)),\"\")","v":""},null,null,"",null,""]
[null,null,null,null,null,null,null,"",null,null,{"$f":"IF(A1245<>\"\",IF(INDIRECT(ADDRESS(ROW()-1,11))=\"\",ROUND(SUM(INDIRECT(ADDRESS(ROW()-2,11)),I1245,-J1245),2),ROUND(SUM(INDIRECT(ADDRESS(ROW()-1,11)),I1245,-J1245),2)),\"\")","v":""},null,""]
[null,null,null,null,null,null,null,"",null,null,"",null,""]
[null,null,null,null,null,null,null,"",null,null,"",null,""]
[null,null,null,null,null,null,null,"",null,null,"",null,{"$f":"IF(LEN(L1248)>0,F1248+G1248+I1248+J1248,\"\")","v":""}]
[null,null,null,null,null,null,null,"",null,null,"",null,""]
[null,null,null,null,null,null,null,"",null,null,"",null,""]
[null,null,null,null,null,null,null,"",null,null,"",null,""]
[null,null,null,null,null,null,null,"",null,null,"",null,""]
[null,null,null,null,null,null,null,"",null,null,"",null,""]
[null,null,null,null,null,null,null,"",null,null,"",null,""]
[null,null,null,null,null,null,null,"",null,null,"",null,""]
[null,null,null,null,null,null,null,"",null,null,"",null,""]
[null,null,null,null,null,null,null,"",null,null,"",null,""]
[null,null,null,null,null,null,null,"",null,null,"",null,""]
[null,null,null,null,null,null,null,"",null,null,"",null,""]
[null,null,null,null,null,null,null,"",null,null,"",null,""]
[null,null,null,null,null,null,null,"",null,null,"",null,""]
[null,null,null,null,null,null,null,"",null,null,"",null,""]
[null,null,null,null,null,null,null,"",null,null,"",null,""]
[null,null,null,null,null,null,null,"",null,null,"",null,""]
[null,null,null,null,null,null,null,"",null,null,"",null,""]
[null,null,null,null,null,null,null,"",null,null,"",null,""]
[null,null,null,null,null,null,null,"",null,null,"",null,""]
[null,null,null,null,null,null,null,"",null,null,"",null,""]
[null,null,null,null,null,null,null,"",null,null,"",null,""]
[null,null,null,null,null,null,null,"",null,null,"",null,""]
[null,null,null,null,null,null,null,"",null,null,"",null,""]
[null,null,null,null,null,null,null,"",null,null,"",null,""]
[null,null,null,null,null,null,null,"",null,null,"",null,""]
[null,null,null,null,null,null,null,"",null,null,"",null,""]
[null,null,null,null,null,null,null,"",null,null,"",null,""]
[null,null,null,null,null,null,null,"",null,null,"",null,""]
[null,null,null,null,null,null,null,"",null,null,"",null,""]
[null,null,null,null,null,null,null,"",null,null,"",null,""]
[null,null,null,null,null,null,null,"",null,null,"",null,""]
[null,null,null,null,null,null,null,"",null,null,"",null,""]
[null,null,null,null,null,null,null,"",null,null,"",null,""]
[null,null,null,null,null,null,null,"",null,null,"",null,""]
[null,null,null,null,null,null,null,"",null,null,"",null,""]
[null,null,null,null,null,null,null,"",null,null,"",null,""]
[null,null,null,null,null,null,null,"",null,null,"",null,""]
[null,null,null,null,null,null,null,"",null,null,"",null,""]
[null,null,null,null,null,null,null,"",null,null,"",null,""]
[null,null,null,null,null,null,null,"",null,null,"",null,""]
[null,null,null,null,null,null,null,"",null,null,"",null,""]
[null,null,null,null,null,null,null,"",null,null,"",null,""]
[null,null,null,null,null,null,null,"",null,null,"",null,""]
[null,null,null,null,null,null,null,"",null,null,"",null,""]
[null,null,null,null,null,null,null,"",null,null,"",null,""]
[null,null,null,null,null,null,null,"",null,null,"",null,""]
[null,null,null,null,null,null,null,"",null,null,"",null,""]
[null,null,null,null,null,null,null,"",null,null,"",null,""]
[null,null,null,null,null,null,null,"",null,null,"",null,""]
[null,null,null,null,null,null,null,"",null,null,"",null,""]
[null,null,null,null,null,null,null,"",null,null,"",null,""]
[null,null,null,null,null,null,null,"",null,null,"",null,""]
[null,null,null,null,null,null,null,"",null,null,"",null,""]
[null,null,null,null,null,null,null,"",null,null,"",null,""]
[null,null,null,null,null,null,null,"",null,null,"",null,""]
[null,null,null,null,null,null,null,"",null,null,"",null,""]
[null,null,null,null,null,null,null,"",null,null,"",null,""]
[null,null,null,null,null,null,null,"",null,null,"",null,""]
[null,null,null,null,null,null,null,"",null,null,"",null,""]
[null,null,null,null,null,null,null,{"$f":"IF(A1308<>\"\",IF(INDIRECT(ADDRESS(ROW()-1,8))=\"\",ROUND(SUM(INDIRECT(ADDRESS(ROW()-2,8)),F1308,-G1308),2),ROUND(SUM(INDIRECT(ADDRESS(ROW()-1,8)),F1308,-G1308),2)),\"\")","v":""},null,null,"",null,""]
[null,null,null,null,null,null,null,"",null,null,{"$f":"IF(A1309<>\"\",IF(INDIRECT(ADDRESS(ROW()-1,11))=\"\",ROUND(SUM(INDIRECT(ADDRESS(ROW()-2,11)),I1309,-J1309),2),ROUND(SUM(INDIRECT(ADDRESS(ROW()-1,11)),I1309,-J1309),2)),\"\")","v":""},null,""]
[null,null,null,null,null,null,null,"",null,null,"",null,""]
[null,null,null,null,null,null,null,"",null,null,"",null,""]
[null,null,null,null,null,null,null,"",null,null,"",null,{"$f":"IF(LEN(L1312)>0,F1312+G1312+I1312+J1312,\"\")","v":""}]
[null,null,null,null,null,null,null,"",null,null,"",null,""]
[null,null,null,null,null,null,null,"",null,null,"",null,""]
[null,null,null,null,null,null,null,"",null,null,"",null,""]
[null,null,null,null,null,null,null,"",null,null,"",null,""]
[null,null,null,null,null,null,null,"",null,null,"",null,""]
[null,null,null,null,null,null,null,"",null,null,"",null,""]
[null,null,null,null,null,null,null,"",null,null,"",null,""]
[null,null,null,null,null,null,null,"",null,null,"",null,""]
[null,null,null,null,null,null,null,"",null,null,"",null,""]
[null,null,null,null,null,null,null,"",null,null,"",null,""]
[null,null,null,null,null,null,null,"",null,null,"",null,""]
[null,null,null,null,null,null,null,"",null,null,"",null,""]
[null,null,null,null,null,null,null,"",null,null,"",null,""]
[null,null,null,null,null,null,null,"",null,null,"",null,""]
[null,null,null,null,null,null,null,"",null,null,"",null,""]
[null,null,null,null,null,null,null,"",null,null,"",null,""]
[null,null,null,null,null,null,null,"",null,null,"",null,""]
[null,null,null,null,null,null,null,"",null,null,"",null,""]
[null,null,null,null,null,null,null,"",null,null,"",null,""]
[null,null,null,null,null,null,null,"",null,null,"",null,""]
[null,null,null,null,null,null,null,"",null,null,"",null,""]
[null,null,null,null,null,null,null,"",null,null,"",null,""]
[null,null,null,null,null,null,null,"",null,null,"",null,""]
[null,null,null,null,null,null,null,"",null,null,"",null,""]
[null,null,null,null,null,null,null,"",null,null,"",null,""]
[null,null,null,null,null,null,null,"",null,null,"",null,""]
[null,null,null,null,null,null,null,"",null,null,"",null,""]
[null,null,null,null,null,null,null,"",null,null,"",null,""]
[null,null,null,null,null,null,null,"",null,null,"",null,""]
[null,null,null,null,null,null,null,"",null,null,"",null,""]
[null,null,null,null,null,null,null,"",null,null,"",null,""]
[null,null,null,null,null,null,null,"",null,null,"",null,""]
[null,null,null,null,null,null,null,"",null,null,"",null,""]
[null,null,null,null,null,null,null,"",null,null,"",null,""]
[null,null,null,null,null,null,null,"",null,null,"",null,""]
[null,null,null,null,null,null,null,"",null,null,"",null,""]
[null,null,null,null,null,null,null,"",null,null,"",null,""]
[null,null,null,null,null,null,null,"",null,null,"",null,""]
[null,null,null,null,null,null,null,"",null,null,"",null,""]
[null,null,null,null,null,null,null,"",null,null,"",null,""]
[null,null,null,null,null,null,null,"",null,null,"",null,""]
[null,null,null,null,null,null,null,"",null,null,"",null,""]
[null,null,null,null,null,null,null,"",null,null,"",null,""]
[null,null,null,null,null,null,null,"",null,null,"",null,""]
[null,null,null,null,null,null,null,"",null,null,"",null,""]
[null,null,null,null,null,null,null,"",null,null,"",null,""]
[null,null,null,null,null,null,null,"",null,null,"",null,""]
[null,null,null,null,null,null,null,"",null,null,"",null,""]
[null,null,null,null,null,null,null,"",null,null,"",null,""]
[null,null,null,null,null,null,null,"",null,null,"",null,""]
[null,null,null,null,null,null,null,"",null,null,"",null,""]
[null,null,null,null,null,null,null,"",null,null,"",null,""]
[null,null,null,null,null,null,null,"",null,null,"",null,""]
[null,null,null,null,null,null,null,"",null,null,"",null,""]
[null,null,null,null,null,null,null,"",null,null,"",null,""]
[null,null,null,null,null,null,null,"",null,null,"",null,""]
[null,null,null,null,null,null,null,"",null,null,"",null,""]
[null,null,null,null,null,null,null,"",null,null,"",null,""]
[null,null,null,null,null,null,null,"",null,null,"",null,""]
[null,null,null,null,null,null,null,{"$f":"IF(A1372<>\"\",IF(INDIRECT(ADDRESS(ROW()-1,8))=\"\",ROUND(SUM(INDIRECT(ADDRESS(ROW()-2,8)),F1372,-G1372),2),ROUND(SUM(INDIRECT(ADDRESS(ROW()-1,8)),F1372,-G1372),2)),\"\")","v":""},null,null,"",null,""]
[null,null,null,null,null,null,null,"",null,null,{"$f":"IF(A1373<>\"\",IF(INDIRECT(ADDRESS(ROW()-1,11))=\"\",ROUND(SUM(INDIRECT(ADDRESS(ROW()-2,11)),I1373,-J1373),2),ROUND(SUM(INDIRECT(ADDRESS(ROW()-1,11)),I1373,-J1373),2)),\"\")","v":""},null,""]
[null,null,null,null,null,null,null,"",null,null,"",null,""]
[null,null,null,null,null,null,null,"",null,null,"",null,""]
[null,null,null,null,null,null,null,"",null,null,"",null,{"$f":"IF(LEN(L1376)>0,F1376+G1376+I1376+J1376,\"\")","v":""}]
[null,null,null,null,null,null,null,"",null,null,"",null,""]
[null,null,null,null,null,null,null,"",null,null,"",null,""]
[null,null,null,null,null,null,null,"",null,null,"",null,""]
[null,null,null,null,null,null,null,"",null,null,"",null,""]
[null,null,null,null,null,null,null,"",null,null,"",null,""]
[null,null,null,null,null,null,null,"",null,null,"",null,""]
[null,null,null,null,null,null,null,"",null,null,"",null,""]
[null,null,null,null,null,null,null,"",null,null,"",null,""]
[null,null,null,null,null,null,null,"",null,null,"",null,""]
[null,null,null,null,null,null,null,"",null,null,"",null,""]
[null,null,null,null,null,null,null,"",null,null,"",null,""]
[null,null,null,null,null,null,null,"",null,null,"",null,""]
[null,null,null,null,null,null,null,"",null,null,"",null,""]
[null,null,null,null,null,null,null,"",null,null,"",null,""]
[null,null,null,null,null,null,null,"",null,null,"",null,""]
[null,null,null,null,null,null,null,"",null,null,"",null,""]
[null,null,null,null,null,null,null,"",null,null,"",null,""]
[null,null,null,null,null,null,null,"",null,null,"",null,""]
[null,null,null,null,null,null,null,"",null,null,"",null,""]
[null,null,null,null,null,null,null,"",null,null,"",null,""]
[null,null,null,null,null,null,null,"",null,null,"",null,""]
[null,null,null,null,null,null,null,"",null,null,"",null,""]
[null,null,null,null,null,null,null,"",null,null,"",null,""]
[null,null,null,null,null,null,null,"",null,null,"",null,""]
[null,null,null,null,null,null,null,"",null,null,"",null,""]
[null,null,null,null,null,null,null,"",null,null,"",null,""]
[null,null,null,null,null,null,null,"",null,null,"",null,""]
[null,null,null,null,null,null,null,"",null,null,"",null,""]
[null,null,null,null,null,null,null,"",null,null,"",null,""]
[null,null,null,null,null,null,null,"",null,null,"",null,""]
[null,null,null,null,null,null,null,"",null,null,"",null,""]
[null,null,null,null,null,null,null,"",null,null,"",null,""]
[null,null,null,null,null,null,null,"",null,null,"",null,""]
[null,null,null,null,null,null,null,"",null,null,"",null,""]
[null,null,null,null,null,null,null,"",null,null,"",null,""]
[null,null,null,null,null,null,null,"",null,null,"",null,""]
[null,null,null,null,null,null,null,"",null,null,"",null,""]
[null,null,null,null,null,null,null,"",null,null,"",null,""]
[null,null,null,null,null,null,null,"",null,null,"",null,""]
[null,null,null,null,null,null,null,"",null,null,"",null,""]
[null,null,null,null,null,null,null,"",null,null,"",null,""]
[null,null,null,null,null,null,null,"",null,null,"",null,""]
[null,null,null,null,null,null,null,"",null,null,"",null,""]
[null,null,null,null,null,null,null,"",null,null,"",null,""]
[null,null,null,null,null,null,null,"",null,null,"",null,""]
[null,null,null,null,null,null,null,"",null,null,"",null,""]
[null,null,null,null,null,null,null,"",null,null,"",null,""]
[null,null,null,null,null,null,null,"",null,null,"",null,""]
[null,null,null,null,null,null,null,"",null,null,"",null,""]
[null,null,null,null,null,null,null,"",null,null,"",null,""]
[null,null,null,null,null,null,null,"",null,null,"",null,""]
[null,null,null,null,null,null,null,"",null,null,"",null,""]
[null,null,null,null,null,null,null,"",null,null,"",null,""]
[null,null,null,null,null,null,null,"",null,null,"",null,""]
[null,null,null,null,null,null,null,"",null,null,"",null,""]
[null,null,null,null,null,null,null,"",null,null,"",null,""]
[null,null,null,null,null,null,null,"",null,null,"",null,""]
[null,null,null,null,null,null,null,"",null,null,"",null,""]
[null,null,null,null,null,null,null,"",null,null,"",null,""]
[null,null,null,null,null,null,null,{"$f":"IF(A1436<>\"\",IF(INDIRECT(ADDRESS(ROW()-1,8))=\"\",ROUND(SUM(INDIRECT(ADDRESS(ROW()-2,8)),F1436,-G1436),2),ROUND(SUM(INDIRECT(ADDRESS(ROW()-1,8)),F1436,-G1436),2)),\"\")","v":""},null,null,"",null,""]
[null,null,null,null,null,null,null,"",null,null,{"$f":"IF(A1437<>\"\",IF(INDIRECT(ADDRESS(ROW()-1,11))=\"\",ROUND(SUM(INDIRECT(ADDRESS(ROW()-2,11)),I1437,-J1437),2),ROUND(SUM(INDIRECT(ADDRESS(ROW()-1,11)),I1437,-J1437),2)),\"\")","v":""},null,""]
[null,null,null,null,null,null,null,"",null,null,"",null,""]
[null,null,null,null,null,null,null,"",null,null,"",null,""]
[null,null,null,null,null,null,null,"",null,null,"",null,{"$f":"IF(LEN(L1440)>0,F1440+G1440+I1440+J1440,\"\")","v":""}]
[null,null,null,null,null,null,null,"",null,null,"",null,""]
[null,null,null,null,null,null,null,"",null,null,"",null,""]
[null,null,null,null,null,null,null,"",null,null,"",null,""]
[null,null,null,null,null,null,null,"",null,null,"",null,""]
[null,null,null,null,null,null,null,"",null,null,"",null,""]
[null,null,null,null,null,null,null,"",null,null,"",null,""]
[null,null,null,null,null,null,null,"",null,null,"",null,""]
[null,null,null,null,null,null,null,"",null,null,"",null,""]
[null,null,null,null,null,null,null,"",null,null,"",null,""]
[null,null,null,null,null,null,null,"",null,null,"",null,""]
[null,null,null,null,null,null,null,"",null,null,"",null,""]
[null,null,null,null,null,null,null,"",null,null,"",null,""]
[null,null,null,null,null,null,null,"",null,null,"",null,""]
[null,null,null,null,null,null,null,"",null,null,"",null,""]
[null,null,null,null,null,null,null,"",null,null,"",null,""]
[null,null,null,null,null,null,null,"",null,null,"",null,""]
[null,null,null,null,null,null,null,"",null,null,"",null,""]
[null,null,null,null,null,null,null,"",null,null,"",null,""]
[null,null,null,null,null,null,null,"",null,null,"",null,""]
[null,null,null,null,null,null,null,"",null,null,"",null,""]
[null,null,null,null,null,null,null,"",null,null,"",null,""]
[null,null,null,null,null,null,null,"",null,null,"",null,{"$f":"IF(LEN(L1462)>0,F1462+G1462+I1462+J1462,\"\")","v":""}]
[null,null,null,null,null,null,null,"",null,null,"",null,{"$f":"IF(LEN(L1463)>0,F1463+G1463+I1463+J1463,\"\")","v":""}]
[null,null,null,null,null,null,null,"",null,null,"",null,{"$f":"IF(LEN(L1464)>0,F1464+G1464+I1464+J1464,\"\")","v":""}]
[null,null,null,null,null,null,null,"",null,null,"",null,{"$f":"IF(LEN(L1465)>0,F1465+G1465+I1465+J1465,\"\")","v":""}]
[null,null,null,null,null,null,null,"",null,null,"",null,{"$f":"IF(LEN(L1466)>0,F1466+G1466+I1466+J1466,\"\")","v":""}]
[0]
[]
[0]

{"sheet":"iPU1","index":18,"n_rows":30,"n_cols":19,"rows_kept":30,"cut":false,"hidden":true,"merged":[]}
[null,null,null,null,null,null,null,null,null,null,null,null,null,null,null,null,null,null,0]
["n.","SOGGETTO","COMUNICAZIONE\ndd mmm aaaa"]
[1,"Condomino01","e-mail"]
[2,"Condomino02","e-mail"]
[3,"Condomino03","per posta"]
[4,"Condomino04 S.r.l.","e-mail"]
[5,"Condomino05","e-mail"]
[6,"Condomino06","e-mail"]
[7,"Condomino07","Consegna a mano"]
[8,"Eredi Condomino08","e-mail"]
[9,"Condomino09 S.r.l.","e-mail"]
[10,"Condomino10","e-mail"]
[11,"Condomino11","e-mail"]
[12,"Condomino12","e-mail"]
[13,"Condomino13","e-mail"]
[14,"Condomino14","Consegna a mano"]
[15,"Condomino15","Consegna a mano"]
[16,"Condomino16","e-mail"]
[17,"Condomino17","e-mail"]
[18,"Condomino18","e-mail"]
[19,"Condomino19","e-mail"]
[20,"Condomino20","e-mail"]
[21,"Condomino21","e-mail"]
[22,"Condomino22","e-mail"]
[23,"Condomino23","e-mail"]
[24,"Inquilino1","e-mail"]
[25,"Inquilino2","e-mail"]
[26,"Inquilino3","e-mail"]
[27,"Inquilino4","e-mail"]
[28,"Inquilino5","e-mail"]

{"sheet":"iPU2","index":19,"n_rows":2,"n_cols":27,"rows_kept":2,"cut":false,"hidden":true,"merged":[[1,1,1,4]]}
[null,null,null,null,null,null,null,null,null,null,null,null,null,null,null,null,null,null,null,null,null,null,null,null,null,null,0]
["n.","ADEMPIMENTO",null,null,null,"DATA"]

{"sheet":"sRE","index":20,"n_rows":40,"n_cols":3,"rows_kept":40,"cut":false,"hidden":true,"merged":[[1,0,1,2],[35,1,35,2],[38,1,38,2],[39,1,39,2],[32,1,32,2],[33,1,33,2],[34,1,34,2],[36,1,36,2],[37,1,37,2],[16,1,16,2],[17,1,17,2],[18,1,18,2],[19,1,19,2],[20,1,20,2],[22,1,22,2],[23,1,23,2],[24,1,24,2],[25,1,25,2],[21,1,21,2],[8,1,8,2],[3,0,3,2],[4,1,4,2],[5,1,5,2],[6,1,6,2],[7,1,7,2],[10,0,10,2],[12,1,12,2],[13,1,13,2],[14,1,14,2],[15,1,15,2]]}
[]
["INDICE DEI PROSPETTI DEL RENDICONTO D'ESERCIZIO"]
[]
["Il rendiconto della gestione ordinaria dell'esercizio è costituito per il condominio dai seguenti elaborati:"]
[1,"IL PIANO DEI CONTI (non fornito in quanto uguale a quello dell'esercizio precedente)"]
[2,"LE TABELLE DI RIPARTIZIONE (non fornite in quanto sono le stesse dell'esercizio precedente)"]
[3,"IL  REGISTRO DI CONTABILITÀ"]
[4,"IL RIEPILOGO FINANZIARIO "]
[5,"LA NOTA SINTETICA ESPLICATIVA DELLA GESTIONE"]
[]
["Il presente fascicolo costituisce il \"RIEPILOGO FINANZIARIO\" ed è composto dai seguenti prospetti:"]
[]
["1 \n\n","PROSPETTO DELLE USCITE"]
[null,"Riporta, fra l'altro, gli importi delle spese sostenute e degli impegni di spesa imputabili all'esercizio, riepilogate e suddivise per voci, a loro volta raggruppate in capitoli.\nLe informazioni dettagliate sulle singole spese sono nel registro di contabilità."]
[2,"QUADRO DI RAFFRONTO fra SPESE EFFETTIVE e SPESE PREVENTIVATE"]
[null,"Riporta un confronto fra le spese preventivate ad inizio esercizio e quelle realmente effettuate."]
[3,"PROSPETTO di RIPARTO delle SPESE fra i CONDOMINI"]
[null,"Riporta gli importi con i quali i singoli condomini devono concorrere al pagamento delle spese sostenute. Queste sono suddivise fra i condomini secondo le varie tabelle millesimali di ripartizione, che stabiliscono per ciascun condomino la quota parte dovuta sul totale delle spese ricadenti in quella tabella."]
[4,"PROSPETTO di RIEPILOGO delle ENTRATE"]
[null,"Riporta gli importi dei pagamenti effettuati dai condomini per l'esercizio in corso, ed eventualmente dei conguagli per l'esercizio precedente e degli arretrati, relativi cioè ad esercizi anteriori a quello precedente."]
[5,"PROSPETTO DEI CREDITI"]
[null,"Riporta gli importi dei crediti che il condominio vanta nei confronti di condomini e di terzi. Gli importi sono suddivisi per esercizi."]
[6,"PROSPETTO DEI DEBITI"]
[null,"Riporta gli importi dei debiti che il condominio ha nei confronti di terzi e degli stessi condomini. Gli importo sono suddivisi per esercizi."]
[7,"PROSPETTO di RENDICONTO"]
[null,"Contiene tre quadri."]
[null,1,"CONTO ECONOMICO DELLA GESTIONE ORDINARIA"]
[null,null,"Riporta gli incassi e le spese dell'esercizio. Le spese riportate sono quelle ripartite, sia come già sostenute sia come impegni di spesa di competenza dell'esercizio."]
[null,2,"CONTO FINANZIARIO"]
[null,null,"Riporta i flussi in denaro in entrata ed in uscita sia per la gestione ordinaria sia per le eventuali gestioni speciali. Riporta inoltra la liquidità alla data del rendiconto."]
[null,3,"RIEPILOGO FINANZIARIO o SITUAZIONE PATRIMONIALE"]
[null,null,"Riporta le attività e le passività. Naturalmente come per tutti i condomini il saldo patrimoniale è sempre nullo."]
[8,"PROSPETTI dei CREDITORI TERZI e dei DEBITORI TERZI "]
[null,"Riportano i debiti ed i crediti con i relativi debitori e creditori, nonché le causali. "]
[9,"PROSPETTO dei DEPOSITI ATTIVI"]
[null,"(non riportato in quanto non ci sono attualmente depositi attivi) "]
[null,"Riporta i depositi attivi che il condominio vanta nei confronti di terzi. "]
[10,"PROSPETTO delle ATTREZZATURE"]
[null,"(non riportato in quanto non ci sono attualmente attrezzature di proprietà del Condominio) "]
[null,"Riporta le attrezzature che il condominio possiede. "]

{"sheet":"iPARTAB","index":21,"n_rows":111,"n_cols":13,"rows_kept":111,"cut":false,"hidden":true,"merged":[[8,6,9,6],[8,5,9,5],[8,0,9,0],[8,1,9,1],[8,2,9,2],[8,3,9,3],[8,4,9,4],[8,7,9,7],[8,8,9,8],[8,9,9,9],[8,10,9,10],[8,11,9,11]]}
["È consentito variare i dati delle sole celle senza sfondo colorato. I dati necessari hanno l'intestazione di colonna in rosso.",null,null,null,null,null,null,null,null,null,null,null,0]
[]
[]
[]
[]
[]
[{"$f":"'iP1'!A5","v":"Condominio \"TERMICO\""}]
["PARAMETRI PER LA DETERMINAZIONE DELLE TABELLE MILLESIMALI per le UNITÀ IMMOBILIARI"]
["n° U.I.","Codice\nUnità\nImmobiliare","Codice\nCondomino","Codice\nFruitore","Condomino /Inquilino fruitore","VOLUMI \nVIRTUALI","POTENZA INSTALLATA","NUMERO STUFE","CONSUMO","Part","Sub","Categ."]
[]
[1,{"$f":"iUI!B11","v":"U01"},{"$f":"IF(iUI!C11<>\"\",iUI!C11,\"\")","v":"C20"},{"$f":"IF(iUI!D11<>\"\",iUI!D11,\"\")","v":"I01"},{"$f":"IF(iUI!E11<>\"\",iUI!E11,\"\")","v":"Condomino20 /  Inquilino1"},29.95,1991,3,100,{"$f":"iUI!H11","v":326},{"$f":"iUI!I11","v":75},{"$f":"iUI!K11","v":"A/2"}]
[2,{"$f":"iUI!B12","v":"U02"},{"$f":"IF(iUI!C12<>\"\",iUI!C12,\"\")","v":"C09"},{"$f":"IF(iUI!D12<>\"\",iUI!D12,\"\")","v":"C09"},{"$f":"IF(iUI!E12<>\"\",iUI!E12,\"\")","v":"Condomino09 S.r.l. /  Condomino09 S.r.l."},40.51,4055,4,100,{"$f":"iUI!H12","v":326},{"$f":"iUI!I12","v":58},{"$f":"iUI!K12","v":"C/1"}]
[3,{"$f":"iUI!B13","v":"U03"},{"$f":"IF(iUI!C13<>\"\",iUI!C13,\"\")","v":"C03"},{"$f":"IF(iUI!D13<>\"\",iUI!D13,\"\")","v":"C03"},{"$f":"IF(iUI!E13<>\"\",iUI!E13,\"\")","v":"Condomino03 /  Condomino03"},68.819999999999993,8114,8,100,{"$f":"iUI!H13","v":326},{"$f":"iUI!I13","v":76},{"$f":"iUI!K13","v":"A/10"}]
[4,{"$f":"iUI!B14","v":"U04"},{"$f":"IF(iUI!C14<>\"\",iUI!C14,\"\")","v":"C04"},{"$f":"IF(iUI!D14<>\"\",iUI!D14,\"\")","v":"C04"},{"$f":"IF(iUI!E14<>\"\",iUI!E14,\"\")","v":"Condomino04 S.r.l. /  Condomino04 S.r.l."},37,3934,5,100,{"$f":"iUI!H14","v":326},{"$f":"iUI!I14","v":60},{"$f":"iUI!K14","v":"C/1"}]
[5,{"$f":"iUI!B15","v":"U05"},{"$f":"IF(iUI!C15<>\"\",iUI!C15,\"\")","v":"C23"},{"$f":"IF(iUI!D15<>\"\",iUI!D15,\"\")","v":"C23"},{"$f":"IF(iUI!E15<>\"\",iUI!E15,\"\")","v":"Condomino23 /  Condomino23"},38.76,5029,5,100,{"$f":"iUI!H15","v":326},{"$f":"iUI!I15","v":61},{"$f":"iUI!K15","v":"C/1"}]
[6,{"$f":"iUI!B16","v":"U06"},{"$f":"IF(iUI!C16<>\"\",iUI!C16,\"\")","v":"C15"},{"$f":"IF(iUI!D16<>\"\",iUI!D16,\"\")","v":"C15"},{"$f":"IF(iUI!E16<>\"\",iUI!E16,\"\")","v":"Condomino15 /  Condomino15"},37,4794,5,200,{"$f":"iUI!H16","v":326},{"$f":"iUI!I16","v":62},{"$f":"iUI!K16","v":"C/1"}]
[7,{"$f":"iUI!B17","v":"U07"},{"$f":"IF(iUI!C17<>\"\",iUI!C17,\"\")","v":"C05"},{"$f":"IF(iUI!D17<>\"\",iUI!D17,\"\")","v":"C05"},{"$f":"IF(iUI!E17<>\"\",iUI!E17,\"\")","v":"Condomino05 /  Condomino05"},47.56,6505,7,300,{"$f":"iUI!H17","v":326},{"$f":"iUI!I17","v":7},{"$f":"iUI!K17","v":"A/2"}]
[8,{"$f":"iUI!B18","v":"U08"},{"$f":"IF(iUI!C18<>\"\",iUI!C18,\"\")","v":"C13"},{"$f":"IF(iUI!D18<>\"\",iUI!D18,\"\")","v":"C13"},{"$f":"IF(iUI!E18<>\"\",iUI!E18,\"\")","v":"Condomino13 /  Condomino13"},38.76,5360,5,300,{"$f":"iUI!H18","v":326},{"$f":"iUI!I18","v":8},{"$f":"iUI!K18","v":"A/2"}]
[9,{"$f":"iUI!B19","v":"U09"},{"$f":"IF(iUI!C19<>\"\",iUI!C19,\"\")","v":"C11"},{"$f":"IF(iUI!D19<>\"\",iUI!D19,\"\")","v":"C11"},{"$f":"IF(iUI!E19<>\"\",iUI!E19,\"\")","v":"Condomino11 /  Condomino11"},37,2986,3,450,{"$f":"iUI!H19","v":326},{"$f":"iUI!I19","v":10},{"$f":"iUI!K19","v":"A/2"}]
[10,{"$f":"iUI!B20","v":"U10"},{"$f":"IF(iUI!C20<>\"\",iUI!C20,\"\")","v":"C19"},{"$f":"IF(iUI!D20<>\"\",iUI!D20,\"\")","v":"C19"},{"$f":"IF(iUI!E20<>\"\",iUI!E20,\"\")","v":"Condomino19 /  Condomino19"},58.12,7148,7,400,{"$f":"iUI!H20","v":326},{"$f":"iUI!I20","v":79},{"$f":"iUI!K20","v":"A/2"}]
[11,{"$f":"iUI!B21","v":"U11"},{"$f":"IF(iUI!C21<>\"\",iUI!C21,\"\")","v":"C22"},{"$f":"IF(iUI!D21<>\"\",iUI!D21,\"\")","v":"C22"},{"$f":"IF(iUI!E21<>\"\",iUI!E21,\"\")","v":"Condomino22 /  Condomino22"},28.19,3319,4,400,{"$f":"iUI!H21","v":326},{"$f":"iUI!I21","v":80},{"$f":"iUI!K21","v":"A/3"}]
[12,{"$f":"iUI!B22","v":"U12"},{"$f":"IF(iUI!C22<>\"\",iUI!C22,\"\")","v":"C21"},{"$f":"IF(iUI!D22<>\"\",iUI!D22,\"\")","v":"C21"},{"$f":"IF(iUI!E22<>\"\",iUI!E22,\"\")","v":"Condomino21 /  Condomino21"},37,4813,5,400,{"$f":"iUI!H22","v":326},{"$f":"iUI!I22","v":14},{"$f":"iUI!K22","v":"A/2"}]
[13,{"$f":"iUI!B23","v":"U13"},{"$f":"IF(iUI!C23<>\"\",iUI!C23,\"\")","v":"C18"},{"$f":"IF(iUI!D23<>\"\",iUI!D23,\"\")","v":"I02"},{"$f":"IF(iUI!E23<>\"\",iUI!E23,\"\")","v":"Condomino18 /  Inquilino2"},64.069999999999993,8529,8,500,{"$f":"iUI!H23","v":326},{"$f":"iUI!I23","v":15},{"$f":"iUI!K23","v":"A/2"}]
[14,{"$f":"iUI!B24","v":"U14"},{"$f":"IF(iUI!C24<>\"\",iUI!C24,\"\")","v":"C14"},{"$f":"IF(iUI!D24<>\"\",iUI!D24,\"\")","v":"C14"},{"$f":"IF(iUI!E24<>\"\",iUI!E24,\"\")","v":"Condomino14 /  Condomino14"},29.83,4389,4,500,{"$f":"iUI!H24","v":326},{"$f":"iUI!I24","v":16},{"$f":"iUI!K24","v":"A/2"}]
[15,{"$f":"iUI!B25","v":"U15"},{"$f":"IF(iUI!C25<>\"\",iUI!C25,\"\")","v":"C02"},{"$f":"IF(iUI!D25<>\"\",iUI!D25,\"\")","v":"I03"},{"$f":"IF(iUI!E25<>\"\",iUI!E25,\"\")","v":"Condomino02 /  Inquilino3"},37,4657,5,500,{"$f":"iUI!H25","v":326},{"$f":"iUI!I25","v":17},{"$f":"iUI!K25","v":"A/3"}]
[16,{"$f":"iUI!B26","v":"U16"},{"$f":"IF(iUI!C26<>\"\",iUI!C26,\"\")","v":"C16"},{"$f":"IF(iUI!D26<>\"\",iUI!D26,\"\")","v":"C16"},{"$f":"IF(iUI!E26<>\"\",iUI!E26,\"\")","v":"Condomino16 /  Condomino16"},52.85,5936,5,500,{"$f":"iUI!H26","v":326},{"$f":"iUI!I26","v":83},{"$f":"iUI!K26","v":"A/2"}]
[17,{"$f":"iUI!B27","v":"U17"},{"$f":"IF(iUI!C27<>\"\",iUI!C27,\"\")","v":"C12"},{"$f":"IF(iUI!D27<>\"\",iUI!D27,\"\")","v":"C12"},{"$f":"IF(iUI!E27<>\"\",iUI!E27,\"\")","v":"Condomino12 /  Condomino12"},47.56,5822,4,500,{"$f":"iUI!H27","v":326},{"$f":"iUI!I27","v":81},{"$f":"iUI!K27","v":"A/2"}]
[18,{"$f":"iUI!B28","v":"U18"},{"$f":"IF(iUI!C28<>\"\",iUI!C28,\"\")","v":"C06"},{"$f":"IF(iUI!D28<>\"\",iUI!D28,\"\")","v":"C06"},{"$f":"IF(iUI!E28<>\"\",iUI!E28,\"\")","v":"Condomino06 /  Condomino06"},42.27,6594,5,500,{"$f":"iUI!H28","v":326},{"$f":"iUI!I28","v":21},{"$f":"iUI!K28","v":"A/2"}]
[19,{"$f":"iUI!B29","v":"U19"},{"$f":"IF(iUI!C29<>\"\",iUI!C29,\"\")","v":"C07"},{"$f":"IF(iUI!D29<>\"\",iUI!D29,\"\")","v":"C07"},{"$f":"IF(iUI!E29<>\"\",iUI!E29,\"\")","v":"Condomino07 /  Condomino07"},35.770000000000003,3355,3,600,{"$f":"iUI!H29","v":326},{"$f":"iUI!I29","v":22},{"$f":"iUI!K29","v":"A/2"}]
[20,{"$f":"iUI!B30","v":"U20"},{"$f":"IF(iUI!C30<>\"\",iUI!C30,\"\")","v":"C17"},{"$f":"IF(iUI!D30<>\"\",iUI!D30,\"\")","v":"C17"},{"$f":"IF(iUI!E30<>\"\",iUI!E30,\"\")","v":"Condomino17 /  Condomino17"},73.97,8528,7,600,{"$f":"iUI!H30","v":326},{"$f":"iUI!I30","v":23},{"$f":"iUI!K30","v":"A/1"}]
[21,{"$f":"iUI!B31","v":"U21"},{"$f":"IF(iUI!C31<>\"\",iUI!C31,\"\")","v":"C01"},{"$f":"IF(iUI!D31<>\"\",iUI!D31,\"\")","v":"C01"},{"$f":"IF(iUI!E31<>\"\",iUI!E31,\"\")","v":"Condomino01 /  Condomino01"},29.95,3532,3,600,{"$f":"iUI!H31","v":326},{"$f":"iUI!I31","v":24},{"$f":"iUI!K31","v":"A/2"}]
[22,{"$f":"iUI!B32","v":"U22"},{"$f":"IF(iUI!C32<>\"\",iUI!C32,\"\")","v":"C10"},{"$f":"IF(iUI!D32<>\"\",iUI!D32,\"\")","v":"I04"},{"$f":"IF(iUI!E32<>\"\",iUI!E32,\"\")","v":"Condomino10 /  Inquilino4"},49.32,2850,6,700,{"$f":"iUI!H32","v":326},{"$f":"iUI!I32","v":82},{"$f":"iUI!K32","v":"A/2"}]
[23,{"$f":"iUI!B33","v":"U23"},{"$f":"IF(iUI!C33<>\"\",iUI!C33,\"\")","v":"C08"},{"$f":"IF(iUI!D33<>\"\",iUI!D33,\"\")","v":"C08"},{"$f":"IF(iUI!E33<>\"\",iUI!E33,\"\")","v":"Eredi Condomino08 /  Eredi Condomino08"},29.83,966,4,700,{"$f":"iUI!H33","v":326},{"$f":"iUI!I33","v":73},{"$f":"iUI!K33","v":"C/2"}]
[24,{"$f":"iUI!B34","v":"U24"},{"$f":"IF(iUI!C34<>\"\",iUI!C34,\"\")","v":"C12"},{"$f":"IF(iUI!D34<>\"\",iUI!D34,\"\")","v":"I05"},{"$f":"IF(iUI!E34<>\"\",iUI!E34,\"\")","v":"Condomino12 /  Inquilino5"},8.91,966,0,0,{"$f":"iUI!H34","v":326},{"$f":"iUI!I34","v":78},{"$f":"iUI!K34","v":"C/2"}]
[25,{"$f":"iUI!B35","v":"U25"},{"$f":"IF(iUI!C35<>\"\",iUI!C35,\"\")","v":""},{"$f":"IF(iUI!D35<>\"\",iUI!D35,\"\")","v":""},{"$f":"IF(iUI!E35<>\"\",iUI!E35,\"\")","v":""},null,null,null,null,{"$f":"iUI!H35","v":0},{"$f":"iUI!I35","v":0},{"$f":"iUI!K35","v":0}]
[26,{"$f":"iUI!B36","v":"U26"},{"$f":"IF(iUI!C36<>\"\",iUI!C36,\"\")","v":""},{"$f":"IF(iUI!D36<>\"\",iUI!D36,\"\")","v":""},{"$f":"IF(iUI!E36<>\"\",iUI!E36,\"\")","v":""},null,null,null,null,{"$f":"iUI!H36","v":0},{"$f":"iUI!I36","v":0},{"$f":"iUI!K36","v":0}]
[27,{"$f":"iUI!B37","v":"U27"},{"$f":"IF(iUI!C37<>\"\",iUI!C37,\"\")","v":""},{"$f":"IF(iUI!D37<>\"\",iUI!D37,\"\")","v":""},{"$f":"IF(iUI!E37<>\"\",iUI!E37,\"\")","v":""},null,null,null,null,{"$f":"iUI!H37","v":0},{"$f":"iUI!I37","v":0},{"$f":"iUI!K37","v":0}]
[28,{"$f":"iUI!B38","v":"U28"},{"$f":"IF(iUI!C38<>\"\",iUI!C38,\"\")","v":""},{"$f":"IF(iUI!D38<>\"\",iUI!D38,\"\")","v":""},{"$f":"IF(iUI!E38<>\"\",iUI!E38,\"\")","v":""},null,null,null,null,{"$f":"iUI!H38","v":0},{"$f":"iUI!I38","v":0},{"$f":"iUI!K38","v":0}]
[29,{"$f":"iUI!B39","v":"U29"},{"$f":"IF(iUI!C39<>\"\",iUI!C39,\"\")","v":""},{"$f":"IF(iUI!D39<>\"\",iUI!D39,\"\")","v":""},{"$f":"IF(iUI!E39<>\"\",iUI!E39,\"\")","v":""},null,null,null,null,{"$f":"iUI!H39","v":0},{"$f":"iUI!I39","v":0},{"$f":"iUI!K39","v":0}]
[30,{"$f":"iUI!B40","v":"U30"},{"$f":"IF(iUI!C40<>\"\",iUI!C40,\"\")","v":""},{"$f":"IF(iUI!D40<>\"\",iUI!D40,\"\")","v":""},{"$f":"IF(iUI!E40<>\"\",iUI!E40,\"\")","v":""},null,null,null,null,{"$f":"iUI!H40","v":0},{"$f":"iUI!I40","v":0},{"$f":"iUI!K40","v":0}]
[31,{"$f":"iUI!B41","v":"U31"},{"$f":"IF(iUI!C41<>\"\",iUI!C41,\"\")","v":""},{"$f":"IF(iUI!D41<>\"\",iUI!D41,\"\")","v":""},{"$f":"IF(iUI!E41<>\"\",iUI!E41,\"\")","v":""},null,null,null,null,{"$f":"iUI!H41","v":0},{"$f":"iUI!I41","v":0},{"$f":"iUI!K41","v":0}]
[32,{"$f":"iUI!B42","v":"U32"},{"$f":"IF(iUI!C42<>\"\",iUI!C42,\"\")","v":""},{"$f":"IF(iUI!D42<>\"\",iUI!D42,\"\")","v":""},{"$f":"IF(iUI!E42<>\"\",iUI!E42,\"\")","v":""},null,null,null,null,{"$f":"iUI!H42","v":0},{"$f":"iUI!I42","v":0},{"$f":"iUI!K42","v":0}]
[33,{"$f":"iUI!B43","v":"U33"},{"$f":"IF(iUI!C43<>\"\",iUI!C43,\"\")","v":""},{"$f":"IF(iUI!D43<>\"\",iUI!D43,\"\")","v":""},{"$f":"IF(iUI!E43<>\"\",iUI!E43,\"\")","v":""},null,null,null,null,{"$f":"iUI!H43","v":0},{"$f":"iUI!I43","v":0},{"$f":"iUI!K43","v":0}]
[34,{"$f":"iUI!B44","v":"U34"},{"$f":"IF(iUI!C44<>\"\",iUI!C44,\"\")","v":""},{"$f":"IF(iUI!D44<>\"\",iUI!D44,\"\")","v":""},{"$f":"IF(iUI!E44<>\"\",iUI!E44,\"\")","v":""},null,null,null,null,{"$f":"iUI!H44","v":0},{"$f":"iUI!I44","v":0},{"$f":"iUI!K44","v":0}]
[35,{"$f":"iUI!B45","v":"U35"},{"$f":"IF(iUI!C45<>\"\",iUI!C45,\"\")","v":""},{"$f":"IF(iUI!D45<>\"\",iUI!D45,\"\")","v":""},{"$f":"IF(iUI!E45<>\"\",iUI!E45,\"\")","v":""},null,null,null,null,{"$f":"iUI!H45","v":0},{"$f":"iUI!I45","v":0},{"$f":"iUI!K45","v":0}]
[36,{"$f":"iUI!B46","v":"U36"},{"$f":"IF(iUI!C46<>\"\",iUI!C46,\"\")","v":""},{"$f":"IF(iUI!D46<>\"\",iUI!D46,\"\")","v":""},{"$f":"IF(iUI!E46<>\"\",iUI!E46,\"\")","v":""},null,null,null,null,{"$f":"iUI!H46","v":0},{"$f":"iUI!I46","v":0},{"$f":"iUI!K46","v":0}]
[37,{"$f":"iUI!B47","v":"U37"},{"$f":"IF(iUI!C47<>\"\",iUI!C47,\"\")","v":""},{"$f":"IF(iUI!D47<>\"\",iUI!D47,\"\")","v":""},{"$f":"IF(iUI!E47<>\"\",iUI!E47,\"\")","v":""},null,null,null,null,{"$f":"iUI!H47","v":0},{"$f":"iUI!I47","v":0},{"$f":"iUI!K47","v":0}]
[38,{"$f":"iUI!B48","v":"U38"},{"$f":"IF(iUI!C48<>\"\",iUI!C48,\"\")","v":""},{"$f":"IF(iUI!D48<>\"\",iUI!D48,\"\")","v":""},{"$f":"IF(iUI!E48<>\"\",iUI!E48,\"\")","v":""},null,null,null,null,{"$f":"iUI!H48","v":0},{"$f":"iUI!I48","v":0},{"$f":"iUI!K48","v":0}]
[39,{"$f":"iUI!B49","v":"U39"},{"$f":"IF(iUI!C49<>\"\",iUI!C49,\"\")","v":""},{"$f":"IF(iUI!D49<>\"\",iUI!D49,\"\")","v":""},{"$f":"IF(iUI!E49<>\"\",iUI!E49,\"\")","v":""},null,null,null,null,{"$f":"iUI!H49","v":0},{"$f":"iUI!I49","v":0},{"$f":"iUI!K49","v":0}]
[40,{"$f":"iUI!B50","v":"U40"},{"$f":"IF(iUI!C50<>\"\",iUI!C50,\"\")","v":""},{"$f":"IF(iUI!D50<>\"\",iUI!D50,\"\")","v":""},{"$f":"IF(iUI!E50<>\"\",iUI!E50,\"\")","v":""},null,null,null,null,{"$f":"iUI!H50","v":0},{"$f":"iUI!I50","v":0},{"$f":"iUI!K50","v":0}]
[41,{"$f":"iUI!B51","v":"U41"},{"$f":"IF(iUI!C51<>\"\",iUI!C51,\"\")","v":""},{"$f":"IF(iUI!D51<>\"\",iUI!D51,\"\")","v":""},{"$f":"IF(iUI!E51<>\"\",iUI!E51,\"\")","v":""},null,null,null,null,{"$f":"iUI!H51","v":0},{"$f":"iUI!I51","v":0},{"$f":"iUI!K51","v":0}]
[42,{"$f":"iUI!B52","v":"U42"},{"$f":"IF(iUI!C52<>\"\",iUI!C52,\"\")","v":""},{"$f":"IF(iUI!D52<>\"\",iUI!D52,\"\")","v":""},{"$f":"IF(iUI!E52<>\"\",iUI!E52,\"\")","v":""},null,null,null,null,{"$f":"iUI!H52","v":0},{"$f":"iUI!I52","v":0},{"$f":"iUI!K52","v":0}]
[43,{"$f":"iUI!B53","v":"U43"},{"$f":"IF(iUI!C53<>\"\",iUI!C53,\"\")","v":""},{"$f":"IF(iUI!D53<>\"\",iUI!D53,\"\")","v":""},{"$f":"IF(iUI!E53<>\"\",iUI!E53,\"\")","v":""},null,null,null,null,{"$f":"iUI!H53","v":0},{"$f":"iUI!I53","v":0},{"$f":"iUI!K53","v":0}]
[44,{"$f":"iUI!B54","v":"U44"},{"$f":"IF(iUI!C54<>\"\",iUI!C54,\"\")","v":""},{"$f":"IF(iUI!D54<>\"\",iUI!D54,\"\")","v":""},{"$f":"IF(iUI!E54<>\"\",iUI!E54,\"\")","v":""},null,null,null,null,{"$f":"iUI!H54","v":0},{"$f":"iUI!I54","v":0},{"$f":"iUI!K54","v":0}]
[45,{"$f":"iUI!B55","v":"U45"},{"$f":"IF(iUI!C55<>\"\",iUI!C55,\"\")","v":""},{"$f":"IF(iUI!D55<>\"\",iUI!D55,\"\")","v":""},{"$f":"IF(iUI!E55<>\"\",iUI!E55,\"\")","v":""},null,null,null,null,{"$f":"iUI!H55","v":0},{"$f":"iUI!I55","v":0},{"$f":"iUI!K55","v":0}]
[46,{"$f":"iUI!B56","v":"U46"},{"$f":"IF(iUI!C56<>\"\",iUI!C56,\"\")","v":""},{"$f":"IF(iUI!D56<>\"\",iUI!D56,\"\")","v":""},{"$f":"IF(iUI!E56<>\"\",iUI!E56,\"\")","v":""},null,null,null,null,{"$f":"iUI!H56","v":0},{"$f":"iUI!I56","v":0},{"$f":"iUI!K56","v":0}]
[47,{"$f":"iUI!B57","v":"U47"},{"$f":"IF(iUI!C57<>\"\",iUI!C57,\"\")","v":""},{"$f":"IF(iUI!D57<>\"\",iUI!D57,\"\")","v":""},{"$f":"IF(iUI!E57<>\"\",iUI!E57,\"\")","v":""},null,null,null,null,{"$f":"iUI!H57","v":0},{"$f":"iUI!I57","v":0},{"$f":"iUI!K57","v":0}]
[48,{"$f":"iUI!B58","v":"U48"},{"$f":"IF(iUI!C58<>\"\",iUI!C58,\"\")","v":""},{"$f":"IF(iUI!D58<>\"\",iUI!D58,\"\")","v":""},{"$f":"IF(iUI!E58<>\"\",iUI!E58,\"\")","v":""},null,null,null,null,{"$f":"iUI!H58","v":0},{"$f":"iUI!I58","v":0},{"$f":"iUI!K58","v":0}]
[49,{"$f":"iUI!B59","v":"U49"},{"$f":"IF(iUI!C59<>\"\",iUI!C59,\"\")","v":""},{"$f":"IF(iUI!D59<>\"\",iUI!D59,\"\")","v":""},{"$f":"IF(iUI!E59<>\"\",iUI!E59,\"\")","v":""},null,null,null,null,{"$f":"iUI!H59","v":0},{"$f":"iUI!I59","v":0},{"$f":"iUI!K59","v":0}]
[50,{"$f":"iUI!B60","v":"U50"},{"$f":"IF(iUI!C60<>\"\",iUI!C60,\"\")","v":""},{"$f":"IF(iUI!D60<>\"\",iUI!D60,\"\")","v":""},{"$f":"IF(iUI!E60<>\"\",iUI!E60,\"\")","v":""},null,null,null,null,{"$f":"iUI!H60","v":0},{"$f":"iUI!I60","v":0},{"$f":"iUI!K60","v":0}]
[51,{"$f":"iUI!B61","v":"U51"},{"$f":"IF(iUI!C61<>\"\",iUI!C61,\"\")","v":""},{"$f":"IF(iUI!D61<>\"\",iUI!D61,\"\")","v":""},{"$f":"IF(iUI!E61<>\"\",iUI!E61,\"\")","v":""},null,null,null,null,{"$f":"iUI!H61","v":0},{"$f":"iUI!I61","v":0},{"$f":"iUI!K61","v":0}]
[52,{"$f":"iUI!B62","v":"U52"},{"$f":"IF(iUI!C62<>\"\",iUI!C62,\"\")","v":""},{"$f":"IF(iUI!D62<>\"\",iUI!D62,\"\")","v":""},{"$f":"IF(iUI!E62<>\"\",iUI!E62,\"\")","v":""},null,null,null,null,{"$f":"iUI!H62","v":0},{"$f":"iUI!I62","v":0},{"$f":"iUI!K62","v":0}]
[53,{"$f":"iUI!B63","v":"U53"},{"$f":"IF(iUI!C63<>\"\",iUI!C63,\"\")","v":""},{"$f":"IF(iUI!D63<>\"\",iUI!D63,\"\")","v":""},{"$f":"IF(iUI!E63<>\"\",iUI!E63,\"\")","v":""},null,null,null,null,{"$f":"iUI!H63","v":0},{"$f":"iUI!I63","v":0},{"$f":"iUI!K63","v":0}]
[54,{"$f":"iUI!B64","v":"U54"},{"$f":"IF(iUI!C64<>\"\",iUI!C64,\"\")","v":""},{"$f":"IF(iUI!D64<>\"\",iUI!D64,\"\")","v":""},{"$f":"IF(iUI!E64<>\"\",iUI!E64,\"\")","v":""},null,null,null,null,{"$f":"iUI!H64","v":0},{"$f":"iUI!I64","v":0},{"$f":"iUI!K64","v":0}]
[55,{"$f":"iUI!B65","v":"U55"},{"$f":"IF(iUI!C65<>\"\",iUI!C65,\"\")","v":""},{"$f":"IF(iUI!D65<>\"\",iUI!D65,\"\")","v":""},{"$f":"IF(iUI!E65<>\"\",iUI!E65,\"\")","v":""},null,null,null,null,{"$f":"iUI!H65","v":0},{"$f":"iUI!I65","v":0},{"$f":"iUI!K65","v":0}]
[56,{"$f":"iUI!B66","v":"U56"},{"$f":"IF(iUI!C66<>\"\",iUI!C66,\"\")","v":""},{"$f":"IF(iUI!D66<>\"\",iUI!D66,\"\")","v":""},{"$f":"IF(iUI!E66<>\"\",iUI!E66,\"\")","v":""},null,null,null,null,{"$f":"iUI!H66","v":0},{"$f":"iUI!I66","v":0},{"$f":"iUI!K66","v":0}]
[57,{"$f":"iUI!B67","v":"U57"},{"$f":"IF(iUI!C67<>\"\",iUI!C67,\"\")","v":""},{"$f":"IF(iUI!D67<>\"\",iUI!D67,\"\")","v":""},{"$f":"IF(iUI!E67<>\"\",iUI!E67,\"\")","v":""},null,null,null,null,{"$f":"iUI!H67","v":0},{"$f":"iUI!I67","v":0},{"$f":"iUI!K67","v":0}]
[58,{"$f":"iUI!B68","v":"U58"},{"$f":"IF(iUI!C68<>\"\",iUI!C68,\"\")","v":""},{"$f":"IF(iUI!D68<>\"\",iUI!D68,\"\")","v":""},{"$f":"IF(iUI!E68<>\"\",iUI!E68,\"\")","v":""},null,null,null,null,{"$f":"iUI!H68","v":0},{"$f":"iUI!I68","v":0},{"$f":"iUI!K68","v":0}]
[59,{"$f":"iUI!B69","v":"U59"},{"$f":"IF(iUI!C69<>\"\",iUI!C69,\"\")","v":""},{"$f":"IF(iUI!D69<>\"\",iUI!D69,\"\")","v":""},{"$f":"IF(iUI!E69<>\"\",iUI!E69,\"\")","v":""},null,null,null,null,{"$f":"iUI!H69","v":0},{"$f":"iUI!I69","v":0},{"$f":"iUI!K69","v":0}]
[60,{"$f":"iUI!B70","v":"U60"},{"$f":"IF(iUI!C70<>\"\",iUI!C70,\"\")","v":""},{"$f":"IF(iUI!D70<>\"\",iUI!D70,\"\")","v":""},{"$f":"IF(iUI!E70<>\"\",iUI!E70,\"\")","v":""},null,null,null,null,{"$f":"iUI!H70","v":0},{"$f":"iUI!I70","v":0},{"$f":"iUI!K70","v":0}]
[61,{"$f":"iUI!B71","v":"U61"},{"$f":"IF(iUI!C71<>\"\",iUI!C71,\"\")","v":""},{"$f":"IF(iUI!D71<>\"\",iUI!D71,\"\")","v":""},{"$f":"IF(iUI!E71<>\"\",iUI!E71,\"\")","v":""},null,null,null,null,{"$f":"iUI!H71","v":0},{"$f":"iUI!I71","v":0},{"$f":"iUI!K71","v":0}]
[62,{"$f":"iUI!B72","v":"U62"},{"$f":"IF(iUI!C72<>\"\",iUI!C72,\"\")","v":""},{"$f":"IF(iUI!D72<>\"\",iUI!D72,\"\")","v":""},{"$f":"IF(iUI!E72<>\"\",iUI!E72,\"\")","v":""},null,null,null,null,{"$f":"iUI!H72","v":0},{"$f":"iUI!I72","v":0},{"$f":"iUI!K72","v":0}]
[63,{"$f":"iUI!B73","v":"U63"},{"$f":"IF(iUI!C73<>\"\",iUI!C73,\"\")","v":""},{"$f":"IF(iUI!D73<>\"\",iUI!D73,\"\")","v":""},{"$f":"IF(iUI!E73<>\"\",iUI!E73,\"\")","v":""},null,null,null,null,{"$f":"iUI!H73","v":0},{"$f":"iUI!I73","v":0},{"$f":"iUI!K73","v":0}]
[64,{"$f":"iUI!B74","v":"U64"},{"$f":"IF(iUI!C74<>\"\",iUI!C74,\"\")","v":""},{"$f":"IF(iUI!D74<>\"\",iUI!D74,\"\")","v":""},{"$f":"IF(iUI!E74<>\"\",iUI!E74,\"\")","v":""},null,null,null,null,{"$f":"iUI!H74","v":0},{"$f":"iUI!I74","v":0},{"$f":"iUI!K74","v":0}]
[65,{"$f":"iUI!B75","v":"U65"},{"$f":"IF(iUI!C75<>\"\",iUI!C75,\"\")","v":""},{"$f":"IF(iUI!D75<>\"\",iUI!D75,\"\")","v":""},{"$f":"IF(iUI!E75<>\"\",iUI!E75,\"\")","v":""},null,null,null,null,{"$f":"iUI!H75","v":0},{"$f":"iUI!I75","v":0},{"$f":"iUI!K75","v":0}]
[66,{"$f":"iUI!B76","v":"U66"},{"$f":"IF(iUI!C76<>\"\",iUI!C76,\"\")","v":""},{"$f":"IF(iUI!D76<>\"\",iUI!D76,\"\")","v":""},{"$f":"IF(iUI!E76<>\"\",iUI!E76,\"\")","v":""},null,null,null,null,{"$f":"iUI!H76","v":0},{"$f":"iUI!I76","v":0},{"$f":"iUI!K76","v":0}]
[67,{"$f":"iUI!B77","v":"U67"},{"$f":"IF(iUI!C77<>\"\",iUI!C77,\"\")","v":""},{"$f":"IF(iUI!D77<>\"\",iUI!D77,\"\")","v":""},{"$f":"IF(iUI!E77<>\"\",iUI!E77,\"\")","v":""},null,null,null,null,{"$f":"iUI!H77","v":0},{"$f":"iUI!I77","v":0},{"$f":"iUI!K77","v":0}]
[68,{"$f":"iUI!B78","v":"U68"},{"$f":"IF(iUI!C78<>\"\",iUI!C78,\"\")","v":""},{"$f":"IF(iUI!D78<>\"\",iUI!D78,\"\")","v":""},{"$f":"IF(iUI!E78<>\"\",iUI!E78,\"\")","v":""},null,null,null,null,{"$f":"iUI!H78","v":0},{"$f":"iUI!I78","v":0},{"$f":"iUI!K78","v":0}]
[69,{"$f":"iUI!B79","v":"U69"},{"$f":"IF(iUI!C79<>\"\",iUI!C79,\"\")","v":""},{"$f":"IF(iUI!D79<>\"\",iUI!D79,\"\")","v":""},{"$f":"IF(iUI!E79<>\"\",iUI!E79,\"\")","v":""},null,null,null,null,{"$f":"iUI!H79","v":0},{"$f":"iUI!I79","v":0},{"$f":"iUI!K79","v":0}]
[70,{"$f":"iUI!B80","v":"U70"},{"$f":"IF(iUI!C80<>\"\",iUI!C80,\"\")","v":""},{"$f":"IF(iUI!D80<>\"\",iUI!D80,\"\")","v":""},{"$f":"IF(iUI!E80<>\"\",iUI!E80,\"\")","v":""},null,null,null,null,{"$f":"iUI!H80","v":0},{"$f":"iUI!I80","v":0},{"$f":"iUI!K80","v":0}]
[71,{"$f":"iUI!B81","v":"U71"},{"$f":"IF(iUI!C81<>\"\",iUI!C81,\"\")","v":""},{"$f":"IF(iUI!D81<>\"\",iUI!D81,\"\")","v":""},{"$f":"IF(iUI!E81<>\"\",iUI!E81,\"\")","v":""},null,null,null,null,{"$f":"iUI!H81","v":0},{"$f":"iUI!I81","v":0},{"$f":"iUI!K81","v":0}]
[72,{"$f":"iUI!B82","v":"U72"},{"$f":"IF(iUI!C82<>\"\",iUI!C82,\"\")","v":""},{"$f":"IF(iUI!D82<>\"\",iUI!D82,\"\")","v":""},{"$f":"IF(iUI!E82<>\"\",iUI!E82,\"\")","v":""},null,null,null,null,{"$f":"iUI!H82","v":0},{"$f":"iUI!I82","v":0},{"$f":"iUI!K82","v":0}]
[73,{"$f":"iUI!B83","v":"U73"},{"$f":"IF(iUI!C83<>\"\",iUI!C83,\"\")","v":""},{"$f":"IF(iUI!D83<>\"\",iUI!D83,\"\")","v":""},{"$f":"IF(iUI!E83<>\"\",iUI!E83,\"\")","v":""},null,null,null,null,{"$f":"iUI!H83","v":0},{"$f":"iUI!I83","v":0},{"$f":"iUI!K83","v":0}]
[74,{"$f":"iUI!B84","v":"U74"},{"$f":"IF(iUI!C84<>\"\",iUI!C84,\"\")","v":""},{"$f":"IF(iUI!D84<>\"\",iUI!D84,\"\")","v":""},{"$f":"IF(iUI!E84<>\"\",iUI!E84,\"\")","v":""},null,null,null,null,{"$f":"iUI!H84","v":0},{"$f":"iUI!I84","v":0},{"$f":"iUI!K84","v":0}]
[75,{"$f":"iUI!B85","v":"U75"},{"$f":"IF(iUI!C85<>\"\",iUI!C85,\"\")","v":""},{"$f":"IF(iUI!D85<>\"\",iUI!D85,\"\")","v":""},{"$f":"IF(iUI!E85<>\"\",iUI!E85,\"\")","v":""},null,null,null,null,{"$f":"iUI!H85","v":0},{"$f":"iUI!I85","v":0},{"$f":"iUI!K85","v":0}]
[76,{"$f":"iUI!B86","v":"U76"},{"$f":"IF(iUI!C86<>\"\",iUI!C86,\"\")","v":""},{"$f":"IF(iUI!D86<>\"\",iUI!D86,\"\")","v":""},{"$f":"IF(iUI!E86<>\"\",iUI!E86,\"\")","v":""},null,null,null,null,{"$f":"iUI!H86","v":0},{"$f":"iUI!I86","v":0},{"$f":"iUI!K86","v":0}]
[77,{"$f":"iUI!B87","v":"U77"},{"$f":"IF(iUI!C87<>\"\",iUI!C87,\"\")","v":""},{"$f":"IF(iUI!D87<>\"\",iUI!D87,\"\")","v":""},{"$f":"IF(iUI!E87<>\"\",iUI!E87,\"\")","v":""},null,null,null,null,{"$f":"iUI!H87","v":0},{"$f":"iUI!I87","v":0},{"$f":"iUI!K87","v":0}]
[78,{"$f":"iUI!B88","v":"U78"},{"$f":"IF(iUI!C88<>\"\",iUI!C88,\"\")","v":""},{"$f":"IF(iUI!D88<>\"\",iUI!D88,\"\")","v":""},{"$f":"IF(iUI!E88<>\"\",iUI!E88,\"\")","v":""},null,null,null,null,{"$f":"iUI!H88","v":0},{"$f":"iUI!I88","v":0},{"$f":"iUI!K88","v":0}]
[79,{"$f":"iUI!B89","v":"U79"},{"$f":"IF(iUI!C89<>\"\",iUI!C89,\"\")","v":""},{"$f":"IF(iUI!D89<>\"\",iUI!D89,\"\")","v":""},{"$f":"IF(iUI!E89<>\"\",iUI!E89,\"\")","v":""},null,null,null,null,{"$f":"iUI!H89","v":0},{"$f":"iUI!I89","v":0},{"$f":"iUI!K89","v":0}]
[80,{"$f":"iUI!B90","v":"U80"},{"$f":"IF(iUI!C90<>\"\",iUI!C90,\"\")","v":""},{"$f":"IF(iUI!D90<>\"\",iUI!D90,\"\")","v":""},{"$f":"IF(iUI!E90<>\"\",iUI!E90,\"\")","v":""},null,null,null,null,{"$f":"iUI!H90","v":0},{"$f":"iUI!I90","v":0},{"$f":"iUI!K90","v":0}]
[81,{"$f":"iUI!B91","v":"U81"},{"$f":"IF(iUI!C91<>\"\",iUI!C91,\"\")","v":""},{"$f":"IF(iUI!D91<>\"\",iUI!D91,\"\")","v":""},{"$f":"IF(iUI!E91<>\"\",iUI!E91,\"\")","v":""},null,null,null,null,{"$f":"iUI!H91","v":0},{"$f":"iUI!I91","v":0},{"$f":"iUI!K91","v":0}]
[82,{"$f":"iUI!B92","v":"U82"},{"$f":"IF(iUI!C92<>\"\",iUI!C92,\"\")","v":""},{"$f":"IF(iUI!D92<>\"\",iUI!D92,\"\")","v":""},{"$f":"IF(iUI!E92<>\"\",iUI!E92,\"\")","v":""},null,null,null,null,{"$f":"iUI!H92","v":0},{"$f":"iUI!I92","v":0},{"$f":"iUI!K92","v":0}]
[83,{"$f":"iUI!B93","v":"U83"},{"$f":"IF(iUI!C93<>\"\",iUI!C93,\"\")","v":""},{"$f":"IF(iUI!D93<>\"\",iUI!D93,\"\")","v":""},{"$f":"IF(iUI!E93<>\"\",iUI!E93,\"\")","v":""},null,null,null,null,{"$f":"iUI!H93","v":0},{"$f":"iUI!I93","v":0},{"$f":"iUI!K93","v":0}]
[84,{"$f":"iUI!B94","v":"U84"},{"$f":"IF(iUI!C94<>\"\",iUI!C94,\"\")","v":""},{"$f":"IF(iUI!D94<>\"\",iUI!D94,\"\")","v":""},{"$f":"IF(iUI!E94<>\"\",iUI!E94,\"\")","v":""},null,null,null,null,{"$f":"iUI!H94","v":0},{"$f":"iUI!I94","v":0},{"$f":"iUI!K94","v":0}]
[85,{"$f":"iUI!B95","v":"U85"},{"$f":"IF(iUI!C95<>\"\",iUI!C95,\"\")","v":""},{"$f":"IF(iUI!D95<>\"\",iUI!D95,\"\")","v":""},{"$f":"IF(iUI!E95<>\"\",iUI!E95,\"\")","v":""},null,null,null,null,{"$f":"iUI!H95","v":0},{"$f":"iUI!I95","v":0},{"$f":"iUI!K95","v":0}]
[86,{"$f":"iUI!B96","v":"U86"},{"$f":"IF(iUI!C96<>\"\",iUI!C96,\"\")","v":""},{"$f":"IF(iUI!D96<>\"\",iUI!D96,\"\")","v":""},{"$f":"IF(iUI!E96<>\"\",iUI!E96,\"\")","v":""},null,null,null,null,{"$f":"iUI!H96","v":0},{"$f":"iUI!I96","v":0},{"$f":"iUI!K96","v":0}]
[87,{"$f":"iUI!B97","v":"U87"},{"$f":"IF(iUI!C97<>\"\",iUI!C97,\"\")","v":""},{"$f":"IF(iUI!D97<>\"\",iUI!D97,\"\")","v":""},{"$f":"IF(iUI!E97<>\"\",iUI!E97,\"\")","v":""},null,null,null,null,{"$f":"iUI!H97","v":0},{"$f":"iUI!I97","v":0},{"$f":"iUI!K97","v":0}]
[88,{"$f":"iUI!B98","v":"U88"},{"$f":"IF(iUI!C98<>\"\",iUI!C98,\"\")","v":""},{"$f":"IF(iUI!D98<>\"\",iUI!D98,\"\")","v":""},{"$f":"IF(iUI!E98<>\"\",iUI!E98,\"\")","v":""},null,null,null,null,{"$f":"iUI!H98","v":0},{"$f":"iUI!I98","v":0},{"$f":"iUI!K98","v":0}]
[89,{"$f":"iUI!B99","v":"U89"},{"$f":"IF(iUI!C99<>\"\",iUI!C99,\"\")","v":""},{"$f":"IF(iUI!D99<>\"\",iUI!D99,\"\")","v":""},{"$f":"IF(iUI!E99<>\"\",iUI!E99,\"\")","v":""},null,null,null,null,{"$f":"iUI!H99","v":0},{"$f":"iUI!I99","v":0},{"$f":"iUI!K99","v":0}]
[90,{"$f":"iUI!B100","v":"U90"},{"$f":"IF(iUI!C100<>\"\",iUI!C100,\"\")","v":""},{"$f":"IF(iUI!D100<>\"\",iUI!D100,\"\")","v":""},{"$f":"IF(iUI!E100<>\"\",iUI!E100,\"\")","v":""},null,null,null,null,{"$f":"iUI!H100","v":0},{"$f":"iUI!I100","v":0},{"$f":"iUI!K100","v":0}]
[91,{"$f":"iUI!B101","v":"U91"},{"$f":"IF(iUI!C101<>\"\",iUI!C101,\"\")","v":""},{"$f":"IF(iUI!D101<>\"\",iUI!D101,\"\")","v":""},{"$f":"IF(iUI!E101<>\"\",iUI!E101,\"\")","v":""},null,null,null,null,{"$f":"iUI!H101","v":0},{"$f":"iUI!I101","v":0},{"$f":"iUI!K101","v":0}]
[92,{"$f":"iUI!B102","v":"U92"},{"$f":"IF(iUI!C102<>\"\",iUI!C102,\"\")","v":""},{"$f":"IF(iUI!D102<>\"\",iUI!D102,\"\")","v":""},{"$f":"IF(iUI!E102<>\"\",iUI!E102,\"\")","v":""},null,null,null,null,{"$f":"iUI!H102","v":0},{"$f":"iUI!I102","v":0},{"$f":"iUI!K102","v":0}]
[93,{"$f":"iUI!B103","v":"U93"},{"$f":"IF(iUI!C103<>\"\",iUI!C103,\"\")","v":""},{"$f":"IF(iUI!D103<>\"\",iUI!D103,\"\")","v":""},{"$f":"IF(iUI!E103<>\"\",iUI!E103,\"\")","v":""},null,null,null,null,{"$f":"iUI!H103","v":0},{"$f":"iUI!I103","v":0},{"$f":"iUI!K103","v":0}]
[94,{"$f":"iUI!B104","v":"U94"},{"$f":"IF(iUI!C104<>\"\",iUI!C104,\"\")","v":""},{"$f":"IF(iUI!D104<>\"\",iUI!D104,\"\")","v":""},{"$f":"IF(iUI!E104<>\"\",iUI!E104,\"\")","v":""},null,null,null,null,{"$f":"iUI!H104","v":0},{"$f":"iUI!I104","v":0},{"$f":"iUI!K104","v":0}]
[95,{"$f":"iUI!B105","v":"U95"},{"$f":"IF(iUI!C105<>\"\",iUI!C105,\"\")","v":""},{"$f":"IF(iUI!D105<>\"\",iUI!D105,\"\")","v":""},{"$f":"IF(iUI!E105<>\"\",iUI!E105,\"\")","v":""},null,null,null,null,{"$f":"iUI!H105","v":0},{"$f":"iUI!I105","v":0},{"$f":"iUI!K105","v":0}]
[96,{"$f":"iUI!B106","v":"U96"},{"$f":"IF(iUI!C106<>\"\",iUI!C106,\"\")","v":""},{"$f":"IF(iUI!D106<>\"\",iUI!D106,\"\")","v":""},{"$f":"IF(iUI!E106<>\"\",iUI!E106,\"\")","v":""},null,null,null,null,{"$f":"iUI!H106","v":0},{"$f":"iUI!I106","v":0},{"$f":"iUI!K106","v":0}]
[97,{"$f":"iUI!B107","v":"U97"},{"$f":"IF(iUI!C107<>\"\",iUI!C107,\"\")","v":""},{"$f":"IF(iUI!D107<>\"\",iUI!D107,\"\")","v":""},{"$f":"IF(iUI!E107<>\"\",iUI!E107,\"\")","v":""},null,null,null,null,{"$f":"iUI!H107","v":0},{"$f":"iUI!I107","v":0},{"$f":"iUI!K107","v":0}]
[98,{"$f":"iUI!B108","v":"U98"},{"$f":"IF(iUI!C108<>\"\",iUI!C108,\"\")","v":""},{"$f":"IF(iUI!D108<>\"\",iUI!D108,\"\")","v":""},{"$f":"IF(iUI!E108<>\"\",iUI!E108,\"\")","v":""},null,null,null,null,{"$f":"iUI!H108","v":0},{"$f":"iUI!I108","v":0},{"$f":"iUI!K108","v":0}]
[99,{"$f":"iUI!B109","v":"U99"},{"$f":"IF(iUI!C109<>\"\",iUI!C109,\"\")","v":""},{"$f":"IF(iUI!D109<>\"\",iUI!D109,\"\")","v":""},{"$f":"IF(iUI!E109<>\"\",iUI!E109,\"\")","v":""},null,null,null,null,{"$f":"iUI!H109","v":0},{"$f":"iUI!I109","v":0},{"$f":"iUI!K109","v":0}]
[null,null,null,null,"TOTALI",{"$f":"SUM(F11:F109)","v":1000.0000000000001},{"$f":"SUM(G11:G109)","v":114172},{"$f":"SUM(H11:H109)","v":115},{"$f":"SUM(I11:I109)","v":9150}]
[0,null,null,null,null,null,null,null,null,null,null,null,0]

{"sheet":"cTABUI","index":22,"n_rows":111,"n_cols":14,"rows_kept":111,"cut":false,"hidden":true,"merged":[[8,10,9,10],[8,11,9,11],[8,12,9,12],[8,0,9,0],[8,1,9,1],[8,2,9,2],[8,3,9,3],[8,4,9,4]]}
["Nessun dato del prospetto può essere variato.",null,null,null,null,null,null,null,null,null,null,null,null,0]
[]
[]
[]
[]
[]
[{"$f":"'iP1'!A5","v":"Condominio \"TERMICO\""}]
["TABELLE MILLESIMALI per UNITÀ IMMOBILIARI"]
["n° U.I.","Codice\nUnità\nImmobiliare","Codice\nCondomino","Codice\nFruitore","Condomino /Inquilino fruitore","Tabella A","Tabella B","Tabella C","Tabella D","Tabella E","Part","Sub","Categ."]
[null,null,null,null,null,"PROPRIETÀ GENERALE","UTILIZZO","POTENZA INSTALLATA","NUMERO TERMOSIFONI","CONSUMI"]
[1,{"$f":"iUI!B11","v":"U01"},{"$f":"IF(iUI!C11<>\"\",iUI!C11,\"\")","v":"C20"},{"$f":"IF(iUI!D11<>\"\",iUI!D11,\"\")","v":"I01"},{"$f":"IF(iUI!E11<>\"\",iUI!E11,\"\")","v":"Condomino20 /  Inquilino1"},{"$f":"iPARTAB!F11/iPARTAB!$F$110*1000","v":29.949999999999996},{"$f":"F11","v":29.949999999999996},{"$f":"IF(iPARTAB!G11<>0,ROUND(iPARTAB!G11/iPARTAB!$G$110*1000,5),0)","v":17.438600000000001},{"$f":"IF(iPARTAB!H11<>0,ROUND(iPARTAB!H11/iPARTAB!$H$110*1000,5),0)","v":26.086960000000001},{"$f":"IF(iPARTAB!I11<>0,ROUND(iPARTAB!I11/iPARTAB!$I$110*1000,4),0)","v":10.929},{"$f":"iUI!H11","v":326},{"$f":"iUI!I11","v":75},{"$f":"iUI!K11","v":"A/2"}]
[2,{"$f":"iUI!B12","v":"U02"},{"$f":"IF(iUI!C12<>\"\",iUI!C12,\"\")","v":"C09"},{"$f":"IF(iUI!D12<>\"\",iUI!D12,\"\")","v":"C09"},{"$f":"IF(iUI!E12<>\"\",iUI!E12,\"\")","v":"Condomino09 S.r.l. /  Condomino09 S.r.l."},{"$f":"iPARTAB!F12/iPARTAB!$F$110*1000","v":40.509999999999991},{"$f":"F12","v":40.509999999999991},{"$f":"IF(iPARTAB!G12<>0,ROUND(iPARTAB!G12/iPARTAB!$G$110*1000,5),0)","v":35.516590000000001},{"$f":"IF(iPARTAB!H12<>0,ROUND(iPARTAB!H12/iPARTAB!$H$110*1000,5),0)","v":34.782609999999998},{"$f":"IF(iPARTAB!I12<>0,ROUND(iPARTAB!I12/iPARTAB!$I$110*1000,4),0)","v":10.929},{"$f":"iUI!H12","v":326},{"$f":"iUI!I12","v":58},{"$f":"iUI!K12","v":"C/1"}]
[3,{"$f":"iUI!B13","v":"U03"},{"$f":"IF(iUI!C13<>\"\",iUI!C13,\"\")","v":"C03"},{"$f":"IF(iUI!D13<>\"\",iUI!D13,\"\")","v":"C03"},{"$f":"IF(iUI!E13<>\"\",iUI!E13,\"\")","v":"Condomino03 /  Condomino03"},{"$f":"iPARTAB!F13/iPARTAB!$F$110*1000","v":68.819999999999993},68.819999999999993,{"$f":"IF(iPARTAB!G13<>0,ROUND(iPARTAB!G13/iPARTAB!$G$110*1000,5),0)","v":71.068209999999993},{"$f":"IF(iPARTAB!H13<>0,ROUND(iPARTAB!H13/iPARTAB!$H$110*1000,5),0)","v":69.565219999999997},{"$f":"IF(iPARTAB!I13<>0,ROUND(iPARTAB!I13/iPARTAB!$I$110*1000,4),0)","v":10.929},{"$f":"iUI!H13","v":326},{"$f":"iUI!I13","v":76},{"$f":"iUI!K13","v":"A/10"}]
[4,{"$f":"iUI!B14","v":"U04"},{"$f":"IF(iUI!C14<>\"\",iUI!C14,\"\")","v":"C04"},{"$f":"IF(iUI!D14<>\"\",iUI!D14,\"\")","v":"C04"},{"$f":"IF(iUI!E14<>\"\",iUI!E14,\"\")","v":"Condomino04 S.r.l. /  Condomino04 S.r.l."},{"$f":"iPARTAB!F14/iPARTAB!$F$110*1000","v":37},37,{"$f":"IF(iPARTAB!G14<>0,ROUND(iPARTAB!G14/iPARTAB!$G$110*1000,5),0)","v":34.456780000000002},{"$f":"IF(iPARTAB!H14<>0,ROUND(iPARTAB!H14/iPARTAB!$H$110*1000,5),0)","v":43.478259999999999},{"$f":"IF(iPARTAB!I14<>0,ROUND(iPARTAB!I14/iPARTAB!$I$110*1000,4),0)","v":10.929},{"$f":"iUI!H14","v":326},{"$f":"iUI!I14","v":60},{"$f":"iUI!K14","v":"C/1"}]
[5,{"$f":"iUI!B15","v":"U05"},{"$f":"IF(iUI!C15<>\"\",iUI!C15,\"\")","v":"C23"},{"$f":"IF(iUI!D15<>\"\",iUI!D15,\"\")","v":"C23"},{"$f":"IF(iUI!E15<>\"\",iUI!E15,\"\")","v":"Condomino23 /  Condomino23"},{"$f":"iPARTAB!F15/iPARTAB!$F$110*1000","v":38.76},38.76,{"$f":"IF(iPARTAB!G15<>0,ROUND(iPARTAB!G15/iPARTAB!$G$110*1000,5),0)","v":44.047580000000004},{"$f":"IF(iPARTAB!H15<>0,ROUND(iPARTAB!H15/iPARTAB!$H$110*1000,5),0)","v":43.478259999999999},{"$f":"IF(iPARTAB!I15<>0,ROUND(iPARTAB!I15/iPARTAB!$I$110*1000,4),0)","v":10.929},{"$f":"iUI!H15","v":326},{"$f":"iUI!I15","v":61},{"$f":"iUI!K15","v":"C/1"}]
[6,{"$f":"iUI!B16","v":"U06"},{"$f":"IF(iUI!C16<>\"\",iUI!C16,\"\")","v":"C15"},{"$f":"IF(iUI!D16<>\"\",iUI!D16,\"\")","v":"C15"},{"$f":"IF(iUI!E16<>\"\",iUI!E16,\"\")","v":"Condomino15 /  Condomino15"},{"$f":"iPARTAB!F16/iPARTAB!$F$110*1000","v":37},37,{"$f":"IF(iPARTAB!G16<>0,ROUND(iPARTAB!G16/iPARTAB!$G$110*1000,5),0)","v":41.989280000000001},{"$f":"IF(iPARTAB!H16<>0,ROUND(iPARTAB!H16/iPARTAB!$H$110*1000,5),0)","v":43.478259999999999},{"$f":"IF(iPARTAB!I16<>0,ROUND(iPARTAB!I16/iPARTAB!$I$110*1000,4),0)","v":21.857900000000001},{"$f":"iUI!H16","v":326},{"$f":"iUI!I16","v":62},{"$f":"iUI!K16","v":"C/1"}]
[7,{"$f":"iUI!B17","v":"U07"},{"$f":"IF(iUI!C17<>\"\",iUI!C17,\"\")","v":"C05"},{"$f":"IF(iUI!D17<>\"\",iUI!D17,\"\")","v":"C05"},{"$f":"IF(iUI!E17<>\"\",iUI!E17,\"\")","v":"Condomino05 /  Condomino05"},{"$f":"iPARTAB!F17/iPARTAB!$F$110*1000","v":47.559999999999995},47.559999999999995,{"$f":"IF(iPARTAB!G17<>0,ROUND(iPARTAB!G17/iPARTAB!$G$110*1000,5),0)","v":56.975439999999999},{"$f":"IF(iPARTAB!H17<>0,ROUND(iPARTAB!H17/iPARTAB!$H$110*1000,5),0)","v":60.869570000000003},{"$f":"IF(iPARTAB!I17<>0,ROUND(iPARTAB!I17/iPARTAB!$I$110*1000,4),0)","v":32.786900000000003},{"$f":"iUI!H17","v":326},{"$f":"iUI!I17","v":7},{"$f":"iUI!K17","v":"A/2"}]
[8,{"$f":"iUI!B18","v":"U08"},{"$f":"IF(iUI!C18<>\"\",iUI!C18,\"\")","v":"C13"},{"$f":"IF(iUI!D18<>\"\",iUI!D18,\"\")","v":"C13"},{"$f":"IF(iUI!E18<>\"\",iUI!E18,\"\")","v":"Condomino13 /  Condomino13"},{"$f":"iPARTAB!F18/iPARTAB!$F$110*1000","v":38.76},38.76,{"$f":"IF(iPARTAB!G18<>0,ROUND(iPARTAB!G18/iPARTAB!$G$110*1000,5),0)","v":46.946710000000003},{"$f":"IF(iPARTAB!H18<>0,ROUND(iPARTAB!H18/iPARTAB!$H$110*1000,5),0)","v":43.478259999999999},{"$f":"IF(iPARTAB!I18<>0,ROUND(iPARTAB!I18/iPARTAB!$I$110*1000,4),0)","v":32.786900000000003},{"$f":"iUI!H18","v":326},{"$f":"iUI!I18","v":8},{"$f":"iUI!K18","v":"A/2"}]
[9,{"$f":"iUI!B19","v":"U09"},{"$f":"IF(iUI!C19<>\"\",iUI!C19,\"\")","v":"C11"},{"$f":"IF(iUI!D19<>\"\",iUI!D19,\"\")","v":"C11"},{"$f":"IF(iUI!E19<>\"\",iUI!E19,\"\")","v":"Condomino11 /  Condomino11"},{"$f":"iPARTAB!F19/iPARTAB!$F$110*1000","v":37},37,{"$f":"IF(iPARTAB!G19<>0,ROUND(iPARTAB!G19/iPARTAB!$G$110*1000,5),0)","v":26.15352},{"$f":"IF(iPARTAB!H19<>0,ROUND(iPARTAB!H19/iPARTAB!$H$110*1000,5),0)","v":26.086960000000001},{"$f":"IF(iPARTAB!I19<>0,ROUND(iPARTAB!I19/iPARTAB!$I$110*1000,4),0)","v":49.180300000000003},{"$f":"iUI!H19","v":326},{"$f":"iUI!I19","v":10},{"$f":"iUI!K19","v":"A/2"}]
[10,{"$f":"iUI!B20","v":"U10"},{"$f":"IF(iUI!C20<>\"\",iUI!C20,\"\")","v":"C19"},{"$f":"IF(iUI!D20<>\"\",iUI!D20,\"\")","v":"C19"},{"$f":"IF(iUI!E20<>\"\",iUI!E20,\"\")","v":"Condomino19 /  Condomino19"},{"$f":"iPARTAB!F20/iPARTAB!$F$110*1000","v":58.11999999999999},58.11999999999999,{"$f":"IF(iPARTAB!G20<>0,ROUND(iPARTAB!G20/iPARTAB!$G$110*1000,5),0)","v":62.607289999999999},{"$f":"IF(iPARTAB!H20<>0,ROUND(iPARTAB!H20/iPARTAB!$H$110*1000,5),0)","v":60.869570000000003},{"$f":"IF(iPARTAB!I20<>0,ROUND(iPARTAB!I20/iPARTAB!$I$110*1000,4),0)","v":43.715800000000002},{"$f":"iUI!H20","v":326},{"$f":"iUI!I20","v":79},{"$f":"iUI!K20","v":"A/2"}]
[11,{"$f":"iUI!B21","v":"U11"},{"$f":"IF(iUI!C21<>\"\",iUI!C21,\"\")","v":"C22"},{"$f":"IF(iUI!D21<>\"\",iUI!D21,\"\")","v":"C22"},{"$f":"IF(iUI!E21<>\"\",iUI!E21,\"\")","v":"Condomino22 /  Condomino22"},{"$f":"iPARTAB!F21/iPARTAB!$F$110*1000","v":28.19},28.19,{"$f":"IF(iPARTAB!G21<>0,ROUND(iPARTAB!G21/iPARTAB!$G$110*1000,5),0)","v":29.070170000000001},{"$f":"IF(iPARTAB!H21<>0,ROUND(iPARTAB!H21/iPARTAB!$H$110*1000,5),0)","v":34.782609999999998},{"$f":"IF(iPARTAB!I21<>0,ROUND(iPARTAB!I21/iPARTAB!$I$110*1000,4),0)","v":43.715800000000002},{"$f":"iUI!H21","v":326},{"$f":"iUI!I21","v":80},{"$f":"iUI!K21","v":"A/3"}]
[12,{"$f":"iUI!B22","v":"U12"},{"$f":"IF(iUI!C22<>\"\",iUI!C22,\"\")","v":"C21"},{"$f":"IF(iUI!D22<>\"\",iUI!D22,\"\")","v":"C21"},{"$f":"IF(iUI!E22<>\"\",iUI!E22,\"\")","v":"Condomino21 /  Condomino21"},{"$f":"iPARTAB!F22/iPARTAB!$F$110*1000","v":37},37,{"$f":"IF(iPARTAB!G22<>0,ROUND(iPARTAB!G22/iPARTAB!$G$110*1000,5),0)","v":42.15569},{"$f":"IF(iPARTAB!H22<>0,ROUND(iPARTAB!H22/iPARTAB!$H$110*1000,5),0)","v":43.478259999999999},{"$f":"IF(iPARTAB!I22<>0,ROUND(iPARTAB!I22/iPARTAB!$I$110*1000,4),0)","v":43.715800000000002},{"$f":"iUI!H22","v":326},{"$f":"iUI!I22","v":14},{"$f":"iUI!K22","v":"A/2"}]
[13,{"$f":"iUI!B23","v":"U13"},{"$f":"IF(iUI!C23<>\"\",iUI!C23,\"\")","v":"C18"},{"$f":"IF(iUI!D23<>\"\",iUI!D23,\"\")","v":"I02"},{"$f":"IF(iUI!E23<>\"\",iUI!E23,\"\")","v":"Condomino18 /  Inquilino2"},{"$f":"iPARTAB!F23/iPARTAB!$F$110*1000","v":64.069999999999993},64.069999999999993,{"$f":"IF(iPARTAB!G23<>0,ROUND(iPARTAB!G23/iPARTAB!$G$110*1000,5),0)","v":74.70308},{"$f":"IF(iPARTAB!H23<>0,ROUND(iPARTAB!H23/iPARTAB!$H$110*1000,5),0)","v":69.565219999999997},{"$f":"IF(iPARTAB!I23<>0,ROUND(iPARTAB!I23/iPARTAB!$I$110*1000,4),0)","v":54.644799999999996},{"$f":"iUI!H23","v":326},{"$f":"iUI!I23","v":15},{"$f":"iUI!K23","v":"A/2"}]
[14,{"$f":"iUI!B24","v":"U14"},{"$f":"IF(iUI!C24<>\"\",iUI!C24,\"\")","v":"C14"},{"$f":"IF(iUI!D24<>\"\",iUI!D24,\"\")","v":"C14"},{"$f":"IF(iUI!E24<>\"\",iUI!E24,\"\")","v":"Condomino14 /  Condomino14"},{"$f":"iPARTAB!F24/iPARTAB!$F$110*1000","v":29.829999999999995},29.829999999999995,{"$f":"IF(iPARTAB!G24<>0,ROUND(iPARTAB!G24/iPARTAB!$G$110*1000,5),0)","v":38.442},{"$f":"IF(iPARTAB!H24<>0,ROUND(iPARTAB!H24/iPARTAB!$H$110*1000,5),0)","v":34.782609999999998},{"$f":"IF(iPARTAB!I24<>0,ROUND(iPARTAB!I24/iPARTAB!$I$110*1000,4),0)","v":54.644799999999996},{"$f":"iUI!H24","v":326},{"$f":"iUI!I24","v":16},{"$f":"iUI!K24","v":"A/2"}]
[15,{"$f":"iUI!B25","v":"U15"},{"$f":"IF(iUI!C25<>\"\",iUI!C25,\"\")","v":"C02"},{"$f":"IF(iUI!D25<>\"\",iUI!D25,\"\")","v":"I03"},{"$f":"IF(iUI!E25<>\"\",iUI!E25,\"\")","v":"Condomino02 /  Inquilino3"},{"$f":"iPARTAB!F25/iPARTAB!$F$110*1000","v":37},37,{"$f":"IF(iPARTAB!G25<>0,ROUND(iPARTAB!G25/iPARTAB!$G$110*1000,5),0)","v":40.789340000000003},{"$f":"IF(iPARTAB!H25<>0,ROUND(iPARTAB!H25/iPARTAB!$H$110*1000,5),0)","v":43.478259999999999},{"$f":"IF(iPARTAB!I25<>0,ROUND(iPARTAB!I25/iPARTAB!$I$110*1000,4),0)","v":54.644799999999996},{"$f":"iUI!H25","v":326},{"$f":"iUI!I25","v":17},{"$f":"iUI!K25","v":"A/3"}]
[16,{"$f":"iUI!B26","v":"U16"},{"$f":"IF(iUI!C26<>\"\",iUI!C26,\"\")","v":"C16"},{"$f":"IF(iUI!D26<>\"\",iUI!D26,\"\")","v":"C16"},{"$f":"IF(iUI!E26<>\"\",iUI!E26,\"\")","v":"Condomino16 /  Condomino16"},{"$f":"iPARTAB!F26/iPARTAB!$F$110*1000","v":52.849999999999994},52.849999999999994,{"$f":"IF(iPARTAB!G26<>0,ROUND(iPARTAB!G26/iPARTAB!$G$110*1000,5),0)","v":51.991729999999997},{"$f":"IF(iPARTAB!H26<>0,ROUND(iPARTAB!H26/iPARTAB!$H$110*1000,5),0)","v":43.478259999999999},{"$f":"IF(iPARTAB!I26<>0,ROUND(iPARTAB!I26/iPARTAB!$I$110*1000,4),0)","v":54.644799999999996},{"$f":"iUI!H26","v":326},{"$f":"iUI!I26","v":83},{"$f":"iUI!K26","v":"A/2"}]
[17,{"$f":"iUI!B27","v":"U17"},{"$f":"IF(iUI!C27<>\"\",iUI!C27,\"\")","v":"C12"},{"$f":"IF(iUI!D27<>\"\",iUI!D27,\"\")","v":"C12"},{"$f":"IF(iUI!E27<>\"\",iUI!E27,\"\")","v":"Condomino12 /  Condomino12"},{"$f":"iPARTAB!F27/iPARTAB!$F$110*1000","v":47.559999999999995},47.559999999999995,{"$f":"IF(iPARTAB!G27<>0,ROUND(iPARTAB!G27/iPARTAB!$G$110*1000,5),0)","v":50.99324},{"$f":"IF(iPARTAB!H27<>0,ROUND(iPARTAB!H27/iPARTAB!$H$110*1000,5),0)","v":34.782609999999998},{"$f":"IF(iPARTAB!I27<>0,ROUND(iPARTAB!I27/iPARTAB!$I$110*1000,4),0)","v":54.644799999999996},{"$f":"iUI!H27","v":326},{"$f":"iUI!I27","v":81},{"$f":"iUI!K27","v":"A/2"}]
[18,{"$f":"iUI!B28","v":"U18"},{"$f":"IF(iUI!C28<>\"\",iUI!C28,\"\")","v":"C06"},{"$f":"IF(iUI!D28<>\"\",iUI!D28,\"\")","v":"C06"},{"$f":"IF(iUI!E28<>\"\",iUI!E28,\"\")","v":"Condomino06 /  Condomino06"},{"$f":"iPARTAB!F28/iPARTAB!$F$110*1000","v":42.269999999999996},42.269999999999996,{"$f":"IF(iPARTAB!G28<>0,ROUND(iPARTAB!G28/iPARTAB!$G$110*1000,5),0)","v":57.75497},{"$f":"IF(iPARTAB!H28<>0,ROUND(iPARTAB!H28/iPARTAB!$H$110*1000,5),0)","v":43.478259999999999},{"$f":"IF(iPARTAB!I28<>0,ROUND(iPARTAB!I28/iPARTAB!$I$110*1000,4),0)","v":54.644799999999996},{"$f":"iUI!H28","v":326},{"$f":"iUI!I28","v":21},{"$f":"iUI!K28","v":"A/2"}]
[19,{"$f":"iUI!B29","v":"U19"},{"$f":"IF(iUI!C29<>\"\",iUI!C29,\"\")","v":"C07"},{"$f":"IF(iUI!D29<>\"\",iUI!D29,\"\")","v":"C07"},{"$f":"IF(iUI!E29<>\"\",iUI!E29,\"\")","v":"Condomino07 /  Condomino07"},{"$f":"iPARTAB!F29/iPARTAB!$F$110*1000","v":35.769999999999996},35.769999999999996,{"$f":"IF(iPARTAB!G29<>0,ROUND(iPARTAB!G29/iPARTAB!$G$110*1000,5),0)","v":29.385490000000001},{"$f":"IF(iPARTAB!H29<>0,ROUND(iPARTAB!H29/iPARTAB!$H$110*1000,5),0)","v":26.086960000000001},{"$f":"IF(iPARTAB!I29<>0,ROUND(iPARTAB!I29/iPARTAB!$I$110*1000,4),0)","v":65.573800000000006},{"$f":"iUI!H29","v":326},{"$f":"iUI!I29","v":22},{"$f":"iUI!K29","v":"A/2"}]
[20,{"$f":"iUI!B30","v":"U20"},{"$f":"IF(iUI!C30<>\"\",iUI!C30,\"\")","v":"C17"},{"$f":"IF(iUI!D30<>\"\",iUI!D30,\"\")","v":"C17"},{"$f":"IF(iUI!E30<>\"\",iUI!E30,\"\")","v":"Condomino17 /  Condomino17"},{"$f":"iPARTAB!F30/iPARTAB!$F$110*1000","v":73.97},73.97,{"$f":"IF(iPARTAB!G30<>0,ROUND(iPARTAB!G30/iPARTAB!$G$110*1000,5),0)","v":74.694320000000005},{"$f":"IF(iPARTAB!H30<>0,ROUND(iPARTAB!H30/iPARTAB!$H$110*1000,5),0)","v":60.869570000000003},{"$f":"IF(iPARTAB!I30<>0,ROUND(iPARTAB!I30/iPARTAB!$I$110*1000,4),0)","v":65.573800000000006},{"$f":"iUI!H30","v":326},{"$f":"iUI!I30","v":23},{"$f":"iUI!K30","v":"A/1"}]
[21,{"$f":"iUI!B31","v":"U21"},{"$f":"IF(iUI!C31<>\"\",iUI!C31,\"\")","v":"C01"},{"$f":"IF(iUI!D31<>\"\",iUI!D31,\"\")","v":"C01"},{"$f":"IF(iUI!E31<>\"\",iUI!E31,\"\")","v":"Condomino01 /  Condomino01"},{"$f":"iPARTAB!F31/iPARTAB!$F$110*1000","v":29.949999999999996},29.949999999999996,{"$f":"IF(iPARTAB!G31<>0,ROUND(iPARTAB!G31/iPARTAB!$G$110*1000,5),0)","v":30.935780000000001},{"$f":"IF(iPARTAB!H31<>0,ROUND(iPARTAB!H31/iPARTAB!$H$110*1000,5),0)","v":26.086960000000001},{"$f":"IF(iPARTAB!I31<>0,ROUND(iPARTAB!I31/iPARTAB!$I$110*1000,4),0)","v":65.573800000000006},{"$f":"iUI!H31","v":326},{"$f":"iUI!I31","v":24},{"$f":"iUI!K31","v":"A/2"}]
[22,{"$f":"iUI!B32","v":"U22"},{"$f":"IF(iUI!C32<>\"\",iUI!C32,\"\")","v":"C10"},{"$f":"IF(iUI!D32<>\"\",iUI!D32,\"\")","v":"I04"},{"$f":"IF(iUI!E32<>\"\",iUI!E32,\"\")","v":"Condomino10 /  Inquilino4"},{"$f":"iPARTAB!F32/iPARTAB!$F$110*1000","v":49.319999999999993},49.319999999999993,{"$f":"IF(iPARTAB!G32<>0,ROUND(iPARTAB!G32/iPARTAB!$G$110*1000,5),0)","v":24.962340000000001},{"$f":"IF(iPARTAB!H32<>0,ROUND(iPARTAB!H32/iPARTAB!$H$110*1000,5),0)","v":52.173909999999999},{"$f":"IF(iPARTAB!I32<>0,ROUND(iPARTAB!I32/iPARTAB!$I$110*1000,4),0)","v":76.502700000000004},{"$f":"iUI!H32","v":326},{"$f":"iUI!I32","v":82},{"$f":"iUI!K32","v":"A/2"}]
[23,{"$f":"iUI!B33","v":"U23"},{"$f":"IF(iUI!C33<>\"\",iUI!C33,\"\")","v":"C08"},{"$f":"IF(iUI!D33<>\"\",iUI!D33,\"\")","v":"C08"},{"$f":"IF(iUI!E33<>\"\",iUI!E33,\"\")","v":"Eredi Condomino08 /  Eredi Condomino08"},{"$f":"iPARTAB!F33/iPARTAB!$F$110*1000","v":29.829999999999995},29.829999999999995,{"$f":"IF(iPARTAB!G33<>0,ROUND(iPARTAB!G33/iPARTAB!$G$110*1000,5),0)","v":8.4609199999999998},{"$f":"IF(iPARTAB!H33<>0,ROUND(iPARTAB!H33/iPARTAB!$H$110*1000,5),0)","v":34.782609999999998},{"$f":"IF(iPARTAB!I33<>0,ROUND(iPARTAB!I33/iPARTAB!$I$110*1000,4),0)","v":76.502700000000004},{"$f":"iUI!H33","v":326},{"$f":"iUI!I33","v":73},{"$f":"iUI!K33","v":"C/2"}]
[24,{"$f":"iUI!B34","v":"U24"},{"$f":"IF(iUI!C34<>\"\",iUI!C34,\"\")","v":"C12"},{"$f":"IF(iUI!D34<>\"\",iUI!D34,\"\")","v":"I05"},{"$f":"IF(iUI!E34<>\"\",iUI!E34,\"\")","v":"Condomino12 /  Inquilino5"},{"$f":"iPARTAB!F34/iPARTAB!$F$110*1000","v":8.91},8.91,{"$f":"IF(iPARTAB!G34<>0,ROUND(iPARTAB!G34/iPARTAB!$G$110*1000,5),0)","v":8.4609199999999998},{"$f":"IF(iPARTAB!H34<>0,ROUND(iPARTAB!H34/iPARTAB!$H$110*1000,5),0)","v":0},{"$f":"IF(iPARTAB!I34<>0,ROUND(iPARTAB!I34/iPARTAB!$I$110*1000,4),0)","v":0},{"$f":"iUI!H34","v":326},{"$f":"iUI!I34","v":78},{"$f":"iUI!K34","v":"C/2"}]
[25,{"$f":"iUI!B35","v":"U25"},{"$f":"IF(iUI!C35<>\"\",iUI!C35,\"\")","v":""},{"$f":"IF(iUI!D35<>\"\",iUI!D35,\"\")","v":""},{"$f":"IF(iUI!E35<>\"\",iUI!E35,\"\")","v":""},{"$f":"iPARTAB!F35/iPARTAB!$F$110*1000","v":0},0,{"$f":"IF(iPARTAB!G35<>0,ROUND(iPARTAB!G35/iPARTAB!$G$110*1000,5),0)","v":0},{"$f":"IF(iPARTAB!H35<>0,ROUND(iPARTAB!H35/iPARTAB!$H$110*1000,5),0)","v":0},{"$f":"IF(iPARTAB!I35<>0,ROUND(iPARTAB!I35/iPARTAB!$I$110*1000,4),0)","v":0},{"$f":"iUI!H35","v":0},{"$f":"iUI!I35","v":0},{"$f":"iUI!K35","v":0}]
[26,{"$f":"iUI!B36","v":"U26"},{"$f":"IF(iUI!C36<>\"\",iUI!C36,\"\")","v":""},{"$f":"IF(iUI!D36<>\"\",iUI!D36,\"\")","v":""},{"$f":"IF(iUI!E36<>\"\",iUI!E36,\"\")","v":""},{"$f":"iPARTAB!F36/iPARTAB!$F$110*1000","v":0},0,{"$f":"IF(iPARTAB!G36<>0,ROUND(iPARTAB!G36/iPARTAB!$G$110*1000,5),0)","v":0},{"$f":"IF(iPARTAB!H36<>0,ROUND(iPARTAB!H36/iPARTAB!$H$110*1000,5),0)","v":0},{"$f":"IF(iPARTAB!I36<>0,ROUND(iPARTAB!I36/iPARTAB!$I$110*1000,4),0)","v":0},{"$f":"iUI!H36","v":0},{"$f":"iUI!I36","v":0},{"$f":"iUI!K36","v":0}]
[27,{"$f":"iUI!B37","v":"U27"},{"$f":"IF(iUI!C37<>\"\",iUI!C37,\"\")","v":""},{"$f":"IF(iUI!D37<>\"\",iUI!D37,\"\")","v":""},{"$f":"IF(iUI!E37<>\"\",iUI!E37,\"\")","v":""},{"$f":"iPARTAB!F37/iPARTAB!$F$110*1000","v":0},0,{"$f":"IF(iPARTAB!G37<>0,ROUND(iPARTAB!G37/iPARTAB!$G$110*1000,5),0)","v":0},{"$f":"IF(iPARTAB!H37<>0,ROUND(iPARTAB!H37/iPARTAB!$H$110*1000,5),0)","v":0},{"$f":"IF(iPARTAB!I37<>0,ROUND(iPARTAB!I37/iPARTAB!$I$110*1000,4),0)","v":0},{"$f":"iUI!H37","v":0},{"$f":"iUI!I37","v":0},{"$f":"iUI!K37","v":0}]
[28,{"$f":"iUI!B38","v":"U28"},{"$f":"IF(iUI!C38<>\"\",iUI!C38,\"\")","v":""},{"$f":"IF(iUI!D38<>\"\",iUI!D38,\"\")","v":""},{"$f":"IF(iUI!E38<>\"\",iUI!E38,\"\")","v":""},{"$f":"iPARTAB!F38/iPARTAB!$F$110*1000","v":0},0,{"$f":"IF(iPARTAB!G38<>0,ROUND(iPARTAB!G38/iPARTAB!$G$110*1000,5),0)","v":0},{"$f":"IF(iPARTAB!H38<>0,ROUND(iPARTAB!H38/iPARTAB!$H$110*1000,5),0)","v":0},{"$f":"IF(iPARTAB!I38<>0,ROUND(iPARTAB!I38/iPARTAB!$I$110*1000,4),0)","v":0},{"$f":"iUI!H38","v":0},{"$f":"iUI!I38","v":0},{"$f":"iUI!K38","v":0}]
[29,{"$f":"iUI!B39","v":"U29"},{"$f":"IF(iUI!C39<>\"\",iUI!C39,\"\")","v":""},{"$f":"IF(iUI!D39<>\"\",iUI!D39,\"\")","v":""},{"$f":"IF(iUI!E39<>\"\",iUI!E39,\"\")","v":""},{"$f":"iPARTAB!F39/iPARTAB!$F$110*1000","v":0},0,{"$f":"IF(iPARTAB!G39<>0,ROUND(iPARTAB!G39/iPARTAB!$G$110*1000,5),0)","v":0},{"$f":"IF(iPARTAB!H39<>0,ROUND(iPARTAB!H39/iPARTAB!$H$110*1000,5),0)","v":0},{"$f":"IF(iPARTAB!I39<>0,ROUND(iPARTAB!I39/iPARTAB!$I$110*1000,4),0)","v":0},{"$f":"iUI!H39","v":0},{"$f":"iUI!I39","v":0},{"$f":"iUI!K39","v":0}]
[30,{"$f":"iUI!B40","v":"U30"},{"$f":"IF(iUI!C40<>\"\",iUI!C40,\"\")","v":""},{"$f":"IF(iUI!D40<>\"\",iUI!D40,\"\")","v":""},{"$f":"IF(iUI!E40<>\"\",iUI!E40,\"\")","v":""},{"$f":"iPARTAB!F40/iPARTAB!$F$110*1000","v":0},0,{"$f":"IF(iPARTAB!G40<>0,ROUND(iPARTAB!G40/iPARTAB!$G$110*1000,5),0)","v":0},{"$f":"IF(iPARTAB!H40<>0,ROUND(iPARTAB!H40/iPARTAB!$H$110*1000,5),0)","v":0},{"$f":"IF(iPARTAB!I40<>0,ROUND(iPARTAB!I40/iPARTAB!$I$110*1000,4),0)","v":0},{"$f":"iUI!H40","v":0},{"$f":"iUI!I40","v":0},{"$f":"iUI!K40","v":0}]
[31,{"$f":"iUI!B41","v":"U31"},{"$f":"IF(iUI!C41<>\"\",iUI!C41,\"\")","v":""},{"$f":"IF(iUI!D41<>\"\",iUI!D41,\"\")","v":""},{"$f":"IF(iUI!E41<>\"\",iUI!E41,\"\")","v":""},{"$f":"iPARTAB!F41/iPARTAB!$F$110*1000","v":0},0,{"$f":"IF(iPARTAB!G41<>0,ROUND(iPARTAB!G41/iPARTAB!$G$110*1000,5),0)","v":0},{"$f":"IF(iPARTAB!H41<>0,ROUND(iPARTAB!H41/iPARTAB!$H$110*1000,5),0)","v":0},{"$f":"IF(iPARTAB!I41<>0,ROUND(iPARTAB!I41/iPARTAB!$I$110*1000,4),0)","v":0},{"$f":"iUI!H41","v":0},{"$f":"iUI!I41","v":0},{"$f":"iUI!K41","v":0}]
[32,{"$f":"iUI!B42","v":"U32"},{"$f":"IF(iUI!C42<>\"\",iUI!C42,\"\")","v":""},{"$f":"IF(iUI!D42<>\"\",iUI!D42,\"\")","v":""},{"$f":"IF(iUI!E42<>\"\",iUI!E42,\"\")","v":""},{"$f":"iPARTAB!F42/iPARTAB!$F$110*1000","v":0},0,{"$f":"IF(iPARTAB!G42<>0,ROUND(iPARTAB!G42/iPARTAB!$G$110*1000,5),0)","v":0},{"$f":"IF(iPARTAB!H42<>0,ROUND(iPARTAB!H42/iPARTAB!$H$110*1000,5),0)","v":0},{"$f":"IF(iPARTAB!I42<>0,ROUND(iPARTAB!I42/iPARTAB!$I$110*1000,4),0)","v":0},{"$f":"iUI!H42","v":0},{"$f":"iUI!I42","v":0},{"$f":"iUI!K42","v":0}]
[33,{"$f":"iUI!B43","v":"U33"},{"$f":"IF(iUI!C43<>\"\",iUI!C43,\"\")","v":""},{"$f":"IF(iUI!D43<>\"\",iUI!D43,\"\")","v":""},{"$f":"IF(iUI!E43<>\"\",iUI!E43,\"\")","v":""},{"$f":"iPARTAB!F43/iPARTAB!$F$110*1000","v":0},0,{"$f":"IF(iPARTAB!G43<>0,ROUND(iPARTAB!G43/iPARTAB!$G$110*1000,5),0)","v":0},{"$f":"IF(iPARTAB!H43<>0,ROUND(iPARTAB!H43/iPARTAB!$H$110*1000,5),0)","v":0},{"$f":"IF(iPARTAB!I43<>0,ROUND(iPARTAB!I43/iPARTAB!$I$110*1000,4),0)","v":0},{"$f":"iUI!H43","v":0},{"$f":"iUI!I43","v":0},{"$f":"iUI!K43","v":0}]
[34,{"$f":"iUI!B44","v":"U34"},{"$f":"IF(iUI!C44<>\"\",iUI!C44,\"\")","v":""},{"$f":"IF(iUI!D44<>\"\",iUI!D44,\"\")","v":""},{"$f":"IF(iUI!E44<>\"\",iUI!E44,\"\")","v":""},{"$f":"iPARTAB!F44/iPARTAB!$F$110*1000","v":0},0,{"$f":"IF(iPARTAB!G44<>0,ROUND(iPARTAB!G44/iPARTAB!$G$110*1000,5),0)","v":0},{"$f":"IF(iPARTAB!H44<>0,ROUND(iPARTAB!H44/iPARTAB!$H$110*1000,5),0)","v":0},{"$f":"IF(iPARTAB!I44<>0,ROUND(iPARTAB!I44/iPARTAB!$I$110*1000,4),0)","v":0},{"$f":"iUI!H44","v":0},{"$f":"iUI!I44","v":0},{"$f":"iUI!K44","v":0}]
[35,{"$f":"iUI!B45","v":"U35"},{"$f":"IF(iUI!C45<>\"\",iUI!C45,\"\")","v":""},{"$f":"IF(iUI!D45<>\"\",iUI!D45,\"\")","v":""},{"$f":"IF(iUI!E45<>\"\",iUI!E45,\"\")","v":""},{"$f":"iPARTAB!F45/iPARTAB!$F$110*1000","v":0},0,{"$f":"IF(iPARTAB!G45<>0,ROUND(iPARTAB!G45/iPARTAB!$G$110*1000,5),0)","v":0},{"$f":"IF(iPARTAB!H45<>0,ROUND(iPARTAB!H45/iPARTAB!$H$110*1000,5),0)","v":0},{"$f":"IF(iPARTAB!I45<>0,ROUND(iPARTAB!I45/iPARTAB!$I$110*1000,4),0)","v":0},{"$f":"iUI!H45","v":0},{"$f":"iUI!I45","v":0},{"$f":"iUI!K45","v":0}]
[36,{"$f":"iUI!B46","v":"U36"},{"$f":"IF(iUI!C46<>\"\",iUI!C46,\"\")","v":""},{"$f":"IF(iUI!D46<>\"\",iUI!D46,\"\")","v":""},{"$f":"IF(iUI!E46<>\"\",iUI!E46,\"\")","v":""},{"$f":"iPARTAB!F46/iPARTAB!$F$110*1000","v":0},0,{"$f":"IF(iPARTAB!G46<>0,ROUND(iPARTAB!G46/iPARTAB!$G$110*1000,5),0)","v":0},{"$f":"IF(iPARTAB!H46<>0,ROUND(iPARTAB!H46/iPARTAB!$H$110*1000,5),0)","v":0},{"$f":"IF(iPARTAB!I46<>0,ROUND(iPARTAB!I46/iPARTAB!$I$110*1000,4),0)","v":0},{"$f":"iUI!H46","v":0},{"$f":"iUI!I46","v":0},{"$f":"iUI!K46","v":0}]
[37,{"$f":"iUI!B47","v":"U37"},{"$f":"IF(iUI!C47<>\"\",iUI!C47,\"\")","v":""},{"$f":"IF(iUI!D47<>\"\",iUI!D47,\"\")","v":""},{"$f":"IF(iUI!E47<>\"\",iUI!E47,\"\")","v":""},{"$f":"iPARTAB!F47/iPARTAB!$F$110*1000","v":0},0,{"$f":"IF(iPARTAB!G47<>0,ROUND(iPARTAB!G47/iPARTAB!$G$110*1000,5),0)","v":0},{"$f":"IF(iPARTAB!H47<>0,ROUND(iPARTAB!H47/iPARTAB!$H$110*1000,5),0)","v":0},{"$f":"IF(iPARTAB!I47<>0,ROUND(iPARTAB!I47/iPARTAB!$I$110*1000,4),0)","v":0},{"$f":"iUI!H47","v":0},{"$f":"iUI!I47","v":0},{"$f":"iUI!K47","v":0}]
[38,{"$f":"iUI!B48","v":"U38"},{"$f":"IF(iUI!C48<>\"\",iUI!C48,\"\")","v":""},{"$f":"IF(iUI!D48<>\"\",iUI!D48,\"\")","v":""},{"$f":"IF(iUI!E48<>\"\",iUI!E48,\"\")","v":""},{"$f":"iPARTAB!F48/iPARTAB!$F$110*1000","v":0},0,{"$f":"IF(iPARTAB!G48<>0,ROUND(iPARTAB!G48/iPARTAB!$G$110*1000,5),0)","v":0},{"$f":"IF(iPARTAB!H48<>0,ROUND(iPARTAB!H48/iPARTAB!$H$110*1000,5),0)","v":0},{"$f":"IF(iPARTAB!I48<>0,ROUND(iPARTAB!I48/iPARTAB!$I$110*1000,4),0)","v":0},{"$f":"iUI!H48","v":0},{"$f":"iUI!I48","v":0},{"$f":"iUI!K48","v":0}]
[39,{"$f":"iUI!B49","v":"U39"},{"$f":"IF(iUI!C49<>\"\",iUI!C49,\"\")","v":""},{"$f":"IF(iUI!D49<>\"\",iUI!D49,\"\")","v":""},{"$f":"IF(iUI!E49<>\"\",iUI!E49,\"\")","v":""},{"$f":"iPARTAB!F49/iPARTAB!$F$110*1000","v":0},0,{"$f":"IF(iPARTAB!G49<>0,ROUND(iPARTAB!G49/iPARTAB!$G$110*1000,5),0)","v":0},{"$f":"IF(iPARTAB!H49<>0,ROUND(iPARTAB!H49/iPARTAB!$H$110*1000,5),0)","v":0},{"$f":"IF(iPARTAB!I49<>0,ROUND(iPARTAB!I49/iPARTAB!$I$110*1000,4),0)","v":0},{"$f":"iUI!H49","v":0},{"$f":"iUI!I49","v":0},{"$f":"iUI!K49","v":0}]
[40,{"$f":"iUI!B50","v":"U40"},{"$f":"IF(iUI!C50<>\"\",iUI!C50,\"\")","v":""},{"$f":"IF(iUI!D50<>\"\",iUI!D50,\"\")","v":""},{"$f":"IF(iUI!E50<>\"\",iUI!E50,\"\")","v":""},{"$f":"iPARTAB!F50/iPARTAB!$F$110*1000","v":0},0,{"$f":"IF(iPARTAB!G50<>0,ROUND(iPARTAB!G50/iPARTAB!$G$110*1000,5),0)","v":0},{"$f":"IF(iPARTAB!H50<>0,ROUND(iPARTAB!H50/iPARTAB!$H$110*1000,5),0)","v":0},{"$f":"IF(iPARTAB!I50<>0,ROUND(iPARTAB!I50/iPARTAB!$I$110*1000,4),0)","v":0},{"$f":"iUI!H50","v":0},{"$f":"iUI!I50","v":0},{"$f":"iUI!K50","v":0}]
[41,{"$f":"iUI!B51","v":"U41"},{"$f":"IF(iUI!C51<>\"\",iUI!C51,\"\")","v":""},{"$f":"IF(iUI!D51<>\"\",iUI!D51,\"\")","v":""},{"$f":"IF(iUI!E51<>\"\",iUI!E51,\"\")","v":""},{"$f":"iPARTAB!F51/iPARTAB!$F$110*1000","v":0},0,{"$f":"IF(iPARTAB!G51<>0,ROUND(iPARTAB!G51/iPARTAB!$G$110*1000,5),0)","v":0},{"$f":"IF(iPARTAB!H51<>0,ROUND(iPARTAB!H51/iPARTAB!$H$110*1000,5),0)","v":0},{"$f":"IF(iPARTAB!I51<>0,ROUND(iPARTAB!I51/iPARTAB!$I$110*1000,4),0)","v":0},{"$f":"iUI!H51","v":0},{"$f":"iUI!I51","v":0},{"$f":"iUI!K51","v":0}]
[42,{"$f":"iUI!B52","v":"U42"},{"$f":"IF(iUI!C52<>\"\",iUI!C52,\"\")","v":""},{"$f":"IF(iUI!D52<>\"\",iUI!D52,\"\")","v":""},{"$f":"IF(iUI!E52<>\"\",iUI!E52,\"\")","v":""},{"$f":"iPARTAB!F52/iPARTAB!$F$110*1000","v":0},0,{"$f":"IF(iPARTAB!G52<>0,ROUND(iPARTAB!G52/iPARTAB!$G$110*1000,5),0)","v":0},{"$f":"IF(iPARTAB!H52<>0,ROUND(iPARTAB!H52/iPARTAB!$H$110*1000,5),0)","v":0},{"$f":"IF(iPARTAB!I52<>0,ROUND(iPARTAB!I52/iPARTAB!$I$110*1000,4),0)","v":0},{"$f":"iUI!H52","v":0},{"$f":"iUI!I52","v":0},{"$f":"iUI!K52","v":0}]
[43,{"$f":"iUI!B53","v":"U43"},{"$f":"IF(iUI!C53<>\"\",iUI!C53,\"\")","v":""},{"$f":"IF(iUI!D53<>\"\",iUI!D53,\"\")","v":""},{"$f":"IF(iUI!E53<>\"\",iUI!E53,\"\")","v":""},{"$f":"iPARTAB!F53/iPARTAB!$F$110*1000","v":0},0,{"$f":"IF(iPARTAB!G53<>0,ROUND(iPARTAB!G53/iPARTAB!$G$110*1000,5),0)","v":0},{"$f":"IF(iPARTAB!H53<>0,ROUND(iPARTAB!H53/iPARTAB!$H$110*1000,5),0)","v":0},{"$f":"IF(iPARTAB!I53<>0,ROUND(iPARTAB!I53/iPARTAB!$I$110*1000,4),0)","v":0},{"$f":"iUI!H53","v":0},{"$f":"iUI!I53","v":0},{"$f":"iUI!K53","v":0}]
[44,{"$f":"iUI!B54","v":"U44"},{"$f":"IF(iUI!C54<>\"\",iUI!C54,\"\")","v":""},{"$f":"IF(iUI!D54<>\"\",iUI!D54,\"\")","v":""},{"$f":"IF(iUI!E54<>\"\",iUI!E54,\"\")","v":""},{"$f":"iPARTAB!F54/iPARTAB!$F$110*1000","v":0},0,{"$f":"IF(iPARTAB!G54<>0,ROUND(iPARTAB!G54/iPARTAB!$G$110*1000,5),0)","v":0},{"$f":"IF(iPARTAB!H54<>0,ROUND(iPARTAB!H54/iPARTAB!$H$110*1000,5),0)","v":0},{"$f":"IF(iPARTAB!I54<>0,ROUND(iPARTAB!I54/iPARTAB!$I$110*1000,4),0)","v":0},{"$f":"iUI!H54","v":0},{"$f":"iUI!I54","v":0},{"$f":"iUI!K54","v":0}]
[45,{"$f":"iUI!B55","v":"U45"},{"$f":"IF(iUI!C55<>\"\",iUI!C55,\"\")","v":""},{"$f":"IF(iUI!D55<>\"\",iUI!D55,\"\")","v":""},{"$f":"IF(iUI!E55<>\"\",iUI!E55,\"\")","v":""},{"$f":"iPARTAB!F55/iPARTAB!$F$110*1000","v":0},0,{"$f":"IF(iPARTAB!G55<>0,ROUND(iPARTAB!G55/iPARTAB!$G$110*1000,5),0)","v":0},{"$f":"IF(iPARTAB!H55<>0,ROUND(iPARTAB!H55/iPARTAB!$H$110*1000,5),0)","v":0},{"$f":"IF(iPARTAB!I55<>0,ROUND(iPARTAB!I55/iPARTAB!$I$110*1000,4),0)","v":0},{"$f":"iUI!H55","v":0},{"$f":"iUI!I55","v":0},{"$f":"iUI!K55","v":0}]
[46,{"$f":"iUI!B56","v":"U46"},{"$f":"IF(iUI!C56<>\"\",iUI!C56,\"\")","v":""},{"$f":"IF(iUI!D56<>\"\",iUI!D56,\"\")","v":""},{"$f":"IF(iUI!E56<>\"\",iUI!E56,\"\")","v":""},{"$f":"iPARTAB!F56/iPARTAB!$F$110*1000","v":0},0,{"$f":"IF(iPARTAB!G56<>0,ROUND(iPARTAB!G56/iPARTAB!$G$110*1000,5),0)","v":0},{"$f":"IF(iPARTAB!H56<>0,ROUND(iPARTAB!H56/iPARTAB!$H$110*1000,5),0)","v":0},{"$f":"IF(iPARTAB!I56<>0,ROUND(iPARTAB!I56/iPARTAB!$I$110*1000,4),0)","v":0},{"$f":"iUI!H56","v":0},{"$f":"iUI!I56","v":0},{"$f":"iUI!K56","v":0}]
[47,{"$f":"iUI!B57","v":"U47"},{"$f":"IF(iUI!C57<>\"\",iUI!C57,\"\")","v":""},{"$f":"IF(iUI!D57<>\"\",iUI!D57,\"\")","v":""},{"$f":"IF(iUI!E57<>\"\",iUI!E57,\"\")","v":""},{"$f":"iPARTAB!F57/iPARTAB!$F$110*1000","v":0},0,{"$f":"IF(iPARTAB!G57<>0,ROUND(iPARTAB!G57/iPARTAB!$G$110*1000,5),0)","v":0},{"$f":"IF(iPARTAB!H57<>0,ROUND(iPARTAB!H57/iPARTAB!$H$110*1000,5),0)","v":0},{"$f":"IF(iPARTAB!I57<>0,ROUND(iPARTAB!I57/iPARTAB!$I$110*1000,4),0)","v":0},{"$f":"iUI!H57","v":0},{"$f":"iUI!I57","v":0},{"$f":"iUI!K57","v":0}]
[48,{"$f":"iUI!B58","v":"U48"},{"$f":"IF(iUI!C58<>\"\",iUI!C58,\"\")","v":""},{"$f":"IF(iUI!D58<>\"\",iUI!D58,\"\")","v":""},{"$f":"IF(iUI!E58<>\"\",iUI!E58,\"\")","v":""},{"$f":"iPARTAB!F58/iPARTAB!$F$110*1000","v":0},0,{"$f":"IF(iPARTAB!G58<>0,ROUND(iPARTAB!G58/iPARTAB!$G$110*1000,5),0)","v":0},{"$f":"IF(iPARTAB!H58<>0,ROUND(iPARTAB!H58/iPARTAB!$H$110*1000,5),0)","v":0},{"$f":"IF(iPARTAB!I58<>0,ROUND(iPARTAB!I58/iPARTAB!$I$110*1000,4),0)","v":0},{"$f":"iUI!H58","v":0},{"$f":"iUI!I58","v":0},{"$f":"iUI!K58","v":0}]
[49,{"$f":"iUI!B59","v":"U49"},{"$f":"IF(iUI!C59<>\"\",iUI!C59,\"\")","v":""},{"$f":"IF(iUI!D59<>\"\",iUI!D59,\"\")","v":""},{"$f":"IF(iUI!E59<>\"\",iUI!E59,\"\")","v":""},{"$f":"iPARTAB!F59/iPARTAB!$F$110*1000","v":0},0,{"$f":"IF(iPARTAB!G59<>0,ROUND(iPARTAB!G59/iPARTAB!$G$110*1000,5),0)","v":0},{"$f":"IF(iPARTAB!H59<>0,ROUND(iPARTAB!H59/iPARTAB!$H$110*1000,5),0)","v":0},{"$f":"IF(iPARTAB!I59<>0,ROUND(iPARTAB!I59/iPARTAB!$I$110*1000,4),0)","v":0},{"$f":"iUI!H59","v":0},{"$f":"iUI!I59","v":0},{"$f":"iUI!K59","v":0}]
[50,{"$f":"iUI!B60","v":"U50"},{"$f":"IF(iUI!C60<>\"\",iUI!C60,\"\")","v":""},{"$f":"IF(iUI!D60<>\"\",iUI!D60,\"\")","v":""},{"$f":"IF(iUI!E60<>\"\",iUI!E60,\"\")","v":""},{"$f":"iPARTAB!F60/iPARTAB!$F$110*1000","v":0},0,{"$f":"IF(iPARTAB!G60<>0,ROUND(iPARTAB!G60/iPARTAB!$G$110*1000,5),0)","v":0},{"$f":"IF(iPARTAB!H60<>0,ROUND(iPARTAB!H60/iPARTAB!$H$110*1000,5),0)","v":0},{"$f":"IF(iPARTAB!I60<>0,ROUND(iPARTAB!I60/iPARTAB!$I$110*1000,4),0)","v":0},{"$f":"iUI!H60","v":0},{"$f":"iUI!I60","v":0},{"$f":"iUI!K60","v":0}]
[51,{"$f":"iUI!B61","v":"U51"},{"$f":"IF(iUI!C61<>\"\",iUI!C61,\"\")","v":""},{"$f":"IF(iUI!D61<>\"\",iUI!D61,\"\")","v":""},{"$f":"IF(iUI!E61<>\"\",iUI!E61,\"\")","v":""},{"$f":"iPARTAB!F61/iPARTAB!$F$110*1000","v":0},0,{"$f":"IF(iPARTAB!G61<>0,ROUND(iPARTAB!G61/iPARTAB!$G$110*1000,5),0)","v":0},{"$f":"IF(iPARTAB!H61<>0,ROUND(iPARTAB!H61/iPARTAB!$H$110*1000,5),0)","v":0},{"$f":"IF(iPARTAB!I61<>0,ROUND(iPARTAB!I61/iPARTAB!$I$110*1000,4),0)","v":0},{"$f":"iUI!H61","v":0},{"$f":"iUI!I61","v":0},{"$f":"iUI!K61","v":0}]
[52,{"$f":"iUI!B62","v":"U52"},{"$f":"IF(iUI!C62<>\"\",iUI!C62,\"\")","v":""},{"$f":"IF(iUI!D62<>\"\",iUI!D62,\"\")","v":""},{"$f":"IF(iUI!E62<>\"\",iUI!E62,\"\")","v":""},{"$f":"iPARTAB!F62/iPARTAB!$F$110*1000","v":0},0,{"$f":"IF(iPARTAB!G62<>0,ROUND(iPARTAB!G62/iPARTAB!$G$110*1000,5),0)","v":0},{"$f":"IF(iPARTAB!H62<>0,ROUND(iPARTAB!H62/iPARTAB!$H$110*1000,5),0)","v":0},{"$f":"IF(iPARTAB!I62<>0,ROUND(iPARTAB!I62/iPARTAB!$I$110*1000,4),0)","v":0},{"$f":"iUI!H62","v":0},{"$f":"iUI!I62","v":0},{"$f":"iUI!K62","v":0}]
[53,{"$f":"iUI!B63","v":"U53"},{"$f":"IF(iUI!C63<>\"\",iUI!C63,\"\")","v":""},{"$f":"IF(iUI!D63<>\"\",iUI!D63,\"\")","v":""},{"$f":"IF(iUI!E63<>\"\",iUI!E63,\"\")","v":""},{"$f":"iPARTAB!F63/iPARTAB!$F$110*1000","v":0},0,{"$f":"IF(iPARTAB!G63<>0,ROUND(iPARTAB!G63/iPARTAB!$G$110*1000,5),0)","v":0},{"$f":"IF(iPARTAB!H63<>0,ROUND(iPARTAB!H63/iPARTAB!$H$110*1000,5),0)","v":0},{"$f":"IF(iPARTAB!I63<>0,ROUND(iPARTAB!I63/iPARTAB!$I$110*1000,4),0)","v":0},{"$f":"iUI!H63","v":0},{"$f":"iUI!I63","v":0},{"$f":"iUI!K63","v":0}]
[54,{"$f":"iUI!B64","v":"U54"},{"$f":"IF(iUI!C64<>\"\",iUI!C64,\"\")","v":""},{"$f":"IF(iUI!D64<>\"\",iUI!D64,\"\")","v":""},{"$f":"IF(iUI!E64<>\"\",iUI!E64,\"\")","v":""},{"$f":"iPARTAB!F64/iPARTAB!$F$110*1000","v":0},0,{"$f":"IF(iPARTAB!G64<>0,ROUND(iPARTAB!G64/iPARTAB!$G$110*1000,5),0)","v":0},{"$f":"IF(iPARTAB!H64<>0,ROUND(iPARTAB!H64/iPARTAB!$H$110*1000,5),0)","v":0},{"$f":"IF(iPARTAB!I64<>0,ROUND(iPARTAB!I64/iPARTAB!$I$110*1000,4),0)","v":0},{"$f":"iUI!H64","v":0},{"$f":"iUI!I64","v":0},{"$f":"iUI!K64","v":0}]
[55,{"$f":"iUI!B65","v":"U55"},{"$f":"IF(iUI!C65<>\"\",iUI!C65,\"\")","v":""},{"$f":"IF(iUI!D65<>\"\",iUI!D65,\"\")","v":""},{"$f":"IF(iUI!E65<>\"\",iUI!E65,\"\")","v":""},{"$f":"iPARTAB!F65/iPARTAB!$F$110*1000","v":0},0,{"$f":"IF(iPARTAB!G65<>0,ROUND(iPARTAB!G65/iPARTAB!$G$110*1000,5),0)","v":0},{"$f":"IF(iPARTAB!H65<>0,ROUND(iPARTAB!H65/iPARTAB!$H$110*1000,5),0)","v":0},{"$f":"IF(iPARTAB!I65<>0,ROUND(iPARTAB!I65/iPARTAB!$I$110*1000,4),0)","v":0},{"$f":"iUI!H65","v":0},{"$f":"iUI!I65","v":0},{"$f":"iUI!K65","v":0}]
[56,{"$f":"iUI!B66","v":"U56"},{"$f":"IF(iUI!C66<>\"\",iUI!C66,\"\")","v":""},{"$f":"IF(iUI!D66<>\"\",iUI!D66,\"\")","v":""},{"$f":"IF(iUI!E66<>\"\",iUI!E66,\"\")","v":""},{"$f":"iPARTAB!F66/iPARTAB!$F$110*1000","v":0},0,{"$f":"IF(iPARTAB!G66<>0,ROUND(iPARTAB!G66/iPARTAB!$G$110*1000,5),0)","v":0},{"$f":"IF(iPARTAB!H66<>0,ROUND(iPARTAB!H66/iPARTAB!$H$110*1000,5),0)","v":0},{"$f":"IF(iPARTAB!I66<>0,ROUND(iPARTAB!I66/iPARTAB!$I$110*1000,4),0)","v":0},{"$f":"iUI!H66","v":0},{"$f":"iUI!I66","v":0},{"$f":"iUI!K66","v":0}]
[57,{"$f":"iUI!B67","v":"U57"},{"$f":"IF(iUI!C67<>\"\",iUI!C67,\"\")","v":""},{"$f":"IF(iUI!D67<>\"\",iUI!D67,\"\")","v":""},{"$f":"IF(iUI!E67<>\"\",iUI!E67,\"\")","v":""},{"$f":"iPARTAB!F67/iPARTAB!$F$110*1000","v":0},0,{"$f":"IF(iPARTAB!G67<>0,ROUND(iPARTAB!G67/iPARTAB!$G$110*1000,5),0)","v":0},{"$f":"IF(iPARTAB!H67<>0,ROUND(iPARTAB!H67/iPARTAB!$H$110*1000,5),0)","v":0},{"$f":"IF(iPARTAB!I67<>0,ROUND(iPARTAB!I67/iPARTAB!$I$110*1000,4),0)","v":0},{"$f":"iUI!H67","v":0},{"$f":"iUI!I67","v":0},{"$f":"iUI!K67","v":0}]
[58,{"$f":"iUI!B68","v":"U58"},{"$f":"IF(iUI!C68<>\"\",iUI!C68,\"\")","v":""},{"$f":"IF(iUI!D68<>\"\",iUI!D68,\"\")","v":""},{"$f":"IF(iUI!E68<>\"\",iUI!E68,\"\")","v":""},{"$f":"iPARTAB!F68/iPARTAB!$F$110*1000","v":0},0,{"$f":"IF(iPARTAB!G68<>0,ROUND(iPARTAB!G68/iPARTAB!$G$110*1000,5),0)","v":0},{"$f":"IF(iPARTAB!H68<>0,ROUND(iPARTAB!H68/iPARTAB!$H$110*1000,5),0)","v":0},{"$f":"IF(iPARTAB!I68<>0,ROUND(iPARTAB!I68/iPARTAB!$I$110*1000,4),0)","v":0},{"$f":"iUI!H68","v":0},{"$f":"iUI!I68","v":0},{"$f":"iUI!K68","v":0}]
[59,{"$f":"iUI!B69","v":"U59"},{"$f":"IF(iUI!C69<>\"\",iUI!C69,\"\")","v":""},{"$f":"IF(iUI!D69<>\"\",iUI!D69,\"\")","v":""},{"$f":"IF(iUI!E69<>\"\",iUI!E69,\"\")","v":""},{"$f":"iPARTAB!F69/iPARTAB!$F$110*1000","v":0},0,{"$f":"IF(iPARTAB!G69<>0,ROUND(iPARTAB!G69/iPARTAB!$G$110*1000,5),0)","v":0},{"$f":"IF(iPARTAB!H69<>0,ROUND(iPARTAB!H69/iPARTAB!$H$110*1000,5),0)","v":0},{"$f":"IF(iPARTAB!I69<>0,ROUND(iPARTAB!I69/iPARTAB!$I$110*1000,4),0)","v":0},{"$f":"iUI!H69","v":0},{"$f":"iUI!I69","v":0},{"$f":"iUI!K69","v":0}]
[60,{"$f":"iUI!B70","v":"U60"},{"$f":"IF(iUI!C70<>\"\",iUI!C70,\"\")","v":""},{"$f":"IF(iUI!D70<>\"\",iUI!D70,\"\")","v":""},{"$f":"IF(iUI!E70<>\"\",iUI!E70,\"\")","v":""},{"$f":"iPARTAB!F70/iPARTAB!$F$110*1000","v":0},0,{"$f":"IF(iPARTAB!G70<>0,ROUND(iPARTAB!G70/iPARTAB!$G$110*1000,5),0)","v":0},{"$f":"IF(iPARTAB!H70<>0,ROUND(iPARTAB!H70/iPARTAB!$H$110*1000,5),0)","v":0},{"$f":"IF(iPARTAB!I70<>0,ROUND(iPARTAB!I70/iPARTAB!$I$110*1000,4),0)","v":0},{"$f":"iUI!H70","v":0},{"$f":"iUI!I70","v":0},{"$f":"iUI!K70","v":0}]
[61,{"$f":"iUI!B71","v":"U61"},{"$f":"IF(iUI!C71<>\"\",iUI!C71,\"\")","v":""},{"$f":"IF(iUI!D71<>\"\",iUI!D71,\"\")","v":""},{"$f":"IF(iUI!E71<>\"\",iUI!E71,\"\")","v":""},{"$f":"iPARTAB!F71/iPARTAB!$F$110*1000","v":0},0,{"$f":"IF(iPARTAB!G71<>0,ROUND(iPARTAB!G71/iPARTAB!$G$110*1000,5),0)","v":0},{"$f":"IF(iPARTAB!H71<>0,ROUND(iPARTAB!H71/iPARTAB!$H$110*1000,5),0)","v":0},{"$f":"IF(iPARTAB!I71<>0,ROUND(iPARTAB!I71/iPARTAB!$I$110*1000,4),0)","v":0},{"$f":"iUI!H71","v":0},{"$f":"iUI!I71","v":0},{"$f":"iUI!K71","v":0}]
[62,{"$f":"iUI!B72","v":"U62"},{"$f":"IF(iUI!C72<>\"\",iUI!C72,\"\")","v":""},{"$f":"IF(iUI!D72<>\"\",iUI!D72,\"\")","v":""},{"$f":"IF(iUI!E72<>\"\",iUI!E72,\"\")","v":""},{"$f":"iPARTAB!F72/iPARTAB!$F$110*1000","v":0},0,{"$f":"IF(iPARTAB!G72<>0,ROUND(iPARTAB!G72/iPARTAB!$G$110*1000,5),0)","v":0},{"$f":"IF(iPARTAB!H72<>0,ROUND(iPARTAB!H72/iPARTAB!$H$110*1000,5),0)","v":0},{"$f":"IF(iPARTAB!I72<>0,ROUND(iPARTAB!I72/iPARTAB!$I$110*1000,4),0)","v":0},{"$f":"iUI!H72","v":0},{"$f":"iUI!I72","v":0},{"$f":"iUI!K72","v":0}]
[63,{"$f":"iUI!B73","v":"U63"},{"$f":"IF(iUI!C73<>\"\",iUI!C73,\"\")","v":""},{"$f":"IF(iUI!D73<>\"\",iUI!D73,\"\")","v":""},{"$f":"IF(iUI!E73<>\"\",iUI!E73,\"\")","v":""},{"$f":"iPARTAB!F73/iPARTAB!$F$110*1000","v":0},0,{"$f":"IF(iPARTAB!G73<>0,ROUND(iPARTAB!G73/iPARTAB!$G$110*1000,5),0)","v":0},{"$f":"IF(iPARTAB!H73<>0,ROUND(iPARTAB!H73/iPARTAB!$H$110*1000,5),0)","v":0},{"$f":"IF(iPARTAB!I73<>0,ROUND(iPARTAB!I73/iPARTAB!$I$110*1000,4),0)","v":0},{"$f":"iUI!H73","v":0},{"$f":"iUI!I73","v":0},{"$f":"iUI!K73","v":0}]
[64,{"$f":"iUI!B74","v":"U64"},{"$f":"IF(iUI!C74<>\"\",iUI!C74,\"\")","v":""},{"$f":"IF(iUI!D74<>\"\",iUI!D74,\"\")","v":""},{"$f":"IF(iUI!E74<>\"\",iUI!E74,\"\")","v":""},{"$f":"iPARTAB!F74/iPARTAB!$F$110*1000","v":0},0,{"$f":"IF(iPARTAB!G74<>0,ROUND(iPARTAB!G74/iPARTAB!$G$110*1000,5),0)","v":0},{"$f":"IF(iPARTAB!H74<>0,ROUND(iPARTAB!H74/iPARTAB!$H$110*1000,5),0)","v":0},{"$f":"IF(iPARTAB!I74<>0,ROUND(iPARTAB!I74/iPARTAB!$I$110*1000,4),0)","v":0},{"$f":"iUI!H74","v":0},{"$f":"iUI!I74","v":0},{"$f":"iUI!K74","v":0}]
[65,{"$f":"iUI!B75","v":"U65"},{"$f":"IF(iUI!C75<>\"\",iUI!C75,\"\")","v":""},{"$f":"IF(iUI!D75<>\"\",iUI!D75,\"\")","v":""},{"$f":"IF(iUI!E75<>\"\",iUI!E75,\"\")","v":""},{"$f":"iPARTAB!F75/iPARTAB!$F$110*1000","v":0},0,{"$f":"IF(iPARTAB!G75<>0,ROUND(iPARTAB!G75/iPARTAB!$G$110*1000,5),0)","v":0},{"$f":"IF(iPARTAB!H75<>0,ROUND(iPARTAB!H75/iPARTAB!$H$110*1000,5),0)","v":0},{"$f":"IF(iPARTAB!I75<>0,ROUND(iPARTAB!I75/iPARTAB!$I$110*1000,4),0)","v":0},{"$f":"iUI!H75","v":0},{"$f":"iUI!I75","v":0},{"$f":"iUI!K75","v":0}]
[66,{"$f":"iUI!B76","v":"U66"},{"$f":"IF(iUI!C76<>\"\",iUI!C76,\"\")","v":""},{"$f":"IF(iUI!D76<>\"\",iUI!D76,\"\")","v":""},{"$f":"IF(iUI!E76<>\"\",iUI!E76,\"\")","v":""},{"$f":"iPARTAB!F76/iPARTAB!$F$110*1000","v":0},{"$f":"F76","v":0},{"$f":"IF(iPARTAB!G76<>0,ROUND(iPARTAB!G76/iPARTAB!$G$110*1000,5),0)","v":0},{"$f":"IF(iPARTAB!H76<>0,ROUND(iPARTAB!H76/iPARTAB!$H$110*1000,5),0)","v":0},{"$f":"IF(iPARTAB!I76<>0,ROUND(iPARTAB!I76/iPARTAB!$I$110*1000,4),0)","v":0},{"$f":"iUI!H76","v":0},{"$f":"iUI!I76","v":0},{"$f":"iUI!K76","v":0}]
[67,{"$f":"iUI!B77","v":"U67"},{"$f":"IF(iUI!C77<>\"\",iUI!C77,\"\")","v":""},{"$f":"IF(iUI!D77<>\"\",iUI!D77,\"\")","v":""},{"$f":"IF(iUI!E77<>\"\",iUI!E77,\"\")","v":""},{"$f":"iPARTAB!F77/iPARTAB!$F$110*1000","v":0},0,{"$f":"IF(iPARTAB!G77<>0,ROUND(iPARTAB!G77/iPARTAB!$G$110*1000,5),0)","v":0},{"$f":"IF(iPARTAB!H77<>0,ROUND(iPARTAB!H77/iPARTAB!$H$110*1000,5),0)","v":0},{"$f":"IF(iPARTAB!I77<>0,ROUND(iPARTAB!I77/iPARTAB!$I$110*1000,4),0)","v":0},{"$f":"iUI!H77","v":0},{"$f":"iUI!I77","v":0},{"$f":"iUI!K77","v":0}]
[68,{"$f":"iUI!B78","v":"U68"},{"$f":"IF(iUI!C78<>\"\",iUI!C78,\"\")","v":""},{"$f":"IF(iUI!D78<>\"\",iUI!D78,\"\")","v":""},{"$f":"IF(iUI!E78<>\"\",iUI!E78,\"\")","v":""},{"$f":"iPARTAB!F78/iPARTAB!$F$110*1000","v":0},0,{"$f":"IF(iPARTAB!G78<>0,ROUND(iPARTAB!G78/iPARTAB!$G$110*1000,5),0)","v":0},{"$f":"IF(iPARTAB!H78<>0,ROUND(iPARTAB!H78/iPARTAB!$H$110*1000,5),0)","v":0},{"$f":"IF(iPARTAB!I78<>0,ROUND(iPARTAB!I78/iPARTAB!$I$110*1000,4),0)","v":0},{"$f":"iUI!H78","v":0},{"$f":"iUI!I78","v":0},{"$f":"iUI!K78","v":0}]
[69,{"$f":"iUI!B79","v":"U69"},{"$f":"IF(iUI!C79<>\"\",iUI!C79,\"\")","v":""},{"$f":"IF(iUI!D79<>\"\",iUI!D79,\"\")","v":""},{"$f":"IF(iUI!E79<>\"\",iUI!E79,\"\")","v":""},{"$f":"iPARTAB!F79/iPARTAB!$F$110*1000","v":0},0,{"$f":"IF(iPARTAB!G79<>0,ROUND(iPARTAB!G79/iPARTAB!$G$110*1000,5),0)","v":0},{"$f":"IF(iPARTAB!H79<>0,ROUND(iPARTAB!H79/iPARTAB!$H$110*1000,5),0)","v":0},{"$f":"IF(iPARTAB!I79<>0,ROUND(iPARTAB!I79/iPARTAB!$I$110*1000,4),0)","v":0},{"$f":"iUI!H79","v":0},{"$f":"iUI!I79","v":0},{"$f":"iUI!K79","v":0}]
[70,{"$f":"iUI!B80","v":"U70"},{"$f":"IF(iUI!C80<>\"\",iUI!C80,\"\")","v":""},{"$f":"IF(iUI!D80<>\"\",iUI!D80,\"\")","v":""},{"$f":"IF(iUI!E80<>\"\",iUI!E80,\"\")","v":""},{"$f":"iPARTAB!F80/iPARTAB!$F$110*1000","v":0},0,{"$f":"IF(iPARTAB!G80<>0,ROUND(iPARTAB!G80/iPARTAB!$G$110*1000,5),0)","v":0},{"$f":"IF(iPARTAB!H80<>0,ROUND(iPARTAB!H80/iPARTAB!$H$110*1000,5),0)","v":0},{"$f":"IF(iPARTAB!I80<>0,ROUND(iPARTAB!I80/iPARTAB!$I$110*1000,4),0)","v":0},{"$f":"iUI!H80","v":0},{"$f":"iUI!I80","v":0},{"$f":"iUI!K80","v":0}]
[71,{"$f":"iUI!B81","v":"U71"},{"$f":"IF(iUI!C81<>\"\",iUI!C81,\"\")","v":""},{"$f":"IF(iUI!D81<>\"\",iUI!D81,\"\")","v":""},{"$f":"IF(iUI!E81<>\"\",iUI!E81,\"\")","v":""},{"$f":"iPARTAB!F81/iPARTAB!$F$110*1000","v":0},0,{"$f":"IF(iPARTAB!G81<>0,ROUND(iPARTAB!G81/iPARTAB!$G$110*1000,5),0)","v":0},{"$f":"IF(iPARTAB!H81<>0,ROUND(iPARTAB!H81/iPARTAB!$H$110*1000,5),0)","v":0},{"$f":"IF(iPARTAB!I81<>0,ROUND(iPARTAB!I81/iPARTAB!$I$110*1000,4),0)","v":0},{"$f":"iUI!H81","v":0},{"$f":"iUI!I81","v":0},{"$f":"iUI!K81","v":0}]
[72,{"$f":"iUI!B82","v":"U72"},{"$f":"IF(iUI!C82<>\"\",iUI!C82,\"\")","v":""},{"$f":"IF(iUI!D82<>\"\",iUI!D82,\"\")","v":""},{"$f":"IF(iUI!E82<>\"\",iUI!E82,\"\")","v":""},{"$f":"iPARTAB!F82/iPARTAB!$F$110*1000","v":0},0,{"$f":"IF(iPARTAB!G82<>0,ROUND(iPARTAB!G82/iPARTAB!$G$110*1000,5),0)","v":0},{"$f":"IF(iPARTAB!H82<>0,ROUND(iPARTAB!H82/iPARTAB!$H$110*1000,5),0)","v":0},{"$f":"IF(iPARTAB!I82<>0,ROUND(iPARTAB!I82/iPARTAB!$I$110*1000,4),0)","v":0},{"$f":"iUI!H82","v":0},{"$f":"iUI!I82","v":0},{"$f":"iUI!K82","v":0}]
[73,{"$f":"iUI!B83","v":"U73"},{"$f":"IF(iUI!C83<>\"\",iUI!C83,\"\")","v":""},{"$f":"IF(iUI!D83<>\"\",iUI!D83,\"\")","v":""},{"$f":"IF(iUI!E83<>\"\",iUI!E83,\"\")","v":""},{"$f":"iPARTAB!F83/iPARTAB!$F$110*1000","v":0},0,{"$f":"IF(iPARTAB!G83<>0,ROUND(iPARTAB!G83/iPARTAB!$G$110*1000,5),0)","v":0},{"$f":"IF(iPARTAB!H83<>0,ROUND(iPARTAB!H83/iPARTAB!$H$110*1000,5),0)","v":0},{"$f":"IF(iPARTAB!I83<>0,ROUND(iPARTAB!I83/iPARTAB!$I$110*1000,4),0)","v":0},{"$f":"iUI!H83","v":0},{"$f":"iUI!I83","v":0},{"$f":"iUI!K83","v":0}]
[74,{"$f":"iUI!B84","v":"U74"},{"$f":"IF(iUI!C84<>\"\",iUI!C84,\"\")","v":""},{"$f":"IF(iUI!D84<>\"\",iUI!D84,\"\")","v":""},{"$f":"IF(iUI!E84<>\"\",iUI!E84,\"\")","v":""},{"$f":"iPARTAB!F84/iPARTAB!$F$110*1000","v":0},0,{"$f":"IF(iPARTAB!G84<>0,ROUND(iPARTAB!G84/iPARTAB!$G$110*1000,5),0)","v":0},{"$f":"IF(iPARTAB!H84<>0,ROUND(iPARTAB!H84/iPARTAB!$H$110*1000,5),0)","v":0},{"$f":"IF(iPARTAB!I84<>0,ROUND(iPARTAB!I84/iPARTAB!$I$110*1000,4),0)","v":0},{"$f":"iUI!H84","v":0},{"$f":"iUI!I84","v":0},{"$f":"iUI!K84","v":0}]
[75,{"$f":"iUI!B85","v":"U75"},{"$f":"IF(iUI!C85<>\"\",iUI!C85,\"\")","v":""},{"$f":"IF(iUI!D85<>\"\",iUI!D85,\"\")","v":""},{"$f":"IF(iUI!E85<>\"\",iUI!E85,\"\")","v":""},{"$f":"iPARTAB!F85/iPARTAB!$F$110*1000","v":0},0,{"$f":"IF(iPARTAB!G85<>0,ROUND(iPARTAB!G85/iPARTAB!$G$110*1000,5),0)","v":0},{"$f":"IF(iPARTAB!H85<>0,ROUND(iPARTAB!H85/iPARTAB!$H$110*1000,5),0)","v":0},{"$f":"IF(iPARTAB!I85<>0,ROUND(iPARTAB!I85/iPARTAB!$I$110*1000,4),0)","v":0},{"$f":"iUI!H85","v":0},{"$f":"iUI!I85","v":0},{"$f":"iUI!K85","v":0}]
[76,{"$f":"iUI!B86","v":"U76"},{"$f":"IF(iUI!C86<>\"\",iUI!C86,\"\")","v":""},{"$f":"IF(iUI!D86<>\"\",iUI!D86,\"\")","v":""},{"$f":"IF(iUI!E86<>\"\",iUI!E86,\"\")","v":""},{"$f":"iPARTAB!F86/iPARTAB!$F$110*1000","v":0},0,{"$f":"IF(iPARTAB!G86<>0,ROUND(iPARTAB!G86/iPARTAB!$G$110*1000,5),0)","v":0},{"$f":"IF(iPARTAB!H86<>0,ROUND(iPARTAB!H86/iPARTAB!$H$110*1000,5),0)","v":0},{"$f":"IF(iPARTAB!I86<>0,ROUND(iPARTAB!I86/iPARTAB!$I$110*1000,4),0)","v":0},{"$f":"iUI!H86","v":0},{"$f":"iUI!I86","v":0},{"$f":"iUI!K86","v":0}]
[77,{"$f":"iUI!B87","v":"U77"},{"$f":"IF(iUI!C87<>\"\",iUI!C87,\"\")","v":""},{"$f":"IF(iUI!D87<>\"\",iUI!D87,\"\")","v":""},{"$f":"IF(iUI!E87<>\"\",iUI!E87,\"\")","v":""},{"$f":"iPARTAB!F87/iPARTAB!$F$110*1000","v":0},0,{"$f":"IF(iPARTAB!G87<>0,ROUND(iPARTAB!G87/iPARTAB!$G$110*1000,5),0)","v":0},{"$f":"IF(iPARTAB!H87<>0,ROUND(iPARTAB!H87/iPARTAB!$H$110*1000,5),0)","v":0},{"$f":"IF(iPARTAB!I87<>0,ROUND(iPARTAB!I87/iPARTAB!$I$110*1000,4),0)","v":0},{"$f":"iUI!H87","v":0},{"$f":"iUI!I87","v":0},{"$f":"iUI!K87","v":0}]
[78,{"$f":"iUI!B88","v":"U78"},{"$f":"IF(iUI!C88<>\"\",iUI!C88,\"\")","v":""},{"$f":"IF(iUI!D88<>\"\",iUI!D88,\"\")","v":""},{"$f":"IF(iUI!E88<>\"\",iUI!E88,\"\")","v":""},{"$f":"iPARTAB!F88/iPARTAB!$F$110*1000","v":0},0,{"$f":"IF(iPARTAB!G88<>0,ROUND(iPARTAB!G88/iPARTAB!$G$110*1000,5),0)","v":0},{"$f":"IF(iPARTAB!H88<>0,ROUND(iPARTAB!H88/iPARTAB!$H$110*1000,5),0)","v":0},{"$f":"IF(iPARTAB!I88<>0,ROUND(iPARTAB!I88/iPARTAB!$I$110*1000,4),0)","v":0},{"$f":"iUI!H88","v":0},{"$f":"iUI!I88","v":0},{"$f":"iUI!K88","v":0}]
[79,{"$f":"iUI!B89","v":"U79"},{"$f":"IF(iUI!C89<>\"\",iUI!C89,\"\")","v":""},{"$f":"IF(iUI!D89<>\"\",iUI!D89,\"\")","v":""},{"$f":"IF(iUI!E89<>\"\",iUI!E89,\"\")","v":""},{"$f":"iPARTAB!F89/iPARTAB!$F$110*1000","v":0},0,{"$f":"IF(iPARTAB!G89<>0,ROUND(iPARTAB!G89/iPARTAB!$G$110*1000,5),0)","v":0},{"$f":"IF(iPARTAB!H89<>0,ROUND(iPARTAB!H89/iPARTAB!$H$110*1000,5),0)","v":0},{"$f":"IF(iPARTAB!I89<>0,ROUND(iPARTAB!I89/iPARTAB!$I$110*1000,4),0)","v":0},{"$f":"iUI!H89","v":0},{"$f":"iUI!I89","v":0},{"$f":"iUI!K89","v":0}]
[80,{"$f":"iUI!B90","v":"U80"},{"$f":"IF(iUI!C90<>\"\",iUI!C90,\"\")","v":""},{"$f":"IF(iUI!D90<>\"\",iUI!D90,\"\")","v":""},{"$f":"IF(iUI!E90<>\"\",iUI!E90,\"\")","v":""},{"$f":"iPARTAB!F90/iPARTAB!$F$110*1000","v":0},0,{"$f":"IF(iPARTAB!G90<>0,ROUND(iPARTAB!G90/iPARTAB!$G$110*1000,5),0)","v":0},{"$f":"IF(iPARTAB!H90<>0,ROUND(iPARTAB!H90/iPARTAB!$H$110*1000,5),0)","v":0},{"$f":"IF(iPARTAB!I90<>0,ROUND(iPARTAB!I90/iPARTAB!$I$110*1000,4),0)","v":0},{"$f":"iUI!H90","v":0},{"$f":"iUI!I90","v":0},{"$f":"iUI!K90","v":0}]
[81,{"$f":"iUI!B91","v":"U81"},{"$f":"IF(iUI!C91<>\"\",iUI!C91,\"\")","v":""},{"$f":"IF(iUI!D91<>\"\",iUI!D91,\"\")","v":""},{"$f":"IF(iUI!E91<>\"\",iUI!E91,\"\")","v":""},{"$f":"iPARTAB!F91/iPARTAB!$F$110*1000","v":0},0,{"$f":"IF(iPARTAB!G91<>0,ROUND(iPARTAB!G91/iPARTAB!$G$110*1000,5),0)","v":0},{"$f":"IF(iPARTAB!H91<>0,ROUND(iPARTAB!H91/iPARTAB!$H$110*1000,5),0)","v":0},{"$f":"IF(iPARTAB!I91<>0,ROUND(iPARTAB!I91/iPARTAB!$I$110*1000,4),0)","v":0},{"$f":"iUI!H91","v":0},{"$f":"iUI!I91","v":0},{"$f":"iUI!K91","v":0}]
[82,{"$f":"iUI!B92","v":"U82"},{"$f":"IF(iUI!C92<>\"\",iUI!C92,\"\")","v":""},{"$f":"IF(iUI!D92<>\"\",iUI!D92,\"\")","v":""},{"$f":"IF(iUI!E92<>\"\",iUI!E92,\"\")","v":""},{"$f":"iPARTAB!F92/iPARTAB!$F$110*1000","v":0},0,{"$f":"IF(iPARTAB!G92<>0,ROUND(iPARTAB!G92/iPARTAB!$G$110*1000,5),0)","v":0},{"$f":"IF(iPARTAB!H92<>0,ROUND(iPARTAB!H92/iPARTAB!$H$110*1000,5),0)","v":0},{"$f":"IF(iPARTAB!I92<>0,ROUND(iPARTAB!I92/iPARTAB!$I$110*1000,4),0)","v":0},{"$f":"iUI!H92","v":0},{"$f":"iUI!I92","v":0},{"$f":"iUI!K92","v":0}]
[83,{"$f":"iUI!B93","v":"U83"},{"$f":"IF(iUI!C93<>\"\",iUI!C93,\"\")","v":""},{"$f":"IF(iUI!D93<>\"\",iUI!D93,\"\")","v":""},{"$f":"IF(iUI!E93<>\"\",iUI!E93,\"\")","v":""},{"$f":"iPARTAB!F93/iPARTAB!$F$110*1000","v":0},0,{"$f":"IF(iPARTAB!G93<>0,ROUND(iPARTAB!G93/iPARTAB!$G$110*1000,5),0)","v":0},{"$f":"IF(iPARTAB!H93<>0,ROUND(iPARTAB!H93/iPARTAB!$H$110*1000,5),0)","v":0},{"$f":"IF(iPARTAB!I93<>0,ROUND(iPARTAB!I93/iPARTAB!$I$110*1000,4),0)","v":0},{"$f":"iUI!H93","v":0},{"$f":"iUI!I93","v":0},{"$f":"iUI!K93","v":0}]
[84,{"$f":"iUI!B94","v":"U84"},{"$f":"IF(iUI!C94<>\"\",iUI!C94,\"\")","v":""},{"$f":"IF(iUI!D94<>\"\",iUI!D94,\"\")","v":""},{"$f":"IF(iUI!E94<>\"\",iUI!E94,\"\")","v":""},{"$f":"iPARTAB!F94/iPARTAB!$F$110*1000","v":0},0,{"$f":"IF(iPARTAB!G94<>0,ROUND(iPARTAB!G94/iPARTAB!$G$110*1000,5),0)","v":0},{"$f":"IF(iPARTAB!H94<>0,ROUND(iPARTAB!H94/iPARTAB!$H$110*1000,5),0)","v":0},{"$f":"IF(iPARTAB!I94<>0,ROUND(iPARTAB!I94/iPARTAB!$I$110*1000,4),0)","v":0},{"$f":"iUI!H94","v":0},{"$f":"iUI!I94","v":0},{"$f":"iUI!K94","v":0}]
[85,{"$f":"iUI!B95","v":"U85"},{"$f":"IF(iUI!C95<>\"\",iUI!C95,\"\")","v":""},{"$f":"IF(iUI!D95<>\"\",iUI!D95,\"\")","v":""},{"$f":"IF(iUI!E95<>\"\",iUI!E95,\"\")","v":""},{"$f":"iPARTAB!F95/iPARTAB!$F$110*1000","v":0},0,{"$f":"IF(iPARTAB!G95<>0,ROUND(iPARTAB!G95/iPARTAB!$G$110*1000,5),0)","v":0},{"$f":"IF(iPARTAB!H95<>0,ROUND(iPARTAB!H95/iPARTAB!$H$110*1000,5),0)","v":0},{"$f":"IF(iPARTAB!I95<>0,ROUND(iPARTAB!I95/iPARTAB!$I$110*1000,4),0)","v":0},{"$f":"iUI!H95","v":0},{"$f":"iUI!I95","v":0},{"$f":"iUI!K95","v":0}]
[86,{"$f":"iUI!B96","v":"U86"},{"$f":"IF(iUI!C96<>\"\",iUI!C96,\"\")","v":""},{"$f":"IF(iUI!D96<>\"\",iUI!D96,\"\")","v":""},{"$f":"IF(iUI!E96<>\"\",iUI!E96,\"\")","v":""},{"$f":"iPARTAB!F96/iPARTAB!$F$110*1000","v":0},0,{"$f":"IF(iPARTAB!G96<>0,ROUND(iPARTAB!G96/iPARTAB!$G$110*1000,5),0)","v":0},{"$f":"IF(iPARTAB!H96<>0,ROUND(iPARTAB!H96/iPARTAB!$H$110*1000,5),0)","v":0},{"$f":"IF(iPARTAB!I96<>0,ROUND(iPARTAB!I96/iPARTAB!$I$110*1000,4),0)","v":0},{"$f":"iUI!H96","v":0},{"$f":"iUI!I96","v":0},{"$f":"iUI!K96","v":0}]
[87,{"$f":"iUI!B97","v":"U87"},{"$f":"IF(iUI!C97<>\"\",iUI!C97,\"\")","v":""},{"$f":"IF(iUI!D97<>\"\",iUI!D97,\"\")","v":""},{"$f":"IF(iUI!E97<>\"\",iUI!E97,\"\")","v":""},{"$f":"iPARTAB!F97/iPARTAB!$F$110*1000","v":0},0,{"$f":"IF(iPARTAB!G97<>0,ROUND(iPARTAB!G97/iPARTAB!$G$110*1000,5),0)","v":0},{"$f":"IF(iPARTAB!H97<>0,ROUND(iPARTAB!H97/iPARTAB!$H$110*1000,5),0)","v":0},{"$f":"IF(iPARTAB!I97<>0,ROUND(iPARTAB!I97/iPARTAB!$I$110*1000,4),0)","v":0},{"$f":"iUI!H97","v":0},{"$f":"iUI!I97","v":0},{"$f":"iUI!K97","v":0}]
[88,{"$f":"iUI!B98","v":"U88"},{"$f":"IF(iUI!C98<>\"\",iUI!C98,\"\")","v":""},{"$f":"IF(iUI!D98<>\"\",iUI!D98,\"\")","v":""},{"$f":"IF(iUI!E98<>\"\",iUI!E98,\"\")","v":""},{"$f":"iPARTAB!F98/iPARTAB!$F$110*1000","v":0},0,{"$f":"IF(iPARTAB!G98<>0,ROUND(iPARTAB!G98/iPARTAB!$G$110*1000,5),0)","v":0},{"$f":"IF(iPARTAB!H98<>0,ROUND(iPARTAB!H98/iPARTAB!$H$110*1000,5),0)","v":0},{"$f":"IF(iPARTAB!I98<>0,ROUND(iPARTAB!I98/iPARTAB!$I$110*1000,4),0)","v":0},{"$f":"iUI!H98","v":0},{"$f":"iUI!I98","v":0},{"$f":"iUI!K98","v":0}]
[89,{"$f":"iUI!B99","v":"U89"},{"$f":"IF(iUI!C99<>\"\",iUI!C99,\"\")","v":""},{"$f":"IF(iUI!D99<>\"\",iUI!D99,\"\")","v":""},{"$f":"IF(iUI!E99<>\"\",iUI!E99,\"\")","v":""},{"$f":"iPARTAB!F99/iPARTAB!$F$110*1000","v":0},0,{"$f":"IF(iPARTAB!G99<>0,ROUND(iPARTAB!G99/iPARTAB!$G$110*1000,5),0)","v":0},{"$f":"IF(iPARTAB!H99<>0,ROUND(iPARTAB!H99/iPARTAB!$H$110*1000,5),0)","v":0},{"$f":"IF(iPARTAB!I99<>0,ROUND(iPARTAB!I99/iPARTAB!$I$110*1000,4),0)","v":0},{"$f":"iUI!H99","v":0},{"$f":"iUI!I99","v":0},{"$f":"iUI!K99","v":0}]
[90,{"$f":"iUI!B100","v":"U90"},{"$f":"IF(iUI!C100<>\"\",iUI!C100,\"\")","v":""},{"$f":"IF(iUI!D100<>\"\",iUI!D100,\"\")","v":""},{"$f":"IF(iUI!E100<>\"\",iUI!E100,\"\")","v":""},{"$f":"iPARTAB!F100/iPARTAB!$F$110*1000","v":0},0,{"$f":"IF(iPARTAB!G100<>0,ROUND(iPARTAB!G100/iPARTAB!$G$110*1000,5),0)","v":0},{"$f":"IF(iPARTAB!H100<>0,ROUND(iPARTAB!H100/iPARTAB!$H$110*1000,5),0)","v":0},{"$f":"IF(iPARTAB!I100<>0,ROUND(iPARTAB!I100/iPARTAB!$I$110*1000,4),0)","v":0},{"$f":"iUI!H100","v":0},{"$f":"iUI!I100","v":0},{"$f":"iUI!K100","v":0}]
[91,{"$f":"iUI!B101","v":"U91"},{"$f":"IF(iUI!C101<>\"\",iUI!C101,\"\")","v":""},{"$f":"IF(iUI!D101<>\"\",iUI!D101,\"\")","v":""},{"$f":"IF(iUI!E101<>\"\",iUI!E101,\"\")","v":""},{"$f":"iPARTAB!F101/iPARTAB!$F$110*1000","v":0},0,{"$f":"IF(iPARTAB!G101<>0,ROUND(iPARTAB!G101/iPARTAB!$G$110*1000,5),0)","v":0},{"$f":"IF(iPARTAB!H101<>0,ROUND(iPARTAB!H101/iPARTAB!$H$110*1000,5),0)","v":0},{"$f":"IF(iPARTAB!I101<>0,ROUND(iPARTAB!I101/iPARTAB!$I$110*1000,4),0)","v":0},{"$f":"iUI!H101","v":0},{"$f":"iUI!I101","v":0},{"$f":"iUI!K101","v":0}]
[92,{"$f":"iUI!B102","v":"U92"},{"$f":"IF(iUI!C102<>\"\",iUI!C102,\"\")","v":""},{"$f":"IF(iUI!D102<>\"\",iUI!D102,\"\")","v":""},{"$f":"IF(iUI!E102<>\"\",iUI!E102,\"\")","v":""},{"$f":"iPARTAB!F102/iPARTAB!$F$110*1000","v":0},0,{"$f":"IF(iPARTAB!G102<>0,ROUND(iPARTAB!G102/iPARTAB!$G$110*1000,5),0)","v":0},{"$f":"IF(iPARTAB!H102<>0,ROUND(iPARTAB!H102/iPARTAB!$H$110*1000,5),0)","v":0},{"$f":"IF(iPARTAB!I102<>0,ROUND(iPARTAB!I102/iPARTAB!$I$110*1000,4),0)","v":0},{"$f":"iUI!H102","v":0},{"$f":"iUI!I102","v":0},{"$f":"iUI!K102","v":0}]
[93,{"$f":"iUI!B103","v":"U93"},{"$f":"IF(iUI!C103<>\"\",iUI!C103,\"\")","v":""},{"$f":"IF(iUI!D103<>\"\",iUI!D103,\"\")","v":""},{"$f":"IF(iUI!E103<>\"\",iUI!E103,\"\")","v":""},{"$f":"iPARTAB!F103/iPARTAB!$F$110*1000","v":0},0,{"$f":"IF(iPARTAB!G103<>0,ROUND(iPARTAB!G103/iPARTAB!$G$110*1000,5),0)","v":0},{"$f":"IF(iPARTAB!H103<>0,ROUND(iPARTAB!H103/iPARTAB!$H$110*1000,5),0)","v":0},{"$f":"IF(iPARTAB!I103<>0,ROUND(iPARTAB!I103/iPARTAB!$I$110*1000,4),0)","v":0},{"$f":"iUI!H103","v":0},{"$f":"iUI!I103","v":0},{"$f":"iUI!K103","v":0}]
[94,{"$f":"iUI!B104","v":"U94"},{"$f":"IF(iUI!C104<>\"\",iUI!C104,\"\")","v":""},{"$f":"IF(iUI!D104<>\"\",iUI!D104,\"\")","v":""},{"$f":"IF(iUI!E104<>\"\",iUI!E104,\"\")","v":""},{"$f":"iPARTAB!F104/iPARTAB!$F$110*1000","v":0},0,{"$f":"IF(iPARTAB!G104<>0,ROUND(iPARTAB!G104/iPARTAB!$G$110*1000,5),0)","v":0},{"$f":"IF(iPARTAB!H104<>0,ROUND(iPARTAB!H104/iPARTAB!$H$110*1000,5),0)","v":0},{"$f":"IF(iPARTAB!I104<>0,ROUND(iPARTAB!I104/iPARTAB!$I$110*1000,4),0)","v":0},{"$f":"iUI!H104","v":0},{"$f":"iUI!I104","v":0},{"$f":"iUI!K104","v":0}]
[95,{"$f":"iUI!B105","v":"U95"},{"$f":"IF(iUI!C105<>\"\",iUI!C105,\"\")","v":""},{"$f":"IF(iUI!D105<>\"\",iUI!D105,\"\")","v":""},{"$f":"IF(iUI!E105<>\"\",iUI!E105,\"\")","v":""},{"$f":"iPARTAB!F105/iPARTAB!$F$110*1000","v":0},0,{"$f":"IF(iPARTAB!G105<>0,ROUND(iPARTAB!G105/iPARTAB!$G$110*1000,5),0)","v":0},{"$f":"IF(iPARTAB!H105<>0,ROUND(iPARTAB!H105/iPARTAB!$H$110*1000,5),0)","v":0},{"$f":"IF(iPARTAB!I105<>0,ROUND(iPARTAB!I105/iPARTAB!$I$110*1000,4),0)","v":0},{"$f":"iUI!H105","v":0},{"$f":"iUI!I105","v":0},{"$f":"iUI!K105","v":0}]
[96,{"$f":"iUI!B106","v":"U96"},{"$f":"IF(iUI!C106<>\"\",iUI!C106,\"\")","v":""},{"$f":"IF(iUI!D106<>\"\",iUI!D106,\"\")","v":""},{"$f":"IF(iUI!E106<>\"\",iUI!E106,\"\")","v":""},{"$f":"iPARTAB!F106/iPARTAB!$F$110*1000","v":0},0,{"$f":"IF(iPARTAB!G106<>0,ROUND(iPARTAB!G106/iPARTAB!$G$110*1000,5),0)","v":0},{"$f":"IF(iPARTAB!H106<>0,ROUND(iPARTAB!H106/iPARTAB!$H$110*1000,5),0)","v":0},{"$f":"IF(iPARTAB!I106<>0,ROUND(iPARTAB!I106/iPARTAB!$I$110*1000,4),0)","v":0},{"$f":"iUI!H106","v":0},{"$f":"iUI!I106","v":0},{"$f":"iUI!K106","v":0}]
[97,{"$f":"iUI!B107","v":"U97"},{"$f":"IF(iUI!C107<>\"\",iUI!C107,\"\")","v":""},{"$f":"IF(iUI!D107<>\"\",iUI!D107,\"\")","v":""},{"$f":"IF(iUI!E107<>\"\",iUI!E107,\"\")","v":""},{"$f":"iPARTAB!F107/iPARTAB!$F$110*1000","v":0},0,{"$f":"IF(iPARTAB!G107<>0,ROUND(iPARTAB!G107/iPARTAB!$G$110*1000,5),0)","v":0},{"$f":"IF(iPARTAB!H107<>0,ROUND(iPARTAB!H107/iPARTAB!$H$110*1000,5),0)","v":0},{"$f":"IF(iPARTAB!I107<>0,ROUND(iPARTAB!I107/iPARTAB!$I$110*1000,4),0)","v":0},{"$f":"iUI!H107","v":0},{"$f":"iUI!I107","v":0},{"$f":"iUI!K107","v":0}]
[98,{"$f":"iUI!B108","v":"U98"},{"$f":"IF(iUI!C108<>\"\",iUI!C108,\"\")","v":""},{"$f":"IF(iUI!D108<>\"\",iUI!D108,\"\")","v":""},{"$f":"IF(iUI!E108<>\"\",iUI!E108,\"\")","v":""},{"$f":"iPARTAB!F108/iPARTAB!$F$110*1000","v":0},0,{"$f":"IF(iPARTAB!G108<>0,ROUND(iPARTAB!G108/iPARTAB!$G$110*1000,5),0)","v":0},{"$f":"IF(iPARTAB!H108<>0,ROUND(iPARTAB!H108/iPARTAB!$H$110*1000,5),0)","v":0},{"$f":"IF(iPARTAB!I108<>0,ROUND(iPARTAB!I108/iPARTAB!$I$110*1000,4),0)","v":0},{"$f":"iUI!H108","v":0},{"$f":"iUI!I108","v":0},{"$f":"iUI!K108","v":0}]
[99,{"$f":"iUI!B109","v":"U99"},{"$f":"IF(iUI!C109<>\"\",iUI!C109,\"\")","v":""},{"$f":"IF(iUI!D109<>\"\",iUI!D109,\"\")","v":""},{"$f":"IF(iUI!E109<>\"\",iUI!E109,\"\")","v":""},{"$f":"iPARTAB!F109/iPARTAB!$F$110*1000","v":0},0,{"$f":"IF(iPARTAB!G109<>0,ROUND(iPARTAB!G109/iPARTAB!$G$110*1000,5),0)","v":0},{"$f":"IF(iPARTAB!H109<>0,ROUND(iPARTAB!H109/iPARTAB!$H$110*1000,5),0)","v":0},{"$f":"IF(iPARTAB!I109<>0,ROUND(iPARTAB!I109/iPARTAB!$I$110*1000,4),0)","v":0},{"$f":"iUI!H109","v":0},{"$f":"iUI!I109","v":0},{"$f":"iUI!K109","v":0}]
[null,null,null,null,"TOTALI",{"$f":"SUM(F11:F109)","v":1000},{"$f":"SUM(G11:G109)","v":1000},{"$f":"SUM(H11:H109)","v":999.99999000000003},{"$f":"SUM(I11:I109)","v":1000.0000299999997},{"$f":"SUM(J11:J109)","v":1000}]
[0,null,null,null,null,null,null,null,null,null,null,null,null,0]

{"sheet":"cTABSS","index":23,"n_rows":111,"n_cols":9,"rows_kept":111,"cut":false,"hidden":true,"merged":[[0,0,0,7],[8,0,9,0],[8,1,9,1],[8,2,9,2]]}
["Nessun dato del prospetto può essere variato.",null,null,null,null,null,null,null,0]
[]
[]
[]
[]
[{"$f":"'iP1'!A5","v":"Condominio \"TERMICO\""}]
["TABELLE MILLESIMALI per SOGGETTI CHE SONO TENUTI A SOSTENERE LE SPESE"]
[]
["n.\nSogg.","Codice\nSoggetto","Denominazione",{"$f":"cTABUI!F9","v":"Tabella A"},{"$f":"cTABUI!G9","v":"Tabella B"},{"$f":"cTABUI!H9","v":"Tabella C"},{"$f":"cTABUI!I9","v":"Tabella D"},{"$f":"cTABUI!J9","v":"Tabella E"}]
[null,null,null,"PROPRIETÀ GENERALE","UTILIZZO","POTENZA INSTALLATA","NUMERO TERMOSIFONI","CONSUMI"]
[{"$f":"iCONDOMINI!A11","v":1},{"$f":"iCONDOMINI!B11","v":"C01"},{"$f":"iCONDOMINI!C11","v":"Condomino01"},{"$f":"IF(B11<>\"\",SUMIFS(cTABUI!$F$11:$F$109,cTABUI!$C$11:$C$109,B11),0)","v":29.949999999999996},{"$f":"IF(B11<>\"\",SUMIFS(cTABUI!$G$11:$G$109,cTABUI!$D$11:$D$109,B11),0)","v":29.949999999999996},{"$f":"IF(B11<>\"\",SUMIFS(cTABUI!$H$11:$H$109,cTABUI!$D$11:$D$109,B11),0)","v":30.935780000000001},{"$f":"IF(B11<>\"\",SUMIFS(cTABUI!$I$11:$I$109,cTABUI!$D$11:$D$109,B11),0)","v":26.086960000000001},{"$f":"IF(B11<>\"\",SUMIFS(cTABUI!$J$11:$J$109,cTABUI!$D$11:$D$109,B11),0)","v":65.573800000000006}]
[{"$f":"iCONDOMINI!A12","v":2},{"$f":"iCONDOMINI!B12","v":"C02"},{"$f":"iCONDOMINI!C12","v":"Condomino02"},{"$f":"IF(B12<>\"\",SUMIFS(cTABUI!$F$11:$F$109,cTABUI!$C$11:$C$109,B12),0)","v":37},{"$f":"IF(B12<>\"\",SUMIFS(cTABUI!$G$11:$G$109,cTABUI!$D$11:$D$109,B12),0)","v":0},{"$f":"IF(B12<>\"\",SUMIFS(cTABUI!$H$11:$H$109,cTABUI!$D$11:$D$109,B12),0)","v":0},{"$f":"IF(B12<>\"\",SUMIFS(cTABUI!$I$11:$I$109,cTABUI!$D$11:$D$109,B12),0)","v":0},{"$f":"IF(B12<>\"\",SUMIFS(cTABUI!$J$11:$J$109,cTABUI!$D$11:$D$109,B12),0)","v":0}]
[{"$f":"iCONDOMINI!A13","v":3},{"$f":"iCONDOMINI!B13","v":"C03"},{"$f":"iCONDOMINI!C13","v":"Condomino03"},{"$f":"IF(B13<>\"\",SUMIFS(cTABUI!$F$11:$F$109,cTABUI!$C$11:$C$109,B13),0)","v":68.819999999999993},{"$f":"IF(B13<>\"\",SUMIFS(cTABUI!$G$11:$G$109,cTABUI!$D$11:$D$109,B13),0)","v":68.819999999999993},{"$f":"IF(B13<>\"\",SUMIFS(cTABUI!$H$11:$H$109,cTABUI!$D$11:$D$109,B13),0)","v":71.068209999999993},{"$f":"IF(B13<>\"\",SUMIFS(cTABUI!$I$11:$I$109,cTABUI!$D$11:$D$109,B13),0)","v":69.565219999999997},{"$f":"IF(B13<>\"\",SUMIFS(cTABUI!$J$11:$J$109,cTABUI!$D$11:$D$109,B13),0)","v":10.929}]
[{"$f":"iCONDOMINI!A14","v":4},{"$f":"iCONDOMINI!B14","v":"C04"},{"$f":"iCONDOMINI!C14","v":"Condomino04 S.r.l."},{"$f":"IF(B14<>\"\",SUMIFS(cTABUI!$F$11:$F$109,cTABUI!$C$11:$C$109,B14),0)","v":37},{"$f":"IF(B14<>\"\",SUMIFS(cTABUI!$G$11:$G$109,cTABUI!$D$11:$D$109,B14),0)","v":37},{"$f":"IF(B14<>\"\",SUMIFS(cTABUI!$H$11:$H$109,cTABUI!$D$11:$D$109,B14),0)","v":34.456780000000002},{"$f":"IF(B14<>\"\",SUMIFS(cTABUI!$I$11:$I$109,cTABUI!$D$11:$D$109,B14),0)","v":43.478259999999999},{"$f":"IF(B14<>\"\",SUMIFS(cTABUI!$J$11:$J$109,cTABUI!$D$11:$D$109,B14),0)","v":10.929}]
[{"$f":"iCONDOMINI!A15","v":5},{"$f":"iCONDOMINI!B15","v":"C05"},{"$f":"iCONDOMINI!C15","v":"Condomino05"},{"$f":"IF(B15<>\"\",SUMIFS(cTABUI!$F$11:$F$109,cTABUI!$C$11:$C$109,B15),0)","v":47.559999999999995},{"$f":"IF(B15<>\"\",SUMIFS(cTABUI!$G$11:$G$109,cTABUI!$D$11:$D$109,B15),0)","v":47.559999999999995},{"$f":"IF(B15<>\"\",SUMIFS(cTABUI!$H$11:$H$109,cTABUI!$D$11:$D$109,B15),0)","v":56.975439999999999},{"$f":"IF(B15<>\"\",SUMIFS(cTABUI!$I$11:$I$109,cTABUI!$D$11:$D$109,B15),0)","v":60.869570000000003},{"$f":"IF(B15<>\"\",SUMIFS(cTABUI!$J$11:$J$109,cTABUI!$D$11:$D$109,B15),0)","v":32.786900000000003}]
[{"$f":"iCONDOMINI!A16","v":6},{"$f":"iCONDOMINI!B16","v":"C06"},{"$f":"iCONDOMINI!C16","v":"Condomino06"},{"$f":"IF(B16<>\"\",SUMIFS(cTABUI!$F$11:$F$109,cTABUI!$C$11:$C$109,B16),0)","v":42.269999999999996},{"$f":"IF(B16<>\"\",SUMIFS(cTABUI!$G$11:$G$109,cTABUI!$D$11:$D$109,B16),0)","v":42.269999999999996},{"$f":"IF(B16<>\"\",SUMIFS(cTABUI!$H$11:$H$109,cTABUI!$D$11:$D$109,B16),0)","v":57.75497},{"$f":"IF(B16<>\"\",SUMIFS(cTABUI!$I$11:$I$109,cTABUI!$D$11:$D$109,B16),0)","v":43.478259999999999},{"$f":"IF(B16<>\"\",SUMIFS(cTABUI!$J$11:$J$109,cTABUI!$D$11:$D$109,B16),0)","v":54.644799999999996}]
[{"$f":"iCONDOMINI!A17","v":7},{"$f":"iCONDOMINI!B17","v":"C07"},{"$f":"iCONDOMINI!C17","v":"Condomino07"},{"$f":"IF(B17<>\"\",SUMIFS(cTABUI!$F$11:$F$109,cTABUI!$C$11:$C$109,B17),0)","v":35.769999999999996},{"$f":"IF(B17<>\"\",SUMIFS(cTABUI!$G$11:$G$109,cTABUI!$D$11:$D$109,B17),0)","v":35.769999999999996},{"$f":"IF(B17<>\"\",SUMIFS(cTABUI!$H$11:$H$109,cTABUI!$D$11:$D$109,B17),0)","v":29.385490000000001},{"$f":"IF(B17<>\"\",SUMIFS(cTABUI!$I$11:$I$109,cTABUI!$D$11:$D$109,B17),0)","v":26.086960000000001},{"$f":"IF(B17<>\"\",SUMIFS(cTABUI!$J$11:$J$109,cTABUI!$D$11:$D$109,B17),0)","v":65.573800000000006}]
[{"$f":"iCONDOMINI!A18","v":8},{"$f":"iCONDOMINI!B18","v":"C08"},{"$f":"iCONDOMINI!C18","v":"Eredi Condomino08"},{"$f":"IF(B18<>\"\",SUMIFS(cTABUI!$F$11:$F$109,cTABUI!$C$11:$C$109,B18),0)","v":29.829999999999995},{"$f":"IF(B18<>\"\",SUMIFS(cTABUI!$G$11:$G$109,cTABUI!$D$11:$D$109,B18),0)","v":29.829999999999995},{"$f":"IF(B18<>\"\",SUMIFS(cTABUI!$H$11:$H$109,cTABUI!$D$11:$D$109,B18),0)","v":8.4609199999999998},{"$f":"IF(B18<>\"\",SUMIFS(cTABUI!$I$11:$I$109,cTABUI!$D$11:$D$109,B18),0)","v":34.782609999999998},{"$f":"IF(B18<>\"\",SUMIFS(cTABUI!$J$11:$J$109,cTABUI!$D$11:$D$109,B18),0)","v":76.502700000000004}]
[{"$f":"iCONDOMINI!A19","v":9},{"$f":"iCONDOMINI!B19","v":"C09"},{"$f":"iCONDOMINI!C19","v":"Condomino09 S.r.l."},{"$f":"IF(B19<>\"\",SUMIFS(cTABUI!$F$11:$F$109,cTABUI!$C$11:$C$109,B19),0)","v":40.509999999999991},{"$f":"IF(B19<>\"\",SUMIFS(cTABUI!$G$11:$G$109,cTABUI!$D$11:$D$109,B19),0)","v":40.509999999999991},{"$f":"IF(B19<>\"\",SUMIFS(cTABUI!$H$11:$H$109,cTABUI!$D$11:$D$109,B19),0)","v":35.516590000000001},{"$f":"IF(B19<>\"\",SUMIFS(cTABUI!$I$11:$I$109,cTABUI!$D$11:$D$109,B19),0)","v":34.782609999999998},{"$f":"IF(B19<>\"\",SUMIFS(cTABUI!$J$11:$J$109,cTABUI!$D$11:$D$109,B19),0)","v":10.929}]
[{"$f":"iCONDOMINI!A20","v":10},{"$f":"iCONDOMINI!B20","v":"C10"},{"$f":"iCONDOMINI!C20","v":"Condomino10"},{"$f":"IF(B20<>\"\",SUMIFS(cTABUI!$F$11:$F$109,cTABUI!$C$11:$C$109,B20),0)","v":49.319999999999993},{"$f":"IF(B20<>\"\",SUMIFS(cTABUI!$G$11:$G$109,cTABUI!$D$11:$D$109,B20),0)","v":0},{"$f":"IF(B20<>\"\",SUMIFS(cTABUI!$H$11:$H$109,cTABUI!$D$11:$D$109,B20),0)","v":0},{"$f":"IF(B20<>\"\",SUMIFS(cTABUI!$I$11:$I$109,cTABUI!$D$11:$D$109,B20),0)","v":0},{"$f":"IF(B20<>\"\",SUMIFS(cTABUI!$J$11:$J$109,cTABUI!$D$11:$D$109,B20),0)","v":0}]
[{"$f":"iCONDOMINI!A21","v":11},{"$f":"iCONDOMINI!B21","v":"C11"},{"$f":"iCONDOMINI!C21","v":"Condomino11"},{"$f":"IF(B21<>\"\",SUMIFS(cTABUI!$F$11:$F$109,cTABUI!$C$11:$C$109,B21),0)","v":37},{"$f":"IF(B21<>\"\",SUMIFS(cTABUI!$G$11:$G$109,cTABUI!$D$11:$D$109,B21),0)","v":37},{"$f":"IF(B21<>\"\",SUMIFS(cTABUI!$H$11:$H$109,cTABUI!$D$11:$D$109,B21),0)","v":26.15352},{"$f":"IF(B21<>\"\",SUMIFS(cTABUI!$I$11:$I$109,cTABUI!$D$11:$D$109,B21),0)","v":26.086960000000001},{"$f":"IF(B21<>\"\",SUMIFS(cTABUI!$J$11:$J$109,cTABUI!$D$11:$D$109,B21),0)","v":49.180300000000003}]
[{"$f":"iCONDOMINI!A22","v":12},{"$f":"iCONDOMINI!B22","v":"C12"},{"$f":"iCONDOMINI!C22","v":"Condomino12"},{"$f":"IF(B22<>\"\",SUMIFS(cTABUI!$F$11:$F$109,cTABUI!$C$11:$C$109,B22),0)","v":56.47},{"$f":"IF(B22<>\"\",SUMIFS(cTABUI!$G$11:$G$109,cTABUI!$D$11:$D$109,B22),0)","v":47.559999999999995},{"$f":"IF(B22<>\"\",SUMIFS(cTABUI!$H$11:$H$109,cTABUI!$D$11:$D$109,B22),0)","v":50.99324},{"$f":"IF(B22<>\"\",SUMIFS(cTABUI!$I$11:$I$109,cTABUI!$D$11:$D$109,B22),0)","v":34.782609999999998},{"$f":"IF(B22<>\"\",SUMIFS(cTABUI!$J$11:$J$109,cTABUI!$D$11:$D$109,B22),0)","v":54.644799999999996}]
[{"$f":"iCONDOMINI!A23","v":13},{"$f":"iCONDOMINI!B23","v":"C13"},{"$f":"iCONDOMINI!C23","v":"Condomino13"},{"$f":"IF(B23<>\"\",SUMIFS(cTABUI!$F$11:$F$109,cTABUI!$C$11:$C$109,B23),0)","v":38.76},{"$f":"IF(B23<>\"\",SUMIFS(cTABUI!$G$11:$G$109,cTABUI!$D$11:$D$109,B23),0)","v":38.76},{"$f":"IF(B23<>\"\",SUMIFS(cTABUI!$H$11:$H$109,cTABUI!$D$11:$D$109,B23),0)","v":46.946710000000003},{"$f":"IF(B23<>\"\",SUMIFS(cTABUI!$I$11:$I$109,cTABUI!$D$11:$D$109,B23),0)","v":43.478259999999999},{"$f":"IF(B23<>\"\",SUMIFS(cTABUI!$J$11:$J$109,cTABUI!$D$11:$D$109,B23),0)","v":32.786900000000003}]
[{"$f":"iCONDOMINI!A24","v":14},{"$f":"iCONDOMINI!B24","v":"C14"},{"$f":"iCONDOMINI!C24","v":"Condomino14"},{"$f":"IF(B24<>\"\",SUMIFS(cTABUI!$F$11:$F$109,cTABUI!$C$11:$C$109,B24),0)","v":29.829999999999995},{"$f":"IF(B24<>\"\",SUMIFS(cTABUI!$G$11:$G$109,cTABUI!$D$11:$D$109,B24),0)","v":29.829999999999995},{"$f":"IF(B24<>\"\",SUMIFS(cTABUI!$H$11:$H$109,cTABUI!$D$11:$D$109,B24),0)","v":38.442},{"$f":"IF(B24<>\"\",SUMIFS(cTABUI!$I$11:$I$109,cTABUI!$D$11:$D$109,B24),0)","v":34.782609999999998},{"$f":"IF(B24<>\"\",SUMIFS(cTABUI!$J$11:$J$109,cTABUI!$D$11:$D$109,B24),0)","v":54.644799999999996}]
[{"$f":"iCONDOMINI!A25","v":15},{"$f":"iCONDOMINI!B25","v":"C15"},{"$f":"iCONDOMINI!C25","v":"Condomino15"},{"$f":"IF(B25<>\"\",SUMIFS(cTABUI!$F$11:$F$109,cTABUI!$C$11:$C$109,B25),0)","v":37},{"$f":"IF(B25<>\"\",SUMIFS(cTABUI!$G$11:$G$109,cTABUI!$D$11:$D$109,B25),0)","v":37},{"$f":"IF(B25<>\"\",SUMIFS(cTABUI!$H$11:$H$109,cTABUI!$D$11:$D$109,B25),0)","v":41.989280000000001},{"$f":"IF(B25<>\"\",SUMIFS(cTABUI!$I$11:$I$109,cTABUI!$D$11:$D$109,B25),0)","v":43.478259999999999},{"$f":"IF(B25<>\"\",SUMIFS(cTABUI!$J$11:$J$109,cTABUI!$D$11:$D$109,B25),0)","v":21.857900000000001}]
[{"$f":"iCONDOMINI!A26","v":16},{"$f":"iCONDOMINI!B26","v":"C16"},{"$f":"iCONDOMINI!C26","v":"Condomino16"},{"$f":"IF(B26<>\"\",SUMIFS(cTABUI!$F$11:$F$109,cTABUI!$C$11:$C$109,B26),0)","v":52.849999999999994},{"$f":"IF(B26<>\"\",SUMIFS(cTABUI!$G$11:$G$109,cTABUI!$D$11:$D$109,B26),0)","v":52.849999999999994},{"$f":"IF(B26<>\"\",SUMIFS(cTABUI!$H$11:$H$109,cTABUI!$D$11:$D$109,B26),0)","v":51.991729999999997},{"$f":"IF(B26<>\"\",SUMIFS(cTABUI!$I$11:$I$109,cTABUI!$D$11:$D$109,B26),0)","v":43.478259999999999},{"$f":"IF(B26<>\"\",SUMIFS(cTABUI!$J$11:$J$109,cTABUI!$D$11:$D$109,B26),0)","v":54.644799999999996}]
[{"$f":"iCONDOMINI!A27","v":17},{"$f":"iCONDOMINI!B27","v":"C17"},{"$f":"iCONDOMINI!C27","v":"Condomino17"},{"$f":"IF(B27<>\"\",SUMIFS(cTABUI!$F$11:$F$109,cTABUI!$C$11:$C$109,B27),0)","v":73.97},{"$f":"IF(B27<>\"\",SUMIFS(cTABUI!$G$11:$G$109,cTABUI!$D$11:$D$109,B27),0)","v":73.97},{"$f":"IF(B27<>\"\",SUMIFS(cTABUI!$H$11:$H$109,cTABUI!$D$11:$D$109,B27),0)","v":74.694320000000005},{"$f":"IF(B27<>\"\",SUMIFS(cTABUI!$I$11:$I$109,cTABUI!$D$11:$D$109,B27),0)","v":60.869570000000003},{"$f":"IF(B27<>\"\",SUMIFS(cTABUI!$J$11:$J$109,cTABUI!$D$11:$D$109,B27),0)","v":65.573800000000006}]
[{"$f":"iCONDOMINI!A28","v":18},{"$f":"iCONDOMINI!B28","v":"C18"},{"$f":"iCONDOMINI!C28","v":"Condomino18"},{"$f":"IF(B28<>\"\",SUMIFS(cTABUI!$F$11:$F$109,cTABUI!$C$11:$C$109,B28),0)","v":64.069999999999993},{"$f":"IF(B28<>\"\",SUMIFS(cTABUI!$G$11:$G$109,cTABUI!$D$11:$D$109,B28),0)","v":0},{"$f":"IF(B28<>\"\",SUMIFS(cTABUI!$H$11:$H$109,cTABUI!$D$11:$D$109,B28),0)","v":0},{"$f":"IF(B28<>\"\",SUMIFS(cTABUI!$I$11:$I$109,cTABUI!$D$11:$D$109,B28),0)","v":0},{"$f":"IF(B28<>\"\",SUMIFS(cTABUI!$J$11:$J$109,cTABUI!$D$11:$D$109,B28),0)","v":0}]
[{"$f":"iCONDOMINI!A29","v":19},{"$f":"iCONDOMINI!B29","v":"C19"},{"$f":"iCONDOMINI!C29","v":"Condomino19"},{"$f":"IF(B29<>\"\",SUMIFS(cTABUI!$F$11:$F$109,cTABUI!$C$11:$C$109,B29),0)","v":58.11999999999999},{"$f":"IF(B29<>\"\",SUMIFS(cTABUI!$G$11:$G$109,cTABUI!$D$11:$D$109,B29),0)","v":58.11999999999999},{"$f":"IF(B29<>\"\",SUMIFS(cTABUI!$H$11:$H$109,cTABUI!$D$11:$D$109,B29),0)","v":62.607289999999999},{"$f":"IF(B29<>\"\",SUMIFS(cTABUI!$I$11:$I$109,cTABUI!$D$11:$D$109,B29),0)","v":60.869570000000003},{"$f":"IF(B29<>\"\",SUMIFS(cTABUI!$J$11:$J$109,cTABUI!$D$11:$D$109,B29),0)","v":43.715800000000002}]
[{"$f":"iCONDOMINI!A30","v":20},{"$f":"iCONDOMINI!B30","v":"C20"},{"$f":"iCONDOMINI!C30","v":"Condomino20"},{"$f":"IF(B30<>\"\",SUMIFS(cTABUI!$F$11:$F$109,cTABUI!$C$11:$C$109,B30),0)","v":29.949999999999996},{"$f":"IF(B30<>\"\",SUMIFS(cTABUI!$G$11:$G$109,cTABUI!$D$11:$D$109,B30),0)","v":0},{"$f":"IF(B30<>\"\",SUMIFS(cTABUI!$H$11:$H$109,cTABUI!$D$11:$D$109,B30),0)","v":0},{"$f":"IF(B30<>\"\",SUMIFS(cTABUI!$I$11:$I$109,cTABUI!$D$11:$D$109,B30),0)","v":0},{"$f":"IF(B30<>\"\",SUMIFS(cTABUI!$J$11:$J$109,cTABUI!$D$11:$D$109,B30),0)","v":0}]
[{"$f":"iCONDOMINI!A31","v":21},{"$f":"iCONDOMINI!B31","v":"C21"},{"$f":"iCONDOMINI!C31","v":"Condomino21"},{"$f":"IF(B31<>\"\",SUMIFS(cTABUI!$F$11:$F$109,cTABUI!$C$11:$C$109,B31),0)","v":37},{"$f":"IF(B31<>\"\",SUMIFS(cTABUI!$G$11:$G$109,cTABUI!$D$11:$D$109,B31),0)","v":37},{"$f":"IF(B31<>\"\",SUMIFS(cTABUI!$H$11:$H$109,cTABUI!$D$11:$D$109,B31),0)","v":42.15569},{"$f":"IF(B31<>\"\",SUMIFS(cTABUI!$I$11:$I$109,cTABUI!$D$11:$D$109,B31),0)","v":43.478259999999999},{"$f":"IF(B31<>\"\",SUMIFS(cTABUI!$J$11:$J$109,cTABUI!$D$11:$D$109,B31),0)","v":43.715800000000002}]
[{"$f":"iCONDOMINI!A32","v":22},{"$f":"iCONDOMINI!B32","v":"C22"},{"$f":"iCONDOMINI!C32","v":"Condomino22"},{"$f":"IF(B32<>\"\",SUMIFS(cTABUI!$F$11:$F$109,cTABUI!$C$11:$C$109,B32),0)","v":28.19},{"$f":"IF(B32<>\"\",SUMIFS(cTABUI!$G$11:$G$109,cTABUI!$D$11:$D$109,B32),0)","v":28.19},{"$f":"IF(B32<>\"\",SUMIFS(cTABUI!$H$11:$H$109,cTABUI!$D$11:$D$109,B32),0)","v":29.070170000000001},{"$f":"IF(B32<>\"\",SUMIFS(cTABUI!$I$11:$I$109,cTABUI!$D$11:$D$109,B32),0)","v":34.782609999999998},{"$f":"IF(B32<>\"\",SUMIFS(cTABUI!$J$11:$J$109,cTABUI!$D$11:$D$109,B32),0)","v":43.715800000000002}]
[{"$f":"iCONDOMINI!A33","v":23},{"$f":"iCONDOMINI!B33","v":"C23"},{"$f":"iCONDOMINI!C33","v":"Condomino23"},{"$f":"IF(B33<>\"\",SUMIFS(cTABUI!$F$11:$F$109,cTABUI!$C$11:$C$109,B33),0)","v":38.76},{"$f":"IF(B33<>\"\",SUMIFS(cTABUI!$G$11:$G$109,cTABUI!$D$11:$D$109,B33),0)","v":38.76},{"$f":"IF(B33<>\"\",SUMIFS(cTABUI!$H$11:$H$109,cTABUI!$D$11:$D$109,B33),0)","v":44.047580000000004},{"$f":"IF(B33<>\"\",SUMIFS(cTABUI!$I$11:$I$109,cTABUI!$D$11:$D$109,B33),0)","v":43.478259999999999},{"$f":"IF(B33<>\"\",SUMIFS(cTABUI!$J$11:$J$109,cTABUI!$D$11:$D$109,B33),0)","v":10.929}]
[{"$f":"iCONDOMINI!A34","v":24},{"$f":"iCONDOMINI!B34","v":"I01"},{"$f":"iCONDOMINI!C34","v":"Inquilino1"},{"$f":"IF(B34<>\"\",SUMIFS(cTABUI!$F$11:$F$109,cTABUI!$C$11:$C$109,B34),0)","v":0},{"$f":"IF(B34<>\"\",SUMIFS(cTABUI!$G$11:$G$109,cTABUI!$D$11:$D$109,B34),0)","v":29.949999999999996},{"$f":"IF(B34<>\"\",SUMIFS(cTABUI!$H$11:$H$109,cTABUI!$D$11:$D$109,B34),0)","v":17.438600000000001},{"$f":"IF(B34<>\"\",SUMIFS(cTABUI!$I$11:$I$109,cTABUI!$D$11:$D$109,B34),0)","v":26.086960000000001},{"$f":"IF(B34<>\"\",SUMIFS(cTABUI!$J$11:$J$109,cTABUI!$D$11:$D$109,B34),0)","v":10.929}]
[{"$f":"iCONDOMINI!A35","v":25},{"$f":"iCONDOMINI!B35","v":"I02"},{"$f":"iCONDOMINI!C35","v":"Inquilino2"},{"$f":"IF(B35<>\"\",SUMIFS(cTABUI!$F$11:$F$109,cTABUI!$C$11:$C$109,B35),0)","v":0},{"$f":"IF(B35<>\"\",SUMIFS(cTABUI!$G$11:$G$109,cTABUI!$D$11:$D$109,B35),0)","v":64.069999999999993},{"$f":"IF(B35<>\"\",SUMIFS(cTABUI!$H$11:$H$109,cTABUI!$D$11:$D$109,B35),0)","v":74.70308},{"$f":"IF(B35<>\"\",SUMIFS(cTABUI!$I$11:$I$109,cTABUI!$D$11:$D$109,B35),0)","v":69.565219999999997},{"$f":"IF(B35<>\"\",SUMIFS(cTABUI!$J$11:$J$109,cTABUI!$D$11:$D$109,B35),0)","v":54.644799999999996}]
[{"$f":"iCONDOMINI!A36","v":26},{"$f":"iCONDOMINI!B36","v":"I03"},{"$f":"iCONDOMINI!C36","v":"Inquilino3"},{"$f":"IF(B36<>\"\",SUMIFS(cTABUI!$F$11:$F$109,cTABUI!$C$11:$C$109,B36),0)","v":0},{"$f":"IF(B36<>\"\",SUMIFS(cTABUI!$G$11:$G$109,cTABUI!$D$11:$D$109,B36),0)","v":37},{"$f":"IF(B36<>\"\",SUMIFS(cTABUI!$H$11:$H$109,cTABUI!$D$11:$D$109,B36),0)","v":40.789340000000003},{"$f":"IF(B36<>\"\",SUMIFS(cTABUI!$I$11:$I$109,cTABUI!$D$11:$D$109,B36),0)","v":43.478259999999999},{"$f":"IF(B36<>\"\",SUMIFS(cTABUI!$J$11:$J$109,cTABUI!$D$11:$D$109,B36),0)","v":54.644799999999996}]
[{"$f":"iCONDOMINI!A37","v":27},{"$f":"iCONDOMINI!B37","v":"I04"},{"$f":"iCONDOMINI!C37","v":"Inquilino4"},{"$f":"IF(B37<>\"\",SUMIFS(cTABUI!$F$11:$F$109,cTABUI!$C$11:$C$109,B37),0)","v":0},{"$f":"IF(B37<>\"\",SUMIFS(cTABUI!$G$11:$G$109,cTABUI!$D$11:$D$109,B37),0)","v":49.319999999999993},{"$f":"IF(B37<>\"\",SUMIFS(cTABUI!$H$11:$H$109,cTABUI!$D$11:$D$109,B37),0)","v":24.962340000000001},{"$f":"IF(B37<>\"\",SUMIFS(cTABUI!$I$11:$I$109,cTABUI!$D$11:$D$109,B37),0)","v":52.173909999999999},{"$f":"IF(B37<>\"\",SUMIFS(cTABUI!$J$11:$J$109,cTABUI!$D$11:$D$109,B37),0)","v":76.502700000000004}]
[{"$f":"iCONDOMINI!A38","v":28},{"$f":"iCONDOMINI!B38","v":"I05"},{"$f":"iCONDOMINI!C38","v":"Inquilino5"},{"$f":"IF(B38<>\"\",SUMIFS(cTABUI!$F$11:$F$109,cTABUI!$C$11:$C$109,B38),0)","v":0},{"$f":"IF(B38<>\"\",SUMIFS(cTABUI!$G$11:$G$109,cTABUI!$D$11:$D$109,B38),0)","v":8.91},{"$f":"IF(B38<>\"\",SUMIFS(cTABUI!$H$11:$H$109,cTABUI!$D$11:$D$109,B38),0)","v":8.4609199999999998},{"$f":"IF(B38<>\"\",SUMIFS(cTABUI!$I$11:$I$109,cTABUI!$D$11:$D$109,B38),0)","v":0},{"$f":"IF(B38<>\"\",SUMIFS(cTABUI!$J$11:$J$109,cTABUI!$D$11:$D$109,B38),0)","v":0}]
[{"$f":"iCONDOMINI!A39","v":29},{"$f":"iCONDOMINI!B39","v":0},{"$f":"iCONDOMINI!C39","v":0},{"$f":"IF(B39<>\"\",SUMIFS(cTABUI!$F$11:$F$109,cTABUI!$C$11:$C$109,B39),0)","v":0},{"$f":"IF(B39<>\"\",SUMIFS(cTABUI!$G$11:$G$109,cTABUI!$D$11:$D$109,B39),0)","v":0},{"$f":"IF(B39<>\"\",SUMIFS(cTABUI!$H$11:$H$109,cTABUI!$D$11:$D$109,B39),0)","v":0},{"$f":"IF(B39<>\"\",SUMIFS(cTABUI!$I$11:$I$109,cTABUI!$D$11:$D$109,B39),0)","v":0},{"$f":"IF(B39<>\"\",SUMIFS(cTABUI!$J$11:$J$109,cTABUI!$D$11:$D$109,B39),0)","v":0}]
[{"$f":"iCONDOMINI!A40","v":30},{"$f":"iCONDOMINI!B40","v":0},{"$f":"iCONDOMINI!C40","v":0},{"$f":"IF(B40<>\"\",SUMIFS(cTABUI!$F$11:$F$109,cTABUI!$C$11:$C$109,B40),0)","v":0},{"$f":"IF(B40<>\"\",SUMIFS(cTABUI!$G$11:$G$109,cTABUI!$D$11:$D$109,B40),0)","v":0},{"$f":"IF(B40<>\"\",SUMIFS(cTABUI!$H$11:$H$109,cTABUI!$D$11:$D$109,B40),0)","v":0},{"$f":"IF(B40<>\"\",SUMIFS(cTABUI!$I$11:$I$109,cTABUI!$D$11:$D$109,B40),0)","v":0},{"$f":"IF(B40<>\"\",SUMIFS(cTABUI!$J$11:$J$109,cTABUI!$D$11:$D$109,B40),0)","v":0}]
[{"$f":"iCONDOMINI!A41","v":31},{"$f":"iCONDOMINI!B41","v":0},{"$f":"iCONDOMINI!C41","v":0},{"$f":"IF(B41<>\"\",SUMIFS(cTABUI!$F$11:$F$109,cTABUI!$C$11:$C$109,B41),0)","v":0},{"$f":"IF(B41<>\"\",SUMIFS(cTABUI!$G$11:$G$109,cTABUI!$D$11:$D$109,B41),0)","v":0},{"$f":"IF(B41<>\"\",SUMIFS(cTABUI!$H$11:$H$109,cTABUI!$D$11:$D$109,B41),0)","v":0},{"$f":"IF(B41<>\"\",SUMIFS(cTABUI!$I$11:$I$109,cTABUI!$D$11:$D$109,B41),0)","v":0},{"$f":"IF(B41<>\"\",SUMIFS(cTABUI!$J$11:$J$109,cTABUI!$D$11:$D$109,B41),0)","v":0}]
[{"$f":"iCONDOMINI!A42","v":32},{"$f":"iCONDOMINI!B42","v":0},{"$f":"iCONDOMINI!C42","v":0},{"$f":"IF(B42<>\"\",SUMIFS(cTABUI!$F$11:$F$109,cTABUI!$C$11:$C$109,B42),0)","v":0},{"$f":"IF(B42<>\"\",SUMIFS(cTABUI!$G$11:$G$109,cTABUI!$D$11:$D$109,B42),0)","v":0},{"$f":"IF(B42<>\"\",SUMIFS(cTABUI!$H$11:$H$109,cTABUI!$D$11:$D$109,B42),0)","v":0},{"$f":"IF(B42<>\"\",SUMIFS(cTABUI!$I$11:$I$109,cTABUI!$D$11:$D$109,B42),0)","v":0},{"$f":"IF(B42<>\"\",SUMIFS(cTABUI!$J$11:$J$109,cTABUI!$D$11:$D$109,B42),0)","v":0}]
[{"$f":"iCONDOMINI!A43","v":33},{"$f":"iCONDOMINI!B43","v":0},{"$f":"iCONDOMINI!C43","v":0},{"$f":"IF(B43<>\"\",SUMIFS(cTABUI!$F$11:$F$109,cTABUI!$C$11:$C$109,B43),0)","v":0},{"$f":"IF(B43<>\"\",SUMIFS(cTABUI!$G$11:$G$109,cTABUI!$D$11:$D$109,B43),0)","v":0},{"$f":"IF(B43<>\"\",SUMIFS(cTABUI!$H$11:$H$109,cTABUI!$D$11:$D$109,B43),0)","v":0},{"$f":"IF(B43<>\"\",SUMIFS(cTABUI!$I$11:$I$109,cTABUI!$D$11:$D$109,B43),0)","v":0},{"$f":"IF(B43<>\"\",SUMIFS(cTABUI!$J$11:$J$109,cTABUI!$D$11:$D$109,B43),0)","v":0}]
[{"$f":"iCONDOMINI!A44","v":34},{"$f":"iCONDOMINI!B44","v":0},{"$f":"iCONDOMINI!C44","v":0},{"$f":"IF(B44<>\"\",SUMIFS(cTABUI!$F$11:$F$109,cTABUI!$C$11:$C$109,B44),0)","v":0},{"$f":"IF(B44<>\"\",SUMIFS(cTABUI!$G$11:$G$109,cTABUI!$D$11:$D$109,B44),0)","v":0},{"$f":"IF(B44<>\"\",SUMIFS(cTABUI!$H$11:$H$109,cTABUI!$D$11:$D$109,B44),0)","v":0},{"$f":"IF(B44<>\"\",SUMIFS(cTABUI!$I$11:$I$109,cTABUI!$D$11:$D$109,B44),0)","v":0},{"$f":"IF(B44<>\"\",SUMIFS(cTABUI!$J$11:$J$109,cTABUI!$D$11:$D$109,B44),0)","v":0}]
[{"$f":"iCONDOMINI!A45","v":35},{"$f":"iCONDOMINI!B45","v":0},{"$f":"iCONDOMINI!C45","v":0},{"$f":"IF(B45<>\"\",SUMIFS(cTABUI!$F$11:$F$109,cTABUI!$C$11:$C$109,B45),0)","v":0},{"$f":"IF(B45<>\"\",SUMIFS(cTABUI!$G$11:$G$109,cTABUI!$D$11:$D$109,B45),0)","v":0},{"$f":"IF(B45<>\"\",SUMIFS(cTABUI!$H$11:$H$109,cTABUI!$D$11:$D$109,B45),0)","v":0},{"$f":"IF(B45<>\"\",SUMIFS(cTABUI!$I$11:$I$109,cTABUI!$D$11:$D$109,B45),0)","v":0},{"$f":"IF(B45<>\"\",SUMIFS(cTABUI!$J$11:$J$109,cTABUI!$D$11:$D$109,B45),0)","v":0}]
[{"$f":"iCONDOMINI!A46","v":36},{"$f":"iCONDOMINI!B46","v":0},{"$f":"iCONDOMINI!C46","v":0},{"$f":"IF(B46<>\"\",SUMIFS(cTABUI!$F$11:$F$109,cTABUI!$C$11:$C$109,B46),0)","v":0},{"$f":"IF(B46<>\"\",SUMIFS(cTABUI!$G$11:$G$109,cTABUI!$D$11:$D$109,B46),0)","v":0},{"$f":"IF(B46<>\"\",SUMIFS(cTABUI!$H$11:$H$109,cTABUI!$D$11:$D$109,B46),0)","v":0},{"$f":"IF(B46<>\"\",SUMIFS(cTABUI!$I$11:$I$109,cTABUI!$D$11:$D$109,B46),0)","v":0},{"$f":"IF(B46<>\"\",SUMIFS(cTABUI!$J$11:$J$109,cTABUI!$D$11:$D$109,B46),0)","v":0}]
[{"$f":"iCONDOMINI!A47","v":37},{"$f":"iCONDOMINI!B47","v":0},{"$f":"iCONDOMINI!C47","v":0},{"$f":"IF(B47<>\"\",SUMIFS(cTABUI!$F$11:$F$109,cTABUI!$C$11:$C$109,B47),0)","v":0},{"$f":"IF(B47<>\"\",SUMIFS(cTABUI!$G$11:$G$109,cTABUI!$D$11:$D$109,B47),0)","v":0},{"$f":"IF(B47<>\"\",SUMIFS(cTABUI!$H$11:$H$109,cTABUI!$D$11:$D$109,B47),0)","v":0},{"$f":"IF(B47<>\"\",SUMIFS(cTABUI!$I$11:$I$109,cTABUI!$D$11:$D$109,B47),0)","v":0},{"$f":"IF(B47<>\"\",SUMIFS(cTABUI!$J$11:$J$109,cTABUI!$D$11:$D$109,B47),0)","v":0}]
[{"$f":"iCONDOMINI!A48","v":38},{"$f":"iCONDOMINI!B48","v":0},{"$f":"iCONDOMINI!C48","v":0},{"$f":"IF(B48<>\"\",SUMIFS(cTABUI!$F$11:$F$109,cTABUI!$C$11:$C$109,B48),0)","v":0},{"$f":"IF(B48<>\"\",SUMIFS(cTABUI!$G$11:$G$109,cTABUI!$D$11:$D$109,B48),0)","v":0},{"$f":"IF(B48<>\"\",SUMIFS(cTABUI!$H$11:$H$109,cTABUI!$D$11:$D$109,B48),0)","v":0},{"$f":"IF(B48<>\"\",SUMIFS(cTABUI!$I$11:$I$109,cTABUI!$D$11:$D$109,B48),0)","v":0},{"$f":"IF(B48<>\"\",SUMIFS(cTABUI!$J$11:$J$109,cTABUI!$D$11:$D$109,B48),0)","v":0}]
[{"$f":"iCONDOMINI!A49","v":39},{"$f":"iCONDOMINI!B49","v":0},{"$f":"iCONDOMINI!C49","v":0},{"$f":"IF(B49<>\"\",SUMIFS(cTABUI!$F$11:$F$109,cTABUI!$C$11:$C$109,B49),0)","v":0},{"$f":"IF(B49<>\"\",SUMIFS(cTABUI!$G$11:$G$109,cTABUI!$D$11:$D$109,B49),0)","v":0},{"$f":"IF(B49<>\"\",SUMIFS(cTABUI!$H$11:$H$109,cTABUI!$D$11:$D$109,B49),0)","v":0},{"$f":"IF(B49<>\"\",SUMIFS(cTABUI!$I$11:$I$109,cTABUI!$D$11:$D$109,B49),0)","v":0},{"$f":"IF(B49<>\"\",SUMIFS(cTABUI!$J$11:$J$109,cTABUI!$D$11:$D$109,B49),0)","v":0}]
[{"$f":"iCONDOMINI!A50","v":40},{"$f":"iCONDOMINI!B50","v":0},{"$f":"iCONDOMINI!C50","v":0},{"$f":"IF(B50<>\"\",SUMIFS(cTABUI!$F$11:$F$109,cTABUI!$C$11:$C$109,B50),0)","v":0},{"$f":"IF(B50<>\"\",SUMIFS(cTABUI!$G$11:$G$109,cTABUI!$D$11:$D$109,B50),0)","v":0},{"$f":"IF(B50<>\"\",SUMIFS(cTABUI!$H$11:$H$109,cTABUI!$D$11:$D$109,B50),0)","v":0},{"$f":"IF(B50<>\"\",SUMIFS(cTABUI!$I$11:$I$109,cTABUI!$D$11:$D$109,B50),0)","v":0},{"$f":"IF(B50<>\"\",SUMIFS(cTABUI!$J$11:$J$109,cTABUI!$D$11:$D$109,B50),0)","v":0}]
[{"$f":"iCONDOMINI!A51","v":41},{"$f":"iCONDOMINI!B51","v":0},{"$f":"iCONDOMINI!C51","v":0},{"$f":"IF(B51<>\"\",SUMIFS(cTABUI!$F$11:$F$109,cTABUI!$C$11:$C$109,B51),0)","v":0},{"$f":"IF(B51<>\"\",SUMIFS(cTABUI!$G$11:$G$109,cTABUI!$D$11:$D$109,B51),0)","v":0},{"$f":"IF(B51<>\"\",SUMIFS(cTABUI!$H$11:$H$109,cTABUI!$D$11:$D$109,B51),0)","v":0},{"$f":"IF(B51<>\"\",SUMIFS(cTABUI!$I$11:$I$109,cTABUI!$D$11:$D$109,B51),0)","v":0},{"$f":"IF(B51<>\"\",SUMIFS(cTABUI!$J$11:$J$109,cTABUI!$D$11:$D$109,B51),0)","v":0}]
[{"$f":"iCONDOMINI!A52","v":42},{"$f":"iCONDOMINI!B52","v":0},{"$f":"iCONDOMINI!C52","v":0},{"$f":"IF(B52<>\"\",SUMIFS(cTABUI!$F$11:$F$109,cTABUI!$C$11:$C$109,B52),0)","v":0},{"$f":"IF(B52<>\"\",SUMIFS(cTABUI!$G$11:$G$109,cTABUI!$D$11:$D$109,B52),0)","v":0},{"$f":"IF(B52<>\"\",SUMIFS(cTABUI!$H$11:$H$109,cTABUI!$D$11:$D$109,B52),0)","v":0},{"$f":"IF(B52<>\"\",SUMIFS(cTABUI!$I$11:$I$109,cTABUI!$D$11:$D$109,B52),0)","v":0},{"$f":"IF(B52<>\"\",SUMIFS(cTABUI!$J$11:$J$109,cTABUI!$D$11:$D$109,B52),0)","v":0}]
[{"$f":"iCONDOMINI!A53","v":43},{"$f":"iCONDOMINI!B53","v":0},{"$f":"iCONDOMINI!C53","v":0},{"$f":"IF(B53<>\"\",SUMIFS(cTABUI!$F$11:$F$109,cTABUI!$C$11:$C$109,B53),0)","v":0},{"$f":"IF(B53<>\"\",SUMIFS(cTABUI!$G$11:$G$109,cTABUI!$D$11:$D$109,B53),0)","v":0},{"$f":"IF(B53<>\"\",SUMIFS(cTABUI!$H$11:$H$109,cTABUI!$D$11:$D$109,B53),0)","v":0},{"$f":"IF(B53<>\"\",SUMIFS(cTABUI!$I$11:$I$109,cTABUI!$D$11:$D$109,B53),0)","v":0},{"$f":"IF(B53<>\"\",SUMIFS(cTABUI!$J$11:$J$109,cTABUI!$D$11:$D$109,B53),0)","v":0}]
[{"$f":"iCONDOMINI!A54","v":44},{"$f":"iCONDOMINI!B54","v":0},{"$f":"iCONDOMINI!C54","v":0},{"$f":"IF(B54<>\"\",SUMIFS(cTABUI!$F$11:$F$109,cTABUI!$C$11:$C$109,B54),0)","v":0},{"$f":"IF(B54<>\"\",SUMIFS(cTABUI!$G$11:$G$109,cTABUI!$D$11:$D$109,B54),0)","v":0},{"$f":"IF(B54<>\"\",SUMIFS(cTABUI!$H$11:$H$109,cTABUI!$D$11:$D$109,B54),0)","v":0},{"$f":"IF(B54<>\"\",SUMIFS(cTABUI!$I$11:$I$109,cTABUI!$D$11:$D$109,B54),0)","v":0},{"$f":"IF(B54<>\"\",SUMIFS(cTABUI!$J$11:$J$109,cTABUI!$D$11:$D$109,B54),0)","v":0}]
[{"$f":"iCONDOMINI!A55","v":45},{"$f":"iCONDOMINI!B55","v":0},{"$f":"iCONDOMINI!C55","v":0},{"$f":"IF(B55<>\"\",SUMIFS(cTABUI!$F$11:$F$109,cTABUI!$C$11:$C$109,B55),0)","v":0},{"$f":"IF(B55<>\"\",SUMIFS(cTABUI!$G$11:$G$109,cTABUI!$D$11:$D$109,B55),0)","v":0},{"$f":"IF(B55<>\"\",SUMIFS(cTABUI!$H$11:$H$109,cTABUI!$D$11:$D$109,B55),0)","v":0},{"$f":"IF(B55<>\"\",SUMIFS(cTABUI!$I$11:$I$109,cTABUI!$D$11:$D$109,B55),0)","v":0},{"$f":"IF(B55<>\"\",SUMIFS(cTABUI!$J$11:$J$109,cTABUI!$D$11:$D$109,B55),0)","v":0}]
[{"$f":"iCONDOMINI!A56","v":46},{"$f":"iCONDOMINI!B56","v":0},{"$f":"iCONDOMINI!C56","v":0},{"$f":"IF(B56<>\"\",SUMIFS(cTABUI!$F$11:$F$109,cTABUI!$C$11:$C$109,B56),0)","v":0},{"$f":"IF(B56<>\"\",SUMIFS(cTABUI!$G$11:$G$109,cTABUI!$D$11:$D$109,B56),0)","v":0},{"$f":"IF(B56<>\"\",SUMIFS(cTABUI!$H$11:$H$109,cTABUI!$D$11:$D$109,B56),0)","v":0},{"$f":"IF(B56<>\"\",SUMIFS(cTABUI!$I$11:$I$109,cTABUI!$D$11:$D$109,B56),0)","v":0},{"$f":"IF(B56<>\"\",SUMIFS(cTABUI!$J$11:$J$109,cTABUI!$D$11:$D$109,B56),0)","v":0}]
[{"$f":"iCONDOMINI!A57","v":47},{"$f":"iCONDOMINI!B57","v":0},{"$f":"iCONDOMINI!C57","v":0},{"$f":"IF(B57<>\"\",SUMIFS(cTABUI!$F$11:$F$109,cTABUI!$C$11:$C$109,B57),0)","v":0},{"$f":"IF(B57<>\"\",SUMIFS(cTABUI!$G$11:$G$109,cTABUI!$D$11:$D$109,B57),0)","v":0},{"$f":"IF(B57<>\"\",SUMIFS(cTABUI!$H$11:$H$109,cTABUI!$D$11:$D$109,B57),0)","v":0},{"$f":"IF(B57<>\"\",SUMIFS(cTABUI!$I$11:$I$109,cTABUI!$D$11:$D$109,B57),0)","v":0},{"$f":"IF(B57<>\"\",SUMIFS(cTABUI!$J$11:$J$109,cTABUI!$D$11:$D$109,B57),0)","v":0}]
[{"$f":"iCONDOMINI!A58","v":48},{"$f":"iCONDOMINI!B58","v":0},{"$f":"iCONDOMINI!C58","v":0},{"$f":"IF(B58<>\"\",SUMIFS(cTABUI!$F$11:$F$109,cTABUI!$C$11:$C$109,B58),0)","v":0},{"$f":"IF(B58<>\"\",SUMIFS(cTABUI!$G$11:$G$109,cTABUI!$D$11:$D$109,B58),0)","v":0},{"$f":"IF(B58<>\"\",SUMIFS(cTABUI!$H$11:$H$109,cTABUI!$D$11:$D$109,B58),0)","v":0},{"$f":"IF(B58<>\"\",SUMIFS(cTABUI!$I$11:$I$109,cTABUI!$D$11:$D$109,B58),0)","v":0},{"$f":"IF(B58<>\"\",SUMIFS(cTABUI!$J$11:$J$109,cTABUI!$D$11:$D$109,B58),0)","v":0}]
[{"$f":"iCONDOMINI!A59","v":49},{"$f":"iCONDOMINI!B59","v":0},{"$f":"iCONDOMINI!C59","v":0},{"$f":"IF(B59<>\"\",SUMIFS(cTABUI!$F$11:$F$109,cTABUI!$C$11:$C$109,B59),0)","v":0},{"$f":"IF(B59<>\"\",SUMIFS(cTABUI!$G$11:$G$109,cTABUI!$D$11:$D$109,B59),0)","v":0},{"$f":"IF(B59<>\"\",SUMIFS(cTABUI!$H$11:$H$109,cTABUI!$D$11:$D$109,B59),0)","v":0},{"$f":"IF(B59<>\"\",SUMIFS(cTABUI!$I$11:$I$109,cTABUI!$D$11:$D$109,B59),0)","v":0},{"$f":"IF(B59<>\"\",SUMIFS(cTABUI!$J$11:$J$109,cTABUI!$D$11:$D$109,B59),0)","v":0}]
[{"$f":"iCONDOMINI!A60","v":50},{"$f":"iCONDOMINI!B60","v":0},{"$f":"iCONDOMINI!C60","v":0},{"$f":"IF(B60<>\"\",SUMIFS(cTABUI!$F$11:$F$109,cTABUI!$C$11:$C$109,B60),0)","v":0},{"$f":"IF(B60<>\"\",SUMIFS(cTABUI!$G$11:$G$109,cTABUI!$D$11:$D$109,B60),0)","v":0},{"$f":"IF(B60<>\"\",SUMIFS(cTABUI!$H$11:$H$109,cTABUI!$D$11:$D$109,B60),0)","v":0},{"$f":"IF(B60<>\"\",SUMIFS(cTABUI!$I$11:$I$109,cTABUI!$D$11:$D$109,B60),0)","v":0},{"$f":"IF(B60<>\"\",SUMIFS(cTABUI!$J$11:$J$109,cTABUI!$D$11:$D$109,B60),0)","v":0}]
[{"$f":"iCONDOMINI!A61","v":51},{"$f":"iCONDOMINI!B61","v":0},{"$f":"iCONDOMINI!C61","v":0},{"$f":"IF(B61<>\"\",SUMIFS(cTABUI!$F$11:$F$109,cTABUI!$C$11:$C$109,B61),0)","v":0},{"$f":"IF(B61<>\"\",SUMIFS(cTABUI!$G$11:$G$109,cTABUI!$D$11:$D$109,B61),0)","v":0},{"$f":"IF(B61<>\"\",SUMIFS(cTABUI!$H$11:$H$109,cTABUI!$D$11:$D$109,B61),0)","v":0},{"$f":"IF(B61<>\"\",SUMIFS(cTABUI!$I$11:$I$109,cTABUI!$D$11:$D$109,B61),0)","v":0},{"$f":"IF(B61<>\"\",SUMIFS(cTABUI!$J$11:$J$109,cTABUI!$D$11:$D$109,B61),0)","v":0}]
[{"$f":"iCONDOMINI!A62","v":52},{"$f":"iCONDOMINI!B62","v":0},{"$f":"iCONDOMINI!C62","v":0},{"$f":"IF(B62<>\"\",SUMIFS(cTABUI!$F$11:$F$109,cTABUI!$C$11:$C$109,B62),0)","v":0},{"$f":"IF(B62<>\"\",SUMIFS(cTABUI!$G$11:$G$109,cTABUI!$D$11:$D$109,B62),0)","v":0},{"$f":"IF(B62<>\"\",SUMIFS(cTABUI!$H$11:$H$109,cTABUI!$D$11:$D$109,B62),0)","v":0},{"$f":"IF(B62<>\"\",SUMIFS(cTABUI!$I$11:$I$109,cTABUI!$D$11:$D$109,B62),0)","v":0},{"$f":"IF(B62<>\"\",SUMIFS(cTABUI!$J$11:$J$109,cTABUI!$D$11:$D$109,B62),0)","v":0}]
[{"$f":"iCONDOMINI!A63","v":53},{"$f":"iCONDOMINI!B63","v":0},{"$f":"iCONDOMINI!C63","v":0},{"$f":"IF(B63<>\"\",SUMIFS(cTABUI!$F$11:$F$109,cTABUI!$C$11:$C$109,B63),0)","v":0},{"$f":"IF(B63<>\"\",SUMIFS(cTABUI!$G$11:$G$109,cTABUI!$D$11:$D$109,B63),0)","v":0},{"$f":"IF(B63<>\"\",SUMIFS(cTABUI!$H$11:$H$109,cTABUI!$D$11:$D$109,B63),0)","v":0},{"$f":"IF(B63<>\"\",SUMIFS(cTABUI!$I$11:$I$109,cTABUI!$D$11:$D$109,B63),0)","v":0},{"$f":"IF(B63<>\"\",SUMIFS(cTABUI!$J$11:$J$109,cTABUI!$D$11:$D$109,B63),0)","v":0}]
[{"$f":"iCONDOMINI!A64","v":54},{"$f":"iCONDOMINI!B64","v":0},{"$f":"iCONDOMINI!C64","v":0},{"$f":"IF(B64<>\"\",SUMIFS(cTABUI!$F$11:$F$109,cTABUI!$C$11:$C$109,B64),0)","v":0},{"$f":"IF(B64<>\"\",SUMIFS(cTABUI!$G$11:$G$109,cTABUI!$D$11:$D$109,B64),0)","v":0},{"$f":"IF(B64<>\"\",SUMIFS(cTABUI!$H$11:$H$109,cTABUI!$D$11:$D$109,B64),0)","v":0},{"$f":"IF(B64<>\"\",SUMIFS(cTABUI!$I$11:$I$109,cTABUI!$D$11:$D$109,B64),0)","v":0},{"$f":"IF(B64<>\"\",SUMIFS(cTABUI!$J$11:$J$109,cTABUI!$D$11:$D$109,B64),0)","v":0}]
[{"$f":"iCONDOMINI!A65","v":55},{"$f":"iCONDOMINI!B65","v":0},{"$f":"iCONDOMINI!C65","v":0},{"$f":"IF(B65<>\"\",SUMIFS(cTABUI!$F$11:$F$109,cTABUI!$C$11:$C$109,B65),0)","v":0},{"$f":"IF(B65<>\"\",SUMIFS(cTABUI!$G$11:$G$109,cTABUI!$D$11:$D$109,B65),0)","v":0},{"$f":"IF(B65<>\"\",SUMIFS(cTABUI!$H$11:$H$109,cTABUI!$D$11:$D$109,B65),0)","v":0},{"$f":"IF(B65<>\"\",SUMIFS(cTABUI!$I$11:$I$109,cTABUI!$D$11:$D$109,B65),0)","v":0},{"$f":"IF(B65<>\"\",SUMIFS(cTABUI!$J$11:$J$109,cTABUI!$D$11:$D$109,B65),0)","v":0}]
[{"$f":"iCONDOMINI!A66","v":56},{"$f":"iCONDOMINI!B66","v":0},{"$f":"iCONDOMINI!C66","v":0},{"$f":"IF(B66<>\"\",SUMIFS(cTABUI!$F$11:$F$109,cTABUI!$C$11:$C$109,B66),0)","v":0},{"$f":"IF(B66<>\"\",SUMIFS(cTABUI!$G$11:$G$109,cTABUI!$D$11:$D$109,B66),0)","v":0},{"$f":"IF(B66<>\"\",SUMIFS(cTABUI!$H$11:$H$109,cTABUI!$D$11:$D$109,B66),0)","v":0},{"$f":"IF(B66<>\"\",SUMIFS(cTABUI!$I$11:$I$109,cTABUI!$D$11:$D$109,B66),0)","v":0},{"$f":"IF(B66<>\"\",SUMIFS(cTABUI!$J$11:$J$109,cTABUI!$D$11:$D$109,B66),0)","v":0}]
[{"$f":"iCONDOMINI!A67","v":57},{"$f":"iCONDOMINI!B67","v":0},{"$f":"iCONDOMINI!C67","v":0},{"$f":"IF(B67<>\"\",SUMIFS(cTABUI!$F$11:$F$109,cTABUI!$C$11:$C$109,B67),0)","v":0},{"$f":"IF(B67<>\"\",SUMIFS(cTABUI!$G$11:$G$109,cTABUI!$D$11:$D$109,B67),0)","v":0},{"$f":"IF(B67<>\"\",SUMIFS(cTABUI!$H$11:$H$109,cTABUI!$D$11:$D$109,B67),0)","v":0},{"$f":"IF(B67<>\"\",SUMIFS(cTABUI!$I$11:$I$109,cTABUI!$D$11:$D$109,B67),0)","v":0},{"$f":"IF(B67<>\"\",SUMIFS(cTABUI!$J$11:$J$109,cTABUI!$D$11:$D$109,B67),0)","v":0}]
[{"$f":"iCONDOMINI!A68","v":58},{"$f":"iCONDOMINI!B68","v":0},{"$f":"iCONDOMINI!C68","v":0},{"$f":"IF(B68<>\"\",SUMIFS(cTABUI!$F$11:$F$109,cTABUI!$C$11:$C$109,B68),0)","v":0},{"$f":"IF(B68<>\"\",SUMIFS(cTABUI!$G$11:$G$109,cTABUI!$D$11:$D$109,B68),0)","v":0},{"$f":"IF(B68<>\"\",SUMIFS(cTABUI!$H$11:$H$109,cTABUI!$D$11:$D$109,B68),0)","v":0},{"$f":"IF(B68<>\"\",SUMIFS(cTABUI!$I$11:$I$109,cTABUI!$D$11:$D$109,B68),0)","v":0},{"$f":"IF(B68<>\"\",SUMIFS(cTABUI!$J$11:$J$109,cTABUI!$D$11:$D$109,B68),0)","v":0}]
[{"$f":"iCONDOMINI!A69","v":59},{"$f":"iCONDOMINI!B69","v":0},{"$f":"iCONDOMINI!C69","v":0},{"$f":"IF(B69<>\"\",SUMIFS(cTABUI!$F$11:$F$109,cTABUI!$C$11:$C$109,B69),0)","v":0},{"$f":"IF(B69<>\"\",SUMIFS(cTABUI!$G$11:$G$109,cTABUI!$D$11:$D$109,B69),0)","v":0},{"$f":"IF(B69<>\"\",SUMIFS(cTABUI!$H$11:$H$109,cTABUI!$D$11:$D$109,B69),0)","v":0},{"$f":"IF(B69<>\"\",SUMIFS(cTABUI!$I$11:$I$109,cTABUI!$D$11:$D$109,B69),0)","v":0},{"$f":"IF(B69<>\"\",SUMIFS(cTABUI!$J$11:$J$109,cTABUI!$D$11:$D$109,B69),0)","v":0}]
[{"$f":"iCONDOMINI!A70","v":60},{"$f":"iCONDOMINI!B70","v":0},{"$f":"iCONDOMINI!C70","v":0},{"$f":"IF(B70<>\"\",SUMIFS(cTABUI!$F$11:$F$109,cTABUI!$C$11:$C$109,B70),0)","v":0},{"$f":"IF(B70<>\"\",SUMIFS(cTABUI!$G$11:$G$109,cTABUI!$D$11:$D$109,B70),0)","v":0},{"$f":"IF(B70<>\"\",SUMIFS(cTABUI!$H$11:$H$109,cTABUI!$D$11:$D$109,B70),0)","v":0},{"$f":"IF(B70<>\"\",SUMIFS(cTABUI!$I$11:$I$109,cTABUI!$D$11:$D$109,B70),0)","v":0},{"$f":"IF(B70<>\"\",SUMIFS(cTABUI!$J$11:$J$109,cTABUI!$D$11:$D$109,B70),0)","v":0}]
[{"$f":"iCONDOMINI!A71","v":61},{"$f":"iCONDOMINI!B71","v":0},{"$f":"iCONDOMINI!C71","v":0},{"$f":"IF(B71<>\"\",SUMIFS(cTABUI!$F$11:$F$109,cTABUI!$C$11:$C$109,B71),0)","v":0},{"$f":"IF(B71<>\"\",SUMIFS(cTABUI!$G$11:$G$109,cTABUI!$D$11:$D$109,B71),0)","v":0},{"$f":"IF(B71<>\"\",SUMIFS(cTABUI!$H$11:$H$109,cTABUI!$D$11:$D$109,B71),0)","v":0},{"$f":"IF(B71<>\"\",SUMIFS(cTABUI!$I$11:$I$109,cTABUI!$D$11:$D$109,B71),0)","v":0},{"$f":"IF(B71<>\"\",SUMIFS(cTABUI!$J$11:$J$109,cTABUI!$D$11:$D$109,B71),0)","v":0}]
[{"$f":"iCONDOMINI!A72","v":62},{"$f":"iCONDOMINI!B72","v":0},{"$f":"iCONDOMINI!C72","v":0},{"$f":"IF(B72<>\"\",SUMIFS(cTABUI!$F$11:$F$109,cTABUI!$C$11:$C$109,B72),0)","v":0},{"$f":"IF(B72<>\"\",SUMIFS(cTABUI!$G$11:$G$109,cTABUI!$D$11:$D$109,B72),0)","v":0},{"$f":"IF(B72<>\"\",SUMIFS(cTABUI!$H$11:$H$109,cTABUI!$D$11:$D$109,B72),0)","v":0},{"$f":"IF(B72<>\"\",SUMIFS(cTABUI!$I$11:$I$109,cTABUI!$D$11:$D$109,B72),0)","v":0},{"$f":"IF(B72<>\"\",SUMIFS(cTABUI!$J$11:$J$109,cTABUI!$D$11:$D$109,B72),0)","v":0}]
[{"$f":"iCONDOMINI!A73","v":63},{"$f":"iCONDOMINI!B73","v":0},{"$f":"iCONDOMINI!C73","v":0},{"$f":"IF(B73<>\"\",SUMIFS(cTABUI!$F$11:$F$109,cTABUI!$C$11:$C$109,B73),0)","v":0},{"$f":"IF(B73<>\"\",SUMIFS(cTABUI!$G$11:$G$109,cTABUI!$D$11:$D$109,B73),0)","v":0},{"$f":"IF(B73<>\"\",SUMIFS(cTABUI!$H$11:$H$109,cTABUI!$D$11:$D$109,B73),0)","v":0},{"$f":"IF(B73<>\"\",SUMIFS(cTABUI!$I$11:$I$109,cTABUI!$D$11:$D$109,B73),0)","v":0},{"$f":"IF(B73<>\"\",SUMIFS(cTABUI!$J$11:$J$109,cTABUI!$D$11:$D$109,B73),0)","v":0}]
[{"$f":"iCONDOMINI!A74","v":64},{"$f":"iCONDOMINI!B74","v":0},{"$f":"iCONDOMINI!C74","v":0},{"$f":"IF(B74<>\"\",SUMIFS(cTABUI!$F$11:$F$109,cTABUI!$C$11:$C$109,B74),0)","v":0},{"$f":"IF(B74<>\"\",SUMIFS(cTABUI!$G$11:$G$109,cTABUI!$D$11:$D$109,B74),0)","v":0},{"$f":"IF(B74<>\"\",SUMIFS(cTABUI!$H$11:$H$109,cTABUI!$D$11:$D$109,B74),0)","v":0},{"$f":"IF(B74<>\"\",SUMIFS(cTABUI!$I$11:$I$109,cTABUI!$D$11:$D$109,B74),0)","v":0},{"$f":"IF(B74<>\"\",SUMIFS(cTABUI!$J$11:$J$109,cTABUI!$D$11:$D$109,B74),0)","v":0}]
[{"$f":"iCONDOMINI!A75","v":65},{"$f":"iCONDOMINI!B75","v":0},{"$f":"iCONDOMINI!C75","v":0},{"$f":"IF(B75<>\"\",SUMIFS(cTABUI!$F$11:$F$109,cTABUI!$C$11:$C$109,B75),0)","v":0},{"$f":"IF(B75<>\"\",SUMIFS(cTABUI!$G$11:$G$109,cTABUI!$D$11:$D$109,B75),0)","v":0},{"$f":"IF(B75<>\"\",SUMIFS(cTABUI!$H$11:$H$109,cTABUI!$D$11:$D$109,B75),0)","v":0},{"$f":"IF(B75<>\"\",SUMIFS(cTABUI!$I$11:$I$109,cTABUI!$D$11:$D$109,B75),0)","v":0},{"$f":"IF(B75<>\"\",SUMIFS(cTABUI!$J$11:$J$109,cTABUI!$D$11:$D$109,B75),0)","v":0}]
[{"$f":"iCONDOMINI!A76","v":66},{"$f":"iCONDOMINI!B76","v":0},{"$f":"iCONDOMINI!C76","v":0},{"$f":"IF(B76<>\"\",SUMIFS(cTABUI!$F$11:$F$109,cTABUI!$C$11:$C$109,B76),0)","v":0},{"$f":"IF(B76<>\"\",SUMIFS(cTABUI!$G$11:$G$109,cTABUI!$D$11:$D$109,B76),0)","v":0},{"$f":"IF(B76<>\"\",SUMIFS(cTABUI!$H$11:$H$109,cTABUI!$D$11:$D$109,B76),0)","v":0},{"$f":"IF(B76<>\"\",SUMIFS(cTABUI!$I$11:$I$109,cTABUI!$D$11:$D$109,B76),0)","v":0},{"$f":"IF(B76<>\"\",SUMIFS(cTABUI!$J$11:$J$109,cTABUI!$D$11:$D$109,B76),0)","v":0}]
[{"$f":"iCONDOMINI!A77","v":67},{"$f":"iCONDOMINI!B77","v":0},{"$f":"iCONDOMINI!C77","v":0},{"$f":"IF(B77<>\"\",SUMIFS(cTABUI!$F$11:$F$109,cTABUI!$C$11:$C$109,B77),0)","v":0},{"$f":"IF(B77<>\"\",SUMIFS(cTABUI!$G$11:$G$109,cTABUI!$D$11:$D$109,B77),0)","v":0},{"$f":"IF(B77<>\"\",SUMIFS(cTABUI!$H$11:$H$109,cTABUI!$D$11:$D$109,B77),0)","v":0},{"$f":"IF(B77<>\"\",SUMIFS(cTABUI!$I$11:$I$109,cTABUI!$D$11:$D$109,B77),0)","v":0},{"$f":"IF(B77<>\"\",SUMIFS(cTABUI!$J$11:$J$109,cTABUI!$D$11:$D$109,B77),0)","v":0}]
[{"$f":"iCONDOMINI!A78","v":68},{"$f":"iCONDOMINI!B78","v":0},{"$f":"iCONDOMINI!C78","v":0},{"$f":"IF(B78<>\"\",SUMIFS(cTABUI!$F$11:$F$109,cTABUI!$C$11:$C$109,B78),0)","v":0},{"$f":"IF(B78<>\"\",SUMIFS(cTABUI!$G$11:$G$109,cTABUI!$D$11:$D$109,B78),0)","v":0},{"$f":"IF(B78<>\"\",SUMIFS(cTABUI!$H$11:$H$109,cTABUI!$D$11:$D$109,B78),0)","v":0},{"$f":"IF(B78<>\"\",SUMIFS(cTABUI!$I$11:$I$109,cTABUI!$D$11:$D$109,B78),0)","v":0},{"$f":"IF(B78<>\"\",SUMIFS(cTABUI!$J$11:$J$109,cTABUI!$D$11:$D$109,B78),0)","v":0}]
[{"$f":"iCONDOMINI!A79","v":69},{"$f":"iCONDOMINI!B79","v":0},{"$f":"iCONDOMINI!C79","v":0},{"$f":"IF(B79<>\"\",SUMIFS(cTABUI!$F$11:$F$109,cTABUI!$C$11:$C$109,B79),0)","v":0},{"$f":"IF(B79<>\"\",SUMIFS(cTABUI!$G$11:$G$109,cTABUI!$D$11:$D$109,B79),0)","v":0},{"$f":"IF(B79<>\"\",SUMIFS(cTABUI!$H$11:$H$109,cTABUI!$D$11:$D$109,B79),0)","v":0},{"$f":"IF(B79<>\"\",SUMIFS(cTABUI!$I$11:$I$109,cTABUI!$D$11:$D$109,B79),0)","v":0},{"$f":"IF(B79<>\"\",SUMIFS(cTABUI!$J$11:$J$109,cTABUI!$D$11:$D$109,B79),0)","v":0}]
[{"$f":"iCONDOMINI!A80","v":70},{"$f":"iCONDOMINI!B80","v":0},{"$f":"iCONDOMINI!C80","v":0},{"$f":"IF(B80<>\"\",SUMIFS(cTABUI!$F$11:$F$109,cTABUI!$C$11:$C$109,B80),0)","v":0},{"$f":"IF(B80<>\"\",SUMIFS(cTABUI!$G$11:$G$109,cTABUI!$D$11:$D$109,B80),0)","v":0},{"$f":"IF(B80<>\"\",SUMIFS(cTABUI!$H$11:$H$109,cTABUI!$D$11:$D$109,B80),0)","v":0},{"$f":"IF(B80<>\"\",SUMIFS(cTABUI!$I$11:$I$109,cTABUI!$D$11:$D$109,B80),0)","v":0},{"$f":"IF(B80<>\"\",SUMIFS(cTABUI!$J$11:$J$109,cTABUI!$D$11:$D$109,B80),0)","v":0}]
[{"$f":"iCONDOMINI!A81","v":71},{"$f":"iCONDOMINI!B81","v":0},{"$f":"iCONDOMINI!C81","v":0},{"$f":"IF(B81<>\"\",SUMIFS(cTABUI!$F$11:$F$109,cTABUI!$C$11:$C$109,B81),0)","v":0},{"$f":"IF(B81<>\"\",SUMIFS(cTABUI!$G$11:$G$109,cTABUI!$D$11:$D$109,B81),0)","v":0},{"$f":"IF(B81<>\"\",SUMIFS(cTABUI!$H$11:$H$109,cTABUI!$D$11:$D$109,B81),0)","v":0},{"$f":"IF(B81<>\"\",SUMIFS(cTABUI!$I$11:$I$109,cTABUI!$D$11:$D$109,B81),0)","v":0},{"$f":"IF(B81<>\"\",SUMIFS(cTABUI!$J$11:$J$109,cTABUI!$D$11:$D$109,B81),0)","v":0}]
[{"$f":"iCONDOMINI!A82","v":72},{"$f":"iCONDOMINI!B82","v":0},{"$f":"iCONDOMINI!C82","v":0},{"$f":"IF(B82<>\"\",SUMIFS(cTABUI!$F$11:$F$109,cTABUI!$C$11:$C$109,B82),0)","v":0},{"$f":"IF(B82<>\"\",SUMIFS(cTABUI!$G$11:$G$109,cTABUI!$D$11:$D$109,B82),0)","v":0},{"$f":"IF(B82<>\"\",SUMIFS(cTABUI!$H$11:$H$109,cTABUI!$D$11:$D$109,B82),0)","v":0},{"$f":"IF(B82<>\"\",SUMIFS(cTABUI!$I$11:$I$109,cTABUI!$D$11:$D$109,B82),0)","v":0},{"$f":"IF(B82<>\"\",SUMIFS(cTABUI!$J$11:$J$109,cTABUI!$D$11:$D$109,B82),0)","v":0}]
[{"$f":"iCONDOMINI!A83","v":73},{"$f":"iCONDOMINI!B83","v":0},{"$f":"iCONDOMINI!C83","v":0},{"$f":"IF(B83<>\"\",SUMIFS(cTABUI!$F$11:$F$109,cTABUI!$C$11:$C$109,B83),0)","v":0},{"$f":"IF(B83<>\"\",SUMIFS(cTABUI!$G$11:$G$109,cTABUI!$D$11:$D$109,B83),0)","v":0},{"$f":"IF(B83<>\"\",SUMIFS(cTABUI!$H$11:$H$109,cTABUI!$D$11:$D$109,B83),0)","v":0},{"$f":"IF(B83<>\"\",SUMIFS(cTABUI!$I$11:$I$109,cTABUI!$D$11:$D$109,B83),0)","v":0},{"$f":"IF(B83<>\"\",SUMIFS(cTABUI!$J$11:$J$109,cTABUI!$D$11:$D$109,B83),0)","v":0}]
[{"$f":"iCONDOMINI!A84","v":74},{"$f":"iCONDOMINI!B84","v":0},{"$f":"iCONDOMINI!C84","v":0},{"$f":"IF(B84<>\"\",SUMIFS(cTABUI!$F$11:$F$109,cTABUI!$C$11:$C$109,B84),0)","v":0},{"$f":"IF(B84<>\"\",SUMIFS(cTABUI!$G$11:$G$109,cTABUI!$D$11:$D$109,B84),0)","v":0},{"$f":"IF(B84<>\"\",SUMIFS(cTABUI!$H$11:$H$109,cTABUI!$D$11:$D$109,B84),0)","v":0},{"$f":"IF(B84<>\"\",SUMIFS(cTABUI!$I$11:$I$109,cTABUI!$D$11:$D$109,B84),0)","v":0},{"$f":"IF(B84<>\"\",SUMIFS(cTABUI!$J$11:$J$109,cTABUI!$D$11:$D$109,B84),0)","v":0}]
[{"$f":"iCONDOMINI!A85","v":75},{"$f":"iCONDOMINI!B85","v":0},{"$f":"iCONDOMINI!C85","v":0},{"$f":"IF(B85<>\"\",SUMIFS(cTABUI!$F$11:$F$109,cTABUI!$C$11:$C$109,B85),0)","v":0},{"$f":"IF(B85<>\"\",SUMIFS(cTABUI!$G$11:$G$109,cTABUI!$D$11:$D$109,B85),0)","v":0},{"$f":"IF(B85<>\"\",SUMIFS(cTABUI!$H$11:$H$109,cTABUI!$D$11:$D$109,B85),0)","v":0},{"$f":"IF(B85<>\"\",SUMIFS(cTABUI!$I$11:$I$109,cTABUI!$D$11:$D$109,B85),0)","v":0},{"$f":"IF(B85<>\"\",SUMIFS(cTABUI!$J$11:$J$109,cTABUI!$D$11:$D$109,B85),0)","v":0}]
[{"$f":"iCONDOMINI!A86","v":76},{"$f":"iCONDOMINI!B86","v":0},{"$f":"iCONDOMINI!C86","v":0},{"$f":"IF(B86<>\"\",SUMIFS(cTABUI!$F$11:$F$109,cTABUI!$C$11:$C$109,B86),0)","v":0},{"$f":"IF(B86<>\"\",SUMIFS(cTABUI!$G$11:$G$109,cTABUI!$D$11:$D$109,B86),0)","v":0},{"$f":"IF(B86<>\"\",SUMIFS(cTABUI!$H$11:$H$109,cTABUI!$D$11:$D$109,B86),0)","v":0},{"$f":"IF(B86<>\"\",SUMIFS(cTABUI!$I$11:$I$109,cTABUI!$D$11:$D$109,B86),0)","v":0},{"$f":"IF(B86<>\"\",SUMIFS(cTABUI!$J$11:$J$109,cTABUI!$D$11:$D$109,B86),0)","v":0}]
[{"$f":"iCONDOMINI!A87","v":77},{"$f":"iCONDOMINI!B87","v":0},{"$f":"iCONDOMINI!C87","v":0},{"$f":"IF(B87<>\"\",SUMIFS(cTABUI!$F$11:$F$109,cTABUI!$C$11:$C$109,B87),0)","v":0},{"$f":"IF(B87<>\"\",SUMIFS(cTABUI!$G$11:$G$109,cTABUI!$D$11:$D$109,B87),0)","v":0},{"$f":"IF(B87<>\"\",SUMIFS(cTABUI!$H$11:$H$109,cTABUI!$D$11:$D$109,B87),0)","v":0},{"$f":"IF(B87<>\"\",SUMIFS(cTABUI!$I$11:$I$109,cTABUI!$D$11:$D$109,B87),0)","v":0},{"$f":"IF(B87<>\"\",SUMIFS(cTABUI!$J$11:$J$109,cTABUI!$D$11:$D$109,B87),0)","v":0}]
[{"$f":"iCONDOMINI!A88","v":78},{"$f":"iCONDOMINI!B88","v":0},{"$f":"iCONDOMINI!C88","v":0},{"$f":"IF(B88<>\"\",SUMIFS(cTABUI!$F$11:$F$109,cTABUI!$C$11:$C$109,B88),0)","v":0},{"$f":"IF(B88<>\"\",SUMIFS(cTABUI!$G$11:$G$109,cTABUI!$D$11:$D$109,B88),0)","v":0},{"$f":"IF(B88<>\"\",SUMIFS(cTABUI!$H$11:$H$109,cTABUI!$D$11:$D$109,B88),0)","v":0},{"$f":"IF(B88<>\"\",SUMIFS(cTABUI!$I$11:$I$109,cTABUI!$D$11:$D$109,B88),0)","v":0},{"$f":"IF(B88<>\"\",SUMIFS(cTABUI!$J$11:$J$109,cTABUI!$D$11:$D$109,B88),0)","v":0}]
[{"$f":"iCONDOMINI!A89","v":79},{"$f":"iCONDOMINI!B89","v":0},{"$f":"iCONDOMINI!C89","v":0},{"$f":"IF(B89<>\"\",SUMIFS(cTABUI!$F$11:$F$109,cTABUI!$C$11:$C$109,B89),0)","v":0},{"$f":"IF(B89<>\"\",SUMIFS(cTABUI!$G$11:$G$109,cTABUI!$D$11:$D$109,B89),0)","v":0},{"$f":"IF(B89<>\"\",SUMIFS(cTABUI!$H$11:$H$109,cTABUI!$D$11:$D$109,B89),0)","v":0},{"$f":"IF(B89<>\"\",SUMIFS(cTABUI!$I$11:$I$109,cTABUI!$D$11:$D$109,B89),0)","v":0},{"$f":"IF(B89<>\"\",SUMIFS(cTABUI!$J$11:$J$109,cTABUI!$D$11:$D$109,B89),0)","v":0}]
[{"$f":"iCONDOMINI!A90","v":80},{"$f":"iCONDOMINI!B90","v":0},{"$f":"iCONDOMINI!C90","v":0},{"$f":"IF(B90<>\"\",SUMIFS(cTABUI!$F$11:$F$109,cTABUI!$C$11:$C$109,B90),0)","v":0},{"$f":"IF(B90<>\"\",SUMIFS(cTABUI!$G$11:$G$109,cTABUI!$D$11:$D$109,B90),0)","v":0},{"$f":"IF(B90<>\"\",SUMIFS(cTABUI!$H$11:$H$109,cTABUI!$D$11:$D$109,B90),0)","v":0},{"$f":"IF(B90<>\"\",SUMIFS(cTABUI!$I$11:$I$109,cTABUI!$D$11:$D$109,B90),0)","v":0},{"$f":"IF(B90<>\"\",SUMIFS(cTABUI!$J$11:$J$109,cTABUI!$D$11:$D$109,B90),0)","v":0}]
[{"$f":"iCONDOMINI!A91","v":81},{"$f":"iCONDOMINI!B91","v":0},{"$f":"iCONDOMINI!C91","v":0},{"$f":"IF(B91<>\"\",SUMIFS(cTABUI!$F$11:$F$109,cTABUI!$C$11:$C$109,B91),0)","v":0},{"$f":"IF(B91<>\"\",SUMIFS(cTABUI!$G$11:$G$109,cTABUI!$D$11:$D$109,B91),0)","v":0},{"$f":"IF(B91<>\"\",SUMIFS(cTABUI!$H$11:$H$109,cTABUI!$D$11:$D$109,B91),0)","v":0},{"$f":"IF(B91<>\"\",SUMIFS(cTABUI!$I$11:$I$109,cTABUI!$D$11:$D$109,B91),0)","v":0},{"$f":"IF(B91<>\"\",SUMIFS(cTABUI!$J$11:$J$109,cTABUI!$D$11:$D$109,B91),0)","v":0}]
[{"$f":"iCONDOMINI!A92","v":82},{"$f":"iCONDOMINI!B92","v":0},{"$f":"iCONDOMINI!C92","v":0},{"$f":"IF(B92<>\"\",SUMIFS(cTABUI!$F$11:$F$109,cTABUI!$C$11:$C$109,B92),0)","v":0},{"$f":"IF(B92<>\"\",SUMIFS(cTABUI!$G$11:$G$109,cTABUI!$D$11:$D$109,B92),0)","v":0},{"$f":"IF(B92<>\"\",SUMIFS(cTABUI!$H$11:$H$109,cTABUI!$D$11:$D$109,B92),0)","v":0},{"$f":"IF(B92<>\"\",SUMIFS(cTABUI!$I$11:$I$109,cTABUI!$D$11:$D$109,B92),0)","v":0},{"$f":"IF(B92<>\"\",SUMIFS(cTABUI!$J$11:$J$109,cTABUI!$D$11:$D$109,B92),0)","v":0}]
[{"$f":"iCONDOMINI!A93","v":83},{"$f":"iCONDOMINI!B93","v":0},{"$f":"iCONDOMINI!C93","v":0},{"$f":"IF(B93<>\"\",SUMIFS(cTABUI!$F$11:$F$109,cTABUI!$C$11:$C$109,B93),0)","v":0},{"$f":"IF(B93<>\"\",SUMIFS(cTABUI!$G$11:$G$109,cTABUI!$D$11:$D$109,B93),0)","v":0},{"$f":"IF(B93<>\"\",SUMIFS(cTABUI!$H$11:$H$109,cTABUI!$D$11:$D$109,B93),0)","v":0},{"$f":"IF(B93<>\"\",SUMIFS(cTABUI!$I$11:$I$109,cTABUI!$D$11:$D$109,B93),0)","v":0},{"$f":"IF(B93<>\"\",SUMIFS(cTABUI!$J$11:$J$109,cTABUI!$D$11:$D$109,B93),0)","v":0}]
[{"$f":"iCONDOMINI!A94","v":84},{"$f":"iCONDOMINI!B94","v":0},{"$f":"iCONDOMINI!C94","v":0},{"$f":"IF(B94<>\"\",SUMIFS(cTABUI!$F$11:$F$109,cTABUI!$C$11:$C$109,B94),0)","v":0},{"$f":"IF(B94<>\"\",SUMIFS(cTABUI!$G$11:$G$109,cTABUI!$D$11:$D$109,B94),0)","v":0},{"$f":"IF(B94<>\"\",SUMIFS(cTABUI!$H$11:$H$109,cTABUI!$D$11:$D$109,B94),0)","v":0},{"$f":"IF(B94<>\"\",SUMIFS(cTABUI!$I$11:$I$109,cTABUI!$D$11:$D$109,B94),0)","v":0},{"$f":"IF(B94<>\"\",SUMIFS(cTABUI!$J$11:$J$109,cTABUI!$D$11:$D$109,B94),0)","v":0}]
[{"$f":"iCONDOMINI!A95","v":85},{"$f":"iCONDOMINI!B95","v":0},{"$f":"iCONDOMINI!C95","v":0},{"$f":"IF(B95<>\"\",SUMIFS(cTABUI!$F$11:$F$109,cTABUI!$C$11:$C$109,B95),0)","v":0},{"$f":"IF(B95<>\"\",SUMIFS(cTABUI!$G$11:$G$109,cTABUI!$D$11:$D$109,B95),0)","v":0},{"$f":"IF(B95<>\"\",SUMIFS(cTABUI!$H$11:$H$109,cTABUI!$D$11:$D$109,B95),0)","v":0},{"$f":"IF(B95<>\"\",SUMIFS(cTABUI!$I$11:$I$109,cTABUI!$D$11:$D$109,B95),0)","v":0},{"$f":"IF(B95<>\"\",SUMIFS(cTABUI!$J$11:$J$109,cTABUI!$D$11:$D$109,B95),0)","v":0}]
[{"$f":"iCONDOMINI!A96","v":86},{"$f":"iCONDOMINI!B96","v":0},{"$f":"iCONDOMINI!C96","v":0},{"$f":"IF(B96<>\"\",SUMIFS(cTABUI!$F$11:$F$109,cTABUI!$C$11:$C$109,B96),0)","v":0},{"$f":"IF(B96<>\"\",SUMIFS(cTABUI!$G$11:$G$109,cTABUI!$D$11:$D$109,B96),0)","v":0},{"$f":"IF(B96<>\"\",SUMIFS(cTABUI!$H$11:$H$109,cTABUI!$D$11:$D$109,B96),0)","v":0},{"$f":"IF(B96<>\"\",SUMIFS(cTABUI!$I$11:$I$109,cTABUI!$D$11:$D$109,B96),0)","v":0},{"$f":"IF(B96<>\"\",SUMIFS(cTABUI!$J$11:$J$109,cTABUI!$D$11:$D$109,B96),0)","v":0}]
[{"$f":"iCONDOMINI!A97","v":87},{"$f":"iCONDOMINI!B97","v":0},{"$f":"iCONDOMINI!C97","v":0},{"$f":"IF(B97<>\"\",SUMIFS(cTABUI!$F$11:$F$109,cTABUI!$C$11:$C$109,B97),0)","v":0},{"$f":"IF(B97<>\"\",SUMIFS(cTABUI!$G$11:$G$109,cTABUI!$D$11:$D$109,B97),0)","v":0},{"$f":"IF(B97<>\"\",SUMIFS(cTABUI!$H$11:$H$109,cTABUI!$D$11:$D$109,B97),0)","v":0},{"$f":"IF(B97<>\"\",SUMIFS(cTABUI!$I$11:$I$109,cTABUI!$D$11:$D$109,B97),0)","v":0},{"$f":"IF(B97<>\"\",SUMIFS(cTABUI!$J$11:$J$109,cTABUI!$D$11:$D$109,B97),0)","v":0}]
[{"$f":"iCONDOMINI!A98","v":88},{"$f":"iCONDOMINI!B98","v":0},{"$f":"iCONDOMINI!C98","v":0},{"$f":"IF(B98<>\"\",SUMIFS(cTABUI!$F$11:$F$109,cTABUI!$C$11:$C$109,B98),0)","v":0},{"$f":"IF(B98<>\"\",SUMIFS(cTABUI!$G$11:$G$109,cTABUI!$D$11:$D$109,B98),0)","v":0},{"$f":"IF(B98<>\"\",SUMIFS(cTABUI!$H$11:$H$109,cTABUI!$D$11:$D$109,B98),0)","v":0},{"$f":"IF(B98<>\"\",SUMIFS(cTABUI!$I$11:$I$109,cTABUI!$D$11:$D$109,B98),0)","v":0},{"$f":"IF(B98<>\"\",SUMIFS(cTABUI!$J$11:$J$109,cTABUI!$D$11:$D$109,B98),0)","v":0}]
[{"$f":"iCONDOMINI!A99","v":89},{"$f":"iCONDOMINI!B99","v":0},{"$f":"iCONDOMINI!C99","v":0},{"$f":"IF(B99<>\"\",SUMIFS(cTABUI!$F$11:$F$109,cTABUI!$C$11:$C$109,B99),0)","v":0},{"$f":"IF(B99<>\"\",SUMIFS(cTABUI!$G$11:$G$109,cTABUI!$D$11:$D$109,B99),0)","v":0},{"$f":"IF(B99<>\"\",SUMIFS(cTABUI!$H$11:$H$109,cTABUI!$D$11:$D$109,B99),0)","v":0},{"$f":"IF(B99<>\"\",SUMIFS(cTABUI!$I$11:$I$109,cTABUI!$D$11:$D$109,B99),0)","v":0},{"$f":"IF(B99<>\"\",SUMIFS(cTABUI!$J$11:$J$109,cTABUI!$D$11:$D$109,B99),0)","v":0}]
[{"$f":"iCONDOMINI!A100","v":90},{"$f":"iCONDOMINI!B100","v":0},{"$f":"iCONDOMINI!C100","v":0},{"$f":"IF(B100<>\"\",SUMIFS(cTABUI!$F$11:$F$109,cTABUI!$C$11:$C$109,B100),0)","v":0},{"$f":"IF(B100<>\"\",SUMIFS(cTABUI!$G$11:$G$109,cTABUI!$D$11:$D$109,B100),0)","v":0},{"$f":"IF(B100<>\"\",SUMIFS(cTABUI!$H$11:$H$109,cTABUI!$D$11:$D$109,B100),0)","v":0},{"$f":"IF(B100<>\"\",SUMIFS(cTABUI!$I$11:$I$109,cTABUI!$D$11:$D$109,B100),0)","v":0},{"$f":"IF(B100<>\"\",SUMIFS(cTABUI!$J$11:$J$109,cTABUI!$D$11:$D$109,B100),0)","v":0}]
[{"$f":"iCONDOMINI!A101","v":91},{"$f":"iCONDOMINI!B101","v":0},{"$f":"iCONDOMINI!C101","v":0},{"$f":"IF(B101<>\"\",SUMIFS(cTABUI!$F$11:$F$109,cTABUI!$C$11:$C$109,B101),0)","v":0},{"$f":"IF(B101<>\"\",SUMIFS(cTABUI!$G$11:$G$109,cTABUI!$D$11:$D$109,B101),0)","v":0},{"$f":"IF(B101<>\"\",SUMIFS(cTABUI!$H$11:$H$109,cTABUI!$D$11:$D$109,B101),0)","v":0},{"$f":"IF(B101<>\"\",SUMIFS(cTABUI!$I$11:$I$109,cTABUI!$D$11:$D$109,B101),0)","v":0},{"$f":"IF(B101<>\"\",SUMIFS(cTABUI!$J$11:$J$109,cTABUI!$D$11:$D$109,B101),0)","v":0}]
[{"$f":"iCONDOMINI!A102","v":92},{"$f":"iCONDOMINI!B102","v":0},{"$f":"iCONDOMINI!C102","v":0},{"$f":"IF(B102<>\"\",SUMIFS(cTABUI!$F$11:$F$109,cTABUI!$C$11:$C$109,B102),0)","v":0},{"$f":"IF(B102<>\"\",SUMIFS(cTABUI!$G$11:$G$109,cTABUI!$D$11:$D$109,B102),0)","v":0},{"$f":"IF(B102<>\"\",SUMIFS(cTABUI!$H$11:$H$109,cTABUI!$D$11:$D$109,B102),0)","v":0},{"$f":"IF(B102<>\"\",SUMIFS(cTABUI!$I$11:$I$109,cTABUI!$D$11:$D$109,B102),0)","v":0},{"$f":"IF(B102<>\"\",SUMIFS(cTABUI!$J$11:$J$109,cTABUI!$D$11:$D$109,B102),0)","v":0}]
[{"$f":"iCONDOMINI!A103","v":93},{"$f":"iCONDOMINI!B103","v":0},{"$f":"iCONDOMINI!C103","v":0},{"$f":"IF(B103<>\"\",SUMIFS(cTABUI!$F$11:$F$109,cTABUI!$C$11:$C$109,B103),0)","v":0},{"$f":"IF(B103<>\"\",SUMIFS(cTABUI!$G$11:$G$109,cTABUI!$D$11:$D$109,B103),0)","v":0},{"$f":"IF(B103<>\"\",SUMIFS(cTABUI!$H$11:$H$109,cTABUI!$D$11:$D$109,B103),0)","v":0},{"$f":"IF(B103<>\"\",SUMIFS(cTABUI!$I$11:$I$109,cTABUI!$D$11:$D$109,B103),0)","v":0},{"$f":"IF(B103<>\"\",SUMIFS(cTABUI!$J$11:$J$109,cTABUI!$D$11:$D$109,B103),0)","v":0}]
[{"$f":"iCONDOMINI!A104","v":94},{"$f":"iCONDOMINI!B104","v":0},{"$f":"iCONDOMINI!C104","v":0},{"$f":"IF(B104<>\"\",SUMIFS(cTABUI!$F$11:$F$109,cTABUI!$C$11:$C$109,B104),0)","v":0},{"$f":"IF(B104<>\"\",SUMIFS(cTABUI!$G$11:$G$109,cTABUI!$D$11:$D$109,B104),0)","v":0},{"$f":"IF(B104<>\"\",SUMIFS(cTABUI!$H$11:$H$109,cTABUI!$D$11:$D$109,B104),0)","v":0},{"$f":"IF(B104<>\"\",SUMIFS(cTABUI!$I$11:$I$109,cTABUI!$D$11:$D$109,B104),0)","v":0},{"$f":"IF(B104<>\"\",SUMIFS(cTABUI!$J$11:$J$109,cTABUI!$D$11:$D$109,B104),0)","v":0}]
[{"$f":"iCONDOMINI!A105","v":95},{"$f":"iCONDOMINI!B105","v":0},{"$f":"iCONDOMINI!C105","v":0},{"$f":"IF(B105<>\"\",SUMIFS(cTABUI!$F$11:$F$109,cTABUI!$C$11:$C$109,B105),0)","v":0},{"$f":"IF(B105<>\"\",SUMIFS(cTABUI!$G$11:$G$109,cTABUI!$D$11:$D$109,B105),0)","v":0},{"$f":"IF(B105<>\"\",SUMIFS(cTABUI!$H$11:$H$109,cTABUI!$D$11:$D$109,B105),0)","v":0},{"$f":"IF(B105<>\"\",SUMIFS(cTABUI!$I$11:$I$109,cTABUI!$D$11:$D$109,B105),0)","v":0},{"$f":"IF(B105<>\"\",SUMIFS(cTABUI!$J$11:$J$109,cTABUI!$D$11:$D$109,B105),0)","v":0}]
[{"$f":"iCONDOMINI!A106","v":96},{"$f":"iCONDOMINI!B106","v":0},{"$f":"iCONDOMINI!C106","v":0},{"$f":"IF(B106<>\"\",SUMIFS(cTABUI!$F$11:$F$109,cTABUI!$C$11:$C$109,B106),0)","v":0},{"$f":"IF(B106<>\"\",SUMIFS(cTABUI!$G$11:$G$109,cTABUI!$D$11:$D$109,B106),0)","v":0},{"$f":"IF(B106<>\"\",SUMIFS(cTABUI!$H$11:$H$109,cTABUI!$D$11:$D$109,B106),0)","v":0},{"$f":"IF(B106<>\"\",SUMIFS(cTABUI!$I$11:$I$109,cTABUI!$D$11:$D$109,B106),0)","v":0},{"$f":"IF(B106<>\"\",SUMIFS(cTABUI!$J$11:$J$109,cTABUI!$D$11:$D$109,B106),0)","v":0}]
[{"$f":"iCONDOMINI!A107","v":97},{"$f":"iCONDOMINI!B107","v":0},{"$f":"iCONDOMINI!C107","v":0},{"$f":"IF(B107<>\"\",SUMIFS(cTABUI!$F$11:$F$109,cTABUI!$C$11:$C$109,B107),0)","v":0},{"$f":"IF(B107<>\"\",SUMIFS(cTABUI!$G$11:$G$109,cTABUI!$D$11:$D$109,B107),0)","v":0},{"$f":"IF(B107<>\"\",SUMIFS(cTABUI!$H$11:$H$109,cTABUI!$D$11:$D$109,B107),0)","v":0},{"$f":"IF(B107<>\"\",SUMIFS(cTABUI!$I$11:$I$109,cTABUI!$D$11:$D$109,B107),0)","v":0},{"$f":"IF(B107<>\"\",SUMIFS(cTABUI!$J$11:$J$109,cTABUI!$D$11:$D$109,B107),0)","v":0}]
[{"$f":"iCONDOMINI!A108","v":98},{"$f":"iCONDOMINI!B108","v":0},{"$f":"iCONDOMINI!C108","v":0},{"$f":"IF(B108<>\"\",SUMIFS(cTABUI!$F$11:$F$109,cTABUI!$C$11:$C$109,B108),0)","v":0},{"$f":"IF(B108<>\"\",SUMIFS(cTABUI!$G$11:$G$109,cTABUI!$D$11:$D$109,B108),0)","v":0},{"$f":"IF(B108<>\"\",SUMIFS(cTABUI!$H$11:$H$109,cTABUI!$D$11:$D$109,B108),0)","v":0},{"$f":"IF(B108<>\"\",SUMIFS(cTABUI!$I$11:$I$109,cTABUI!$D$11:$D$109,B108),0)","v":0},{"$f":"IF(B108<>\"\",SUMIFS(cTABUI!$J$11:$J$109,cTABUI!$D$11:$D$109,B108),0)","v":0}]
[{"$f":"iCONDOMINI!A109","v":99},{"$f":"iCONDOMINI!B109","v":0},{"$f":"iCONDOMINI!C109","v":0},{"$f":"IF(B109<>\"\",SUMIFS(cTABUI!$F$11:$F$109,cTABUI!$C$11:$C$109,B109),0)","v":0},{"$f":"IF(B109<>\"\",SUMIFS(cTABUI!$G$11:$G$109,cTABUI!$D$11:$D$109,B109),0)","v":0},{"$f":"IF(B109<>\"\",SUMIFS(cTABUI!$H$11:$H$109,cTABUI!$D$11:$D$109,B109),0)","v":0},{"$f":"IF(B109<>\"\",SUMIFS(cTABUI!$I$11:$I$109,cTABUI!$D$11:$D$109,B109),0)","v":0},{"$f":"IF(B109<>\"\",SUMIFS(cTABUI!$J$11:$J$109,cTABUI!$D$11:$D$109,B109),0)","v":0}]
[null,null,"TOTALI",{"$f":"SUM(D11:D109)","v":1000.0000000000001},{"$f":"SUM(E11:E109)","v":999.99999999999989},{"$f":"SUM(F11:F109)","v":999.99999000000003},{"$f":"SUM(G11:G109)","v":1000.0000299999996},{"$f":"SUM(H11:H109)","v":1000}]
[0,null,null,null,null,null,null,null,0]

{"sheet":"cCDI","index":24,"n_rows":58,"n_cols":13,"rows_kept":58,"cut":false,"hidden":true,"merged":[[1,8,5,8],[40,8,44,8]]}
["Condominio \"TERMICO\""]
[null,null,"DEBITI del CONDOMINIO verso TERZI",null,null,null,"RIEPILOGO CONTI",null,"n° \nREGISTRAZIONE\nnel GIORNALE"]
[null,null,null,null,null,null,"Conti D.02",{"$f":"SUMIFS(G7:G36,F7:F36,\"=D.02.*\")","v":1203.3800000000001},null,null,"CREDITORI TERZI nei confronti del CONDOMINIO"]
[null,null,"Alla data inizio esercizio 01/10/2021",null,null,null,"Conti D.03",{"$f":"SUMIFS(G7:G36,F7:F36,\"=D.03.*\")","v":0}]
["Numero","Codice","CREDITORE TERZO","CAUSALE","DATA","CONTO","Conti D.06",{"$f":"SUMIFS(G7:G36,F7:F36,\"=D.06.*\")","v":0},null,null,"Codice","CREDITORE TERZO","TOTALE"]
["Debito","Creditore","(non condomino)","DEBITO","DEBITO","DEBITO",null,{"$f":"H37+H38","v":0},null,null,"Creditore","(non condomino)","creditore"]
["01","F-06",{"$f":"IF(B7<>\"\",VLOOKUP(B7,$K$7:$L$36,2,FALSE),\"\")","v":"Consulente Fiscale"},"Impegno di spesa Consulenza fiscale 2019","2019-12-31","D.02.03.19",50,null,"debito iniziale",null,"C-03","ENEL ENERGIA  ",{"$f":"SUMIFS($F$7:$F$36,$B$7:$B$36,\"=\"&K7)+SUMIFS($G$7:$G$36,$B$7:$B$36,\"=\"&K7)+SUMIFS($H$7:$H$36,$B$7:$B$36,\"=\"&K7)","v":168.38}]
["02","F-07","CHIEFARI Pietro","impegno spesa comp. Amm. Es. 2019","2019-12-31","D.02.03.19",200,null,"debito iniziale",null,"F-01","SAMUELE Saverio",{"$f":"SUMIFS($F$7:$F$36,$B$7:$B$36,\"=\"&K8)+SUMIFS($G$7:$G$36,$B$7:$B$36,\"=\"&K8)+SUMIFS($H$7:$H$36,$B$7:$B$36,\"=\"&K8)","v":195}]
["03","F-08","AVVOCATO Giuseppe","avviso fattura n. 10/2020 del 1-12-2020","2020-12-01","D.02.02.20",50,null,"debito iniziale",null,"F-06","Consulente Fiscale",190]
["04","F-07","CHIEFARI Pietro","impegno spesa comp. Amm. Es. 2020","2020-12-31","D.02.03.20",200,null,"debito iniziale",null,"F-07","CHIEFARI Pietro",600]
["05","F-06","Consulente Fiscale","Impegno di spesa Consulenza fiscale 2020","2020-12-31","D.02.03.20",90,null,"debito iniziale",null,"F-08","AVVOCATO Giuseppe",50]
["06","C-03","ENEL ENERGIA  ","Fattura n. 4157845945 del  08-12-2021","2021-12-08","D.02.01.21",168.38,null,"debito iniziale",null,null,null,0]
["07","F-01","SAMUELE Saverio","Fattura n. 310 del 22-12-2021","2021-12-11","D.02.01.21",65,null,"debito iniziale",null,null,null,0]
["08","F-01","SAMUELE Saverio","Fattura n. 311 del 22-12-2021","2021-12-22","D.02.01.21",65,null,"debito iniziale",null,null,null,0]
["09","F-01","SAMUELE Saverio","Fattura n. 312 del 22-12-2021","2021-12-22","D.02.01.21",65,null,"debito iniziale",null,null,null,0]
["10","F-07","CHIEFARI Pietro","Impegno di spesa competenze Amministratore 2021","2021-12-31","D.02.03.21",200,null,"debito iniziale",null,null,null,0]
["11","F-06","Consulente Fiscale","Impegno di spesa consulenza fiscale 2021","2021-12-31","D.02.03.21",50,null,"debito iniziale",null,null,null,0]
[null,null,"",null,null,null,null,null,null,null,null,null,0]
[null,null,"",null,null,null,null,null,null,null,null,null,0]
[null,null,"",null,null,null,null,null,null,null,null,null,0]
[null,null,"",null,null,null,null,null,null,null,null,null,0]
[null,null,"",null,null,null,null,null,null,null,null,null,0]
[null,null,"",null,null,null,null,null,null,null,null,null,0]
[null,null,"",null,null,null,null,null,null,null,null,null,0]
[null,null,"",null,null,null,null,null,null,null,null,null,0]
[null,null,"",null,null,null,null,null,null,null,null,null,0]
[null,null,"",null,null,null,null,null,null,null,null,null,0]
[null,null,"",null,null,null,null,null,null,null,null,null,0]
[null,null,"",null,null,null,null,null,null,null,null,null,0]
[null,null,"",null,null,null,null,null,null,null,null,null,0]
[null,null,"",null,null,null,null,null,null,null,null,null,0]
[null,null,"",null,null,null,null,null,null,null,null,null,0]
[null,null,"",null,null,null,null,null,null,null,null,null,0]
[null,null,"",null,null,null,null,null,null,null,null,null,0]
[null,null,"",null,null,null,null,null,null,null,null,null,0]
[null,null,"",null,null,null,null,null,null,null,null,null,0]
["12","Numero da assegnare al prossimo successivo Debito",null,null,null,"DEBITI del CONDOMINIO in ESERCIZI PRECEDENTI",{"$f":"SUMIFS(G7:G36,E7:E36,\"<\" & LEFT('iP1'!A40,10))","v":590},{"$f":"SUMIFS(H7:H36,E7:E36,\"<\" & \"1-1-\" & 'iP1'!A37)","v":0}]
[null,null,null,null,null,"DEBITI del CONDOMINIO nell'ESERCIZIO IN CORSO",{"$f":"SUMIFS(G7:G36,E7:E36,\">\" & LEFT('iP1'!A40,10))","v":613.38},{"$f":"SUMIFS(H7:H36,E7:E36,\">\" & \"1-1-\" & 'iP1'!A37)","v":0}]
[null,null,null,null,null,"TOTALE DEBITI del CONDOMINIO",{"$f":"G37+G38","v":1203.3800000000001},null,null,null,null,"TOTALE DEBITI DEL CONDOMINIO",{"$f":"SUM(M7:M36)","v":1203.3800000000001}]
[]
[null,null,"CREDITI vantati dal CONDOMINIO nei confronti di TERZI",null,null,null,"RIEPILOGO CONTI",null,"n° \nREGISTRAZIONE\nnel\nGIORNALE"]
[null,null,null,null,null,null,"Conti C.01",{"$f":"SUMIFS(G46:G55,F46:F55,\"=C.01.*\")","v":42.27},null,null,"DEBITORI TERZI v/s il CONDOMINIO"]
[null,null,{"$f":"C4","v":"Alla data inizio esercizio 01/10/2021"},null,null,null,"Conti C.02",{"$f":"SUMIFS(G46:G55,F46:F55,\"=C.02.*\")","v":0}]
["Numero","Codice","DEBITORE TERZO","CAUSALE","DATA","CONTO","Conti C.03",{"$f":"SUMIFS(G46:G55,F46:F55,\"=C.03.*\")","v":0},null,null,"Codice","DEBITORE TERZO","TOTALE"]
["Credito","Debitore","(non condomino)","CREDITO","CREDITO","CREDITO","Conti C.06",{"$f":"SUMIFS(G46:G55,F46:F55,\"=C.06.*\")","v":0},null,null,"Debitore","(non condomino)","debitore"]
[1,"D-01",{"$f":"IF(B46<>\"\",VLOOKUP(B46,$K$46:$L$55,2,FALSE),\"\")","v":"ENEL ENERGIA  "},"deposito cauzionale","2021-07-06","C.01.01.21",42.27,null,"credito iniziale",null,"D-01","ENEL ENERGIA  ",{"$f":"SUMIFS($F$46:$F$55,$B$46:$B$55,\"=\"&K46)+SUMIFS($G$46:$G$55,$B$46:$B$55,\"=\"&K46)+SUMIFS($H$46:$H$55,$B$46:$B$55,\"=\"&K46)","v":42.27}]
[null,null,"",null,null,null,null,null,null,null,null,null,0]
[null,null,"",null,null,null,null,null,null,null,null,null,0]
[null,null,"",null,null,null,null,null,null,null,null,null,0]
[null,null,"",null,null,null,null,null,null,null,null,null,0]
[null,null,"",null,null,null,null,null,null,null,null,null,0]
[null,null,"",null,null,null,null,null,null,null,null,null,0]
[null,null,"",null,null,null,null,null,null,null,null,null,0]
[null,null,"",null,null,null,null,null,null,null,null,null,0]
[null,null,"",null,null,null,null,null,null,null,null,null,0]
["12","Numero da assegnare al prossimo successivo Credito",null,null,null,"CREDITI del CONDOMINIO in ESERCIZI PRECEDENTI",{"$f":"SUMIFS(G46:G55,$E$46:$E$55,\"<\" &  LEFT('iP1'!A40,10))","v":42.27},{"$f":"SUMIFS(H46:H55,$E$46:$E$55,\"<\" & \"1-1-\" & 'iP1'!A37)","v":0}]
[null,null,null,null,null,"CREDITI del CONDOMINIO nell'ESERCIZIO IN CORSO",{"$f":"SUMIFS(G46:G55,$E$46:$E$55,\">\" & LEFT('iP1'!A40,10))","v":0},{"$f":"SUMIFS(H46:H55,$E$46:$E$55,\">\" & \"1-1-\" &'iP1'!A37)","v":0}]
[null,null,null,null,null,"TOTALE CREDITI del CONDOMINIO",{"$f":"G56+G57","v":42.27},null,null,null,null,"TOTALE CREDITI DEL CONDOMINIO",{"$f":"SUM(M46:M55)","v":42.27}]

{"sheet":"cRPUI","index":25,"n_rows":111,"n_cols":10,"rows_kept":111,"cut":false,"hidden":true,"merged":[[7,9,9,9],[7,0,9,0],[7,1,9,1],[7,8,9,8],[7,2,9,2]]}
[]
[]
[]
[]
[]
["Condominio \"TERMICO\""]
["RIPARTO fra le UNITÀ IMMOBILIARI delle SPESE preventivate per l'esercizio 2021-2022"]
["COD. UNITÀ","CODICE\nCONDOM.","CODICE\nFRUITORE","QUOTE\nTOTALI","QUOTE\nTOTALI","QUOTE\nTOTALI","QUOTE\nTOTALI","QUOTE\nTOTALI","TOTALE\nQUOTE\nUnità","SUB CATAS."]
[null,null,null,"Tabella A","Tabella B","Tabella C","Tabella D","Tabella E"]
[null,null,null,"PROPRIETÀ GENERALE","UTILIZZO","POTENZA INSTALLATA","NUMERO TERMOSIFONI","CONSUMI"]
[{"$f":"iUI!B11","v":"U01"},{"$f":"IF(iUI!C11<>\"\",iUI!C11,\"\")","v":"C20"},{"$f":"IF(iUI!D11<>\"\",iUI!D11,\"\")","v":"I01"},10.48,53.910000000000004,16.57,10.43,37.71,{"$f":"SUM(D11:H11)","v":129.10000000000002},{"$f":"cTABUI!L11","v":75}]
[{"$f":"iUI!B12","v":"U02"},{"$f":"IF(iUI!C12<>\"\",iUI!C12,\"\")","v":"C09"},{"$f":"IF(iUI!D12<>\"\",iUI!D12,\"\")","v":"C09"},14.18,72.92,33.74,13.91,37.71,{"$f":"SUM(D12:H12)","v":172.46},{"$f":"cTABUI!L12","v":58}]
[{"$f":"iUI!B13","v":"U03"},{"$f":"IF(iUI!C13<>\"\",iUI!C13,\"\")","v":"C03"},{"$f":"IF(iUI!D13<>\"\",iUI!D13,\"\")","v":"C03"},24.09,123.88000000000001,67.510000000000005,27.860000000000003,37.71,281.05,{"$f":"cTABUI!L13","v":76}]
[{"$f":"iUI!B14","v":"U04"},{"$f":"IF(iUI!C14<>\"\",iUI!C14,\"\")","v":"C04"},{"$f":"IF(iUI!D14<>\"\",iUI!D14,\"\")","v":"C04"},12.95,66.599999999999994,32.730000000000004,17.39,37.71,167.38000000000002,{"$f":"cTABUI!L14","v":60}]
[{"$f":"iUI!B15","v":"U05"},{"$f":"IF(iUI!C15<>\"\",iUI!C15,\"\")","v":"C23"},{"$f":"IF(iUI!D15<>\"\",iUI!D15,\"\")","v":"C23"},13.57,69.77,41.85,17.39,37.71,180.29,{"$f":"cTABUI!L15","v":61}]
[{"$f":"iUI!B16","v":"U06"},{"$f":"IF(iUI!C16<>\"\",iUI!C16,\"\")","v":"C15"},{"$f":"IF(iUI!D16<>\"\",iUI!D16,\"\")","v":"C15"},12.95,66.599999999999994,39.89,17.39,75.41,212.23999999999998,{"$f":"cTABUI!L16","v":62}]
[{"$f":"iUI!B17","v":"U07"},{"$f":"IF(iUI!C17<>\"\",iUI!C17,\"\")","v":"C05"},{"$f":"IF(iUI!D17<>\"\",iUI!D17,\"\")","v":"C05"},16.649999999999999,85.61,54.13,24.35,113.11,293.84999999999997,{"$f":"cTABUI!L17","v":7}]
[{"$f":"iUI!B18","v":"U08"},{"$f":"IF(iUI!C18<>\"\",iUI!C18,\"\")","v":"C13"},{"$f":"IF(iUI!D18<>\"\",iUI!D18,\"\")","v":"C13"},13.57,69.77,44.6,17.39,113.11,258.44,{"$f":"cTABUI!L18","v":8}]
[{"$f":"iUI!B19","v":"U09"},{"$f":"IF(iUI!C19<>\"\",iUI!C19,\"\")","v":"C11"},{"$f":"IF(iUI!D19<>\"\",iUI!D19,\"\")","v":"C11"},12.95,66.599999999999994,24.85,10.43,169.67000000000002,284.5,{"$f":"cTABUI!L19","v":10}]
[{"$f":"iUI!B20","v":"U10"},{"$f":"IF(iUI!C20<>\"\",iUI!C20,\"\")","v":"C19"},{"$f":"IF(iUI!D20<>\"\",iUI!D20,\"\")","v":"C19"},20.34,104.62,59.480000000000004,24.35,150.82,359.61,{"$f":"cTABUI!L20","v":79}]
[{"$f":"iUI!B21","v":"U11"},{"$f":"IF(iUI!C21<>\"\",iUI!C21,\"\")","v":"C22"},{"$f":"IF(iUI!D21<>\"\",iUI!D21,\"\")","v":"C22"},9.870000000000001,50.74,27.62,13.91,150.82,252.95999999999998,{"$f":"cTABUI!L21","v":80}]
[{"$f":"iUI!B22","v":"U12"},{"$f":"IF(iUI!C22<>\"\",iUI!C22,\"\")","v":"C21"},{"$f":"IF(iUI!D22<>\"\",iUI!D22,\"\")","v":"C21"},12.95,66.599999999999994,40.050000000000004,17.39,150.82,287.81,{"$f":"cTABUI!L22","v":14}]
[{"$f":"iUI!B23","v":"U13"},{"$f":"IF(iUI!C23<>\"\",iUI!C23,\"\")","v":"C18"},{"$f":"IF(iUI!D23<>\"\",iUI!D23,\"\")","v":"I02"},22.42,115.33,70.95,27.830000000000002,188.52,425.05,{"$f":"cTABUI!L23","v":15}]
[{"$f":"iUI!B24","v":"U14"},{"$f":"IF(iUI!C24<>\"\",iUI!C24,\"\")","v":"C14"},{"$f":"IF(iUI!D24<>\"\",iUI!D24,\"\")","v":"C14"},10.44,53.69,36.520000000000003,13.91,188.52,303.08000000000004,{"$f":"cTABUI!L24","v":16}]
[{"$f":"iUI!B25","v":"U15"},{"$f":"IF(iUI!C25<>\"\",iUI!C25,\"\")","v":"C02"},{"$f":"IF(iUI!D25<>\"\",iUI!D25,\"\")","v":"I03"},12.95,66.599999999999994,38.75,17.39,188.52,324.21000000000004,{"$f":"cTABUI!L25","v":17}]
[{"$f":"iUI!B26","v":"U16"},{"$f":"IF(iUI!C26<>\"\",iUI!C26,\"\")","v":"C16"},{"$f":"IF(iUI!D26<>\"\",iUI!D26,\"\")","v":"C16"},18.5,95.13,49.39,17.39,188.52,368.92999999999995,{"$f":"cTABUI!L26","v":83}]
[{"$f":"iUI!B27","v":"U17"},{"$f":"IF(iUI!C27<>\"\",iUI!C27,\"\")","v":"C12"},{"$f":"IF(iUI!D27<>\"\",iUI!D27,\"\")","v":"C12"},16.649999999999999,85.61,48.44,13.91,188.52,353.13,{"$f":"cTABUI!L27","v":81}]
[{"$f":"iUI!B28","v":"U18"},{"$f":"IF(iUI!C28<>\"\",iUI!C28,\"\")","v":"C06"},{"$f":"IF(iUI!D28<>\"\",iUI!D28,\"\")","v":"C06"},14.790000000000001,76.09,54.870000000000005,17.39,188.52,351.65999999999997,{"$f":"cTABUI!L28","v":21}]
[{"$f":"iUI!B29","v":"U19"},{"$f":"IF(iUI!C29<>\"\",iUI!C29,\"\")","v":"C07"},{"$f":"IF(iUI!D29<>\"\",iUI!D29,\"\")","v":"C07"},12.52,64.39,27.92,10.43,226.23000000000002,341.49,{"$f":"cTABUI!L29","v":22}]
[{"$f":"iUI!B30","v":"U20"},{"$f":"IF(iUI!C30<>\"\",iUI!C30,\"\")","v":"C17"},{"$f":"IF(iUI!D30<>\"\",iUI!D30,\"\")","v":"C17"},25.88,133.12,70.960000000000008,24.35,226.23000000000002,480.54,{"$f":"cTABUI!L30","v":23}]
[{"$f":"iUI!B31","v":"U21"},{"$f":"IF(iUI!C31<>\"\",iUI!C31,\"\")","v":"C01"},{"$f":"IF(iUI!D31<>\"\",iUI!D31,\"\")","v":"C01"},10.48,53.910000000000004,29.39,10.43,226.23000000000002,330.44000000000005,{"$f":"cTABUI!L31","v":24}]
[{"$f":"iUI!B32","v":"U22"},{"$f":"IF(iUI!C32<>\"\",iUI!C32,\"\")","v":"C10"},{"$f":"IF(iUI!D32<>\"\",iUI!D32,\"\")","v":"I04"},17.260000000000002,88.78,23.71,20.87,263.95,414.57,{"$f":"cTABUI!L32","v":82}]
[{"$f":"iUI!B33","v":"U23"},{"$f":"IF(iUI!C33<>\"\",iUI!C33,\"\")","v":"C08"},{"$f":"IF(iUI!D33<>\"\",iUI!D33,\"\")","v":"C08"},10.44,53.69,8.0400000000000009,13.91,263.93,350.01,{"$f":"cTABUI!L33","v":73}]
[{"$f":"iUI!B34","v":"U24"},{"$f":"IF(iUI!C34<>\"\",iUI!C34,\"\")","v":"C12"},{"$f":"IF(iUI!D34<>\"\",iUI!D34,\"\")","v":"I05"},3.12,16.04,8.0400000000000009,0,0,27.200000000000003,{"$f":"cTABUI!L34","v":78}]
[{"$f":"iUI!B35","v":"U25"},{"$f":"IF(iUI!C35<>\"\",iUI!C35,\"\")","v":""},{"$f":"IF(iUI!D35<>\"\",iUI!D35,\"\")","v":""},null,null,null,null,null,0,{"$f":"cTABUI!L35","v":0}]
[{"$f":"iUI!B36","v":"U26"},{"$f":"IF(iUI!C36<>\"\",iUI!C36,\"\")","v":""},{"$f":"IF(iUI!D36<>\"\",iUI!D36,\"\")","v":""},null,null,null,null,null,0,{"$f":"cTABUI!L36","v":0}]
[{"$f":"iUI!B37","v":"U27"},{"$f":"IF(iUI!C37<>\"\",iUI!C37,\"\")","v":""},{"$f":"IF(iUI!D37<>\"\",iUI!D37,\"\")","v":""},null,null,null,null,null,0,{"$f":"cTABUI!L37","v":0}]
[{"$f":"iUI!B38","v":"U28"},{"$f":"IF(iUI!C38<>\"\",iUI!C38,\"\")","v":""},{"$f":"IF(iUI!D38<>\"\",iUI!D38,\"\")","v":""},null,null,null,null,null,0,{"$f":"cTABUI!L38","v":0}]
[{"$f":"iUI!B39","v":"U29"},{"$f":"IF(iUI!C39<>\"\",iUI!C39,\"\")","v":""},{"$f":"IF(iUI!D39<>\"\",iUI!D39,\"\")","v":""},null,null,null,null,null,0,{"$f":"cTABUI!L39","v":0}]
[{"$f":"iUI!B40","v":"U30"},{"$f":"IF(iUI!C40<>\"\",iUI!C40,\"\")","v":""},{"$f":"IF(iUI!D40<>\"\",iUI!D40,\"\")","v":""},null,null,null,null,null,0,{"$f":"cTABUI!L40","v":0}]
[{"$f":"iUI!B41","v":"U31"},{"$f":"IF(iUI!C41<>\"\",iUI!C41,\"\")","v":""},{"$f":"IF(iUI!D41<>\"\",iUI!D41,\"\")","v":""},null,null,null,null,null,0,{"$f":"cTABUI!L41","v":0}]
[{"$f":"iUI!B42","v":"U32"},{"$f":"IF(iUI!C42<>\"\",iUI!C42,\"\")","v":""},{"$f":"IF(iUI!D42<>\"\",iUI!D42,\"\")","v":""},null,null,null,null,null,0,{"$f":"cTABUI!L42","v":0}]
[{"$f":"iUI!B43","v":"U33"},{"$f":"IF(iUI!C43<>\"\",iUI!C43,\"\")","v":""},{"$f":"IF(iUI!D43<>\"\",iUI!D43,\"\")","v":""},null,null,null,null,null,0,{"$f":"cTABUI!L43","v":0}]
[{"$f":"iUI!B44","v":"U34"},{"$f":"IF(iUI!C44<>\"\",iUI!C44,\"\")","v":""},{"$f":"IF(iUI!D44<>\"\",iUI!D44,\"\")","v":""},null,null,null,null,null,0,{"$f":"cTABUI!L44","v":0}]
[{"$f":"iUI!B45","v":"U35"},{"$f":"IF(iUI!C45<>\"\",iUI!C45,\"\")","v":""},{"$f":"IF(iUI!D45<>\"\",iUI!D45,\"\")","v":""},null,null,null,null,null,0,{"$f":"cTABUI!L45","v":0}]
[{"$f":"iUI!B46","v":"U36"},{"$f":"IF(iUI!C46<>\"\",iUI!C46,\"\")","v":""},{"$f":"IF(iUI!D46<>\"\",iUI!D46,\"\")","v":""},null,null,null,null,null,0,{"$f":"cTABUI!L46","v":0}]
[{"$f":"iUI!B47","v":"U37"},{"$f":"IF(iUI!C47<>\"\",iUI!C47,\"\")","v":""},{"$f":"IF(iUI!D47<>\"\",iUI!D47,\"\")","v":""},null,null,null,null,null,0,{"$f":"cTABUI!L47","v":0}]
[{"$f":"iUI!B48","v":"U38"},{"$f":"IF(iUI!C48<>\"\",iUI!C48,\"\")","v":""},{"$f":"IF(iUI!D48<>\"\",iUI!D48,\"\")","v":""},null,null,null,null,null,0,{"$f":"cTABUI!L48","v":0}]
[{"$f":"iUI!B49","v":"U39"},{"$f":"IF(iUI!C49<>\"\",iUI!C49,\"\")","v":""},{"$f":"IF(iUI!D49<>\"\",iUI!D49,\"\")","v":""},null,null,null,null,null,0,{"$f":"cTABUI!L49","v":0}]
[{"$f":"iUI!B50","v":"U40"},{"$f":"IF(iUI!C50<>\"\",iUI!C50,\"\")","v":""},{"$f":"IF(iUI!D50<>\"\",iUI!D50,\"\")","v":""},null,null,null,null,null,0,{"$f":"cTABUI!L50","v":0}]
[{"$f":"iUI!B51","v":"U41"},{"$f":"IF(iUI!C51<>\"\",iUI!C51,\"\")","v":""},{"$f":"IF(iUI!D51<>\"\",iUI!D51,\"\")","v":""},null,null,null,null,null,0,{"$f":"cTABUI!L51","v":0}]
[{"$f":"iUI!B52","v":"U42"},{"$f":"IF(iUI!C52<>\"\",iUI!C52,\"\")","v":""},{"$f":"IF(iUI!D52<>\"\",iUI!D52,\"\")","v":""},null,null,null,null,null,0,{"$f":"cTABUI!L52","v":0}]
[{"$f":"iUI!B53","v":"U43"},{"$f":"IF(iUI!C53<>\"\",iUI!C53,\"\")","v":""},{"$f":"IF(iUI!D53<>\"\",iUI!D53,\"\")","v":""},null,null,null,null,null,0,{"$f":"cTABUI!L53","v":0}]
[{"$f":"iUI!B54","v":"U44"},{"$f":"IF(iUI!C54<>\"\",iUI!C54,\"\")","v":""},{"$f":"IF(iUI!D54<>\"\",iUI!D54,\"\")","v":""},null,null,null,null,null,0,{"$f":"cTABUI!L54","v":0}]
[{"$f":"iUI!B55","v":"U45"},{"$f":"IF(iUI!C55<>\"\",iUI!C55,\"\")","v":""},{"$f":"IF(iUI!D55<>\"\",iUI!D55,\"\")","v":""},null,null,null,null,null,0,{"$f":"cTABUI!L55","v":0}]
[{"$f":"iUI!B56","v":"U46"},{"$f":"IF(iUI!C56<>\"\",iUI!C56,\"\")","v":""},{"$f":"IF(iUI!D56<>\"\",iUI!D56,\"\")","v":""},null,null,null,null,null,0,{"$f":"cTABUI!L56","v":0}]
[{"$f":"iUI!B56","v":"U46"},{"$f":"IF(iUI!C57<>\"\",iUI!C57,\"\")","v":""},{"$f":"IF(iUI!D57<>\"\",iUI!D57,\"\")","v":""},null,null,null,null,null,0,{"$f":"cTABUI!L57","v":0}]
[{"$f":"iUI!B57","v":"U47"},{"$f":"IF(iUI!C58<>\"\",iUI!C58,\"\")","v":""},{"$f":"IF(iUI!D58<>\"\",iUI!D58,\"\")","v":""},null,null,null,null,null,0,{"$f":"cTABUI!L58","v":0}]
[{"$f":"iUI!B58","v":"U48"},{"$f":"IF(iUI!C59<>\"\",iUI!C59,\"\")","v":""},{"$f":"IF(iUI!D59<>\"\",iUI!D59,\"\")","v":""},null,null,null,null,null,0,{"$f":"cTABUI!L59","v":0}]
[{"$f":"iUI!B59","v":"U49"},{"$f":"IF(iUI!C60<>\"\",iUI!C60,\"\")","v":""},{"$f":"IF(iUI!D60<>\"\",iUI!D60,\"\")","v":""},null,null,null,null,null,0,{"$f":"cTABUI!L60","v":0}]
[{"$f":"iUI!B60","v":"U50"},{"$f":"IF(iUI!C61<>\"\",iUI!C61,\"\")","v":""},{"$f":"IF(iUI!D61<>\"\",iUI!D61,\"\")","v":""},null,null,null,null,null,0,{"$f":"cTABUI!L61","v":0}]
[{"$f":"iUI!B61","v":"U51"},{"$f":"IF(iUI!C62<>\"\",iUI!C62,\"\")","v":""},{"$f":"IF(iUI!D62<>\"\",iUI!D62,\"\")","v":""},null,null,null,null,null,0,{"$f":"cTABUI!L62","v":0}]
[{"$f":"iUI!B62","v":"U52"},{"$f":"IF(iUI!C63<>\"\",iUI!C63,\"\")","v":""},{"$f":"IF(iUI!D63<>\"\",iUI!D63,\"\")","v":""},null,null,null,null,null,0,{"$f":"cTABUI!L63","v":0}]
[{"$f":"iUI!B63","v":"U53"},{"$f":"IF(iUI!C64<>\"\",iUI!C64,\"\")","v":""},{"$f":"IF(iUI!D64<>\"\",iUI!D64,\"\")","v":""},null,null,null,null,null,0,{"$f":"cTABUI!L64","v":0}]
[{"$f":"iUI!B64","v":"U54"},{"$f":"IF(iUI!C65<>\"\",iUI!C65,\"\")","v":""},{"$f":"IF(iUI!D65<>\"\",iUI!D65,\"\")","v":""},null,null,null,null,null,0,{"$f":"cTABUI!L65","v":0}]
[{"$f":"iUI!B65","v":"U55"},{"$f":"IF(iUI!C66<>\"\",iUI!C66,\"\")","v":""},{"$f":"IF(iUI!D66<>\"\",iUI!D66,\"\")","v":""},null,null,null,null,null,0,{"$f":"cTABUI!L66","v":0}]
[{"$f":"iUI!B66","v":"U56"},{"$f":"IF(iUI!C67<>\"\",iUI!C67,\"\")","v":""},{"$f":"IF(iUI!D67<>\"\",iUI!D67,\"\")","v":""},null,null,null,null,null,0,{"$f":"cTABUI!L67","v":0}]
[{"$f":"iUI!B67","v":"U57"},{"$f":"IF(iUI!C68<>\"\",iUI!C68,\"\")","v":""},{"$f":"IF(iUI!D68<>\"\",iUI!D68,\"\")","v":""},null,null,null,null,null,0,{"$f":"cTABUI!L68","v":0}]
[{"$f":"iUI!B68","v":"U58"},{"$f":"IF(iUI!C69<>\"\",iUI!C69,\"\")","v":""},{"$f":"IF(iUI!D69<>\"\",iUI!D69,\"\")","v":""},null,null,null,null,null,0,{"$f":"cTABUI!L69","v":0}]
[{"$f":"iUI!B69","v":"U59"},{"$f":"IF(iUI!C70<>\"\",iUI!C70,\"\")","v":""},{"$f":"IF(iUI!D70<>\"\",iUI!D70,\"\")","v":""},null,null,null,null,null,0,{"$f":"cTABUI!L70","v":0}]
[{"$f":"iUI!B70","v":"U60"},{"$f":"IF(iUI!C71<>\"\",iUI!C71,\"\")","v":""},{"$f":"IF(iUI!D71<>\"\",iUI!D71,\"\")","v":""},null,null,null,null,null,0,{"$f":"cTABUI!L71","v":0}]
[{"$f":"iUI!B71","v":"U61"},{"$f":"IF(iUI!C72<>\"\",iUI!C72,\"\")","v":""},{"$f":"IF(iUI!D72<>\"\",iUI!D72,\"\")","v":""},null,null,null,null,null,0,{"$f":"cTABUI!L72","v":0}]
[{"$f":"iUI!B72","v":"U62"},{"$f":"IF(iUI!C73<>\"\",iUI!C73,\"\")","v":""},{"$f":"IF(iUI!D73<>\"\",iUI!D73,\"\")","v":""},null,null,null,null,null,0,{"$f":"cTABUI!L73","v":0}]
[{"$f":"iUI!B73","v":"U63"},{"$f":"IF(iUI!C74<>\"\",iUI!C74,\"\")","v":""},{"$f":"IF(iUI!D74<>\"\",iUI!D74,\"\")","v":""},null,null,null,null,null,0,{"$f":"cTABUI!L74","v":0}]
[{"$f":"iUI!B74","v":"U64"},{"$f":"IF(iUI!C75<>\"\",iUI!C75,\"\")","v":""},{"$f":"IF(iUI!D75<>\"\",iUI!D75,\"\")","v":""},null,null,null,null,null,0,{"$f":"cTABUI!L75","v":0}]
[{"$f":"iUI!B75","v":"U65"},{"$f":"IF(iUI!C76<>\"\",iUI!C76,\"\")","v":""},{"$f":"IF(iUI!D76<>\"\",iUI!D76,\"\")","v":""},null,null,null,null,null,{"$f":"SUM(D76:H76)","v":0},{"$f":"cTABUI!L76","v":0}]
[{"$f":"iUI!B76","v":"U66"},{"$f":"IF(iUI!C77<>\"\",iUI!C77,\"\")","v":""},{"$f":"IF(iUI!D77<>\"\",iUI!D77,\"\")","v":""},null,null,null,null,null,0,{"$f":"cTABUI!L77","v":0}]
[{"$f":"iUI!B77","v":"U67"},{"$f":"IF(iUI!C78<>\"\",iUI!C78,\"\")","v":""},{"$f":"IF(iUI!D78<>\"\",iUI!D78,\"\")","v":""},null,null,null,null,null,0,{"$f":"cTABUI!L78","v":0}]
[{"$f":"iUI!B78","v":"U68"},{"$f":"IF(iUI!C79<>\"\",iUI!C79,\"\")","v":""},{"$f":"IF(iUI!D79<>\"\",iUI!D79,\"\")","v":""},null,null,null,null,null,0,{"$f":"cTABUI!L79","v":0}]
[{"$f":"iUI!B79","v":"U69"},{"$f":"IF(iUI!C80<>\"\",iUI!C80,\"\")","v":""},{"$f":"IF(iUI!D80<>\"\",iUI!D80,\"\")","v":""},null,null,null,null,null,0,{"$f":"cTABUI!L80","v":0}]
[{"$f":"iUI!B80","v":"U70"},{"$f":"IF(iUI!C81<>\"\",iUI!C81,\"\")","v":""},{"$f":"IF(iUI!D81<>\"\",iUI!D81,\"\")","v":""},null,null,null,null,null,0,{"$f":"cTABUI!L81","v":0}]
[{"$f":"iUI!B81","v":"U71"},{"$f":"IF(iUI!C82<>\"\",iUI!C82,\"\")","v":""},{"$f":"IF(iUI!D82<>\"\",iUI!D82,\"\")","v":""},null,null,null,null,null,0,{"$f":"cTABUI!L82","v":0}]
[{"$f":"iUI!B82","v":"U72"},{"$f":"IF(iUI!C83<>\"\",iUI!C83,\"\")","v":""},{"$f":"IF(iUI!D83<>\"\",iUI!D83,\"\")","v":""},null,null,null,null,null,0,{"$f":"cTABUI!L83","v":0}]
[{"$f":"iUI!B83","v":"U73"},{"$f":"IF(iUI!C84<>\"\",iUI!C84,\"\")","v":""},{"$f":"IF(iUI!D84<>\"\",iUI!D84,\"\")","v":""},null,null,null,null,null,0,{"$f":"cTABUI!L84","v":0}]
[{"$f":"iUI!B84","v":"U74"},{"$f":"IF(iUI!C85<>\"\",iUI!C85,\"\")","v":""},{"$f":"IF(iUI!D85<>\"\",iUI!D85,\"\")","v":""},null,null,null,null,null,0,{"$f":"cTABUI!L85","v":0}]
[{"$f":"iUI!B85","v":"U75"},{"$f":"IF(iUI!C86<>\"\",iUI!C86,\"\")","v":""},{"$f":"IF(iUI!D86<>\"\",iUI!D86,\"\")","v":""},null,null,null,null,null,0,{"$f":"cTABUI!L86","v":0}]
[{"$f":"iUI!B86","v":"U76"},{"$f":"IF(iUI!C87<>\"\",iUI!C87,\"\")","v":""},{"$f":"IF(iUI!D87<>\"\",iUI!D87,\"\")","v":""},null,null,null,null,null,0,{"$f":"cTABUI!L87","v":0}]
[{"$f":"iUI!B87","v":"U77"},{"$f":"IF(iUI!C88<>\"\",iUI!C88,\"\")","v":""},{"$f":"IF(iUI!D88<>\"\",iUI!D88,\"\")","v":""},null,null,null,null,null,0,{"$f":"cTABUI!L88","v":0}]
[{"$f":"iUI!B88","v":"U78"},{"$f":"IF(iUI!C89<>\"\",iUI!C89,\"\")","v":""},{"$f":"IF(iUI!D89<>\"\",iUI!D89,\"\")","v":""},null,null,null,null,null,0,{"$f":"cTABUI!L89","v":0}]
[{"$f":"iUI!B89","v":"U79"},{"$f":"IF(iUI!C90<>\"\",iUI!C90,\"\")","v":""},{"$f":"IF(iUI!D90<>\"\",iUI!D90,\"\")","v":""},null,null,null,null,null,0,{"$f":"cTABUI!L90","v":0}]
[{"$f":"iUI!B90","v":"U80"},{"$f":"IF(iUI!C91<>\"\",iUI!C91,\"\")","v":""},{"$f":"IF(iUI!D91<>\"\",iUI!D91,\"\")","v":""},null,null,null,null,null,0,{"$f":"cTABUI!L91","v":0}]
[{"$f":"iUI!B91","v":"U81"},{"$f":"IF(iUI!C92<>\"\",iUI!C92,\"\")","v":""},{"$f":"IF(iUI!D92<>\"\",iUI!D92,\"\")","v":""},null,null,null,null,null,0,{"$f":"cTABUI!L92","v":0}]
[{"$f":"iUI!B92","v":"U82"},{"$f":"IF(iUI!C93<>\"\",iUI!C93,\"\")","v":""},{"$f":"IF(iUI!D93<>\"\",iUI!D93,\"\")","v":""},null,null,null,null,null,0,{"$f":"cTABUI!L93","v":0}]
[{"$f":"iUI!B93","v":"U83"},{"$f":"IF(iUI!C94<>\"\",iUI!C94,\"\")","v":""},{"$f":"IF(iUI!D94<>\"\",iUI!D94,\"\")","v":""},null,null,null,null,null,0,{"$f":"cTABUI!L94","v":0}]
[{"$f":"iUI!B94","v":"U84"},{"$f":"IF(iUI!C95<>\"\",iUI!C95,\"\")","v":""},{"$f":"IF(iUI!D95<>\"\",iUI!D95,\"\")","v":""},null,null,null,null,null,0,{"$f":"cTABUI!L95","v":0}]
[{"$f":"iUI!B95","v":"U85"},{"$f":"IF(iUI!C96<>\"\",iUI!C96,\"\")","v":""},{"$f":"IF(iUI!D96<>\"\",iUI!D96,\"\")","v":""},null,null,null,null,null,0,{"$f":"cTABUI!L96","v":0}]
[{"$f":"iUI!B96","v":"U86"},{"$f":"IF(iUI!C97<>\"\",iUI!C97,\"\")","v":""},{"$f":"IF(iUI!D97<>\"\",iUI!D97,\"\")","v":""},null,null,null,null,null,0,{"$f":"cTABUI!L97","v":0}]
[{"$f":"iUI!B97","v":"U87"},{"$f":"IF(iUI!C98<>\"\",iUI!C98,\"\")","v":""},{"$f":"IF(iUI!D98<>\"\",iUI!D98,\"\")","v":""},null,null,null,null,null,0,{"$f":"cTABUI!L98","v":0}]
[{"$f":"iUI!B98","v":"U88"},{"$f":"IF(iUI!C99<>\"\",iUI!C99,\"\")","v":""},{"$f":"IF(iUI!D99<>\"\",iUI!D99,\"\")","v":""},null,null,null,null,null,0,{"$f":"cTABUI!L99","v":0}]
[{"$f":"iUI!B99","v":"U89"},{"$f":"IF(iUI!C100<>\"\",iUI!C100,\"\")","v":""},{"$f":"IF(iUI!D100<>\"\",iUI!D100,\"\")","v":""},null,null,null,null,null,0,{"$f":"cTABUI!L100","v":0}]
[{"$f":"iUI!B100","v":"U90"},{"$f":"IF(iUI!C101<>\"\",iUI!C101,\"\")","v":""},{"$f":"IF(iUI!D101<>\"\",iUI!D101,\"\")","v":""},null,null,null,null,null,0,{"$f":"cTABUI!L101","v":0}]
[{"$f":"iUI!B101","v":"U91"},{"$f":"IF(iUI!C102<>\"\",iUI!C102,\"\")","v":""},{"$f":"IF(iUI!D102<>\"\",iUI!D102,\"\")","v":""},null,null,null,null,null,0,{"$f":"cTABUI!L102","v":0}]
[{"$f":"iUI!B102","v":"U92"},{"$f":"IF(iUI!C103<>\"\",iUI!C103,\"\")","v":""},{"$f":"IF(iUI!D103<>\"\",iUI!D103,\"\")","v":""},null,null,null,null,null,0,{"$f":"cTABUI!L103","v":0}]
[{"$f":"iUI!B103","v":"U93"},{"$f":"IF(iUI!C104<>\"\",iUI!C104,\"\")","v":""},{"$f":"IF(iUI!D104<>\"\",iUI!D104,\"\")","v":""},null,null,null,null,null,0,{"$f":"cTABUI!L104","v":0}]
[{"$f":"iUI!B104","v":"U94"},{"$f":"IF(iUI!C105<>\"\",iUI!C105,\"\")","v":""},{"$f":"IF(iUI!D105<>\"\",iUI!D105,\"\")","v":""},null,null,null,null,null,0,{"$f":"cTABUI!L105","v":0}]
[{"$f":"iUI!B106","v":"U96"},{"$f":"IF(iUI!C106<>\"\",iUI!C106,\"\")","v":""},{"$f":"IF(iUI!D106<>\"\",iUI!D106,\"\")","v":""},null,null,null,null,null,0,{"$f":"cTABUI!L106","v":0}]
[{"$f":"iUI!B107","v":"U97"},{"$f":"IF(iUI!C107<>\"\",iUI!C107,\"\")","v":""},{"$f":"IF(iUI!D107<>\"\",iUI!D107,\"\")","v":""},null,null,null,null,null,0,{"$f":"cTABUI!L107","v":0}]
[{"$f":"iUI!B108","v":"U98"},{"$f":"IF(iUI!C108<>\"\",iUI!C108,\"\")","v":""},{"$f":"IF(iUI!D108<>\"\",iUI!D108,\"\")","v":""},null,null,null,null,null,0,{"$f":"cTABUI!L108","v":0}]
[{"$f":"iUI!B109","v":"U99"},{"$f":"IF(iUI!C109<>\"\",iUI!C109,\"\")","v":""},{"$f":"IF(iUI!D109<>\"\",iUI!D109,\"\")","v":""},null,null,null,null,null,0,{"$f":"cTABUI!L109","v":0}]
[null,null,"TOTALE",{"$f":"SUM(D11:D109)","v":349.99999999999994},1800,950.00000000000011,400.00000000000006,3449.9999999999995,6949.9999999999991]
["controllo sulle spese preventivate",null,null,{"$f":"SUM(D110:H110)","v":6950},null,null,null,null,{"$f":"I110","v":6949.9999999999991}]

{"sheet":"cRPSS","index":26,"n_rows":111,"n_cols":12,"rows_kept":111,"cut":false,"hidden":true,"merged":[[7,11,9,11],[110,4,110,8],[7,1,9,1],[7,2,9,2],[7,0,9,0],[7,10,9,10],[7,3,9,3]]}
[]
[]
[]
[]
[]
["Condominio \"TERMICO\""]
["RIPARTO fra i SOGGETTI delle SPESE preventivate per l'esercizio 2021-2022"]
["n. fruitore","CODICE SOGGETTO","UNITÀ IMMOBILIARI","SOGGETTO\ntenuto a contribuire alle spese",{"$f":"cRPUI!D8","v":"QUOTE\nTOTALI"},{"$f":"cRPUI!E8","v":"QUOTE\nTOTALI"},{"$f":"cRPUI!F8","v":"QUOTE\nTOTALI"},{"$f":"cRPUI!G8","v":"QUOTE\nTOTALI"},{"$f":"cRPUI!H8","v":"QUOTE\nTOTALI"},"SPESE","TOTALE\nQUOTA\nSOGGETTO","Rata\nSoggetto\n"]
[null,null,null,null,{"$f":"cRPUI!D9","v":"Tabella A"},{"$f":"cRPUI!E9","v":"Tabella B"},{"$f":"cRPUI!F9","v":"Tabella C"},{"$f":"cRPUI!G9","v":"Tabella D"},{"$f":"cRPUI!H9","v":"Tabella E"},"PERSONALI"]
[null,null,null,null,"PROPRIETÀ GENERALE","UTILIZZO","POTENZA INSTALLATA","NUMERO TERMOSIFONI","CONSUMI"]
[{"$f":"iCONDOMINI!A11","v":1},{"$f":"cTABSS!B11","v":"C01"},"U21",{"$f":"cTABSS!C11","v":"Condomino01"},{"$f":"SUMIFS(cRPUI!$D$11:$D$109,cRPUI!$B$11:$B$109,B11)","v":10.48},{"$f":"SUMIFS(cRPUI!$E$11:$E$109,cRPUI!$C$11:$C$109,B11)","v":53.910000000000004},{"$f":"SUMIFS(cRPUI!$F$11:$F$109,cRPUI!$C$11:$C$109,B11)","v":29.39},{"$f":"SUMIFS(cRPUI!$G$11:$G$109,cRPUI!$C$11:$C$109,B11)","v":10.43},{"$f":"SUMIFS(cRPUI!$H$11:$H$109,cRPUI!$C$11:$C$109,B11)","v":226.23000000000002},{"$f":"iPUS!D96","v":0},{"$f":"SUM(E11:J11)","v":330.44000000000005},{"$f":"K11/4","v":82.610000000000014}]
[{"$f":"iCONDOMINI!A12","v":2},{"$f":"cTABSS!B12","v":"C02"},"U15",{"$f":"cTABSS!C12","v":"Condomino02"},{"$f":"SUMIFS(cRPUI!$D$11:$D$109,cRPUI!$B$11:$B$109,B12)","v":12.95},{"$f":"SUMIFS(cRPUI!$E$11:$E$109,cRPUI!$C$11:$C$109,B12)","v":0},{"$f":"SUMIFS(cRPUI!$F$11:$F$109,cRPUI!$C$11:$C$109,B12)","v":0},{"$f":"SUMIFS(cRPUI!$G$11:$G$109,cRPUI!$C$11:$C$109,B12)","v":0},{"$f":"SUMIFS(cRPUI!$H$11:$H$109,cRPUI!$C$11:$C$109,B12)","v":0},{"$f":"iPUS!D97","v":0},{"$f":"SUM(E12:J12)","v":12.95},{"$f":"K12/4","v":3.2374999999999998}]
[{"$f":"iCONDOMINI!A13","v":3},{"$f":"cTABSS!B13","v":"C03"},"U03",{"$f":"cTABSS!C13","v":"Condomino03"},{"$f":"SUMIFS(cRPUI!$D$11:$D$109,cRPUI!$B$11:$B$109,B13)","v":24.09},{"$f":"SUMIFS(cRPUI!$E$11:$E$109,cRPUI!$C$11:$C$109,B13)","v":123.88000000000001},{"$f":"SUMIFS(cRPUI!$F$11:$F$109,cRPUI!$C$11:$C$109,B13)","v":67.510000000000005},{"$f":"SUMIFS(cRPUI!$G$11:$G$109,cRPUI!$C$11:$C$109,B13)","v":27.860000000000003},{"$f":"SUMIFS(cRPUI!$H$11:$H$109,cRPUI!$C$11:$C$109,B13)","v":37.71},{"$f":"iPUS!D98","v":0},281.05,70.262500000000003]
[{"$f":"iCONDOMINI!A14","v":4},{"$f":"cTABSS!B14","v":"C04"},"U04",{"$f":"cTABSS!C14","v":"Condomino04 S.r.l."},{"$f":"SUMIFS(cRPUI!$D$11:$D$109,cRPUI!$B$11:$B$109,B14)","v":12.95},{"$f":"SUMIFS(cRPUI!$E$11:$E$109,cRPUI!$C$11:$C$109,B14)","v":66.599999999999994},{"$f":"SUMIFS(cRPUI!$F$11:$F$109,cRPUI!$C$11:$C$109,B14)","v":32.730000000000004},{"$f":"SUMIFS(cRPUI!$G$11:$G$109,cRPUI!$C$11:$C$109,B14)","v":17.39},{"$f":"SUMIFS(cRPUI!$H$11:$H$109,cRPUI!$C$11:$C$109,B14)","v":37.71},{"$f":"iPUS!D99","v":0},167.38000000000002,41.845000000000006]
[{"$f":"iCONDOMINI!A15","v":5},{"$f":"cTABSS!B15","v":"C05"},"U07",{"$f":"cTABSS!C15","v":"Condomino05"},{"$f":"SUMIFS(cRPUI!$D$11:$D$109,cRPUI!$B$11:$B$109,B15)","v":16.649999999999999},{"$f":"SUMIFS(cRPUI!$E$11:$E$109,cRPUI!$C$11:$C$109,B15)","v":85.61},{"$f":"SUMIFS(cRPUI!$F$11:$F$109,cRPUI!$C$11:$C$109,B15)","v":54.13},{"$f":"SUMIFS(cRPUI!$G$11:$G$109,cRPUI!$C$11:$C$109,B15)","v":24.35},{"$f":"SUMIFS(cRPUI!$H$11:$H$109,cRPUI!$C$11:$C$109,B15)","v":113.11},{"$f":"iPUS!D100","v":0},293.84999999999997,73.462499999999991]
[{"$f":"iCONDOMINI!A16","v":6},{"$f":"cTABSS!B16","v":"C06"},"U18",{"$f":"cTABSS!C16","v":"Condomino06"},{"$f":"SUMIFS(cRPUI!$D$11:$D$109,cRPUI!$B$11:$B$109,B16)","v":14.790000000000001},{"$f":"SUMIFS(cRPUI!$E$11:$E$109,cRPUI!$C$11:$C$109,B16)","v":76.09},{"$f":"SUMIFS(cRPUI!$F$11:$F$109,cRPUI!$C$11:$C$109,B16)","v":54.870000000000005},{"$f":"SUMIFS(cRPUI!$G$11:$G$109,cRPUI!$C$11:$C$109,B16)","v":17.39},{"$f":"SUMIFS(cRPUI!$H$11:$H$109,cRPUI!$C$11:$C$109,B16)","v":188.52},{"$f":"iPUS!D101","v":0},351.65999999999997,87.914999999999992]
[{"$f":"iCONDOMINI!A17","v":7},{"$f":"cTABSS!B17","v":"C07"},"U19",{"$f":"cTABSS!C17","v":"Condomino07"},{"$f":"SUMIFS(cRPUI!$D$11:$D$109,cRPUI!$B$11:$B$109,B17)","v":12.52},{"$f":"SUMIFS(cRPUI!$E$11:$E$109,cRPUI!$C$11:$C$109,B17)","v":64.39},{"$f":"SUMIFS(cRPUI!$F$11:$F$109,cRPUI!$C$11:$C$109,B17)","v":27.92},{"$f":"SUMIFS(cRPUI!$G$11:$G$109,cRPUI!$C$11:$C$109,B17)","v":10.43},{"$f":"SUMIFS(cRPUI!$H$11:$H$109,cRPUI!$C$11:$C$109,B17)","v":226.23000000000002},{"$f":"iPUS!D102","v":0},341.49,85.372500000000002]
[{"$f":"iCONDOMINI!A18","v":8},{"$f":"cTABSS!B18","v":"C08"},"U23",{"$f":"cTABSS!C18","v":"Eredi Condomino08"},{"$f":"SUMIFS(cRPUI!$D$11:$D$109,cRPUI!$B$11:$B$109,B18)","v":10.44},{"$f":"SUMIFS(cRPUI!$E$11:$E$109,cRPUI!$C$11:$C$109,B18)","v":53.69},{"$f":"SUMIFS(cRPUI!$F$11:$F$109,cRPUI!$C$11:$C$109,B18)","v":8.0400000000000009},{"$f":"SUMIFS(cRPUI!$G$11:$G$109,cRPUI!$C$11:$C$109,B18)","v":13.91},{"$f":"SUMIFS(cRPUI!$H$11:$H$109,cRPUI!$C$11:$C$109,B18)","v":263.93},{"$f":"iPUS!D103","v":0},350.01,87.502499999999998]
[{"$f":"iCONDOMINI!A19","v":9},{"$f":"cTABSS!B19","v":"C09"},"U02",{"$f":"cTABSS!C19","v":"Condomino09 S.r.l."},{"$f":"SUMIFS(cRPUI!$D$11:$D$109,cRPUI!$B$11:$B$109,B19)","v":14.18},{"$f":"SUMIFS(cRPUI!$E$11:$E$109,cRPUI!$C$11:$C$109,B19)","v":72.92},{"$f":"SUMIFS(cRPUI!$F$11:$F$109,cRPUI!$C$11:$C$109,B19)","v":33.74},{"$f":"SUMIFS(cRPUI!$G$11:$G$109,cRPUI!$C$11:$C$109,B19)","v":13.91},{"$f":"SUMIFS(cRPUI!$H$11:$H$109,cRPUI!$C$11:$C$109,B19)","v":37.71},{"$f":"iPUS!D104","v":0},172.46,43.115000000000002]
[{"$f":"iCONDOMINI!A20","v":10},{"$f":"cTABSS!B20","v":"C10"},"U22",{"$f":"cTABSS!C20","v":"Condomino10"},{"$f":"SUMIFS(cRPUI!$D$11:$D$109,cRPUI!$B$11:$B$109,B20)","v":17.260000000000002},{"$f":"SUMIFS(cRPUI!$E$11:$E$109,cRPUI!$C$11:$C$109,B20)","v":0},{"$f":"SUMIFS(cRPUI!$F$11:$F$109,cRPUI!$C$11:$C$109,B20)","v":0},{"$f":"SUMIFS(cRPUI!$G$11:$G$109,cRPUI!$C$11:$C$109,B20)","v":0},{"$f":"SUMIFS(cRPUI!$H$11:$H$109,cRPUI!$C$11:$C$109,B20)","v":0},{"$f":"iPUS!D105","v":0},17.260000000000002,4.3150000000000004]
[{"$f":"iCONDOMINI!A21","v":11},{"$f":"cTABSS!B21","v":"C11"},"U09",{"$f":"cTABSS!C21","v":"Condomino11"},{"$f":"SUMIFS(cRPUI!$D$11:$D$109,cRPUI!$B$11:$B$109,B21)","v":12.95},{"$f":"SUMIFS(cRPUI!$E$11:$E$109,cRPUI!$C$11:$C$109,B21)","v":66.599999999999994},{"$f":"SUMIFS(cRPUI!$F$11:$F$109,cRPUI!$C$11:$C$109,B21)","v":24.85},{"$f":"SUMIFS(cRPUI!$G$11:$G$109,cRPUI!$C$11:$C$109,B21)","v":10.43},{"$f":"SUMIFS(cRPUI!$H$11:$H$109,cRPUI!$C$11:$C$109,B21)","v":169.67000000000002},{"$f":"iPUS!D106","v":0},284.5,71.125]
[{"$f":"iCONDOMINI!A22","v":12},{"$f":"cTABSS!B22","v":"C12"},"U17+U24",{"$f":"cTABSS!C22","v":"Condomino12"},{"$f":"SUMIFS(cRPUI!$D$11:$D$109,cRPUI!$B$11:$B$109,B22)","v":19.77},{"$f":"SUMIFS(cRPUI!$E$11:$E$109,cRPUI!$C$11:$C$109,B22)","v":85.61},{"$f":"SUMIFS(cRPUI!$F$11:$F$109,cRPUI!$C$11:$C$109,B22)","v":48.44},{"$f":"SUMIFS(cRPUI!$G$11:$G$109,cRPUI!$C$11:$C$109,B22)","v":13.91},{"$f":"SUMIFS(cRPUI!$H$11:$H$109,cRPUI!$C$11:$C$109,B22)","v":188.52},{"$f":"iPUS!D107","v":0},356.25,89.0625]
[{"$f":"iCONDOMINI!A23","v":13},{"$f":"cTABSS!B23","v":"C13"},"U08",{"$f":"cTABSS!C23","v":"Condomino13"},{"$f":"SUMIFS(cRPUI!$D$11:$D$109,cRPUI!$B$11:$B$109,B23)","v":13.57},{"$f":"SUMIFS(cRPUI!$E$11:$E$109,cRPUI!$C$11:$C$109,B23)","v":69.77},{"$f":"SUMIFS(cRPUI!$F$11:$F$109,cRPUI!$C$11:$C$109,B23)","v":44.6},{"$f":"SUMIFS(cRPUI!$G$11:$G$109,cRPUI!$C$11:$C$109,B23)","v":17.39},{"$f":"SUMIFS(cRPUI!$H$11:$H$109,cRPUI!$C$11:$C$109,B23)","v":113.11},{"$f":"iPUS!D108","v":0},258.44,64.61]
[{"$f":"iCONDOMINI!A24","v":14},{"$f":"cTABSS!B24","v":"C14"},"U14",{"$f":"cTABSS!C24","v":"Condomino14"},{"$f":"SUMIFS(cRPUI!$D$11:$D$109,cRPUI!$B$11:$B$109,B24)","v":10.44},{"$f":"SUMIFS(cRPUI!$E$11:$E$109,cRPUI!$C$11:$C$109,B24)","v":53.69},{"$f":"SUMIFS(cRPUI!$F$11:$F$109,cRPUI!$C$11:$C$109,B24)","v":36.520000000000003},{"$f":"SUMIFS(cRPUI!$G$11:$G$109,cRPUI!$C$11:$C$109,B24)","v":13.91},{"$f":"SUMIFS(cRPUI!$H$11:$H$109,cRPUI!$C$11:$C$109,B24)","v":188.52},{"$f":"iPUS!D109","v":0},303.08000000000004,75.77000000000001]
[{"$f":"iCONDOMINI!A25","v":15},{"$f":"cTABSS!B25","v":"C15"},"U06",{"$f":"cTABSS!C25","v":"Condomino15"},{"$f":"SUMIFS(cRPUI!$D$11:$D$109,cRPUI!$B$11:$B$109,B25)","v":12.95},{"$f":"SUMIFS(cRPUI!$E$11:$E$109,cRPUI!$C$11:$C$109,B25)","v":66.599999999999994},{"$f":"SUMIFS(cRPUI!$F$11:$F$109,cRPUI!$C$11:$C$109,B25)","v":39.89},{"$f":"SUMIFS(cRPUI!$G$11:$G$109,cRPUI!$C$11:$C$109,B25)","v":17.39},{"$f":"SUMIFS(cRPUI!$H$11:$H$109,cRPUI!$C$11:$C$109,B25)","v":75.41},{"$f":"iPUS!D110","v":0},212.23999999999998,53.059999999999995]
[{"$f":"iCONDOMINI!A26","v":16},{"$f":"cTABSS!B26","v":"C16"},"U16",{"$f":"cTABSS!C26","v":"Condomino16"},{"$f":"SUMIFS(cRPUI!$D$11:$D$109,cRPUI!$B$11:$B$109,B26)","v":18.5},{"$f":"SUMIFS(cRPUI!$E$11:$E$109,cRPUI!$C$11:$C$109,B26)","v":95.13},{"$f":"SUMIFS(cRPUI!$F$11:$F$109,cRPUI!$C$11:$C$109,B26)","v":49.39},{"$f":"SUMIFS(cRPUI!$G$11:$G$109,cRPUI!$C$11:$C$109,B26)","v":17.39},{"$f":"SUMIFS(cRPUI!$H$11:$H$109,cRPUI!$C$11:$C$109,B26)","v":188.52},{"$f":"iPUS!D111","v":0},368.92999999999995,92.232499999999987]
[{"$f":"iCONDOMINI!A27","v":17},{"$f":"cTABSS!B27","v":"C17"},"U20",{"$f":"cTABSS!C27","v":"Condomino17"},{"$f":"SUMIFS(cRPUI!$D$11:$D$109,cRPUI!$B$11:$B$109,B27)","v":25.88},{"$f":"SUMIFS(cRPUI!$E$11:$E$109,cRPUI!$C$11:$C$109,B27)","v":133.12},{"$f":"SUMIFS(cRPUI!$F$11:$F$109,cRPUI!$C$11:$C$109,B27)","v":70.960000000000008},{"$f":"SUMIFS(cRPUI!$G$11:$G$109,cRPUI!$C$11:$C$109,B27)","v":24.35},{"$f":"SUMIFS(cRPUI!$H$11:$H$109,cRPUI!$C$11:$C$109,B27)","v":226.23000000000002},{"$f":"iPUS!D112","v":0},480.54,120.13500000000001]
[{"$f":"iCONDOMINI!A28","v":18},{"$f":"cTABSS!B28","v":"C18"},"U13",{"$f":"cTABSS!C28","v":"Condomino18"},{"$f":"SUMIFS(cRPUI!$D$11:$D$109,cRPUI!$B$11:$B$109,B28)","v":22.42},{"$f":"SUMIFS(cRPUI!$E$11:$E$109,cRPUI!$C$11:$C$109,B28)","v":0},{"$f":"SUMIFS(cRPUI!$F$11:$F$109,cRPUI!$C$11:$C$109,B28)","v":0},{"$f":"SUMIFS(cRPUI!$G$11:$G$109,cRPUI!$C$11:$C$109,B28)","v":0},{"$f":"SUMIFS(cRPUI!$H$11:$H$109,cRPUI!$C$11:$C$109,B28)","v":0},{"$f":"iPUS!D113","v":0},22.42,5.6050000000000004]
[{"$f":"iCONDOMINI!A29","v":19},{"$f":"cTABSS!B29","v":"C19"},"U10",{"$f":"cTABSS!C29","v":"Condomino19"},{"$f":"SUMIFS(cRPUI!$D$11:$D$109,cRPUI!$B$11:$B$109,B29)","v":20.34},{"$f":"SUMIFS(cRPUI!$E$11:$E$109,cRPUI!$C$11:$C$109,B29)","v":104.62},{"$f":"SUMIFS(cRPUI!$F$11:$F$109,cRPUI!$C$11:$C$109,B29)","v":59.480000000000004},{"$f":"SUMIFS(cRPUI!$G$11:$G$109,cRPUI!$C$11:$C$109,B29)","v":24.35},{"$f":"SUMIFS(cRPUI!$H$11:$H$109,cRPUI!$C$11:$C$109,B29)","v":150.82},{"$f":"iPUS!D114","v":0},359.61,89.902500000000003]
[{"$f":"iCONDOMINI!A30","v":20},{"$f":"cTABSS!B30","v":"C20"},"U01",{"$f":"cTABSS!C30","v":"Condomino20"},{"$f":"SUMIFS(cRPUI!$D$11:$D$109,cRPUI!$B$11:$B$109,B30)","v":10.48},{"$f":"SUMIFS(cRPUI!$E$11:$E$109,cRPUI!$C$11:$C$109,B30)","v":0},{"$f":"SUMIFS(cRPUI!$F$11:$F$109,cRPUI!$C$11:$C$109,B30)","v":0},{"$f":"SUMIFS(cRPUI!$G$11:$G$109,cRPUI!$C$11:$C$109,B30)","v":0},{"$f":"SUMIFS(cRPUI!$H$11:$H$109,cRPUI!$C$11:$C$109,B30)","v":0},{"$f":"iPUS!D115","v":0},10.48,2.62]
[{"$f":"iCONDOMINI!A31","v":21},{"$f":"cTABSS!B31","v":"C21"},"U12",{"$f":"cTABSS!C31","v":"Condomino21"},{"$f":"SUMIFS(cRPUI!$D$11:$D$109,cRPUI!$B$11:$B$109,B31)","v":12.95},{"$f":"SUMIFS(cRPUI!$E$11:$E$109,cRPUI!$C$11:$C$109,B31)","v":66.599999999999994},{"$f":"SUMIFS(cRPUI!$F$11:$F$109,cRPUI!$C$11:$C$109,B31)","v":40.050000000000004},{"$f":"SUMIFS(cRPUI!$G$11:$G$109,cRPUI!$C$11:$C$109,B31)","v":17.39},{"$f":"SUMIFS(cRPUI!$H$11:$H$109,cRPUI!$C$11:$C$109,B31)","v":150.82},{"$f":"iPUS!D116","v":0},287.81,71.952500000000001]
[{"$f":"iCONDOMINI!A32","v":22},{"$f":"cTABSS!B32","v":"C22"},"U11",{"$f":"cTABSS!C32","v":"Condomino22"},{"$f":"SUMIFS(cRPUI!$D$11:$D$109,cRPUI!$B$11:$B$109,B32)","v":9.870000000000001},{"$f":"SUMIFS(cRPUI!$E$11:$E$109,cRPUI!$C$11:$C$109,B32)","v":50.74},{"$f":"SUMIFS(cRPUI!$F$11:$F$109,cRPUI!$C$11:$C$109,B32)","v":27.62},{"$f":"SUMIFS(cRPUI!$G$11:$G$109,cRPUI!$C$11:$C$109,B32)","v":13.91},{"$f":"SUMIFS(cRPUI!$H$11:$H$109,cRPUI!$C$11:$C$109,B32)","v":150.82},{"$f":"iPUS!D117","v":0},252.95999999999998,63.239999999999995]
[{"$f":"iCONDOMINI!A33","v":23},{"$f":"cTABSS!B33","v":"C23"},"U05",{"$f":"cTABSS!C33","v":"Condomino23"},{"$f":"SUMIFS(cRPUI!$D$11:$D$109,cRPUI!$B$11:$B$109,B33)","v":13.57},{"$f":"SUMIFS(cRPUI!$E$11:$E$109,cRPUI!$C$11:$C$109,B33)","v":69.77},{"$f":"SUMIFS(cRPUI!$F$11:$F$109,cRPUI!$C$11:$C$109,B33)","v":41.85},{"$f":"SUMIFS(cRPUI!$G$11:$G$109,cRPUI!$C$11:$C$109,B33)","v":17.39},{"$f":"SUMIFS(cRPUI!$H$11:$H$109,cRPUI!$C$11:$C$109,B33)","v":37.71},{"$f":"iPUS!D118","v":0},180.29,45.072499999999998]
[{"$f":"iCONDOMINI!A34","v":24},{"$f":"cTABSS!B34","v":"I01"},"U01",{"$f":"cTABSS!C34","v":"Inquilino1"},{"$f":"SUMIFS(cRPUI!$D$11:$D$109,cRPUI!$B$11:$B$109,B34)","v":0},{"$f":"SUMIFS(cRPUI!$E$11:$E$109,cRPUI!$C$11:$C$109,B34)","v":53.910000000000004},{"$f":"SUMIFS(cRPUI!$F$11:$F$109,cRPUI!$C$11:$C$109,B34)","v":16.57},{"$f":"SUMIFS(cRPUI!$G$11:$G$109,cRPUI!$C$11:$C$109,B34)","v":10.43},{"$f":"SUMIFS(cRPUI!$H$11:$H$109,cRPUI!$C$11:$C$109,B34)","v":37.71},{"$f":"iPUS!D119","v":0},118.62,29.655000000000001]
[{"$f":"iCONDOMINI!A35","v":25},{"$f":"cTABSS!B35","v":"I02"},"U13",{"$f":"cTABSS!C35","v":"Inquilino2"},{"$f":"SUMIFS(cRPUI!$D$11:$D$109,cRPUI!$B$11:$B$109,B35)","v":0},{"$f":"SUMIFS(cRPUI!$E$11:$E$109,cRPUI!$C$11:$C$109,B35)","v":115.33},{"$f":"SUMIFS(cRPUI!$F$11:$F$109,cRPUI!$C$11:$C$109,B35)","v":70.95},{"$f":"SUMIFS(cRPUI!$G$11:$G$109,cRPUI!$C$11:$C$109,B35)","v":27.830000000000002},{"$f":"SUMIFS(cRPUI!$H$11:$H$109,cRPUI!$C$11:$C$109,B35)","v":188.52},{"$f":"iPUS!D120","v":0},402.63,100.6575]
[{"$f":"iCONDOMINI!A36","v":26},{"$f":"cTABSS!B36","v":"I03"},"U15",{"$f":"cTABSS!C36","v":"Inquilino3"},{"$f":"SUMIFS(cRPUI!$D$11:$D$109,cRPUI!$B$11:$B$109,B36)","v":0},{"$f":"SUMIFS(cRPUI!$E$11:$E$109,cRPUI!$C$11:$C$109,B36)","v":66.599999999999994},{"$f":"SUMIFS(cRPUI!$F$11:$F$109,cRPUI!$C$11:$C$109,B36)","v":38.75},{"$f":"SUMIFS(cRPUI!$G$11:$G$109,cRPUI!$C$11:$C$109,B36)","v":17.39},{"$f":"SUMIFS(cRPUI!$H$11:$H$109,cRPUI!$C$11:$C$109,B36)","v":188.52},{"$f":"iPUS!D121","v":0},311.26,77.814999999999998]
[{"$f":"iCONDOMINI!A37","v":27},{"$f":"cTABSS!B37","v":"I04"},"U22",{"$f":"cTABSS!C37","v":"Inquilino4"},{"$f":"SUMIFS(cRPUI!$D$11:$D$109,cRPUI!$B$11:$B$109,B37)","v":0},{"$f":"SUMIFS(cRPUI!$E$11:$E$109,cRPUI!$C$11:$C$109,B37)","v":88.78},{"$f":"SUMIFS(cRPUI!$F$11:$F$109,cRPUI!$C$11:$C$109,B37)","v":23.71},{"$f":"SUMIFS(cRPUI!$G$11:$G$109,cRPUI!$C$11:$C$109,B37)","v":20.87},{"$f":"SUMIFS(cRPUI!$H$11:$H$109,cRPUI!$C$11:$C$109,B37)","v":263.95},{"$f":"iPUS!D122","v":0},397.31,99.327500000000001]
[{"$f":"iCONDOMINI!A38","v":28},{"$f":"cTABSS!B38","v":"I05"},"U24",{"$f":"cTABSS!C38","v":"Inquilino5"},{"$f":"SUMIFS(cRPUI!$D$11:$D$109,cRPUI!$B$11:$B$109,B38)","v":0},{"$f":"SUMIFS(cRPUI!$E$11:$E$109,cRPUI!$C$11:$C$109,B38)","v":16.04},{"$f":"SUMIFS(cRPUI!$F$11:$F$109,cRPUI!$C$11:$C$109,B38)","v":8.0400000000000009},{"$f":"SUMIFS(cRPUI!$G$11:$G$109,cRPUI!$C$11:$C$109,B38)","v":0},{"$f":"SUMIFS(cRPUI!$H$11:$H$109,cRPUI!$C$11:$C$109,B38)","v":0},{"$f":"iPUS!D123","v":0},24.08,6.02]
[{"$f":"iCONDOMINI!A39","v":29},{"$f":"cTABSS!B39","v":0},null,{"$f":"cTABSS!C39","v":0},{"$f":"SUMIFS(cRPUI!$D$11:$D$109,cRPUI!$B$11:$B$109,B39)","v":0},{"$f":"SUMIFS(cRPUI!$E$11:$E$109,cRPUI!$C$11:$C$109,B39)","v":0},{"$f":"SUMIFS(cRPUI!$F$11:$F$109,cRPUI!$C$11:$C$109,B39)","v":0},{"$f":"SUMIFS(cRPUI!$G$11:$G$109,cRPUI!$C$11:$C$109,B39)","v":0},{"$f":"SUMIFS(cRPUI!$H$11:$H$109,cRPUI!$C$11:$C$109,B39)","v":0},{"$f":"iPUS!D124","v":0},0,0]
[{"$f":"iCONDOMINI!A40","v":30},{"$f":"cTABSS!B40","v":0},null,{"$f":"cTABSS!C40","v":0},{"$f":"SUMIFS(cRPUI!$D$11:$D$109,cRPUI!$B$11:$B$109,B40)","v":0},{"$f":"SUMIFS(cRPUI!$E$11:$E$109,cRPUI!$C$11:$C$109,B40)","v":0},{"$f":"SUMIFS(cRPUI!$F$11:$F$109,cRPUI!$C$11:$C$109,B40)","v":0},{"$f":"SUMIFS(cRPUI!$G$11:$G$109,cRPUI!$C$11:$C$109,B40)","v":0},{"$f":"SUMIFS(cRPUI!$H$11:$H$109,cRPUI!$C$11:$C$109,B40)","v":0},{"$f":"iPUS!D125","v":0},0,0]
[{"$f":"iCONDOMINI!A41","v":31},{"$f":"cTABSS!B41","v":0},null,{"$f":"cTABSS!C41","v":0},{"$f":"SUMIFS(cRPUI!$D$11:$D$109,cRPUI!$B$11:$B$109,B41)","v":0},{"$f":"SUMIFS(cRPUI!$E$11:$E$109,cRPUI!$C$11:$C$109,B41)","v":0},{"$f":"SUMIFS(cRPUI!$F$11:$F$109,cRPUI!$C$11:$C$109,B41)","v":0},{"$f":"SUMIFS(cRPUI!$G$11:$G$109,cRPUI!$C$11:$C$109,B41)","v":0},{"$f":"SUMIFS(cRPUI!$H$11:$H$109,cRPUI!$C$11:$C$109,B41)","v":0},{"$f":"iPUS!D126","v":0},0,0]
[{"$f":"iCONDOMINI!A42","v":32},{"$f":"cTABSS!B42","v":0},null,{"$f":"cTABSS!C42","v":0},{"$f":"SUMIFS(cRPUI!$D$11:$D$109,cRPUI!$B$11:$B$109,B42)","v":0},{"$f":"SUMIFS(cRPUI!$E$11:$E$109,cRPUI!$C$11:$C$109,B42)","v":0},{"$f":"SUMIFS(cRPUI!$F$11:$F$109,cRPUI!$C$11:$C$109,B42)","v":0},{"$f":"SUMIFS(cRPUI!$G$11:$G$109,cRPUI!$C$11:$C$109,B42)","v":0},{"$f":"SUMIFS(cRPUI!$H$11:$H$109,cRPUI!$C$11:$C$109,B42)","v":0},{"$f":"iPUS!D127","v":0},0,0]
[{"$f":"iCONDOMINI!A43","v":33},{"$f":"cTABSS!B43","v":0},null,{"$f":"cTABSS!C43","v":0},{"$f":"SUMIFS(cRPUI!$D$11:$D$109,cRPUI!$B$11:$B$109,B43)","v":0},{"$f":"SUMIFS(cRPUI!$E$11:$E$109,cRPUI!$C$11:$C$109,B43)","v":0},{"$f":"SUMIFS(cRPUI!$F$11:$F$109,cRPUI!$C$11:$C$109,B43)","v":0},{"$f":"SUMIFS(cRPUI!$G$11:$G$109,cRPUI!$C$11:$C$109,B43)","v":0},{"$f":"SUMIFS(cRPUI!$H$11:$H$109,cRPUI!$C$11:$C$109,B43)","v":0},{"$f":"iPUS!D128","v":0},0,0]
[{"$f":"iCONDOMINI!A44","v":34},{"$f":"cTABSS!B44","v":0},null,{"$f":"cTABSS!C44","v":0},{"$f":"SUMIFS(cRPUI!$D$11:$D$109,cRPUI!$B$11:$B$109,B44)","v":0},{"$f":"SUMIFS(cRPUI!$E$11:$E$109,cRPUI!$C$11:$C$109,B44)","v":0},{"$f":"SUMIFS(cRPUI!$F$11:$F$109,cRPUI!$C$11:$C$109,B44)","v":0},{"$f":"SUMIFS(cRPUI!$G$11:$G$109,cRPUI!$C$11:$C$109,B44)","v":0},{"$f":"SUMIFS(cRPUI!$H$11:$H$109,cRPUI!$C$11:$C$109,B44)","v":0},{"$f":"iPUS!D129","v":0},0,0]
[{"$f":"iCONDOMINI!A45","v":35},{"$f":"cTABSS!B45","v":0},null,{"$f":"cTABSS!C45","v":0},{"$f":"SUMIFS(cRPUI!$D$11:$D$109,cRPUI!$B$11:$B$109,B45)","v":0},{"$f":"SUMIFS(cRPUI!$E$11:$E$109,cRPUI!$C$11:$C$109,B45)","v":0},{"$f":"SUMIFS(cRPUI!$F$11:$F$109,cRPUI!$C$11:$C$109,B45)","v":0},{"$f":"SUMIFS(cRPUI!$G$11:$G$109,cRPUI!$C$11:$C$109,B45)","v":0},{"$f":"SUMIFS(cRPUI!$H$11:$H$109,cRPUI!$C$11:$C$109,B45)","v":0},{"$f":"iPUS!D130","v":0},0,0]
[{"$f":"iCONDOMINI!A46","v":36},{"$f":"cTABSS!B46","v":0},null,{"$f":"cTABSS!C46","v":0},{"$f":"SUMIFS(cRPUI!$D$11:$D$109,cRPUI!$B$11:$B$109,B46)","v":0},{"$f":"SUMIFS(cRPUI!$E$11:$E$109,cRPUI!$C$11:$C$109,B46)","v":0},{"$f":"SUMIFS(cRPUI!$F$11:$F$109,cRPUI!$C$11:$C$109,B46)","v":0},{"$f":"SUMIFS(cRPUI!$G$11:$G$109,cRPUI!$C$11:$C$109,B46)","v":0},{"$f":"SUMIFS(cRPUI!$H$11:$H$109,cRPUI!$C$11:$C$109,B46)","v":0},{"$f":"iPUS!D131","v":0},0,0]
[{"$f":"iCONDOMINI!A47","v":37},{"$f":"cTABSS!B47","v":0},null,{"$f":"cTABSS!C47","v":0},{"$f":"SUMIFS(cRPUI!$D$11:$D$109,cRPUI!$B$11:$B$109,B47)","v":0},{"$f":"SUMIFS(cRPUI!$E$11:$E$109,cRPUI!$C$11:$C$109,B47)","v":0},{"$f":"SUMIFS(cRPUI!$F$11:$F$109,cRPUI!$C$11:$C$109,B47)","v":0},{"$f":"SUMIFS(cRPUI!$G$11:$G$109,cRPUI!$C$11:$C$109,B47)","v":0},{"$f":"SUMIFS(cRPUI!$H$11:$H$109,cRPUI!$C$11:$C$109,B47)","v":0},{"$f":"iPUS!D132","v":0},0,0]
[{"$f":"iCONDOMINI!A48","v":38},{"$f":"cTABSS!B48","v":0},null,{"$f":"cTABSS!C48","v":0},{"$f":"SUMIFS(cRPUI!$D$11:$D$109,cRPUI!$B$11:$B$109,B48)","v":0},{"$f":"SUMIFS(cRPUI!$E$11:$E$109,cRPUI!$C$11:$C$109,B48)","v":0},{"$f":"SUMIFS(cRPUI!$F$11:$F$109,cRPUI!$C$11:$C$109,B48)","v":0},{"$f":"SUMIFS(cRPUI!$G$11:$G$109,cRPUI!$C$11:$C$109,B48)","v":0},{"$f":"SUMIFS(cRPUI!$H$11:$H$109,cRPUI!$C$11:$C$109,B48)","v":0},{"$f":"iPUS!D133","v":0},0,0]
[{"$f":"iCONDOMINI!A49","v":39},{"$f":"cTABSS!B49","v":0},null,{"$f":"cTABSS!C49","v":0},{"$f":"SUMIFS(cRPUI!$D$11:$D$109,cRPUI!$B$11:$B$109,B49)","v":0},{"$f":"SUMIFS(cRPUI!$E$11:$E$109,cRPUI!$C$11:$C$109,B49)","v":0},{"$f":"SUMIFS(cRPUI!$F$11:$F$109,cRPUI!$C$11:$C$109,B49)","v":0},{"$f":"SUMIFS(cRPUI!$G$11:$G$109,cRPUI!$C$11:$C$109,B49)","v":0},{"$f":"SUMIFS(cRPUI!$H$11:$H$109,cRPUI!$C$11:$C$109,B49)","v":0},{"$f":"iPUS!D134","v":0},0,0]
[{"$f":"iCONDOMINI!A50","v":40},{"$f":"cTABSS!B50","v":0},null,{"$f":"cTABSS!C50","v":0},{"$f":"SUMIFS(cRPUI!$D$11:$D$109,cRPUI!$B$11:$B$109,B50)","v":0},{"$f":"SUMIFS(cRPUI!$E$11:$E$109,cRPUI!$C$11:$C$109,B50)","v":0},{"$f":"SUMIFS(cRPUI!$F$11:$F$109,cRPUI!$C$11:$C$109,B50)","v":0},{"$f":"SUMIFS(cRPUI!$G$11:$G$109,cRPUI!$C$11:$C$109,B50)","v":0},{"$f":"SUMIFS(cRPUI!$H$11:$H$109,cRPUI!$C$11:$C$109,B50)","v":0},{"$f":"iPUS!D135","v":0},0,0]
[{"$f":"iCONDOMINI!A51","v":41},{"$f":"cTABSS!B51","v":0},null,{"$f":"cTABSS!C51","v":0},{"$f":"SUMIFS(cRPUI!$D$11:$D$109,cRPUI!$B$11:$B$109,B51)","v":0},{"$f":"SUMIFS(cRPUI!$E$11:$E$109,cRPUI!$C$11:$C$109,B51)","v":0},{"$f":"SUMIFS(cRPUI!$F$11:$F$109,cRPUI!$C$11:$C$109,B51)","v":0},{"$f":"SUMIFS(cRPUI!$G$11:$G$109,cRPUI!$C$11:$C$109,B51)","v":0},{"$f":"SUMIFS(cRPUI!$H$11:$H$109,cRPUI!$C$11:$C$109,B51)","v":0},{"$f":"iPUS!D136","v":0},0,0]
[{"$f":"iCONDOMINI!A52","v":42},{"$f":"cTABSS!B52","v":0},null,{"$f":"cTABSS!C52","v":0},{"$f":"SUMIFS(cRPUI!$D$11:$D$109,cRPUI!$B$11:$B$109,B52)","v":0},{"$f":"SUMIFS(cRPUI!$E$11:$E$109,cRPUI!$C$11:$C$109,B52)","v":0},{"$f":"SUMIFS(cRPUI!$F$11:$F$109,cRPUI!$C$11:$C$109,B52)","v":0},{"$f":"SUMIFS(cRPUI!$G$11:$G$109,cRPUI!$C$11:$C$109,B52)","v":0},{"$f":"SUMIFS(cRPUI!$H$11:$H$109,cRPUI!$C$11:$C$109,B52)","v":0},{"$f":"iPUS!D137","v":0},0,0]
[{"$f":"iCONDOMINI!A53","v":43},{"$f":"cTABSS!B53","v":0},null,{"$f":"cTABSS!C53","v":0},{"$f":"SUMIFS(cRPUI!$D$11:$D$109,cRPUI!$B$11:$B$109,B53)","v":0},{"$f":"SUMIFS(cRPUI!$E$11:$E$109,cRPUI!$C$11:$C$109,B53)","v":0},{"$f":"SUMIFS(cRPUI!$F$11:$F$109,cRPUI!$C$11:$C$109,B53)","v":0},{"$f":"SUMIFS(cRPUI!$G$11:$G$109,cRPUI!$C$11:$C$109,B53)","v":0},{"$f":"SUMIFS(cRPUI!$H$11:$H$109,cRPUI!$C$11:$C$109,B53)","v":0},{"$f":"iPUS!D138","v":0},0,0]
[{"$f":"iCONDOMINI!A54","v":44},{"$f":"cTABSS!B54","v":0},null,{"$f":"cTABSS!C54","v":0},{"$f":"SUMIFS(cRPUI!$D$11:$D$109,cRPUI!$B$11:$B$109,B54)","v":0},{"$f":"SUMIFS(cRPUI!$E$11:$E$109,cRPUI!$C$11:$C$109,B54)","v":0},{"$f":"SUMIFS(cRPUI!$F$11:$F$109,cRPUI!$C$11:$C$109,B54)","v":0},{"$f":"SUMIFS(cRPUI!$G$11:$G$109,cRPUI!$C$11:$C$109,B54)","v":0},{"$f":"SUMIFS(cRPUI!$H$11:$H$109,cRPUI!$C$11:$C$109,B54)","v":0},{"$f":"iPUS!D139","v":0},0,0]
[{"$f":"iCONDOMINI!A55","v":45},{"$f":"cTABSS!B55","v":0},null,{"$f":"cTABSS!C55","v":0},{"$f":"SUMIFS(cRPUI!$D$11:$D$109,cRPUI!$B$11:$B$109,B55)","v":0},{"$f":"SUMIFS(cRPUI!$E$11:$E$109,cRPUI!$C$11:$C$109,B55)","v":0},{"$f":"SUMIFS(cRPUI!$F$11:$F$109,cRPUI!$C$11:$C$109,B55)","v":0},{"$f":"SUMIFS(cRPUI!$G$11:$G$109,cRPUI!$C$11:$C$109,B55)","v":0},{"$f":"SUMIFS(cRPUI!$H$11:$H$109,cRPUI!$C$11:$C$109,B55)","v":0},{"$f":"iPUS!D140","v":0},0,0]
[{"$f":"iCONDOMINI!A56","v":46},{"$f":"cTABSS!B56","v":0},null,{"$f":"cTABSS!C56","v":0},{"$f":"SUMIFS(cRPUI!$D$11:$D$109,cRPUI!$B$11:$B$109,B56)","v":0},{"$f":"SUMIFS(cRPUI!$E$11:$E$109,cRPUI!$C$11:$C$109,B56)","v":0},{"$f":"SUMIFS(cRPUI!$F$11:$F$109,cRPUI!$C$11:$C$109,B56)","v":0},{"$f":"SUMIFS(cRPUI!$G$11:$G$109,cRPUI!$C$11:$C$109,B56)","v":0},{"$f":"SUMIFS(cRPUI!$H$11:$H$109,cRPUI!$C$11:$C$109,B56)","v":0},{"$f":"iPUS!D141","v":0},0,0]
[{"$f":"iCONDOMINI!A57","v":47},{"$f":"cTABSS!B57","v":0},null,{"$f":"cTABSS!C57","v":0},{"$f":"SUMIFS(cRPUI!$D$11:$D$109,cRPUI!$B$11:$B$109,B57)","v":0},{"$f":"SUMIFS(cRPUI!$E$11:$E$109,cRPUI!$C$11:$C$109,B57)","v":0},{"$f":"SUMIFS(cRPUI!$F$11:$F$109,cRPUI!$C$11:$C$109,B57)","v":0},{"$f":"SUMIFS(cRPUI!$G$11:$G$109,cRPUI!$C$11:$C$109,B57)","v":0},{"$f":"SUMIFS(cRPUI!$H$11:$H$109,cRPUI!$C$11:$C$109,B57)","v":0},{"$f":"iPUS!D142","v":0},0,0]
[{"$f":"iCONDOMINI!A58","v":48},{"$f":"cTABSS!B58","v":0},null,{"$f":"cTABSS!C58","v":0},{"$f":"SUMIFS(cRPUI!$D$11:$D$109,cRPUI!$B$11:$B$109,B58)","v":0},{"$f":"SUMIFS(cRPUI!$E$11:$E$109,cRPUI!$C$11:$C$109,B58)","v":0},{"$f":"SUMIFS(cRPUI!$F$11:$F$109,cRPUI!$C$11:$C$109,B58)","v":0},{"$f":"SUMIFS(cRPUI!$G$11:$G$109,cRPUI!$C$11:$C$109,B58)","v":0},{"$f":"SUMIFS(cRPUI!$H$11:$H$109,cRPUI!$C$11:$C$109,B58)","v":0},{"$f":"iPUS!D143","v":0},0,0]
[{"$f":"iCONDOMINI!A59","v":49},{"$f":"cTABSS!B59","v":0},null,{"$f":"cTABSS!C59","v":0},{"$f":"SUMIFS(cRPUI!$D$11:$D$109,cRPUI!$B$11:$B$109,B59)","v":0},{"$f":"SUMIFS(cRPUI!$E$11:$E$109,cRPUI!$C$11:$C$109,B59)","v":0},{"$f":"SUMIFS(cRPUI!$F$11:$F$109,cRPUI!$C$11:$C$109,B59)","v":0},{"$f":"SUMIFS(cRPUI!$G$11:$G$109,cRPUI!$C$11:$C$109,B59)","v":0},{"$f":"SUMIFS(cRPUI!$H$11:$H$109,cRPUI!$C$11:$C$109,B59)","v":0},{"$f":"iPUS!D144","v":0},0,0]
[{"$f":"iCONDOMINI!A60","v":50},{"$f":"cTABSS!B60","v":0},null,{"$f":"cTABSS!C60","v":0},{"$f":"SUMIFS(cRPUI!$D$11:$D$109,cRPUI!$B$11:$B$109,B60)","v":0},{"$f":"SUMIFS(cRPUI!$E$11:$E$109,cRPUI!$C$11:$C$109,B60)","v":0},{"$f":"SUMIFS(cRPUI!$F$11:$F$109,cRPUI!$C$11:$C$109,B60)","v":0},{"$f":"SUMIFS(cRPUI!$G$11:$G$109,cRPUI!$C$11:$C$109,B60)","v":0},{"$f":"SUMIFS(cRPUI!$H$11:$H$109,cRPUI!$C$11:$C$109,B60)","v":0},{"$f":"iPUS!D145","v":0},0,0]
[{"$f":"iCONDOMINI!A61","v":51},{"$f":"cTABSS!B61","v":0},null,{"$f":"cTABSS!C61","v":0},{"$f":"SUMIFS(cRPUI!$D$11:$D$109,cRPUI!$B$11:$B$109,B61)","v":0},{"$f":"SUMIFS(cRPUI!$E$11:$E$109,cRPUI!$C$11:$C$109,B61)","v":0},{"$f":"SUMIFS(cRPUI!$F$11:$F$109,cRPUI!$C$11:$C$109,B61)","v":0},{"$f":"SUMIFS(cRPUI!$G$11:$G$109,cRPUI!$C$11:$C$109,B61)","v":0},{"$f":"SUMIFS(cRPUI!$H$11:$H$109,cRPUI!$C$11:$C$109,B61)","v":0},{"$f":"iPUS!D146","v":0},0,0]
[{"$f":"iCONDOMINI!A62","v":52},{"$f":"cTABSS!B62","v":0},null,{"$f":"cTABSS!C62","v":0},{"$f":"SUMIFS(cRPUI!$D$11:$D$109,cRPUI!$B$11:$B$109,B62)","v":0},{"$f":"SUMIFS(cRPUI!$E$11:$E$109,cRPUI!$C$11:$C$109,B62)","v":0},{"$f":"SUMIFS(cRPUI!$F$11:$F$109,cRPUI!$C$11:$C$109,B62)","v":0},{"$f":"SUMIFS(cRPUI!$G$11:$G$109,cRPUI!$C$11:$C$109,B62)","v":0},{"$f":"SUMIFS(cRPUI!$H$11:$H$109,cRPUI!$C$11:$C$109,B62)","v":0},{"$f":"iPUS!D147","v":0},0,0]
[{"$f":"iCONDOMINI!A63","v":53},{"$f":"cTABSS!B63","v":0},null,{"$f":"cTABSS!C63","v":0},{"$f":"SUMIFS(cRPUI!$D$11:$D$109,cRPUI!$B$11:$B$109,B63)","v":0},{"$f":"SUMIFS(cRPUI!$E$11:$E$109,cRPUI!$C$11:$C$109,B63)","v":0},{"$f":"SUMIFS(cRPUI!$F$11:$F$109,cRPUI!$C$11:$C$109,B63)","v":0},{"$f":"SUMIFS(cRPUI!$G$11:$G$109,cRPUI!$C$11:$C$109,B63)","v":0},{"$f":"SUMIFS(cRPUI!$H$11:$H$109,cRPUI!$C$11:$C$109,B63)","v":0},{"$f":"iPUS!D148","v":0},0,0]
[{"$f":"iCONDOMINI!A64","v":54},{"$f":"cTABSS!B64","v":0},null,{"$f":"cTABSS!C64","v":0},{"$f":"SUMIFS(cRPUI!$D$11:$D$109,cRPUI!$B$11:$B$109,B64)","v":0},{"$f":"SUMIFS(cRPUI!$E$11:$E$109,cRPUI!$C$11:$C$109,B64)","v":0},{"$f":"SUMIFS(cRPUI!$F$11:$F$109,cRPUI!$C$11:$C$109,B64)","v":0},{"$f":"SUMIFS(cRPUI!$G$11:$G$109,cRPUI!$C$11:$C$109,B64)","v":0},{"$f":"SUMIFS(cRPUI!$H$11:$H$109,cRPUI!$C$11:$C$109,B64)","v":0},{"$f":"iPUS!D149","v":0},0,0]
[{"$f":"iCONDOMINI!A65","v":55},{"$f":"cTABSS!B65","v":0},null,{"$f":"cTABSS!C65","v":0},{"$f":"SUMIFS(cRPUI!$D$11:$D$109,cRPUI!$B$11:$B$109,B65)","v":0},{"$f":"SUMIFS(cRPUI!$E$11:$E$109,cRPUI!$C$11:$C$109,B65)","v":0},{"$f":"SUMIFS(cRPUI!$F$11:$F$109,cRPUI!$C$11:$C$109,B65)","v":0},{"$f":"SUMIFS(cRPUI!$G$11:$G$109,cRPUI!$C$11:$C$109,B65)","v":0},{"$f":"SUMIFS(cRPUI!$H$11:$H$109,cRPUI!$C$11:$C$109,B65)","v":0},{"$f":"iPUS!D150","v":0},0,0]
[{"$f":"iCONDOMINI!A66","v":56},{"$f":"cTABSS!B66","v":0},null,{"$f":"cTABSS!C66","v":0},{"$f":"SUMIFS(cRPUI!$D$11:$D$109,cRPUI!$B$11:$B$109,B66)","v":0},{"$f":"SUMIFS(cRPUI!$E$11:$E$109,cRPUI!$C$11:$C$109,B66)","v":0},{"$f":"SUMIFS(cRPUI!$F$11:$F$109,cRPUI!$C$11:$C$109,B66)","v":0},{"$f":"SUMIFS(cRPUI!$G$11:$G$109,cRPUI!$C$11:$C$109,B66)","v":0},{"$f":"SUMIFS(cRPUI!$H$11:$H$109,cRPUI!$C$11:$C$109,B66)","v":0},{"$f":"iPUS!D151","v":0},0,0]
[{"$f":"iCONDOMINI!A67","v":57},{"$f":"cTABSS!B67","v":0},null,{"$f":"cTABSS!C67","v":0},{"$f":"SUMIFS(cRPUI!$D$11:$D$109,cRPUI!$B$11:$B$109,B67)","v":0},{"$f":"SUMIFS(cRPUI!$E$11:$E$109,cRPUI!$C$11:$C$109,B67)","v":0},{"$f":"SUMIFS(cRPUI!$F$11:$F$109,cRPUI!$C$11:$C$109,B67)","v":0},{"$f":"SUMIFS(cRPUI!$G$11:$G$109,cRPUI!$C$11:$C$109,B67)","v":0},{"$f":"SUMIFS(cRPUI!$H$11:$H$109,cRPUI!$C$11:$C$109,B67)","v":0},{"$f":"iPUS!D152","v":0},0,0]
[{"$f":"iCONDOMINI!A68","v":58},{"$f":"cTABSS!B68","v":0},null,{"$f":"cTABSS!C68","v":0},{"$f":"SUMIFS(cRPUI!$D$11:$D$109,cRPUI!$B$11:$B$109,B68)","v":0},{"$f":"SUMIFS(cRPUI!$E$11:$E$109,cRPUI!$C$11:$C$109,B68)","v":0},{"$f":"SUMIFS(cRPUI!$F$11:$F$109,cRPUI!$C$11:$C$109,B68)","v":0},{"$f":"SUMIFS(cRPUI!$G$11:$G$109,cRPUI!$C$11:$C$109,B68)","v":0},{"$f":"SUMIFS(cRPUI!$H$11:$H$109,cRPUI!$C$11:$C$109,B68)","v":0},{"$f":"iPUS!D153","v":0},0,0]
[{"$f":"iCONDOMINI!A69","v":59},{"$f":"cTABSS!B69","v":0},null,{"$f":"cTABSS!C69","v":0},{"$f":"SUMIFS(cRPUI!$D$11:$D$109,cRPUI!$B$11:$B$109,B69)","v":0},{"$f":"SUMIFS(cRPUI!$E$11:$E$109,cRPUI!$C$11:$C$109,B69)","v":0},{"$f":"SUMIFS(cRPUI!$F$11:$F$109,cRPUI!$C$11:$C$109,B69)","v":0},{"$f":"SUMIFS(cRPUI!$G$11:$G$109,cRPUI!$C$11:$C$109,B69)","v":0},{"$f":"SUMIFS(cRPUI!$H$11:$H$109,cRPUI!$C$11:$C$109,B69)","v":0},{"$f":"iPUS!D154","v":0},0,0]
[{"$f":"iCONDOMINI!A70","v":60},{"$f":"cTABSS!B70","v":0},null,{"$f":"cTABSS!C70","v":0},{"$f":"SUMIFS(cRPUI!$D$11:$D$109,cRPUI!$B$11:$B$109,B70)","v":0},{"$f":"SUMIFS(cRPUI!$E$11:$E$109,cRPUI!$C$11:$C$109,B70)","v":0},{"$f":"SUMIFS(cRPUI!$F$11:$F$109,cRPUI!$C$11:$C$109,B70)","v":0},{"$f":"SUMIFS(cRPUI!$G$11:$G$109,cRPUI!$C$11:$C$109,B70)","v":0},{"$f":"SUMIFS(cRPUI!$H$11:$H$109,cRPUI!$C$11:$C$109,B70)","v":0},{"$f":"iPUS!D155","v":0},0,0]
[{"$f":"iCONDOMINI!A71","v":61},{"$f":"cTABSS!B71","v":0},null,{"$f":"cTABSS!C71","v":0},{"$f":"SUMIFS(cRPUI!$D$11:$D$109,cRPUI!$B$11:$B$109,B71)","v":0},{"$f":"SUMIFS(cRPUI!$E$11:$E$109,cRPUI!$C$11:$C$109,B71)","v":0},{"$f":"SUMIFS(cRPUI!$F$11:$F$109,cRPUI!$C$11:$C$109,B71)","v":0},{"$f":"SUMIFS(cRPUI!$G$11:$G$109,cRPUI!$C$11:$C$109,B71)","v":0},{"$f":"SUMIFS(cRPUI!$H$11:$H$109,cRPUI!$C$11:$C$109,B71)","v":0},{"$f":"iPUS!D156","v":0},0,0]
[{"$f":"iCONDOMINI!A72","v":62},{"$f":"cTABSS!B72","v":0},null,{"$f":"cTABSS!C72","v":0},{"$f":"SUMIFS(cRPUI!$D$11:$D$109,cRPUI!$B$11:$B$109,B72)","v":0},{"$f":"SUMIFS(cRPUI!$E$11:$E$109,cRPUI!$C$11:$C$109,B72)","v":0},{"$f":"SUMIFS(cRPUI!$F$11:$F$109,cRPUI!$C$11:$C$109,B72)","v":0},{"$f":"SUMIFS(cRPUI!$G$11:$G$109,cRPUI!$C$11:$C$109,B72)","v":0},{"$f":"SUMIFS(cRPUI!$H$11:$H$109,cRPUI!$C$11:$C$109,B72)","v":0},{"$f":"iPUS!D157","v":0},0,0]
[{"$f":"iCONDOMINI!A73","v":63},{"$f":"cTABSS!B73","v":0},null,{"$f":"cTABSS!C73","v":0},{"$f":"SUMIFS(cRPUI!$D$11:$D$109,cRPUI!$B$11:$B$109,B73)","v":0},{"$f":"SUMIFS(cRPUI!$E$11:$E$109,cRPUI!$C$11:$C$109,B73)","v":0},{"$f":"SUMIFS(cRPUI!$F$11:$F$109,cRPUI!$C$11:$C$109,B73)","v":0},{"$f":"SUMIFS(cRPUI!$G$11:$G$109,cRPUI!$C$11:$C$109,B73)","v":0},{"$f":"SUMIFS(cRPUI!$H$11:$H$109,cRPUI!$C$11:$C$109,B73)","v":0},{"$f":"iPUS!D158","v":0},0,0]
[{"$f":"iCONDOMINI!A74","v":64},{"$f":"cTABSS!B74","v":0},null,{"$f":"cTABSS!C74","v":0},{"$f":"SUMIFS(cRPUI!$D$11:$D$109,cRPUI!$B$11:$B$109,B74)","v":0},{"$f":"SUMIFS(cRPUI!$E$11:$E$109,cRPUI!$C$11:$C$109,B74)","v":0},{"$f":"SUMIFS(cRPUI!$F$11:$F$109,cRPUI!$C$11:$C$109,B74)","v":0},{"$f":"SUMIFS(cRPUI!$G$11:$G$109,cRPUI!$C$11:$C$109,B74)","v":0},{"$f":"SUMIFS(cRPUI!$H$11:$H$109,cRPUI!$C$11:$C$109,B74)","v":0},{"$f":"iPUS!D159","v":0},0,0]
[{"$f":"iCONDOMINI!A75","v":65},{"$f":"cTABSS!B75","v":0},null,{"$f":"cTABSS!C75","v":0},{"$f":"SUMIFS(cRPUI!$D$11:$D$109,cRPUI!$B$11:$B$109,B75)","v":0},{"$f":"SUMIFS(cRPUI!$E$11:$E$109,cRPUI!$C$11:$C$109,B75)","v":0},{"$f":"SUMIFS(cRPUI!$F$11:$F$109,cRPUI!$C$11:$C$109,B75)","v":0},{"$f":"SUMIFS(cRPUI!$G$11:$G$109,cRPUI!$C$11:$C$109,B75)","v":0},{"$f":"SUMIFS(cRPUI!$H$11:$H$109,cRPUI!$C$11:$C$109,B75)","v":0},{"$f":"iPUS!D160","v":0},0,0]
[{"$f":"iCONDOMINI!A76","v":66},{"$f":"cTABSS!B76","v":0},null,{"$f":"cTABSS!C76","v":0},{"$f":"SUMIFS(cRPUI!$D$11:$D$109,cRPUI!$B$11:$B$109,B76)","v":0},{"$f":"SUMIFS(cRPUI!$E$11:$E$109,cRPUI!$C$11:$C$109,B76)","v":0},{"$f":"SUMIFS(cRPUI!$F$11:$F$109,cRPUI!$C$11:$C$109,B76)","v":0},{"$f":"SUMIFS(cRPUI!$G$11:$G$109,cRPUI!$C$11:$C$109,B76)","v":0},{"$f":"SUMIFS(cRPUI!$H$11:$H$109,cRPUI!$C$11:$C$109,B76)","v":0},{"$f":"iPUS!D161","v":0},{"$f":"SUM(E76:J76)","v":0},{"$f":"K76/4","v":0}]
[{"$f":"iCONDOMINI!A77","v":67},{"$f":"cTABSS!B77","v":0},null,{"$f":"cTABSS!C77","v":0},{"$f":"SUMIFS(cRPUI!$D$11:$D$109,cRPUI!$B$11:$B$109,B77)","v":0},{"$f":"SUMIFS(cRPUI!$E$11:$E$109,cRPUI!$C$11:$C$109,B77)","v":0},{"$f":"SUMIFS(cRPUI!$F$11:$F$109,cRPUI!$C$11:$C$109,B77)","v":0},{"$f":"SUMIFS(cRPUI!$G$11:$G$109,cRPUI!$C$11:$C$109,B77)","v":0},{"$f":"SUMIFS(cRPUI!$H$11:$H$109,cRPUI!$C$11:$C$109,B77)","v":0},{"$f":"iPUS!D162","v":0},0,0]
[{"$f":"iCONDOMINI!A78","v":68},{"$f":"cTABSS!B78","v":0},null,{"$f":"cTABSS!C78","v":0},{"$f":"SUMIFS(cRPUI!$D$11:$D$109,cRPUI!$B$11:$B$109,B78)","v":0},{"$f":"SUMIFS(cRPUI!$E$11:$E$109,cRPUI!$C$11:$C$109,B78)","v":0},{"$f":"SUMIFS(cRPUI!$F$11:$F$109,cRPUI!$C$11:$C$109,B78)","v":0},{"$f":"SUMIFS(cRPUI!$G$11:$G$109,cRPUI!$C$11:$C$109,B78)","v":0},{"$f":"SUMIFS(cRPUI!$H$11:$H$109,cRPUI!$C$11:$C$109,B78)","v":0},{"$f":"iPUS!D163","v":0},0,0]
[{"$f":"iCONDOMINI!A79","v":69},{"$f":"cTABSS!B79","v":0},null,{"$f":"cTABSS!C79","v":0},{"$f":"SUMIFS(cRPUI!$D$11:$D$109,cRPUI!$B$11:$B$109,B79)","v":0},{"$f":"SUMIFS(cRPUI!$E$11:$E$109,cRPUI!$C$11:$C$109,B79)","v":0},{"$f":"SUMIFS(cRPUI!$F$11:$F$109,cRPUI!$C$11:$C$109,B79)","v":0},{"$f":"SUMIFS(cRPUI!$G$11:$G$109,cRPUI!$C$11:$C$109,B79)","v":0},{"$f":"SUMIFS(cRPUI!$H$11:$H$109,cRPUI!$C$11:$C$109,B79)","v":0},{"$f":"iPUS!D164","v":0},0,0]
[{"$f":"iCONDOMINI!A80","v":70},{"$f":"cTABSS!B80","v":0},null,{"$f":"cTABSS!C80","v":0},{"$f":"SUMIFS(cRPUI!$D$11:$D$109,cRPUI!$B$11:$B$109,B80)","v":0},{"$f":"SUMIFS(cRPUI!$E$11:$E$109,cRPUI!$C$11:$C$109,B80)","v":0},{"$f":"SUMIFS(cRPUI!$F$11:$F$109,cRPUI!$C$11:$C$109,B80)","v":0},{"$f":"SUMIFS(cRPUI!$G$11:$G$109,cRPUI!$C$11:$C$109,B80)","v":0},{"$f":"SUMIFS(cRPUI!$H$11:$H$109,cRPUI!$C$11:$C$109,B80)","v":0},{"$f":"iPUS!D165","v":0},0,0]
[{"$f":"iCONDOMINI!A81","v":71},{"$f":"cTABSS!B81","v":0},null,{"$f":"cTABSS!C81","v":0},{"$f":"SUMIFS(cRPUI!$D$11:$D$109,cRPUI!$B$11:$B$109,B81)","v":0},{"$f":"SUMIFS(cRPUI!$E$11:$E$109,cRPUI!$C$11:$C$109,B81)","v":0},{"$f":"SUMIFS(cRPUI!$F$11:$F$109,cRPUI!$C$11:$C$109,B81)","v":0},{"$f":"SUMIFS(cRPUI!$G$11:$G$109,cRPUI!$C$11:$C$109,B81)","v":0},{"$f":"SUMIFS(cRPUI!$H$11:$H$109,cRPUI!$C$11:$C$109,B81)","v":0},{"$f":"iPUS!D166","v":0},0,0]
[{"$f":"iCONDOMINI!A82","v":72},{"$f":"cTABSS!B82","v":0},null,{"$f":"cTABSS!C82","v":0},{"$f":"SUMIFS(cRPUI!$D$11:$D$109,cRPUI!$B$11:$B$109,B82)","v":0},{"$f":"SUMIFS(cRPUI!$E$11:$E$109,cRPUI!$C$11:$C$109,B82)","v":0},{"$f":"SUMIFS(cRPUI!$F$11:$F$109,cRPUI!$C$11:$C$109,B82)","v":0},{"$f":"SUMIFS(cRPUI!$G$11:$G$109,cRPUI!$C$11:$C$109,B82)","v":0},{"$f":"SUMIFS(cRPUI!$H$11:$H$109,cRPUI!$C$11:$C$109,B82)","v":0},{"$f":"iPUS!D167","v":0},0,0]
[{"$f":"iCONDOMINI!A83","v":73},{"$f":"cTABSS!B83","v":0},null,{"$f":"cTABSS!C83","v":0},{"$f":"SUMIFS(cRPUI!$D$11:$D$109,cRPUI!$B$11:$B$109,B83)","v":0},{"$f":"SUMIFS(cRPUI!$E$11:$E$109,cRPUI!$C$11:$C$109,B83)","v":0},{"$f":"SUMIFS(cRPUI!$F$11:$F$109,cRPUI!$C$11:$C$109,B83)","v":0},{"$f":"SUMIFS(cRPUI!$G$11:$G$109,cRPUI!$C$11:$C$109,B83)","v":0},{"$f":"SUMIFS(cRPUI!$H$11:$H$109,cRPUI!$C$11:$C$109,B83)","v":0},{"$f":"iPUS!D168","v":0},0,0]
[{"$f":"iCONDOMINI!A84","v":74},{"$f":"cTABSS!B84","v":0},null,{"$f":"cTABSS!C84","v":0},{"$f":"SUMIFS(cRPUI!$D$11:$D$109,cRPUI!$B$11:$B$109,B84)","v":0},{"$f":"SUMIFS(cRPUI!$E$11:$E$109,cRPUI!$C$11:$C$109,B84)","v":0},{"$f":"SUMIFS(cRPUI!$F$11:$F$109,cRPUI!$C$11:$C$109,B84)","v":0},{"$f":"SUMIFS(cRPUI!$G$11:$G$109,cRPUI!$C$11:$C$109,B84)","v":0},{"$f":"SUMIFS(cRPUI!$H$11:$H$109,cRPUI!$C$11:$C$109,B84)","v":0},{"$f":"iPUS!D169","v":0},0,0]
[{"$f":"iCONDOMINI!A85","v":75},{"$f":"cTABSS!B85","v":0},null,{"$f":"cTABSS!C85","v":0},{"$f":"SUMIFS(cRPUI!$D$11:$D$109,cRPUI!$B$11:$B$109,B85)","v":0},{"$f":"SUMIFS(cRPUI!$E$11:$E$109,cRPUI!$C$11:$C$109,B85)","v":0},{"$f":"SUMIFS(cRPUI!$F$11:$F$109,cRPUI!$C$11:$C$109,B85)","v":0},{"$f":"SUMIFS(cRPUI!$G$11:$G$109,cRPUI!$C$11:$C$109,B85)","v":0},{"$f":"SUMIFS(cRPUI!$H$11:$H$109,cRPUI!$C$11:$C$109,B85)","v":0},{"$f":"iPUS!D170","v":0},0,0]
[{"$f":"iCONDOMINI!A86","v":76},{"$f":"cTABSS!B86","v":0},null,{"$f":"cTABSS!C86","v":0},{"$f":"SUMIFS(cRPUI!$D$11:$D$109,cRPUI!$B$11:$B$109,B86)","v":0},{"$f":"SUMIFS(cRPUI!$E$11:$E$109,cRPUI!$C$11:$C$109,B86)","v":0},{"$f":"SUMIFS(cRPUI!$F$11:$F$109,cRPUI!$C$11:$C$109,B86)","v":0},{"$f":"SUMIFS(cRPUI!$G$11:$G$109,cRPUI!$C$11:$C$109,B86)","v":0},{"$f":"SUMIFS(cRPUI!$H$11:$H$109,cRPUI!$C$11:$C$109,B86)","v":0},{"$f":"iPUS!D171","v":0},0,0]
[{"$f":"iCONDOMINI!A87","v":77},{"$f":"cTABSS!B87","v":0},null,{"$f":"cTABSS!C87","v":0},{"$f":"SUMIFS(cRPUI!$D$11:$D$109,cRPUI!$B$11:$B$109,B87)","v":0},{"$f":"SUMIFS(cRPUI!$E$11:$E$109,cRPUI!$C$11:$C$109,B87)","v":0},{"$f":"SUMIFS(cRPUI!$F$11:$F$109,cRPUI!$C$11:$C$109,B87)","v":0},{"$f":"SUMIFS(cRPUI!$G$11:$G$109,cRPUI!$C$11:$C$109,B87)","v":0},{"$f":"SUMIFS(cRPUI!$H$11:$H$109,cRPUI!$C$11:$C$109,B87)","v":0},{"$f":"iPUS!D172","v":0},0,0]
[{"$f":"iCONDOMINI!A88","v":78},{"$f":"cTABSS!B88","v":0},null,{"$f":"cTABSS!C88","v":0},{"$f":"SUMIFS(cRPUI!$D$11:$D$109,cRPUI!$B$11:$B$109,B88)","v":0},{"$f":"SUMIFS(cRPUI!$E$11:$E$109,cRPUI!$C$11:$C$109,B88)","v":0},{"$f":"SUMIFS(cRPUI!$F$11:$F$109,cRPUI!$C$11:$C$109,B88)","v":0},{"$f":"SUMIFS(cRPUI!$G$11:$G$109,cRPUI!$C$11:$C$109,B88)","v":0},{"$f":"SUMIFS(cRPUI!$H$11:$H$109,cRPUI!$C$11:$C$109,B88)","v":0},{"$f":"iPUS!D173","v":0},0,0]
[{"$f":"iCONDOMINI!A89","v":79},{"$f":"cTABSS!B89","v":0},null,{"$f":"cTABSS!C89","v":0},{"$f":"SUMIFS(cRPUI!$D$11:$D$109,cRPUI!$B$11:$B$109,B89)","v":0},{"$f":"SUMIFS(cRPUI!$E$11:$E$109,cRPUI!$C$11:$C$109,B89)","v":0},{"$f":"SUMIFS(cRPUI!$F$11:$F$109,cRPUI!$C$11:$C$109,B89)","v":0},{"$f":"SUMIFS(cRPUI!$G$11:$G$109,cRPUI!$C$11:$C$109,B89)","v":0},{"$f":"SUMIFS(cRPUI!$H$11:$H$109,cRPUI!$C$11:$C$109,B89)","v":0},{"$f":"iPUS!D174","v":0},0,0]
[{"$f":"iCONDOMINI!A90","v":80},{"$f":"cTABSS!B90","v":0},null,{"$f":"cTABSS!C90","v":0},{"$f":"SUMIFS(cRPUI!$D$11:$D$109,cRPUI!$B$11:$B$109,B90)","v":0},{"$f":"SUMIFS(cRPUI!$E$11:$E$109,cRPUI!$C$11:$C$109,B90)","v":0},{"$f":"SUMIFS(cRPUI!$F$11:$F$109,cRPUI!$C$11:$C$109,B90)","v":0},{"$f":"SUMIFS(cRPUI!$G$11:$G$109,cRPUI!$C$11:$C$109,B90)","v":0},{"$f":"SUMIFS(cRPUI!$H$11:$H$109,cRPUI!$C$11:$C$109,B90)","v":0},{"$f":"iPUS!D175","v":0},0,0]
[{"$f":"iCONDOMINI!A91","v":81},{"$f":"cTABSS!B91","v":0},null,{"$f":"cTABSS!C91","v":0},{"$f":"SUMIFS(cRPUI!$D$11:$D$109,cRPUI!$B$11:$B$109,B91)","v":0},{"$f":"SUMIFS(cRPUI!$E$11:$E$109,cRPUI!$C$11:$C$109,B91)","v":0},{"$f":"SUMIFS(cRPUI!$F$11:$F$109,cRPUI!$C$11:$C$109,B91)","v":0},{"$f":"SUMIFS(cRPUI!$G$11:$G$109,cRPUI!$C$11:$C$109,B91)","v":0},{"$f":"SUMIFS(cRPUI!$H$11:$H$109,cRPUI!$C$11:$C$109,B91)","v":0},{"$f":"iPUS!D176","v":0},0,0]
[{"$f":"iCONDOMINI!A92","v":82},{"$f":"cTABSS!B92","v":0},null,{"$f":"cTABSS!C92","v":0},{"$f":"SUMIFS(cRPUI!$D$11:$D$109,cRPUI!$B$11:$B$109,B92)","v":0},{"$f":"SUMIFS(cRPUI!$E$11:$E$109,cRPUI!$C$11:$C$109,B92)","v":0},{"$f":"SUMIFS(cRPUI!$F$11:$F$109,cRPUI!$C$11:$C$109,B92)","v":0},{"$f":"SUMIFS(cRPUI!$G$11:$G$109,cRPUI!$C$11:$C$109,B92)","v":0},{"$f":"SUMIFS(cRPUI!$H$11:$H$109,cRPUI!$C$11:$C$109,B92)","v":0},{"$f":"iPUS!D177","v":0},0,0]
[{"$f":"iCONDOMINI!A93","v":83},{"$f":"cTABSS!B93","v":0},null,{"$f":"cTABSS!C93","v":0},{"$f":"SUMIFS(cRPUI!$D$11:$D$109,cRPUI!$B$11:$B$109,B93)","v":0},{"$f":"SUMIFS(cRPUI!$E$11:$E$109,cRPUI!$C$11:$C$109,B93)","v":0},{"$f":"SUMIFS(cRPUI!$F$11:$F$109,cRPUI!$C$11:$C$109,B93)","v":0},{"$f":"SUMIFS(cRPUI!$G$11:$G$109,cRPUI!$C$11:$C$109,B93)","v":0},{"$f":"SUMIFS(cRPUI!$H$11:$H$109,cRPUI!$C$11:$C$109,B93)","v":0},{"$f":"iPUS!D178","v":0},0,0]
[{"$f":"iCONDOMINI!A94","v":84},{"$f":"cTABSS!B94","v":0},null,{"$f":"cTABSS!C94","v":0},{"$f":"SUMIFS(cRPUI!$D$11:$D$109,cRPUI!$B$11:$B$109,B94)","v":0},{"$f":"SUMIFS(cRPUI!$E$11:$E$109,cRPUI!$C$11:$C$109,B94)","v":0},{"$f":"SUMIFS(cRPUI!$F$11:$F$109,cRPUI!$C$11:$C$109,B94)","v":0},{"$f":"SUMIFS(cRPUI!$G$11:$G$109,cRPUI!$C$11:$C$109,B94)","v":0},{"$f":"SUMIFS(cRPUI!$H$11:$H$109,cRPUI!$C$11:$C$109,B94)","v":0},{"$f":"iPUS!D179","v":0},0,0]
[{"$f":"iCONDOMINI!A95","v":85},{"$f":"cTABSS!B95","v":0},null,{"$f":"cTABSS!C95","v":0},{"$f":"SUMIFS(cRPUI!$D$11:$D$109,cRPUI!$B$11:$B$109,B95)","v":0},{"$f":"SUMIFS(cRPUI!$E$11:$E$109,cRPUI!$C$11:$C$109,B95)","v":0},{"$f":"SUMIFS(cRPUI!$F$11:$F$109,cRPUI!$C$11:$C$109,B95)","v":0},{"$f":"SUMIFS(cRPUI!$G$11:$G$109,cRPUI!$C$11:$C$109,B95)","v":0},{"$f":"SUMIFS(cRPUI!$H$11:$H$109,cRPUI!$C$11:$C$109,B95)","v":0},{"$f":"iPUS!D180","v":0},0,0]
[{"$f":"iCONDOMINI!A96","v":86},{"$f":"cTABSS!B96","v":0},null,{"$f":"cTABSS!C96","v":0},{"$f":"SUMIFS(cRPUI!$D$11:$D$109,cRPUI!$B$11:$B$109,B96)","v":0},{"$f":"SUMIFS(cRPUI!$E$11:$E$109,cRPUI!$C$11:$C$109,B96)","v":0},{"$f":"SUMIFS(cRPUI!$F$11:$F$109,cRPUI!$C$11:$C$109,B96)","v":0},{"$f":"SUMIFS(cRPUI!$G$11:$G$109,cRPUI!$C$11:$C$109,B96)","v":0},{"$f":"SUMIFS(cRPUI!$H$11:$H$109,cRPUI!$C$11:$C$109,B96)","v":0},{"$f":"iPUS!D181","v":0},0,0]
[{"$f":"iCONDOMINI!A97","v":87},{"$f":"cTABSS!B97","v":0},null,{"$f":"cTABSS!C97","v":0},{"$f":"SUMIFS(cRPUI!$D$11:$D$109,cRPUI!$B$11:$B$109,B97)","v":0},{"$f":"SUMIFS(cRPUI!$E$11:$E$109,cRPUI!$C$11:$C$109,B97)","v":0},{"$f":"SUMIFS(cRPUI!$F$11:$F$109,cRPUI!$C$11:$C$109,B97)","v":0},{"$f":"SUMIFS(cRPUI!$G$11:$G$109,cRPUI!$C$11:$C$109,B97)","v":0},{"$f":"SUMIFS(cRPUI!$H$11:$H$109,cRPUI!$C$11:$C$109,B97)","v":0},{"$f":"iPUS!D182","v":0},0,0]
[{"$f":"iCONDOMINI!A98","v":88},{"$f":"cTABSS!B98","v":0},null,{"$f":"cTABSS!C98","v":0},{"$f":"SUMIFS(cRPUI!$D$11:$D$109,cRPUI!$B$11:$B$109,B98)","v":0},{"$f":"SUMIFS(cRPUI!$E$11:$E$109,cRPUI!$C$11:$C$109,B98)","v":0},{"$f":"SUMIFS(cRPUI!$F$11:$F$109,cRPUI!$C$11:$C$109,B98)","v":0},{"$f":"SUMIFS(cRPUI!$G$11:$G$109,cRPUI!$C$11:$C$109,B98)","v":0},{"$f":"SUMIFS(cRPUI!$H$11:$H$109,cRPUI!$C$11:$C$109,B98)","v":0},{"$f":"iPUS!D183","v":0},0,0]
[{"$f":"iCONDOMINI!A99","v":89},{"$f":"cTABSS!B99","v":0},null,{"$f":"cTABSS!C99","v":0},{"$f":"SUMIFS(cRPUI!$D$11:$D$109,cRPUI!$B$11:$B$109,B99)","v":0},{"$f":"SUMIFS(cRPUI!$E$11:$E$109,cRPUI!$C$11:$C$109,B99)","v":0},{"$f":"SUMIFS(cRPUI!$F$11:$F$109,cRPUI!$C$11:$C$109,B99)","v":0},{"$f":"SUMIFS(cRPUI!$G$11:$G$109,cRPUI!$C$11:$C$109,B99)","v":0},{"$f":"SUMIFS(cRPUI!$H$11:$H$109,cRPUI!$C$11:$C$109,B99)","v":0},{"$f":"iPUS!D184","v":0},0,0]
[{"$f":"iCONDOMINI!A100","v":90},{"$f":"cTABSS!B100","v":0},null,{"$f":"cTABSS!C100","v":0},{"$f":"SUMIFS(cRPUI!$D$11:$D$109,cRPUI!$B$11:$B$109,B100)","v":0},{"$f":"SUMIFS(cRPUI!$E$11:$E$109,cRPUI!$C$11:$C$109,B100)","v":0},{"$f":"SUMIFS(cRPUI!$F$11:$F$109,cRPUI!$C$11:$C$109,B100)","v":0},{"$f":"SUMIFS(cRPUI!$G$11:$G$109,cRPUI!$C$11:$C$109,B100)","v":0},{"$f":"SUMIFS(cRPUI!$H$11:$H$109,cRPUI!$C$11:$C$109,B100)","v":0},{"$f":"iPUS!D185","v":0},0,0]
[{"$f":"iCONDOMINI!A101","v":91},{"$f":"cTABSS!B101","v":0},null,{"$f":"cTABSS!C101","v":0},{"$f":"SUMIFS(cRPUI!$D$11:$D$109,cRPUI!$B$11:$B$109,B101)","v":0},{"$f":"SUMIFS(cRPUI!$E$11:$E$109,cRPUI!$C$11:$C$109,B101)","v":0},{"$f":"SUMIFS(cRPUI!$F$11:$F$109,cRPUI!$C$11:$C$109,B101)","v":0},{"$f":"SUMIFS(cRPUI!$G$11:$G$109,cRPUI!$C$11:$C$109,B101)","v":0},{"$f":"SUMIFS(cRPUI!$H$11:$H$109,cRPUI!$C$11:$C$109,B101)","v":0},{"$f":"iPUS!D186","v":0},0,0]
[{"$f":"iCONDOMINI!A102","v":92},{"$f":"cTABSS!B102","v":0},null,{"$f":"cTABSS!C102","v":0},{"$f":"SUMIFS(cRPUI!$D$11:$D$109,cRPUI!$B$11:$B$109,B102)","v":0},{"$f":"SUMIFS(cRPUI!$E$11:$E$109,cRPUI!$C$11:$C$109,B102)","v":0},{"$f":"SUMIFS(cRPUI!$F$11:$F$109,cRPUI!$C$11:$C$109,B102)","v":0},{"$f":"SUMIFS(cRPUI!$G$11:$G$109,cRPUI!$C$11:$C$109,B102)","v":0},{"$f":"SUMIFS(cRPUI!$H$11:$H$109,cRPUI!$C$11:$C$109,B102)","v":0},{"$f":"iPUS!D187","v":0},0,0]
[{"$f":"iCONDOMINI!A103","v":93},{"$f":"cTABSS!B103","v":0},null,{"$f":"cTABSS!C103","v":0},{"$f":"SUMIFS(cRPUI!$D$11:$D$109,cRPUI!$B$11:$B$109,B103)","v":0},{"$f":"SUMIFS(cRPUI!$E$11:$E$109,cRPUI!$C$11:$C$109,B103)","v":0},{"$f":"SUMIFS(cRPUI!$F$11:$F$109,cRPUI!$C$11:$C$109,B103)","v":0},{"$f":"SUMIFS(cRPUI!$G$11:$G$109,cRPUI!$C$11:$C$109,B103)","v":0},{"$f":"SUMIFS(cRPUI!$H$11:$H$109,cRPUI!$C$11:$C$109,B103)","v":0},{"$f":"iPUS!D188","v":0},0,0]
[{"$f":"iCONDOMINI!A104","v":94},{"$f":"cTABSS!B104","v":0},null,{"$f":"cTABSS!C104","v":0},{"$f":"SUMIFS(cRPUI!$D$11:$D$109,cRPUI!$B$11:$B$109,B104)","v":0},{"$f":"SUMIFS(cRPUI!$E$11:$E$109,cRPUI!$C$11:$C$109,B104)","v":0},{"$f":"SUMIFS(cRPUI!$F$11:$F$109,cRPUI!$C$11:$C$109,B104)","v":0},{"$f":"SUMIFS(cRPUI!$G$11:$G$109,cRPUI!$C$11:$C$109,B104)","v":0},{"$f":"SUMIFS(cRPUI!$H$11:$H$109,cRPUI!$C$11:$C$109,B104)","v":0},{"$f":"iPUS!D189","v":0},0,0]
[{"$f":"iCONDOMINI!A105","v":95},{"$f":"cTABSS!B105","v":0},null,{"$f":"cTABSS!C105","v":0},{"$f":"SUMIFS(cRPUI!$D$11:$D$109,cRPUI!$B$11:$B$109,B105)","v":0},{"$f":"SUMIFS(cRPUI!$E$11:$E$109,cRPUI!$C$11:$C$109,B105)","v":0},{"$f":"SUMIFS(cRPUI!$F$11:$F$109,cRPUI!$C$11:$C$109,B105)","v":0},{"$f":"SUMIFS(cRPUI!$G$11:$G$109,cRPUI!$C$11:$C$109,B105)","v":0},{"$f":"SUMIFS(cRPUI!$H$11:$H$109,cRPUI!$C$11:$C$109,B105)","v":0},{"$f":"iPUS!D190","v":0},0,0]
[{"$f":"iCONDOMINI!A106","v":96},{"$f":"cTABSS!B106","v":0},null,{"$f":"cTABSS!C106","v":0},{"$f":"SUMIFS(cRPUI!$D$11:$D$109,cRPUI!$B$11:$B$109,B106)","v":0},{"$f":"SUMIFS(cRPUI!$E$11:$E$109,cRPUI!$C$11:$C$109,B106)","v":0},{"$f":"SUMIFS(cRPUI!$F$11:$F$109,cRPUI!$C$11:$C$109,B106)","v":0},{"$f":"SUMIFS(cRPUI!$G$11:$G$109,cRPUI!$C$11:$C$109,B106)","v":0},{"$f":"SUMIFS(cRPUI!$H$11:$H$109,cRPUI!$C$11:$C$109,B106)","v":0},{"$f":"iPUS!D191","v":0},0,0]
[{"$f":"iCONDOMINI!A107","v":97},{"$f":"cTABSS!B107","v":0},null,{"$f":"cTABSS!C107","v":0},{"$f":"SUMIFS(cRPUI!$D$11:$D$109,cRPUI!$B$11:$B$109,B107)","v":0},{"$f":"SUMIFS(cRPUI!$E$11:$E$109,cRPUI!$C$11:$C$109,B107)","v":0},{"$f":"SUMIFS(cRPUI!$F$11:$F$109,cRPUI!$C$11:$C$109,B107)","v":0},{"$f":"SUMIFS(cRPUI!$G$11:$G$109,cRPUI!$C$11:$C$109,B107)","v":0},{"$f":"SUMIFS(cRPUI!$H$11:$H$109,cRPUI!$C$11:$C$109,B107)","v":0},{"$f":"iPUS!D192","v":0},0,0]
[{"$f":"iCONDOMINI!A108","v":98},{"$f":"cTABSS!B108","v":0},null,{"$f":"cTABSS!C108","v":0},{"$f":"SUMIFS(cRPUI!$D$11:$D$109,cRPUI!$B$11:$B$109,B108)","v":0},{"$f":"SUMIFS(cRPUI!$E$11:$E$109,cRPUI!$C$11:$C$109,B108)","v":0},{"$f":"SUMIFS(cRPUI!$F$11:$F$109,cRPUI!$C$11:$C$109,B108)","v":0},{"$f":"SUMIFS(cRPUI!$G$11:$G$109,cRPUI!$C$11:$C$109,B108)","v":0},{"$f":"SUMIFS(cRPUI!$H$11:$H$109,cRPUI!$C$11:$C$109,B108)","v":0},{"$f":"iPUS!D193","v":0},0,0]
[{"$f":"iCONDOMINI!A109","v":99},{"$f":"cTABSS!B109","v":0},null,{"$f":"cTABSS!C109","v":0},{"$f":"SUMIFS(cRPUI!$D$11:$D$109,cRPUI!$B$11:$B$109,B109)","v":0},{"$f":"SUMIFS(cRPUI!$E$11:$E$109,cRPUI!$C$11:$C$109,B109)","v":0},{"$f":"SUMIFS(cRPUI!$F$11:$F$109,cRPUI!$C$11:$C$109,B109)","v":0},{"$f":"SUMIFS(cRPUI!$G$11:$G$109,cRPUI!$C$11:$C$109,B109)","v":0},{"$f":"SUMIFS(cRPUI!$H$11:$H$109,cRPUI!$C$11:$C$109,B109)","v":0},{"$f":"iPUS!D194","v":0},0,0]
[null,null,null,"TOTALE SPESE",{"$f":"SUM(E11:E109)","v":350},1799.9999999999998,950.00000000000023,399.99999999999994,3450.0000000000005,0,6950,1737.5]
[null,null,null,"controllo sulle spese preventivate",{"$f":"SUM(E110:I110)","v":6950},null,null,null,null,{"$f":"J110","v":0},{"$f":"E111+J111","v":6950},{"$f":"SUM(L110:L110)","v":1737.5}]

{"sheet":"cRATE","index":27,"n_rows":111,"n_cols":14,"rows_kept":111,"cut":false,"hidden":true,"merged":[]}
[]
[]
[]
[]
[]
[]
["Condominio \"TERMICO\""]
["IMPORTI delle QUOTE dovute nell'esercizio 2021-2022 - Rateazione e relative scadenze dei pagamenti"]
[" ","CONDOMINO","ARRETRATI","CONGUAGLIO\nA DEBITO\nESERCIZIO\nPRECEDENTE","CONGUAGLIO\nA CREDITO\nESERCIZIO\nPRECEDENTE","QUOTA ESERCIZIO\nDA\nPREVENTIVO","TOTALE\nDOVUTO","RATA\nDA\nPREVENTIVO",{"$f":"\"ARRETRATI ESERCIZI ANTECEDENTI\" & CHAR(10) & \"il \" & C10","v":"ARRETRATI ESERCIZI ANTECEDENTI\nil "},{"$f":"\"CONGUAGLIO ESERCIZIO \" &  CHAR(10)  &  D10","v":"CONGUAGLIO ESERCIZIO \n2020-2021"},{"$f":"\"RATA 1\" & CHAR(10) &$F$10","v":"RATA 1\n2021-2022"},{"$f":"\"RATA 2\" & CHAR(10) &$F$10","v":"RATA 2\n2021-2022"},{"$f":"\"RATA 3\" & CHAR(10) &$F$10","v":"RATA 3\n2021-2022"},{"$f":"\"RATA 4\" & CHAR(10) &$F$10","v":"RATA 4\n2021-2022"}]
[null,"Esercizio/Scadenze",null,{"$f":"E10","v":"2020-2021"},{"$f":"IF(LEN('iP1'!A37)>4,LEFT('iP1'!A37,4) -1& \"-\" &LEFT('iP1'!A37,4),'iP1'!A37-1)","v":"2020-2021"},{"$f":"'iP1'!A37","v":"2021-2022"},{"$f":"'iP1'!A37","v":"2021-2022"},{"$f":"'iP1'!A37","v":"2021-2022"},{"$f":"'iP1'!A42","v":"2021-11-30"},{"$f":"'iP1'!A42","v":"2021-11-30"},{"$f":"'iP1'!A43","v":"2021-11-30"},{"$f":"'iP1'!A44","v":"2021-12-31"},{"$f":"'iP1'!A45","v":"2022-01-31"},{"$f":"'iP1'!A46","v":"2022-02-28"}]
[{"$f":"iCONDOMINI!A11","v":1},{"$f":"iPUS!A96","v":"Condomino01"},{"$f":"SUM(cSPI!C30:F30)","v":0},{"$f":"cSPI!G30","v":0},{"$f":"cSPI!M30","v":78.06},{"$f":"cRPSS!K11","v":330.44000000000005},{"$f":"C11+D11-E11+F11","v":252.38000000000005},{"$f":"CEILING(F11/4,0.01)","v":82.61},{"$f":"C11","v":0},{"$f":"D11","v":0},{"$f":"IF(G11<0,0,IF(H11<G11,H11,G11))","v":82.61},{"$f":"IF(K11-E11/3>0,ROUND(K11-E11/3,2),0)","v":56.59},{"$f":"IF(K11-E11/3>0,ROUND(K11-E11/3,2),0)","v":56.59},{"$f":"IF(F11-E11-K11-L11-M11>0,F11-E11-K11-L11-M11,0)","v":56.590000000000032}]
[{"$f":"iCONDOMINI!A12","v":2},{"$f":"iPUS!A97","v":"Condomino02"},{"$f":"SUM(cSPI!C31:F31)","v":0},{"$f":"cSPI!G31","v":0},{"$f":"cSPI!M31","v":8.0500000000000007},{"$f":"cRPSS!K12","v":12.95},{"$f":"C12+D12-E12+F12","v":4.8999999999999986},3.24,{"$f":"C12","v":0},0,{"$f":"IF(G12<0,0,IF(H12<G12,H12,G12))","v":3.24},{"$f":"IF(K12-E12/3>0,ROUND(K12-E12/3,2),0)","v":0.56000000000000005},{"$f":"IF(K12-E12/3>0,ROUND(K12-E12/3,2),0)","v":0.56000000000000005},0.53999999999999826]
[{"$f":"iCONDOMINI!A13","v":3},{"$f":"iPUS!A98","v":"Condomino03"},{"$f":"SUM(cSPI!C32:F32)","v":169.05},{"$f":"cSPI!G32","v":264.68},{"$f":"cSPI!M32","v":0},{"$f":"cRPSS!K13","v":281.05},714.78,70.27,169.05,264.68,70.27,70.27,70.27,70.240000000000052]
[{"$f":"iCONDOMINI!A14","v":4},{"$f":"iPUS!A99","v":"Condomino04 S.r.l."},{"$f":"SUM(cSPI!C33:F33)","v":129.27000000000001},{"$f":"cSPI!G33","v":154.47999999999999},{"$f":"cSPI!M33","v":0},{"$f":"cRPSS!K14","v":167.38000000000002},451.13,41.85,129.27000000000001,154.47999999999999,41.85,41.85,41.85,41.830000000000034]
[{"$f":"iCONDOMINI!A15","v":5},{"$f":"iPUS!A100","v":"Condomino05"},{"$f":"SUM(cSPI!C34:F34)","v":0},{"$f":"cSPI!G34","v":0},{"$f":"cSPI!M34","v":12.14},{"$f":"cRPSS!K15","v":293.84999999999997},281.70999999999998,73.47,0,0,73.47,69.42,69.42,69.399999999999991]
[{"$f":"iCONDOMINI!A16","v":6},{"$f":"iPUS!A101","v":"Condomino06"},{"$f":"SUM(cSPI!C35:F35)","v":275.60000000000002},{"$f":"cSPI!G35","v":273.66000000000003},{"$f":"cSPI!M35","v":0},{"$f":"cRPSS!K16","v":351.65999999999997},900.92,87.92,275.60000000000002,273.66000000000003,87.92,87.92,87.92,87.899999999999935]
[{"$f":"iCONDOMINI!A17","v":7},{"$f":"iPUS!A102","v":"Condomino07"},{"$f":"SUM(cSPI!C36:F36)","v":0},{"$f":"cSPI!G36","v":0},{"$f":"cSPI!M36","v":79.040000000000006},{"$f":"cRPSS!K17","v":341.49},262.45,85.38,0,0,85.38,59.03,59.03,59.009999999999991]
[{"$f":"iCONDOMINI!A18","v":8},{"$f":"iPUS!A103","v":"Eredi Condomino08"},{"$f":"SUM(cSPI!C37:F37)","v":0},{"$f":"cSPI!G37","v":0},{"$f":"cSPI!M37","v":18.8},{"$f":"cRPSS!K18","v":350.01},331.21,87.51,0,0,87.51,81.239999999999995,81.239999999999995,81.219999999999985]
[{"$f":"iCONDOMINI!A19","v":9},{"$f":"iPUS!A104","v":"Condomino09 S.r.l."},{"$f":"SUM(cSPI!C38:F38)","v":0},{"$f":"cSPI!G38","v":0},{"$f":"cSPI!M38","v":15.36},{"$f":"cRPSS!K19","v":172.46},157.10000000000002,43.12,0,0,43.12,38,38,37.980000000000018]
[{"$f":"iCONDOMINI!A20","v":10},{"$f":"iPUS!A105","v":"Condomino10"},{"$f":"SUM(cSPI!C39:F39)","v":5.3},{"$f":"cSPI!G39","v":13.3},{"$f":"cSPI!M39","v":0},{"$f":"cRPSS!K20","v":17.260000000000002},35.86,4.32,5.3,13.3,4.32,4.32,4.32,4.3000000000000007]
[{"$f":"iCONDOMINI!A21","v":11},{"$f":"iPUS!A106","v":"Condomino11"},{"$f":"SUM(cSPI!C40:F40)","v":0},{"$f":"cSPI!G40","v":0},{"$f":"cSPI!M40","v":97.88},{"$f":"cRPSS!K21","v":284.5},186.62,71.13,0,0,71.13,38.5,38.5,38.490000000000009]
[{"$f":"iCONDOMINI!A22","v":12},{"$f":"iPUS!A107","v":"Condomino12"},{"$f":"SUM(cSPI!C41:F41)","v":0},{"$f":"cSPI!G41","v":0},{"$f":"cSPI!M41","v":91.44},{"$f":"cRPSS!K22","v":356.25},264.81,89.070000000000007,0,0,89.070000000000007,58.59,58.59,58.56]
[{"$f":"iCONDOMINI!A23","v":13},{"$f":"iPUS!A108","v":"Condomino13"},{"$f":"SUM(cSPI!C42:F42)","v":0},{"$f":"cSPI!G42","v":0},{"$f":"cSPI!M42","v":19.89},{"$f":"cRPSS!K23","v":258.44},238.55,64.61,0,0,64.61,57.98,57.98,57.980000000000011]
[{"$f":"iCONDOMINI!A24","v":14},{"$f":"iPUS!A109","v":"Condomino14"},{"$f":"SUM(cSPI!C43:F43)","v":0},{"$f":"cSPI!G43","v":0},{"$f":"cSPI!M43","v":90.2},{"$f":"cRPSS!K24","v":303.08000000000004},212.88000000000005,75.77,0,0,75.77,45.7,45.7,45.710000000000065]
[{"$f":"iCONDOMINI!A25","v":15},{"$f":"iPUS!A110","v":"Condomino15"},{"$f":"SUM(cSPI!C44:F44)","v":207.54},{"$f":"cSPI!G44","v":208.93},{"$f":"cSPI!M44","v":0},{"$f":"cRPSS!K25","v":212.23999999999998},628.71,53.06,207.54,208.93,53.06,53.06,53.06,53.059999999999974]
[{"$f":"iCONDOMINI!A26","v":16},{"$f":"iPUS!A111","v":"Condomino16"},{"$f":"SUM(cSPI!C45:F45)","v":0},{"$f":"cSPI!G45","v":0},{"$f":"cSPI!M45","v":34.35},{"$f":"cRPSS!K26","v":368.92999999999995},334.57999999999993,92.24,0,0,92.24,80.790000000000006,80.790000000000006,80.759999999999891]
[{"$f":"iCONDOMINI!A27","v":17},{"$f":"iPUS!A112","v":"Condomino17"},{"$f":"SUM(cSPI!C46:F46)","v":0},{"$f":"cSPI!G46","v":130.56},{"$f":"cSPI!M46","v":0},{"$f":"cRPSS!K27","v":480.54},611.1,120.14,0,130.56,120.14,120.14,120.14,120.12000000000005]
[{"$f":"iCONDOMINI!A28","v":18},{"$f":"iPUS!A113","v":"Condomino18"},{"$f":"SUM(cSPI!C47:F47)","v":0},{"$f":"cSPI!G47","v":0},{"$f":"cSPI!M47","v":11.03},{"$f":"cRPSS!K28","v":22.42},11.390000000000002,5.61,0,0,5.61,1.93,1.93,1.9200000000000024]
[{"$f":"iCONDOMINI!A29","v":19},{"$f":"iPUS!A114","v":"Condomino19"},{"$f":"SUM(cSPI!C48:F48)","v":0},{"$f":"cSPI!G48","v":0},{"$f":"cSPI!M48","v":59.28},{"$f":"cRPSS!K29","v":359.61},300.33000000000004,89.91,0,0,89.91,70.150000000000006,70.150000000000006,70.120000000000033]
[{"$f":"iCONDOMINI!A30","v":20},{"$f":"iPUS!A115","v":"Condomino20"},{"$f":"SUM(cSPI!C49:F49)","v":0},{"$f":"cSPI!G49","v":0},{"$f":"cSPI!M49","v":7.45},{"$f":"cRPSS!K30","v":10.48},3.0300000000000002,2.62,0,0,2.62,0.14000000000000001,0.14000000000000001,0.13000000000000012]
[{"$f":"iCONDOMINI!A31","v":21},{"$f":"iPUS!A116","v":"Condomino21"},{"$f":"SUM(cSPI!C50:F50)","v":0},{"$f":"cSPI!G50","v":0},{"$f":"cSPI!M50","v":23.21},{"$f":"cRPSS!K31","v":287.81},264.60000000000002,71.960000000000008,0,0,71.960000000000008,64.22,64.22,64.200000000000017]
[{"$f":"iCONDOMINI!A32","v":22},{"$f":"iPUS!A117","v":"Condomino22"},{"$f":"SUM(cSPI!C51:F51)","v":0},{"$f":"cSPI!G51","v":0},{"$f":"cSPI!M51","v":97.37},{"$f":"cRPSS!K32","v":252.95999999999998},155.58999999999997,63.24,0,0,63.24,30.78,30.78,30.789999999999964]
[{"$f":"iCONDOMINI!A33","v":23},{"$f":"iPUS!A118","v":"Condomino23"},{"$f":"SUM(cSPI!C52:F52)","v":0},{"$f":"cSPI!G52","v":13.1},{"$f":"cSPI!M52","v":0},{"$f":"cRPSS!K33","v":180.29},193.39,45.08,0,13.1,45.08,45.08,45.08,45.049999999999983]
[{"$f":"iCONDOMINI!A34","v":24},{"$f":"iPUS!A119","v":"Inquilino1"},{"$f":"SUM(cSPI!C53:F53)","v":0},{"$f":"cSPI!G53","v":0},{"$f":"cSPI!M53","v":0},{"$f":"cRPSS!K34","v":118.62},118.62,29.66,0,0,29.66,29.66,29.66,29.640000000000011]
[{"$f":"iCONDOMINI!A35","v":25},{"$f":"iPUS!A120","v":"Inquilino2"},{"$f":"SUM(cSPI!C54:F54)","v":0},{"$f":"cSPI!G54","v":0},{"$f":"cSPI!M54","v":0},{"$f":"cRPSS!K35","v":402.63},402.63,100.66,0,0,100.66,100.66,100.66,100.65000000000003]
[{"$f":"iCONDOMINI!A36","v":26},{"$f":"iPUS!A121","v":"Inquilino3"},{"$f":"SUM(cSPI!C55:F55)","v":0},{"$f":"cSPI!G55","v":0},{"$f":"cSPI!M55","v":0},{"$f":"cRPSS!K36","v":311.26},311.26,77.820000000000007,0,0,77.820000000000007,77.819999999999993,77.819999999999993,77.800000000000011]
[{"$f":"iCONDOMINI!A37","v":27},{"$f":"iPUS!A122","v":"Inquilino4"},{"$f":"SUM(cSPI!C56:F56)","v":0},{"$f":"cSPI!G56","v":0},{"$f":"cSPI!M56","v":0},{"$f":"cRPSS!K37","v":397.31},397.31,99.33,0,0,99.33,99.33,99.33,99.320000000000036]
[{"$f":"iCONDOMINI!A38","v":28},{"$f":"iPUS!A123","v":"Inquilino5"},{"$f":"SUM(cSPI!C57:F57)","v":0},{"$f":"cSPI!G57","v":0},{"$f":"cSPI!M57","v":0},{"$f":"cRPSS!K38","v":24.08},24.08,6.0200000000000005,0,0,6.0200000000000005,6.02,6.02,6.02]
[{"$f":"iCONDOMINI!A39","v":29},{"$f":"iPUS!A124","v":0},{"$f":"SUM(cSPI!C58:F58)","v":0},{"$f":"cSPI!G58","v":0},{"$f":"cSPI!M58","v":0},{"$f":"cRPSS!K39","v":0},0,0,0,0,0,0,0,0]
[{"$f":"iCONDOMINI!A40","v":30},{"$f":"iPUS!A125","v":0},{"$f":"SUM(cSPI!C59:F59)","v":0},{"$f":"cSPI!G59","v":0},{"$f":"cSPI!M59","v":0},{"$f":"cRPSS!K40","v":0},0,0,0,0,0,0,0,0]
[{"$f":"iCONDOMINI!A41","v":31},{"$f":"iPUS!A126","v":0},{"$f":"SUM(cSPI!C60:F60)","v":0},{"$f":"cSPI!G60","v":0},{"$f":"cSPI!M60","v":0},{"$f":"cRPSS!K41","v":0},0,0,0,0,0,0,0,0]
[{"$f":"iCONDOMINI!A42","v":32},{"$f":"iPUS!A127","v":0},{"$f":"SUM(cSPI!C61:F61)","v":0},{"$f":"cSPI!G61","v":0},{"$f":"cSPI!M61","v":0},{"$f":"cRPSS!K42","v":0},0,0,0,0,0,0,0,0]
[{"$f":"iCONDOMINI!A43","v":33},{"$f":"iPUS!A128","v":0},{"$f":"SUM(cSPI!C62:F62)","v":0},{"$f":"cSPI!G62","v":0},{"$f":"cSPI!M62","v":0},{"$f":"cRPSS!K43","v":0},0,0,0,0,0,0,0,0]
[{"$f":"iCONDOMINI!A44","v":34},{"$f":"iPUS!A129","v":0},{"$f":"SUM(cSPI!C63:F63)","v":0},{"$f":"cSPI!G63","v":0},{"$f":"cSPI!M63","v":0},{"$f":"cRPSS!K44","v":0},0,0,0,0,0,0,0,0]
[{"$f":"iCONDOMINI!A45","v":35},{"$f":"iPUS!A130","v":0},{"$f":"SUM(cSPI!C64:F64)","v":0},{"$f":"cSPI!G64","v":0},{"$f":"cSPI!M64","v":0},{"$f":"cRPSS!K45","v":0},0,0,0,0,0,0,0,0]
[{"$f":"iCONDOMINI!A46","v":36},{"$f":"iPUS!A131","v":0},{"$f":"SUM(cSPI!C65:F65)","v":0},{"$f":"cSPI!G65","v":0},{"$f":"cSPI!M65","v":0},{"$f":"cRPSS!K46","v":0},0,0,0,0,0,0,0,0]
[{"$f":"iCONDOMINI!A47","v":37},{"$f":"iPUS!A132","v":0},{"$f":"SUM(cSPI!C66:F66)","v":0},{"$f":"cSPI!G66","v":0},{"$f":"cSPI!M66","v":0},{"$f":"cRPSS!K47","v":0},0,0,0,0,0,0,0,0]
[{"$f":"iCONDOMINI!A48","v":38},{"$f":"iPUS!A133","v":0},{"$f":"SUM(cSPI!C67:F67)","v":0},{"$f":"cSPI!G67","v":0},{"$f":"cSPI!M67","v":0},{"$f":"cRPSS!K48","v":0},0,0,0,0,0,0,0,0]
[{"$f":"iCONDOMINI!A49","v":39},{"$f":"iPUS!A134","v":0},{"$f":"SUM(cSPI!C68:F68)","v":0},{"$f":"cSPI!G68","v":0},{"$f":"cSPI!M68","v":0},{"$f":"cRPSS!K49","v":0},0,0,0,0,0,0,0,0]
[{"$f":"iCONDOMINI!A50","v":40},{"$f":"iPUS!A135","v":0},{"$f":"SUM(cSPI!C69:F69)","v":0},{"$f":"cSPI!G69","v":0},{"$f":"cSPI!M69","v":0},{"$f":"cRPSS!K50","v":0},0,0,0,0,0,0,0,0]
[{"$f":"iCONDOMINI!A51","v":41},{"$f":"iPUS!A136","v":0},{"$f":"SUM(cSPI!C70:F70)","v":0},{"$f":"cSPI!G70","v":0},{"$f":"cSPI!M70","v":0},{"$f":"cRPSS!K51","v":0},0,0,0,0,0,0,0,0]
[{"$f":"iCONDOMINI!A52","v":42},{"$f":"iPUS!A137","v":0},{"$f":"SUM(cSPI!C71:F71)","v":0},{"$f":"cSPI!G71","v":0},{"$f":"cSPI!M71","v":0},{"$f":"cRPSS!K52","v":0},0,0,0,0,0,0,0,0]
[{"$f":"iCONDOMINI!A53","v":43},{"$f":"iPUS!A138","v":0},{"$f":"SUM(cSPI!C72:F72)","v":0},{"$f":"cSPI!G72","v":0},{"$f":"cSPI!M72","v":0},{"$f":"cRPSS!K53","v":0},0,0,0,0,0,0,0,0]
[{"$f":"iCONDOMINI!A54","v":44},{"$f":"iPUS!A139","v":0},{"$f":"SUM(cSPI!C73:F73)","v":0},{"$f":"cSPI!G73","v":0},{"$f":"cSPI!M73","v":0},{"$f":"cRPSS!K54","v":0},0,0,0,0,0,0,0,0]
[{"$f":"iCONDOMINI!A55","v":45},{"$f":"iPUS!A140","v":0},{"$f":"SUM(cSPI!C74:F74)","v":0},{"$f":"cSPI!G74","v":0},{"$f":"cSPI!M74","v":0},{"$f":"cRPSS!K55","v":0},0,0,0,0,0,0,0,0]
[{"$f":"iCONDOMINI!A56","v":46},{"$f":"iPUS!A141","v":0},{"$f":"SUM(cSPI!C75:F75)","v":0},{"$f":"cSPI!G75","v":0},{"$f":"cSPI!M75","v":0},{"$f":"cRPSS!K56","v":0},0,0,0,0,0,0,0,0]
[{"$f":"iCONDOMINI!A57","v":47},{"$f":"iPUS!A142","v":0},{"$f":"SUM(cSPI!C76:F76)","v":0},{"$f":"cSPI!G76","v":0},{"$f":"cSPI!M76","v":0},{"$f":"cRPSS!K57","v":0},0,0,0,0,0,0,0,0]
[{"$f":"iCONDOMINI!A58","v":48},{"$f":"iPUS!A143","v":0},{"$f":"SUM(cSPI!C77:F77)","v":0},{"$f":"cSPI!G77","v":0},{"$f":"cSPI!M77","v":0},{"$f":"cRPSS!K58","v":0},0,0,0,0,0,0,0,0]
[{"$f":"iCONDOMINI!A59","v":49},{"$f":"iPUS!A144","v":0},{"$f":"SUM(cSPI!C78:F78)","v":0},{"$f":"cSPI!G78","v":0},{"$f":"cSPI!M78","v":0},{"$f":"cRPSS!K59","v":0},0,0,0,0,0,0,0,0]
[{"$f":"iCONDOMINI!A60","v":50},{"$f":"iPUS!A145","v":0},{"$f":"SUM(cSPI!C79:F79)","v":0},{"$f":"cSPI!G79","v":0},{"$f":"cSPI!M79","v":0},{"$f":"cRPSS!K60","v":0},0,0,0,0,0,0,0,0]
[{"$f":"iCONDOMINI!A61","v":51},{"$f":"iPUS!A146","v":0},{"$f":"SUM(cSPI!C80:F80)","v":0},{"$f":"cSPI!G80","v":0},{"$f":"cSPI!M80","v":0},{"$f":"cRPSS!K61","v":0},0,0,0,0,0,0,0,0]
[{"$f":"iCONDOMINI!A62","v":52},{"$f":"iPUS!A147","v":0},{"$f":"SUM(cSPI!C81:F81)","v":0},{"$f":"cSPI!G81","v":0},{"$f":"cSPI!M81","v":0},{"$f":"cRPSS!K62","v":0},0,0,0,0,0,0,0,0]
[{"$f":"iCONDOMINI!A63","v":53},{"$f":"iPUS!A148","v":0},{"$f":"SUM(cSPI!C82:F82)","v":0},{"$f":"cSPI!G82","v":0},{"$f":"cSPI!M82","v":0},{"$f":"cRPSS!K63","v":0},0,0,0,0,0,0,0,0]
[{"$f":"iCONDOMINI!A64","v":54},{"$f":"iPUS!A149","v":0},{"$f":"SUM(cSPI!C83:F83)","v":0},{"$f":"cSPI!G83","v":0},{"$f":"cSPI!M83","v":0},{"$f":"cRPSS!K64","v":0},0,0,0,0,0,0,0,0]
[{"$f":"iCONDOMINI!A65","v":55},{"$f":"iPUS!A150","v":0},{"$f":"SUM(cSPI!C84:F84)","v":0},{"$f":"cSPI!G84","v":0},{"$f":"cSPI!M84","v":0},{"$f":"cRPSS!K65","v":0},0,0,0,0,0,0,0,0]
[{"$f":"iCONDOMINI!A66","v":56},{"$f":"iPUS!A151","v":0},{"$f":"SUM(cSPI!C85:F85)","v":0},{"$f":"cSPI!G85","v":0},{"$f":"cSPI!M85","v":0},{"$f":"cRPSS!K66","v":0},0,0,0,0,0,0,0,0]
[{"$f":"iCONDOMINI!A67","v":57},{"$f":"iPUS!A152","v":0},{"$f":"SUM(cSPI!C86:F86)","v":0},{"$f":"cSPI!G86","v":0},{"$f":"cSPI!M86","v":0},{"$f":"cRPSS!K67","v":0},0,0,0,0,0,0,0,0]
[{"$f":"iCONDOMINI!A68","v":58},{"$f":"iPUS!A153","v":0},{"$f":"SUM(cSPI!C87:F87)","v":0},{"$f":"cSPI!G87","v":0},{"$f":"cSPI!M87","v":0},{"$f":"cRPSS!K68","v":0},0,0,0,0,0,0,0,0]
[{"$f":"iCONDOMINI!A69","v":59},{"$f":"iPUS!A154","v":0},{"$f":"SUM(cSPI!C88:F88)","v":0},{"$f":"cSPI!G88","v":0},{"$f":"cSPI!M88","v":0},{"$f":"cRPSS!K69","v":0},0,0,0,0,0,0,0,0]
[{"$f":"iCONDOMINI!A70","v":60},{"$f":"iPUS!A155","v":0},{"$f":"SUM(cSPI!C89:F89)","v":0},{"$f":"cSPI!G89","v":0},{"$f":"cSPI!M89","v":0},{"$f":"cRPSS!K70","v":0},0,0,0,0,0,0,0,0]
[{"$f":"iCONDOMINI!A71","v":61},{"$f":"iPUS!A156","v":0},{"$f":"SUM(cSPI!C90:F90)","v":0},{"$f":"cSPI!G90","v":0},{"$f":"cSPI!M90","v":0},{"$f":"cRPSS!K71","v":0},0,0,0,0,0,0,0,0]
[{"$f":"iCONDOMINI!A72","v":62},{"$f":"iPUS!A157","v":0},{"$f":"SUM(cSPI!C91:F91)","v":0},{"$f":"cSPI!G91","v":0},{"$f":"cSPI!M91","v":0},{"$f":"cRPSS!K72","v":0},0,0,0,0,0,0,0,0]
[{"$f":"iCONDOMINI!A73","v":63},{"$f":"iPUS!A158","v":0},{"$f":"SUM(cSPI!C92:F92)","v":0},{"$f":"cSPI!G92","v":0},{"$f":"cSPI!M92","v":0},{"$f":"cRPSS!K73","v":0},0,0,0,0,0,0,0,0]
[{"$f":"iCONDOMINI!A74","v":64},{"$f":"iPUS!A159","v":0},{"$f":"SUM(cSPI!C93:F93)","v":0},{"$f":"cSPI!G93","v":0},{"$f":"cSPI!M93","v":0},{"$f":"cRPSS!K74","v":0},0,0,0,0,0,0,0,0]
[{"$f":"iCONDOMINI!A75","v":65},{"$f":"iPUS!A160","v":0},{"$f":"SUM(cSPI!C94:F94)","v":0},{"$f":"cSPI!G94","v":0},{"$f":"cSPI!M94","v":0},{"$f":"cRPSS!K75","v":0},0,{"$f":"CEILING(F75/4,0.01)","v":0},0,0,0,0,0,{"$f":"IF(F75-E75-K75-L75-M75>0,F75-E75-K75-L75-M75,0)","v":0}]
[{"$f":"iCONDOMINI!A76","v":66},{"$f":"iPUS!A161","v":0},{"$f":"SUM(cSPI!C95:F95)","v":0},{"$f":"cSPI!G95","v":0},{"$f":"cSPI!M95","v":0},{"$f":"cRPSS!K76","v":0},{"$f":"C76+D76-E76+F76","v":0},0,{"$f":"C76","v":0},0,{"$f":"IF(G76<0,0,IF(H76<G76,H76,G76))","v":0},{"$f":"IF(K76-E76/3>0,ROUND(K76-E76/3,2),0)","v":0},{"$f":"IF(K76-E76/3>0,ROUND(K76-E76/3,2),0)","v":0},0]
[{"$f":"iCONDOMINI!A77","v":67},{"$f":"iPUS!A162","v":0},{"$f":"SUM(cSPI!C96:F96)","v":0},{"$f":"cSPI!G96","v":0},{"$f":"cSPI!M96","v":0},{"$f":"cRPSS!K77","v":0},0,0,0,0,0,0,0,0]
[{"$f":"iCONDOMINI!A78","v":68},{"$f":"iPUS!A163","v":0},{"$f":"SUM(cSPI!C97:F97)","v":0},{"$f":"cSPI!G97","v":0},{"$f":"cSPI!M97","v":0},{"$f":"cRPSS!K78","v":0},0,0,0,0,0,0,0,0]
[{"$f":"iCONDOMINI!A79","v":69},{"$f":"iPUS!A164","v":0},{"$f":"SUM(cSPI!C98:F98)","v":0},{"$f":"cSPI!G98","v":0},{"$f":"cSPI!M98","v":0},{"$f":"cRPSS!K79","v":0},0,0,0,0,0,0,0,0]
[{"$f":"iCONDOMINI!A80","v":70},{"$f":"iPUS!A165","v":0},{"$f":"SUM(cSPI!C99:F99)","v":0},{"$f":"cSPI!G99","v":0},{"$f":"cSPI!M99","v":0},{"$f":"cRPSS!K80","v":0},0,0,0,0,0,0,0,0]
[{"$f":"iCONDOMINI!A81","v":71},{"$f":"iPUS!A166","v":0},{"$f":"SUM(cSPI!C100:F100)","v":0},{"$f":"cSPI!G100","v":0},{"$f":"cSPI!M100","v":0},{"$f":"cRPSS!K81","v":0},0,0,0,0,0,0,0,0]
[{"$f":"iCONDOMINI!A82","v":72},{"$f":"iPUS!A167","v":0},{"$f":"SUM(cSPI!C101:F101)","v":0},{"$f":"cSPI!G101","v":0},{"$f":"cSPI!M101","v":0},{"$f":"cRPSS!K82","v":0},0,0,0,0,0,0,0,0]
[{"$f":"iCONDOMINI!A83","v":73},{"$f":"iPUS!A168","v":0},{"$f":"SUM(cSPI!C102:F102)","v":0},{"$f":"cSPI!G102","v":0},{"$f":"cSPI!M102","v":0},{"$f":"cRPSS!K83","v":0},0,0,0,0,0,0,0,0]
[{"$f":"iCONDOMINI!A84","v":74},{"$f":"iPUS!A169","v":0},{"$f":"SUM(cSPI!C103:F103)","v":0},{"$f":"cSPI!G103","v":0},{"$f":"cSPI!M103","v":0},{"$f":"cRPSS!K84","v":0},0,0,0,0,0,0,0,0]
[{"$f":"iCONDOMINI!A85","v":75},{"$f":"iPUS!A170","v":0},{"$f":"SUM(cSPI!C104:F104)","v":0},{"$f":"cSPI!G104","v":0},{"$f":"cSPI!M104","v":0},{"$f":"cRPSS!K85","v":0},0,0,0,0,0,0,0,0]
[{"$f":"iCONDOMINI!A86","v":76},{"$f":"iPUS!A171","v":0},{"$f":"SUM(cSPI!C105:F105)","v":0},{"$f":"cSPI!G105","v":0},{"$f":"cSPI!M105","v":0},{"$f":"cRPSS!K86","v":0},0,0,0,0,0,0,0,0]
[{"$f":"iCONDOMINI!A87","v":77},{"$f":"iPUS!A172","v":0},{"$f":"SUM(cSPI!C106:F106)","v":0},{"$f":"cSPI!G106","v":0},{"$f":"cSPI!M106","v":0},{"$f":"cRPSS!K87","v":0},0,0,0,0,0,0,0,0]
[{"$f":"iCONDOMINI!A88","v":78},{"$f":"iPUS!A173","v":0},{"$f":"SUM(cSPI!C107:F107)","v":0},{"$f":"cSPI!G107","v":0},{"$f":"cSPI!M107","v":0},{"$f":"cRPSS!K88","v":0},0,0,0,0,0,0,0,0]
[{"$f":"iCONDOMINI!A89","v":79},{"$f":"iPUS!A174","v":0},{"$f":"SUM(cSPI!C108:F108)","v":0},{"$f":"cSPI!G108","v":0},{"$f":"cSPI!M108","v":0},{"$f":"cRPSS!K89","v":0},0,0,0,0,0,0,0,0]
[{"$f":"iCONDOMINI!A90","v":80},{"$f":"iPUS!A175","v":0},{"$f":"SUM(cSPI!C109:F109)","v":0},{"$f":"cSPI!G109","v":0},{"$f":"cSPI!M109","v":0},{"$f":"cRPSS!K90","v":0},0,0,0,0,0,0,0,0]
[{"$f":"iCONDOMINI!A91","v":81},{"$f":"iPUS!A176","v":0},{"$f":"SUM(cSPI!C110:F110)","v":0},{"$f":"cSPI!G110","v":0},{"$f":"cSPI!M110","v":0},{"$f":"cRPSS!K91","v":0},0,0,0,0,0,0,0,0]
[{"$f":"iCONDOMINI!A92","v":82},{"$f":"iPUS!A177","v":0},{"$f":"SUM(cSPI!C111:F111)","v":0},{"$f":"cSPI!G111","v":0},{"$f":"cSPI!M111","v":0},{"$f":"cRPSS!K92","v":0},0,0,0,0,0,0,0,0]
[{"$f":"iCONDOMINI!A93","v":83},{"$f":"iPUS!A178","v":0},{"$f":"SUM(cSPI!C112:F112)","v":0},{"$f":"cSPI!G112","v":0},{"$f":"cSPI!M112","v":0},{"$f":"cRPSS!K93","v":0},0,0,0,0,0,0,0,0]
[{"$f":"iCONDOMINI!A94","v":84},{"$f":"iPUS!A179","v":0},{"$f":"SUM(cSPI!C113:F113)","v":0},{"$f":"cSPI!G113","v":0},{"$f":"cSPI!M113","v":0},{"$f":"cRPSS!K94","v":0},0,0,0,0,0,0,0,0]
[{"$f":"iCONDOMINI!A95","v":85},{"$f":"iPUS!A180","v":0},{"$f":"SUM(cSPI!C114:F114)","v":0},{"$f":"cSPI!G114","v":0},{"$f":"cSPI!M114","v":0},{"$f":"cRPSS!K95","v":0},0,0,0,0,0,0,0,0]
[{"$f":"iCONDOMINI!A96","v":86},{"$f":"iPUS!A181","v":0},{"$f":"SUM(cSPI!C115:F115)","v":0},{"$f":"cSPI!G115","v":0},{"$f":"cSPI!M115","v":0},{"$f":"cRPSS!K96","v":0},0,0,0,0,0,0,0,0]
[{"$f":"iCONDOMINI!A97","v":87},{"$f":"iPUS!A182","v":0},{"$f":"SUM(cSPI!C116:F116)","v":0},{"$f":"cSPI!G116","v":0},{"$f":"cSPI!M116","v":0},{"$f":"cRPSS!K97","v":0},0,0,0,0,0,0,0,0]
[{"$f":"iCONDOMINI!A98","v":88},{"$f":"iPUS!A183","v":0},{"$f":"SUM(cSPI!C117:F117)","v":0},{"$f":"cSPI!G117","v":0},{"$f":"cSPI!M117","v":0},{"$f":"cRPSS!K98","v":0},0,0,0,0,0,0,0,0]
[{"$f":"iCONDOMINI!A99","v":89},{"$f":"iPUS!A184","v":0},{"$f":"SUM(cSPI!C118:F118)","v":0},{"$f":"cSPI!G118","v":0},{"$f":"cSPI!M118","v":0},{"$f":"cRPSS!K99","v":0},0,0,0,0,0,0,0,0]
[{"$f":"iCONDOMINI!A100","v":90},{"$f":"iPUS!A185","v":0},{"$f":"SUM(cSPI!C119:F119)","v":0},{"$f":"cSPI!G119","v":0},{"$f":"cSPI!M119","v":0},{"$f":"cRPSS!K100","v":0},0,0,0,0,0,0,0,0]
[{"$f":"iCONDOMINI!A101","v":91},{"$f":"iPUS!A186","v":0},{"$f":"SUM(cSPI!C120:F120)","v":0},{"$f":"cSPI!G120","v":0},{"$f":"cSPI!M120","v":0},{"$f":"cRPSS!K101","v":0},0,0,0,0,0,0,0,0]
[{"$f":"iCONDOMINI!A102","v":92},{"$f":"iPUS!A187","v":0},{"$f":"SUM(cSPI!C121:F121)","v":0},{"$f":"cSPI!G121","v":0},{"$f":"cSPI!M121","v":0},{"$f":"cRPSS!K102","v":0},0,0,0,0,0,0,0,0]
[{"$f":"iCONDOMINI!A103","v":93},{"$f":"iPUS!A188","v":0},{"$f":"SUM(cSPI!C122:F122)","v":0},{"$f":"cSPI!G122","v":0},{"$f":"cSPI!M122","v":0},{"$f":"cRPSS!K103","v":0},0,0,0,0,0,0,0,0]
[{"$f":"iCONDOMINI!A104","v":94},{"$f":"iPUS!A189","v":0},{"$f":"SUM(cSPI!C123:F123)","v":0},{"$f":"cSPI!G123","v":0},{"$f":"cSPI!M123","v":0},{"$f":"cRPSS!K104","v":0},0,0,0,0,0,0,0,0]
[{"$f":"iCONDOMINI!A105","v":95},{"$f":"iPUS!A190","v":0},{"$f":"SUM(cSPI!C124:F124)","v":0},{"$f":"cSPI!G124","v":0},{"$f":"cSPI!M124","v":0},{"$f":"cRPSS!K105","v":0},0,0,0,0,0,0,0,0]
[{"$f":"iCONDOMINI!A106","v":96},{"$f":"iPUS!A191","v":0},{"$f":"SUM(cSPI!C125:F125)","v":0},{"$f":"cSPI!G125","v":0},{"$f":"cSPI!M125","v":0},{"$f":"cRPSS!K106","v":0},0,0,0,0,0,0,0,0]
[{"$f":"iCONDOMINI!A107","v":97},{"$f":"iPUS!A192","v":0},{"$f":"SUM(cSPI!C126:F126)","v":0},{"$f":"cSPI!G126","v":0},{"$f":"cSPI!M126","v":0},{"$f":"cRPSS!K107","v":0},0,0,0,0,0,0,0,{"$f":"IF(F107-E107-K107-L107-M107>0,F107-E107-K107-L107-M107,0)","v":0}]
[{"$f":"iCONDOMINI!A108","v":98},{"$f":"iPUS!A193","v":0},{"$f":"SUM(cSPI!C127:F127)","v":0},{"$f":"cSPI!G127","v":0},{"$f":"cSPI!M127","v":0},{"$f":"cRPSS!K108","v":0},0,0,0,0,0,0,0,{"$f":"IF(F108-E108-K108-L108-M108>0,F108-E108-K108-L108-M108,0)","v":0}]
[{"$f":"iCONDOMINI!A109","v":99},{"$f":"iPUS!A194","v":0},{"$f":"SUM(cSPI!C128:F128)","v":0},{"$f":"cSPI!G128","v":0},{"$f":"cSPI!M128","v":0},{"$f":"cRPSS!K109","v":0},0,0,0,0,0,0,0,{"$f":"IF(F109-E109-K109-L109-M109>0,F109-E109-K109-L109-M109,0)","v":0}]
[null,"TOTALI",{"$f":"SUM(C11:C109)","v":786.76},{"$f":"SUM(D11:D109)","v":1058.7099999999998},{"$f":"SUM(E11:E109)","v":743.55000000000007},6950,8051.9200000000019,1737.6200000000001,786.76,{"$f":"SUM(J11:J109)","v":1058.7099999999998},1737.6200000000001,1489.7500000000002,1489.7500000000002,1489.33]
["Le quote annuali dovute dai condòmini per l'esercizio, in base al Bilancio Preventivo, sono pagabili in quattro rate trimestrali anticipate, con le scadenze riportate nel prospetto soprastante.\nL'importo della rata 1 è quello trimestrale di preventivo e non viene scontato alcun eventuale conguaglio a credito per l'esercizio precedente.\nL'importo delle tre successive rate è pari ad 1/3 dell'importo della quota restante, diminuito di 1/3 dell'eventuale importo del conguaglio, a credito del condomino, per l'esercizio precedente."]

{"sheet":"cUSCITE","index":28,"n_rows":208,"n_cols":4,"rows_kept":208,"cut":false,"hidden":true,"merged":[[8,2,9,2],[8,0,9,0],[8,1,9,1],[8,3,9,3]]}
[]
[]
[]
[]
[]
[]
["Condominio \"TERMICO\""]
["RIEPILOGO delle USCITE alla data dell'ultima registrazione (2-4-2022)"]
["VOCI DI SPESA","CODICE\nCONTO","TABELLA\nRIPARTO","IMPORTI"]
[]
[{"$f":"iPCU!A11","v":"SPESE GENERALI"},null,{"$f":"iPCU!C11","v":0},{"$f":"SUM(D12:D26)","v":80}]
[{"$f":"iPCU!A12","v":"POSTALI, TELEGRAFICHE, TELEFONICHE E WEB "},{"$f":"iPCU!B12","v":"S.01.01"},{"$f":"iPCU!C12","v":"B"}]
[{"$f":"iPCU!A13","v":"DIRITTI BOLLI TASSE "},{"$f":"iPCU!B13","v":"S.01.02"},{"$f":"iPCU!C13","v":"B"}]
[{"$f":"iPCU!A14","v":"COMPENSI AMMINISTRATORE"},{"$f":"iPCU!B14","v":"S.01.03"},{"$f":"iPCU!C14","v":"B"}]
[{"$f":"iPCU!A15","v":"COMPENSI A TERZI (consulenti, ...)"},{"$f":"iPCU!B15","v":"S.01.04"},{"$f":"iPCU!C15","v":"B"},80]
[{"$f":"iPCU!A16","v":"SPESE LEGALI, CONTRATTUALI e RECUPERO CREDITI"},{"$f":"iPCU!B16","v":"S.01.05"},{"$f":"iPCU!C16","v":"A"}]
[{"$f":"iPCU!A17","v":"ALTRE SPESE GENERALI CONDOMINI"},{"$f":"iPCU!B17","v":"S.01.06"},{"$f":"iPCU!C17","v":"A"}]
[{"$f":"iPCU!A18","v":"ALTRE SPESE GENERALI UTILIZZATORI"},{"$f":"iPCU!B18","v":"S.01.07"},{"$f":"iPCU!C18","v":"B"}]
[{"$f":"iPCU!A19","v":0},{"$f":"iPCU!B19","v":"S.01.08"},{"$f":"iPCU!C19","v":0}]
[{"$f":"iPCU!A20","v":0},{"$f":"iPCU!B20","v":"S.01.09"},{"$f":"iPCU!C20","v":0}]
[{"$f":"iPCU!A21","v":0},{"$f":"iPCU!B21","v":"S.01.10"},{"$f":"iPCU!C21","v":0}]
[{"$f":"iPCU!A22","v":0},{"$f":"iPCU!B22","v":"S.01.11"},{"$f":"iPCU!C22","v":0}]
[{"$f":"iPCU!A23","v":0},{"$f":"iPCU!B23","v":"S.01.12"},{"$f":"iPCU!C23","v":0}]
[{"$f":"iPCU!A24","v":0},{"$f":"iPCU!B24","v":"S.01.13"},{"$f":"iPCU!C24","v":0}]
[{"$f":"iPCU!A25","v":0},{"$f":"iPCU!B25","v":"S.01.14"},{"$f":"iPCU!C25","v":0}]
[{"$f":"iPCU!A26","v":0},{"$f":"iPCU!B26","v":"S.01.15"},{"$f":"iPCU!C26","v":0}]
[{"$f":"iPCU!A27","v":"PULIZIE"},null,{"$f":"iPCU!C27","v":0},{"$f":"SUM(D28:D37)","v":110}]
[{"$f":"iPCU!A28","v":"PULIZIA LOCALI CALDAIA"},{"$f":"iPCU!B28","v":"S.02.01"},{"$f":"iPCU!C28","v":"B"},110]
[{"$f":"iPCU!A29","v":0},{"$f":"iPCU!B29","v":"S.02.02"},{"$f":"iPCU!C29","v":0}]
[{"$f":"iPCU!A30","v":0},{"$f":"iPCU!B30","v":"S.02.03"},{"$f":"iPCU!C30","v":0}]
[{"$f":"iPCU!A31","v":0},{"$f":"iPCU!B31","v":"S.02.04"},{"$f":"iPCU!C31","v":0}]
[{"$f":"iPCU!A32","v":0},{"$f":"iPCU!B32","v":"S.02.05"},{"$f":"iPCU!C32","v":0}]
[{"$f":"iPCU!A33","v":0},{"$f":"iPCU!B33","v":"S.02.06"},{"$f":"iPCU!C33","v":0}]
[{"$f":"iPCU!A34","v":0},{"$f":"iPCU!B34","v":"S.02.07"},{"$f":"iPCU!C34","v":0}]
[{"$f":"iPCU!A35","v":0},{"$f":"iPCU!B35","v":"S.02.08"},{"$f":"iPCU!C35","v":0}]
[{"$f":"iPCU!A36","v":0},{"$f":"iPCU!B36","v":"S.02.09"},{"$f":"iPCU!C36","v":0}]
[{"$f":"iPCU!A37","v":0},{"$f":"iPCU!B37","v":"S.02.10"},{"$f":"iPCU!C37","v":0}]
[{"$f":"iPCU!A38","v":"MANUTENZIONE ORDINARIA"},null,{"$f":"iPCU!C38","v":0},{"$f":"SUM(D39:D48)","v":0}]
[{"$f":"iPCU!A39","v":"CANONE MANTENZIONE CALDAIA ED IMPIANTO"},{"$f":"iPCU!B39","v":"S.03.01"},{"$f":"iPCU!C39","v":"B"}]
[{"$f":"iPCU!A40","v":"SPESE VARIE DI MANUTENZIONE ORDINARIA"},{"$f":"iPCU!B40","v":"S.03.02"},{"$f":"iPCU!C40","v":"B"}]
[{"$f":"iPCU!A41","v":0},{"$f":"iPCU!B41","v":"S.03.03"},{"$f":"iPCU!C41","v":0}]
[{"$f":"iPCU!A42","v":0},{"$f":"iPCU!B42","v":"S.03.04"},{"$f":"iPCU!C42","v":0}]
[{"$f":"iPCU!A43","v":0},{"$f":"iPCU!B43","v":"S.03.05"},{"$f":"iPCU!C43","v":0}]
[{"$f":"iPCU!A44","v":0},{"$f":"iPCU!B44","v":"S.03.06"},{"$f":"iPCU!C44","v":0}]
[{"$f":"iPCU!A45","v":0},{"$f":"iPCU!B45","v":"S.03.07"},{"$f":"iPCU!C45","v":0}]
[{"$f":"iPCU!A46","v":0},{"$f":"iPCU!B46","v":"S.03.08"},{"$f":"iPCU!C46","v":0}]
[{"$f":"iPCU!A47","v":0},{"$f":"iPCU!B47","v":"S.03.09"},{"$f":"iPCU!C47","v":0}]
[{"$f":"iPCU!A48","v":0},{"$f":"iPCU!B48","v":"S.03.10"},{"$f":"iPCU!C48","v":0}]
[{"$f":"iPCU!A49","v":"CONSUMI DI ENERGIA"},null,{"$f":"iPCU!C49","v":0},{"$f":"SUM(D50:D59)","v":400}]
[{"$f":"iPCU!A50","v":"CONSUMO GAS (Quota rapportata alla potenza termica)"},{"$f":"iPCU!B50","v":"S.04.01"},{"$f":"iPCU!C50","v":"C"},85]
[{"$f":"iPCU!A51","v":"CONSUMO ENERGIA ELETTRICA (Quota rapportata alla potenza termica)"},{"$f":"iPCU!B51","v":"S.04.02"},{"$f":"iPCU!C51","v":"C"}]
[{"$f":"iPCU!A52","v":"CONSUMO GAS (Quota rapportata al consumo)"},{"$f":"iPCU!B52","v":"S.04.03"},{"$f":"iPCU!C52","v":"E"},315]
[{"$f":"iPCU!A53","v":"CONSUMO ENERGIA ELETTRICA (Quota rapportata al consumo)"},{"$f":"iPCU!B53","v":"S.04.04"},{"$f":"iPCU!C53","v":"E"}]
[{"$f":"iPCU!A54","v":0},{"$f":"iPCU!B54","v":"S.04.05"},{"$f":"iPCU!C54","v":0}]
[{"$f":"iPCU!A55","v":0},{"$f":"iPCU!B55","v":"S.04.06"},{"$f":"iPCU!C55","v":0}]
[{"$f":"iPCU!A56","v":0},{"$f":"iPCU!B56","v":"S.04.07"},{"$f":"iPCU!C56","v":0}]
[{"$f":"iPCU!A57","v":0},{"$f":"iPCU!B57","v":"S.04.08"},{"$f":"iPCU!C57","v":0}]
[{"$f":"iPCU!A58","v":0},{"$f":"iPCU!B58","v":"S.04.09"},{"$f":"iPCU!C58","v":0}]
[{"$f":"iPCU!A59","v":0},{"$f":"iPCU!B59","v":"S.04.10"},{"$f":"iPCU!C59","v":0}]
[{"$f":"iPCU!A60","v":"MANUTENZIONE STRAORDINARIA"},null,{"$f":"iPCU!C60","v":0},{"$f":"SUM(D61:D70)","v":0}]
[{"$f":"iPCU!A61","v":"MANUTENZIONE STRAORDINARIA CALDAIA"},{"$f":"iPCU!B61","v":"S.05.01"},{"$f":"iPCU!C61","v":"A"}]
[{"$f":"iPCU!A62","v":"MANUTENZIONE STRAORDINARIA IMPIANTO"},{"$f":"iPCU!B62","v":"S.05.02"},{"$f":"iPCU!C62","v":"A"}]
[{"$f":"iPCU!A63","v":0},{"$f":"iPCU!B63","v":"S.05.03"},{"$f":"iPCU!C63","v":0}]
[{"$f":"iPCU!A64","v":0},{"$f":"iPCU!B64","v":"S.05.04"},{"$f":"iPCU!C64","v":0}]
[{"$f":"iPCU!A65","v":0},{"$f":"iPCU!B65","v":"S.05.05"},{"$f":"iPCU!C65","v":0}]
[{"$f":"iPCU!A66","v":0},{"$f":"iPCU!B66","v":"S.05.06"},{"$f":"iPCU!C66","v":0}]
[{"$f":"iPCU!A67","v":0},{"$f":"iPCU!B67","v":"S.05.07"},{"$f":"iPCU!C67","v":0}]
[{"$f":"iPCU!A68","v":0},{"$f":"iPCU!B68","v":"S.05.08"},{"$f":"iPCU!C68","v":0}]
[{"$f":"iPCU!A69","v":0},{"$f":"iPCU!B69","v":"S.05.09"},{"$f":"iPCU!C69","v":0}]
[{"$f":"iPCU!A70","v":0},{"$f":"iPCU!B70","v":"S.05.10"},{"$f":"iPCU!C70","v":0}]
[{"$f":"iPCU!A71","v":"SPESE VARIE A CARICO DEI CONDOMINI"},null,{"$f":"iPCU!C71","v":0},{"$f":"SUM(D72:D76)","v":0}]
[{"$f":"iPCU!A72","v":"VARIE IMPREVISTE ED ALTRE SPESE DOCUMENTATE CONDOMINI"},{"$f":"iPCU!B72","v":"S.06.01"},{"$f":"iPCU!C72","v":"A"}]
[{"$f":"iPCU!A73","v":0},{"$f":"iPCU!B73","v":"S.06.02"},{"$f":"iPCU!C73","v":0}]
[{"$f":"iPCU!A74","v":0},{"$f":"iPCU!B74","v":"S.06.03"},{"$f":"iPCU!C74","v":0}]
[{"$f":"iPCU!A75","v":0},{"$f":"iPCU!B75","v":"S.06.04"},{"$f":"iPCU!C75","v":0}]
[{"$f":"iPCU!A76","v":0},{"$f":"iPCU!B76","v":"S.06.05"},{"$f":"iPCU!C76","v":0}]
[{"$f":"iPCU!A77","v":"SPESE VARIE A CARICO DEGLI UTILIZZATORI"},null,{"$f":"iPCU!C77","v":0},{"$f":"SUM(D78:D82)","v":0}]
[{"$f":"iPCU!A78","v":"VARIE IMPREVISTE ED ALTRE SPESE DOCUMENTATE UTILIZZATORI"},{"$f":"iPCU!B78","v":"S.07.01"},{"$f":"iPCU!C78","v":"B"}]
[{"$f":"iPCU!A79","v":"SPESE PER RIPARTIZIONE COSTI LETTURE CONSUMI CONTATORI RISCALDAMENTO"},{"$f":"iPCU!B79","v":"S.07.02"},{"$f":"iPCU!C79","v":"D"}]
[{"$f":"iPCU!A80","v":0},{"$f":"iPCU!B80","v":"S.07.03"},{"$f":"iPCU!C80","v":0}]
[{"$f":"iPCU!A81","v":0},{"$f":"iPCU!B81","v":"S.07.04"},{"$f":"iPCU!C81","v":0}]
[{"$f":"iPCU!A82","v":0},{"$f":"iPCU!B82","v":"S.07.05"},{"$f":"iPCU!C82","v":0}]
[{"$f":"iPCU!A83","v":"USCITE PER COSTITUZIONE DEPOSITI PRESSO TERZI e PRESTITI A TERZI"},null,{"$f":"iPCU!C83","v":0},{"$f":"SUM(D84:D86)","v":0}]
[{"$f":"iPCU!A84","v":"DEPOSITI CAUZIONALI"},{"$f":"iPCU!B84","v":"L.01.01"},{"$f":"iPCU!C84","v":"A"}]
[{"$f":"iPCU!A85","v":"PRESTITI A TERZI"},{"$f":"iPCU!B85","v":"L.01.02"},{"$f":"iPCU!C85","v":"A"}]
[{"$f":"iPCU!A86","v":0},{"$f":"iPCU!B86","v":"L.01.03"},{"$f":"iPCU!C86","v":0}]
[{"$f":"iPCU!A87","v":0},null,{"$f":"iPCU!C87","v":0}]
[{"$f":"iPCU!A88","v":0},null,{"$f":"iPCU!C88","v":0}]
[{"$f":"iPCU!A89","v":"SPESE PERSONALI o ASSEGNATE DIRETTAMENTE AI CONDOMINI E AGLI INQUILINI"},null,null,{"$f":"SUM(D90:D188)","v":0.34}]
[{"$f":"iPCU!A90","v":"Condomino01"},{"$f":"iPCU!B90","v":"P.01.01"}]
[{"$f":"iPCU!A91","v":"Condomino02"},{"$f":"iPCU!B91","v":"P.01.02"}]
[{"$f":"iPCU!A92","v":"Condomino03"},{"$f":"iPCU!B92","v":"P.01.03"}]
[{"$f":"iPCU!A93","v":"Condomino04 S.r.l."},{"$f":"iPCU!B93","v":"P.01.04"}]
[{"$f":"iPCU!A94","v":"Condomino05"},{"$f":"iPCU!B94","v":"P.01.05"},null,0.34]
[{"$f":"iPCU!A95","v":"Condomino06"},{"$f":"iPCU!B95","v":"P.01.06"}]
[{"$f":"iPCU!A96","v":"Condomino07"},{"$f":"iPCU!B96","v":"P.01.07"}]
[{"$f":"iPCU!A97","v":"Eredi Condomino08"},{"$f":"iPCU!B97","v":"P.01.08"}]
[{"$f":"iPCU!A98","v":"Condomino09 S.r.l."},{"$f":"iPCU!B98","v":"P.01.09"}]
[{"$f":"iPCU!A99","v":"Condomino10"},{"$f":"iPCU!B99","v":"P.01.10"}]
[{"$f":"iPCU!A100","v":"Condomino11"},{"$f":"iPCU!B100","v":"P.01.11"}]
[{"$f":"iPCU!A101","v":"Condomino12"},{"$f":"iPCU!B101","v":"P.01.12"}]
[{"$f":"iPCU!A102","v":"Condomino13"},{"$f":"iPCU!B102","v":"P.01.13"}]
[{"$f":"iPCU!A103","v":"Condomino14"},{"$f":"iPCU!B103","v":"P.01.14"}]
[{"$f":"iPCU!A104","v":"Condomino15"},{"$f":"iPCU!B104","v":"P.01.15"}]
[{"$f":"iPCU!A105","v":"Condomino16"},{"$f":"iPCU!B105","v":"P.01.16"}]
[{"$f":"iPCU!A106","v":"Condomino17"},{"$f":"iPCU!B106","v":"P.01.17"}]
[{"$f":"iPCU!A107","v":"Condomino18"},{"$f":"iPCU!B107","v":"P.01.18"}]
[{"$f":"iPCU!A108","v":"Condomino19"},{"$f":"iPCU!B108","v":"P.01.19"}]
[{"$f":"iPCU!A109","v":"Condomino20"},{"$f":"iPCU!B109","v":"P.01.20"}]
[{"$f":"iPCU!A110","v":"Condomino21"},{"$f":"iPCU!B110","v":"P.01.21"}]
[{"$f":"iPCU!A111","v":"Condomino22"},{"$f":"iPCU!B111","v":"P.01.22"}]
[{"$f":"iPCU!A112","v":"Condomino23"},{"$f":"iPCU!B112","v":"P.01.23"}]
[{"$f":"iPCU!A113","v":"Inquilino1"},{"$f":"iPCU!B113","v":"P.01.24"}]
[{"$f":"iPCU!A114","v":"Inquilino2"},{"$f":"iPCU!B114","v":"P.01.25"}]
[{"$f":"iPCU!A115","v":"Inquilino3"},{"$f":"iPCU!B115","v":"P.01.26"}]
[{"$f":"iPCU!A116","v":"Inquilino4"},{"$f":"iPCU!B116","v":"P.01.27"}]
[{"$f":"iPCU!A117","v":"Inquilino5"},{"$f":"iPCU!B117","v":"P.01.28"}]
[{"$f":"iPCU!A118","v":0},{"$f":"iPCU!B118","v":"P.01.29"}]
[{"$f":"iPCU!A119","v":0},{"$f":"iPCU!B119","v":"P.01.30"}]
[{"$f":"iPCU!A120","v":0},{"$f":"iPCU!B120","v":"P.01.31"}]
[{"$f":"iPCU!A121","v":0},{"$f":"iPCU!B121","v":"P.01.32"}]
[{"$f":"iPCU!A122","v":0},{"$f":"iPCU!B122","v":"P.01.33"}]
[{"$f":"iPCU!A123","v":0},{"$f":"iPCU!B123","v":"P.01.34"}]
[{"$f":"iPCU!A124","v":0},{"$f":"iPCU!B124","v":"P.01.35"}]
[{"$f":"iPCU!A125","v":0},{"$f":"iPCU!B125","v":"P.01.36"}]
[{"$f":"iPCU!A126","v":0},{"$f":"iPCU!B126","v":"P.01.37"}]
[{"$f":"iPCU!A127","v":0},{"$f":"iPCU!B127","v":"P.01.38"}]
[{"$f":"iPCU!A128","v":0},{"$f":"iPCU!B128","v":"P.01.39"}]
[{"$f":"iPCU!A129","v":0},{"$f":"iPCU!B129","v":"P.01.40"}]
[{"$f":"iPCU!A130","v":0},{"$f":"iPCU!B130","v":"P.01.41"}]
[{"$f":"iPCU!A131","v":0},{"$f":"iPCU!B131","v":"P.01.42"}]
[{"$f":"iPCU!A132","v":0},{"$f":"iPCU!B132","v":"P.01.43"}]
[{"$f":"iPCU!A133","v":0},{"$f":"iPCU!B133","v":"P.01.44"}]
[{"$f":"iPCU!A134","v":0},{"$f":"iPCU!B134","v":"P.01.45"}]
[{"$f":"iPCU!A135","v":0},{"$f":"iPCU!B135","v":"P.01.46"}]
[{"$f":"iPCU!A136","v":0},{"$f":"iPCU!B136","v":"P.01.47"}]
[{"$f":"iPCU!A137","v":0},{"$f":"iPCU!B137","v":"P.01.48"}]
[{"$f":"iPCU!A138","v":0},{"$f":"iPCU!B138","v":"P.01.49"}]
[{"$f":"iPCU!A139","v":0},{"$f":"iPCU!B139","v":"P.01.50"}]
[{"$f":"iPCU!A140","v":0},{"$f":"iPCU!B140","v":"P.01.51"}]
[{"$f":"iPCU!A141","v":0},{"$f":"iPCU!B141","v":"P.01.52"}]
[{"$f":"iPCU!A142","v":0},{"$f":"iPCU!B142","v":"P.01.53"}]
[{"$f":"iPCU!A143","v":0},{"$f":"iPCU!B143","v":"P.01.54"}]
[{"$f":"iPCU!A144","v":0},{"$f":"iPCU!B144","v":"P.01.55"}]
[{"$f":"iPCU!A145","v":0},{"$f":"iPCU!B145","v":"P.01.56"}]
[{"$f":"iPCU!A146","v":0},{"$f":"iPCU!B146","v":"P.01.57"}]
[{"$f":"iPCU!A147","v":0},{"$f":"iPCU!B147","v":"P.01.58"}]
[{"$f":"iPCU!A148","v":0},{"$f":"iPCU!B148","v":"P.01.59"}]
[{"$f":"iPCU!A149","v":0},{"$f":"iPCU!B149","v":"P.01.60"}]
[{"$f":"iPCU!A150","v":0},{"$f":"iPCU!B150","v":"P.01.61"}]
[{"$f":"iPCU!A151","v":0},{"$f":"iPCU!B151","v":"P.01.62"}]
[{"$f":"iPCU!A152","v":0},{"$f":"iPCU!B152","v":"P.01.63"}]
[{"$f":"iPCU!A153","v":0},{"$f":"iPCU!B153","v":"P.01.64"}]
[{"$f":"iPCU!A154","v":0},{"$f":"iPCU!B154","v":"P.01.65"}]
[{"$f":"iPCU!A155","v":0},{"$f":"iPCU!B155","v":"P.01.66"}]
[{"$f":"iPCU!A156","v":0},{"$f":"iPCU!B156","v":"P.01.67"}]
[{"$f":"iPCU!A157","v":0},{"$f":"iPCU!B157","v":"P.01.68"}]
[{"$f":"iPCU!A158","v":0},{"$f":"iPCU!B158","v":"P.01.69"}]
[{"$f":"iPCU!A159","v":0},{"$f":"iPCU!B159","v":"P.01.70"}]
[{"$f":"iPCU!A160","v":0},{"$f":"iPCU!B160","v":"P.01.71"}]
[{"$f":"iPCU!A161","v":0},{"$f":"iPCU!B161","v":"P.01.72"}]
[{"$f":"iPCU!A162","v":0},{"$f":"iPCU!B162","v":"P.01.73"}]
[{"$f":"iPCU!A163","v":0},{"$f":"iPCU!B163","v":"P.01.74"}]
[{"$f":"iPCU!A164","v":0},{"$f":"iPCU!B164","v":"P.01.75"}]
[{"$f":"iPCU!A165","v":0},{"$f":"iPCU!B165","v":"P.01.76"}]
[{"$f":"iPCU!A166","v":0},{"$f":"iPCU!B166","v":"P.01.77"}]
[{"$f":"iPCU!A167","v":0},{"$f":"iPCU!B167","v":"P.01.78"}]
[{"$f":"iPCU!A168","v":0},{"$f":"iPCU!B168","v":"P.01.79"}]
[{"$f":"iPCU!A169","v":0},{"$f":"iPCU!B169","v":"P.01.80"}]
[{"$f":"iPCU!A170","v":0},{"$f":"iPCU!B170","v":"P.01.81"}]
[{"$f":"iPCU!A171","v":0},{"$f":"iPCU!B171","v":"P.01.82"}]
[{"$f":"iPCU!A172","v":0},{"$f":"iPCU!B172","v":"P.01.83"}]
[{"$f":"iPCU!A173","v":0},{"$f":"iPCU!B173","v":"P.01.84"}]
[{"$f":"iPCU!A174","v":0},{"$f":"iPCU!B174","v":"P.01.85"}]
[{"$f":"iPCU!A175","v":0},{"$f":"iPCU!B175","v":"P.01.86"}]
[{"$f":"iPCU!A176","v":0},{"$f":"iPCU!B176","v":"P.01.87"}]
[{"$f":"iPCU!A177","v":0},{"$f":"iPCU!B177","v":"P.01.88"}]
[{"$f":"iPCU!A178","v":0},{"$f":"iPCU!B178","v":"P.01.89"}]
[{"$f":"iPCU!A179","v":0},{"$f":"iPCU!B179","v":"P.01.90"}]
[{"$f":"iPCU!A180","v":0},{"$f":"iPCU!B180","v":"P.01.91"}]
[{"$f":"iPCU!A181","v":0},{"$f":"iPCU!B181","v":"P.01.92"}]
[{"$f":"iPCU!A182","v":0},{"$f":"iPCU!B182","v":"P.01.93"}]
[{"$f":"iPCU!A183","v":0},{"$f":"iPCU!B183","v":"P.01.94"}]
[{"$f":"iPCU!A184","v":0},{"$f":"iPCU!B184","v":"P.01.95"}]
[{"$f":"iPCU!A185","v":0},{"$f":"iPCU!B185","v":"P.01.96"}]
[{"$f":"iPCU!A186","v":0},{"$f":"iPCU!B186","v":"P.01.97"}]
[{"$f":"iPCU!A187","v":0},{"$f":"iPCU!B187","v":"P.01.98"}]
[{"$f":"iPCU!A188","v":0},{"$f":"iPCU!B188","v":"P.01.99"}]
[null,null,"TOTALE USCITE DA RIPARTIRE e ATTRIBUIRE",{"$f":"D11+D27+D38+D49+D60+D71+D77+D83+D89","v":590.34}]
[{"$f":"iPCU!A189","v":"RESTITUZIONI, PAGAMENTI DEBITI E VERSAMENTI R.A."},null,{"$f":"iPCU!C189","v":"U"},{"$f":"SUM(D191:D195)","v":743.55000000000007}]
[{"$f":"iPCU!A190","v":"Restituzioni a Condomini versamenti in eccesso per l'esercizio precedente"},{"$f":"iPCU!B190","v":"U.01.nc"},null,743.55000000000007]
[{"$f":"iPCU!A191","v":"Pagamenti Debiti v/s  Terzi"},{"$f":"iPCU!B191","v":"U.02.00"}]
[{"$f":"iPCU!A192","v":0},{"$f":"iPCU!B192","v":"U.03.00"}]
[{"$f":"iPCU!A193","v":0},{"$f":"iPCU!B193","v":"U.04.00"}]
[{"$f":"iPCU!A194","v":0},{"$f":"iPCU!B194","v":"U.05.00"}]
[{"$f":"iPCU!A195","v":"PRESTITI A GESTIONE ORDINARIA"},null,{"$f":"iPCU!C195","v":"R"},{"$f":"SUM(D197:D201)","v":0}]
[{"$f":"iPCU!A196","v":"Prestito a Gestione Ordinaria"},{"$f":"iPCU!B196","v":"R.01.01"}]
[{"$f":"iPCU!A197","v":""},{"$f":"iPCU!B197","v":0}]
[{"$f":"iPCU!A198","v":""},{"$f":"iPCU!B198","v":0}]
[{"$f":"iPCU!A199","v":""},{"$f":"iPCU!B199","v":0}]
[{"$f":"iPCU!A200","v":""},{"$f":"iPCU!B200","v":0}]
[{"$f":"iPCU!A201","v":0},null,{"$f":"iPCU!C201","v":0},{"$f":"SUM(D203:D207)","v":0}]
[{"$f":"iPCU!A202","v":""},{"$f":"iPCU!B202","v":0}]
[{"$f":"iPCU!A203","v":""},{"$f":"iPCU!B203","v":0}]
[{"$f":"iPCU!A204","v":""},{"$f":"iPCU!B204","v":0}]
[{"$f":"iPCU!A205","v":""},{"$f":"iPCU!B205","v":0}]
[{"$f":"iPCU!A206","v":""},{"$f":"iPCU!B206","v":0}]
[null,null,"TOTALE USCITE",{"$f":"D189+D190+D202+D196","v":1333.89}]

{"sheet":"cRAFFRONTO","index":29,"n_rows":196,"n_cols":7,"rows_kept":196,"cut":false,"hidden":true,"merged":[[7,2,9,2]]}
[]
[]
[]
[]
[]
["Condominio \"TERMICO\""]
["QUADRO DI RAFFRONTO fra SPESE SOSTENUTE al giorno 2-4-2022 e SPESE PREVENTIVATE PER L'INTERO ESERCIZIO 2021-2022"]
[null,null,"TABELLA"]
["VOCI DI SPESA","CODICE",null,"IMPORTI SPESE",null,"VARIAZIONI"]
[null,"CONTO",null,"Preventivate","Effettuate","in meno","in più"]
[{"$f":"iPCU!A11","v":"SPESE GENERALI"},null,{"$f":"iPCU!C11","v":0},{"$f":"SUM(D12:D26)","v":1100},{"$f":"SUM(E12:E26)","v":80},{"$f":"SUM(F12:F26)","v":1050},{"$f":"SUM(G12:G26)","v":30}]
[{"$f":"iPCU!A12","v":"POSTALI, TELEGRAFICHE, TELEFONICHE E WEB "},{"$f":"iPCU!B12","v":"S.01.01"},{"$f":"iPCU!C12","v":"B"},{"$f":"iPUS!D12","v":50},{"$f":"cUSCITE!D12","v":0},{"$f":"IF(D12-E12>0,D12-E12,0)","v":50},{"$f":"IF(D12-E12<=0,E12-D12,0)","v":0}]
[{"$f":"iPCU!A13","v":"DIRITTI BOLLI TASSE "},{"$f":"iPCU!B13","v":"S.01.02"},{"$f":"iPCU!C13","v":"B"},{"$f":"iPUS!D13","v":50},{"$f":"cUSCITE!D13","v":0},{"$f":"IF(D13-E13>0,D13-E13,0)","v":50},{"$f":"IF(D13-E13<=0,E13-D13,0)","v":0}]
[{"$f":"iPCU!A14","v":"COMPENSI AMMINISTRATORE"},{"$f":"iPCU!B14","v":"S.01.03"},{"$f":"iPCU!C14","v":"B"},{"$f":"iPUS!D14","v":800},{"$f":"cUSCITE!D14","v":0},800,0]
[{"$f":"iPCU!A15","v":"COMPENSI A TERZI (consulenti, ...)"},{"$f":"iPCU!B15","v":"S.01.04"},{"$f":"iPCU!C15","v":"B"},{"$f":"iPUS!D15","v":50},{"$f":"cUSCITE!D15","v":80},0,30]
[{"$f":"iPCU!A16","v":"SPESE LEGALI, CONTRATTUALI e RECUPERO CREDITI"},{"$f":"iPCU!B16","v":"S.01.05"},{"$f":"iPCU!C16","v":"A"},{"$f":"iPUS!D16","v":50},{"$f":"cUSCITE!D16","v":0},50,0]
[{"$f":"iPCU!A17","v":"ALTRE SPESE GENERALI CONDOMINI"},{"$f":"iPCU!B17","v":"S.01.06"},{"$f":"iPCU!C17","v":"A"},{"$f":"iPUS!D17","v":50},{"$f":"cUSCITE!D17","v":0},50,0]
[{"$f":"iPCU!A18","v":"ALTRE SPESE GENERALI UTILIZZATORI"},{"$f":"iPCU!B18","v":"S.01.07"},{"$f":"iPCU!C18","v":"B"},{"$f":"iPUS!D18","v":50},{"$f":"cUSCITE!D18","v":0},50,0]
[{"$f":"iPCU!A19","v":0},{"$f":"iPCU!B19","v":"S.01.08"},{"$f":"iPCU!C19","v":0},{"$f":"iPUS!D19","v":0},{"$f":"cUSCITE!D19","v":0},0,0]
[{"$f":"iPCU!A20","v":0},{"$f":"iPCU!B20","v":"S.01.09"},{"$f":"iPCU!C20","v":0},{"$f":"iPUS!D20","v":0},{"$f":"cUSCITE!D20","v":0},0,0]
[{"$f":"iPCU!A21","v":0},{"$f":"iPCU!B21","v":"S.01.10"},{"$f":"iPCU!C21","v":0},{"$f":"iPUS!D21","v":0},{"$f":"cUSCITE!D21","v":0},0,0]
[{"$f":"iPCU!A22","v":0},{"$f":"iPCU!B22","v":"S.01.11"},{"$f":"iPCU!C22","v":0},{"$f":"iPUS!D22","v":0},{"$f":"cUSCITE!D22","v":0},0,0]
[{"$f":"iPCU!A23","v":0},{"$f":"iPCU!B23","v":"S.01.12"},{"$f":"iPCU!C23","v":0},{"$f":"iPUS!D23","v":0},{"$f":"cUSCITE!D23","v":0},0,0]
[{"$f":"iPCU!A24","v":0},{"$f":"iPCU!B24","v":"S.01.13"},{"$f":"iPCU!C24","v":0},{"$f":"iPUS!D24","v":0},{"$f":"cUSCITE!D24","v":0},0,0]
[{"$f":"iPCU!A25","v":0},{"$f":"iPCU!B25","v":"S.01.14"},{"$f":"iPCU!C25","v":0},{"$f":"iPUS!D25","v":0},{"$f":"cUSCITE!D25","v":0},0,0]
[{"$f":"iPCU!A26","v":0},{"$f":"iPCU!B26","v":"S.01.15"},{"$f":"iPCU!C26","v":0},{"$f":"iPUS!D26","v":0},{"$f":"cUSCITE!D26","v":0},0,0]
[{"$f":"iPCU!A27","v":"PULIZIE"},null,{"$f":"iPCU!C27","v":0},{"$f":"SUM(D28:D37)","v":200},{"$f":"SUM(E28:E37)","v":110},{"$f":"SUM(F28:F37)","v":90},{"$f":"SUM(G28:G37)","v":0}]
[{"$f":"iPCU!A28","v":"PULIZIA LOCALI CALDAIA"},{"$f":"iPCU!B28","v":"S.02.01"},{"$f":"iPCU!C28","v":"B"},{"$f":"iPUS!D28","v":200},{"$f":"cUSCITE!D28","v":110},{"$f":"IF(D28-E28>0,D28-E28,0)","v":90},{"$f":"IF(D28-E28<=0,E28-D28,0)","v":0}]
[{"$f":"iPCU!A29","v":0},{"$f":"iPCU!B29","v":"S.02.02"},{"$f":"iPCU!C29","v":0},{"$f":"iPUS!D29","v":0},{"$f":"cUSCITE!D29","v":0},{"$f":"IF(D29-E29>0,D29-E29,0)","v":0},{"$f":"IF(D29-E29<=0,E29-D29,0)","v":0}]
[{"$f":"iPCU!A30","v":0},{"$f":"iPCU!B30","v":"S.02.03"},{"$f":"iPCU!C30","v":0},{"$f":"iPUS!D30","v":0},{"$f":"cUSCITE!D30","v":0},0,0]
[{"$f":"iPCU!A31","v":0},{"$f":"iPCU!B31","v":"S.02.04"},{"$f":"iPCU!C31","v":0},{"$f":"iPUS!D31","v":0},{"$f":"cUSCITE!D31","v":0},0,0]
[{"$f":"iPCU!A32","v":0},{"$f":"iPCU!B32","v":"S.02.05"},{"$f":"iPCU!C32","v":0},{"$f":"iPUS!D32","v":0},{"$f":"cUSCITE!D32","v":0},0,0]
[{"$f":"iPCU!A33","v":0},{"$f":"iPCU!B33","v":"S.02.06"},{"$f":"iPCU!C33","v":0},{"$f":"iPUS!D33","v":0},{"$f":"cUSCITE!D33","v":0},0,0]
[{"$f":"iPCU!A34","v":0},{"$f":"iPCU!B34","v":"S.02.07"},{"$f":"iPCU!C34","v":0},{"$f":"iPUS!D34","v":0},{"$f":"cUSCITE!D34","v":0},0,0]
[{"$f":"iPCU!A35","v":0},{"$f":"iPCU!B35","v":"S.02.08"},{"$f":"iPCU!C35","v":0},{"$f":"iPUS!D35","v":0},{"$f":"cUSCITE!D35","v":0},0,0]
[{"$f":"iPCU!A36","v":0},{"$f":"iPCU!B36","v":"S.02.09"},{"$f":"iPCU!C36","v":0},{"$f":"iPUS!D36","v":0},{"$f":"cUSCITE!D36","v":0},0,0]
[{"$f":"iPCU!A37","v":0},{"$f":"iPCU!B37","v":"S.02.10"},{"$f":"iPCU!C37","v":0},{"$f":"iPUS!D37","v":0},{"$f":"cUSCITE!D37","v":0},0,0]
[{"$f":"iPCU!A38","v":"MANUTENZIONE ORDINARIA"},null,{"$f":"iPCU!C38","v":0},{"$f":"SUM(D39:D48)","v":500},{"$f":"SUM(E39:E48)","v":0},{"$f":"SUM(F39:F48)","v":500},{"$f":"SUM(G39:G48)","v":0}]
[{"$f":"iPCU!A39","v":"CANONE MANTENZIONE CALDAIA ED IMPIANTO"},{"$f":"iPCU!B39","v":"S.03.01"},{"$f":"iPCU!C39","v":"B"},{"$f":"iPUS!D39","v":250},{"$f":"cUSCITE!D39","v":0},{"$f":"IF(D39-E39>0,D39-E39,0)","v":250},{"$f":"IF(D39-E39<=0,E39-D39,0)","v":0}]
[{"$f":"iPCU!A40","v":"SPESE VARIE DI MANUTENZIONE ORDINARIA"},{"$f":"iPCU!B40","v":"S.03.02"},{"$f":"iPCU!C40","v":"B"},{"$f":"iPUS!D40","v":250},{"$f":"cUSCITE!D40","v":0},{"$f":"IF(D40-E40>0,D40-E40,0)","v":250},{"$f":"IF(D40-E40<=0,E40-D40,0)","v":0}]
[{"$f":"iPCU!A41","v":0},{"$f":"iPCU!B41","v":"S.03.03"},{"$f":"iPCU!C41","v":0},{"$f":"iPUS!D41","v":0},{"$f":"cUSCITE!D41","v":0},0,0]
[{"$f":"iPCU!A42","v":0},{"$f":"iPCU!B42","v":"S.03.04"},{"$f":"iPCU!C42","v":0},{"$f":"iPUS!D42","v":0},{"$f":"cUSCITE!D42","v":0},0,0]
[{"$f":"iPCU!A43","v":0},{"$f":"iPCU!B43","v":"S.03.05"},{"$f":"iPCU!C43","v":0},{"$f":"iPUS!D43","v":0},{"$f":"cUSCITE!D43","v":0},0,0]
[{"$f":"iPCU!A44","v":0},{"$f":"iPCU!B44","v":"S.03.06"},{"$f":"iPCU!C44","v":0},{"$f":"iPUS!D44","v":0},{"$f":"cUSCITE!D44","v":0},0,0]
[{"$f":"iPCU!A45","v":0},{"$f":"iPCU!B45","v":"S.03.07"},{"$f":"iPCU!C45","v":0},{"$f":"iPUS!D45","v":0},{"$f":"cUSCITE!D45","v":0},0,0]
[{"$f":"iPCU!A46","v":0},{"$f":"iPCU!B46","v":"S.03.08"},{"$f":"iPCU!C46","v":0},{"$f":"iPUS!D46","v":0},{"$f":"cUSCITE!D46","v":0},0,0]
[{"$f":"iPCU!A47","v":0},{"$f":"iPCU!B47","v":"S.03.09"},{"$f":"iPCU!C47","v":0},{"$f":"iPUS!D47","v":0},{"$f":"cUSCITE!D47","v":0},0,0]
[{"$f":"iPCU!A48","v":0},{"$f":"iPCU!B48","v":"S.03.10"},{"$f":"iPCU!C48","v":0},{"$f":"iPUS!D48","v":0},{"$f":"cUSCITE!D48","v":0},0,0]
[{"$f":"iPCU!A49","v":"CONSUMI DI ENERGIA"},null,{"$f":"iPCU!C49","v":0},{"$f":"SUM(D50:D59)","v":4400},{"$f":"SUM(E50:E59)","v":400},{"$f":"SUM(F50:F59)","v":4000},{"$f":"SUM(G50:G59)","v":0}]
[{"$f":"iPCU!A50","v":"CONSUMO GAS (Quota rapportata alla potenza termica)"},{"$f":"iPCU!B50","v":"S.04.01"},{"$f":"iPCU!C50","v":"C"},{"$f":"iPUS!D50","v":800},{"$f":"cUSCITE!D50","v":85},{"$f":"IF(D50-E50>0,D50-E50,0)","v":715},{"$f":"IF(D50-E50<=0,E50-D50,0)","v":0}]
[{"$f":"iPCU!A51","v":"CONSUMO ENERGIA ELETTRICA (Quota rapportata alla potenza termica)"},{"$f":"iPCU!B51","v":"S.04.02"},{"$f":"iPCU!C51","v":"C"},{"$f":"iPUS!D51","v":150},{"$f":"cUSCITE!D51","v":0},{"$f":"IF(D51-E51>0,D51-E51,0)","v":150},{"$f":"IF(D51-E51<=0,E51-D51,0)","v":0}]
[{"$f":"iPCU!A52","v":"CONSUMO GAS (Quota rapportata al consumo)"},{"$f":"iPCU!B52","v":"S.04.03"},{"$f":"iPCU!C52","v":"E"},{"$f":"iPUS!D52","v":3200},{"$f":"cUSCITE!D52","v":315},2885,0]
[{"$f":"iPCU!A53","v":"CONSUMO ENERGIA ELETTRICA (Quota rapportata al consumo)"},{"$f":"iPCU!B53","v":"S.04.04"},{"$f":"iPCU!C53","v":"E"},{"$f":"iPUS!D53","v":250},{"$f":"cUSCITE!D53","v":0},250,0]
[{"$f":"iPCU!A54","v":0},{"$f":"iPCU!B54","v":"S.04.05"},{"$f":"iPCU!C54","v":0},{"$f":"iPUS!D54","v":0},{"$f":"cUSCITE!D54","v":0},0,0]
[{"$f":"iPCU!A55","v":0},{"$f":"iPCU!B55","v":"S.04.06"},{"$f":"iPCU!C55","v":0},{"$f":"iPUS!D55","v":0},{"$f":"cUSCITE!D55","v":0},0,0]
[{"$f":"iPCU!A56","v":0},{"$f":"iPCU!B56","v":"S.04.07"},{"$f":"iPCU!C56","v":0},{"$f":"iPUS!D56","v":0},{"$f":"cUSCITE!D56","v":0},0,0]
[{"$f":"iPCU!A57","v":0},{"$f":"iPCU!B57","v":"S.04.08"},{"$f":"iPCU!C57","v":0},{"$f":"iPUS!D57","v":0},{"$f":"cUSCITE!D57","v":0},0,0]
[{"$f":"iPCU!A58","v":0},{"$f":"iPCU!B58","v":"S.04.09"},{"$f":"iPCU!C58","v":0},{"$f":"iPUS!D58","v":0},{"$f":"cUSCITE!D58","v":0},0,0]
[{"$f":"iPCU!A59","v":0},{"$f":"iPCU!B59","v":"S.04.10"},{"$f":"iPCU!C59","v":0},{"$f":"iPUS!D59","v":0},{"$f":"cUSCITE!D59","v":0},0,0]
[{"$f":"iPCU!A60","v":"MANUTENZIONE STRAORDINARIA"},null,{"$f":"iPCU!C60","v":0},{"$f":"SUM(D61:D70)","v":200},{"$f":"SUM(E61:E70)","v":0},{"$f":"SUM(F61:F70)","v":200},{"$f":"SUM(G61:G70)","v":0}]
[{"$f":"iPCU!A61","v":"MANUTENZIONE STRAORDINARIA CALDAIA"},{"$f":"iPCU!B61","v":"S.05.01"},{"$f":"iPCU!C61","v":"A"},{"$f":"iPUS!D61","v":100},{"$f":"cUSCITE!D61","v":0},{"$f":"IF(D61-E61>0,D61-E61,0)","v":100},{"$f":"IF(D61-E61<=0,E61-D61,0)","v":0}]
[{"$f":"iPCU!A62","v":"MANUTENZIONE STRAORDINARIA IMPIANTO"},{"$f":"iPCU!B62","v":"S.05.02"},{"$f":"iPCU!C62","v":"A"},{"$f":"iPUS!D62","v":100},{"$f":"cUSCITE!D62","v":0},{"$f":"IF(D62-E62>0,D62-E62,0)","v":100},{"$f":"IF(D62-E62<=0,E62-D62,0)","v":0}]
[{"$f":"iPCU!A63","v":0},{"$f":"iPCU!B63","v":"S.05.03"},{"$f":"iPCU!C63","v":0},{"$f":"iPUS!D63","v":0},{"$f":"cUSCITE!D63","v":0},0,0]
[{"$f":"iPCU!A64","v":0},{"$f":"iPCU!B64","v":"S.05.04"},{"$f":"iPCU!C64","v":0},{"$f":"iPUS!D64","v":0},{"$f":"cUSCITE!D64","v":0},0,0]
[{"$f":"iPCU!A65","v":0},{"$f":"iPCU!B65","v":"S.05.05"},{"$f":"iPCU!C65","v":0},{"$f":"iPUS!D65","v":0},{"$f":"cUSCITE!D65","v":0},0,0]
[{"$f":"iPCU!A66","v":0},{"$f":"iPCU!B66","v":"S.05.06"},{"$f":"iPCU!C66","v":0},{"$f":"iPUS!D66","v":0},{"$f":"cUSCITE!D66","v":0},0,0]
[{"$f":"iPCU!A67","v":0},{"$f":"iPCU!B67","v":"S.05.07"},{"$f":"iPCU!C67","v":0},{"$f":"iPUS!D67","v":0},{"$f":"cUSCITE!D67","v":0},0,0]
[{"$f":"iPCU!A68","v":0},{"$f":"iPCU!B68","v":"S.05.08"},{"$f":"iPCU!C68","v":0},{"$f":"iPUS!D68","v":0},{"$f":"cUSCITE!D68","v":0},0,0]
[{"$f":"iPCU!A69","v":0},{"$f":"iPCU!B69","v":"S.05.09"},{"$f":"iPCU!C69","v":0},{"$f":"iPUS!D69","v":0},{"$f":"cUSCITE!D69","v":0},0,0]
[{"$f":"iPCU!A70","v":0},{"$f":"iPCU!B70","v":"S.05.10"},{"$f":"iPCU!C70","v":0},{"$f":"iPUS!D70","v":0},{"$f":"cUSCITE!D70","v":0},0,0]
[{"$f":"iPCU!A71","v":"SPESE VARIE A CARICO DEI CONDOMINI"},null,{"$f":"iPCU!C71","v":0},{"$f":"SUM(D72:D76)","v":50},{"$f":"SUM(E72:E76)","v":0},{"$f":"SUM(F72:F76)","v":50},{"$f":"SUM(G72:G76)","v":0}]
[{"$f":"iPCU!A72","v":"VARIE IMPREVISTE ED ALTRE SPESE DOCUMENTATE CONDOMINI"},{"$f":"iPCU!B72","v":"S.06.01"},{"$f":"iPCU!C72","v":"A"},{"$f":"iPUS!D72","v":50},{"$f":"cUSCITE!D72","v":0},{"$f":"IF(D72-E72>0,D72-E72,0)","v":50},{"$f":"IF(D72-E72<=0,E72-D72,0)","v":0}]
[{"$f":"iPCU!A73","v":0},{"$f":"iPCU!B73","v":"S.06.02"},{"$f":"iPCU!C73","v":0},{"$f":"iPUS!D73","v":0},{"$f":"cUSCITE!D73","v":0},{"$f":"IF(D73-E73>0,D73-E73,0)","v":0},{"$f":"IF(D73-E73<=0,E73-D73,0)","v":0}]
[{"$f":"iPCU!A74","v":0},{"$f":"iPCU!B74","v":"S.06.03"},{"$f":"iPCU!C74","v":0},{"$f":"iPUS!D74","v":0},{"$f":"cUSCITE!D74","v":0},{"$f":"IF(D74-E74>0,D74-E74,0)","v":0},0]
[{"$f":"iPCU!A75","v":0},{"$f":"iPCU!B75","v":"S.06.04"},{"$f":"iPCU!C75","v":0},{"$f":"iPUS!D75","v":0},{"$f":"cUSCITE!D75","v":0},{"$f":"IF(D75-E75>0,D75-E75,0)","v":0},0]
[{"$f":"iPCU!A76","v":0},{"$f":"iPCU!B76","v":"S.06.05"},{"$f":"iPCU!C76","v":0},{"$f":"iPUS!D76","v":0},{"$f":"cUSCITE!D76","v":0},{"$f":"IF(D76-E76>0,D76-E76,0)","v":0},0]
[{"$f":"iPCU!A77","v":"SPESE VARIE A CARICO DEGLI UTILIZZATORI"},{"$f":"iPCU!B77","v":"S.07"},{"$f":"iPCU!C77","v":0},{"$f":"SUM(D78:D82)","v":500},{"$f":"SUM(E78:E82)","v":0},{"$f":"SUM(F78:F82)","v":500},{"$f":"SUM(G78:G82)","v":0}]
[{"$f":"iPCU!A78","v":"VARIE IMPREVISTE ED ALTRE SPESE DOCUMENTATE UTILIZZATORI"},{"$f":"iPCU!B78","v":"S.07.01"},{"$f":"iPCU!C78","v":"B"},{"$f":"iPUS!D78","v":100},{"$f":"cUSCITE!D78","v":0},{"$f":"IF(D78-E78>0,D78-E78,0)","v":100},0]
[{"$f":"iPCU!A79","v":"SPESE PER RIPARTIZIONE COSTI LETTURE CONSUMI CONTATORI RISCALDAMENTO"},{"$f":"iPCU!B79","v":"S.07.02"},{"$f":"iPCU!C79","v":"D"},{"$f":"iPUS!D79","v":400},{"$f":"cUSCITE!D79","v":0},{"$f":"IF(D79-E79>0,D79-E79,0)","v":400},{"$f":"IF(D79-E79<=0,E79-D79,0)","v":0}]
[{"$f":"iPCU!A80","v":0},{"$f":"iPCU!B80","v":"S.07.03"},{"$f":"iPCU!C80","v":0},{"$f":"iPUS!D80","v":0},{"$f":"cUSCITE!D80","v":0},{"$f":"IF(D80-E80>0,D80-E80,0)","v":0},{"$f":"IF(D80-E80<=0,E80-D80,0)","v":0}]
[{"$f":"iPCU!A81","v":0},{"$f":"iPCU!B81","v":"S.07.04"},{"$f":"iPCU!C81","v":0},{"$f":"iPUS!D81","v":0},{"$f":"cUSCITE!D81","v":0},{"$f":"IF(D81-E81>0,D81-E81,0)","v":0},{"$f":"IF(D81-E81<=0,E81-D81,0)","v":0}]
[{"$f":"iPCU!A82","v":0},{"$f":"iPCU!B82","v":"S.07.05"},{"$f":"iPCU!C82","v":0},{"$f":"iPUS!D82","v":0},{"$f":"cUSCITE!D82","v":0},{"$f":"IF(D82-E82>0,D82-E82,0)","v":0},{"$f":"IF(D82-E82<=0,E82-D82,0)","v":0}]
[{"$f":"iPCU!A83","v":"USCITE PER COSTITUZIONE DEPOSITI PRESSO TERZI e PRESTITI A TERZI"},{"$f":"iPCU!B83","v":"L"},{"$f":"iPCU!C83","v":0},{"$f":"SUM(D84:D88)","v":0},{"$f":"SUM(E84:E88)","v":0},{"$f":"SUM(F84:F88)","v":0},{"$f":"SUM(G84:G88)","v":0}]
[{"$f":"iPCU!A84","v":"DEPOSITI CAUZIONALI"},{"$f":"iPCU!B84","v":"L.01.01"},{"$f":"iPCU!C84","v":"A"},{"$f":"iPUS!D84","v":0},{"$f":"cUSCITE!D84","v":0},{"$f":"IF(D84-E84>0,D84-E84,0)","v":0},{"$f":"IF(D84-E84<=0,E84-D84,0)","v":0}]
[{"$f":"iPCU!A85","v":"PRESTITI A TERZI"},{"$f":"iPCU!B85","v":"L.01.02"},{"$f":"iPCU!C85","v":"A"},{"$f":"iPUS!D85","v":0},{"$f":"cUSCITE!D85","v":0},{"$f":"IF(D85-E85>0,D85-E85,0)","v":0},{"$f":"IF(D85-E85<=0,E85-D85,0)","v":0}]
[{"$f":"iPCU!A86","v":0},{"$f":"iPCU!B86","v":"L.01.03"},{"$f":"iPCU!C86","v":0},{"$f":"iPUS!D86","v":0},{"$f":"cUSCITE!D86","v":0},{"$f":"IF(D86-E86>0,D86-E86,0)","v":0},{"$f":"IF(D86-E86<=0,E86-D86,0)","v":0}]
[{"$f":"iPCU!A87","v":0},{"$f":"iPCU!B87","v":"L.01.04"},{"$f":"iPCU!C87","v":0},{"$f":"iPUS!D87","v":0},{"$f":"cUSCITE!D87","v":0},{"$f":"IF(D87-E87>0,D87-E87,0)","v":0},{"$f":"IF(D87-E87<=0,E87-D87,0)","v":0}]
[{"$f":"iPCU!A88","v":0},{"$f":"iPCU!B88","v":"L.01.05"},{"$f":"iPCU!C88","v":0},{"$f":"iPUS!D88","v":0},{"$f":"cUSCITE!D88","v":0},{"$f":"IF(D88-E88>0,D88-E88,0)","v":0},{"$f":"IF(D88-E88<=0,E88-D88,0)","v":0}]
[{"$f":"iPCU!A201","v":0},{"$f":"iPCU!B201","v":0},{"$f":"iPCU!C201","v":0},{"$f":"iPUS!D89","v":0},{"$f":"cUSCITE!D202","v":0},{"$f":"IF(D89-E89>0,D89-E89,0)","v":0},{"$f":"IF(D89-E89<=0,E89-D89,0)","v":0}]
[{"$f":"iPCU!A202","v":""},{"$f":"iPCU!B202","v":0},null,{"$f":"iPUS!D90","v":0},{"$f":"cUSCITE!D203","v":0},0,0]
[{"$f":"iPCU!A203","v":""},{"$f":"iPCU!B203","v":0},null,{"$f":"iPUS!D91","v":0},{"$f":"cUSCITE!D204","v":0},0,0]
[{"$f":"iPCU!A204","v":""},{"$f":"iPCU!B204","v":0},null,{"$f":"iPUS!D92","v":0},{"$f":"cUSCITE!D205","v":0},0,0]
[{"$f":"iPCU!A205","v":""},{"$f":"iPCU!B205","v":0},null,{"$f":"iPUS!D93","v":0},{"$f":"cUSCITE!D206","v":0},0,0]
[{"$f":"iPCU!A206","v":""},{"$f":"iPCU!B206","v":0},null,{"$f":"iPUS!D94","v":0},{"$f":"cUSCITE!D207","v":0},0,0]
[{"$f":"iPCU!A89","v":"SPESE PERSONALI o ASSEGNATE DIRETTAMENTE AI CONDOMINI E AGLI INQUILINI"},{"$f":"iPCU!B89","v":"P"},{"$f":"iPCU!C89","v":0},{"$f":"iPUS!D95","v":0},{"$f":"cUSCITE!D89","v":0.34},0,0.34]
[{"$f":"iPCU!A90","v":"Condomino01"},{"$f":"iPCU!B90","v":"P.01.01"},null,{"$f":"iPUS!D96","v":0},{"$f":"cUSCITE!D90","v":0},0,0]
[{"$f":"iPCU!A91","v":"Condomino02"},{"$f":"iPCU!B91","v":"P.01.02"},null,{"$f":"iPUS!D97","v":0},{"$f":"cUSCITE!D91","v":0},0,0]
[{"$f":"iPCU!A92","v":"Condomino03"},{"$f":"iPCU!B92","v":"P.01.03"},null,{"$f":"iPUS!D98","v":0},{"$f":"cUSCITE!D92","v":0},0,0]
[{"$f":"iPCU!A93","v":"Condomino04 S.r.l."},{"$f":"iPCU!B93","v":"P.01.04"},null,{"$f":"iPUS!D99","v":0},{"$f":"cUSCITE!D93","v":0},0,0]
[{"$f":"iPCU!A94","v":"Condomino05"},{"$f":"iPCU!B94","v":"P.01.05"},null,{"$f":"iPUS!D100","v":0},{"$f":"cUSCITE!D94","v":0.34},0,0.34]
[{"$f":"iPCU!A95","v":"Condomino06"},{"$f":"iPCU!B95","v":"P.01.06"},null,{"$f":"iPUS!D101","v":0},{"$f":"cUSCITE!D95","v":0},0,0]
[{"$f":"iPCU!A96","v":"Condomino07"},{"$f":"iPCU!B96","v":"P.01.07"},null,{"$f":"iPUS!D102","v":0},{"$f":"cUSCITE!D96","v":0},0,0]
[{"$f":"iPCU!A97","v":"Eredi Condomino08"},{"$f":"iPCU!B97","v":"P.01.08"},null,{"$f":"iPUS!D103","v":0},{"$f":"cUSCITE!D97","v":0},0,0]
[{"$f":"iPCU!A98","v":"Condomino09 S.r.l."},{"$f":"iPCU!B98","v":"P.01.09"},null,{"$f":"iPUS!D104","v":0},{"$f":"cUSCITE!D98","v":0},0,0]
[{"$f":"iPCU!A99","v":"Condomino10"},{"$f":"iPCU!B99","v":"P.01.10"},null,{"$f":"iPUS!D105","v":0},{"$f":"cUSCITE!D99","v":0},0,0]
[{"$f":"iPCU!A100","v":"Condomino11"},{"$f":"iPCU!B100","v":"P.01.11"},null,{"$f":"iPUS!D106","v":0},{"$f":"cUSCITE!D100","v":0},0,0]
[{"$f":"iPCU!A101","v":"Condomino12"},{"$f":"iPCU!B101","v":"P.01.12"},null,{"$f":"iPUS!D107","v":0},{"$f":"cUSCITE!D101","v":0},0,0]
[{"$f":"iPCU!A102","v":"Condomino13"},{"$f":"iPCU!B102","v":"P.01.13"},null,{"$f":"iPUS!D108","v":0},{"$f":"cUSCITE!D102","v":0},0,0]
[{"$f":"iPCU!A103","v":"Condomino14"},{"$f":"iPCU!B103","v":"P.01.14"},null,{"$f":"iPUS!D109","v":0},{"$f":"cUSCITE!D103","v":0},0,0]
[{"$f":"iPCU!A104","v":"Condomino15"},{"$f":"iPCU!B104","v":"P.01.15"},null,{"$f":"iPUS!D110","v":0},{"$f":"cUSCITE!D104","v":0},0,0]
[{"$f":"iPCU!A105","v":"Condomino16"},{"$f":"iPCU!B105","v":"P.01.16"},null,{"$f":"iPUS!D111","v":0},{"$f":"cUSCITE!D105","v":0},0,0]
[{"$f":"iPCU!A106","v":"Condomino17"},{"$f":"iPCU!B106","v":"P.01.17"},null,{"$f":"iPUS!D112","v":0},{"$f":"cUSCITE!D106","v":0},0,0]
[{"$f":"iPCU!A107","v":"Condomino18"},{"$f":"iPCU!B107","v":"P.01.18"},null,{"$f":"iPUS!D113","v":0},{"$f":"cUSCITE!D107","v":0},0,0]
[{"$f":"iPCU!A108","v":"Condomino19"},{"$f":"iPCU!B108","v":"P.01.19"},null,{"$f":"iPUS!D114","v":0},{"$f":"cUSCITE!D108","v":0},{"$f":"IF(D114-E114>0,D114-E114,0)","v":0},{"$f":"IF(D114-E114<=0,E114-D114,0)","v":0}]
[{"$f":"iPCU!A109","v":"Condomino20"},{"$f":"iPCU!B109","v":"P.01.20"},null,{"$f":"iPUS!D115","v":0},{"$f":"cUSCITE!D109","v":0},{"$f":"IF(D115-E115>0,D115-E115,0)","v":0},{"$f":"IF(D115-E115<=0,E115-D115,0)","v":0}]
[{"$f":"iPCU!A110","v":"Condomino21"},{"$f":"iPCU!B110","v":"P.01.21"},null,{"$f":"iPUS!D116","v":0},{"$f":"cUSCITE!D110","v":0},{"$f":"IF(D116-E116>0,D116-E116,0)","v":0},{"$f":"IF(D116-E116<=0,E116-D116,0)","v":0}]
[{"$f":"iPCU!A111","v":"Condomino22"},{"$f":"iPCU!B111","v":"P.01.22"},null,{"$f":"iPUS!D117","v":0},{"$f":"cUSCITE!D111","v":0},0,0]
[{"$f":"iPCU!A112","v":"Condomino23"},{"$f":"iPCU!B112","v":"P.01.23"},null,{"$f":"iPUS!D118","v":0},{"$f":"cUSCITE!D112","v":0},0,0]
[{"$f":"iPCU!A113","v":"Inquilino1"},{"$f":"iPCU!B113","v":"P.01.24"},null,{"$f":"iPUS!D119","v":0},{"$f":"cUSCITE!D113","v":0},0,0]
[{"$f":"iPCU!A114","v":"Inquilino2"},{"$f":"iPCU!B114","v":"P.01.25"},null,{"$f":"iPUS!D120","v":0},{"$f":"cUSCITE!D114","v":0},0,0]
[{"$f":"iPCU!A115","v":"Inquilino3"},{"$f":"iPCU!B115","v":"P.01.26"},null,{"$f":"iPUS!D121","v":0},{"$f":"cUSCITE!D115","v":0},0,0]
[{"$f":"iPCU!A116","v":"Inquilino4"},{"$f":"iPCU!B116","v":"P.01.27"},null,{"$f":"iPUS!D122","v":0},{"$f":"cUSCITE!D116","v":0},0,0]
[{"$f":"iPCU!A117","v":"Inquilino5"},{"$f":"iPCU!B117","v":"P.01.28"},null,{"$f":"iPUS!D123","v":0},{"$f":"cUSCITE!D117","v":0},0,0]
[{"$f":"iPCU!A118","v":0},{"$f":"iPCU!B118","v":"P.01.29"},null,{"$f":"iPUS!D124","v":0},{"$f":"cUSCITE!D118","v":0},0,0]
[{"$f":"iPCU!A119","v":0},{"$f":"iPCU!B119","v":"P.01.30"},null,{"$f":"iPUS!D125","v":0},{"$f":"cUSCITE!D119","v":0},0,0]
[{"$f":"iPCU!A120","v":0},{"$f":"iPCU!B120","v":"P.01.31"},null,{"$f":"iPUS!D126","v":0},{"$f":"cUSCITE!D120","v":0},0,0]
[{"$f":"iPCU!A121","v":0},{"$f":"iPCU!B121","v":"P.01.32"},null,{"$f":"iPUS!D127","v":0},{"$f":"cUSCITE!D121","v":0},0,0]
[{"$f":"iPCU!A122","v":0},{"$f":"iPCU!B122","v":"P.01.33"},null,{"$f":"iPUS!D128","v":0},{"$f":"cUSCITE!D122","v":0},0,0]
[{"$f":"iPCU!A123","v":0},{"$f":"iPCU!B123","v":"P.01.34"},null,{"$f":"iPUS!D129","v":0},{"$f":"cUSCITE!D123","v":0},0,0]
[{"$f":"iPCU!A124","v":0},{"$f":"iPCU!B124","v":"P.01.35"},null,{"$f":"iPUS!D130","v":0},{"$f":"cUSCITE!D124","v":0},0,0]
[{"$f":"iPCU!A125","v":0},{"$f":"iPCU!B125","v":"P.01.36"},null,{"$f":"iPUS!D131","v":0},{"$f":"cUSCITE!D125","v":0},0,0]
[{"$f":"iPCU!A126","v":0},{"$f":"iPCU!B126","v":"P.01.37"},null,{"$f":"iPUS!D132","v":0},{"$f":"cUSCITE!D126","v":0},0,0]
[{"$f":"iPCU!A127","v":0},{"$f":"iPCU!B127","v":"P.01.38"},null,{"$f":"iPUS!D133","v":0},{"$f":"cUSCITE!D127","v":0},0,0]
[{"$f":"iPCU!A128","v":0},{"$f":"iPCU!B128","v":"P.01.39"},null,{"$f":"iPUS!D134","v":0},{"$f":"cUSCITE!D128","v":0},0,0]
[{"$f":"iPCU!A129","v":0},{"$f":"iPCU!B129","v":"P.01.40"},null,{"$f":"iPUS!D135","v":0},{"$f":"cUSCITE!D129","v":0},{"$f":"IF(D135-E135>0,D135-E135,0)","v":0},{"$f":"IF(D135-E135<=0,E135-D135,0)","v":0}]
[{"$f":"iPCU!A130","v":0},{"$f":"iPCU!B130","v":"P.01.41"},null,{"$f":"iPUS!D136","v":0},{"$f":"cUSCITE!D130","v":0},{"$f":"IF(D136-E136>0,D136-E136,0)","v":0},{"$f":"IF(D136-E136<=0,E136-D136,0)","v":0}]
[{"$f":"iPCU!A131","v":0},{"$f":"iPCU!B131","v":"P.01.42"},null,{"$f":"iPUS!D137","v":0},{"$f":"cUSCITE!D131","v":0},{"$f":"IF(D137-E137>0,D137-E137,0)","v":0},{"$f":"IF(D137-E137<=0,E137-D137,0)","v":0}]
[{"$f":"iPCU!A132","v":0},{"$f":"iPCU!B132","v":"P.01.43"},null,{"$f":"iPUS!D138","v":0},{"$f":"cUSCITE!D132","v":0},0,0]
[{"$f":"iPCU!A133","v":0},{"$f":"iPCU!B133","v":"P.01.44"},null,{"$f":"iPUS!D139","v":0},{"$f":"cUSCITE!D133","v":0},0,0]
[{"$f":"iPCU!A134","v":0},{"$f":"iPCU!B134","v":"P.01.45"},null,{"$f":"iPUS!D140","v":0},{"$f":"cUSCITE!D134","v":0},0,0]
[{"$f":"iPCU!A135","v":0},{"$f":"iPCU!B135","v":"P.01.46"},null,{"$f":"iPUS!D141","v":0},{"$f":"cUSCITE!D135","v":0},0,0]
[{"$f":"iPCU!A136","v":0},{"$f":"iPCU!B136","v":"P.01.47"},null,{"$f":"iPUS!D142","v":0},{"$f":"cUSCITE!D136","v":0},0,0]
[{"$f":"iPCU!A137","v":0},{"$f":"iPCU!B137","v":"P.01.48"},null,{"$f":"iPUS!D143","v":0},{"$f":"cUSCITE!D137","v":0},0,0]
[{"$f":"iPCU!A138","v":0},{"$f":"iPCU!B138","v":"P.01.49"},null,{"$f":"iPUS!D144","v":0},{"$f":"cUSCITE!D138","v":0},0,0]
[{"$f":"iPCU!A139","v":0},{"$f":"iPCU!B139","v":"P.01.50"},null,{"$f":"iPUS!D145","v":0},{"$f":"cUSCITE!D139","v":0},0,0]
[{"$f":"iPCU!A140","v":0},{"$f":"iPCU!B140","v":"P.01.51"},null,{"$f":"iPUS!D146","v":0},{"$f":"cUSCITE!D140","v":0},0,0]
[{"$f":"iPCU!A141","v":0},{"$f":"iPCU!B141","v":"P.01.52"},null,{"$f":"iPUS!D147","v":0},{"$f":"cUSCITE!D141","v":0},0,0]
[{"$f":"iPCU!A142","v":0},{"$f":"iPCU!B142","v":"P.01.53"},null,{"$f":"iPUS!D148","v":0},{"$f":"cUSCITE!D142","v":0},0,0]
[{"$f":"iPCU!A143","v":0},{"$f":"iPCU!B143","v":"P.01.54"},null,{"$f":"iPUS!D149","v":0},{"$f":"cUSCITE!D143","v":0},0,0]
[{"$f":"iPCU!A144","v":0},{"$f":"iPCU!B144","v":"P.01.55"},null,{"$f":"iPUS!D150","v":0},{"$f":"cUSCITE!D144","v":0},0,0]
[{"$f":"iPCU!A145","v":0},{"$f":"iPCU!B145","v":"P.01.56"},null,{"$f":"iPUS!D151","v":0},{"$f":"cUSCITE!D145","v":0},0,0]
[{"$f":"iPCU!A146","v":0},{"$f":"iPCU!B146","v":"P.01.57"},null,{"$f":"iPUS!D152","v":0},{"$f":"cUSCITE!D146","v":0},0,0]
[{"$f":"iPCU!A147","v":0},{"$f":"iPCU!B147","v":"P.01.58"},null,{"$f":"iPUS!D153","v":0},{"$f":"cUSCITE!D147","v":0},{"$f":"IF(D153-E153>0,D153-E153,0)","v":0},{"$f":"IF(D153-E153<=0,E153-D153,0)","v":0}]
[{"$f":"iPCU!A148","v":0},{"$f":"iPCU!B148","v":"P.01.59"},null,{"$f":"iPUS!D154","v":0},{"$f":"cUSCITE!D148","v":0},{"$f":"IF(D154-E154>0,D154-E154,0)","v":0},{"$f":"IF(D154-E154<=0,E154-D154,0)","v":0}]
[{"$f":"iPCU!A149","v":0},{"$f":"iPCU!B149","v":"P.01.60"},null,{"$f":"iPUS!D155","v":0},{"$f":"cUSCITE!D149","v":0},{"$f":"IF(D155-E155>0,D155-E155,0)","v":0},{"$f":"IF(D155-E155<=0,E155-D155,0)","v":0}]
[{"$f":"iPCU!A150","v":0},{"$f":"iPCU!B150","v":"P.01.61"},null,{"$f":"iPUS!D156","v":0},{"$f":"cUSCITE!D150","v":0},0,0]
[{"$f":"iPCU!A151","v":0},{"$f":"iPCU!B151","v":"P.01.62"},null,{"$f":"iPUS!D157","v":0},{"$f":"cUSCITE!D151","v":0},0,0]
[{"$f":"iPCU!A152","v":0},{"$f":"iPCU!B152","v":"P.01.63"},null,{"$f":"iPUS!D158","v":0},{"$f":"cUSCITE!D152","v":0},0,0]
[{"$f":"iPCU!A153","v":0},{"$f":"iPCU!B153","v":"P.01.64"},null,{"$f":"iPUS!D159","v":0},{"$f":"cUSCITE!D153","v":0},0,0]
[{"$f":"iPCU!A154","v":0},{"$f":"iPCU!B154","v":"P.01.65"},null,{"$f":"iPUS!D160","v":0},{"$f":"cUSCITE!D154","v":0},0,0]
[{"$f":"iPCU!A155","v":0},{"$f":"iPCU!B155","v":"P.01.66"},null,{"$f":"iPUS!D161","v":0},{"$f":"cUSCITE!D155","v":0},0,0]
[{"$f":"iPCU!A156","v":0},{"$f":"iPCU!B156","v":"P.01.67"},null,{"$f":"iPUS!D162","v":0},{"$f":"cUSCITE!D156","v":0},0,0]
[{"$f":"iPCU!A157","v":0},{"$f":"iPCU!B157","v":"P.01.68"},null,{"$f":"iPUS!D163","v":0},{"$f":"cUSCITE!D157","v":0},0,0]
[{"$f":"iPCU!A158","v":0},{"$f":"iPCU!B158","v":"P.01.69"},null,{"$f":"iPUS!D164","v":0},{"$f":"cUSCITE!D158","v":0},0,0]
[{"$f":"iPCU!A159","v":0},{"$f":"iPCU!B159","v":"P.01.70"},null,{"$f":"iPUS!D165","v":0},{"$f":"cUSCITE!D159","v":0},0,0]
[{"$f":"iPCU!A160","v":0},{"$f":"iPCU!B160","v":"P.01.71"},null,{"$f":"iPUS!D166","v":0},{"$f":"cUSCITE!D160","v":0},0,0]
[{"$f":"iPCU!A161","v":0},{"$f":"iPCU!B161","v":"P.01.72"},null,{"$f":"iPUS!D167","v":0},{"$f":"cUSCITE!D161","v":0},{"$f":"IF(D167-E167>0,D167-E167,0)","v":0},{"$f":"IF(D167-E167<=0,E167-D167,0)","v":0}]
[{"$f":"iPCU!A162","v":0},{"$f":"iPCU!B162","v":"P.01.73"},null,{"$f":"iPUS!D168","v":0},{"$f":"cUSCITE!D162","v":0},{"$f":"IF(D168-E168>0,D168-E168,0)","v":0},{"$f":"IF(D168-E168<=0,E168-D168,0)","v":0}]
[{"$f":"iPCU!A163","v":0},{"$f":"iPCU!B163","v":"P.01.74"},null,{"$f":"iPUS!D169","v":0},{"$f":"cUSCITE!D163","v":0},{"$f":"IF(D169-E169>0,D169-E169,0)","v":0},{"$f":"IF(D169-E169<=0,E169-D169,0)","v":0}]
[{"$f":"iPCU!A164","v":0},{"$f":"iPCU!B164","v":"P.01.75"},null,{"$f":"iPUS!D170","v":0},{"$f":"cUSCITE!D164","v":0},0,0]
[{"$f":"iPCU!A165","v":0},{"$f":"iPCU!B165","v":"P.01.76"},null,{"$f":"iPUS!D171","v":0},{"$f":"cUSCITE!D165","v":0},0,0]
[{"$f":"iPCU!A166","v":0},{"$f":"iPCU!B166","v":"P.01.77"},null,{"$f":"iPUS!D172","v":0},{"$f":"cUSCITE!D166","v":0},0,0]
[{"$f":"iPCU!A167","v":0},{"$f":"iPCU!B167","v":"P.01.78"},null,{"$f":"iPUS!D173","v":0},{"$f":"cUSCITE!D167","v":0},0,0]
[{"$f":"iPCU!A168","v":0},{"$f":"iPCU!B168","v":"P.01.79"},null,{"$f":"iPUS!D174","v":0},{"$f":"cUSCITE!D168","v":0},0,0]
[{"$f":"iPCU!A169","v":0},{"$f":"iPCU!B169","v":"P.01.80"},null,{"$f":"iPUS!D175","v":0},{"$f":"cUSCITE!D169","v":0},0,0]
[{"$f":"iPCU!A170","v":0},{"$f":"iPCU!B170","v":"P.01.81"},null,{"$f":"iPUS!D176","v":0},{"$f":"cUSCITE!D170","v":0},0,0]
[{"$f":"iPCU!A171","v":0},{"$f":"iPCU!B171","v":"P.01.82"},null,{"$f":"iPUS!D177","v":0},{"$f":"cUSCITE!D171","v":0},0,0]
[{"$f":"iPCU!A172","v":0},{"$f":"iPCU!B172","v":"P.01.83"},null,{"$f":"iPUS!D178","v":0},{"$f":"cUSCITE!D172","v":0},0,0]
[{"$f":"iPCU!A173","v":0},{"$f":"iPCU!B173","v":"P.01.84"},null,{"$f":"iPUS!D179","v":0},{"$f":"cUSCITE!D173","v":0},0,0]
[{"$f":"iPCU!A174","v":0},{"$f":"iPCU!B174","v":"P.01.85"},null,{"$f":"iPUS!D180","v":0},{"$f":"cUSCITE!D174","v":0},{"$f":"IF(D180-E180>0,D180-E180,0)","v":0},{"$f":"IF(D180-E180<=0,E180-D180,0)","v":0}]
[{"$f":"iPCU!A175","v":0},{"$f":"iPCU!B175","v":"P.01.86"},null,{"$f":"iPUS!D181","v":0},{"$f":"cUSCITE!D175","v":0},0,0]
[{"$f":"iPCU!A176","v":0},{"$f":"iPCU!B176","v":"P.01.87"},null,{"$f":"iPUS!D182","v":0},{"$f":"cUSCITE!D176","v":0},0,0]
[{"$f":"iPCU!A177","v":0},{"$f":"iPCU!B177","v":"P.01.88"},null,{"$f":"iPUS!D183","v":0},{"$f":"cUSCITE!D177","v":0},0,0]
[{"$f":"iPCU!A178","v":0},{"$f":"iPCU!B178","v":"P.01.89"},null,{"$f":"iPUS!D184","v":0},{"$f":"cUSCITE!D178","v":0},0,0]
[{"$f":"iPCU!A179","v":0},{"$f":"iPCU!B179","v":"P.01.90"},null,{"$f":"iPUS!D185","v":0},{"$f":"cUSCITE!D179","v":0},0,0]
[{"$f":"iPCU!A180","v":0},{"$f":"iPCU!B180","v":"P.01.91"},null,{"$f":"iPUS!D186","v":0},{"$f":"cUSCITE!D180","v":0},0,0]
[{"$f":"iPCU!A181","v":0},{"$f":"iPCU!B181","v":"P.01.92"},null,{"$f":"iPUS!D187","v":0},{"$f":"cUSCITE!D181","v":0},0,0]
[{"$f":"iPCU!A182","v":0},{"$f":"iPCU!B182","v":"P.01.93"},null,{"$f":"iPUS!D188","v":0},{"$f":"cUSCITE!D182","v":0},0,0]
[{"$f":"iPCU!A183","v":0},{"$f":"iPCU!B183","v":"P.01.94"},null,{"$f":"iPUS!D189","v":0},{"$f":"cUSCITE!D183","v":0},{"$f":"IF(D189-E189>0,D189-E189,0)","v":0},{"$f":"IF(D189-E189<=0,E189-D189,0)","v":0}]
[{"$f":"iPCU!A184","v":0},{"$f":"iPCU!B184","v":"P.01.95"},null,{"$f":"iPUS!D190","v":0},{"$f":"cUSCITE!D184","v":0},0,0]
[{"$f":"iPCU!A185","v":0},{"$f":"iPCU!B185","v":"P.01.96"},null,{"$f":"iPUS!D191","v":0},{"$f":"cUSCITE!D185","v":0},0,0]
[{"$f":"iPCU!A186","v":0},{"$f":"iPCU!B186","v":"P.01.97"},null,{"$f":"iPUS!D192","v":0},{"$f":"cUSCITE!D186","v":0},0,0]
[{"$f":"iPCU!A187","v":0},{"$f":"iPCU!B187","v":"P.01.98"},null,{"$f":"iPUS!D193","v":0},{"$f":"cUSCITE!D187","v":0},0,0]
[{"$f":"iPCU!A188","v":0},{"$f":"iPCU!B188","v":"P.01.99"},null,{"$f":"iPUS!D194","v":0},{"$f":"cUSCITE!D188","v":0},0,0]
["TOTALE SPESE",null,null,{"$f":"SUM(D11,D27,D38,D49,D60,D71,D77,D83)","v":6950},{"$f":"SUM(E11,E27,E38,E49,E60,E71)","v":590},{"$f":"SUM(F11,F27,F38,F49,F60,F71,F77,F83)","v":6390},{"$f":"SUM(G11,G27,G38,G49,G60,G71)","v":30}]
[{"$f":"IF(D195>E195,\"IMPORTO in meno\",\"IMPORTO in più\")","v":"IMPORTO in meno"},null,null,{"$f":"ABS(D195-E195)","v":6360},null,{"$f":"ABS(F195-G195)","v":6360}]

{"sheet":"cREUI","index":30,"n_rows":111,"n_cols":10,"rows_kept":111,"cut":false,"hidden":true,"merged":[[7,0,9,0],[7,1,9,1],[7,2,9,2],[7,8,9,8],[7,9,9,9]]}
[]
[]
[]
[]
[]
["Condominio \"TERMICO\""]
["RIPARTO fra le UNITÀ IMMOBILIARI delle SPESE (Esercizio 2021-2022)"]
["COD. UNITÀ","CODICE\nCONDOM.","CODICE\nFRUITORE","QUOTE\nTOTALI","QUOTE\nTOTALI","QUOTE\nTOTALI","QUOTE\nTOTALI","QUOTE\nTOTALI","TOTALE\nQUOTE\nUnità","SUB CATAS."]
[null,null,null,"Tabella A","Tabella B","Tabella C","Tabella D","Tabella E"]
[null,null,null,"PROPRIETÀ GENERALE","UTILIZZO","POTENZA INSTALLATA","NUMERO TERMOSIFONI","CONSUMI"]
[{"$f":"iUI!B11","v":"U01"},{"$f":"IF(iUI!C11<>\"\",iUI!C11,\"\")","v":"C20"},{"$f":"IF(iUI!D11<>\"\",iUI!D11,\"\")","v":"I01"},0,5.69,1.48,0,3.44,{"$f":"SUM(D11:H11)","v":10.61},{"$f":"cTABUI!L11","v":75}]
[{"$f":"iUI!B12","v":"U02"},{"$f":"IF(iUI!C12<>\"\",iUI!C12,\"\")","v":"C09"},{"$f":"IF(iUI!D12<>\"\",iUI!D12,\"\")","v":"C09"},0,7.7,3.02,0,3.44,{"$f":"SUM(D12:H12)","v":14.16},{"$f":"cTABUI!L12","v":58}]
[{"$f":"iUI!B13","v":"U03"},{"$f":"IF(iUI!C13<>\"\",iUI!C13,\"\")","v":"C03"},{"$f":"IF(iUI!D13<>\"\",iUI!D13,\"\")","v":"C03"},0,13.08,6.04,0,3.44,22.560000000000002,{"$f":"cTABUI!L13","v":76}]
[{"$f":"iUI!B14","v":"U04"},{"$f":"IF(iUI!C14<>\"\",iUI!C14,\"\")","v":"C04"},{"$f":"IF(iUI!D14<>\"\",iUI!D14,\"\")","v":"C04"},0,7.03,2.93,0,3.44,13.4,{"$f":"cTABUI!L14","v":60}]
[{"$f":"iUI!B15","v":"U05"},{"$f":"IF(iUI!C15<>\"\",iUI!C15,\"\")","v":"C23"},{"$f":"IF(iUI!D15<>\"\",iUI!D15,\"\")","v":"C23"},0,7.36,3.74,0,3.44,14.540000000000001,{"$f":"cTABUI!L15","v":61}]
[{"$f":"iUI!B16","v":"U06"},{"$f":"IF(iUI!C16<>\"\",iUI!C16,\"\")","v":"C15"},{"$f":"IF(iUI!D16<>\"\",iUI!D16,\"\")","v":"C15"},0,7.03,3.5700000000000003,0,6.8900000000000006,17.490000000000002,{"$f":"cTABUI!L16","v":62}]
[{"$f":"iUI!B17","v":"U07"},{"$f":"IF(iUI!C17<>\"\",iUI!C17,\"\")","v":"C05"},{"$f":"IF(iUI!D17<>\"\",iUI!D17,\"\")","v":"C05"},0,9.0400000000000009,4.84,0,10.33,24.21,{"$f":"cTABUI!L17","v":7}]
[{"$f":"iUI!B18","v":"U08"},{"$f":"IF(iUI!C18<>\"\",iUI!C18,\"\")","v":"C13"},{"$f":"IF(iUI!D18<>\"\",iUI!D18,\"\")","v":"C13"},0,7.36,3.99,0,10.33,21.68,{"$f":"cTABUI!L18","v":8}]
[{"$f":"iUI!B19","v":"U09"},{"$f":"IF(iUI!C19<>\"\",iUI!C19,\"\")","v":"C11"},{"$f":"IF(iUI!D19<>\"\",iUI!D19,\"\")","v":"C11"},0,7.03,2.2200000000000002,0,15.49,24.740000000000002,{"$f":"cTABUI!L19","v":10}]
[{"$f":"iUI!B20","v":"U10"},{"$f":"IF(iUI!C20<>\"\",iUI!C20,\"\")","v":"C19"},{"$f":"IF(iUI!D20<>\"\",iUI!D20,\"\")","v":"C19"},0,11.040000000000001,5.32,0,13.77,30.13,{"$f":"cTABUI!L20","v":79}]
[{"$f":"iUI!B21","v":"U11"},{"$f":"IF(iUI!C21<>\"\",iUI!C21,\"\")","v":"C22"},{"$f":"IF(iUI!D21<>\"\",iUI!D21,\"\")","v":"C22"},0,5.36,2.4700000000000002,0,13.77,21.6,{"$f":"cTABUI!L21","v":80}]
[{"$f":"iUI!B22","v":"U12"},{"$f":"IF(iUI!C22<>\"\",iUI!C22,\"\")","v":"C21"},{"$f":"IF(iUI!D22<>\"\",iUI!D22,\"\")","v":"C21"},0,7.03,3.58,0,13.77,24.38,{"$f":"cTABUI!L22","v":14}]
[{"$f":"iUI!B23","v":"U13"},{"$f":"IF(iUI!C23<>\"\",iUI!C23,\"\")","v":"C18"},{"$f":"IF(iUI!D23<>\"\",iUI!D23,\"\")","v":"I02"},0,12.17,6.36,0,17.21,35.74,{"$f":"cTABUI!L23","v":15}]
[{"$f":"iUI!B24","v":"U14"},{"$f":"IF(iUI!C24<>\"\",iUI!C24,\"\")","v":"C14"},{"$f":"IF(iUI!D24<>\"\",iUI!D24,\"\")","v":"C14"},0,5.67,3.27,0,17.21,26.15,{"$f":"cTABUI!L24","v":16}]
[{"$f":"iUI!B25","v":"U15"},{"$f":"IF(iUI!C25<>\"\",iUI!C25,\"\")","v":"C02"},{"$f":"IF(iUI!D25<>\"\",iUI!D25,\"\")","v":"I03"},0,7.03,3.47,0,17.21,27.71,{"$f":"cTABUI!L25","v":17}]
[{"$f":"iUI!B26","v":"U16"},{"$f":"IF(iUI!C26<>\"\",iUI!C26,\"\")","v":"C16"},{"$f":"IF(iUI!D26<>\"\",iUI!D26,\"\")","v":"C16"},0,10.040000000000001,4.42,0,17.21,31.67,{"$f":"cTABUI!L26","v":83}]
[{"$f":"iUI!B27","v":"U17"},{"$f":"IF(iUI!C27<>\"\",iUI!C27,\"\")","v":"C12"},{"$f":"IF(iUI!D27<>\"\",iUI!D27,\"\")","v":"C12"},0,9.0400000000000009,4.33,0,17.21,30.580000000000002,{"$f":"cTABUI!L27","v":81}]
[{"$f":"iUI!B28","v":"U18"},{"$f":"IF(iUI!C28<>\"\",iUI!C28,\"\")","v":"C06"},{"$f":"IF(iUI!D28<>\"\",iUI!D28,\"\")","v":"C06"},0,8.0299999999999994,4.91,0,17.21,30.15,{"$f":"cTABUI!L28","v":21}]
[{"$f":"iUI!B29","v":"U19"},{"$f":"IF(iUI!C29<>\"\",iUI!C29,\"\")","v":"C07"},{"$f":"IF(iUI!D29<>\"\",iUI!D29,\"\")","v":"C07"},0,6.8,2.5,0,20.66,29.96,{"$f":"cTABUI!L29","v":22}]
[{"$f":"iUI!B30","v":"U20"},{"$f":"IF(iUI!C30<>\"\",iUI!C30,\"\")","v":"C17"},{"$f":"IF(iUI!D30<>\"\",iUI!D30,\"\")","v":"C17"},0,14.05,6.3500000000000005,0,20.66,41.06,{"$f":"cTABUI!L30","v":23}]
[{"$f":"iUI!B31","v":"U21"},{"$f":"IF(iUI!C31<>\"\",iUI!C31,\"\")","v":"C01"},{"$f":"IF(iUI!D31<>\"\",iUI!D31,\"\")","v":"C01"},0,5.69,2.63,0,20.66,28.98,{"$f":"cTABUI!L31","v":24}]
[{"$f":"iUI!B32","v":"U22"},{"$f":"IF(iUI!C32<>\"\",iUI!C32,\"\")","v":"C10"},{"$f":"IF(iUI!D32<>\"\",iUI!D32,\"\")","v":"I04"},0,9.370000000000001,2.12,0,24.110000000000003,35.600000000000009,{"$f":"cTABUI!L32","v":82}]
[{"$f":"iUI!B33","v":"U23"},{"$f":"IF(iUI!C33<>\"\",iUI!C33,\"\")","v":"C08"},{"$f":"IF(iUI!D33<>\"\",iUI!D33,\"\")","v":"C08"},0,5.67,0.72,0,24.1,30.490000000000002,{"$f":"cTABUI!L33","v":73}]
[{"$f":"iUI!B34","v":"U24"},{"$f":"IF(iUI!C34<>\"\",iUI!C34,\"\")","v":"C12"},{"$f":"IF(iUI!D34<>\"\",iUI!D34,\"\")","v":"I05"},0,1.69,0.72,0,0,2.41,{"$f":"cTABUI!L34","v":78}]
[{"$f":"iUI!B35","v":"U25"},{"$f":"IF(iUI!C35<>\"\",iUI!C35,\"\")","v":""},{"$f":"IF(iUI!D35<>\"\",iUI!D35,\"\")","v":""},null,null,null,null,null,0,{"$f":"cTABUI!L35","v":0}]
[{"$f":"iUI!B36","v":"U26"},{"$f":"IF(iUI!C36<>\"\",iUI!C36,\"\")","v":""},{"$f":"IF(iUI!D36<>\"\",iUI!D36,\"\")","v":""},null,null,null,null,null,0,{"$f":"cTABUI!L36","v":0}]
[{"$f":"iUI!B37","v":"U27"},{"$f":"IF(iUI!C37<>\"\",iUI!C37,\"\")","v":""},{"$f":"IF(iUI!D37<>\"\",iUI!D37,\"\")","v":""},null,null,null,null,null,0,{"$f":"cTABUI!L37","v":0}]
[{"$f":"iUI!B38","v":"U28"},{"$f":"IF(iUI!C38<>\"\",iUI!C38,\"\")","v":""},{"$f":"IF(iUI!D38<>\"\",iUI!D38,\"\")","v":""},null,null,null,null,null,0,{"$f":"cTABUI!L38","v":0}]
[{"$f":"iUI!B39","v":"U29"},{"$f":"IF(iUI!C39<>\"\",iUI!C39,\"\")","v":""},{"$f":"IF(iUI!D39<>\"\",iUI!D39,\"\")","v":""},null,null,null,null,null,0,{"$f":"cTABUI!L39","v":0}]
[{"$f":"iUI!B40","v":"U30"},{"$f":"IF(iUI!C40<>\"\",iUI!C40,\"\")","v":""},{"$f":"IF(iUI!D40<>\"\",iUI!D40,\"\")","v":""},null,null,null,null,null,0,{"$f":"cTABUI!L40","v":0}]
[{"$f":"iUI!B41","v":"U31"},{"$f":"IF(iUI!C41<>\"\",iUI!C41,\"\")","v":""},{"$f":"IF(iUI!D41<>\"\",iUI!D41,\"\")","v":""},null,null,null,null,null,0,{"$f":"cTABUI!L41","v":0}]
[{"$f":"iUI!B42","v":"U32"},{"$f":"IF(iUI!C42<>\"\",iUI!C42,\"\")","v":""},{"$f":"IF(iUI!D42<>\"\",iUI!D42,\"\")","v":""},null,null,null,null,null,0,{"$f":"cTABUI!L42","v":0}]
[{"$f":"iUI!B43","v":"U33"},{"$f":"IF(iUI!C43<>\"\",iUI!C43,\"\")","v":""},{"$f":"IF(iUI!D43<>\"\",iUI!D43,\"\")","v":""},null,null,null,null,null,0,{"$f":"cTABUI!L43","v":0}]
[{"$f":"iUI!B44","v":"U34"},{"$f":"IF(iUI!C44<>\"\",iUI!C44,\"\")","v":""},{"$f":"IF(iUI!D44<>\"\",iUI!D44,\"\")","v":""},null,null,null,null,null,0,{"$f":"cTABUI!L44","v":0}]
[{"$f":"iUI!B45","v":"U35"},{"$f":"IF(iUI!C45<>\"\",iUI!C45,\"\")","v":""},{"$f":"IF(iUI!D45<>\"\",iUI!D45,\"\")","v":""},null,null,null,null,null,0,{"$f":"cTABUI!L45","v":0}]
[{"$f":"iUI!B46","v":"U36"},{"$f":"IF(iUI!C46<>\"\",iUI!C46,\"\")","v":""},{"$f":"IF(iUI!D46<>\"\",iUI!D46,\"\")","v":""},null,null,null,null,null,0,{"$f":"cTABUI!L46","v":0}]
[{"$f":"iUI!B47","v":"U37"},{"$f":"IF(iUI!C47<>\"\",iUI!C47,\"\")","v":""},{"$f":"IF(iUI!D47<>\"\",iUI!D47,\"\")","v":""},null,null,null,null,null,0,{"$f":"cTABUI!L47","v":0}]
[{"$f":"iUI!B48","v":"U38"},{"$f":"IF(iUI!C48<>\"\",iUI!C48,\"\")","v":""},{"$f":"IF(iUI!D48<>\"\",iUI!D48,\"\")","v":""},null,null,null,null,null,0,{"$f":"cTABUI!L48","v":0}]
[{"$f":"iUI!B49","v":"U39"},{"$f":"IF(iUI!C49<>\"\",iUI!C49,\"\")","v":""},{"$f":"IF(iUI!D49<>\"\",iUI!D49,\"\")","v":""},null,null,null,null,null,0,{"$f":"cTABUI!L49","v":0}]
[{"$f":"iUI!B50","v":"U40"},{"$f":"IF(iUI!C50<>\"\",iUI!C50,\"\")","v":""},{"$f":"IF(iUI!D50<>\"\",iUI!D50,\"\")","v":""},null,null,null,null,null,0,{"$f":"cTABUI!L50","v":0}]
[{"$f":"iUI!B51","v":"U41"},{"$f":"IF(iUI!C51<>\"\",iUI!C51,\"\")","v":""},{"$f":"IF(iUI!D51<>\"\",iUI!D51,\"\")","v":""},null,null,null,null,null,0,{"$f":"cTABUI!L51","v":0}]
[{"$f":"iUI!B52","v":"U42"},{"$f":"IF(iUI!C52<>\"\",iUI!C52,\"\")","v":""},{"$f":"IF(iUI!D52<>\"\",iUI!D52,\"\")","v":""},null,null,null,null,null,0,{"$f":"cTABUI!L52","v":0}]
[{"$f":"iUI!B53","v":"U43"},{"$f":"IF(iUI!C53<>\"\",iUI!C53,\"\")","v":""},{"$f":"IF(iUI!D53<>\"\",iUI!D53,\"\")","v":""},null,null,null,null,null,0,{"$f":"cTABUI!L53","v":0}]
[{"$f":"iUI!B54","v":"U44"},{"$f":"IF(iUI!C54<>\"\",iUI!C54,\"\")","v":""},{"$f":"IF(iUI!D54<>\"\",iUI!D54,\"\")","v":""},null,null,null,null,null,0,{"$f":"cTABUI!L54","v":0}]
[{"$f":"iUI!B55","v":"U45"},{"$f":"IF(iUI!C55<>\"\",iUI!C55,\"\")","v":""},{"$f":"IF(iUI!D55<>\"\",iUI!D55,\"\")","v":""},null,null,null,null,null,0,{"$f":"cTABUI!L55","v":0}]
[{"$f":"iUI!B56","v":"U46"},{"$f":"IF(iUI!C56<>\"\",iUI!C56,\"\")","v":""},{"$f":"IF(iUI!D56<>\"\",iUI!D56,\"\")","v":""},null,null,null,null,null,0,{"$f":"cTABUI!L56","v":0}]
[{"$f":"iUI!B56","v":"U46"},{"$f":"IF(iUI!C57<>\"\",iUI!C57,\"\")","v":""},{"$f":"IF(iUI!D57<>\"\",iUI!D57,\"\")","v":""},null,null,null,null,null,0,{"$f":"cTABUI!L57","v":0}]
[{"$f":"iUI!B57","v":"U47"},{"$f":"IF(iUI!C58<>\"\",iUI!C58,\"\")","v":""},{"$f":"IF(iUI!D58<>\"\",iUI!D58,\"\")","v":""},null,null,null,null,null,0,{"$f":"cTABUI!L58","v":0}]
[{"$f":"iUI!B58","v":"U48"},{"$f":"IF(iUI!C59<>\"\",iUI!C59,\"\")","v":""},{"$f":"IF(iUI!D59<>\"\",iUI!D59,\"\")","v":""},null,null,null,null,null,0,{"$f":"cTABUI!L59","v":0}]
[{"$f":"iUI!B59","v":"U49"},{"$f":"IF(iUI!C60<>\"\",iUI!C60,\"\")","v":""},{"$f":"IF(iUI!D60<>\"\",iUI!D60,\"\")","v":""},null,null,null,null,null,0,{"$f":"cTABUI!L60","v":0}]
[{"$f":"iUI!B60","v":"U50"},{"$f":"IF(iUI!C61<>\"\",iUI!C61,\"\")","v":""},{"$f":"IF(iUI!D61<>\"\",iUI!D61,\"\")","v":""},null,null,null,null,null,0,{"$f":"cTABUI!L61","v":0}]
[{"$f":"iUI!B61","v":"U51"},{"$f":"IF(iUI!C62<>\"\",iUI!C62,\"\")","v":""},{"$f":"IF(iUI!D62<>\"\",iUI!D62,\"\")","v":""},null,null,null,null,null,0,{"$f":"cTABUI!L62","v":0}]
[{"$f":"iUI!B62","v":"U52"},{"$f":"IF(iUI!C63<>\"\",iUI!C63,\"\")","v":""},{"$f":"IF(iUI!D63<>\"\",iUI!D63,\"\")","v":""},null,null,null,null,null,0,{"$f":"cTABUI!L63","v":0}]
[{"$f":"iUI!B63","v":"U53"},{"$f":"IF(iUI!C64<>\"\",iUI!C64,\"\")","v":""},{"$f":"IF(iUI!D64<>\"\",iUI!D64,\"\")","v":""},null,null,null,null,null,0,{"$f":"cTABUI!L64","v":0}]
[{"$f":"iUI!B64","v":"U54"},{"$f":"IF(iUI!C65<>\"\",iUI!C65,\"\")","v":""},{"$f":"IF(iUI!D65<>\"\",iUI!D65,\"\")","v":""},null,null,null,null,null,0,{"$f":"cTABUI!L65","v":0}]
[{"$f":"iUI!B65","v":"U55"},{"$f":"IF(iUI!C66<>\"\",iUI!C66,\"\")","v":""},{"$f":"IF(iUI!D66<>\"\",iUI!D66,\"\")","v":""},null,null,null,null,null,0,{"$f":"cTABUI!L66","v":0}]
[{"$f":"iUI!B66","v":"U56"},{"$f":"IF(iUI!C67<>\"\",iUI!C67,\"\")","v":""},{"$f":"IF(iUI!D67<>\"\",iUI!D67,\"\")","v":""},null,null,null,null,null,0,{"$f":"cTABUI!L67","v":0}]
[{"$f":"iUI!B67","v":"U57"},{"$f":"IF(iUI!C68<>\"\",iUI!C68,\"\")","v":""},{"$f":"IF(iUI!D68<>\"\",iUI!D68,\"\")","v":""},null,null,null,null,null,0,{"$f":"cTABUI!L68","v":0}]
[{"$f":"iUI!B68","v":"U58"},{"$f":"IF(iUI!C69<>\"\",iUI!C69,\"\")","v":""},{"$f":"IF(iUI!D69<>\"\",iUI!D69,\"\")","v":""},null,null,null,null,null,0,{"$f":"cTABUI!L69","v":0}]
[{"$f":"iUI!B69","v":"U59"},{"$f":"IF(iUI!C70<>\"\",iUI!C70,\"\")","v":""},{"$f":"IF(iUI!D70<>\"\",iUI!D70,\"\")","v":""},null,null,null,null,null,0,{"$f":"cTABUI!L70","v":0}]
[{"$f":"iUI!B70","v":"U60"},{"$f":"IF(iUI!C71<>\"\",iUI!C71,\"\")","v":""},{"$f":"IF(iUI!D71<>\"\",iUI!D71,\"\")","v":""},null,null,null,null,null,0,{"$f":"cTABUI!L71","v":0}]
[{"$f":"iUI!B71","v":"U61"},{"$f":"IF(iUI!C72<>\"\",iUI!C72,\"\")","v":""},{"$f":"IF(iUI!D72<>\"\",iUI!D72,\"\")","v":""},null,null,null,null,null,0,{"$f":"cTABUI!L72","v":0}]
[{"$f":"iUI!B72","v":"U62"},{"$f":"IF(iUI!C73<>\"\",iUI!C73,\"\")","v":""},{"$f":"IF(iUI!D73<>\"\",iUI!D73,\"\")","v":""},null,null,null,null,null,0,{"$f":"cTABUI!L73","v":0}]
[{"$f":"iUI!B73","v":"U63"},{"$f":"IF(iUI!C74<>\"\",iUI!C74,\"\")","v":""},{"$f":"IF(iUI!D74<>\"\",iUI!D74,\"\")","v":""},null,null,null,null,null,0,{"$f":"cTABUI!L74","v":0}]
[{"$f":"iUI!B74","v":"U64"},{"$f":"IF(iUI!C75<>\"\",iUI!C75,\"\")","v":""},{"$f":"IF(iUI!D75<>\"\",iUI!D75,\"\")","v":""},null,null,null,null,null,0,{"$f":"cTABUI!L75","v":0}]
[{"$f":"iUI!B75","v":"U65"},{"$f":"IF(iUI!C76<>\"\",iUI!C76,\"\")","v":""},{"$f":"IF(iUI!D76<>\"\",iUI!D76,\"\")","v":""},null,null,null,null,null,{"$f":"SUM(D76:H76)","v":0},{"$f":"cTABUI!L76","v":0}]
[{"$f":"iUI!B76","v":"U66"},{"$f":"IF(iUI!C77<>\"\",iUI!C77,\"\")","v":""},{"$f":"IF(iUI!D77<>\"\",iUI!D77,\"\")","v":""},null,null,null,null,null,0,{"$f":"cTABUI!L77","v":0}]
[{"$f":"iUI!B77","v":"U67"},{"$f":"IF(iUI!C78<>\"\",iUI!C78,\"\")","v":""},{"$f":"IF(iUI!D78<>\"\",iUI!D78,\"\")","v":""},null,null,null,null,null,0,{"$f":"cTABUI!L78","v":0}]
[{"$f":"iUI!B78","v":"U68"},{"$f":"IF(iUI!C79<>\"\",iUI!C79,\"\")","v":""},{"$f":"IF(iUI!D79<>\"\",iUI!D79,\"\")","v":""},null,null,null,null,null,0,{"$f":"cTABUI!L79","v":0}]
[{"$f":"iUI!B79","v":"U69"},{"$f":"IF(iUI!C80<>\"\",iUI!C80,\"\")","v":""},{"$f":"IF(iUI!D80<>\"\",iUI!D80,\"\")","v":""},null,null,null,null,null,0,{"$f":"cTABUI!L80","v":0}]
[{"$f":"iUI!B80","v":"U70"},{"$f":"IF(iUI!C81<>\"\",iUI!C81,\"\")","v":""},{"$f":"IF(iUI!D81<>\"\",iUI!D81,\"\")","v":""},null,null,null,null,null,0,{"$f":"cTABUI!L81","v":0}]
[{"$f":"iUI!B81","v":"U71"},{"$f":"IF(iUI!C82<>\"\",iUI!C82,\"\")","v":""},{"$f":"IF(iUI!D82<>\"\",iUI!D82,\"\")","v":""},null,null,null,null,null,0,{"$f":"cTABUI!L82","v":0}]
[{"$f":"iUI!B82","v":"U72"},{"$f":"IF(iUI!C83<>\"\",iUI!C83,\"\")","v":""},{"$f":"IF(iUI!D83<>\"\",iUI!D83,\"\")","v":""},null,null,null,null,null,0,{"$f":"cTABUI!L83","v":0}]
[{"$f":"iUI!B83","v":"U73"},{"$f":"IF(iUI!C84<>\"\",iUI!C84,\"\")","v":""},{"$f":"IF(iUI!D84<>\"\",iUI!D84,\"\")","v":""},null,null,null,null,null,0,{"$f":"cTABUI!L84","v":0}]
[{"$f":"iUI!B84","v":"U74"},{"$f":"IF(iUI!C85<>\"\",iUI!C85,\"\")","v":""},{"$f":"IF(iUI!D85<>\"\",iUI!D85,\"\")","v":""},null,null,null,null,null,0,{"$f":"cTABUI!L85","v":0}]
[{"$f":"iUI!B85","v":"U75"},{"$f":"IF(iUI!C86<>\"\",iUI!C86,\"\")","v":""},{"$f":"IF(iUI!D86<>\"\",iUI!D86,\"\")","v":""},null,null,null,null,null,0,{"$f":"cTABUI!L86","v":0}]
[{"$f":"iUI!B86","v":"U76"},{"$f":"IF(iUI!C87<>\"\",iUI!C87,\"\")","v":""},{"$f":"IF(iUI!D87<>\"\",iUI!D87,\"\")","v":""},null,null,null,null,null,0,{"$f":"cTABUI!L87","v":0}]
[{"$f":"iUI!B87","v":"U77"},{"$f":"IF(iUI!C88<>\"\",iUI!C88,\"\")","v":""},{"$f":"IF(iUI!D88<>\"\",iUI!D88,\"\")","v":""},null,null,null,null,null,0,{"$f":"cTABUI!L88","v":0}]
[{"$f":"iUI!B88","v":"U78"},{"$f":"IF(iUI!C89<>\"\",iUI!C89,\"\")","v":""},{"$f":"IF(iUI!D89<>\"\",iUI!D89,\"\")","v":""},null,null,null,null,null,0,{"$f":"cTABUI!L89","v":0}]
[{"$f":"iUI!B89","v":"U79"},{"$f":"IF(iUI!C90<>\"\",iUI!C90,\"\")","v":""},{"$f":"IF(iUI!D90<>\"\",iUI!D90,\"\")","v":""},null,null,null,null,null,0,{"$f":"cTABUI!L90","v":0}]
[{"$f":"iUI!B90","v":"U80"},{"$f":"IF(iUI!C91<>\"\",iUI!C91,\"\")","v":""},{"$f":"IF(iUI!D91<>\"\",iUI!D91,\"\")","v":""},null,null,null,null,null,0,{"$f":"cTABUI!L91","v":0}]
[{"$f":"iUI!B91","v":"U81"},{"$f":"IF(iUI!C92<>\"\",iUI!C92,\"\")","v":""},{"$f":"IF(iUI!D92<>\"\",iUI!D92,\"\")","v":""},null,null,null,null,null,0,{"$f":"cTABUI!L92","v":0}]
[{"$f":"iUI!B92","v":"U82"},{"$f":"IF(iUI!C93<>\"\",iUI!C93,\"\")","v":""},{"$f":"IF(iUI!D93<>\"\",iUI!D93,\"\")","v":""},null,null,null,null,null,0,{"$f":"cTABUI!L93","v":0}]
[{"$f":"iUI!B93","v":"U83"},{"$f":"IF(iUI!C94<>\"\",iUI!C94,\"\")","v":""},{"$f":"IF(iUI!D94<>\"\",iUI!D94,\"\")","v":""},null,null,null,null,null,0,{"$f":"cTABUI!L94","v":0}]
[{"$f":"iUI!B94","v":"U84"},{"$f":"IF(iUI!C95<>\"\",iUI!C95,\"\")","v":""},{"$f":"IF(iUI!D95<>\"\",iUI!D95,\"\")","v":""},null,null,null,null,null,0,{"$f":"cTABUI!L95","v":0}]
[{"$f":"iUI!B95","v":"U85"},{"$f":"IF(iUI!C96<>\"\",iUI!C96,\"\")","v":""},{"$f":"IF(iUI!D96<>\"\",iUI!D96,\"\")","v":""},null,null,null,null,null,0,{"$f":"cTABUI!L96","v":0}]
[{"$f":"iUI!B96","v":"U86"},{"$f":"IF(iUI!C97<>\"\",iUI!C97,\"\")","v":""},{"$f":"IF(iUI!D97<>\"\",iUI!D97,\"\")","v":""},null,null,null,null,null,0,{"$f":"cTABUI!L97","v":0}]
[{"$f":"iUI!B97","v":"U87"},{"$f":"IF(iUI!C98<>\"\",iUI!C98,\"\")","v":""},{"$f":"IF(iUI!D98<>\"\",iUI!D98,\"\")","v":""},null,null,null,null,null,0,{"$f":"cTABUI!L98","v":0}]
[{"$f":"iUI!B98","v":"U88"},{"$f":"IF(iUI!C99<>\"\",iUI!C99,\"\")","v":""},{"$f":"IF(iUI!D99<>\"\",iUI!D99,\"\")","v":""},null,null,null,null,null,0,{"$f":"cTABUI!L99","v":0}]
[{"$f":"iUI!B99","v":"U89"},{"$f":"IF(iUI!C100<>\"\",iUI!C100,\"\")","v":""},{"$f":"IF(iUI!D100<>\"\",iUI!D100,\"\")","v":""},null,null,null,null,null,0,{"$f":"cTABUI!L100","v":0}]
[{"$f":"iUI!B100","v":"U90"},{"$f":"IF(iUI!C101<>\"\",iUI!C101,\"\")","v":""},{"$f":"IF(iUI!D101<>\"\",iUI!D101,\"\")","v":""},null,null,null,null,null,0,{"$f":"cTABUI!L101","v":0}]
[{"$f":"iUI!B101","v":"U91"},{"$f":"IF(iUI!C102<>\"\",iUI!C102,\"\")","v":""},{"$f":"IF(iUI!D102<>\"\",iUI!D102,\"\")","v":""},null,null,null,null,null,0,{"$f":"cTABUI!L102","v":0}]
[{"$f":"iUI!B102","v":"U92"},{"$f":"IF(iUI!C103<>\"\",iUI!C103,\"\")","v":""},{"$f":"IF(iUI!D103<>\"\",iUI!D103,\"\")","v":""},null,null,null,null,null,0,{"$f":"cTABUI!L103","v":0}]
[{"$f":"iUI!B103","v":"U93"},{"$f":"IF(iUI!C104<>\"\",iUI!C104,\"\")","v":""},{"$f":"IF(iUI!D104<>\"\",iUI!D104,\"\")","v":""},null,null,null,null,null,0,{"$f":"cTABUI!L104","v":0}]
[{"$f":"iUI!B104","v":"U94"},{"$f":"IF(iUI!C105<>\"\",iUI!C105,\"\")","v":""},{"$f":"IF(iUI!D105<>\"\",iUI!D105,\"\")","v":""},null,null,null,null,null,0,{"$f":"cTABUI!L105","v":0}]
[{"$f":"iUI!B106","v":"U96"},{"$f":"IF(iUI!C106<>\"\",iUI!C106,\"\")","v":""},{"$f":"IF(iUI!D106<>\"\",iUI!D106,\"\")","v":""},null,null,null,null,null,0,{"$f":"cTABUI!L106","v":0}]
[{"$f":"iUI!B107","v":"U97"},{"$f":"IF(iUI!C107<>\"\",iUI!C107,\"\")","v":""},{"$f":"IF(iUI!D107<>\"\",iUI!D107,\"\")","v":""},null,null,null,null,null,0,{"$f":"cTABUI!L107","v":0}]
[{"$f":"iUI!B108","v":"U98"},{"$f":"IF(iUI!C108<>\"\",iUI!C108,\"\")","v":""},{"$f":"IF(iUI!D108<>\"\",iUI!D108,\"\")","v":""},null,null,null,null,null,0,{"$f":"cTABUI!L108","v":0}]
[{"$f":"iUI!B109","v":"U99"},{"$f":"IF(iUI!C109<>\"\",iUI!C109,\"\")","v":""},{"$f":"IF(iUI!D109<>\"\",iUI!D109,\"\")","v":""},null,null,null,null,null,0,{"$f":"cTABUI!L109","v":0}]
[null,null,"TOTALE",{"$f":"SUM(D11:D109)","v":0},190.00000000000003,84.999999999999986,0,315.00000000000006,589.99999999999989]
["controllo sulle spese",null,null,{"$f":"SUM(D110:H110)","v":590},null,null,null,null,{"$f":"I110","v":589.99999999999989}]

{"sheet":"cRESS","index":31,"n_rows":111,"n_cols":11,"rows_kept":111,"cut":false,"hidden":true,"merged":[[7,0,9,0],[7,1,9,1],[7,2,9,2],[7,10,9,10],[110,4,110,8],[7,3,9,3]]}
[]
[]
[]
[]
[]
["Condominio \"TERMICO\""]
["RIPARTO fra i SOGGETTI delle SPESE sostenute per l'esercizio 2021-2022"]
["n. fruitore","CODICE SOGGETTO","UNITÀ IMMOBILIARI","SOGGETTO\ntenuto a contribuire alle spese",{"$f":"cRPUI!D8","v":"QUOTE\nTOTALI"},{"$f":"cRPUI!E8","v":"QUOTE\nTOTALI"},{"$f":"cRPUI!F8","v":"QUOTE\nTOTALI"},{"$f":"cRPUI!G8","v":"QUOTE\nTOTALI"},{"$f":"cRPUI!H8","v":"QUOTE\nTOTALI"},"SPESE","TOTALE\nQUOTA\nSOGGETTO"]
[null,null,null,null,{"$f":"cRPUI!D9","v":"Tabella A"},{"$f":"cRPUI!E9","v":"Tabella B"},{"$f":"cRPUI!F9","v":"Tabella C"},{"$f":"cRPUI!G9","v":"Tabella D"},{"$f":"cRPUI!H9","v":"Tabella E"},"PERSONALI"]
[null,null,null,null,"PROPRIETÀ GENERALE","UTILIZZO","POTENZA INSTALLATA","NUMERO TERMOSIFONI","CONSUMI"]
[1,{"$f":"cTABSS!B11","v":"C01"},"U21",{"$f":"cTABSS!C11","v":"Condomino01"},{"$f":"SUMIFS(cREUI!$D$11:$D$109,cREUI!$B$11:$B$109,B11)","v":0},{"$f":"SUMIFS(cREUI!$E$11:$E$109,cREUI!$C$11:$C$109,B11)","v":5.69},{"$f":"SUMIFS(cREUI!$F$11:$F$109,cREUI!$C$11:$C$109,B11)","v":2.63},{"$f":"SUMIFS(cREUI!$G$11:$G$109,cREUI!$C$11:$C$109,B11)","v":0},{"$f":"SUMIFS(cREUI!$H$11:$H$109,cREUI!$C$11:$C$109,B11)","v":20.66},{"$f":"cUSCITE!D90","v":0},{"$f":"SUM(E11:J11)","v":28.98}]
[2,{"$f":"cTABSS!B12","v":"C02"},"U15",{"$f":"cTABSS!C12","v":"Condomino02"},{"$f":"SUMIFS(cREUI!$D$11:$D$109,cREUI!$B$11:$B$109,B12)","v":0},{"$f":"SUMIFS(cREUI!$E$11:$E$109,cREUI!$C$11:$C$109,B12)","v":0},{"$f":"SUMIFS(cREUI!$F$11:$F$109,cREUI!$C$11:$C$109,B12)","v":0},{"$f":"SUMIFS(cREUI!$G$11:$G$109,cREUI!$C$11:$C$109,B12)","v":0},{"$f":"SUMIFS(cREUI!$H$11:$H$109,cREUI!$C$11:$C$109,B12)","v":0},{"$f":"cUSCITE!D91","v":0},{"$f":"SUM(E12:J12)","v":0}]
[3,{"$f":"cTABSS!B13","v":"C03"},"U03",{"$f":"cTABSS!C13","v":"Condomino03"},{"$f":"SUMIFS(cREUI!$D$11:$D$109,cREUI!$B$11:$B$109,B13)","v":0},{"$f":"SUMIFS(cREUI!$E$11:$E$109,cREUI!$C$11:$C$109,B13)","v":13.08},{"$f":"SUMIFS(cREUI!$F$11:$F$109,cREUI!$C$11:$C$109,B13)","v":6.04},{"$f":"SUMIFS(cREUI!$G$11:$G$109,cREUI!$C$11:$C$109,B13)","v":0},{"$f":"SUMIFS(cREUI!$H$11:$H$109,cREUI!$C$11:$C$109,B13)","v":3.44},{"$f":"cUSCITE!D92","v":0},22.560000000000002]
[4,{"$f":"cTABSS!B14","v":"C04"},"U04",{"$f":"cTABSS!C14","v":"Condomino04 S.r.l."},{"$f":"SUMIFS(cREUI!$D$11:$D$109,cREUI!$B$11:$B$109,B14)","v":0},{"$f":"SUMIFS(cREUI!$E$11:$E$109,cREUI!$C$11:$C$109,B14)","v":7.03},{"$f":"SUMIFS(cREUI!$F$11:$F$109,cREUI!$C$11:$C$109,B14)","v":2.93},{"$f":"SUMIFS(cREUI!$G$11:$G$109,cREUI!$C$11:$C$109,B14)","v":0},{"$f":"SUMIFS(cREUI!$H$11:$H$109,cREUI!$C$11:$C$109,B14)","v":3.44},{"$f":"cUSCITE!D93","v":0},13.4]
[5,{"$f":"cTABSS!B15","v":"C05"},"U07",{"$f":"cTABSS!C15","v":"Condomino05"},{"$f":"SUMIFS(cREUI!$D$11:$D$109,cREUI!$B$11:$B$109,B15)","v":0},{"$f":"SUMIFS(cREUI!$E$11:$E$109,cREUI!$C$11:$C$109,B15)","v":9.0400000000000009},{"$f":"SUMIFS(cREUI!$F$11:$F$109,cREUI!$C$11:$C$109,B15)","v":4.84},{"$f":"SUMIFS(cREUI!$G$11:$G$109,cREUI!$C$11:$C$109,B15)","v":0},{"$f":"SUMIFS(cREUI!$H$11:$H$109,cREUI!$C$11:$C$109,B15)","v":10.33},{"$f":"cUSCITE!D94","v":0.34},24.55]
[6,{"$f":"cTABSS!B16","v":"C06"},"U18",{"$f":"cTABSS!C16","v":"Condomino06"},{"$f":"SUMIFS(cREUI!$D$11:$D$109,cREUI!$B$11:$B$109,B16)","v":0},{"$f":"SUMIFS(cREUI!$E$11:$E$109,cREUI!$C$11:$C$109,B16)","v":8.0299999999999994},{"$f":"SUMIFS(cREUI!$F$11:$F$109,cREUI!$C$11:$C$109,B16)","v":4.91},{"$f":"SUMIFS(cREUI!$G$11:$G$109,cREUI!$C$11:$C$109,B16)","v":0},{"$f":"SUMIFS(cREUI!$H$11:$H$109,cREUI!$C$11:$C$109,B16)","v":17.21},{"$f":"cUSCITE!D95","v":0},30.15]
[7,{"$f":"cTABSS!B17","v":"C07"},"U19",{"$f":"cTABSS!C17","v":"Condomino07"},{"$f":"SUMIFS(cREUI!$D$11:$D$109,cREUI!$B$11:$B$109,B17)","v":0},{"$f":"SUMIFS(cREUI!$E$11:$E$109,cREUI!$C$11:$C$109,B17)","v":6.8},{"$f":"SUMIFS(cREUI!$F$11:$F$109,cREUI!$C$11:$C$109,B17)","v":2.5},{"$f":"SUMIFS(cREUI!$G$11:$G$109,cREUI!$C$11:$C$109,B17)","v":0},{"$f":"SUMIFS(cREUI!$H$11:$H$109,cREUI!$C$11:$C$109,B17)","v":20.66},{"$f":"cUSCITE!D96","v":0},29.96]
[8,{"$f":"cTABSS!B18","v":"C08"},"U23",{"$f":"cTABSS!C18","v":"Eredi Condomino08"},{"$f":"SUMIFS(cREUI!$D$11:$D$109,cREUI!$B$11:$B$109,B18)","v":0},{"$f":"SUMIFS(cREUI!$E$11:$E$109,cREUI!$C$11:$C$109,B18)","v":5.67},{"$f":"SUMIFS(cREUI!$F$11:$F$109,cREUI!$C$11:$C$109,B18)","v":0.72},{"$f":"SUMIFS(cREUI!$G$11:$G$109,cREUI!$C$11:$C$109,B18)","v":0},{"$f":"SUMIFS(cREUI!$H$11:$H$109,cREUI!$C$11:$C$109,B18)","v":24.1},{"$f":"cUSCITE!D97","v":0},30.490000000000002]
[9,{"$f":"cTABSS!B19","v":"C09"},"U02",{"$f":"cTABSS!C19","v":"Condomino09 S.r.l."},{"$f":"SUMIFS(cREUI!$D$11:$D$109,cREUI!$B$11:$B$109,B19)","v":0},{"$f":"SUMIFS(cREUI!$E$11:$E$109,cREUI!$C$11:$C$109,B19)","v":7.7},{"$f":"SUMIFS(cREUI!$F$11:$F$109,cREUI!$C$11:$C$109,B19)","v":3.02},{"$f":"SUMIFS(cREUI!$G$11:$G$109,cREUI!$C$11:$C$109,B19)","v":0},{"$f":"SUMIFS(cREUI!$H$11:$H$109,cREUI!$C$11:$C$109,B19)","v":3.44},{"$f":"cUSCITE!D98","v":0},14.16]
[10,{"$f":"cTABSS!B20","v":"C10"},"U22",{"$f":"cTABSS!C20","v":"Condomino10"},{"$f":"SUMIFS(cREUI!$D$11:$D$109,cREUI!$B$11:$B$109,B20)","v":0},{"$f":"SUMIFS(cREUI!$E$11:$E$109,cREUI!$C$11:$C$109,B20)","v":0},{"$f":"SUMIFS(cREUI!$F$11:$F$109,cREUI!$C$11:$C$109,B20)","v":0},{"$f":"SUMIFS(cREUI!$G$11:$G$109,cREUI!$C$11:$C$109,B20)","v":0},{"$f":"SUMIFS(cREUI!$H$11:$H$109,cREUI!$C$11:$C$109,B20)","v":0},{"$f":"cUSCITE!D99","v":0},0]
[11,{"$f":"cTABSS!B21","v":"C11"},"U09",{"$f":"cTABSS!C21","v":"Condomino11"},{"$f":"SUMIFS(cREUI!$D$11:$D$109,cREUI!$B$11:$B$109,B21)","v":0},{"$f":"SUMIFS(cREUI!$E$11:$E$109,cREUI!$C$11:$C$109,B21)","v":7.03},{"$f":"SUMIFS(cREUI!$F$11:$F$109,cREUI!$C$11:$C$109,B21)","v":2.2200000000000002},{"$f":"SUMIFS(cREUI!$G$11:$G$109,cREUI!$C$11:$C$109,B21)","v":0},{"$f":"SUMIFS(cREUI!$H$11:$H$109,cREUI!$C$11:$C$109,B21)","v":15.49},{"$f":"cUSCITE!D100","v":0},24.740000000000002]
[12,{"$f":"cTABSS!B22","v":"C12"},"U17+U24",{"$f":"cTABSS!C22","v":"Condomino12"},{"$f":"SUMIFS(cREUI!$D$11:$D$109,cREUI!$B$11:$B$109,B22)","v":0},{"$f":"SUMIFS(cREUI!$E$11:$E$109,cREUI!$C$11:$C$109,B22)","v":9.0400000000000009},{"$f":"SUMIFS(cREUI!$F$11:$F$109,cREUI!$C$11:$C$109,B22)","v":4.33},{"$f":"SUMIFS(cREUI!$G$11:$G$109,cREUI!$C$11:$C$109,B22)","v":0},{"$f":"SUMIFS(cREUI!$H$11:$H$109,cREUI!$C$11:$C$109,B22)","v":17.21},{"$f":"cUSCITE!D101","v":0},30.580000000000002]
[13,{"$f":"cTABSS!B23","v":"C13"},"U08",{"$f":"cTABSS!C23","v":"Condomino13"},{"$f":"SUMIFS(cREUI!$D$11:$D$109,cREUI!$B$11:$B$109,B23)","v":0},{"$f":"SUMIFS(cREUI!$E$11:$E$109,cREUI!$C$11:$C$109,B23)","v":7.36},{"$f":"SUMIFS(cREUI!$F$11:$F$109,cREUI!$C$11:$C$109,B23)","v":3.99},{"$f":"SUMIFS(cREUI!$G$11:$G$109,cREUI!$C$11:$C$109,B23)","v":0},{"$f":"SUMIFS(cREUI!$H$11:$H$109,cREUI!$C$11:$C$109,B23)","v":10.33},{"$f":"cUSCITE!D102","v":0},21.68]
[14,{"$f":"cTABSS!B24","v":"C14"},"U14",{"$f":"cTABSS!C24","v":"Condomino14"},{"$f":"SUMIFS(cREUI!$D$11:$D$109,cREUI!$B$11:$B$109,B24)","v":0},{"$f":"SUMIFS(cREUI!$E$11:$E$109,cREUI!$C$11:$C$109,B24)","v":5.67},{"$f":"SUMIFS(cREUI!$F$11:$F$109,cREUI!$C$11:$C$109,B24)","v":3.27},{"$f":"SUMIFS(cREUI!$G$11:$G$109,cREUI!$C$11:$C$109,B24)","v":0},{"$f":"SUMIFS(cREUI!$H$11:$H$109,cREUI!$C$11:$C$109,B24)","v":17.21},{"$f":"cUSCITE!D103","v":0},26.15]
[15,{"$f":"cTABSS!B25","v":"C15"},"U06",{"$f":"cTABSS!C25","v":"Condomino15"},{"$f":"SUMIFS(cREUI!$D$11:$D$109,cREUI!$B$11:$B$109,B25)","v":0},{"$f":"SUMIFS(cREUI!$E$11:$E$109,cREUI!$C$11:$C$109,B25)","v":7.03},{"$f":"SUMIFS(cREUI!$F$11:$F$109,cREUI!$C$11:$C$109,B25)","v":3.5700000000000003},{"$f":"SUMIFS(cREUI!$G$11:$G$109,cREUI!$C$11:$C$109,B25)","v":0},{"$f":"SUMIFS(cREUI!$H$11:$H$109,cREUI!$C$11:$C$109,B25)","v":6.8900000000000006},{"$f":"cUSCITE!D104","v":0},17.490000000000002]
[16,{"$f":"cTABSS!B26","v":"C16"},"U16",{"$f":"cTABSS!C26","v":"Condomino16"},{"$f":"SUMIFS(cREUI!$D$11:$D$109,cREUI!$B$11:$B$109,B26)","v":0},{"$f":"SUMIFS(cREUI!$E$11:$E$109,cREUI!$C$11:$C$109,B26)","v":10.040000000000001},{"$f":"SUMIFS(cREUI!$F$11:$F$109,cREUI!$C$11:$C$109,B26)","v":4.42},{"$f":"SUMIFS(cREUI!$G$11:$G$109,cREUI!$C$11:$C$109,B26)","v":0},{"$f":"SUMIFS(cREUI!$H$11:$H$109,cREUI!$C$11:$C$109,B26)","v":17.21},{"$f":"cUSCITE!D105","v":0},31.67]
[17,{"$f":"cTABSS!B27","v":"C17"},"U20",{"$f":"cTABSS!C27","v":"Condomino17"},{"$f":"SUMIFS(cREUI!$D$11:$D$109,cREUI!$B$11:$B$109,B27)","v":0},{"$f":"SUMIFS(cREUI!$E$11:$E$109,cREUI!$C$11:$C$109,B27)","v":14.05},{"$f":"SUMIFS(cREUI!$F$11:$F$109,cREUI!$C$11:$C$109,B27)","v":6.3500000000000005},{"$f":"SUMIFS(cREUI!$G$11:$G$109,cREUI!$C$11:$C$109,B27)","v":0},{"$f":"SUMIFS(cREUI!$H$11:$H$109,cREUI!$C$11:$C$109,B27)","v":20.66},{"$f":"cUSCITE!D106","v":0},41.06]
[18,{"$f":"cTABSS!B28","v":"C18"},"U13",{"$f":"cTABSS!C28","v":"Condomino18"},{"$f":"SUMIFS(cREUI!$D$11:$D$109,cREUI!$B$11:$B$109,B28)","v":0},{"$f":"SUMIFS(cREUI!$E$11:$E$109,cREUI!$C$11:$C$109,B28)","v":0},{"$f":"SUMIFS(cREUI!$F$11:$F$109,cREUI!$C$11:$C$109,B28)","v":0},{"$f":"SUMIFS(cREUI!$G$11:$G$109,cREUI!$C$11:$C$109,B28)","v":0},{"$f":"SUMIFS(cREUI!$H$11:$H$109,cREUI!$C$11:$C$109,B28)","v":0},{"$f":"cUSCITE!D107","v":0},0]
[19,{"$f":"cTABSS!B29","v":"C19"},"U10",{"$f":"cTABSS!C29","v":"Condomino19"},{"$f":"SUMIFS(cREUI!$D$11:$D$109,cREUI!$B$11:$B$109,B29)","v":0},{"$f":"SUMIFS(cREUI!$E$11:$E$109,cREUI!$C$11:$C$109,B29)","v":11.040000000000001},{"$f":"SUMIFS(cREUI!$F$11:$F$109,cREUI!$C$11:$C$109,B29)","v":5.32},{"$f":"SUMIFS(cREUI!$G$11:$G$109,cREUI!$C$11:$C$109,B29)","v":0},{"$f":"SUMIFS(cREUI!$H$11:$H$109,cREUI!$C$11:$C$109,B29)","v":13.77},{"$f":"cUSCITE!D108","v":0},30.13]
[20,{"$f":"cTABSS!B30","v":"C20"},"U01",{"$f":"cTABSS!C30","v":"Condomino20"},{"$f":"SUMIFS(cREUI!$D$11:$D$109,cREUI!$B$11:$B$109,B30)","v":0},{"$f":"SUMIFS(cREUI!$E$11:$E$109,cREUI!$C$11:$C$109,B30)","v":0},{"$f":"SUMIFS(cREUI!$F$11:$F$109,cREUI!$C$11:$C$109,B30)","v":0},{"$f":"SUMIFS(cREUI!$G$11:$G$109,cREUI!$C$11:$C$109,B30)","v":0},{"$f":"SUMIFS(cREUI!$H$11:$H$109,cREUI!$C$11:$C$109,B30)","v":0},{"$f":"cUSCITE!D109","v":0},0]
[21,{"$f":"cTABSS!B31","v":"C21"},"U12",{"$f":"cTABSS!C31","v":"Condomino21"},{"$f":"SUMIFS(cREUI!$D$11:$D$109,cREUI!$B$11:$B$109,B31)","v":0},{"$f":"SUMIFS(cREUI!$E$11:$E$109,cREUI!$C$11:$C$109,B31)","v":7.03},{"$f":"SUMIFS(cREUI!$F$11:$F$109,cREUI!$C$11:$C$109,B31)","v":3.58},{"$f":"SUMIFS(cREUI!$G$11:$G$109,cREUI!$C$11:$C$109,B31)","v":0},{"$f":"SUMIFS(cREUI!$H$11:$H$109,cREUI!$C$11:$C$109,B31)","v":13.77},{"$f":"cUSCITE!D110","v":0},24.38]
[22,{"$f":"cTABSS!B32","v":"C22"},"U11",{"$f":"cTABSS!C32","v":"Condomino22"},{"$f":"SUMIFS(cREUI!$D$11:$D$109,cREUI!$B$11:$B$109,B32)","v":0},{"$f":"SUMIFS(cREUI!$E$11:$E$109,cREUI!$C$11:$C$109,B32)","v":5.36},{"$f":"SUMIFS(cREUI!$F$11:$F$109,cREUI!$C$11:$C$109,B32)","v":2.4700000000000002},{"$f":"SUMIFS(cREUI!$G$11:$G$109,cREUI!$C$11:$C$109,B32)","v":0},{"$f":"SUMIFS(cREUI!$H$11:$H$109,cREUI!$C$11:$C$109,B32)","v":13.77},{"$f":"cUSCITE!D111","v":0},21.6]
[23,{"$f":"cTABSS!B33","v":"C23"},"U05",{"$f":"cTABSS!C33","v":"Condomino23"},{"$f":"SUMIFS(cREUI!$D$11:$D$109,cREUI!$B$11:$B$109,B33)","v":0},{"$f":"SUMIFS(cREUI!$E$11:$E$109,cREUI!$C$11:$C$109,B33)","v":7.36},{"$f":"SUMIFS(cREUI!$F$11:$F$109,cREUI!$C$11:$C$109,B33)","v":3.74},{"$f":"SUMIFS(cREUI!$G$11:$G$109,cREUI!$C$11:$C$109,B33)","v":0},{"$f":"SUMIFS(cREUI!$H$11:$H$109,cREUI!$C$11:$C$109,B33)","v":3.44},{"$f":"cUSCITE!D112","v":0},14.540000000000001]
[24,{"$f":"cTABSS!B34","v":"I01"},"U01",{"$f":"cTABSS!C34","v":"Inquilino1"},{"$f":"SUMIFS(cREUI!$D$11:$D$109,cREUI!$B$11:$B$109,B34)","v":0},{"$f":"SUMIFS(cREUI!$E$11:$E$109,cREUI!$C$11:$C$109,B34)","v":5.69},{"$f":"SUMIFS(cREUI!$F$11:$F$109,cREUI!$C$11:$C$109,B34)","v":1.48},{"$f":"SUMIFS(cREUI!$G$11:$G$109,cREUI!$C$11:$C$109,B34)","v":0},{"$f":"SUMIFS(cREUI!$H$11:$H$109,cREUI!$C$11:$C$109,B34)","v":3.44},{"$f":"cUSCITE!D113","v":0},10.61]
[25,{"$f":"cTABSS!B35","v":"I02"},"U13",{"$f":"cTABSS!C35","v":"Inquilino2"},{"$f":"SUMIFS(cREUI!$D$11:$D$109,cREUI!$B$11:$B$109,B35)","v":0},{"$f":"SUMIFS(cREUI!$E$11:$E$109,cREUI!$C$11:$C$109,B35)","v":12.17},{"$f":"SUMIFS(cREUI!$F$11:$F$109,cREUI!$C$11:$C$109,B35)","v":6.36},{"$f":"SUMIFS(cREUI!$G$11:$G$109,cREUI!$C$11:$C$109,B35)","v":0},{"$f":"SUMIFS(cREUI!$H$11:$H$109,cREUI!$C$11:$C$109,B35)","v":17.21},{"$f":"cUSCITE!D114","v":0},35.74]
[26,{"$f":"cTABSS!B36","v":"I03"},"U15",{"$f":"cTABSS!C36","v":"Inquilino3"},{"$f":"SUMIFS(cREUI!$D$11:$D$109,cREUI!$B$11:$B$109,B36)","v":0},{"$f":"SUMIFS(cREUI!$E$11:$E$109,cREUI!$C$11:$C$109,B36)","v":7.03},{"$f":"SUMIFS(cREUI!$F$11:$F$109,cREUI!$C$11:$C$109,B36)","v":3.47},{"$f":"SUMIFS(cREUI!$G$11:$G$109,cREUI!$C$11:$C$109,B36)","v":0},{"$f":"SUMIFS(cREUI!$H$11:$H$109,cREUI!$C$11:$C$109,B36)","v":17.21},{"$f":"cUSCITE!D115","v":0},27.71]
[27,{"$f":"cTABSS!B37","v":"I04"},"U22",{"$f":"cTABSS!C37","v":"Inquilino4"},{"$f":"SUMIFS(cREUI!$D$11:$D$109,cREUI!$B$11:$B$109,B37)","v":0},{"$f":"SUMIFS(cREUI!$E$11:$E$109,cREUI!$C$11:$C$109,B37)","v":9.370000000000001},{"$f":"SUMIFS(cREUI!$F$11:$F$109,cREUI!$C$11:$C$109,B37)","v":2.12},{"$f":"SUMIFS(cREUI!$G$11:$G$109,cREUI!$C$11:$C$109,B37)","v":0},{"$f":"SUMIFS(cREUI!$H$11:$H$109,cREUI!$C$11:$C$109,B37)","v":24.110000000000003},{"$f":"cUSCITE!D116","v":0},35.600000000000009]
[28,{"$f":"cTABSS!B38","v":"I05"},"U24",{"$f":"cTABSS!C38","v":"Inquilino5"},{"$f":"SUMIFS(cREUI!$D$11:$D$109,cREUI!$B$11:$B$109,B38)","v":0},{"$f":"SUMIFS(cREUI!$E$11:$E$109,cREUI!$C$11:$C$109,B38)","v":1.69},{"$f":"SUMIFS(cREUI!$F$11:$F$109,cREUI!$C$11:$C$109,B38)","v":0.72},{"$f":"SUMIFS(cREUI!$G$11:$G$109,cREUI!$C$11:$C$109,B38)","v":0},{"$f":"SUMIFS(cREUI!$H$11:$H$109,cREUI!$C$11:$C$109,B38)","v":0},{"$f":"cUSCITE!D117","v":0},2.41]
[{"$f":"iCONDOMINI!A39","v":29},{"$f":"cTABSS!B39","v":0},null,{"$f":"cTABSS!C39","v":0},{"$f":"SUMIFS(cREUI!$D$11:$D$109,cREUI!$B$11:$B$109,B39)","v":0},{"$f":"SUMIFS(cREUI!$E$11:$E$109,cREUI!$C$11:$C$109,B39)","v":0},{"$f":"SUMIFS(cREUI!$F$11:$F$109,cREUI!$C$11:$C$109,B39)","v":0},{"$f":"SUMIFS(cREUI!$G$11:$G$109,cREUI!$C$11:$C$109,B39)","v":0},{"$f":"SUMIFS(cREUI!$H$11:$H$109,cREUI!$C$11:$C$109,B39)","v":0},{"$f":"cUSCITE!D118","v":0},0]
[{"$f":"iCONDOMINI!A40","v":30},{"$f":"cTABSS!B40","v":0},null,{"$f":"cTABSS!C40","v":0},{"$f":"SUMIFS(cREUI!$D$11:$D$109,cREUI!$B$11:$B$109,B40)","v":0},{"$f":"SUMIFS(cREUI!$E$11:$E$109,cREUI!$C$11:$C$109,B40)","v":0},{"$f":"SUMIFS(cREUI!$F$11:$F$109,cREUI!$C$11:$C$109,B40)","v":0},{"$f":"SUMIFS(cREUI!$G$11:$G$109,cREUI!$C$11:$C$109,B40)","v":0},{"$f":"SUMIFS(cREUI!$H$11:$H$109,cREUI!$C$11:$C$109,B40)","v":0},{"$f":"cUSCITE!D119","v":0},0]
[{"$f":"iCONDOMINI!A41","v":31},{"$f":"cTABSS!B41","v":0},null,{"$f":"cTABSS!C41","v":0},{"$f":"SUMIFS(cREUI!$D$11:$D$109,cREUI!$B$11:$B$109,B41)","v":0},{"$f":"SUMIFS(cREUI!$E$11:$E$109,cREUI!$C$11:$C$109,B41)","v":0},{"$f":"SUMIFS(cREUI!$F$11:$F$109,cREUI!$C$11:$C$109,B41)","v":0},{"$f":"SUMIFS(cREUI!$G$11:$G$109,cREUI!$C$11:$C$109,B41)","v":0},{"$f":"SUMIFS(cREUI!$H$11:$H$109,cREUI!$C$11:$C$109,B41)","v":0},{"$f":"cUSCITE!D120","v":0},0]
[{"$f":"iCONDOMINI!A42","v":32},{"$f":"cTABSS!B42","v":0},null,{"$f":"cTABSS!C42","v":0},{"$f":"SUMIFS(cREUI!$D$11:$D$109,cREUI!$B$11:$B$109,B42)","v":0},{"$f":"SUMIFS(cREUI!$E$11:$E$109,cREUI!$C$11:$C$109,B42)","v":0},{"$f":"SUMIFS(cREUI!$F$11:$F$109,cREUI!$C$11:$C$109,B42)","v":0},{"$f":"SUMIFS(cREUI!$G$11:$G$109,cREUI!$C$11:$C$109,B42)","v":0},{"$f":"SUMIFS(cREUI!$H$11:$H$109,cREUI!$C$11:$C$109,B42)","v":0},{"$f":"cUSCITE!D121","v":0},0]
[{"$f":"iCONDOMINI!A43","v":33},{"$f":"cTABSS!B43","v":0},null,{"$f":"cTABSS!C43","v":0},{"$f":"SUMIFS(cREUI!$D$11:$D$109,cREUI!$B$11:$B$109,B43)","v":0},{"$f":"SUMIFS(cREUI!$E$11:$E$109,cREUI!$C$11:$C$109,B43)","v":0},{"$f":"SUMIFS(cREUI!$F$11:$F$109,cREUI!$C$11:$C$109,B43)","v":0},{"$f":"SUMIFS(cREUI!$G$11:$G$109,cREUI!$C$11:$C$109,B43)","v":0},{"$f":"SUMIFS(cREUI!$H$11:$H$109,cREUI!$C$11:$C$109,B43)","v":0},{"$f":"cUSCITE!D122","v":0},0]
[{"$f":"iCONDOMINI!A44","v":34},{"$f":"cTABSS!B44","v":0},null,{"$f":"cTABSS!C44","v":0},{"$f":"SUMIFS(cREUI!$D$11:$D$109,cREUI!$B$11:$B$109,B44)","v":0},{"$f":"SUMIFS(cREUI!$E$11:$E$109,cREUI!$C$11:$C$109,B44)","v":0},{"$f":"SUMIFS(cREUI!$F$11:$F$109,cREUI!$C$11:$C$109,B44)","v":0},{"$f":"SUMIFS(cREUI!$G$11:$G$109,cREUI!$C$11:$C$109,B44)","v":0},{"$f":"SUMIFS(cREUI!$H$11:$H$109,cREUI!$C$11:$C$109,B44)","v":0},{"$f":"cUSCITE!D123","v":0},0]
[{"$f":"iCONDOMINI!A45","v":35},{"$f":"cTABSS!B45","v":0},null,{"$f":"cTABSS!C45","v":0},{"$f":"SUMIFS(cREUI!$D$11:$D$109,cREUI!$B$11:$B$109,B45)","v":0},{"$f":"SUMIFS(cREUI!$E$11:$E$109,cREUI!$C$11:$C$109,B45)","v":0},{"$f":"SUMIFS(cREUI!$F$11:$F$109,cREUI!$C$11:$C$109,B45)","v":0},{"$f":"SUMIFS(cREUI!$G$11:$G$109,cREUI!$C$11:$C$109,B45)","v":0},{"$f":"SUMIFS(cREUI!$H$11:$H$109,cREUI!$C$11:$C$109,B45)","v":0},{"$f":"cUSCITE!D124","v":0},0]
[{"$f":"iCONDOMINI!A46","v":36},{"$f":"cTABSS!B46","v":0},null,{"$f":"cTABSS!C46","v":0},{"$f":"SUMIFS(cREUI!$D$11:$D$109,cREUI!$B$11:$B$109,B46)","v":0},{"$f":"SUMIFS(cREUI!$E$11:$E$109,cREUI!$C$11:$C$109,B46)","v":0},{"$f":"SUMIFS(cREUI!$F$11:$F$109,cREUI!$C$11:$C$109,B46)","v":0},{"$f":"SUMIFS(cREUI!$G$11:$G$109,cREUI!$C$11:$C$109,B46)","v":0},{"$f":"SUMIFS(cREUI!$H$11:$H$109,cREUI!$C$11:$C$109,B46)","v":0},{"$f":"cUSCITE!D125","v":0},0]
[{"$f":"iCONDOMINI!A47","v":37},{"$f":"cTABSS!B47","v":0},null,{"$f":"cTABSS!C47","v":0},{"$f":"SUMIFS(cREUI!$D$11:$D$109,cREUI!$B$11:$B$109,B47)","v":0},{"$f":"SUMIFS(cREUI!$E$11:$E$109,cREUI!$C$11:$C$109,B47)","v":0},{"$f":"SUMIFS(cREUI!$F$11:$F$109,cREUI!$C$11:$C$109,B47)","v":0},{"$f":"SUMIFS(cREUI!$G$11:$G$109,cREUI!$C$11:$C$109,B47)","v":0},{"$f":"SUMIFS(cREUI!$H$11:$H$109,cREUI!$C$11:$C$109,B47)","v":0},{"$f":"cUSCITE!D126","v":0},0]
[{"$f":"iCONDOMINI!A48","v":38},{"$f":"cTABSS!B48","v":0},null,{"$f":"cTABSS!C48","v":0},{"$f":"SUMIFS(cREUI!$D$11:$D$109,cREUI!$B$11:$B$109,B48)","v":0},{"$f":"SUMIFS(cREUI!$E$11:$E$109,cREUI!$C$11:$C$109,B48)","v":0},{"$f":"SUMIFS(cREUI!$F$11:$F$109,cREUI!$C$11:$C$109,B48)","v":0},{"$f":"SUMIFS(cREUI!$G$11:$G$109,cREUI!$C$11:$C$109,B48)","v":0},{"$f":"SUMIFS(cREUI!$H$11:$H$109,cREUI!$C$11:$C$109,B48)","v":0},{"$f":"cUSCITE!D127","v":0},0]
[{"$f":"iCONDOMINI!A49","v":39},{"$f":"cTABSS!B49","v":0},null,{"$f":"cTABSS!C49","v":0},{"$f":"SUMIFS(cREUI!$D$11:$D$109,cREUI!$B$11:$B$109,B49)","v":0},{"$f":"SUMIFS(cREUI!$E$11:$E$109,cREUI!$C$11:$C$109,B49)","v":0},{"$f":"SUMIFS(cREUI!$F$11:$F$109,cREUI!$C$11:$C$109,B49)","v":0},{"$f":"SUMIFS(cREUI!$G$11:$G$109,cREUI!$C$11:$C$109,B49)","v":0},{"$f":"SUMIFS(cREUI!$H$11:$H$109,cREUI!$C$11:$C$109,B49)","v":0},{"$f":"cUSCITE!D128","v":0},0]
[{"$f":"iCONDOMINI!A50","v":40},{"$f":"cTABSS!B50","v":0},null,{"$f":"cTABSS!C50","v":0},{"$f":"SUMIFS(cREUI!$D$11:$D$109,cREUI!$B$11:$B$109,B50)","v":0},{"$f":"SUMIFS(cREUI!$E$11:$E$109,cREUI!$C$11:$C$109,B50)","v":0},{"$f":"SUMIFS(cREUI!$F$11:$F$109,cREUI!$C$11:$C$109,B50)","v":0},{"$f":"SUMIFS(cREUI!$G$11:$G$109,cREUI!$C$11:$C$109,B50)","v":0},{"$f":"SUMIFS(cREUI!$H$11:$H$109,cREUI!$C$11:$C$109,B50)","v":0},{"$f":"cUSCITE!D129","v":0},0]
[{"$f":"iCONDOMINI!A51","v":41},{"$f":"cTABSS!B51","v":0},null,{"$f":"cTABSS!C51","v":0},{"$f":"SUMIFS(cREUI!$D$11:$D$109,cREUI!$B$11:$B$109,B51)","v":0},{"$f":"SUMIFS(cREUI!$E$11:$E$109,cREUI!$C$11:$C$109,B51)","v":0},{"$f":"SUMIFS(cREUI!$F$11:$F$109,cREUI!$C$11:$C$109,B51)","v":0},{"$f":"SUMIFS(cREUI!$G$11:$G$109,cREUI!$C$11:$C$109,B51)","v":0},{"$f":"SUMIFS(cREUI!$H$11:$H$109,cREUI!$C$11:$C$109,B51)","v":0},{"$f":"cUSCITE!D130","v":0},0]
[{"$f":"iCONDOMINI!A52","v":42},{"$f":"cTABSS!B52","v":0},null,{"$f":"cTABSS!C52","v":0},{"$f":"SUMIFS(cREUI!$D$11:$D$109,cREUI!$B$11:$B$109,B52)","v":0},{"$f":"SUMIFS(cREUI!$E$11:$E$109,cREUI!$C$11:$C$109,B52)","v":0},{"$f":"SUMIFS(cREUI!$F$11:$F$109,cREUI!$C$11:$C$109,B52)","v":0},{"$f":"SUMIFS(cREUI!$G$11:$G$109,cREUI!$C$11:$C$109,B52)","v":0},{"$f":"SUMIFS(cREUI!$H$11:$H$109,cREUI!$C$11:$C$109,B52)","v":0},{"$f":"cUSCITE!D131","v":0},0]
[{"$f":"iCONDOMINI!A53","v":43},{"$f":"cTABSS!B53","v":0},null,{"$f":"cTABSS!C53","v":0},{"$f":"SUMIFS(cREUI!$D$11:$D$109,cREUI!$B$11:$B$109,B53)","v":0},{"$f":"SUMIFS(cREUI!$E$11:$E$109,cREUI!$C$11:$C$109,B53)","v":0},{"$f":"SUMIFS(cREUI!$F$11:$F$109,cREUI!$C$11:$C$109,B53)","v":0},{"$f":"SUMIFS(cREUI!$G$11:$G$109,cREUI!$C$11:$C$109,B53)","v":0},{"$f":"SUMIFS(cREUI!$H$11:$H$109,cREUI!$C$11:$C$109,B53)","v":0},{"$f":"cUSCITE!D132","v":0},0]
[{"$f":"iCONDOMINI!A54","v":44},{"$f":"cTABSS!B54","v":0},null,{"$f":"cTABSS!C54","v":0},{"$f":"SUMIFS(cREUI!$D$11:$D$109,cREUI!$B$11:$B$109,B54)","v":0},{"$f":"SUMIFS(cREUI!$E$11:$E$109,cREUI!$C$11:$C$109,B54)","v":0},{"$f":"SUMIFS(cREUI!$F$11:$F$109,cREUI!$C$11:$C$109,B54)","v":0},{"$f":"SUMIFS(cREUI!$G$11:$G$109,cREUI!$C$11:$C$109,B54)","v":0},{"$f":"SUMIFS(cREUI!$H$11:$H$109,cREUI!$C$11:$C$109,B54)","v":0},{"$f":"cUSCITE!D133","v":0},0]
[{"$f":"iCONDOMINI!A55","v":45},{"$f":"cTABSS!B55","v":0},null,{"$f":"cTABSS!C55","v":0},{"$f":"SUMIFS(cREUI!$D$11:$D$109,cREUI!$B$11:$B$109,B55)","v":0},{"$f":"SUMIFS(cREUI!$E$11:$E$109,cREUI!$C$11:$C$109,B55)","v":0},{"$f":"SUMIFS(cREUI!$F$11:$F$109,cREUI!$C$11:$C$109,B55)","v":0},{"$f":"SUMIFS(cREUI!$G$11:$G$109,cREUI!$C$11:$C$109,B55)","v":0},{"$f":"SUMIFS(cREUI!$H$11:$H$109,cREUI!$C$11:$C$109,B55)","v":0},{"$f":"cUSCITE!D134","v":0},0]
[{"$f":"iCONDOMINI!A56","v":46},{"$f":"cTABSS!B56","v":0},null,{"$f":"cTABSS!C56","v":0},{"$f":"SUMIFS(cREUI!$D$11:$D$109,cREUI!$B$11:$B$109,B56)","v":0},{"$f":"SUMIFS(cREUI!$E$11:$E$109,cREUI!$C$11:$C$109,B56)","v":0},{"$f":"SUMIFS(cREUI!$F$11:$F$109,cREUI!$C$11:$C$109,B56)","v":0},{"$f":"SUMIFS(cREUI!$G$11:$G$109,cREUI!$C$11:$C$109,B56)","v":0},{"$f":"SUMIFS(cREUI!$H$11:$H$109,cREUI!$C$11:$C$109,B56)","v":0},{"$f":"cUSCITE!D135","v":0},0]
[{"$f":"iCONDOMINI!A57","v":47},{"$f":"cTABSS!B57","v":0},null,{"$f":"cTABSS!C57","v":0},{"$f":"SUMIFS(cREUI!$D$11:$D$109,cREUI!$B$11:$B$109,B57)","v":0},{"$f":"SUMIFS(cREUI!$E$11:$E$109,cREUI!$C$11:$C$109,B57)","v":0},{"$f":"SUMIFS(cREUI!$F$11:$F$109,cREUI!$C$11:$C$109,B57)","v":0},{"$f":"SUMIFS(cREUI!$G$11:$G$109,cREUI!$C$11:$C$109,B57)","v":0},{"$f":"SUMIFS(cREUI!$H$11:$H$109,cREUI!$C$11:$C$109,B57)","v":0},{"$f":"cUSCITE!D136","v":0},0]
[{"$f":"iCONDOMINI!A58","v":48},{"$f":"cTABSS!B58","v":0},null,{"$f":"cTABSS!C58","v":0},{"$f":"SUMIFS(cREUI!$D$11:$D$109,cREUI!$B$11:$B$109,B58)","v":0},{"$f":"SUMIFS(cREUI!$E$11:$E$109,cREUI!$C$11:$C$109,B58)","v":0},{"$f":"SUMIFS(cREUI!$F$11:$F$109,cREUI!$C$11:$C$109,B58)","v":0},{"$f":"SUMIFS(cREUI!$G$11:$G$109,cREUI!$C$11:$C$109,B58)","v":0},{"$f":"SUMIFS(cREUI!$H$11:$H$109,cREUI!$C$11:$C$109,B58)","v":0},{"$f":"cUSCITE!D137","v":0},0]
[{"$f":"iCONDOMINI!A59","v":49},{"$f":"cTABSS!B59","v":0},null,{"$f":"cTABSS!C59","v":0},{"$f":"SUMIFS(cREUI!$D$11:$D$109,cREUI!$B$11:$B$109,B59)","v":0},{"$f":"SUMIFS(cREUI!$E$11:$E$109,cREUI!$C$11:$C$109,B59)","v":0},{"$f":"SUMIFS(cREUI!$F$11:$F$109,cREUI!$C$11:$C$109,B59)","v":0},{"$f":"SUMIFS(cREUI!$G$11:$G$109,cREUI!$C$11:$C$109,B59)","v":0},{"$f":"SUMIFS(cREUI!$H$11:$H$109,cREUI!$C$11:$C$109,B59)","v":0},{"$f":"cUSCITE!D138","v":0},0]
[{"$f":"iCONDOMINI!A60","v":50},{"$f":"cTABSS!B60","v":0},null,{"$f":"cTABSS!C60","v":0},{"$f":"SUMIFS(cREUI!$D$11:$D$109,cREUI!$B$11:$B$109,B60)","v":0},{"$f":"SUMIFS(cREUI!$E$11:$E$109,cREUI!$C$11:$C$109,B60)","v":0},{"$f":"SUMIFS(cREUI!$F$11:$F$109,cREUI!$C$11:$C$109,B60)","v":0},{"$f":"SUMIFS(cREUI!$G$11:$G$109,cREUI!$C$11:$C$109,B60)","v":0},{"$f":"SUMIFS(cREUI!$H$11:$H$109,cREUI!$C$11:$C$109,B60)","v":0},{"$f":"cUSCITE!D139","v":0},0]
[{"$f":"iCONDOMINI!A61","v":51},{"$f":"cTABSS!B61","v":0},null,{"$f":"cTABSS!C61","v":0},{"$f":"SUMIFS(cREUI!$D$11:$D$109,cREUI!$B$11:$B$109,B61)","v":0},{"$f":"SUMIFS(cREUI!$E$11:$E$109,cREUI!$C$11:$C$109,B61)","v":0},{"$f":"SUMIFS(cREUI!$F$11:$F$109,cREUI!$C$11:$C$109,B61)","v":0},{"$f":"SUMIFS(cREUI!$G$11:$G$109,cREUI!$C$11:$C$109,B61)","v":0},{"$f":"SUMIFS(cREUI!$H$11:$H$109,cREUI!$C$11:$C$109,B61)","v":0},{"$f":"cUSCITE!D140","v":0},0]
[{"$f":"iCONDOMINI!A62","v":52},{"$f":"cTABSS!B62","v":0},null,{"$f":"cTABSS!C62","v":0},{"$f":"SUMIFS(cREUI!$D$11:$D$109,cREUI!$B$11:$B$109,B62)","v":0},{"$f":"SUMIFS(cREUI!$E$11:$E$109,cREUI!$C$11:$C$109,B62)","v":0},{"$f":"SUMIFS(cREUI!$F$11:$F$109,cREUI!$C$11:$C$109,B62)","v":0},{"$f":"SUMIFS(cREUI!$G$11:$G$109,cREUI!$C$11:$C$109,B62)","v":0},{"$f":"SUMIFS(cREUI!$H$11:$H$109,cREUI!$C$11:$C$109,B62)","v":0},{"$f":"cUSCITE!D141","v":0},0]
[{"$f":"iCONDOMINI!A63","v":53},{"$f":"cTABSS!B63","v":0},null,{"$f":"cTABSS!C63","v":0},{"$f":"SUMIFS(cREUI!$D$11:$D$109,cREUI!$B$11:$B$109,B63)","v":0},{"$f":"SUMIFS(cREUI!$E$11:$E$109,cREUI!$C$11:$C$109,B63)","v":0},{"$f":"SUMIFS(cREUI!$F$11:$F$109,cREUI!$C$11:$C$109,B63)","v":0},{"$f":"SUMIFS(cREUI!$G$11:$G$109,cREUI!$C$11:$C$109,B63)","v":0},{"$f":"SUMIFS(cREUI!$H$11:$H$109,cREUI!$C$11:$C$109,B63)","v":0},{"$f":"cUSCITE!D142","v":0},0]
[{"$f":"iCONDOMINI!A64","v":54},{"$f":"cTABSS!B64","v":0},null,{"$f":"cTABSS!C64","v":0},{"$f":"SUMIFS(cREUI!$D$11:$D$109,cREUI!$B$11:$B$109,B64)","v":0},{"$f":"SUMIFS(cREUI!$E$11:$E$109,cREUI!$C$11:$C$109,B64)","v":0},{"$f":"SUMIFS(cREUI!$F$11:$F$109,cREUI!$C$11:$C$109,B64)","v":0},{"$f":"SUMIFS(cREUI!$G$11:$G$109,cREUI!$C$11:$C$109,B64)","v":0},{"$f":"SUMIFS(cREUI!$H$11:$H$109,cREUI!$C$11:$C$109,B64)","v":0},{"$f":"cUSCITE!D143","v":0},0]
[{"$f":"iCONDOMINI!A65","v":55},{"$f":"cTABSS!B65","v":0},null,{"$f":"cTABSS!C65","v":0},{"$f":"SUMIFS(cREUI!$D$11:$D$109,cREUI!$B$11:$B$109,B65)","v":0},{"$f":"SUMIFS(cREUI!$E$11:$E$109,cREUI!$C$11:$C$109,B65)","v":0},{"$f":"SUMIFS(cREUI!$F$11:$F$109,cREUI!$C$11:$C$109,B65)","v":0},{"$f":"SUMIFS(cREUI!$G$11:$G$109,cREUI!$C$11:$C$109,B65)","v":0},{"$f":"SUMIFS(cREUI!$H$11:$H$109,cREUI!$C$11:$C$109,B65)","v":0},{"$f":"cUSCITE!D144","v":0},0]
[{"$f":"iCONDOMINI!A66","v":56},{"$f":"cTABSS!B66","v":0},null,{"$f":"cTABSS!C66","v":0},{"$f":"SUMIFS(cREUI!$D$11:$D$109,cREUI!$B$11:$B$109,B66)","v":0},{"$f":"SUMIFS(cREUI!$E$11:$E$109,cREUI!$C$11:$C$109,B66)","v":0},{"$f":"SUMIFS(cREUI!$F$11:$F$109,cREUI!$C$11:$C$109,B66)","v":0},{"$f":"SUMIFS(cREUI!$G$11:$G$109,cREUI!$C$11:$C$109,B66)","v":0},{"$f":"SUMIFS(cREUI!$H$11:$H$109,cREUI!$C$11:$C$109,B66)","v":0},{"$f":"cUSCITE!D145","v":0},0]
[{"$f":"iCONDOMINI!A67","v":57},{"$f":"cTABSS!B67","v":0},null,{"$f":"cTABSS!C67","v":0},{"$f":"SUMIFS(cREUI!$D$11:$D$109,cREUI!$B$11:$B$109,B67)","v":0},{"$f":"SUMIFS(cREUI!$E$11:$E$109,cREUI!$C$11:$C$109,B67)","v":0},{"$f":"SUMIFS(cREUI!$F$11:$F$109,cREUI!$C$11:$C$109,B67)","v":0},{"$f":"SUMIFS(cREUI!$G$11:$G$109,cREUI!$C$11:$C$109,B67)","v":0},{"$f":"SUMIFS(cREUI!$H$11:$H$109,cREUI!$C$11:$C$109,B67)","v":0},{"$f":"cUSCITE!D146","v":0},0]
[{"$f":"iCONDOMINI!A68","v":58},{"$f":"cTABSS!B68","v":0},null,{"$f":"cTABSS!C68","v":0},{"$f":"SUMIFS(cREUI!$D$11:$D$109,cREUI!$B$11:$B$109,B68)","v":0},{"$f":"SUMIFS(cREUI!$E$11:$E$109,cREUI!$C$11:$C$109,B68)","v":0},{"$f":"SUMIFS(cREUI!$F$11:$F$109,cREUI!$C$11:$C$109,B68)","v":0},{"$f":"SUMIFS(cREUI!$G$11:$G$109,cREUI!$C$11:$C$109,B68)","v":0},{"$f":"SUMIFS(cREUI!$H$11:$H$109,cREUI!$C$11:$C$109,B68)","v":0},{"$f":"cUSCITE!D147","v":0},0]
[{"$f":"iCONDOMINI!A69","v":59},{"$f":"cTABSS!B69","v":0},null,{"$f":"cTABSS!C69","v":0},{"$f":"SUMIFS(cREUI!$D$11:$D$109,cREUI!$B$11:$B$109,B69)","v":0},{"$f":"SUMIFS(cREUI!$E$11:$E$109,cREUI!$C$11:$C$109,B69)","v":0},{"$f":"SUMIFS(cREUI!$F$11:$F$109,cREUI!$C$11:$C$109,B69)","v":0},{"$f":"SUMIFS(cREUI!$G$11:$G$109,cREUI!$C$11:$C$109,B69)","v":0},{"$f":"SUMIFS(cREUI!$H$11:$H$109,cREUI!$C$11:$C$109,B69)","v":0},{"$f":"cUSCITE!D148","v":0},0]
[{"$f":"iCONDOMINI!A70","v":60},{"$f":"cTABSS!B70","v":0},null,{"$f":"cTABSS!C70","v":0},{"$f":"SUMIFS(cREUI!$D$11:$D$109,cREUI!$B$11:$B$109,B70)","v":0},{"$f":"SUMIFS(cREUI!$E$11:$E$109,cREUI!$C$11:$C$109,B70)","v":0},{"$f":"SUMIFS(cREUI!$F$11:$F$109,cREUI!$C$11:$C$109,B70)","v":0},{"$f":"SUMIFS(cREUI!$G$11:$G$109,cREUI!$C$11:$C$109,B70)","v":0},{"$f":"SUMIFS(cREUI!$H$11:$H$109,cREUI!$C$11:$C$109,B70)","v":0},{"$f":"cUSCITE!D149","v":0},0]
[{"$f":"iCONDOMINI!A71","v":61},{"$f":"cTABSS!B71","v":0},null,{"$f":"cTABSS!C71","v":0},{"$f":"SUMIFS(cREUI!$D$11:$D$109,cREUI!$B$11:$B$109,B71)","v":0},{"$f":"SUMIFS(cREUI!$E$11:$E$109,cREUI!$C$11:$C$109,B71)","v":0},{"$f":"SUMIFS(cREUI!$F$11:$F$109,cREUI!$C$11:$C$109,B71)","v":0},{"$f":"SUMIFS(cREUI!$G$11:$G$109,cREUI!$C$11:$C$109,B71)","v":0},{"$f":"SUMIFS(cREUI!$H$11:$H$109,cREUI!$C$11:$C$109,B71)","v":0},{"$f":"cUSCITE!D150","v":0},0]
[{"$f":"iCONDOMINI!A72","v":62},{"$f":"cTABSS!B72","v":0},null,{"$f":"cTABSS!C72","v":0},{"$f":"SUMIFS(cREUI!$D$11:$D$109,cREUI!$B$11:$B$109,B72)","v":0},{"$f":"SUMIFS(cREUI!$E$11:$E$109,cREUI!$C$11:$C$109,B72)","v":0},{"$f":"SUMIFS(cREUI!$F$11:$F$109,cREUI!$C$11:$C$109,B72)","v":0},{"$f":"SUMIFS(cREUI!$G$11:$G$109,cREUI!$C$11:$C$109,B72)","v":0},{"$f":"SUMIFS(cREUI!$H$11:$H$109,cREUI!$C$11:$C$109,B72)","v":0},{"$f":"cUSCITE!D151","v":0},0]
[{"$f":"iCONDOMINI!A73","v":63},{"$f":"cTABSS!B73","v":0},null,{"$f":"cTABSS!C73","v":0},{"$f":"SUMIFS(cREUI!$D$11:$D$109,cREUI!$B$11:$B$109,B73)","v":0},{"$f":"SUMIFS(cREUI!$E$11:$E$109,cREUI!$C$11:$C$109,B73)","v":0},{"$f":"SUMIFS(cREUI!$F$11:$F$109,cREUI!$C$11:$C$109,B73)","v":0},{"$f":"SUMIFS(cREUI!$G$11:$G$109,cREUI!$C$11:$C$109,B73)","v":0},{"$f":"SUMIFS(cREUI!$H$11:$H$109,cREUI!$C$11:$C$109,B73)","v":0},{"$f":"cUSCITE!D152","v":0},0]
[{"$f":"iCONDOMINI!A74","v":64},{"$f":"cTABSS!B74","v":0},null,{"$f":"cTABSS!C74","v":0},{"$f":"SUMIFS(cREUI!$D$11:$D$109,cREUI!$B$11:$B$109,B74)","v":0},{"$f":"SUMIFS(cREUI!$E$11:$E$109,cREUI!$C$11:$C$109,B74)","v":0},{"$f":"SUMIFS(cREUI!$F$11:$F$109,cREUI!$C$11:$C$109,B74)","v":0},{"$f":"SUMIFS(cREUI!$G$11:$G$109,cREUI!$C$11:$C$109,B74)","v":0},{"$f":"SUMIFS(cREUI!$H$11:$H$109,cREUI!$C$11:$C$109,B74)","v":0},{"$f":"cUSCITE!D153","v":0},0]
[{"$f":"iCONDOMINI!A75","v":65},{"$f":"cTABSS!B75","v":0},null,{"$f":"cTABSS!C75","v":0},{"$f":"SUMIFS(cREUI!$D$11:$D$109,cREUI!$B$11:$B$109,B75)","v":0},{"$f":"SUMIFS(cREUI!$E$11:$E$109,cREUI!$C$11:$C$109,B75)","v":0},{"$f":"SUMIFS(cREUI!$F$11:$F$109,cREUI!$C$11:$C$109,B75)","v":0},{"$f":"SUMIFS(cREUI!$G$11:$G$109,cREUI!$C$11:$C$109,B75)","v":0},{"$f":"SUMIFS(cREUI!$H$11:$H$109,cREUI!$C$11:$C$109,B75)","v":0},{"$f":"cUSCITE!D154","v":0},0]
[{"$f":"iCONDOMINI!A76","v":66},{"$f":"cTABSS!B76","v":0},null,{"$f":"cTABSS!C76","v":0},{"$f":"SUMIFS(cREUI!$D$11:$D$109,cREUI!$B$11:$B$109,B76)","v":0},{"$f":"SUMIFS(cREUI!$E$11:$E$109,cREUI!$C$11:$C$109,B76)","v":0},{"$f":"SUMIFS(cREUI!$F$11:$F$109,cREUI!$C$11:$C$109,B76)","v":0},{"$f":"SUMIFS(cREUI!$G$11:$G$109,cREUI!$C$11:$C$109,B76)","v":0},{"$f":"SUMIFS(cREUI!$H$11:$H$109,cREUI!$C$11:$C$109,B76)","v":0},{"$f":"cUSCITE!D155","v":0},{"$f":"SUM(E76:J76)","v":0}]
[{"$f":"iCONDOMINI!A77","v":67},{"$f":"cTABSS!B77","v":0},null,{"$f":"cTABSS!C77","v":0},{"$f":"SUMIFS(cREUI!$D$11:$D$109,cREUI!$B$11:$B$109,B77)","v":0},{"$f":"SUMIFS(cREUI!$E$11:$E$109,cREUI!$C$11:$C$109,B77)","v":0},{"$f":"SUMIFS(cREUI!$F$11:$F$109,cREUI!$C$11:$C$109,B77)","v":0},{"$f":"SUMIFS(cREUI!$G$11:$G$109,cREUI!$C$11:$C$109,B77)","v":0},{"$f":"SUMIFS(cREUI!$H$11:$H$109,cREUI!$C$11:$C$109,B77)","v":0},{"$f":"cUSCITE!D156","v":0},0]
[{"$f":"iCONDOMINI!A78","v":68},{"$f":"cTABSS!B78","v":0},null,{"$f":"cTABSS!C78","v":0},{"$f":"SUMIFS(cREUI!$D$11:$D$109,cREUI!$B$11:$B$109,B78)","v":0},{"$f":"SUMIFS(cREUI!$E$11:$E$109,cREUI!$C$11:$C$109,B78)","v":0},{"$f":"SUMIFS(cREUI!$F$11:$F$109,cREUI!$C$11:$C$109,B78)","v":0},{"$f":"SUMIFS(cREUI!$G$11:$G$109,cREUI!$C$11:$C$109,B78)","v":0},{"$f":"SUMIFS(cREUI!$H$11:$H$109,cREUI!$C$11:$C$109,B78)","v":0},{"$f":"cUSCITE!D157","v":0},0]
[{"$f":"iCONDOMINI!A79","v":69},{"$f":"cTABSS!B79","v":0},null,{"$f":"cTABSS!C79","v":0},{"$f":"SUMIFS(cREUI!$D$11:$D$109,cREUI!$B$11:$B$109,B79)","v":0},{"$f":"SUMIFS(cREUI!$E$11:$E$109,cREUI!$C$11:$C$109,B79)","v":0},{"$f":"SUMIFS(cREUI!$F$11:$F$109,cREUI!$C$11:$C$109,B79)","v":0},{"$f":"SUMIFS(cREUI!$G$11:$G$109,cREUI!$C$11:$C$109,B79)","v":0},{"$f":"SUMIFS(cREUI!$H$11:$H$109,cREUI!$C$11:$C$109,B79)","v":0},{"$f":"cUSCITE!D158","v":0},0]
[{"$f":"iCONDOMINI!A80","v":70},{"$f":"cTABSS!B80","v":0},null,{"$f":"cTABSS!C80","v":0},{"$f":"SUMIFS(cREUI!$D$11:$D$109,cREUI!$B$11:$B$109,B80)","v":0},{"$f":"SUMIFS(cREUI!$E$11:$E$109,cREUI!$C$11:$C$109,B80)","v":0},{"$f":"SUMIFS(cREUI!$F$11:$F$109,cREUI!$C$11:$C$109,B80)","v":0},{"$f":"SUMIFS(cREUI!$G$11:$G$109,cREUI!$C$11:$C$109,B80)","v":0},{"$f":"SUMIFS(cREUI!$H$11:$H$109,cREUI!$C$11:$C$109,B80)","v":0},{"$f":"cUSCITE!D159","v":0},0]
[{"$f":"iCONDOMINI!A81","v":71},{"$f":"cTABSS!B81","v":0},null,{"$f":"cTABSS!C81","v":0},{"$f":"SUMIFS(cREUI!$D$11:$D$109,cREUI!$B$11:$B$109,B81)","v":0},{"$f":"SUMIFS(cREUI!$E$11:$E$109,cREUI!$C$11:$C$109,B81)","v":0},{"$f":"SUMIFS(cREUI!$F$11:$F$109,cREUI!$C$11:$C$109,B81)","v":0},{"$f":"SUMIFS(cREUI!$G$11:$G$109,cREUI!$C$11:$C$109,B81)","v":0},{"$f":"SUMIFS(cREUI!$H$11:$H$109,cREUI!$C$11:$C$109,B81)","v":0},{"$f":"cUSCITE!D160","v":0},0]
[{"$f":"iCONDOMINI!A82","v":72},{"$f":"cTABSS!B82","v":0},null,{"$f":"cTABSS!C82","v":0},{"$f":"SUMIFS(cREUI!$D$11:$D$109,cREUI!$B$11:$B$109,B82)","v":0},{"$f":"SUMIFS(cREUI!$E$11:$E$109,cREUI!$C$11:$C$109,B82)","v":0},{"$f":"SUMIFS(cREUI!$F$11:$F$109,cREUI!$C$11:$C$109,B82)","v":0},{"$f":"SUMIFS(cREUI!$G$11:$G$109,cREUI!$C$11:$C$109,B82)","v":0},{"$f":"SUMIFS(cREUI!$H$11:$H$109,cREUI!$C$11:$C$109,B82)","v":0},{"$f":"cUSCITE!D161","v":0},0]
[{"$f":"iCONDOMINI!A83","v":73},{"$f":"cTABSS!B83","v":0},null,{"$f":"cTABSS!C83","v":0},{"$f":"SUMIFS(cREUI!$D$11:$D$109,cREUI!$B$11:$B$109,B83)","v":0},{"$f":"SUMIFS(cREUI!$E$11:$E$109,cREUI!$C$11:$C$109,B83)","v":0},{"$f":"SUMIFS(cREUI!$F$11:$F$109,cREUI!$C$11:$C$109,B83)","v":0},{"$f":"SUMIFS(cREUI!$G$11:$G$109,cREUI!$C$11:$C$109,B83)","v":0},{"$f":"SUMIFS(cREUI!$H$11:$H$109,cREUI!$C$11:$C$109,B83)","v":0},{"$f":"cUSCITE!D162","v":0},0]
[{"$f":"iCONDOMINI!A84","v":74},{"$f":"cTABSS!B84","v":0},null,{"$f":"cTABSS!C84","v":0},{"$f":"SUMIFS(cREUI!$D$11:$D$109,cREUI!$B$11:$B$109,B84)","v":0},{"$f":"SUMIFS(cREUI!$E$11:$E$109,cREUI!$C$11:$C$109,B84)","v":0},{"$f":"SUMIFS(cREUI!$F$11:$F$109,cREUI!$C$11:$C$109,B84)","v":0},{"$f":"SUMIFS(cREUI!$G$11:$G$109,cREUI!$C$11:$C$109,B84)","v":0},{"$f":"SUMIFS(cREUI!$H$11:$H$109,cREUI!$C$11:$C$109,B84)","v":0},{"$f":"cUSCITE!D163","v":0},0]
[{"$f":"iCONDOMINI!A85","v":75},{"$f":"cTABSS!B85","v":0},null,{"$f":"cTABSS!C85","v":0},{"$f":"SUMIFS(cREUI!$D$11:$D$109,cREUI!$B$11:$B$109,B85)","v":0},{"$f":"SUMIFS(cREUI!$E$11:$E$109,cREUI!$C$11:$C$109,B85)","v":0},{"$f":"SUMIFS(cREUI!$F$11:$F$109,cREUI!$C$11:$C$109,B85)","v":0},{"$f":"SUMIFS(cREUI!$G$11:$G$109,cREUI!$C$11:$C$109,B85)","v":0},{"$f":"SUMIFS(cREUI!$H$11:$H$109,cREUI!$C$11:$C$109,B85)","v":0},{"$f":"cUSCITE!D164","v":0},0]
[{"$f":"iCONDOMINI!A86","v":76},{"$f":"cTABSS!B86","v":0},null,{"$f":"cTABSS!C86","v":0},{"$f":"SUMIFS(cREUI!$D$11:$D$109,cREUI!$B$11:$B$109,B86)","v":0},{"$f":"SUMIFS(cREUI!$E$11:$E$109,cREUI!$C$11:$C$109,B86)","v":0},{"$f":"SUMIFS(cREUI!$F$11:$F$109,cREUI!$C$11:$C$109,B86)","v":0},{"$f":"SUMIFS(cREUI!$G$11:$G$109,cREUI!$C$11:$C$109,B86)","v":0},{"$f":"SUMIFS(cREUI!$H$11:$H$109,cREUI!$C$11:$C$109,B86)","v":0},{"$f":"cUSCITE!D165","v":0},0]
[{"$f":"iCONDOMINI!A87","v":77},{"$f":"cTABSS!B87","v":0},null,{"$f":"cTABSS!C87","v":0},{"$f":"SUMIFS(cREUI!$D$11:$D$109,cREUI!$B$11:$B$109,B87)","v":0},{"$f":"SUMIFS(cREUI!$E$11:$E$109,cREUI!$C$11:$C$109,B87)","v":0},{"$f":"SUMIFS(cREUI!$F$11:$F$109,cREUI!$C$11:$C$109,B87)","v":0},{"$f":"SUMIFS(cREUI!$G$11:$G$109,cREUI!$C$11:$C$109,B87)","v":0},{"$f":"SUMIFS(cREUI!$H$11:$H$109,cREUI!$C$11:$C$109,B87)","v":0},{"$f":"cUSCITE!D166","v":0},0]
[{"$f":"iCONDOMINI!A88","v":78},{"$f":"cTABSS!B88","v":0},null,{"$f":"cTABSS!C88","v":0},{"$f":"SUMIFS(cREUI!$D$11:$D$109,cREUI!$B$11:$B$109,B88)","v":0},{"$f":"SUMIFS(cREUI!$E$11:$E$109,cREUI!$C$11:$C$109,B88)","v":0},{"$f":"SUMIFS(cREUI!$F$11:$F$109,cREUI!$C$11:$C$109,B88)","v":0},{"$f":"SUMIFS(cREUI!$G$11:$G$109,cREUI!$C$11:$C$109,B88)","v":0},{"$f":"SUMIFS(cREUI!$H$11:$H$109,cREUI!$C$11:$C$109,B88)","v":0},{"$f":"cUSCITE!D167","v":0},0]
[{"$f":"iCONDOMINI!A89","v":79},{"$f":"cTABSS!B89","v":0},null,{"$f":"cTABSS!C89","v":0},{"$f":"SUMIFS(cREUI!$D$11:$D$109,cREUI!$B$11:$B$109,B89)","v":0},{"$f":"SUMIFS(cREUI!$E$11:$E$109,cREUI!$C$11:$C$109,B89)","v":0},{"$f":"SUMIFS(cREUI!$F$11:$F$109,cREUI!$C$11:$C$109,B89)","v":0},{"$f":"SUMIFS(cREUI!$G$11:$G$109,cREUI!$C$11:$C$109,B89)","v":0},{"$f":"SUMIFS(cREUI!$H$11:$H$109,cREUI!$C$11:$C$109,B89)","v":0},{"$f":"cUSCITE!D168","v":0},0]
[{"$f":"iCONDOMINI!A90","v":80},{"$f":"cTABSS!B90","v":0},null,{"$f":"cTABSS!C90","v":0},{"$f":"SUMIFS(cREUI!$D$11:$D$109,cREUI!$B$11:$B$109,B90)","v":0},{"$f":"SUMIFS(cREUI!$E$11:$E$109,cREUI!$C$11:$C$109,B90)","v":0},{"$f":"SUMIFS(cREUI!$F$11:$F$109,cREUI!$C$11:$C$109,B90)","v":0},{"$f":"SUMIFS(cREUI!$G$11:$G$109,cREUI!$C$11:$C$109,B90)","v":0},{"$f":"SUMIFS(cREUI!$H$11:$H$109,cREUI!$C$11:$C$109,B90)","v":0},{"$f":"cUSCITE!D169","v":0},0]
[{"$f":"iCONDOMINI!A91","v":81},{"$f":"cTABSS!B91","v":0},null,{"$f":"cTABSS!C91","v":0},{"$f":"SUMIFS(cREUI!$D$11:$D$109,cREUI!$B$11:$B$109,B91)","v":0},{"$f":"SUMIFS(cREUI!$E$11:$E$109,cREUI!$C$11:$C$109,B91)","v":0},{"$f":"SUMIFS(cREUI!$F$11:$F$109,cREUI!$C$11:$C$109,B91)","v":0},{"$f":"SUMIFS(cREUI!$G$11:$G$109,cREUI!$C$11:$C$109,B91)","v":0},{"$f":"SUMIFS(cREUI!$H$11:$H$109,cREUI!$C$11:$C$109,B91)","v":0},{"$f":"cUSCITE!D170","v":0},0]
[{"$f":"iCONDOMINI!A92","v":82},{"$f":"cTABSS!B92","v":0},null,{"$f":"cTABSS!C92","v":0},{"$f":"SUMIFS(cREUI!$D$11:$D$109,cREUI!$B$11:$B$109,B92)","v":0},{"$f":"SUMIFS(cREUI!$E$11:$E$109,cREUI!$C$11:$C$109,B92)","v":0},{"$f":"SUMIFS(cREUI!$F$11:$F$109,cREUI!$C$11:$C$109,B92)","v":0},{"$f":"SUMIFS(cREUI!$G$11:$G$109,cREUI!$C$11:$C$109,B92)","v":0},{"$f":"SUMIFS(cREUI!$H$11:$H$109,cREUI!$C$11:$C$109,B92)","v":0},{"$f":"cUSCITE!D171","v":0},0]
[{"$f":"iCONDOMINI!A93","v":83},{"$f":"cTABSS!B93","v":0},null,{"$f":"cTABSS!C93","v":0},{"$f":"SUMIFS(cREUI!$D$11:$D$109,cREUI!$B$11:$B$109,B93)","v":0},{"$f":"SUMIFS(cREUI!$E$11:$E$109,cREUI!$C$11:$C$109,B93)","v":0},{"$f":"SUMIFS(cREUI!$F$11:$F$109,cREUI!$C$11:$C$109,B93)","v":0},{"$f":"SUMIFS(cREUI!$G$11:$G$109,cREUI!$C$11:$C$109,B93)","v":0},{"$f":"SUMIFS(cREUI!$H$11:$H$109,cREUI!$C$11:$C$109,B93)","v":0},{"$f":"cUSCITE!D172","v":0},0]
[{"$f":"iCONDOMINI!A94","v":84},{"$f":"cTABSS!B94","v":0},null,{"$f":"cTABSS!C94","v":0},{"$f":"SUMIFS(cREUI!$D$11:$D$109,cREUI!$B$11:$B$109,B94)","v":0},{"$f":"SUMIFS(cREUI!$E$11:$E$109,cREUI!$C$11:$C$109,B94)","v":0},{"$f":"SUMIFS(cREUI!$F$11:$F$109,cREUI!$C$11:$C$109,B94)","v":0},{"$f":"SUMIFS(cREUI!$G$11:$G$109,cREUI!$C$11:$C$109,B94)","v":0},{"$f":"SUMIFS(cREUI!$H$11:$H$109,cREUI!$C$11:$C$109,B94)","v":0},{"$f":"cUSCITE!D173","v":0},0]
[{"$f":"iCONDOMINI!A95","v":85},{"$f":"cTABSS!B95","v":0},null,{"$f":"cTABSS!C95","v":0},{"$f":"SUMIFS(cREUI!$D$11:$D$109,cREUI!$B$11:$B$109,B95)","v":0},{"$f":"SUMIFS(cREUI!$E$11:$E$109,cREUI!$C$11:$C$109,B95)","v":0},{"$f":"SUMIFS(cREUI!$F$11:$F$109,cREUI!$C$11:$C$109,B95)","v":0},{"$f":"SUMIFS(cREUI!$G$11:$G$109,cREUI!$C$11:$C$109,B95)","v":0},{"$f":"SUMIFS(cREUI!$H$11:$H$109,cREUI!$C$11:$C$109,B95)","v":0},{"$f":"cUSCITE!D174","v":0},0]
[{"$f":"iCONDOMINI!A96","v":86},{"$f":"cTABSS!B96","v":0},null,{"$f":"cTABSS!C96","v":0},{"$f":"SUMIFS(cREUI!$D$11:$D$109,cREUI!$B$11:$B$109,B96)","v":0},{"$f":"SUMIFS(cREUI!$E$11:$E$109,cREUI!$C$11:$C$109,B96)","v":0},{"$f":"SUMIFS(cREUI!$F$11:$F$109,cREUI!$C$11:$C$109,B96)","v":0},{"$f":"SUMIFS(cREUI!$G$11:$G$109,cREUI!$C$11:$C$109,B96)","v":0},{"$f":"SUMIFS(cREUI!$H$11:$H$109,cREUI!$C$11:$C$109,B96)","v":0},{"$f":"cUSCITE!D175","v":0},0]
[{"$f":"iCONDOMINI!A97","v":87},{"$f":"cTABSS!B97","v":0},null,{"$f":"cTABSS!C97","v":0},{"$f":"SUMIFS(cREUI!$D$11:$D$109,cREUI!$B$11:$B$109,B97)","v":0},{"$f":"SUMIFS(cREUI!$E$11:$E$109,cREUI!$C$11:$C$109,B97)","v":0},{"$f":"SUMIFS(cREUI!$F$11:$F$109,cREUI!$C$11:$C$109,B97)","v":0},{"$f":"SUMIFS(cREUI!$G$11:$G$109,cREUI!$C$11:$C$109,B97)","v":0},{"$f":"SUMIFS(cREUI!$H$11:$H$109,cREUI!$C$11:$C$109,B97)","v":0},{"$f":"cUSCITE!D176","v":0},0]
[{"$f":"iCONDOMINI!A98","v":88},{"$f":"cTABSS!B98","v":0},null,{"$f":"cTABSS!C98","v":0},{"$f":"SUMIFS(cREUI!$D$11:$D$109,cREUI!$B$11:$B$109,B98)","v":0},{"$f":"SUMIFS(cREUI!$E$11:$E$109,cREUI!$C$11:$C$109,B98)","v":0},{"$f":"SUMIFS(cREUI!$F$11:$F$109,cREUI!$C$11:$C$109,B98)","v":0},{"$f":"SUMIFS(cREUI!$G$11:$G$109,cREUI!$C$11:$C$109,B98)","v":0},{"$f":"SUMIFS(cREUI!$H$11:$H$109,cREUI!$C$11:$C$109,B98)","v":0},{"$f":"cUSCITE!D177","v":0},0]
[{"$f":"iCONDOMINI!A99","v":89},{"$f":"cTABSS!B99","v":0},null,{"$f":"cTABSS!C99","v":0},{"$f":"SUMIFS(cREUI!$D$11:$D$109,cREUI!$B$11:$B$109,B99)","v":0},{"$f":"SUMIFS(cREUI!$E$11:$E$109,cREUI!$C$11:$C$109,B99)","v":0},{"$f":"SUMIFS(cREUI!$F$11:$F$109,cREUI!$C$11:$C$109,B99)","v":0},{"$f":"SUMIFS(cREUI!$G$11:$G$109,cREUI!$C$11:$C$109,B99)","v":0},{"$f":"SUMIFS(cREUI!$H$11:$H$109,cREUI!$C$11:$C$109,B99)","v":0},{"$f":"cUSCITE!D178","v":0},0]
[{"$f":"iCONDOMINI!A100","v":90},{"$f":"cTABSS!B100","v":0},null,{"$f":"cTABSS!C100","v":0},{"$f":"SUMIFS(cREUI!$D$11:$D$109,cREUI!$B$11:$B$109,B100)","v":0},{"$f":"SUMIFS(cREUI!$E$11:$E$109,cREUI!$C$11:$C$109,B100)","v":0},{"$f":"SUMIFS(cREUI!$F$11:$F$109,cREUI!$C$11:$C$109,B100)","v":0},{"$f":"SUMIFS(cREUI!$G$11:$G$109,cREUI!$C$11:$C$109,B100)","v":0},{"$f":"SUMIFS(cREUI!$H$11:$H$109,cREUI!$C$11:$C$109,B100)","v":0},{"$f":"cUSCITE!D179","v":0},0]
[{"$f":"iCONDOMINI!A101","v":91},{"$f":"cTABSS!B101","v":0},null,{"$f":"cTABSS!C101","v":0},{"$f":"SUMIFS(cREUI!$D$11:$D$109,cREUI!$B$11:$B$109,B101)","v":0},{"$f":"SUMIFS(cREUI!$E$11:$E$109,cREUI!$C$11:$C$109,B101)","v":0},{"$f":"SUMIFS(cREUI!$F$11:$F$109,cREUI!$C$11:$C$109,B101)","v":0},{"$f":"SUMIFS(cREUI!$G$11:$G$109,cREUI!$C$11:$C$109,B101)","v":0},{"$f":"SUMIFS(cREUI!$H$11:$H$109,cREUI!$C$11:$C$109,B101)","v":0},{"$f":"cUSCITE!D180","v":0},0]
[{"$f":"iCONDOMINI!A102","v":92},{"$f":"cTABSS!B102","v":0},null,{"$f":"cTABSS!C102","v":0},{"$f":"SUMIFS(cREUI!$D$11:$D$109,cREUI!$B$11:$B$109,B102)","v":0},{"$f":"SUMIFS(cREUI!$E$11:$E$109,cREUI!$C$11:$C$109,B102)","v":0},{"$f":"SUMIFS(cREUI!$F$11:$F$109,cREUI!$C$11:$C$109,B102)","v":0},{"$f":"SUMIFS(cREUI!$G$11:$G$109,cREUI!$C$11:$C$109,B102)","v":0},{"$f":"SUMIFS(cREUI!$H$11:$H$109,cREUI!$C$11:$C$109,B102)","v":0},{"$f":"cUSCITE!D181","v":0},0]
[{"$f":"iCONDOMINI!A103","v":93},{"$f":"cTABSS!B103","v":0},null,{"$f":"cTABSS!C103","v":0},{"$f":"SUMIFS(cREUI!$D$11:$D$109,cREUI!$B$11:$B$109,B103)","v":0},{"$f":"SUMIFS(cREUI!$E$11:$E$109,cREUI!$C$11:$C$109,B103)","v":0},{"$f":"SUMIFS(cREUI!$F$11:$F$109,cREUI!$C$11:$C$109,B103)","v":0},{"$f":"SUMIFS(cREUI!$G$11:$G$109,cREUI!$C$11:$C$109,B103)","v":0},{"$f":"SUMIFS(cREUI!$H$11:$H$109,cREUI!$C$11:$C$109,B103)","v":0},{"$f":"cUSCITE!D182","v":0},0]
[{"$f":"iCONDOMINI!A104","v":94},{"$f":"cTABSS!B104","v":0},null,{"$f":"cTABSS!C104","v":0},{"$f":"SUMIFS(cREUI!$D$11:$D$109,cREUI!$B$11:$B$109,B104)","v":0},{"$f":"SUMIFS(cREUI!$E$11:$E$109,cREUI!$C$11:$C$109,B104)","v":0},{"$f":"SUMIFS(cREUI!$F$11:$F$109,cREUI!$C$11:$C$109,B104)","v":0},{"$f":"SUMIFS(cREUI!$G$11:$G$109,cREUI!$C$11:$C$109,B104)","v":0},{"$f":"SUMIFS(cREUI!$H$11:$H$109,cREUI!$C$11:$C$109,B104)","v":0},{"$f":"cUSCITE!D183","v":0},0]
[{"$f":"iCONDOMINI!A105","v":95},{"$f":"cTABSS!B105","v":0},null,{"$f":"cTABSS!C105","v":0},{"$f":"SUMIFS(cREUI!$D$11:$D$109,cREUI!$B$11:$B$109,B105)","v":0},{"$f":"SUMIFS(cREUI!$E$11:$E$109,cREUI!$C$11:$C$109,B105)","v":0},{"$f":"SUMIFS(cREUI!$F$11:$F$109,cREUI!$C$11:$C$109,B105)","v":0},{"$f":"SUMIFS(cREUI!$G$11:$G$109,cREUI!$C$11:$C$109,B105)","v":0},{"$f":"SUMIFS(cREUI!$H$11:$H$109,cREUI!$C$11:$C$109,B105)","v":0},{"$f":"cUSCITE!D184","v":0},0]
[{"$f":"iCONDOMINI!A106","v":96},{"$f":"cTABSS!B106","v":0},null,{"$f":"cTABSS!C106","v":0},{"$f":"SUMIFS(cREUI!$D$11:$D$109,cREUI!$B$11:$B$109,B106)","v":0},{"$f":"SUMIFS(cREUI!$E$11:$E$109,cREUI!$C$11:$C$109,B106)","v":0},{"$f":"SUMIFS(cREUI!$F$11:$F$109,cREUI!$C$11:$C$109,B106)","v":0},{"$f":"SUMIFS(cREUI!$G$11:$G$109,cREUI!$C$11:$C$109,B106)","v":0},{"$f":"SUMIFS(cREUI!$H$11:$H$109,cREUI!$C$11:$C$109,B106)","v":0},{"$f":"cUSCITE!D185","v":0},0]
[{"$f":"iCONDOMINI!A107","v":97},{"$f":"cTABSS!B107","v":0},null,{"$f":"cTABSS!C107","v":0},{"$f":"SUMIFS(cREUI!$D$11:$D$109,cREUI!$B$11:$B$109,B107)","v":0},{"$f":"SUMIFS(cREUI!$E$11:$E$109,cREUI!$C$11:$C$109,B107)","v":0},{"$f":"SUMIFS(cREUI!$F$11:$F$109,cREUI!$C$11:$C$109,B107)","v":0},{"$f":"SUMIFS(cREUI!$G$11:$G$109,cREUI!$C$11:$C$109,B107)","v":0},{"$f":"SUMIFS(cREUI!$H$11:$H$109,cREUI!$C$11:$C$109,B107)","v":0},{"$f":"cUSCITE!D186","v":0},0]
[{"$f":"iCONDOMINI!A108","v":98},{"$f":"cTABSS!B108","v":0},null,{"$f":"cTABSS!C108","v":0},{"$f":"SUMIFS(cREUI!$D$11:$D$109,cREUI!$B$11:$B$109,B108)","v":0},{"$f":"SUMIFS(cREUI!$E$11:$E$109,cREUI!$C$11:$C$109,B108)","v":0},{"$f":"SUMIFS(cREUI!$F$11:$F$109,cREUI!$C$11:$C$109,B108)","v":0},{"$f":"SUMIFS(cREUI!$G$11:$G$109,cREUI!$C$11:$C$109,B108)","v":0},{"$f":"SUMIFS(cREUI!$H$11:$H$109,cREUI!$C$11:$C$109,B108)","v":0},{"$f":"cUSCITE!D187","v":0},0]
[{"$f":"iCONDOMINI!A109","v":99},{"$f":"cTABSS!B109","v":0},null,{"$f":"cTABSS!C109","v":0},{"$f":"SUMIFS(cREUI!$D$11:$D$109,cREUI!$B$11:$B$109,B109)","v":0},{"$f":"SUMIFS(cREUI!$E$11:$E$109,cREUI!$C$11:$C$109,B109)","v":0},{"$f":"SUMIFS(cREUI!$F$11:$F$109,cREUI!$C$11:$C$109,B109)","v":0},{"$f":"SUMIFS(cREUI!$G$11:$G$109,cREUI!$C$11:$C$109,B109)","v":0},{"$f":"SUMIFS(cREUI!$H$11:$H$109,cREUI!$C$11:$C$109,B109)","v":0},{"$f":"cUSCITE!D188","v":0},0]
[null,null,null,"TOTALE SPESE",{"$f":"SUM(E11:E109)","v":0},190.00000000000003,85,0,315.00000000000006,0.34,590.34000000000015]
[null,null,null,"controllo sulle spese",{"$f":"SUM(E110:I110)","v":590},null,null,null,null,{"$f":"J110","v":0.34},{"$f":"E111+J111","v":590.34}]

{"sheet":"cENTRATE","index":32,"n_rows":156,"n_cols":7,"rows_kept":156,"cut":false,"hidden":true,"merged":[]}
[]
[]
[]
[]
[]
[]
[]
["Condominio \"TERMICO\""]
["RIEPILOGO delle ENTRATE alla data dell'ultima registrazione (2-4-2022)"]
["VOCI DI ENTRATE","CONTO","IMPORTI","CONTO","IMPORTI","CONTO","IMPORTI"]
[{"$f":"iPCE!A122","v":"RENDITE, ALTRE ENTRATE E PROVENTI DIVERSI"},null,{"$f":"SUM(C12:C17)","v":0}]
[{"$f":"iPCE!A123","v":"Entrate varie"},{"$f":"iPCE!B123","v":"E.01.01"}]
[{"$f":"iPCE!A124","v":0},{"$f":"iPCE!B124","v":"E.01.02"}]
[{"$f":"iPCE!A125","v":0},{"$f":"iPCE!B125","v":"E.01.03"}]
[{"$f":"iPCE!A126","v":0},{"$f":"iPCE!B126","v":"E.01.04"}]
[{"$f":"iPCE!A127","v":0},{"$f":"iPCE!B127","v":"E.01.05"}]
[{"$f":"iPCE!A128","v":0},{"$f":"iPCE!B128","v":"E.01.06"}]
[{"$f":"iPCE!A111","v":"RIMBORSI e ABBUONI SU SPESE GESTIONE ORDINARIA"},null,{"$f":"SUM(C19:C28)","v":0}]
[{"$f":"iPCE!A112","v":"Spese già ripartite con TABELLA Tabella A"},{"$f":"iPCE!B112","v":"A.01.01"}]
[{"$f":"iPCE!A113","v":"Spese già ripartite con TABELLA Tabella B"},{"$f":"iPCE!B113","v":"A.01.02"}]
[{"$f":"iPCE!A114","v":"Spese già ripartite con TABELLA Tabella C"},{"$f":"iPCE!B114","v":"A.01.03"}]
[{"$f":"iPCE!A115","v":"Spese già ripartite con TABELLA Tabella D"},{"$f":"iPCE!B115","v":"A.01.04"}]
[{"$f":"iPCE!A116","v":"Spese già ripartite con TABELLA Tabella E"},{"$f":"iPCE!B116","v":"A.01.05"}]
[{"$f":"iPCE!A117","v":"Spese già ripartite con TABELLA "},{"$f":"iPCE!B117","v":"A.01.06"}]
[{"$f":"iPCE!A118","v":"Spese già ripartite con TABELLA "},{"$f":"iPCE!B118","v":"A.01.07"}]
[{"$f":"iPCE!A119","v":"Spese già ripartite con TABELLA "},{"$f":"iPCE!B119","v":"A.01.08"}]
[{"$f":"iPCE!A120","v":"Spese già ripartite con TABELLA "},{"$f":"iPCE!B120","v":"A.01.09"}]
[{"$f":"iPCE!A121","v":"Spese già ripartite con TABELLA "},{"$f":"iPCE!B121","v":"A.01.10"}]
[{"$f":"iPCE!A133","v":0},null,{"$f":"SUM(C30:C39)","v":0}]
[{"$f":"iPCE!A134","v":0},{"$f":"iPCE!B134","v":0}]
[{"$f":"iPCE!A135","v":0},{"$f":"iPCE!B135","v":0}]
[{"$f":"iPCE!A136","v":0},{"$f":"iPCE!B136","v":0}]
[{"$f":"iPCE!A137","v":0},{"$f":"iPCE!B137","v":0}]
[{"$f":"iPCE!A138","v":0},{"$f":"iPCE!B138","v":0}]
[{"$f":"iPCE!A139","v":0},{"$f":"iPCE!B139","v":0}]
[{"$f":"iPCE!A140","v":0},{"$f":"iPCE!B140","v":0}]
[{"$f":"iPCE!A141","v":0},{"$f":"iPCE!B141","v":0}]
[{"$f":"iPCE!A142","v":0},{"$f":"iPCE!B142","v":0}]
[{"$f":"iPCE!A143","v":0},{"$f":"iPCE!B143","v":0}]
[{"$f":"iPCE!A11","v":"INCASSO CONTRIBUTI CONDOMINIALI"},"Esercizio in corso",{"$f":"SUM(C41:C139)","v":3467.5400000000004},"Esercizio preced.",{"$f":"SUM(E41:E139)","v":732.82999999999993},"Arretrati",{"$f":"SUM(G41:G139)","v":781.46}]
[{"$f":"iCONDOMINI!C11","v":"Condomino01"},{"$f":"iPCE!B12","v":"Q.01.01"},330.44,{"$f":"iPCE!C12","v":"Q.02.01"},null,"Q.03.01"]
[{"$f":"iCONDOMINI!C12","v":"Condomino02"},{"$f":"iPCE!B13","v":"Q.01.02"},12.95,{"$f":"iPCE!C13","v":"Q.02.02"},null,"Q.03.02"]
[{"$f":"iCONDOMINI!C13","v":"Condomino03"},{"$f":"iPCE!B14","v":"Q.01.03"},246.27,{"$f":"iPCE!C14","v":"Q.02.03"},264.68,"Q.03.03",169.05]
[{"$f":"iCONDOMINI!C14","v":"Condomino04 S.r.l."},{"$f":"iPCE!B15","v":"Q.01.04"},null,{"$f":"iPCE!C15","v":"Q.02.04"},120.73,"Q.03.04",129.27000000000001]
[{"$f":"iCONDOMINI!C15","v":"Condomino05"},{"$f":"iPCE!B16","v":"Q.01.05"},192.14,{"$f":"iPCE!C16","v":"Q.02.05"},null,"Q.03.05"]
[{"$f":"iCONDOMINI!C16","v":"Condomino06"},{"$f":"iPCE!B17","v":"Q.01.06"},null,{"$f":"iPCE!C17","v":"Q.02.06"},24.4,"Q.03.06",275.60000000000002]
[{"$f":"iCONDOMINI!C17","v":"Condomino07"},{"$f":"iPCE!B18","v":"Q.01.07"},325.04000000000002,{"$f":"iPCE!C18","v":"Q.02.07"},null,"Q.03.07"]
[{"$f":"iCONDOMINI!C18","v":"Eredi Condomino08"},{"$f":"iPCE!B19","v":"Q.01.08"},318.8,{"$f":"iPCE!C19","v":"Q.02.08"},null,"Q.03.08"]
[{"$f":"iCONDOMINI!C19","v":"Condomino09 S.r.l."},{"$f":"iPCE!B20","v":"Q.01.09"},135.36000000000001,{"$f":"iPCE!C20","v":"Q.02.09"},null,"Q.03.09"]
[{"$f":"iCONDOMINI!C20","v":"Condomino10"},{"$f":"iPCE!B21","v":"Q.01.10"},null,{"$f":"iPCE!C21","v":"Q.02.10"},null,"Q.03.10"]
[{"$f":"iCONDOMINI!C21","v":"Condomino11"},{"$f":"iPCE!B22","v":"Q.01.11"},222.88,{"$f":"iPCE!C22","v":"Q.02.11"},null,"Q.03.11"]
[{"$f":"iCONDOMINI!C22","v":"Condomino12"},{"$f":"iPCE!B23","v":"Q.01.12"},241.44,{"$f":"iPCE!C23","v":"Q.02.12"},null,"Q.03.12"]
[{"$f":"iCONDOMINI!C23","v":"Condomino13"},{"$f":"iPCE!B24","v":"Q.01.13"},19.89,{"$f":"iPCE!C24","v":"Q.02.13"},null,"Q.03.13"]
[{"$f":"iCONDOMINI!C24","v":"Condomino14"},{"$f":"iPCE!B25","v":"Q.01.14"},290.2,{"$f":"iPCE!C25","v":"Q.02.14"},null,"Q.03.14"]
[{"$f":"iCONDOMINI!C25","v":"Condomino15"},{"$f":"iPCE!B26","v":"Q.01.15"},null,{"$f":"iPCE!C26","v":"Q.02.15"},192.46,"Q.03.15",207.54]
[{"$f":"iCONDOMINI!C26","v":"Condomino16"},{"$f":"iPCE!B27","v":"Q.01.16"},34.35,{"$f":"iPCE!C27","v":"Q.02.16"},null,"Q.03.16"]
[{"$f":"iCONDOMINI!C27","v":"Condomino17"},{"$f":"iPCE!B28","v":"Q.01.17"},119.44,{"$f":"iPCE!C28","v":"Q.02.17"},130.56,"Q.03.17"]
[{"$f":"iCONDOMINI!C28","v":"Condomino18"},{"$f":"iPCE!B29","v":"Q.01.18"},11.03,{"$f":"iPCE!C29","v":"Q.02.18"},null,"Q.03.18"]
[{"$f":"iCONDOMINI!C29","v":"Condomino19"},{"$f":"iPCE!B30","v":"Q.01.19"},109.28,{"$f":"iPCE!C30","v":"Q.02.19"},null,"Q.03.19"]
[{"$f":"iCONDOMINI!C30","v":"Condomino20"},{"$f":"iPCE!B31","v":"Q.01.20"},7.45,{"$f":"iPCE!C31","v":"Q.02.20"},null,"Q.03.20"]
[{"$f":"iCONDOMINI!C31","v":"Condomino21"},{"$f":"iPCE!B32","v":"Q.01.21"},23.21,{"$f":"iPCE!C32","v":"Q.02.21"},null,"Q.03.21"]
[{"$f":"iCONDOMINI!C32","v":"Condomino22"},{"$f":"iPCE!B33","v":"Q.01.22"},227.37,{"$f":"iPCE!C33","v":"Q.02.22"},null,"Q.03.22"]
[{"$f":"iCONDOMINI!C33","v":"Condomino23"},{"$f":"iPCE!B34","v":"Q.01.23"},null,{"$f":"iPCE!C34","v":"Q.02.23"},null,"Q.03.23"]
[{"$f":"iCONDOMINI!C34","v":"Inquilino1"},{"$f":"iPCE!B35","v":"Q.01.24"},110,{"$f":"iPCE!C35","v":"Q.02.24"},null,"Q.03.24"]
[{"$f":"iCONDOMINI!C35","v":"Inquilino2"},{"$f":"iPCE!B36","v":"Q.01.25"},150,{"$f":"iPCE!C36","v":"Q.02.25"},null,"Q.03.25"]
[{"$f":"iCONDOMINI!C36","v":"Inquilino3"},{"$f":"iPCE!B37","v":"Q.01.26"},null,{"$f":"iPCE!C37","v":"Q.02.26"},null,"Q.03.26"]
[{"$f":"iCONDOMINI!C37","v":"Inquilino4"},{"$f":"iPCE!B38","v":"Q.01.27"},320,{"$f":"iPCE!C38","v":"Q.02.27"},null,"Q.03.27"]
[{"$f":"iCONDOMINI!C38","v":"Inquilino5"},{"$f":"iPCE!B39","v":"Q.01.28"},20,{"$f":"iPCE!C39","v":"Q.02.28"},null,"Q.03.28"]
[{"$f":"iCONDOMINI!C39","v":0},{"$f":"iPCE!B40","v":"Q.01.29"},null,{"$f":"iPCE!C40","v":"Q.02.29"},null,"Q.03.29"]
[{"$f":"iCONDOMINI!C40","v":0},{"$f":"iPCE!B41","v":"Q.01.30"},null,{"$f":"iPCE!C41","v":"Q.02.30"},null,"Q.03.30"]
[{"$f":"iCONDOMINI!C41","v":0},{"$f":"iPCE!B42","v":"Q.01.31"},null,{"$f":"iPCE!C42","v":"Q.02.31"},null,"Q.03.31"]
[{"$f":"iCONDOMINI!C42","v":0},{"$f":"iPCE!B43","v":"Q.01.32"},null,{"$f":"iPCE!C43","v":"Q.02.32"},null,"Q.03.32"]
[{"$f":"iCONDOMINI!C43","v":0},{"$f":"iPCE!B44","v":"Q.01.33"},null,{"$f":"iPCE!C44","v":"Q.02.33"},null,"Q.03.33"]
[{"$f":"iCONDOMINI!C44","v":0},{"$f":"iPCE!B45","v":"Q.01.34"},null,{"$f":"iPCE!C45","v":"Q.02.34"},null,"Q.03.34"]
[{"$f":"iCONDOMINI!C45","v":0},{"$f":"iPCE!B46","v":"Q.01.35"},null,{"$f":"iPCE!C46","v":"Q.02.35"},null,"Q.03.35"]
[{"$f":"iCONDOMINI!C46","v":0},{"$f":"iPCE!B47","v":"Q.01.36"},null,{"$f":"iPCE!C47","v":"Q.02.36"},null,"Q.03.36"]
[{"$f":"iCONDOMINI!C47","v":0},{"$f":"iPCE!B48","v":"Q.01.37"},null,{"$f":"iPCE!C48","v":"Q.02.37"},null,"Q.03.37"]
[{"$f":"iCONDOMINI!C48","v":0},{"$f":"iPCE!B49","v":"Q.01.38"},null,{"$f":"iPCE!C49","v":"Q.02.38"},null,"Q.03.38"]
[{"$f":"iCONDOMINI!C49","v":0},{"$f":"iPCE!B50","v":"Q.01.39"},null,{"$f":"iPCE!C50","v":"Q.02.39"},null,"Q.03.39"]
[{"$f":"iCONDOMINI!C50","v":0},{"$f":"iPCE!B51","v":"Q.01.40"},null,{"$f":"iPCE!C51","v":"Q.02.40"},null,"Q.03.40"]
[{"$f":"iCONDOMINI!C51","v":0},{"$f":"iPCE!B52","v":"Q.01.41"},null,{"$f":"iPCE!C52","v":"Q.02.41"},null,"Q.03.41"]
[{"$f":"iCONDOMINI!C52","v":0},{"$f":"iPCE!B53","v":"Q.01.42"},null,{"$f":"iPCE!C53","v":"Q.02.42"},null,"Q.03.42"]
[{"$f":"iCONDOMINI!C53","v":0},{"$f":"iPCE!B54","v":"Q.01.43"},null,{"$f":"iPCE!C54","v":"Q.02.43"},null,"Q.03.43"]
[{"$f":"iCONDOMINI!C54","v":0},{"$f":"iPCE!B55","v":"Q.01.44"},null,{"$f":"iPCE!C55","v":"Q.02.44"},null,"Q.03.44"]
[{"$f":"iCONDOMINI!C55","v":0},{"$f":"iPCE!B56","v":"Q.01.45"},null,{"$f":"iPCE!C56","v":"Q.02.45"},null,"Q.03.45"]
[{"$f":"iCONDOMINI!C56","v":0},{"$f":"iPCE!B57","v":"Q.01.46"},null,{"$f":"iPCE!C57","v":"Q.02.46"},null,"Q.03.46"]
[{"$f":"iCONDOMINI!C57","v":0},{"$f":"iPCE!B58","v":"Q.01.47"},null,{"$f":"iPCE!C58","v":"Q.02.47"},null,"Q.03.47"]
[{"$f":"iCONDOMINI!C58","v":0},{"$f":"iPCE!B59","v":"Q.01.48"},null,{"$f":"iPCE!C59","v":"Q.02.48"},null,"Q.03.48"]
[{"$f":"iCONDOMINI!C59","v":0},{"$f":"iPCE!B60","v":"Q.01.49"},null,{"$f":"iPCE!C60","v":"Q.02.49"},null,"Q.03.49"]
[{"$f":"iCONDOMINI!C60","v":0},{"$f":"iPCE!B61","v":"Q.01.50"},null,{"$f":"iPCE!C61","v":"Q.02.50"},null,"Q.03.50"]
[{"$f":"iCONDOMINI!C61","v":0},{"$f":"iPCE!B62","v":"Q.01.51"},null,{"$f":"iPCE!C62","v":"Q.02.51"},null,"Q.03.51"]
[{"$f":"iCONDOMINI!C62","v":0},{"$f":"iPCE!B63","v":"Q.01.52"},null,{"$f":"iPCE!C63","v":"Q.02.52"},null,"Q.03.52"]
[{"$f":"iCONDOMINI!C63","v":0},{"$f":"iPCE!B64","v":"Q.01.53"},null,{"$f":"iPCE!C64","v":"Q.02.53"},null,"Q.03.53"]
[{"$f":"iCONDOMINI!C64","v":0},{"$f":"iPCE!B65","v":"Q.01.54"},null,{"$f":"iPCE!C65","v":"Q.02.54"},null,"Q.03.54"]
[{"$f":"iCONDOMINI!C65","v":0},{"$f":"iPCE!B66","v":"Q.01.55"},null,{"$f":"iPCE!C66","v":"Q.02.55"},null,"Q.03.55"]
[{"$f":"iCONDOMINI!C66","v":0},{"$f":"iPCE!B67","v":"Q.01.56"},null,{"$f":"iPCE!C67","v":"Q.02.56"},null,"Q.03.56"]
[{"$f":"iCONDOMINI!C67","v":0},{"$f":"iPCE!B68","v":"Q.01.57"},null,{"$f":"iPCE!C68","v":"Q.02.57"},null,"Q.03.57"]
[{"$f":"iCONDOMINI!C68","v":0},{"$f":"iPCE!B69","v":"Q.01.58"},null,{"$f":"iPCE!C69","v":"Q.02.58"},null,"Q.03.58"]
[{"$f":"iCONDOMINI!C69","v":0},{"$f":"iPCE!B70","v":"Q.01.59"},null,{"$f":"iPCE!C70","v":"Q.02.59"},null,"Q.03.59"]
[{"$f":"iCONDOMINI!C70","v":0},{"$f":"iPCE!B71","v":"Q.01.60"},null,{"$f":"iPCE!C71","v":"Q.02.60"},null,"Q.03.60"]
[{"$f":"iCONDOMINI!C71","v":0},{"$f":"iPCE!B72","v":"Q.01.61"},null,{"$f":"iPCE!C72","v":"Q.02.61"},null,"Q.03.61"]
[{"$f":"iCONDOMINI!C72","v":0},{"$f":"iPCE!B73","v":"Q.01.62"},null,{"$f":"iPCE!C73","v":"Q.02.62"},null,"Q.03.62"]
[{"$f":"iCONDOMINI!C73","v":0},{"$f":"iPCE!B74","v":"Q.01.63"},null,{"$f":"iPCE!C74","v":"Q.02.63"},null,"Q.03.63"]
[{"$f":"iCONDOMINI!C74","v":0},{"$f":"iPCE!B75","v":"Q.01.64"},null,{"$f":"iPCE!C75","v":"Q.02.64"},null,"Q.03.64"]
[{"$f":"iCONDOMINI!C75","v":0},{"$f":"iPCE!B76","v":"Q.01.65"},null,{"$f":"iPCE!C76","v":"Q.02.65"},null,"Q.03.65"]
[{"$f":"iCONDOMINI!C76","v":0},{"$f":"iPCE!B77","v":"Q.01.66"},null,{"$f":"iPCE!C77","v":"Q.02.66"},null,"Q.03.66"]
[{"$f":"iCONDOMINI!C77","v":0},{"$f":"iPCE!B78","v":"Q.01.67"},null,{"$f":"iPCE!C78","v":"Q.02.67"},null,"Q.03.67"]
[{"$f":"iCONDOMINI!C78","v":0},{"$f":"iPCE!B79","v":"Q.01.68"},null,{"$f":"iPCE!C79","v":"Q.02.68"},null,"Q.03.68"]
[{"$f":"iCONDOMINI!C79","v":0},{"$f":"iPCE!B80","v":"Q.01.69"},null,{"$f":"iPCE!C80","v":"Q.02.69"},null,"Q.03.69"]
[{"$f":"iCONDOMINI!C80","v":0},{"$f":"iPCE!B81","v":"Q.01.70"},null,{"$f":"iPCE!C81","v":"Q.02.70"},null,"Q.03.70"]
[{"$f":"iCONDOMINI!C81","v":0},{"$f":"iPCE!B82","v":"Q.01.71"},null,{"$f":"iPCE!C82","v":"Q.02.71"},null,"Q.03.71"]
[{"$f":"iCONDOMINI!C82","v":0},{"$f":"iPCE!B83","v":"Q.01.72"},null,{"$f":"iPCE!C83","v":"Q.02.72"},null,"Q.03.72"]
[{"$f":"iCONDOMINI!C83","v":0},{"$f":"iPCE!B84","v":"Q.01.73"},null,{"$f":"iPCE!C84","v":"Q.02.73"},null,"Q.03.73"]
[{"$f":"iCONDOMINI!C84","v":0},{"$f":"iPCE!B85","v":"Q.01.74"},null,{"$f":"iPCE!C85","v":"Q.02.74"},null,"Q.03.74"]
[{"$f":"iCONDOMINI!C85","v":0},{"$f":"iPCE!B86","v":"Q.01.75"},null,{"$f":"iPCE!C86","v":"Q.02.75"},null,"Q.03.75"]
[{"$f":"iCONDOMINI!C86","v":0},{"$f":"iPCE!B87","v":"Q.01.76"},null,{"$f":"iPCE!C87","v":"Q.02.76"},null,"Q.03.76"]
[{"$f":"iCONDOMINI!C87","v":0},{"$f":"iPCE!B88","v":"Q.01.77"},null,{"$f":"iPCE!C88","v":"Q.02.77"},null,"Q.03.77"]
[{"$f":"iCONDOMINI!C88","v":0},{"$f":"iPCE!B89","v":"Q.01.78"},null,{"$f":"iPCE!C89","v":"Q.02.78"},null,"Q.03.78"]
[{"$f":"iCONDOMINI!C89","v":0},{"$f":"iPCE!B90","v":"Q.01.79"},null,{"$f":"iPCE!C90","v":"Q.02.79"},null,"Q.03.79"]
[{"$f":"iCONDOMINI!C90","v":0},{"$f":"iPCE!B91","v":"Q.01.80"},null,{"$f":"iPCE!C91","v":"Q.02.80"},null,"Q.03.80"]
[{"$f":"iCONDOMINI!C91","v":0},{"$f":"iPCE!B92","v":"Q.01.81"},null,{"$f":"iPCE!C92","v":"Q.02.81"},null,"Q.03.81"]
[{"$f":"iCONDOMINI!C92","v":0},{"$f":"iPCE!B93","v":"Q.01.82"},null,{"$f":"iPCE!C93","v":"Q.02.82"},null,"Q.03.82"]
[{"$f":"iCONDOMINI!C93","v":0},{"$f":"iPCE!B94","v":"Q.01.83"},null,{"$f":"iPCE!C94","v":"Q.02.83"},null,"Q.03.83"]
[{"$f":"iCONDOMINI!C94","v":0},{"$f":"iPCE!B95","v":"Q.01.84"},null,{"$f":"iPCE!C95","v":"Q.02.84"},null,"Q.03.84"]
[{"$f":"iCONDOMINI!C95","v":0},{"$f":"iPCE!B96","v":"Q.01.85"},null,{"$f":"iPCE!C96","v":"Q.02.85"},null,"Q.03.85"]
[{"$f":"iCONDOMINI!C96","v":0},{"$f":"iPCE!B97","v":"Q.01.86"},null,{"$f":"iPCE!C97","v":"Q.02.86"},null,"Q.03.86"]
[{"$f":"iCONDOMINI!C97","v":0},{"$f":"iPCE!B98","v":"Q.01.87"},null,{"$f":"iPCE!C98","v":"Q.02.87"},null,"Q.03.87"]
[{"$f":"iCONDOMINI!C98","v":0},{"$f":"iPCE!B99","v":"Q.01.88"},null,{"$f":"iPCE!C99","v":"Q.02.88"},null,"Q.03.88"]
[{"$f":"iCONDOMINI!C99","v":0},{"$f":"iPCE!B100","v":"Q.01.89"},null,{"$f":"iPCE!C100","v":"Q.02.89"},null,"Q.03.89"]
[{"$f":"iCONDOMINI!C100","v":0},{"$f":"iPCE!B101","v":"Q.01.90"},null,{"$f":"iPCE!C101","v":"Q.02.90"},null,"Q.03.90"]
[{"$f":"iCONDOMINI!C101","v":0},{"$f":"iPCE!B102","v":"Q.01.91"},null,{"$f":"iPCE!C102","v":"Q.02.91"},null,"Q.03.91"]
[{"$f":"iCONDOMINI!C102","v":0},{"$f":"iPCE!B103","v":"Q.01.92"},null,{"$f":"iPCE!C103","v":"Q.02.92"},null,"Q.03.92"]
[{"$f":"iCONDOMINI!C103","v":0},{"$f":"iPCE!B104","v":"Q.01.93"},null,{"$f":"iPCE!C104","v":"Q.02.93"},null,"Q.03.93"]
[{"$f":"iCONDOMINI!C104","v":0},{"$f":"iPCE!B105","v":"Q.01.94"},null,{"$f":"iPCE!C105","v":"Q.02.94"},null,"Q.03.94"]
[{"$f":"iCONDOMINI!C105","v":0},{"$f":"iPCE!B106","v":"Q.01.95"},null,{"$f":"iPCE!C106","v":"Q.02.95"},null,"Q.03.95"]
[{"$f":"iCONDOMINI!C106","v":0},{"$f":"iPCE!B107","v":"Q.01.96"},null,{"$f":"iPCE!C107","v":"Q.02.96"},null,"Q.03.96"]
[{"$f":"iCONDOMINI!C107","v":0},{"$f":"iPCE!B108","v":"Q.01.97"},null,{"$f":"iPCE!C108","v":"Q.02.97"},null,"Q.03.97"]
[{"$f":"iCONDOMINI!C108","v":0},{"$f":"iPCE!B109","v":"Q.01.98"},null,{"$f":"iPCE!C109","v":"Q.02.98"},null,"Q.03.98"]
[{"$f":"iCONDOMINI!C109","v":0},{"$f":"iPCE!B110","v":"Q.01.99"},null,{"$f":"iPCE!C110","v":"Q.02.99"},null,"Q.03.99"]
[{"$f":"iPCE!A144","v":"PRESTITI RICEVUTI e PARTITE DI GIRO"},null,{"$f":"SUM(C141:C145)","v":123}]
[{"$f":"iPCE!A145","v":"Anticipazione di cassa da Amministratore"},{"$f":"iPCE!B145","v":"V.01.01"},123]
[{"$f":"iPCE!A146","v":"Prestiti ricevuti da terzi e condomini"},{"$f":"iPCE!B146","v":"V.01.02"}]
[null,{"$f":"iPCE!B147","v":"V.01.03"}]
[null,{"$f":"iPCE!B148","v":"V.01.04"}]
[null,{"$f":"iPCE!B149","v":"V.01.05"}]
[{"$f":"iPCE!A150","v":0},null,{"$f":"SUM(C147:C151)","v":0}]
[{"$f":"iPCE!A152","v":""},{"$f":"iPCE!B151","v":0}]
[{"$f":"iPCE!A153","v":""},{"$f":"iPCE!B152","v":0}]
[{"$f":"iPCE!A154","v":""},{"$f":"iPCE!B153","v":0}]
[{"$f":"iPCE!A155","v":""},{"$f":"iPCE!B154","v":0}]
[{"$f":"iPCE!A156","v":0},{"$f":"iPCE!B155","v":0}]
["TOTALE ENTRATE",null,{"$f":"C11+C18+C29+C40+E40+G40+C140+C146","v":5104.8300000000008}]
[null,null,0]
[]
[null,null,0]
[null,null,0]

{"sheet":"cREED","index":33,"n_rows":112,"n_cols":9,"rows_kept":112,"cut":false,"hidden":true,"merged":[[7,8,9,8]]}
[]
[]
[]
[null,null,null,null,0]
[]
["Condominio \"TERMICO\""]
["RIPARTO fra i SOGGETTI INTERESSATI delle ENTRATE VARIE e degli ABBUONI al giorno dell'ultima registrazione 2-4-2022"]
[null,null,"ENTRATE VARIE","DIMINUZIONI DI SPESE GIÀ RIPARTITE","DIMINUZIONI DI SPESE GIÀ RIPARTITE","DIMINUZIONI DI SPESE GIÀ RIPARTITE","DIMINUZIONI DI SPESE GIÀ RIPARTITE","DIMINUZIONI DI SPESE GIÀ RIPARTITE","TOTALE"]
["n.","Soggetto","Tabella A","Tabella A","Tabella B","Tabella C","Tabella D","Tabella E"]
[null,null,"PROPRIETÀ GENERALE","PROPRIETÀ GENERALE","UTILIZZO","POTENZA INSTALLATA","NUMERO TERMOSIFONI","CONSUMI"]
[{"$f":"iCONDOMINI!A11","v":1},{"$f":"iCONDOMINI!C11","v":"Condomino01"},null,0,0,0,0,0]
[{"$f":"iCONDOMINI!A12","v":2},{"$f":"iCONDOMINI!C12","v":"Condomino02"},null,0,0,0,0,0]
[{"$f":"iCONDOMINI!A13","v":3},{"$f":"iCONDOMINI!C13","v":"Condomino03"},null,0,0,0,0,0]
[{"$f":"iCONDOMINI!A14","v":4},{"$f":"iCONDOMINI!C14","v":"Condomino04 S.r.l."},null,0,0,0,0,0]
[{"$f":"iCONDOMINI!A15","v":5},{"$f":"iCONDOMINI!C15","v":"Condomino05"},null,0,0,0,0,0]
[{"$f":"iCONDOMINI!A16","v":6},{"$f":"iCONDOMINI!C16","v":"Condomino06"},null,0,0,0,0,0]
[{"$f":"iCONDOMINI!A17","v":7},{"$f":"iCONDOMINI!C17","v":"Condomino07"},null,0,0,0,0,0]
[{"$f":"iCONDOMINI!A18","v":8},{"$f":"iCONDOMINI!C18","v":"Eredi Condomino08"},null,0,0,0,0,0]
[{"$f":"iCONDOMINI!A19","v":9},{"$f":"iCONDOMINI!C19","v":"Condomino09 S.r.l."},null,0,0,0,0,0]
[{"$f":"iCONDOMINI!A20","v":10},{"$f":"iCONDOMINI!C20","v":"Condomino10"},null,0,0,0,0,0]
[{"$f":"iCONDOMINI!A21","v":11},{"$f":"iCONDOMINI!C21","v":"Condomino11"},null,0,0,0,0,0]
[{"$f":"iCONDOMINI!A22","v":12},{"$f":"iCONDOMINI!C22","v":"Condomino12"},null,0,0,0,0,0]
[{"$f":"iCONDOMINI!A23","v":13},{"$f":"iCONDOMINI!C23","v":"Condomino13"},null,0,0,0,0,0]
[{"$f":"iCONDOMINI!A24","v":14},{"$f":"iCONDOMINI!C24","v":"Condomino14"},null,0,0,0,0,0]
[{"$f":"iCONDOMINI!A25","v":15},{"$f":"iCONDOMINI!C25","v":"Condomino15"},null,0,0,0,0,0]
[{"$f":"iCONDOMINI!A26","v":16},{"$f":"iCONDOMINI!C26","v":"Condomino16"},null,0,0,0,0,0]
[{"$f":"iCONDOMINI!A27","v":17},{"$f":"iCONDOMINI!C27","v":"Condomino17"},null,0,0,0,0,0]
[{"$f":"iCONDOMINI!A28","v":18},{"$f":"iCONDOMINI!C28","v":"Condomino18"},null,0,0,0,0,0]
[{"$f":"iCONDOMINI!A29","v":19},{"$f":"iCONDOMINI!C29","v":"Condomino19"},null,0,0,0,0,0]
[{"$f":"iCONDOMINI!A30","v":20},{"$f":"iCONDOMINI!C30","v":"Condomino20"},null,0,0,0,0,0]
[{"$f":"iCONDOMINI!A31","v":21},{"$f":"iCONDOMINI!C31","v":"Condomino21"},null,0,0,0,0,0]
[{"$f":"iCONDOMINI!A32","v":22},{"$f":"iCONDOMINI!C32","v":"Condomino22"},null,0,0,0,0,0]
[{"$f":"iCONDOMINI!A33","v":23},{"$f":"iCONDOMINI!C33","v":"Condomino23"},null,0,0,0,0,0]
[{"$f":"iCONDOMINI!A34","v":24},{"$f":"iCONDOMINI!C34","v":"Inquilino1"},null,0,0,0,0,0]
[{"$f":"iCONDOMINI!A35","v":25},{"$f":"iCONDOMINI!C35","v":"Inquilino2"},null,0,0,0,0,0]
[{"$f":"iCONDOMINI!A36","v":26},{"$f":"iCONDOMINI!C36","v":"Inquilino3"},null,0,0,0,0,0]
[{"$f":"iCONDOMINI!A37","v":27},{"$f":"iCONDOMINI!C37","v":"Inquilino4"},null,0,0,0,0,0]
[{"$f":"iCONDOMINI!A38","v":28},{"$f":"iCONDOMINI!C38","v":"Inquilino5"},null,0,0,0,0,0]
[{"$f":"iCONDOMINI!A39","v":29},{"$f":"iCONDOMINI!C39","v":0}]
[{"$f":"iCONDOMINI!A40","v":30},{"$f":"iCONDOMINI!C40","v":0}]
[{"$f":"iCONDOMINI!A41","v":31},{"$f":"iCONDOMINI!C41","v":0}]
[{"$f":"iCONDOMINI!A42","v":32},{"$f":"iCONDOMINI!C42","v":0}]
[{"$f":"iCONDOMINI!A43","v":33},{"$f":"iCONDOMINI!C43","v":0}]
[{"$f":"iCONDOMINI!A44","v":34},{"$f":"iCONDOMINI!C44","v":0}]
[{"$f":"iCONDOMINI!A45","v":35},{"$f":"iCONDOMINI!C45","v":0}]
[{"$f":"iCONDOMINI!A46","v":36},{"$f":"iCONDOMINI!C46","v":0}]
[{"$f":"iCONDOMINI!A47","v":37},{"$f":"iCONDOMINI!C47","v":0}]
[{"$f":"iCONDOMINI!A48","v":38},{"$f":"iCONDOMINI!C48","v":0}]
[{"$f":"iCONDOMINI!A49","v":39},{"$f":"iCONDOMINI!C49","v":0}]
[{"$f":"iCONDOMINI!A50","v":40},{"$f":"iCONDOMINI!C50","v":0}]
[{"$f":"iCONDOMINI!A51","v":41},{"$f":"iCONDOMINI!C51","v":0}]
[{"$f":"iCONDOMINI!A52","v":42},{"$f":"iCONDOMINI!C52","v":0}]
[{"$f":"iCONDOMINI!A53","v":43},{"$f":"iCONDOMINI!C53","v":0}]
[{"$f":"iCONDOMINI!A54","v":44},{"$f":"iCONDOMINI!C54","v":0}]
[{"$f":"iCONDOMINI!A55","v":45},{"$f":"iCONDOMINI!C55","v":0}]
[{"$f":"iCONDOMINI!A56","v":46},{"$f":"iCONDOMINI!C56","v":0}]
[{"$f":"iCONDOMINI!A57","v":47},{"$f":"iCONDOMINI!C57","v":0}]
[{"$f":"iCONDOMINI!A58","v":48},{"$f":"iCONDOMINI!C58","v":0}]
[{"$f":"iCONDOMINI!A59","v":49},{"$f":"iCONDOMINI!C59","v":0}]
[{"$f":"iCONDOMINI!A60","v":50},{"$f":"iCONDOMINI!C60","v":0}]
[{"$f":"iCONDOMINI!A61","v":51},{"$f":"iCONDOMINI!C61","v":0}]
[{"$f":"iCONDOMINI!A62","v":52},{"$f":"iCONDOMINI!C62","v":0}]
[{"$f":"iCONDOMINI!A63","v":53},{"$f":"iCONDOMINI!C63","v":0}]
[{"$f":"iCONDOMINI!A64","v":54},{"$f":"iCONDOMINI!C64","v":0}]
[{"$f":"iCONDOMINI!A65","v":55},{"$f":"iCONDOMINI!C65","v":0}]
[{"$f":"iCONDOMINI!A66","v":56},{"$f":"iCONDOMINI!C66","v":0}]
[{"$f":"iCONDOMINI!A67","v":57},{"$f":"iCONDOMINI!C67","v":0}]
[{"$f":"iCONDOMINI!A68","v":58},{"$f":"iCONDOMINI!C68","v":0}]
[{"$f":"iCONDOMINI!A69","v":59},{"$f":"iCONDOMINI!C69","v":0}]
[{"$f":"iCONDOMINI!A70","v":60},{"$f":"iCONDOMINI!C70","v":0}]
[{"$f":"iCONDOMINI!A71","v":61},{"$f":"iCONDOMINI!C71","v":0}]
[{"$f":"iCONDOMINI!A72","v":62},{"$f":"iCONDOMINI!C72","v":0}]
[{"$f":"iCONDOMINI!A73","v":63},{"$f":"iCONDOMINI!C73","v":0}]
[{"$f":"iCONDOMINI!A74","v":64},{"$f":"iCONDOMINI!C74","v":0}]
[{"$f":"iCONDOMINI!A75","v":65},{"$f":"iCONDOMINI!C75","v":0}]
[{"$f":"iCONDOMINI!A76","v":66},{"$f":"iCONDOMINI!C76","v":0}]
[{"$f":"iCONDOMINI!A77","v":67},{"$f":"iCONDOMINI!C77","v":0}]
[{"$f":"iCONDOMINI!A78","v":68},{"$f":"iCONDOMINI!C78","v":0}]
[{"$f":"iCONDOMINI!A79","v":69},{"$f":"iCONDOMINI!C79","v":0}]
[{"$f":"iCONDOMINI!A80","v":70},{"$f":"iCONDOMINI!C80","v":0}]
[{"$f":"iCONDOMINI!A81","v":71},{"$f":"iCONDOMINI!C81","v":0}]
[{"$f":"iCONDOMINI!A82","v":72},{"$f":"iCONDOMINI!C82","v":0}]
[{"$f":"iCONDOMINI!A83","v":73},{"$f":"iCONDOMINI!C83","v":0}]
[{"$f":"iCONDOMINI!A84","v":74},{"$f":"iCONDOMINI!C84","v":0}]
[{"$f":"iCONDOMINI!A85","v":75},{"$f":"iCONDOMINI!C85","v":0}]
[{"$f":"iCONDOMINI!A86","v":76},{"$f":"iCONDOMINI!C86","v":0}]
[{"$f":"iCONDOMINI!A87","v":77},{"$f":"iCONDOMINI!C87","v":0}]
[{"$f":"iCONDOMINI!A88","v":78},{"$f":"iCONDOMINI!C88","v":0}]
[{"$f":"iCONDOMINI!A89","v":79},{"$f":"iCONDOMINI!C89","v":0}]
[{"$f":"iCONDOMINI!A90","v":80},{"$f":"iCONDOMINI!C90","v":0}]
[{"$f":"iCONDOMINI!A91","v":81},{"$f":"iCONDOMINI!C91","v":0}]
[{"$f":"iCONDOMINI!A92","v":82},{"$f":"iCONDOMINI!C92","v":0}]
[{"$f":"iCONDOMINI!A93","v":83},{"$f":"iCONDOMINI!C93","v":0}]
[{"$f":"iCONDOMINI!A94","v":84},{"$f":"iCONDOMINI!C94","v":0}]
[{"$f":"iCONDOMINI!A95","v":85},{"$f":"iCONDOMINI!C95","v":0}]
[{"$f":"iCONDOMINI!A96","v":86},{"$f":"iCONDOMINI!C96","v":0}]
[{"$f":"iCONDOMINI!A97","v":87},{"$f":"iCONDOMINI!C97","v":0}]
[{"$f":"iCONDOMINI!A98","v":88},{"$f":"iCONDOMINI!C98","v":0}]
[{"$f":"iCONDOMINI!A99","v":89},{"$f":"iCONDOMINI!C99","v":0}]
[{"$f":"iCONDOMINI!A100","v":90},{"$f":"iCONDOMINI!C100","v":0}]
[{"$f":"iCONDOMINI!A101","v":91},{"$f":"iCONDOMINI!C101","v":0}]
[{"$f":"iCONDOMINI!A102","v":92},{"$f":"iCONDOMINI!C102","v":0}]
[{"$f":"iCONDOMINI!A103","v":93},{"$f":"iCONDOMINI!C103","v":0}]
[{"$f":"iCONDOMINI!A104","v":94},{"$f":"iCONDOMINI!C104","v":0}]
[{"$f":"iCONDOMINI!A105","v":95},{"$f":"iCONDOMINI!C105","v":0}]
[{"$f":"iCONDOMINI!A106","v":96},{"$f":"iCONDOMINI!C106","v":0}]
[{"$f":"iCONDOMINI!A107","v":97},{"$f":"iCONDOMINI!C107","v":0}]
[{"$f":"iCONDOMINI!A108","v":98},{"$f":"iCONDOMINI!C108","v":0}]
[{"$f":"iCONDOMINI!A109","v":99},{"$f":"iCONDOMINI!C109","v":0}]
[null,"TOTALE",{"$f":"SUM(C11:C109)","v":0},{"$f":"SUM(D11:D109)","v":0},{"$f":"SUM(E11:E109)","v":0},{"$f":"SUM(F11:F109)","v":0},{"$f":"SUM(G11:G109)","v":0},null,{"$f":"SUM(I11:I109)","v":0}]
[null,"controllo entrate varie ed abbuoni",{"$f":"SUM(C110:G110)","v":0}]
["Il totale dovuto al soggetto è considerato dalla procedura quale un versamento effettuato dal soggetto stesso, visto che l'importo è trattenuto dal condominio e non restituito effettivamente al soggetto."]

{"sheet":"cCREDITI","index":34,"n_rows":135,"n_cols":12,"rows_kept":135,"cut":false,"hidden":true,"merged":[[7,8,9,8]]}
[]
[]
[]
[]
[]
["Condominio \"TERMICO\""]
["PROSPETTO dei CREDITI al giorno 2-4-2022"]
[null,null,null,null,null,"PREGRESSI",null,"IN CORSO","CREDITO\nTOTALE"]
["CREDITI","ESERCIZI",null,"2017-2018","2018-2019","2019-2020","2020-2021","2021-2022"]
[null,"CONTO",{"$f":"IF(C9<>\"\",\"YY = \" & RIGHT(C9,2),\"\")","v":""},"YY = 18","YY = 19","YY = 20","YY = 21","YY = 22"]
[{"$f":"iPCDC!A11","v":"da DEPOSITI di DENARO presso Terzi"},{"$f":"iPCDC!B11","v":"C.01"},{"$f":"SUM(C12:C16)","v":0},0,0,0,42.27,0,{"$f":"SUM(C11:H11)","v":42.27}]
[{"$f":"iPCDC!A12","v":"DEPOSITI CAUZIONALI"},{"$f":"iPCDC!B12","v":"C.01.01.YY"},null,null,null,null,42.27,null,{"$f":"SUM(C12:H12)","v":42.27},null,null,{"$f":"COUNTIF(A11:I135,\"<0\")","v":0}]
[{"$f":"iPCDC!A13","v":"PRESTITI A TERZI"},{"$f":"iPCDC!B13","v":"C.01.02.YY"},null,null,null,null,null,null,0]
[{"$f":"iPCDC!A14","v":0},{"$f":"iPCDC!B14","v":"C.01.03.YY"},null,null,null,null,null,null,0]
[{"$f":"iPCDC!A15","v":0},{"$f":"iPCDC!B15","v":"C.01.04.YY"},null,null,null,null,null,null,0]
[{"$f":"iPCDC!A16","v":0},{"$f":"iPCDC!B16","v":"C.01.05.YY"},null,null,null,null,null,null,0]
[{"$f":"iPCDC!A17","v":"da TERZI PRIVATI"},{"$f":"iPCDC!B17","v":"C.02"},{"$f":"SUM(C18:C22)","v":0},0,0,0,0,0,0]
[{"$f":"iPCDC!A18","v":"da FORNITORI"},{"$f":"iPCDC!B18","v":"C.02.01.YY"},null,null,null,null,null,null,0]
[{"$f":"iPCDC!A19","v":"da DEBITORI DIVERSI"},{"$f":"iPCDC!B19","v":"C.02.02.YY"},null,null,null,null,null,null,0]
[{"$f":"iPCDC!A20","v":0},{"$f":"iPCDC!B20","v":"C.02.03.YY"},null,null,null,null,null,null,0]
[{"$f":"iPCDC!A21","v":0},{"$f":"iPCDC!B21","v":"C.02.04.YY"},null,null,null,null,null,null,0]
[{"$f":"iPCDC!A22","v":0},{"$f":"iPCDC!B22","v":"C.02.05.YY"},null,null,null,null,null,null,0]
[{"$f":"iPCDC!A23","v":"da TERZI PUBBLICI"},{"$f":"iPCDC!B23","v":"C.03"},{"$f":"SUM(C24:C28)","v":0},0,0,0,0,0,0]
[{"$f":"iPCDC!A24","v":"da ERARIO"},{"$f":"iPCDC!B24","v":"C.03.01.YY"},null,null,null,null,null,null,0]
[{"$f":"iPCDC!A25","v":"da altri Enti Pubblici"},{"$f":"iPCDC!B25","v":"C.03.02.YY"},null,null,null,null,null,null,0]
[{"$f":"iPCDC!A26","v":0},{"$f":"iPCDC!B26","v":"C.03.03.YY"},null,null,null,null,null,null,0]
[{"$f":"iPCDC!A27","v":0},{"$f":"iPCDC!B27","v":"C.03.04.YY"},null,null,null,null,null,null,0]
[{"$f":"iPCDC!A28","v":0},{"$f":"iPCDC!B28","v":"C.03.05.YY"},null,null,null,null,null,null,0]
[{"$f":"iPCDC!A29","v":"da CONDOMINI e FRUITORI"},"C.04",{"$f":"SUM(C30:C128)","v":0},0,0,5.3,325.88,106.25,437.43]
[{"$f":"iCONDOMINI!C11","v":"Condomino01"},{"$f":"iPCDC!B30","v":"C.04.01.YY"},null,null,null,null,null,0,0,null,0]
[{"$f":"iCONDOMINI!C12","v":"Condomino02"},{"$f":"iPCDC!B31","v":"C.04.02.YY"},null,null,null,null,null,0,0,null,0]
[{"$f":"iCONDOMINI!C13","v":"Condomino03"},{"$f":"iPCDC!B32","v":"C.04.03.YY"},0,0,0,0,0,0,0,null,0]
[{"$f":"iCONDOMINI!C14","v":"Condomino04 S.r.l."},{"$f":"iPCDC!B33","v":"C.04.04.YY"},0,0,0,0,33.75,13.4,47.15,null,0]
[{"$f":"iCONDOMINI!C15","v":"Condomino05"},{"$f":"iPCDC!B34","v":"C.04.05.YY"},null,null,null,null,null,0,0,null,0]
[{"$f":"iCONDOMINI!C16","v":"Condomino06"},{"$f":"iPCDC!B35","v":"C.04.06.YY"},0,0,0,0,249.26,30.15,279.40999999999997,null,0]
[{"$f":"iCONDOMINI!C17","v":"Condomino07"},{"$f":"iPCDC!B36","v":"C.04.07.YY"},null,null,null,null,null,0,0,null,0]
[{"$f":"iCONDOMINI!C18","v":"Eredi Condomino08"},{"$f":"iPCDC!B37","v":"C.04.08.YY"},null,null,null,null,null,0,0,null,0]
[{"$f":"iCONDOMINI!C19","v":"Condomino09 S.r.l."},{"$f":"iPCDC!B38","v":"C.04.09.YY"},null,null,null,null,null,0,0,null,0]
[{"$f":"iCONDOMINI!C20","v":"Condomino10"},{"$f":"iPCDC!B39","v":"C.04.10.YY"},null,null,null,5.3,13.3,0,18.600000000000001,null,0]
[{"$f":"iCONDOMINI!C21","v":"Condomino11"},{"$f":"iPCDC!B40","v":"C.04.11.YY"},null,null,null,null,null,0,0,null,0]
[{"$f":"iCONDOMINI!C22","v":"Condomino12"},{"$f":"iPCDC!B41","v":"C.04.12.YY"},null,null,null,null,null,0,0,null,0]
[{"$f":"iCONDOMINI!C23","v":"Condomino13"},{"$f":"iPCDC!B42","v":"C.04.13.YY"},null,null,null,null,null,1.79,1.79,null,0]
[{"$f":"iCONDOMINI!C24","v":"Condomino14"},{"$f":"iPCDC!B43","v":"C.04.14.YY"},null,null,null,null,null,0,0,null,0]
[{"$f":"iCONDOMINI!C25","v":"Condomino15"},{"$f":"iPCDC!B44","v":"C.04.15.YY"},0,0,0,0,16.47,17.489999999999998,33.959999999999994,null,0]
[{"$f":"iCONDOMINI!C26","v":"Condomino16"},{"$f":"iPCDC!B45","v":"C.04.16.YY"},null,null,null,null,null,0,0,null,0]
[{"$f":"iCONDOMINI!C27","v":"Condomino17"},{"$f":"iPCDC!B46","v":"C.04.17.YY"},null,null,null,null,0,0,0,null,0]
[{"$f":"iCONDOMINI!C28","v":"Condomino18"},{"$f":"iPCDC!B47","v":"C.04.18.YY"},null,null,null,null,null,0,0,null,0]
[{"$f":"iCONDOMINI!C29","v":"Condomino19"},{"$f":"iPCDC!B48","v":"C.04.19.YY"},null,null,null,null,null,0,0,null,0]
[{"$f":"iCONDOMINI!C30","v":"Condomino20"},{"$f":"iPCDC!B49","v":"C.04.20.YY"},null,null,null,null,null,0,0,null,0]
[{"$f":"iCONDOMINI!C31","v":"Condomino21"},{"$f":"iPCDC!B50","v":"C.04.21.YY"},null,null,null,null,null,1.17,1.17,null,0]
[{"$f":"iCONDOMINI!C32","v":"Condomino22"},{"$f":"iPCDC!B51","v":"C.04.22.YY"},null,null,null,null,null,0,0,null,0]
[{"$f":"iCONDOMINI!C33","v":"Condomino23"},{"$f":"iPCDC!B52","v":"C.04.23.YY"},null,null,null,null,13.1,14.54,27.64,null,0]
[{"$f":"iCONDOMINI!C34","v":"Inquilino1"},{"$f":"iPCDC!B53","v":"C.04.24.YY"},null,null,null,null,null,0,0,null,0]
[{"$f":"iCONDOMINI!C35","v":"Inquilino2"},{"$f":"iPCDC!B54","v":"C.04.25.YY"},null,null,null,null,null,0,0]
[{"$f":"iCONDOMINI!C36","v":"Inquilino3"},{"$f":"iPCDC!B55","v":"C.04.26.YY"},null,null,null,null,null,27.71,27.71]
[{"$f":"iCONDOMINI!C37","v":"Inquilino4"},{"$f":"iPCDC!B56","v":"C.04.27.YY"},null,null,null,null,null,0,0]
[{"$f":"iCONDOMINI!C38","v":"Inquilino5"},{"$f":"iPCDC!B57","v":"C.04.28.YY"},null,null,null,null,null,0,0]
[{"$f":"iCONDOMINI!C39","v":0},{"$f":"iPCDC!B58","v":"C.04.29.YY"},null,null,null,null,null,null,0]
[{"$f":"iCONDOMINI!C40","v":0},{"$f":"iPCDC!B59","v":"C.04.30.YY"},null,null,null,null,null,null,0]
[{"$f":"iCONDOMINI!C41","v":0},{"$f":"iPCDC!B60","v":"C.04.31.YY"},null,null,null,null,null,null,0]
[{"$f":"iCONDOMINI!C42","v":0},{"$f":"iPCDC!B61","v":"C.04.32.YY"},null,null,null,null,null,null,0]
[{"$f":"iCONDOMINI!C43","v":0},{"$f":"iPCDC!B62","v":"C.04.33.YY"},null,null,null,null,null,null,0]
[{"$f":"iCONDOMINI!C44","v":0},{"$f":"iPCDC!B63","v":"C.04.34.YY"},null,null,null,null,null,null,0]
[{"$f":"iCONDOMINI!C45","v":0},{"$f":"iPCDC!B64","v":"C.04.35.YY"},null,null,null,null,null,null,0]
[{"$f":"iCONDOMINI!C46","v":0},{"$f":"iPCDC!B65","v":"C.04.36.YY"},null,null,null,null,null,null,0]
[{"$f":"iCONDOMINI!C47","v":0},{"$f":"iPCDC!B66","v":"C.04.37.YY"},null,null,null,null,null,null,0]
[{"$f":"iCONDOMINI!C48","v":0},{"$f":"iPCDC!B67","v":"C.04.38.YY"},null,null,null,null,null,null,0]
[{"$f":"iCONDOMINI!C49","v":0},{"$f":"iPCDC!B68","v":"C.04.39.YY"},null,null,null,null,null,null,0]
[{"$f":"iCONDOMINI!C50","v":0},{"$f":"iPCDC!B69","v":"C.04.40.YY"},null,null,null,null,null,null,0]
[{"$f":"iCONDOMINI!C51","v":0},{"$f":"iPCDC!B70","v":"C.04.41.YY"},null,null,null,null,null,null,0]
[{"$f":"iCONDOMINI!C52","v":0},{"$f":"iPCDC!B71","v":"C.04.42.YY"},null,null,null,null,null,null,0]
[{"$f":"iCONDOMINI!C53","v":0},{"$f":"iPCDC!B72","v":"C.04.43.YY"},null,null,null,null,null,null,0]
[{"$f":"iCONDOMINI!C54","v":0},{"$f":"iPCDC!B73","v":"C.04.44.YY"},null,null,null,null,null,null,0]
[{"$f":"iCONDOMINI!C55","v":0},{"$f":"iPCDC!B74","v":"C.04.45.YY"},null,null,null,null,null,null,0]
[{"$f":"iCONDOMINI!C56","v":0},{"$f":"iPCDC!B75","v":"C.04.46.YY"},null,null,null,null,null,null,0]
[{"$f":"iCONDOMINI!C57","v":0},{"$f":"iPCDC!B76","v":"C.04.47.YY"},null,null,null,null,null,null,{"$f":"SUM(C76:H76)","v":0}]
[{"$f":"iCONDOMINI!C58","v":0},{"$f":"iPCDC!B77","v":"C.04.48.YY"},null,null,null,null,null,null,0]
[{"$f":"iCONDOMINI!C59","v":0},{"$f":"iPCDC!B78","v":"C.04.49.YY"},null,null,null,null,null,null,0]
[{"$f":"iCONDOMINI!C60","v":0},{"$f":"iPCDC!B79","v":"C.04.50.YY"},null,null,null,null,null,null,0]
[{"$f":"iCONDOMINI!C61","v":0},{"$f":"iPCDC!B80","v":"C.04.51.YY"},null,null,null,null,null,null,0]
[{"$f":"iCONDOMINI!C62","v":0},{"$f":"iPCDC!B81","v":"C.04.52.YY"},null,null,null,null,null,null,0]
[{"$f":"iCONDOMINI!C63","v":0},{"$f":"iPCDC!B82","v":"C.04.53.YY"},null,null,null,null,null,null,0]
[{"$f":"iCONDOMINI!C64","v":0},{"$f":"iPCDC!B83","v":"C.04.54.YY"},null,null,null,null,null,null,0]
[{"$f":"iCONDOMINI!C65","v":0},{"$f":"iPCDC!B84","v":"C.04.55.YY"},null,null,null,null,null,null,0]
[{"$f":"iCONDOMINI!C66","v":0},{"$f":"iPCDC!B85","v":"C.04.56.YY"},null,null,null,null,null,null,0]
[{"$f":"iCONDOMINI!C67","v":0},{"$f":"iPCDC!B86","v":"C.04.57.YY"},null,null,null,null,null,null,0]
[{"$f":"iCONDOMINI!C68","v":0},{"$f":"iPCDC!B87","v":"C.04.58.YY"},null,null,null,null,null,null,0]
[{"$f":"iCONDOMINI!C69","v":0},{"$f":"iPCDC!B88","v":"C.04.59.YY"},null,null,null,null,null,null,0]
[{"$f":"iCONDOMINI!C70","v":0},{"$f":"iPCDC!B89","v":"C.04.60.YY"},null,null,null,null,null,null,0]
[{"$f":"iCONDOMINI!C71","v":0},{"$f":"iPCDC!B90","v":"C.04.61.YY"},null,null,null,null,null,null,0]
[{"$f":"iCONDOMINI!C72","v":0},{"$f":"iPCDC!B91","v":"C.04.62.YY"},null,null,null,null,null,null,0]
[{"$f":"iCONDOMINI!C73","v":0},{"$f":"iPCDC!B92","v":"C.04.63.YY"},null,null,null,null,null,null,0]
[{"$f":"iCONDOMINI!C74","v":0},{"$f":"iPCDC!B93","v":"C.04.64.YY"},null,null,null,null,null,null,0]
[{"$f":"iCONDOMINI!C75","v":0},{"$f":"iPCDC!B94","v":"C.04.65.YY"},null,null,null,null,null,null,0]
[{"$f":"iCONDOMINI!C76","v":0},{"$f":"iPCDC!B95","v":"C.04.66.YY"},null,null,null,null,null,null,0]
[{"$f":"iCONDOMINI!C77","v":0},{"$f":"iPCDC!B96","v":"C.04.67.YY"},null,null,null,null,null,null,0]
[{"$f":"iCONDOMINI!C78","v":0},{"$f":"iPCDC!B97","v":"C.04.68.YY"},null,null,null,null,null,null,0]
[{"$f":"iCONDOMINI!C79","v":0},{"$f":"iPCDC!B98","v":"C.04.69.YY"},null,null,null,null,null,null,0]
[{"$f":"iCONDOMINI!C80","v":0},{"$f":"iPCDC!B99","v":"C.04.70.YY"},null,null,null,null,null,null,0]
[{"$f":"iCONDOMINI!C81","v":0},{"$f":"iPCDC!B100","v":"C.04.71.YY"},null,null,null,null,null,null,0]
[{"$f":"iCONDOMINI!C82","v":0},{"$f":"iPCDC!B101","v":"C.04.72.YY"},null,null,null,null,null,null,0]
[{"$f":"iCONDOMINI!C83","v":0},{"$f":"iPCDC!B102","v":"C.04.73.YY"},null,null,null,null,null,null,0]
[{"$f":"iCONDOMINI!C84","v":0},{"$f":"iPCDC!B103","v":"C.04.74.YY"},null,null,null,null,null,null,0]
[{"$f":"iCONDOMINI!C85","v":0},{"$f":"iPCDC!B104","v":"C.04.75.YY"},null,null,null,null,null,null,0]
[{"$f":"iCONDOMINI!C86","v":0},{"$f":"iPCDC!B105","v":"C.04.76.YY"},null,null,null,null,null,null,0]
[{"$f":"iCONDOMINI!C87","v":0},{"$f":"iPCDC!B106","v":"C.04.77.YY"},null,null,null,null,null,null,0]
[{"$f":"iCONDOMINI!C88","v":0},{"$f":"iPCDC!B107","v":"C.04.78.YY"},null,null,null,null,null,null,0]
[{"$f":"iCONDOMINI!C89","v":0},{"$f":"iPCDC!B108","v":"C.04.79.YY"},null,null,null,null,null,null,0]
[{"$f":"iCONDOMINI!C90","v":0},{"$f":"iPCDC!B109","v":"C.04.80.YY"},null,null,null,null,null,null,0]
[{"$f":"iCONDOMINI!C91","v":0},{"$f":"iPCDC!B110","v":"C.04.81.YY"},null,null,null,null,null,null,0]
[{"$f":"iCONDOMINI!C92","v":0},{"$f":"iPCDC!B111","v":"C.04.82.YY"},null,null,null,null,null,null,0]
[{"$f":"iCONDOMINI!C93","v":0},{"$f":"iPCDC!B112","v":"C.04.83.YY"},null,null,null,null,null,null,0]
[{"$f":"iCONDOMINI!C94","v":0},{"$f":"iPCDC!B113","v":"C.04.84.YY"},null,null,null,null,null,null,0]
[{"$f":"iCONDOMINI!C95","v":0},{"$f":"iPCDC!B114","v":"C.04.85.YY"},null,null,null,null,null,null,0]
[{"$f":"iCONDOMINI!C96","v":0},{"$f":"iPCDC!B115","v":"C.04.86.YY"},null,null,null,null,null,null,0]
[{"$f":"iCONDOMINI!C97","v":0},{"$f":"iPCDC!B116","v":"C.04.87.YY"},null,null,null,null,null,null,0]
[{"$f":"iCONDOMINI!C98","v":0},{"$f":"iPCDC!B117","v":"C.04.88.YY"},null,null,null,null,null,null,0]
[{"$f":"iCONDOMINI!C99","v":0},{"$f":"iPCDC!B118","v":"C.04.89.YY"},null,null,null,null,null,null,0]
[{"$f":"iCONDOMINI!C100","v":0},{"$f":"iPCDC!B119","v":"C.04.90.YY"},null,null,null,null,null,null,0]
[{"$f":"iCONDOMINI!C101","v":0},{"$f":"iPCDC!B120","v":"C.04.91.YY"},null,null,null,null,null,null,0]
[{"$f":"iCONDOMINI!C102","v":0},{"$f":"iPCDC!B121","v":"C.04.92.YY"},null,null,null,null,null,null,0]
[{"$f":"iCONDOMINI!C103","v":0},{"$f":"iPCDC!B122","v":"C.04.93.YY"},null,null,null,null,null,null,0]
[{"$f":"iCONDOMINI!C104","v":0},{"$f":"iPCDC!B123","v":"C.04.94.YY"},null,null,null,null,null,null,0]
[{"$f":"iCONDOMINI!C105","v":0},{"$f":"iPCDC!B124","v":"C.04.95.YY"},null,null,null,null,null,null,0]
[{"$f":"iCONDOMINI!C106","v":0},{"$f":"iPCDC!B125","v":"C.04.96.YY"},null,null,null,null,null,null,0]
[{"$f":"iCONDOMINI!C107","v":0},{"$f":"iPCDC!B126","v":"C.04.97.YY"},null,null,null,null,null,null,0]
[{"$f":"iCONDOMINI!C108","v":0},{"$f":"iPCDC!B127","v":"C.04.98.YY"},null,null,null,null,null,null,0]
[{"$f":"iCONDOMINI!C109","v":0},{"$f":"iPCDC!B128","v":"C.04.99.YY"},null,null,null,null,null,null,0]
["da FONDI SPECIALI",{"$f":"iPCDC!B129","v":"C.06"},{"$f":"SUM(C130:C134)","v":0},0,0,0,0,0,0]
[{"$f":"iPCDC!A130","v":"Gestione Ordinaria"},{"$f":"iPCDC!B130","v":"C.06.01"},null,null,null,null,null,null,0]
[{"$f":"iPCDC!A131","v":""},{"$f":"iPCDC!B131","v":"00:00:00"},null,null,null,null,null,null,0]
[{"$f":"iPCDC!A132","v":""},{"$f":"iPCDC!B132","v":"00:00:00"},null,null,null,null,null,null,0]
[{"$f":"iPCDC!A133","v":""},{"$f":"iPCDC!B133","v":"00:00:00"},null,null,null,null,null,null,0]
[{"$f":"iPCDC!A134","v":""},{"$f":"iPCDC!B134","v":"00:00:00"},null,null,null,null,null,null,0]
["TOTALE CREDITI",null,{"$f":"SUM(C11:C22)+SUM(C30:C128)","v":0},{"$f":"SUM(D11:D22)+SUM(D30:D128)","v":0},{"$f":"SUM(E11:E22)+SUM(E30:E128)","v":0},{"$f":"SUM(F11:F22)+SUM(F30:F128)","v":5.3},{"$f":"SUM(G11:G22)+SUM(G30:G128)","v":410.42},{"$f":"H11+H17+H23+H29","v":106.25},521.97]

{"sheet":"cDEBITI","index":35,"n_rows":143,"n_cols":9,"rows_kept":143,"cut":false,"hidden":true,"merged":[[7,8,9,8]]}
[]
[]
[]
[]
[]
["Condominio \"TERMICO\""]
["PROSPETTO dei DEBITI al giorno 2-4-2022"]
[null,null,"PREGRESSI",null,null,null,null,"IN CORSO","DEBITO\nTOTALE"]
["DEBITI","ESERCIZIO",null,"2017-2018","2018-2019","2019-2020","2020-2021","2021-2022"]
[null,"CONTO",null,{"$f":"\"YY = \" & RIGHT(D9,2)","v":"YY = 18"},{"$f":"\"YY = \" & RIGHT(E9,2)","v":"YY = 19"},{"$f":"\"YY = \" & RIGHT(F9,2)","v":"YY = 20"},{"$f":"\"YY = \" & RIGHT(G9,2)","v":"YY = 21"},{"$f":"\"YY = \" & RIGHT(H9,2)","v":"YY = 22"}]
[]
[null,null,null,null,null,null,null,null,{"$f":"SUM(C12:H12)","v":0}]
[null,null,null,null,null,null,null,null,0]
[null,null,null,null,null,null,null,null,0]
[null,null,null,null,null,null,null,null,0]
[null,null,null,null,null,null,null,null,0]
[{"$f":"iPCDC!D17","v":"v/s TERZI PRIVATI"},{"$f":"iPCDC!E17","v":"D.02"}]
[{"$f":"iPCDC!D18","v":"v/s FORNITORI per FATTURE RICEVUTE"},{"$f":"iPCDC!E18","v":"D.02.01.YY"},null,null,null,null,363.38,null,363.38]
[{"$f":"iPCDC!D19","v":"v/s FORNITORI per AVVISI DI FATTURA RICEVUTI"},{"$f":"iPCDC!E19","v":"D.02.02.YY"},null,null,null,50,null,null,50]
[{"$f":"iPCDC!D20","v":"v/s FORNITORI per IMPEGNI DI SPESA"},{"$f":"iPCDC!E20","v":"D.02.03.YY"},null,null,250,290,250,null,790]
[{"$f":"iPCDC!D21","v":"v/s TERZI per PRESTITI RICEVUTI"},{"$f":"iPCDC!E21","v":"D.02.04.YY"},null,null,null,null,null,123,123]
[{"$f":"iPCDC!D22","v":"v/s CREDITORI DIVERSI"},{"$f":"iPCDC!E22","v":"D.02.05.YY"},null,null,null,null,null,null,0]
[{"$f":"iPCDC!D23","v":"v/s TERZI PUBBLICI"},{"$f":"iPCDC!E23","v":"D.03"}]
[{"$f":"iPCDC!D24","v":"v/s ERARIO  per RITENUTE  ACCONTO SU SPESE"},{"$f":"iPCDC!E24","v":"D.03.01.YY"},null,null,null,null,null,13.11,13.11]
[{"$f":"iPCDC!D25","v":"v/s ERARIO per TRIBUTI"},{"$f":"iPCDC!E25","v":"D.03.02.YY"},null,null,null,null,null,null,0]
[{"$f":"iPCDC!D26","v":"v/s ERARIO  per R.A. SU PAGAMENTI DEBITI"},{"$f":"iPCDC!E26","v":"D.03.03.YY"},null,null,null,null,null,null,0]
[{"$f":"iPCDC!D27","v":0},{"$f":"iPCDC!E27","v":"D.03.04.YY"},null,null,null,null,null,null,0]
[{"$f":"iPCDC!D28","v":0},{"$f":"iPCDC!E28","v":"D.03.05.YY"},null,null,null,null,null,null,0]
[{"$f":"iPCDC!D29","v":"v/s CONDOMINI e FRUITORI"},{"$f":"\"Quote in eccedenza\" & CHAR(10) & \"Esercizio in corso\"","v":"Quote in eccedenza\nEsercizio in corso"},null,null,null,null,{"$f":"\"Depositi di denaro\" & CHAR(10) & \"Alla data odierna\"","v":"Depositi di denaro\nAlla data odierna"}]
[{"$f":"iCONDOMINI!C11","v":"Condomino01"},"D.04.01",null,null,0,301.45999999999998,"D.05.01",1.27,{"$f":"F30+H30","v":302.72999999999996}]
[{"$f":"iCONDOMINI!C12","v":"Condomino02"},"D.04.02",null,null,0,12.95,"D.05.02",1.56,{"$f":"F31+H31","v":14.51}]
[{"$f":"iCONDOMINI!C13","v":"Condomino03"},"D.04.03",null,null,0,223.71,"D.05.03",2.91,226.62]
[{"$f":"iCONDOMINI!C14","v":"Condomino04 S.r.l."},"D.04.04",null,null,0,null,"D.05.04",1.56,1.56]
[{"$f":"iCONDOMINI!C15","v":"Condomino05"},"D.04.05",null,null,0,167.59,"D.05.05",2.0099999999999998,169.6]
[{"$f":"iCONDOMINI!C16","v":"Condomino06"},"D.04.06",null,null,0,null,"D.05.06",1.79,1.79]
[{"$f":"iCONDOMINI!C17","v":"Condomino07"},"D.04.07",null,null,0,295.08,"D.05.07",1.51,296.58999999999997]
[{"$f":"iCONDOMINI!C18","v":"Eredi Condomino08"},"D.04.08",null,null,0,288.31,"D.05.08",1.26,289.57]
[{"$f":"iCONDOMINI!C19","v":"Condomino09 S.r.l."},"D.04.09",null,null,0,121.2,"D.05.09",1.71,122.91]
[{"$f":"iCONDOMINI!C20","v":"Condomino10"},"D.04.10",null,null,0,null,"D.05.10",2.08,2.08]
[{"$f":"iCONDOMINI!C21","v":"Condomino11"},"D.04.11",null,null,0,198.14,"D.05.11",1.56,199.7]
[{"$f":"iCONDOMINI!C22","v":"Condomino12"},"D.04.12",null,null,0,210.86,"D.05.12",2.39,213.25]
[{"$f":"iCONDOMINI!C23","v":"Condomino13"},"D.04.13",null,null,0,0,"D.05.13",1.64,1.64]
[{"$f":"iCONDOMINI!C24","v":"Condomino14"},"D.04.14",null,null,0,264.05,"D.05.14",1.26,265.31]
[{"$f":"iCONDOMINI!C25","v":"Condomino15"},"D.04.15",null,null,0,null,"D.05.15",1.56,1.56]
[{"$f":"iCONDOMINI!C26","v":"Condomino16"},"D.04.16",null,null,0,2.68,"D.05.16",2.23,4.91]
[{"$f":"iCONDOMINI!C27","v":"Condomino17"},"D.04.17",null,null,0,78.38,"D.05.17",3.1399999999999997,81.52]
[{"$f":"iCONDOMINI!C28","v":"Condomino18"},"D.04.18",null,null,0,11.03,"D.05.18",2.71,13.739999999999998]
[{"$f":"iCONDOMINI!C29","v":"Condomino19"},"D.04.19",null,null,0,79.150000000000006,"D.05.19",2.46,81.61]
[{"$f":"iCONDOMINI!C30","v":"Condomino20"},"D.04.20",null,null,0,7.45,"D.05.20",1.27,8.7200000000000006]
[{"$f":"iCONDOMINI!C31","v":"Condomino21"},"D.04.21",null,null,0,0,"D.05.21",1.56,1.56]
[{"$f":"iCONDOMINI!C32","v":"Condomino22"},"D.04.22",null,null,0,205.77,"D.05.22",1.19,206.96]
[{"$f":"iCONDOMINI!C33","v":"Condomino23"},"D.04.23",null,null,0,null,"D.05.23",1.64,1.64]
[{"$f":"iCONDOMINI!C34","v":"Inquilino1"},"D.04.24",null,null,null,99.39,"D.05.24",0,99.39]
[{"$f":"iCONDOMINI!C35","v":"Inquilino2"},"D.04.25",null,null,null,114.26,"D.05.25",0,114.26]
[{"$f":"iCONDOMINI!C36","v":"Inquilino3"},"D.04.26",null,null,null,null,"D.05.26",0,0]
[{"$f":"iCONDOMINI!C37","v":"Inquilino4"},"D.04.27",null,null,null,284.39999999999998,"D.05.27",0,284.39999999999998]
[{"$f":"iCONDOMINI!C38","v":"Inquilino5"},"D.04.28",null,null,null,17.59,"D.05.28",0,17.59]
[{"$f":"iCONDOMINI!C39","v":0},"D.04.29",null,null,null,null,"D.05.29",null,0]
[{"$f":"iCONDOMINI!C40","v":0},"D.04.30",null,null,null,null,"D.05.30",null,0]
[{"$f":"iCONDOMINI!C41","v":0},"D.04.31",null,null,null,null,"D.05.31",null,0]
[{"$f":"iCONDOMINI!C42","v":0},"D.04.32",null,null,null,null,"D.05.32",null,0]
[{"$f":"iCONDOMINI!C43","v":0},"D.04.33",null,null,null,null,"D.05.33",null,0]
[{"$f":"iCONDOMINI!C44","v":0},"D.04.34",null,null,null,null,"D.05.34",null,0]
[{"$f":"iCONDOMINI!C45","v":0},"D.04.35",null,null,null,null,"D.05.35",null,0]
[{"$f":"iCONDOMINI!C46","v":0},"D.04.36",null,null,null,null,"D.05.36",null,0]
[{"$f":"iCONDOMINI!C47","v":0},"D.04.37",null,null,null,null,"D.05.37",null,0]
[{"$f":"iCONDOMINI!C48","v":0},"D.04.38",null,null,null,null,"D.05.38",null,0]
[{"$f":"iCONDOMINI!C49","v":0},"D.04.39",null,null,null,null,"D.05.39",null,0]
[{"$f":"iCONDOMINI!C50","v":0},"D.04.40",null,null,null,null,"D.05.40",null,0]
[{"$f":"iCONDOMINI!C51","v":0},"D.04.41",null,null,null,null,"D.05.41",null,0]
[{"$f":"iCONDOMINI!C52","v":0},"D.04.42",null,null,null,null,"D.05.42",null,0]
[{"$f":"iCONDOMINI!C53","v":0},"D.04.43",null,null,null,null,"D.05.43",null,0]
[{"$f":"iCONDOMINI!C54","v":0},"D.04.44",null,null,null,null,"D.05.44",null,0]
[{"$f":"iCONDOMINI!C55","v":0},"D.04.45",null,null,null,null,"D.05.45",null,0]
[{"$f":"iCONDOMINI!C56","v":0},"D.04.46",null,null,null,null,"D.05.46",null,0]
[{"$f":"iCONDOMINI!C57","v":0},"D.04.47",null,null,null,null,"D.05.47",null,0]
[{"$f":"iCONDOMINI!C58","v":0},"D.04.48",null,null,null,null,"D.05.48",null,0]
[{"$f":"iCONDOMINI!C59","v":0},"D.04.49",null,null,null,null,"D.05.49",null,0]
[{"$f":"iCONDOMINI!C60","v":0},"D.04.50",null,null,null,null,"D.05.50",null,0]
[{"$f":"iCONDOMINI!C61","v":0},"D.04.51",null,null,null,null,"D.05.51",null,0]
[{"$f":"iCONDOMINI!C62","v":0},"D.04.52",null,null,null,null,"D.05.52",null,0]
[{"$f":"iCONDOMINI!C63","v":0},"D.04.53",null,null,null,null,"D.05.53",null,0]
[{"$f":"iCONDOMINI!C64","v":0},"D.04.54",null,null,null,null,"D.05.54",null,0]
[{"$f":"iCONDOMINI!C65","v":0},"D.04.55",null,null,null,null,"D.05.55",null,0]
[{"$f":"iCONDOMINI!C66","v":0},"D.04.56",null,null,null,null,"D.05.56",null,0]
[{"$f":"iCONDOMINI!C67","v":0},"D.04.57",null,null,null,null,"D.05.57",null,0]
[{"$f":"iCONDOMINI!C68","v":0},"D.04.58",null,null,null,null,"D.05.58",null,0]
[{"$f":"iCONDOMINI!C69","v":0},"D.04.59",null,null,null,null,"D.05.59",null,0]
[{"$f":"iCONDOMINI!C70","v":0},"D.04.60",null,null,null,null,"D.05.60",null,0]
[{"$f":"iCONDOMINI!C71","v":0},"D.04.61",null,null,null,null,"D.05.61",null,0]
[{"$f":"iCONDOMINI!C72","v":0},"D.04.62",null,null,null,null,"D.05.62",null,0]
[{"$f":"iCONDOMINI!C73","v":0},"D.04.63",null,null,null,null,"D.05.63",null,0]
[{"$f":"iCONDOMINI!C74","v":0},"D.04.64",null,null,null,null,"D.05.64",null,0]
[{"$f":"iCONDOMINI!C75","v":0},"D.04.65",null,null,null,null,"D.05.65",null,0]
[{"$f":"iCONDOMINI!C76","v":0},"D.04.66",null,null,null,null,"D.05.66",null,{"$f":"F95+H95","v":0}]
[{"$f":"iCONDOMINI!C77","v":0},"D.04.67",null,null,null,null,"D.05.67",null,0]
[{"$f":"iCONDOMINI!C78","v":0},"D.04.68",null,null,null,null,"D.05.68",null,0]
[{"$f":"iCONDOMINI!C79","v":0},"D.04.69",null,null,null,null,"D.05.69",null,0]
[{"$f":"iCONDOMINI!C80","v":0},"D.04.70",null,null,null,null,"D.05.70",null,0]
[{"$f":"iCONDOMINI!C81","v":0},"D.04.71",null,null,null,null,"D.05.71",null,0]
[{"$f":"iCONDOMINI!C82","v":0},"D.04.72",null,null,null,null,"D.05.72",null,0]
[{"$f":"iCONDOMINI!C83","v":0},"D.04.73",null,null,null,null,"D.05.73",null,0]
[{"$f":"iCONDOMINI!C84","v":0},"D.04.74",null,null,null,null,"D.05.74",null,0]
[{"$f":"iCONDOMINI!C85","v":0},"D.04.75",null,null,null,null,"D.05.75",null,0]
[{"$f":"iCONDOMINI!C86","v":0},"D.04.76",null,null,null,null,"D.05.76",null,0]
[{"$f":"iCONDOMINI!C87","v":0},"D.04.77",null,null,null,null,"D.05.77",null,0]
[{"$f":"iCONDOMINI!C88","v":0},"D.04.78",null,null,null,null,"D.05.78",null,0]
[{"$f":"iCONDOMINI!C89","v":0},"D.04.79",null,null,null,null,"D.05.79",null,0]
[{"$f":"iCONDOMINI!C90","v":0},"D.04.80",null,null,null,null,"D.05.80",null,0]
[{"$f":"iCONDOMINI!C91","v":0},"D.04.81",null,null,null,null,"D.05.81",null,0]
[{"$f":"iCONDOMINI!C92","v":0},"D.04.82",null,null,null,null,"D.05.82",null,0]
[{"$f":"iCONDOMINI!C93","v":0},"D.04.83",null,null,null,null,"D.05.83",null,0]
[{"$f":"iCONDOMINI!C94","v":0},"D.04.84",null,null,null,null,"D.05.84",null,0]
[{"$f":"iCONDOMINI!C95","v":0},"D.04.85",null,null,null,null,"D.05.85",null,0]
[{"$f":"iCONDOMINI!C96","v":0},"D.04.86",null,null,null,null,"D.05.86",null,0]
[{"$f":"iCONDOMINI!C97","v":0},"D.04.87",null,null,null,null,"D.05.87",null,0]
[{"$f":"iCONDOMINI!C98","v":0},"D.04.88",null,null,null,null,"D.05.88",null,0]
[{"$f":"iCONDOMINI!C99","v":0},"D.04.89",null,null,null,null,"D.05.89",null,0]
[{"$f":"iCONDOMINI!C100","v":0},"D.04.90",null,null,null,null,"D.05.90",null,0]
[{"$f":"iCONDOMINI!C101","v":0},"D.04.91",null,null,null,null,"D.05.91",null,0]
[{"$f":"iCONDOMINI!C102","v":0},"D.04.92",null,null,null,null,"D.05.92",null,0]
[{"$f":"iCONDOMINI!C103","v":0},"D.04.93",null,null,null,null,"D.05.93",null,0]
[{"$f":"iCONDOMINI!C104","v":0},"D.04.94",null,null,null,null,"D.05.94",null,0]
[{"$f":"iCONDOMINI!C105","v":0},"D.04.95",null,null,null,null,"D.05.95",null,0]
[{"$f":"iCONDOMINI!C106","v":0},"D.04.96",null,null,null,null,"D.05.96",null,0]
[{"$f":"iCONDOMINI!C107","v":0},"D.04.97",null,null,null,null,"D.05.97",null,0]
[{"$f":"iCONDOMINI!C108","v":0},"D.04.98",null,null,null,null,"D.05.98",null,0]
[{"$f":"iCONDOMINI!C109","v":0},"D.04.99",null,null,null,null,"D.05.99",null,0]
[{"$f":"iPCDC!D129","v":"v/s GESTIONE ORDINARIA"},{"$f":"iPCDC!E129","v":"D.06"},{"$f":"SUM(C130:C134)","v":0},0,0,0,0,0]
[{"$f":"iPCDC!D130","v":"Gestione Ordinaria"},{"$f":"iPCDC!E130","v":"D.06.01"}]
[{"$f":"iPCDC!D131","v":""},{"$f":"iPCDC!E131","v":"00:00:00"}]
[{"$f":"iPCDC!D132","v":""},{"$f":"iPCDC!E132","v":"00:00:00"}]
[{"$f":"iPCDC!D133","v":""},{"$f":"iPCDC!E133","v":"00:00:00"}]
[{"$f":"iPCDC!D134","v":""},{"$f":"iPCDC!E134","v":"00:00:00"}]
["SUDDIVISIONE PER ESERCIZI"]
["da ESERCIZI PREGRESSI",null,{"$f":"C11+C17+C23","v":0},{"$f":"D11+D17+D23","v":0},{"$f":"E11+E17+E23","v":0},{"$f":"F11+F17+F23","v":0},{"$f":"G11+G17+G23","v":0},null,{"$f":"SUM(C18:G28)","v":1203.3800000000001}]
["da ESERCIZIO IN CORSO",null,null,null,{"$f":"SUM(E30:E128)","v":0},null,null,{"$f":"H11+H17+H23","v":0},{"$f":"SUM(H18:H28)+SUM(F30:F128)+SUM(H30:H128)","v":3161.8300000000008}]
["SUDDIVISIONE PER TIPO DI CREDITORI"]
["v/s TERZI",null,null,null,null,null,null,null,{"$f":"SUM(I17:I28)","v":1339.49}]
["v/s CONDOMINI (Quote in eccedenza)",null,null,null,null,null,null,null,{"$f":"SUM(F30:F128)","v":2983.4500000000007}]
["v/s CONDOMINI (Depositi attivi)",null,null,null,null,null,null,null,{"$f":"SUM(H30:H128)","v":42.27000000000001}]
["v/s GESTIONI SPECIALI",null,null,null,null,null,null,null,{"$f":"SUM(I130:I134)","v":0}]
["TOTALE DEBITI",null,{"$f":"SUM(C136:C137)","v":0},0,0,0,0,0,{"$f":"SUM(I18:I134)","v":4365.2099999999991}]

{"sheet":"cRENDICONTO","index":36,"n_rows":122,"n_cols":9,"rows_kept":122,"cut":false,"hidden":true,"merged":[[3,0,3,7],[39,0,39,2],[39,4,39,6]]}
["RENDICONTO CONSUNTIVO - Condominio \"TERMICO\"",null,null,null,null,null,null,null,"2022-09-28T17:45:34"]
["RENDICONTO IN CORSO D'ESERCIZIO 2022",null,null,null,null,null,null,null,167]
["dall' 1/10/2021",null,null,null,"al 2-4-2022"]
["CONTO ECONOMICO ESERCIZIO"]
["Il conto economico dell'esercizio evidenzia il risultato economico dell'esercizio sotto forma di avanzo o disavanzo, classificando gli incassi e le spese inerenti la sola gestione ordinaria dell'esercizio. "]
["RICAVI \n(INCASSI NELL'ESERCIZIO )",null,null,null,"COSTI\n(SPESE SOSTENUTE e IMPEGNI DI SPESA DI COMPETENZA DELL'ESERCIZIO)"]
["INCASSO CONTRIBUTI CONDOMINIALI",null,null,{"$f":"SUM(C8)","v":3467.5400000000004},{"$f":"IF(H7>0,iPCU!A11,\"\")","v":"SPESE GENERALI"},null,null,{"$f":"cUSCITE!D11","v":80}]
[null,"Quote dei condomini in conto esercizio",{"$f":"cENTRATE!C40","v":3467.5400000000004},null,{"$f":"IF(H8>0,iPCU!A27,\"\")","v":"PULIZIE"},null,null,{"$f":"cUSCITE!D27","v":110}]
[{"$f":"cENTRATE!A11","v":"RENDITE, ALTRE ENTRATE E PROVENTI DIVERSI"},null,null,{"$f":"SUM(C10:C15)","v":0},{"$f":"IF(H9>0,iPCU!A38,\"\")","v":""},null,null,{"$f":"cUSCITE!D38","v":0}]
[null,{"$f":"cENTRATE!A12","v":"Entrate varie"},{"$f":"cENTRATE!C12","v":0},null,{"$f":"IF(H10>0,iPCU!A49,\"\")","v":"CONSUMI DI ENERGIA"},null,null,{"$f":"cUSCITE!D49","v":400}]
[null,{"$f":"cENTRATE!A13","v":0},{"$f":"cENTRATE!C13","v":0},null,{"$f":"IF(H11>0,iPCU!A60,\"\")","v":""},null,null,{"$f":"cUSCITE!D60","v":0}]
[null,{"$f":"cENTRATE!A14","v":0},{"$f":"cENTRATE!C14","v":0},null,{"$f":"IF(H12>0,iPCU!A71,\"\")","v":""}]
[null,null,null,null,{"$f":"IF(H13>0,iPCU!A77,\"\")","v":""},{"$f":"IF(E13<>\"\",iPCU!A77,\"\")","v":""},null,{"$f":"cUSCITE!D77","v":0}]
[null,null,null,null,{"$f":"IF(H14>0,iPCU!A83,\"\")","v":""}]
[null,null,null,null,{"$f":"IF(H15>0,iPCU!A89,\"\")","v":"SPESE PERSONALI o ASSEGNATE DIRETTAMENTE AI CONDOMINI E AGLI INQUILINI"},null,null,{"$f":"cUSCITE!D89","v":0.34}]
[null,null,"TOTALE",{"$f":"SUM(D7:D15)","v":3467.5400000000004},null,null,"TOTALE",{"$f":"SUM(H7:H15)","v":590.34}]
[{"$f":"IF(D17=0,\"\",\"AVANZO ECONOMICO DI COMPETENZA\")","v":"AVANZO ECONOMICO DI COMPETENZA"},null,null,{"$f":"IF(D16>H16,D16-H16,0)","v":2877.2000000000003},{"$f":"IF(H17=0,\"\",\"DISAVANZO ECONOMICO DI COMPETENZA\")","v":""},null,null,{"$f":"IF(D16<H16,H16-D16,0)","v":0}]
[{"$f":"IF(D18=0,\"\",\"AVANZO ECONOMICO DI CASSA\")","v":"AVANZO ECONOMICO DI CASSA"},null,null,{"$f":"IF(D16>H28,D16-H28,0)","v":2903.4247540983611},{"$f":"IF(H18=0,\"\",\"DISAVANZO ECONOMICO DI CASSA\")","v":""},null,null,{"$f":"IF(D16<H28,H28-D16,0)","v":0}]
[{"$f":"IF(D19=0,\"\",\"AVANZO TEORICO DI COMPETENZA\")","v":"AVANZO TEORICO DI COMPETENZA"},null,null,{"$f":"IF(cRPSS!K110+D9>H16,cRPSS!K110+D9-H16,0)","v":6359.66},{"$f":"IF(H19=0,\"\",\"DISAVANZO TEORICO DI COMPETENZA\")","v":""},null,null,{"$f":"IF(cRPSS!K110+D9<H16,H16-cRPSS!K110-D9,0)","v":0}]
["L' avanzo o disavanzo economico di competenza tiene conto degli incassi effettivi, delle spese sostenute e degli impegni di spesa.  "]
["L' avanzo o disavanzo economico di cassa tiene conto dei soli flussi effettivamente incassati o pagati.  "]
["L' avanzo o disavanzo teorico ipotizza che l'incasso nell'esercizio sia pari alla somma di tutte le quote condominiali stabilite nel bilancio preventivo.  "]
[]
["CONTO FINANZIARIO"]
["Il conto finanziario riepiloga i flussi in denaro verificatesi nell'esercizio, classificando le entrate e le uscite di tutte le gestioni attive nel condominio (ordinaria, straordinarie e speciali). "]
["LIQUIDITÀ INIZIO ESERCIZIO",null,null,{"$f":"IF(iGIORNALE!H15+iGIORNALE!K15>0,iGIORNALE!H15+iGIORNALE!K15,0)","v":101.46}]
["ENTRATE",null,null,{"$f":"SUM(C28:C39)","v":5104.8300000000008},"USCITE",null,null,{"$f":"SUM(H28:H39)","v":1320.7800000000002}]
["INCASSI QUOTE DA CONDOMINI (Gestione Ordinaria)",null,null,null,"PAGAMENTO DIRETTO AI FORNITORI di SPESE dell'ESERCIZIO",null,null,{"$f":"H16-(cDEBITI!H18+cDEBITI!H19+cDEBITI!H20)-cDEBITI!H24-cDEBITI!H25-iGIORNALE!R8","v":564.11524590163935}]
[null,"Quote Esercizio direttamente versate",{"$f":"cENTRATE!C40-H30","v":2723.9900000000002},null,"VERSAMENTI R.A. OPERATE SULLE SPESE ESERCIZIO",null,null,{"$f":"iGIORNALE!R8","v":13.114754098360654}]
[null,"Quote esercizio da storno debiti v/s condomini",{"$f":"H30","v":743.55000000000007},null,"RESTITUZIONI a CONDOMINI",null,null,{"$f":"cUSCITE!D191","v":743.55000000000007}]
[null,"Conguagli esercizio precedente",{"$f":"cENTRATE!E40","v":732.82999999999993},null,"PAGAMENTO DEBITI v/s TERZI (ESERCIZI PRECEDENTI)",null,null,{"$f":"cUSCITE!D192","v":0}]
[null,"Arretrati",{"$f":"cENTRATE!G40","v":781.46},null,"PAGAMENTO DEBITI v/s ERARIO (ESERCIZI PRECEDENTI)",null,null,{"$f":"cUSCITE!D193+cUSCITE!D194","v":0}]
["ENTRATE VARIE",null,{"$f":"cENTRATE!C11+cENTRATE!C140","v":123},null,"USCITE VARIE",null,null,{"$f":"cUSCITE!D83+cUSCITE!D195","v":0}]
["INCASSI QUOTE DA CONDOMINI (Gestioni speciali)",null,null,null,"PAGAMENTI SPESE (Gestioni speciali)"]
[null,{"$f":"IF('iP1'!A27<>\"\",'iP1'!A27,\"\")","v":""},{"$f":"cENTRATE!C30+cENTRATE!C31","v":0},null,null,null,{"$f":"IF('iP1'!A27<>\"\",'iP1'!A27,\"\")","v":""},{"$f":"cUSCITE!D203","v":0}]
[null,{"$f":"IF('iP1'!A28<>\"\",'iP1'!A28,\"\")","v":""},{"$f":"cENTRATE!C32+cENTRATE!C33","v":0},null,null,null,{"$f":"IF('iP1'!A28<>\"\",'iP1'!A28,\"\")","v":""},{"$f":"cUSCITE!D204","v":0}]
[null,{"$f":"IF('iP1'!A29<>\"\",'iP1'!A29,\"\")","v":""},{"$f":"cENTRATE!C34+cENTRATE!C35","v":0},null,null,null,{"$f":"IF('iP1'!A29<>\"\",'iP1'!A29,\"\")","v":""},{"$f":"cUSCITE!D205","v":0}]
[null,{"$f":"IF('iP1'!A30<>\"\",'iP1'!A30,\"\")","v":""},{"$f":"cENTRATE!C36+cENTRATE!C37","v":0},null,null,null,{"$f":"IF('iP1'!A30<>\"\",'iP1'!A30,\"\")","v":""},{"$f":"cUSCITE!D206","v":0}]
[null,{"$f":"IF('iP1'!A31<>\"\",'iP1'!A31,\"\")","v":""},{"$f":"cENTRATE!C38+cENTRATE!C39","v":0},null,null,null,{"$f":"IF('iP1'!A31<>\"\",'iP1'!A31,\"\")","v":""},{"$f":"cUSCITE!D207","v":0}]
[{"$f":"IF(D40=0,\"\",\"LIQUIDITÀ FINALE\")","v":"LIQUIDITÀ FINALE"},null,null,{"$f":"IF(D26+D27>H27,D26+D27-H27,0)","v":3885.5100000000007},{"$f":"IF(H40=0,\"\",\"LIQUIDITÀ FINALE\")","v":""},null,null,{"$f":"IF(H27>D26+D27,H27-D26-D27,0)","v":0}]
[]
["STATO PATRIMONIALE al 2-4-2022"]
["Lo Stato Patrimoniale rappresenta la situazione patrimoniale del condominio relativa al servizio gestito, riportando le attività e la passività. \nNaturalmente, per la pecurialità giuridica del contominio, lo situazione patrimoniale è sempre in pareggio."]
["ATTIVITÀ (PARTITE A CREDITO)",null,null,null,"PASSIVITÀ (PARTITE A DEBITO)"]
[]
["LIQUIDITÀ",null,null,{"$f":"ROUND(SUM(C47:C48),2)","v":3885.51},"LIQUIDITÀ",null,null,{"$f":"ROUND(SUM(G48),2)","v":0}]
[null,"CASSA",{"$f":"iGIORNALE!H10","v":30.279999999999973},null,null,null,0]
[null,"CONTO CORRENTE",3855.23,null,null,"CONTO CORRENTE",0]
["CREDITI DI GESTIONE",null,null,{"$f":"SUM(C50:C56)","v":437.43},"DEBITI DI GESTIONE",null,null,{"$f":"ROUND(SUM(G50:G56),2)","v":4322.9399999999996}]
[null,"Esercizi precedenti",null,null,null,"v/s ERARIO e ISTITUZ. PUBBLICHE",{"$f":"SUM(cDEBITI!I24:I28)","v":13.11}]
[null,"da CONDOMINI",{"$f":"ROUND(SUM(cCREDITI!C29:'cCREDITI'!G29),2)","v":331.18},null,null,"v/s TERZI PRIVATI",{"$f":"SUM(cDEBITI!I18:I22)","v":1326.38}]
[null,"da TERZI",{"$f":"ROUND(SUM(cCREDITI!C17:'cCREDITI'!G17),2)+ROUND(SUM(cCREDITI!C23:'cCREDITI'!G23),2)","v":0},null,null,"v/s CONDOMINI",{"$f":"cDEBITI!I140","v":2983.4500000000007}]
[null,{"$f":"\"Esercizio \" & 'iP1'!A37","v":"Esercizio 2021-2022"}]
[null,"da CONDOMINI",{"$f":"ROUND(cCREDITI!H29,2)","v":106.25}]
[null,"da TERZI",{"$f":"cCREDITI!I129","v":0}]
[]
["DEPOSITI ATTIVI",null,null,{"$f":"ROUND(SUM(C58:C64),2)","v":42.27},"DEBITI V/S CONDOMINI per DEPOSITI ATTIVI",null,null,{"$f":"ROUND(SUM(G58:G64),2)","v":42.27}]
[null,{"$f":"iPCDC!A12","v":"DEPOSITI CAUZIONALI"},{"$f":"cCREDITI!I12","v":42.27},null,null,"v/s CONDOMINI (dep. cauzion.)",{"$f":"cDEBITI!I141","v":42.27000000000001}]
[null,{"$f":"iPCDC!A13","v":"PRESTITI A TERZI"},{"$f":"cCREDITI!I13","v":0},null,null,"v/s CONDOMINI (voucher lavori)",{"$f":"cDEBITI!I13","v":0}]
[null,{"$f":"iPCDC!A14","v":0},{"$f":"cCREDITI!I14","v":0},null,null,"v/s CONDOMINI (prestiti a terzi)",{"$f":"cDEBITI!I14","v":0}]
[null,{"$f":"iPCDC!A15","v":0},null,null,null,null,{"$f":"cDEBITI!I15","v":0}]
[null,null,null,null,null,null,{"$f":"cDEBITI!I16","v":0}]
[]
[]
["TOTALE ATTIVITÀ GESTIONE ",null,null,{"$f":"ROUND(SUM(D46:D64),2)","v":4365.21},"TOTALE PASSIVITÀ GESTIONE",null,null,{"$f":"ROUND(SUM(H46:H64),2)","v":4365.21}]
[{"$f":"IF((D65-H65)>0.01,\"SALDO PATRIMONIALE ATTIVO\",\"\")","v":""},null,null,{"$f":"IF((D65-H65)>0.01,D65-H65,0)","v":0},{"$f":"IF((H65-D65)<0.01,\"\",\"SALDO PATRIMONIALE PASSIVO\")","v":""},null,null,{"$f":"IF((H65-D65)<0.01,0,H65-D65)","v":0}]
[]
[]
[]
[]
[]
[]
[]
[]
[]
[]
[]
[]
[]
[]
[]
[]
[]
[]
[]
[]
[]
[]
[]
[]
[]
[]
[]
[]
[]
[]
[]
[]
[]
[]
[]
[]
[]
["CONTROLLI"]
["LIQUIDITÀ (Gestione Ordinaria e Gestioni Straordinarie, Speciali e Fondi)"]
["La liquidità risultante dal giornale di contabilità deve essere pari a quella calcolata e riportata nella situazione patrimoniale. "]
["Da giornale di contabilità",null,null,{"$f":"D108+D115","v":3885.51},"Da situazione patrimoniale",null,null,{"$f":"H108+H115","v":3885.51}]
[null,"Cassa",null,{"$f":"iGIORNALE!H10","v":30.279999999999973},null,"Cassa",{"$f":"C47","v":30.279999999999973},{"$f":"SUM(G108:G114)","v":30.279999999999973}]
[]
[null,null,null,null,null,{"$f":"'iP1'!A27","v":0},{"$f":"C70","v":0}]
[null,null,null,null,null,{"$f":"'iP1'!A28","v":0}]
[null,null,null,null,null,{"$f":"'iP1'!A29","v":0}]
[null,null,null,null,null,{"$f":"'iP1'!A30","v":0}]
[null,null,null,null,null,{"$f":"'iP1'!A31","v":0}]
[null,"Conto corrente",null,{"$f":"iGIORNALE!K10","v":3855.23},null,"Conto corrente",{"$f":"C48-G48","v":3855.23},{"$f":"SUM(G115:G121)","v":3855.23}]
[]
[null,null,null,null,null,{"$f":"'iP1'!A27","v":0},{"$f":"C71","v":0}]
[null,null,null,null,null,{"$f":"'iP1'!A28","v":0}]
[null,null,null,null,null,{"$f":"'iP1'!A29","v":0}]
[null,null,null,null,null,{"$f":"'iP1'!A30","v":0}]
[null,null,null,null,null,{"$f":"'iP1'!A31","v":0}]
[{"$f":"IF((D107-H107)>0.01,\"SBILANCIO ATTIVO\",\"\")","v":""},null,null,{"$f":"IF(D107-H107>0.01,D107-H107,\"\")","v":""},{"$f":"IF((H107-D107)<0.01,\"\",\"SBILANCIO PASSIVO\")","v":""},null,null,{"$f":"IF(H107-D107>0.01,H107-D107,\"\")","v":""}]

{"sheet":"cSPE","index":37,"n_rows":139,"n_cols":16,"rows_kept":139,"cut":false,"hidden":true,"merged":[[8,15,9,15],[8,0,9,0],[8,1,9,1],[8,7,9,7],[8,8,9,8],[8,9,9,9]]}
["Condominio \"TERMICO\""]
["STATO PATRIMONIALE al 2-4-2022"]
["ATTIVITÀ",null,null,null,null,null,null,null,"PASSIVITÀ"]
["DISPONIBILITÀ LIQUIDA"]
[null,"Totale",null,null,null,null,null,{"$f":"SUM(H6:H7)","v":3885.51}]
["CASSA",30.28,null,null,null,null,null,{"$f":"SUM(B6:G6)","v":30.28}]
["CONTO CORRENTE POSTALE ",3855.23,null,null,null,null,null,{"$f":"SUM(B7:G7)","v":3855.23}]
["CREDITI",null,null,null,null,null,null,null,"DEBITI"]
["VOCE","Conto","2017-2018","2018-2019","2019-2020","2020-2021","2021-2022","TOTALE","VOCE","Conto",null,{"$f":"D9","v":"2018-2019"},"2019-2020","2020-2021","2021-2022","TOTALE"]
[null,null,{"$f":"IF(C9<>\"\",\"YY = \" & RIGHT(C9,2),\"\")","v":"YY = 18"},{"$f":"IF(D9<>\"\",\"YY = \" & RIGHT(D9,2),\"\")","v":"YY = 19"},{"$f":"IF(E9<>\"\",\"YY = \" & RIGHT(E9,2),\"\")","v":"YY = 20"},{"$f":"IF(F9<>\"\",\"YY = \" & RIGHT(F9,2),\"\")","v":"YY = 21"},{"$f":"IF(G9<>\"\",\"YY = \" & RIGHT(G9,2),\"\")","v":"YY = 22"},null,null,null,"YY = 18","YY = 19","YY = 20","YY = 21","YY = 22"]
[{"$f":"\"CREDITI \" & iPCDC!A11","v":"CREDITI da DEPOSITI di DENARO presso Terzi"},null,{"$f":"SUM(C12:C16)","v":0},0,0,42.27,0,42.27,{"$f":"\"DEBITI \" & iPCDC!D11","v":"DEBITI "},null,{"$f":"SUM(K12:K16)","v":0},0,0,0,0,0]
[{"$f":" iPCDC!A12","v":"DEPOSITI CAUZIONALI"},{"$f":"iPCDC!B12","v":"C.01.01.YY"},0,null,null,42.27,null,{"$f":"SUM(C12:G12)","v":42.27},{"$f":"iPCDC!D12","v":0},{"$f":"iPCDC!E12","v":"00:00:00"},0,null,null,null,null,{"$f":"SUM(K12:O12)","v":0}]
[{"$f":" iPCDC!A13","v":"PRESTITI A TERZI"},{"$f":"iPCDC!B13","v":"C.01.02.YY"},0,null,null,null,null,{"$f":"SUM(C13:G13)","v":0},{"$f":"iPCDC!D13","v":0},{"$f":"iPCDC!E13","v":"00:00:00"},0,null,null,null,null,{"$f":"SUM(K13:O13)","v":0}]
[{"$f":" iPCDC!A14","v":0},{"$f":"iPCDC!B14","v":"C.01.03.YY"},0,null,null,null,null,0,{"$f":"iPCDC!D14","v":0},{"$f":"iPCDC!E14","v":"00:00:00"},0,null,null,null,null,0]
[{"$f":" iPCDC!A15","v":0},{"$f":"iPCDC!B15","v":"C.01.04.YY"},0,null,null,null,null,0,{"$f":"iPCDC!D15","v":0},{"$f":"iPCDC!E15","v":"00:00:00"},0,null,null,null,null,0]
[{"$f":" iPCDC!A16","v":0},{"$f":"iPCDC!B16","v":"C.01.05.YY"},0,null,null,null,null,0,{"$f":"iPCDC!D16","v":0},{"$f":"iPCDC!E16","v":"00:00:00"},0,null,null,null,null,0]
[{"$f":" \"CREDITI \" & iPCDC!A17","v":"CREDITI da TERZI PRIVATI"},null,null,{"$f":"SUM(D18:D22)","v":0},{"$f":"SUM(E18:E22)","v":0},{"$f":"SUM(F18:F22)","v":0},{"$f":"SUM(G18:G22)","v":0},{"$f":"SUM(H18:H22)","v":0},{"$f":"\"DEBITI \" & iPCDC!D17","v":"DEBITI v/s TERZI PRIVATI"},null,{"$f":"SUM(K18:K22)","v":0},250,340,613.38,123,1326.38]
[{"$f":" iPCDC!A18","v":"da FORNITORI"},{"$f":"iPCDC!B18","v":"C.02.01.YY"},0,null,null,null,null,0,{"$f":"iPCDC!D18","v":"v/s FORNITORI per FATTURE RICEVUTE"},{"$f":"iPCDC!E18","v":"D.02.01.YY"},0,null,null,363.38,null,{"$f":"SUM(K18:O18)","v":363.38}]
[{"$f":" iPCDC!A19","v":"da DEBITORI DIVERSI"},{"$f":"iPCDC!B19","v":"C.02.02.YY"},0,null,null,null,null,0,{"$f":"iPCDC!D19","v":"v/s FORNITORI per AVVISI DI FATTURA RICEVUTI"},{"$f":"iPCDC!E19","v":"D.02.02.YY"},0,null,50,null,null,{"$f":"SUM(K19:O19)","v":50}]
[{"$f":" iPCDC!A20","v":0},{"$f":"iPCDC!B20","v":"C.02.03.YY"},0,null,null,null,null,0,{"$f":"iPCDC!D20","v":"v/s FORNITORI per IMPEGNI DI SPESA"},{"$f":"iPCDC!E20","v":"D.02.03.YY"},0,250,290,250,null,{"$f":"SUM(K20:O20)","v":790}]
[{"$f":" iPCDC!A21","v":0},{"$f":"iPCDC!B21","v":"C.02.04.YY"},0,null,null,null,null,0,{"$f":"iPCDC!D21","v":"v/s TERZI per PRESTITI RICEVUTI"},{"$f":"iPCDC!E21","v":"D.02.04.YY"},0,null,null,null,123,{"$f":"SUM(K21:O21)","v":123}]
[{"$f":" iPCDC!A22","v":0},{"$f":"iPCDC!B22","v":"C.02.05.YY"},0,null,null,null,null,0,{"$f":"iPCDC!D22","v":"v/s CREDITORI DIVERSI"},{"$f":"iPCDC!E22","v":"D.02.05.YY"},0,null,null,null,null,{"$f":"SUM(K22:O22)","v":0}]
[{"$f":" \"CREDITI \" & iPCDC!A23","v":"CREDITI da TERZI PUBBLICI"},null,null,null,null,null,null,{"$f":"SUM(H24:H28)","v":0},{"$f":"\"DEBITI \"&iPCDC!D23","v":"DEBITI v/s TERZI PUBBLICI"},null,{"$f":"SUM(K24:K28)","v":0},0,0,0,13.11,13.11]
[{"$f":" iPCDC!A24","v":"da ERARIO"},{"$f":"iPCDC!B24","v":"C.03.01.YY"},0,null,null,null,null,0,{"$f":"iPCDC!D24","v":"v/s ERARIO  per RITENUTE  ACCONTO SU SPESE"},{"$f":"iPCDC!E24","v":"D.03.01.YY"},0,null,null,null,13.11,13.11]
[{"$f":" iPCDC!A25","v":"da altri Enti Pubblici"},{"$f":"iPCDC!B25","v":"C.03.02.YY"},0,null,null,null,null,0,{"$f":"iPCDC!D25","v":"v/s ERARIO per TRIBUTI"},{"$f":"iPCDC!E25","v":"D.03.02.YY"},0,null,null,null,null,0]
[{"$f":" iPCDC!A26","v":0},{"$f":"iPCDC!B26","v":"C.03.03.YY"},0,null,null,null,null,0,{"$f":"iPCDC!D26","v":"v/s ERARIO  per R.A. SU PAGAMENTI DEBITI"},{"$f":"iPCDC!E26","v":"D.03.03.YY"},0,null,null,null,null,0]
[{"$f":" iPCDC!A27","v":0},{"$f":"iPCDC!B27","v":"C.03.04.YY"},0,null,null,null,null,0,{"$f":"iPCDC!D27","v":0},{"$f":"iPCDC!E27","v":"D.03.04.YY"},0,null,null,null,null,0]
[{"$f":" iPCDC!A28","v":0},{"$f":"iPCDC!B28","v":"C.03.05.YY"},0,null,null,null,null,0,{"$f":"iPCDC!D28","v":0},{"$f":"iPCDC!E28","v":"D.03.05.YY"},0,null,null,null,null,0]
[{"$f":"\"CREDITI \" &  iPCDC!A29","v":"CREDITI da CONDOMINI e FRUITORI"},null,{"$f":"SUM(C30:C128)","v":0},0,5.3,325.88,106.25,437.42999999999995,{"$f":"\"DEBITI \"&iPCDC!D29","v":"DEBITI v/s CONDOMINI e FRUITORI"},"Quote in eccesso",null,null,null,"Cauzioni",null,{"$f":"SUM(P30:P128)","v":3025.72}]
[{"$f":"iCONDOMINI!C11","v":"Condomino01"},{"$f":"iPCDC!B30","v":"C.04.01.YY"},0,null,null,null,0,0,{"$f":"iCONDOMINI!C11","v":"Condomino01"},{"$f":"iPCDC!E30","v":"D.04.01"},null,null,301.45999999999998,{"$f":"iPCDC!F30","v":"D.05.01"},1.27,{"$f":"M30+O30","v":302.72999999999996}]
[{"$f":"iCONDOMINI!C12","v":"Condomino02"},{"$f":"iPCDC!B31","v":"C.04.02.YY"},0,null,null,null,0,0,{"$f":"iCONDOMINI!C12","v":"Condomino02"},{"$f":"iPCDC!E31","v":"D.04.02"},null,null,12.95,{"$f":"iPCDC!F31","v":"D.05.02"},1.56,{"$f":"M31+O31","v":14.51}]
[{"$f":"iCONDOMINI!C13","v":"Condomino03"},{"$f":"iPCDC!B32","v":"C.04.03.YY"},0,0,0,0,0,0,{"$f":"iCONDOMINI!C13","v":"Condomino03"},{"$f":"iPCDC!E32","v":"D.04.03"},null,null,223.71,{"$f":"iPCDC!F32","v":"D.05.03"},2.91,226.62]
[{"$f":"iCONDOMINI!C14","v":"Condomino04 S.r.l."},{"$f":"iPCDC!B33","v":"C.04.04.YY"},0,0,0,33.75,13.4,47.15,{"$f":"iCONDOMINI!C14","v":"Condomino04 S.r.l."},{"$f":"iPCDC!E33","v":"D.04.04"},null,null,null,{"$f":"iPCDC!F33","v":"D.05.04"},1.56,1.56]
[{"$f":"iCONDOMINI!C15","v":"Condomino05"},{"$f":"iPCDC!B34","v":"C.04.05.YY"},0,null,null,null,0,0,{"$f":"iCONDOMINI!C15","v":"Condomino05"},{"$f":"iPCDC!E34","v":"D.04.05"},null,null,167.59,{"$f":"iPCDC!F34","v":"D.05.05"},2.0099999999999998,169.6]
[{"$f":"iCONDOMINI!C16","v":"Condomino06"},{"$f":"iPCDC!B35","v":"C.04.06.YY"},0,0,0,249.26,30.15,279.40999999999997,{"$f":"iCONDOMINI!C16","v":"Condomino06"},{"$f":"iPCDC!E35","v":"D.04.06"},null,null,null,{"$f":"iPCDC!F35","v":"D.05.06"},1.79,1.79]
[{"$f":"iCONDOMINI!C17","v":"Condomino07"},{"$f":"iPCDC!B36","v":"C.04.07.YY"},0,null,null,null,0,0,{"$f":"iCONDOMINI!C17","v":"Condomino07"},{"$f":"iPCDC!E36","v":"D.04.07"},null,null,295.08,{"$f":"iPCDC!F36","v":"D.05.07"},1.51,296.58999999999997]
[{"$f":"iCONDOMINI!C18","v":"Eredi Condomino08"},{"$f":"iPCDC!B37","v":"C.04.08.YY"},0,null,null,null,0,0,{"$f":"iCONDOMINI!C18","v":"Eredi Condomino08"},{"$f":"iPCDC!E37","v":"D.04.08"},null,null,288.31,{"$f":"iPCDC!F37","v":"D.05.08"},1.26,289.57]
[{"$f":"iCONDOMINI!C19","v":"Condomino09 S.r.l."},{"$f":"iPCDC!B38","v":"C.04.09.YY"},0,null,null,null,0,0,{"$f":"iCONDOMINI!C19","v":"Condomino09 S.r.l."},{"$f":"iPCDC!E38","v":"D.04.09"},null,null,121.2,{"$f":"iPCDC!F38","v":"D.05.09"},1.71,122.91]
[{"$f":"iCONDOMINI!C20","v":"Condomino10"},{"$f":"iPCDC!B39","v":"C.04.10.YY"},0,null,5.3,13.3,0,18.600000000000001,{"$f":"iCONDOMINI!C20","v":"Condomino10"},{"$f":"iPCDC!E39","v":"D.04.10"},null,null,null,{"$f":"iPCDC!F39","v":"D.05.10"},2.08,2.08]
[{"$f":"iCONDOMINI!C21","v":"Condomino11"},{"$f":"iPCDC!B40","v":"C.04.11.YY"},0,null,null,null,0,0,{"$f":"iCONDOMINI!C21","v":"Condomino11"},{"$f":"iPCDC!E40","v":"D.04.11"},null,null,198.14,{"$f":"iPCDC!F40","v":"D.05.11"},1.56,199.7]
[{"$f":"iCONDOMINI!C22","v":"Condomino12"},{"$f":"iPCDC!B41","v":"C.04.12.YY"},0,null,null,null,0,0,{"$f":"iCONDOMINI!C22","v":"Condomino12"},{"$f":"iPCDC!E41","v":"D.04.12"},null,null,210.86,{"$f":"iPCDC!F41","v":"D.05.12"},2.39,213.25]
[{"$f":"iCONDOMINI!C23","v":"Condomino13"},{"$f":"iPCDC!B42","v":"C.04.13.YY"},0,null,null,null,1.79,1.79,{"$f":"iCONDOMINI!C23","v":"Condomino13"},{"$f":"iPCDC!E42","v":"D.04.13"},null,null,0,{"$f":"iPCDC!F42","v":"D.05.13"},1.64,1.64]
[{"$f":"iCONDOMINI!C24","v":"Condomino14"},{"$f":"iPCDC!B43","v":"C.04.14.YY"},0,null,null,null,0,0,{"$f":"iCONDOMINI!C24","v":"Condomino14"},{"$f":"iPCDC!E43","v":"D.04.14"},null,null,264.05,{"$f":"iPCDC!F43","v":"D.05.14"},1.26,265.31]
[{"$f":"iCONDOMINI!C25","v":"Condomino15"},{"$f":"iPCDC!B44","v":"C.04.15.YY"},0,0,0,16.47,17.489999999999998,33.959999999999994,{"$f":"iCONDOMINI!C25","v":"Condomino15"},{"$f":"iPCDC!E44","v":"D.04.15"},null,null,null,{"$f":"iPCDC!F44","v":"D.05.15"},1.56,1.56]
[{"$f":"iCONDOMINI!C26","v":"Condomino16"},{"$f":"iPCDC!B45","v":"C.04.16.YY"},0,null,null,null,0,0,{"$f":"iCONDOMINI!C26","v":"Condomino16"},{"$f":"iPCDC!E45","v":"D.04.16"},null,null,2.68,{"$f":"iPCDC!F45","v":"D.05.16"},2.23,4.91]
[{"$f":"iCONDOMINI!C27","v":"Condomino17"},{"$f":"iPCDC!B46","v":"C.04.17.YY"},0,null,null,0,0,0,{"$f":"iCONDOMINI!C27","v":"Condomino17"},{"$f":"iPCDC!E46","v":"D.04.17"},null,null,78.38,{"$f":"iPCDC!F46","v":"D.05.17"},3.1399999999999997,81.52]
[{"$f":"iCONDOMINI!C28","v":"Condomino18"},{"$f":"iPCDC!B47","v":"C.04.18.YY"},0,null,null,null,0,0,{"$f":"iCONDOMINI!C28","v":"Condomino18"},{"$f":"iPCDC!E47","v":"D.04.18"},null,null,11.03,{"$f":"iPCDC!F47","v":"D.05.18"},2.71,13.739999999999998]
[{"$f":"iCONDOMINI!C29","v":"Condomino19"},{"$f":"iPCDC!B48","v":"C.04.19.YY"},0,null,null,null,0,0,{"$f":"iCONDOMINI!C29","v":"Condomino19"},{"$f":"iPCDC!E48","v":"D.04.19"},null,null,79.150000000000006,{"$f":"iPCDC!F48","v":"D.05.19"},2.46,81.61]
[{"$f":"iCONDOMINI!C30","v":"Condomino20"},{"$f":"iPCDC!B49","v":"C.04.20.YY"},0,null,null,null,0,0,{"$f":"iCONDOMINI!C30","v":"Condomino20"},{"$f":"iPCDC!E49","v":"D.04.20"},null,null,7.45,{"$f":"iPCDC!F49","v":"D.05.20"},1.27,8.7200000000000006]
[{"$f":"iCONDOMINI!C31","v":"Condomino21"},{"$f":"iPCDC!B50","v":"C.04.21.YY"},0,null,null,null,1.17,1.17,{"$f":"iCONDOMINI!C31","v":"Condomino21"},{"$f":"iPCDC!E50","v":"D.04.21"},null,null,0,{"$f":"iPCDC!F50","v":"D.05.21"},1.56,1.56]
[{"$f":"iCONDOMINI!C32","v":"Condomino22"},{"$f":"iPCDC!B51","v":"C.04.22.YY"},0,null,null,null,0,0,{"$f":"iCONDOMINI!C32","v":"Condomino22"},{"$f":"iPCDC!E51","v":"D.04.22"},null,null,205.77,{"$f":"iPCDC!F51","v":"D.05.22"},1.19,206.96]
[{"$f":"iCONDOMINI!C33","v":"Condomino23"},{"$f":"iPCDC!B52","v":"C.04.23.YY"},0,null,null,13.1,14.54,27.64,{"$f":"iCONDOMINI!C33","v":"Condomino23"},{"$f":"iPCDC!E52","v":"D.04.23"},null,null,null,{"$f":"iPCDC!F52","v":"D.05.23"},1.64,1.64]
[{"$f":"iCONDOMINI!C34","v":"Inquilino1"},{"$f":"iPCDC!B53","v":"C.04.24.YY"},0,null,null,null,0,0,{"$f":"iCONDOMINI!C34","v":"Inquilino1"},{"$f":"iPCDC!E53","v":"D.04.24"},null,null,99.39,{"$f":"iPCDC!F53","v":"D.05.24"},0,99.39]
[{"$f":"iCONDOMINI!C35","v":"Inquilino2"},{"$f":"iPCDC!B54","v":"C.04.25.YY"},0,null,null,null,0,0,null,{"$f":"iPCDC!E54","v":"D.04.25"},null,null,114.26,{"$f":"iPCDC!F54","v":"D.05.25"},0,114.26]
[{"$f":"iCONDOMINI!C36","v":"Inquilino3"},{"$f":"iPCDC!B55","v":"C.04.26.YY"},0,null,null,null,27.71,27.71,null,{"$f":"iPCDC!E55","v":"D.04.26"},null,null,null,{"$f":"iPCDC!F55","v":"D.05.26"},0,0]
[{"$f":"iCONDOMINI!C37","v":"Inquilino4"},{"$f":"iPCDC!B56","v":"C.04.27.YY"},0,null,null,null,0,0,null,{"$f":"iPCDC!E56","v":"D.04.27"},null,null,284.39999999999998,{"$f":"iPCDC!F56","v":"D.05.27"},0,284.39999999999998]
[{"$f":"iCONDOMINI!C38","v":"Inquilino5"},{"$f":"iPCDC!B57","v":"C.04.28.YY"},0,null,null,null,0,0,null,{"$f":"iPCDC!E57","v":"D.04.28"},null,null,17.59,{"$f":"iPCDC!F57","v":"D.05.28"},0,17.59]
[{"$f":"iCONDOMINI!C39","v":0},{"$f":"iPCDC!B58","v":"C.04.29.YY"},null,null,null,null,null,0,null,{"$f":"iPCDC!E58","v":"D.04.29"},null,null,null,{"$f":"iPCDC!F58","v":"D.05.29"},null,0]
[{"$f":"iCONDOMINI!C40","v":0},{"$f":"iPCDC!B59","v":"C.04.30.YY"},null,null,null,null,null,0,null,{"$f":"iPCDC!E59","v":"D.04.30"},null,null,null,{"$f":"iPCDC!F59","v":"D.05.30"},null,0]
[{"$f":"iCONDOMINI!C41","v":0},{"$f":"iPCDC!B60","v":"C.04.31.YY"},null,null,null,null,null,0,null,{"$f":"iPCDC!E60","v":"D.04.31"},null,null,null,{"$f":"iPCDC!F60","v":"D.05.31"},null,0]
[{"$f":"iCONDOMINI!C42","v":0},{"$f":"iPCDC!B61","v":"C.04.32.YY"},null,null,null,null,null,0,null,{"$f":"iPCDC!E61","v":"D.04.32"},null,null,null,{"$f":"iPCDC!F61","v":"D.05.32"},null,0]
[{"$f":"iCONDOMINI!C43","v":0},{"$f":"iPCDC!B62","v":"C.04.33.YY"},null,null,null,null,null,0,null,{"$f":"iPCDC!E62","v":"D.04.33"},null,null,null,{"$f":"iPCDC!F62","v":"D.05.33"},null,0]
[{"$f":"iCONDOMINI!C44","v":0},{"$f":"iPCDC!B63","v":"C.04.34.YY"},null,null,null,null,null,0,null,{"$f":"iPCDC!E63","v":"D.04.34"},null,null,null,{"$f":"iPCDC!F63","v":"D.05.34"},null,0]
[{"$f":"iCONDOMINI!C45","v":0},{"$f":"iPCDC!B64","v":"C.04.35.YY"},null,null,null,null,null,0,null,{"$f":"iPCDC!E64","v":"D.04.35"},null,null,null,{"$f":"iPCDC!F64","v":"D.05.35"},null,0]
[{"$f":"iCONDOMINI!C46","v":0},{"$f":"iPCDC!B65","v":"C.04.36.YY"},null,null,null,null,null,0,null,{"$f":"iPCDC!E65","v":"D.04.36"},null,null,null,{"$f":"iPCDC!F65","v":"D.05.36"},null,0]
[{"$f":"iCONDOMINI!C47","v":0},{"$f":"iPCDC!B66","v":"C.04.37.YY"},null,null,null,null,null,0,null,{"$f":"iPCDC!E66","v":"D.04.37"},null,null,null,{"$f":"iPCDC!F66","v":"D.05.37"},null,0]
[{"$f":"iCONDOMINI!C48","v":0},{"$f":"iPCDC!B67","v":"C.04.38.YY"},null,null,null,null,null,0,null,{"$f":"iPCDC!E67","v":"D.04.38"},null,null,null,{"$f":"iPCDC!F67","v":"D.05.38"},null,0]
[{"$f":"iCONDOMINI!C49","v":0},{"$f":"iPCDC!B68","v":"C.04.39.YY"},null,null,null,null,null,0,null,{"$f":"iPCDC!E68","v":"D.04.39"},null,null,null,{"$f":"iPCDC!F68","v":"D.05.39"},null,0]
[{"$f":"iCONDOMINI!C50","v":0},{"$f":"iPCDC!B69","v":"C.04.40.YY"},null,null,null,null,null,0,null,{"$f":"iPCDC!E69","v":"D.04.40"},null,null,null,{"$f":"iPCDC!F69","v":"D.05.40"},null,0]
[{"$f":"iCONDOMINI!C51","v":0},{"$f":"iPCDC!B70","v":"C.04.41.YY"},null,null,null,null,null,0,null,{"$f":"iPCDC!E70","v":"D.04.41"},null,null,null,{"$f":"iPCDC!F70","v":"D.05.41"},null,0]
[{"$f":"iCONDOMINI!C52","v":0},{"$f":"iPCDC!B71","v":"C.04.42.YY"},null,null,null,null,null,0,null,{"$f":"iPCDC!E71","v":"D.04.42"},null,null,null,{"$f":"iPCDC!F71","v":"D.05.42"},null,0]
[{"$f":"iCONDOMINI!C53","v":0},{"$f":"iPCDC!B72","v":"C.04.43.YY"},null,null,null,null,null,0,null,{"$f":"iPCDC!E72","v":"D.04.43"},null,null,null,{"$f":"iPCDC!F72","v":"D.05.43"},null,0]
[{"$f":"iCONDOMINI!C54","v":0},{"$f":"iPCDC!B73","v":"C.04.44.YY"},null,null,null,null,null,0,null,{"$f":"iPCDC!E73","v":"D.04.44"},null,null,null,{"$f":"iPCDC!F73","v":"D.05.44"},null,0]
[{"$f":"iCONDOMINI!C55","v":0},{"$f":"iPCDC!B74","v":"C.04.45.YY"},null,null,null,null,null,0,null,{"$f":"iPCDC!E74","v":"D.04.45"},null,null,null,{"$f":"iPCDC!F74","v":"D.05.45"},null,0]
[{"$f":"iCONDOMINI!C56","v":0},{"$f":"iPCDC!B75","v":"C.04.46.YY"},null,null,null,null,null,0,null,{"$f":"iPCDC!E75","v":"D.04.46"},null,null,null,{"$f":"iPCDC!F75","v":"D.05.46"},null,0]
[{"$f":"iCONDOMINI!C57","v":0},{"$f":"iPCDC!B76","v":"C.04.47.YY"},null,null,null,null,null,0,null,{"$f":"iPCDC!E76","v":"D.04.47"},null,null,null,{"$f":"iPCDC!F76","v":"D.05.47"},null,0]
[{"$f":"iCONDOMINI!C58","v":0},{"$f":"iPCDC!B77","v":"C.04.48.YY"},null,null,null,null,null,{"$f":"SUM(C77:G77)","v":0},null,{"$f":"iPCDC!E77","v":"D.04.48"},null,null,null,{"$f":"iPCDC!F77","v":"D.05.48"},null,0]
[{"$f":"iCONDOMINI!C59","v":0},{"$f":"iPCDC!B78","v":"C.04.49.YY"},null,null,null,null,null,0,null,{"$f":"iPCDC!E78","v":"D.04.49"},null,null,null,{"$f":"iPCDC!F78","v":"D.05.49"},null,0]
[{"$f":"iCONDOMINI!C60","v":0},{"$f":"iPCDC!B79","v":"C.04.50.YY"},null,null,null,null,null,0,null,{"$f":"iPCDC!E79","v":"D.04.50"},null,null,null,{"$f":"iPCDC!F79","v":"D.05.50"},null,0]
[{"$f":"iCONDOMINI!C61","v":0},{"$f":"iPCDC!B80","v":"C.04.51.YY"},null,null,null,null,null,0,null,{"$f":"iPCDC!E80","v":"D.04.51"},null,null,null,{"$f":"iPCDC!F80","v":"D.05.51"},null,0]
[{"$f":"iCONDOMINI!C62","v":0},{"$f":"iPCDC!B81","v":"C.04.52.YY"},null,null,null,null,null,0,null,{"$f":"iPCDC!E81","v":"D.04.52"},null,null,null,{"$f":"iPCDC!F81","v":"D.05.52"},null,0]
[{"$f":"iCONDOMINI!C63","v":0},{"$f":"iPCDC!B82","v":"C.04.53.YY"},null,null,null,null,null,0,null,{"$f":"iPCDC!E82","v":"D.04.53"},null,null,null,{"$f":"iPCDC!F82","v":"D.05.53"},null,0]
[{"$f":"iCONDOMINI!C64","v":0},{"$f":"iPCDC!B83","v":"C.04.54.YY"},null,null,null,null,null,0,null,{"$f":"iPCDC!E83","v":"D.04.54"},null,null,null,{"$f":"iPCDC!F83","v":"D.05.54"},null,0]
[{"$f":"iCONDOMINI!C65","v":0},{"$f":"iPCDC!B84","v":"C.04.55.YY"},null,null,null,null,null,0,null,{"$f":"iPCDC!E84","v":"D.04.55"},null,null,null,{"$f":"iPCDC!F84","v":"D.05.55"},null,0]
[{"$f":"iCONDOMINI!C66","v":0},{"$f":"iPCDC!B85","v":"C.04.56.YY"},null,null,null,null,null,0,null,{"$f":"iPCDC!E85","v":"D.04.56"},null,null,null,{"$f":"iPCDC!F85","v":"D.05.56"},null,0]
[{"$f":"iCONDOMINI!C67","v":0},{"$f":"iPCDC!B86","v":"C.04.57.YY"},null,null,null,null,null,0,null,{"$f":"iPCDC!E86","v":"D.04.57"},null,null,null,{"$f":"iPCDC!F86","v":"D.05.57"},null,0]
[{"$f":"iCONDOMINI!C68","v":0},{"$f":"iPCDC!B87","v":"C.04.58.YY"},null,null,null,null,null,0,null,{"$f":"iPCDC!E87","v":"D.04.58"},null,null,null,{"$f":"iPCDC!F87","v":"D.05.58"},null,0]
[{"$f":"iCONDOMINI!C69","v":0},{"$f":"iPCDC!B88","v":"C.04.59.YY"},null,null,null,null,null,0,null,{"$f":"iPCDC!E88","v":"D.04.59"},null,null,null,{"$f":"iPCDC!F88","v":"D.05.59"},null,0]
[{"$f":"iCONDOMINI!C70","v":0},{"$f":"iPCDC!B89","v":"C.04.60.YY"},null,null,null,null,null,0,null,{"$f":"iPCDC!E89","v":"D.04.60"},null,null,null,{"$f":"iPCDC!F89","v":"D.05.60"},null,0]
[{"$f":"iCONDOMINI!C71","v":0},{"$f":"iPCDC!B90","v":"C.04.61.YY"},null,null,null,null,null,0,null,{"$f":"iPCDC!E90","v":"D.04.61"},null,null,null,{"$f":"iPCDC!F90","v":"D.05.61"},null,0]
[{"$f":"iCONDOMINI!C72","v":0},{"$f":"iPCDC!B91","v":"C.04.62.YY"},null,null,null,null,null,0,null,{"$f":"iPCDC!E91","v":"D.04.62"},null,null,null,{"$f":"iPCDC!F91","v":"D.05.62"},null,0]
[{"$f":"iCONDOMINI!C73","v":0},{"$f":"iPCDC!B92","v":"C.04.63.YY"},null,null,null,null,null,0,null,{"$f":"iPCDC!E92","v":"D.04.63"},null,null,null,{"$f":"iPCDC!F92","v":"D.05.63"},null,0]
[{"$f":"iCONDOMINI!C74","v":0},{"$f":"iPCDC!B93","v":"C.04.64.YY"},null,null,null,null,null,0,null,{"$f":"iPCDC!E93","v":"D.04.64"},null,null,null,{"$f":"iPCDC!F93","v":"D.05.64"},null,0]
[{"$f":"iCONDOMINI!C75","v":0},{"$f":"iPCDC!B94","v":"C.04.65.YY"},null,null,null,null,null,0,null,{"$f":"iPCDC!E94","v":"D.04.65"},null,null,null,{"$f":"iPCDC!F94","v":"D.05.65"},null,0]
[{"$f":"iCONDOMINI!C76","v":0},{"$f":"iPCDC!B95","v":"C.04.66.YY"},null,null,null,null,null,0,null,{"$f":"iPCDC!E95","v":"D.04.66"},null,null,null,{"$f":"iPCDC!F95","v":"D.05.66"},null,{"$f":"M95+O95","v":0}]
[{"$f":"iCONDOMINI!C77","v":0},{"$f":"iPCDC!B96","v":"C.04.67.YY"},null,null,null,null,null,0,null,{"$f":"iPCDC!E96","v":"D.04.67"},null,null,null,{"$f":"iPCDC!F96","v":"D.05.67"},null,0]
[{"$f":"iCONDOMINI!C78","v":0},{"$f":"iPCDC!B97","v":"C.04.68.YY"},null,null,null,null,null,0,null,{"$f":"iPCDC!E97","v":"D.04.68"},null,null,null,{"$f":"iPCDC!F97","v":"D.05.68"},null,0]
[{"$f":"iCONDOMINI!C79","v":0},{"$f":"iPCDC!B98","v":"C.04.69.YY"},null,null,null,null,null,0,null,{"$f":"iPCDC!E98","v":"D.04.69"},null,null,null,{"$f":"iPCDC!F98","v":"D.05.69"},null,0]
[{"$f":"iCONDOMINI!C80","v":0},{"$f":"iPCDC!B99","v":"C.04.70.YY"},null,null,null,null,null,0,null,{"$f":"iPCDC!E99","v":"D.04.70"},null,null,null,{"$f":"iPCDC!F99","v":"D.05.70"},null,0]
[{"$f":"iCONDOMINI!C81","v":0},{"$f":"iPCDC!B100","v":"C.04.71.YY"},null,null,null,null,null,0,null,{"$f":"iPCDC!E100","v":"D.04.71"},null,null,null,{"$f":"iPCDC!F100","v":"D.05.71"},null,0]
[{"$f":"iCONDOMINI!C82","v":0},{"$f":"iPCDC!B101","v":"C.04.72.YY"},null,null,null,null,null,0,null,{"$f":"iPCDC!E101","v":"D.04.72"},null,null,null,{"$f":"iPCDC!F101","v":"D.05.72"},null,0]
[{"$f":"iCONDOMINI!C83","v":0},{"$f":"iPCDC!B102","v":"C.04.73.YY"},null,null,null,null,null,0,null,{"$f":"iPCDC!E102","v":"D.04.73"},null,null,null,{"$f":"iPCDC!F102","v":"D.05.73"},null,0]
[{"$f":"iCONDOMINI!C84","v":0},{"$f":"iPCDC!B103","v":"C.04.74.YY"},null,null,null,null,null,0,null,{"$f":"iPCDC!E103","v":"D.04.74"},null,null,null,{"$f":"iPCDC!F103","v":"D.05.74"},null,0]
[{"$f":"iCONDOMINI!C85","v":0},{"$f":"iPCDC!B104","v":"C.04.75.YY"},null,null,null,null,null,0,null,{"$f":"iPCDC!E104","v":"D.04.75"},null,null,null,{"$f":"iPCDC!F104","v":"D.05.75"},null,0]
[{"$f":"iCONDOMINI!C86","v":0},{"$f":"iPCDC!B105","v":"C.04.76.YY"},null,null,null,null,null,0,null,{"$f":"iPCDC!E105","v":"D.04.76"},null,null,null,{"$f":"iPCDC!F105","v":"D.05.76"},null,0]
[{"$f":"iCONDOMINI!C87","v":0},{"$f":"iPCDC!B106","v":"C.04.77.YY"},null,null,null,null,null,0,null,{"$f":"iPCDC!E106","v":"D.04.77"},null,null,null,{"$f":"iPCDC!F106","v":"D.05.77"},null,0]
[{"$f":"iCONDOMINI!C88","v":0},{"$f":"iPCDC!B107","v":"C.04.78.YY"},null,null,null,null,null,0,null,{"$f":"iPCDC!E107","v":"D.04.78"},null,null,null,{"$f":"iPCDC!F107","v":"D.05.78"},null,0]
[{"$f":"iCONDOMINI!C89","v":0},{"$f":"iPCDC!B108","v":"C.04.79.YY"},null,null,null,null,null,0,null,{"$f":"iPCDC!E108","v":"D.04.79"},null,null,null,{"$f":"iPCDC!F108","v":"D.05.79"},null,0]
[{"$f":"iCONDOMINI!C90","v":0},{"$f":"iPCDC!B109","v":"C.04.80.YY"},null,null,null,null,null,0,null,{"$f":"iPCDC!E109","v":"D.04.80"},null,null,null,{"$f":"iPCDC!F109","v":"D.05.80"},null,0]
[{"$f":"iCONDOMINI!C91","v":0},{"$f":"iPCDC!B110","v":"C.04.81.YY"},null,null,null,null,null,0,null,{"$f":"iPCDC!E110","v":"D.04.81"},null,null,null,{"$f":"iPCDC!F110","v":"D.05.81"},null,0]
[{"$f":"iCONDOMINI!C92","v":0},{"$f":"iPCDC!B111","v":"C.04.82.YY"},null,null,null,null,null,0,null,{"$f":"iPCDC!E111","v":"D.04.82"},null,null,null,{"$f":"iPCDC!F111","v":"D.05.82"},null,0]
[{"$f":"iCONDOMINI!C93","v":0},{"$f":"iPCDC!B112","v":"C.04.83.YY"},null,null,null,null,null,0,null,{"$f":"iPCDC!E112","v":"D.04.83"},null,null,null,{"$f":"iPCDC!F112","v":"D.05.83"},null,0]
[{"$f":"iCONDOMINI!C94","v":0},{"$f":"iPCDC!B113","v":"C.04.84.YY"},null,null,null,null,null,0,null,{"$f":"iPCDC!E113","v":"D.04.84"},null,null,null,{"$f":"iPCDC!F113","v":"D.05.84"},null,0]
[{"$f":"iCONDOMINI!C95","v":0},{"$f":"iPCDC!B114","v":"C.04.85.YY"},null,null,null,null,null,0,null,{"$f":"iPCDC!E114","v":"D.04.85"},null,null,null,{"$f":"iPCDC!F114","v":"D.05.85"},null,0]
[{"$f":"iCONDOMINI!C96","v":0},{"$f":"iPCDC!B115","v":"C.04.86.YY"},null,null,null,null,null,0,null,{"$f":"iPCDC!E115","v":"D.04.86"},null,null,null,{"$f":"iPCDC!F115","v":"D.05.86"},null,0]
[{"$f":"iCONDOMINI!C97","v":0},{"$f":"iPCDC!B116","v":"C.04.87.YY"},null,null,null,null,null,0,null,{"$f":"iPCDC!E116","v":"D.04.87"},null,null,null,{"$f":"iPCDC!F116","v":"D.05.87"},null,0]
[{"$f":"iCONDOMINI!C98","v":0},{"$f":"iPCDC!B117","v":"C.04.88.YY"},null,null,null,null,null,0,null,{"$f":"iPCDC!E117","v":"D.04.88"},null,null,null,{"$f":"iPCDC!F117","v":"D.05.88"},null,0]
[{"$f":"iCONDOMINI!C99","v":0},{"$f":"iPCDC!B118","v":"C.04.89.YY"},null,null,null,null,null,0,null,{"$f":"iPCDC!E118","v":"D.04.89"},null,null,null,{"$f":"iPCDC!F118","v":"D.05.89"},null,0]
[{"$f":"iCONDOMINI!C100","v":0},{"$f":"iPCDC!B119","v":"C.04.90.YY"},null,null,null,null,null,0,null,{"$f":"iPCDC!E119","v":"D.04.90"},null,null,null,{"$f":"iPCDC!F119","v":"D.05.90"},null,0]
[{"$f":"iCONDOMINI!C101","v":0},{"$f":"iPCDC!B120","v":"C.04.91.YY"},null,null,null,null,null,0,null,{"$f":"iPCDC!E120","v":"D.04.91"},null,null,null,{"$f":"iPCDC!F120","v":"D.05.91"},null,0]
[{"$f":"iCONDOMINI!C102","v":0},{"$f":"iPCDC!B121","v":"C.04.92.YY"},null,null,null,null,null,0,null,{"$f":"iPCDC!E121","v":"D.04.92"},null,null,null,{"$f":"iPCDC!F121","v":"D.05.92"},null,0]
[{"$f":"iCONDOMINI!C103","v":0},{"$f":"iPCDC!B122","v":"C.04.93.YY"},null,null,null,null,null,0,null,{"$f":"iPCDC!E122","v":"D.04.93"},null,null,null,{"$f":"iPCDC!F122","v":"D.05.93"},null,0]
[{"$f":"iCONDOMINI!C104","v":0},{"$f":"iPCDC!B123","v":"C.04.94.YY"},null,null,null,null,null,0,null,{"$f":"iPCDC!E123","v":"D.04.94"},null,null,null,{"$f":"iPCDC!F123","v":"D.05.94"},null,0]
[{"$f":"iCONDOMINI!C105","v":0},{"$f":"iPCDC!B124","v":"C.04.95.YY"},null,null,null,null,null,0,null,{"$f":"iPCDC!E124","v":"D.04.95"},null,null,null,{"$f":"iPCDC!F124","v":"D.05.95"},null,0]
[{"$f":"iCONDOMINI!C106","v":0},{"$f":"iPCDC!B125","v":"C.04.96.YY"},null,null,null,null,null,0,null,{"$f":"iPCDC!E125","v":"D.04.96"},null,null,null,{"$f":"iPCDC!F125","v":"D.05.96"},null,0]
[{"$f":"iCONDOMINI!C107","v":0},{"$f":"iPCDC!B126","v":"C.04.97.YY"},null,null,null,null,null,0,null,{"$f":"iPCDC!E126","v":"D.04.97"},null,null,null,{"$f":"iPCDC!F126","v":"D.05.97"},null,0]
[{"$f":"iCONDOMINI!C108","v":0},{"$f":"iPCDC!B127","v":"C.04.98.YY"},null,null,null,null,null,0,null,{"$f":"iPCDC!E127","v":"D.04.98"},null,null,null,{"$f":"iPCDC!F127","v":"D.05.98"},null,0]
[{"$f":"iCONDOMINI!C109","v":0},{"$f":"iPCDC!B128","v":"C.04.99.YY"},null,null,null,null,null,0,null,{"$f":"iPCDC!E128","v":"D.04.99"},null,null,null,{"$f":"iPCDC!F128","v":"D.05.99"},null,0]
[{"$f":"\"CREDITI \" & iPCDC!A129","v":"CREDITI da GESTIONE ORDINARIA"},null,{"$f":"SUM(C130:C134)","v":0},0,0,0,0,0,{"$f":"\"DEBITI \" &iPCDC!D129","v":"DEBITI v/s GESTIONE ORDINARIA"},null,{"$f":"SUM(K130:K134)","v":0},0,0,0,0,0]
[{"$f":"iPCDC!A130","v":"Gestione Ordinaria"},{"$f":"iPCDC!B130","v":"C.06.01"},null,null,null,null,0,{"$f":"SUM(C130:G130)","v":0},{"$f":"iPCDC!D130","v":"Gestione Ordinaria"},{"$f":"iPCDC!E130","v":"D.06.01"},null,null,null,null,null,{"$f":"SUM(K130:O130)","v":0}]
[{"$f":"iPCDC!A131","v":""},{"$f":"iPCDC!B131","v":"00:00:00"},null,null,null,null,0,{"$f":"SUM(C131:G131)","v":0},{"$f":"iPCDC!D131","v":""},{"$f":"iPCDC!E131","v":"00:00:00"},null,null,null,null,null,{"$f":"SUM(K131:O131)","v":0}]
[{"$f":"iPCDC!A132","v":""},{"$f":"iPCDC!B132","v":"00:00:00"},null,null,null,null,0,{"$f":"SUM(C132:G132)","v":0},{"$f":"iPCDC!D132","v":""},{"$f":"iPCDC!E132","v":"00:00:00"},null,null,null,null,null,{"$f":"SUM(K132:O132)","v":0}]
[{"$f":"iPCDC!A133","v":""},{"$f":"iPCDC!B133","v":"00:00:00"},null,null,null,null,0,{"$f":"SUM(C133:G133)","v":0},{"$f":"iPCDC!D133","v":""},{"$f":"iPCDC!E133","v":"00:00:00"},null,null,null,null,null,{"$f":"SUM(K133:O133)","v":0}]
[{"$f":"iPCDC!A134","v":""},{"$f":"iPCDC!B134","v":"00:00:00"},null,null,null,null,0,{"$f":"SUM(C134:G134)","v":0},{"$f":"iPCDC!D134","v":""},{"$f":"iPCDC!E134","v":"00:00:00"},null,null,null,null,null,{"$f":"SUM(K134:O134)","v":0}]
["RIEPILOGO ATTIVITÀ",null,null,null,null,null,null,null,"RIEPILOGO PASSIVITÀ"]
["LIQUIDITÀ",null,null,null,null,null,null,{"$f":"H5","v":3885.51}]
["TOTALI CREDITI DIRETTI DA CONDOMINI",null,{"$f":"C29","v":0},0,5.3,325.88,106.25,437.42999999999995,"TOTALE DEBITI v/s CONDOMINI",null,null,null,{"$f":"SUM(M30:M128)","v":2983.4500000000007},null,{"$f":"SUM(O30:O128)","v":42.27000000000001},{"$f":"M137+O137","v":3025.7200000000007}]
["TOTALI ALTRI CREDITI",null,{"$f":"C11+C17+C23+C129","v":0},0,0,42.27,0,42.27,"TOTALI DEBITI v/s TERZI",null,{"$f":"K11+K17+K23+K129","v":0},{"$f":"L11+L17+L23+L129","v":250},{"$f":"M11+M17+M23+M129","v":340},{"$f":"N11+N17+N23+N129","v":613.38},{"$f":"O11+O17+O23+O129","v":136.11000000000001},{"$f":"SUM(K138:O138)","v":1339.4900000000002}]
["ATTIVITÀ",{"$f":"H136+H137+H138","v":4365.2100000000009},null,null,null,null,null,null,"PASSIVITÀ",{"$f":"P137+P138","v":4365.2100000000009}]

{"sheet":"cCDE","index":38,"n_rows":58,"n_cols":13,"rows_kept":58,"cut":false,"hidden":true,"merged":[[1,8,5,8],[40,8,44,8]]}
["Condominio \"TERMICO\""]
[null,null,"DEBITI del CONDOMINIO verso TERZI",null,null,null,"RIEPILOGO CONTI",null,"n° \nREGISTRAZIONE\nnel GIORNALE"]
[null,null,null,null,null,null,"Conti D.02",{"$f":"SUMIFS(G7:G36,F7:F36,\"=D.02.*\")","v":1326.38},null,null,"CREDITORI TERZI nei confronti del CONDOMINIO"]
[null,null,"Al giorno 2-4-2022",null,null,null,"Conti D.03",{"$f":"SUMIFS(G7:G36,F7:F36,\"=D.03.*\")","v":13.114754098360654}]
["Numero","Codice","CREDITORE TERZO","CAUSALE","DATA","CONTO","Conti D.06",{"$f":"SUMIFS(G7:G36,F7:F36,\"=D.06.*\")","v":0},null,null,"Codice","CREDITORE TERZO","TOTALE"]
["Debito","Creditore","(non condomino)","DEBITO","DEBITO","DEBITO",null,{"$f":"H37+H38","v":0},null,null,"Creditore","(non condomino)","creditore"]
["01","F-06",{"$f":"IF(B7<>\"\",VLOOKUP(B7,$K$7:$L$36,2,FALSE),\"\")","v":"Consulente Fiscale"},"Impegno di spesa Consulenza fiscale 2019","2019-12-31","D.02.03.19",50,null,"debito iniziale",null,"A-01","ERARIO ",{"$f":"SUMIFS($F$7:$F$36,$B$7:$B$36,\"=\"&K7)+SUMIFS($G$7:$G$36,$B$7:$B$36,\"=\"&K7)+SUMIFS($H$7:$H$36,$B$7:$B$36,\"=\"&K7)","v":13.114754098360654}]
["02","F-07","CHIEFARI Pietro","impegno spesa comp. Amm. Es. 2019","2019-12-31","D.02.03.19",200,null,"debito iniziale",null,"Z-01","Amministratore ",{"$f":"SUMIFS($F$7:$F$36,$B$7:$B$36,\"=\"&K8)+SUMIFS($G$7:$G$36,$B$7:$B$36,\"=\"&K8)+SUMIFS($H$7:$H$36,$B$7:$B$36,\"=\"&K8)","v":123}]
["03","F-08","AVVOCATO Giuseppe","avviso fattura n. 10/2020 del 1-12-2020","2020-12-01","D.02.02.20",50,null,"debito iniziale",null,"C-03","ENEL ENERGIA  ",168.38]
["04","F-07","CHIEFARI Pietro","impegno spesa comp. Amm. Es. 2020","2020-12-31","D.02.03.20",200,null,"debito iniziale",null,"F-01","SAMUELE Saverio",195]
["05","F-06","Consulente Fiscale","Impegno di spesa Consulenza fiscale 2020","2020-12-31","D.02.03.20",90,null,"debito iniziale",null,"F-06","Consulente Fiscale",190]
["06","C-03","ENEL ENERGIA  ","Fattura n. 4157845945 del  08-12-2021","2021-12-08","D.02.01.21",168.38,null,"debito iniziale",null,"F-07","CHIEFARI Pietro",600]
["07","F-01","SAMUELE Saverio","Fattura n. 310 del 22-12-2021","2021-12-11","D.02.01.21",65,null,"debito iniziale",null,"F-08","AVVOCATO Giuseppe",50]
["08","F-01","SAMUELE Saverio","Fattura n. 311 del 22-12-2021","2021-12-22","D.02.01.21",65,null,"debito iniziale",null,null,null,0]
["09","F-01","SAMUELE Saverio","Fattura n. 312 del 22-12-2021","2021-12-22","D.02.01.21",65,null,"debito iniziale",null,null,null,0]
["10","F-07","CHIEFARI Pietro","Impegno di spesa competenze Amministratore 2021","2021-12-31","D.02.03.21",200,null,"debito iniziale",null,null,null,0]
["11","F-06","Consulente Fiscale","Impegno di spesa consulenza fiscale 2021","2021-12-31","D.02.03.21",50,null,"debito iniziale",null,null,null,0]
["12","Z-01","Amministratore ","Scrittura privata del 20-02-2022","2022-02-20","D.02.04.22",123,null,9,null,null,null,0]
["13","A-01","ERARIO ","R.A. su Fattura  n. 11/22 del 12/03/2022 di Consulente Fiscale","2022-03-21","D.03.01.22",13.114754098360654,null,14,null,null,null,0]
[null,null,"",null,null,null,null,null,null,null,null,null,0]
[null,null,"",null,null,null,null,null,null,null,null,null,0]
[null,null,"",null,null,null,null,null,null,null,null,null,0]
[null,null,"",null,null,null,null,null,null,null,null,null,0]
[null,null,"",null,null,null,null,null,null,null,null,null,0]
[null,null,"",null,null,null,null,null,null,null,null,null,0]
[null,null,"",null,null,null,null,null,null,null,null,null,0]
[null,null,"",null,null,null,null,null,null,null,null,null,0]
[null,null,"",null,null,null,null,null,null,null,null,null,0]
[null,null,"",null,null,null,null,null,null,null,null,null,0]
[null,null,"",null,null,null,null,null,null,null,null,null,0]
[null,null,"",null,null,null,null,null,null,null,null,null,0]
[null,null,"",null,null,null,null,null,null,null,null,null,0]
[null,null,"",null,null,null,null,null,null,null,null,null,0]
[null,null,"",null,null,null,null,null,null,null,null,null,0]
[null,null,"",null,null,null,null,null,null,null,null,null,0]
[null,null,"",null,null,null,null,null,null,null,null,null,0]
["14","Numero da assegnare al prossimo successivo Debito",null,null,null,"DEBITI del CONDOMINIO in ESERCIZI PRECEDENTI",{"$f":"SUMIFS(G7:G36,E7:E36,\"<\" & LEFT('iP1'!A40,10))","v":590},{"$f":"SUMIFS(H7:H36,E7:E36,\"<\" & \"1-1-\" & 'iP1'!A37)","v":0}]
[null,null,null,null,null,"DEBITI del CONDOMINIO nell'ESERCIZIO IN CORSO",{"$f":"SUMIFS(G7:G36,E7:E36,\">\" & LEFT('iP1'!A40,10))","v":749.49475409836066},{"$f":"SUMIFS(H7:H36,E7:E36,\">\" & \"1-1-\" & 'iP1'!A37)","v":0}]
[null,null,null,null,null,"TOTALE DEBITI del CONDOMINIO",{"$f":"G37+G38","v":1339.4947540983608},null,null,null,null,"TOTALE DEBITI DEL CONDOMINIO",{"$f":"SUM(M7:M36)","v":1339.4947540983608}]
[]
[null,null,"CREDITI vantati dal CONDOMINIO nei confronti di TERZI",null,null,null,"RIEPILOGO CONTI",null,"n° \nREGISTRAZIONE\nnel\nGIORNALE"]
[null,null,null,null,null,null,"Conti C.01",{"$f":"SUMIFS(G46:G55,F46:F55,\"=C.01.*\")","v":42.27},null,null,"DEBITORI TERZI v/s il CONDOMINIO"]
[null,null,{"$f":"C4","v":"Al giorno 2-4-2022"},null,null,null,"Conti C.02",{"$f":"SUMIFS(G46:G55,F46:F55,\"=C.02.*\")","v":0}]
["Numero","Codice","DEBITORE TERZO","CAUSALE","DATA","CONTO","Conti C.03",{"$f":"SUMIFS(G46:G55,F46:F55,\"=C.03.*\")","v":0},null,null,"Codice","DEBITORE TERZO","TOTALE"]
["Credito","Debitore","(non condomino)","CREDITO","CREDITO","CREDITO","Conti C.06",{"$f":"SUMIFS(G46:G55,F46:F55,\"=C.06.*\")","v":0},null,null,"Debitore","(non condomino)","debitore"]
[1,"D-01",{"$f":"IF(B46<>\"\",VLOOKUP(B46,$K$46:$L$55,2,FALSE),\"\")","v":"ENEL ENERGIA  "},"deposito cauzionale","2021-07-06","C.01.01.21",42.27,null,"credito iniziale",null,"D-01","ENEL ENERGIA  ",{"$f":"SUMIFS($F$46:$F$55,$B$46:$B$55,\"=\"&K46)+SUMIFS($G$46:$G$55,$B$46:$B$55,\"=\"&K46)+SUMIFS($H$46:$H$55,$B$46:$B$55,\"=\"&K46)","v":42.27}]
[null,null,"",null,null,null,null,null,null,null,null,null,0]
[null,null,"",null,null,null,null,null,null,null,null,null,0]
[null,null,"",null,null,null,null,null,null,null,null,null,0]
[null,null,"",null,null,null,null,null,null,null,null,null,0]
[null,null,"",null,null,null,null,null,null,null,null,null,0]
[null,null,"",null,null,null,null,null,null,null,null,null,0]
[null,null,"",null,null,null,null,null,null,null,null,null,0]
[null,null,"",null,null,null,null,null,null,null,null,null,0]
[null,null,"",null,null,null,null,null,null,null,null,null,0]
["14","Numero da assegnare al prossimo successivo Credito",null,null,null,"CREDITI del CONDOMINIO in ESERCIZI PRECEDENTI",{"$f":"SUMIFS(G46:G55,$E$46:$E$55,\"<\" &  LEFT('iP1'!A40,10))","v":42.27},{"$f":"SUMIFS(H46:H55,$E$46:$E$55,\"<\" & \"1-1-\" & 'iP1'!A37)","v":0}]
[null,null,null,null,null,"CREDITI del CONDOMINIO nell'ESERCIZIO IN CORSO",{"$f":"SUMIFS(G46:G55,$E$46:$E$55,\">\" & LEFT('iP1'!A40,10))","v":0},{"$f":"SUMIFS(H46:H55,$E$46:$E$55,\">\" & \"1-1-\" &'iP1'!A37)","v":0}]
[null,null,null,null,null,"TOTALE CREDITI del CONDOMINIO",{"$f":"G56+G57","v":42.27},null,null,null,null,"TOTALE CREDITI DEL CONDOMINIO",{"$f":"SUM(M46:M55)","v":42.27}]

{"sheet":"cSC1","index":39,"n_rows":111,"n_cols":18,"rows_kept":111,"cut":false,"hidden":true,"merged":[[5,9,6,9],[110,0,110,17]]}
[]
[]
[]
["Condominio \"TERMICO\""]
["GESTIONE ORDINARIA: esercizio 2021-2022\nSITUAZIONE CONTABILE dei SOGGETTI TENUTI A CONTRIBUIRE ALLE SPESE al  28-settembre-2022\nData ultima operazione registrata:  02-aprile-2022"]
[null,null,"DEBITI AD INIZIO ESERCIZIO",null,null,"VERSAMENTI REGISTRATI NELL'ESERCIZIO",null,null,null,"DEBITO\nRESIDUO\no CREDITO\n(se negativo)","DEBITI RESIDUI",null,null,null,null,null,"DEBITI ESIGIBILI"]
["n.","SOGGETTO","ARRETRATI","CONGUAGLIO \nESERCIZIO\nPRECEDENTE","QUOTA \nESERCIZIO\n(da PREVENT.)","SU\nARRETRATI","SU CONGUAGLIO","SU QUOTA \nESERCIZIO","ENTRATE VARIE \nE ABBUONI FORNITORI",null,{"$f":"\"ARRETRATI\" & CHAR(10) & C8","v":"ARRETRATI\n"},{"$f":"\"CONGUAGLIO\" &  CHAR(10)  & D8","v":"CONGUAGLIO\n2020-2021"},{"$f":"\"RATA 1\" & CHAR(10) & E8","v":"RATA 1\n2021-2022"},{"$f":"\"RATA 2\" & CHAR(10) & E8","v":"RATA 2\n2021-2022"},{"$f":"\"RATA 3\" & CHAR(10) & E8","v":"RATA 3\n2021-2022"},{"$f":"\"RATA 4\" & CHAR(10) & E8","v":"RATA 4\n2021-2022"},"IMPORTI\nSCADUTI","IMPORTI\nIN MORA"]
[null,"Esercizio/Data scadenza pagamenti",null,"2020-2021",{"$f":"'iP1'!A37","v":"2021-2022"},null,{"$f":"D8","v":"2020-2021"},{"$f":"E8","v":"2021-2022"},{"$f":"'iP1'!A37","v":"2021-2022"},null,{"$f":"L8","v":"2021-11-30"},{"$f":"'iP1'!A42","v":"2021-11-30"},{"$f":"'iP1'!A43","v":"2021-11-30"},{"$f":"'iP1'!A44","v":"2021-12-31"},{"$f":"'iP1'!A45","v":"2022-01-31"},{"$f":"'iP1'!A46","v":"2022-02-28"},{"$f":"'iP1'!A39","v":"2022-09-30"},{"$f":"'iP1'!A39","v":"2022-09-30"}]
[null,"Dilazione accordata dall'Assemblea (in giorni)",null,null,null,null,null,null,0,null,0,30,90,90,90,90,"00:00:00","00:00:00"]
[null,"Data fine dilazione",null,null,null,null,null,null,0,null,{"$f":"K8+K9","v":"2021-11-30"},"2021-12-30","2022-02-28","2022-03-31","2022-05-01","2022-05-29","00:00:00","00:00:00"]
[{"$f":"iCONDOMINI!A11","v":1},{"$f":"iCONDOMINI!C11","v":"Condomino01"},{"$f":"SUM(cSPI!C30:F30)","v":0},{"$f":"cSPI!G30","v":0},{"$f":"cRPSS!K11","v":330.44000000000005},{"$f":"cENTRATE!G41","v":0},{"$f":"cENTRATE!E41","v":0},{"$f":"cENTRATE!C41","v":330.44},{"$f":"cREED!I11","v":0},{"$f":"SUM(C11:E11)-SUM(F11:I11)","v":0},{"$f":"C11-F11","v":0},0,0,0,0,0,0,0]
[{"$f":"iCONDOMINI!A12","v":2},{"$f":"iCONDOMINI!C12","v":"Condomino02"},{"$f":"SUM(cSPI!C31:F31)","v":0},{"$f":"cSPI!G31","v":0},{"$f":"cRPSS!K12","v":12.95},{"$f":"cENTRATE!G42","v":0},{"$f":"cENTRATE!E42","v":0},{"$f":"cENTRATE!C42","v":12.95},{"$f":"cREED!I12","v":0},0,0,0,0,0,0,0,0,0]
[{"$f":"iCONDOMINI!A13","v":3},{"$f":"iCONDOMINI!C13","v":"Condomino03"},{"$f":"SUM(cSPI!C32:F32)","v":169.05},{"$f":"cSPI!G32","v":264.68},{"$f":"cRPSS!K13","v":281.05},{"$f":"cENTRATE!G43","v":169.05},{"$f":"cENTRATE!E43","v":264.68},{"$f":"cENTRATE!C43","v":246.27},{"$f":"cREED!I13","v":0},34.779999999999973,0,0,0,0,0,34.780000000000044,34.780000000000044,34.780000000000044]
[{"$f":"iCONDOMINI!A14","v":4},{"$f":"iCONDOMINI!C14","v":"Condomino04 S.r.l."},{"$f":"SUM(cSPI!C33:F33)","v":129.27000000000001},{"$f":"cSPI!G33","v":154.47999999999999},{"$f":"cRPSS!K14","v":167.38000000000002},{"$f":"cENTRATE!G44","v":129.27000000000001},{"$f":"cENTRATE!E44","v":120.73},{"$f":"cENTRATE!C44","v":0},{"$f":"cREED!I14","v":0},201.13,0,33.749999999999986,41.85,41.85,41.85,41.830000000000034,201.13000000000002,201.13000000000002]
[{"$f":"iCONDOMINI!A15","v":5},{"$f":"iCONDOMINI!C15","v":"Condomino05"},{"$f":"SUM(cSPI!C34:F34)","v":0},{"$f":"cSPI!G34","v":0},{"$f":"cRPSS!K15","v":293.84999999999997},{"$f":"cENTRATE!G45","v":0},{"$f":"cENTRATE!E45","v":0},{"$f":"cENTRATE!C45","v":192.14},{"$f":"cREED!I15","v":0},101.70999999999998,0,0,0,0,32.31,69.399999999999991,101.71,101.71]
[{"$f":"iCONDOMINI!A16","v":6},{"$f":"iCONDOMINI!C16","v":"Condomino06"},{"$f":"SUM(cSPI!C35:F35)","v":275.60000000000002},{"$f":"cSPI!G35","v":273.66000000000003},{"$f":"cRPSS!K16","v":351.65999999999997},{"$f":"cENTRATE!G46","v":275.60000000000002},{"$f":"cENTRATE!E46","v":24.4},{"$f":"cENTRATE!C46","v":0},{"$f":"cREED!I16","v":0},600.91999999999996,0,249.26000000000002,87.92,87.92,87.92,87.899999999999935,600.91999999999996,600.91999999999996]
[{"$f":"iCONDOMINI!A17","v":7},{"$f":"iCONDOMINI!C17","v":"Condomino07"},{"$f":"SUM(cSPI!C36:F36)","v":0},{"$f":"cSPI!G36","v":0},{"$f":"cRPSS!K17","v":341.49},{"$f":"cENTRATE!G47","v":0},{"$f":"cENTRATE!E47","v":0},{"$f":"cENTRATE!C47","v":325.04000000000002},{"$f":"cREED!I17","v":0},16.449999999999989,0,0,0,0,0,16.449999999999989,16.449999999999989,16.449999999999989]
[{"$f":"iCONDOMINI!A18","v":8},{"$f":"iCONDOMINI!C18","v":"Eredi Condomino08"},{"$f":"SUM(cSPI!C37:F37)","v":0},{"$f":"cSPI!G37","v":0},{"$f":"cRPSS!K18","v":350.01},{"$f":"cENTRATE!G48","v":0},{"$f":"cENTRATE!E48","v":0},{"$f":"cENTRATE!C48","v":318.8},{"$f":"cREED!I18","v":0},31.20999999999998,0,0,0,0,0,31.20999999999998,31.20999999999998,31.20999999999998]
[{"$f":"iCONDOMINI!A19","v":9},{"$f":"iCONDOMINI!C19","v":"Condomino09 S.r.l."},{"$f":"SUM(cSPI!C38:F38)","v":0},{"$f":"cSPI!G38","v":0},{"$f":"cRPSS!K19","v":172.46},{"$f":"cENTRATE!G49","v":0},{"$f":"cENTRATE!E49","v":0},{"$f":"cENTRATE!C49","v":135.36000000000001},{"$f":"cREED!I19","v":0},37.099999999999994,0,0,0,0,0,37.099999999999994,37.099999999999994,37.099999999999994]
[{"$f":"iCONDOMINI!A20","v":10},{"$f":"iCONDOMINI!C20","v":"Condomino10"},{"$f":"SUM(cSPI!C39:F39)","v":5.3},{"$f":"cSPI!G39","v":13.3},{"$f":"cRPSS!K20","v":17.260000000000002},{"$f":"cENTRATE!G50","v":0},{"$f":"cENTRATE!E50","v":0},{"$f":"cENTRATE!C50","v":0},{"$f":"cREED!I20","v":0},35.86,5.3,13.3,4.32,4.32,4.32,4.3000000000000007,35.86,35.86]
[{"$f":"iCONDOMINI!A21","v":11},{"$f":"iCONDOMINI!C21","v":"Condomino11"},{"$f":"SUM(cSPI!C40:F40)","v":0},{"$f":"cSPI!G40","v":0},{"$f":"cRPSS!K21","v":284.5},{"$f":"cENTRATE!G51","v":0},{"$f":"cENTRATE!E51","v":0},{"$f":"cENTRATE!C51","v":222.88},{"$f":"cREED!I21","v":0},61.620000000000005,0,0,0,0,23.129999999999995,38.490000000000009,61.620000000000005,61.620000000000005]
[{"$f":"iCONDOMINI!A22","v":12},{"$f":"iCONDOMINI!C22","v":"Condomino12"},{"$f":"SUM(cSPI!C41:F41)","v":0},{"$f":"cSPI!G41","v":0},{"$f":"cRPSS!K22","v":356.25},{"$f":"cENTRATE!G52","v":0},{"$f":"cENTRATE!E52","v":0},{"$f":"cENTRATE!C52","v":241.44},{"$f":"cREED!I22","v":0},114.81,0,0,0,0,56.250000000000014,58.56,114.81000000000002,114.81000000000002]
[{"$f":"iCONDOMINI!A23","v":13},{"$f":"iCONDOMINI!C23","v":"Condomino13"},{"$f":"SUM(cSPI!C42:F42)","v":0},{"$f":"cSPI!G42","v":0},{"$f":"cRPSS!K23","v":258.44},{"$f":"cENTRATE!G53","v":0},{"$f":"cENTRATE!E53","v":0},{"$f":"cENTRATE!C53","v":19.89},{"$f":"cREED!I23","v":0},238.55,0,0,64.61,57.98,57.98,57.980000000000011,238.55,238.55]
[{"$f":"iCONDOMINI!A24","v":14},{"$f":"iCONDOMINI!C24","v":"Condomino14"},{"$f":"SUM(cSPI!C43:F43)","v":0},{"$f":"cSPI!G43","v":0},{"$f":"cRPSS!K24","v":303.08000000000004},{"$f":"cENTRATE!G54","v":0},{"$f":"cENTRATE!E54","v":0},{"$f":"cENTRATE!C54","v":290.2},{"$f":"cREED!I24","v":0},12.880000000000052,0,0,0,0,0,12.880000000000067,12.880000000000067,12.880000000000067]
[{"$f":"iCONDOMINI!A25","v":15},{"$f":"iCONDOMINI!C25","v":"Condomino15"},{"$f":"SUM(cSPI!C44:F44)","v":207.54},{"$f":"cSPI!G44","v":208.93},{"$f":"cRPSS!K25","v":212.23999999999998},{"$f":"cENTRATE!G55","v":207.54},{"$f":"cENTRATE!E55","v":192.46},{"$f":"cENTRATE!C55","v":0},{"$f":"cREED!I25","v":0},228.71000000000004,0,16.47,53.06,53.06,53.06,53.059999999999974,228.70999999999998,228.70999999999998]
[{"$f":"iCONDOMINI!A26","v":16},{"$f":"iCONDOMINI!C26","v":"Condomino16"},{"$f":"SUM(cSPI!C45:F45)","v":0},{"$f":"cSPI!G45","v":0},{"$f":"cRPSS!K26","v":368.92999999999995},{"$f":"cENTRATE!G56","v":0},{"$f":"cENTRATE!E56","v":0},{"$f":"cENTRATE!C56","v":34.35},{"$f":"cREED!I26","v":0},334.57999999999993,0,0,92.24,80.790000000000006,80.790000000000006,80.759999999999891,334.57999999999987,334.57999999999987]
[{"$f":"iCONDOMINI!A27","v":17},{"$f":"iCONDOMINI!C27","v":"Condomino17"},{"$f":"SUM(cSPI!C46:F46)","v":0},{"$f":"cSPI!G46","v":130.56},{"$f":"cRPSS!K27","v":480.54},{"$f":"cENTRATE!G57","v":0},{"$f":"cENTRATE!E57","v":130.56},{"$f":"cENTRATE!C57","v":119.44},{"$f":"cREED!I27","v":0},361.1,0,0,0.70000000000000284,120.14,120.14,120.12000000000005,361.10000000000008,361.10000000000008]
[{"$f":"iCONDOMINI!A28","v":18},{"$f":"iCONDOMINI!C28","v":"Condomino18"},{"$f":"SUM(cSPI!C47:F47)","v":0},{"$f":"cSPI!G47","v":0},{"$f":"cRPSS!K28","v":22.42},{"$f":"cENTRATE!G58","v":0},{"$f":"cENTRATE!E58","v":0},{"$f":"cENTRATE!C58","v":11.03},{"$f":"cREED!I28","v":0},11.390000000000002,0,0,5.61,1.93,1.93,1.9200000000000024,11.390000000000002,11.390000000000002]
[{"$f":"iCONDOMINI!A29","v":19},{"$f":"iCONDOMINI!C29","v":"Condomino19"},{"$f":"SUM(cSPI!C48:F48)","v":0},{"$f":"cSPI!G48","v":0},{"$f":"cRPSS!K29","v":359.61},{"$f":"cENTRATE!G59","v":0},{"$f":"cENTRATE!E59","v":0},{"$f":"cENTRATE!C59","v":109.28},{"$f":"cREED!I29","v":0},250.33,0,0,39.909999999999997,70.150000000000006,70.150000000000006,70.120000000000033,250.33000000000004,250.33000000000004]
[{"$f":"iCONDOMINI!A30","v":20},{"$f":"iCONDOMINI!C30","v":"Condomino20"},{"$f":"SUM(cSPI!C49:F49)","v":0},{"$f":"cSPI!G49","v":0},{"$f":"cRPSS!K30","v":10.48},{"$f":"cENTRATE!G60","v":0},{"$f":"cENTRATE!E60","v":0},{"$f":"cENTRATE!C60","v":7.45},{"$f":"cREED!I30","v":0},3.0300000000000002,0,0,2.62,0.14000000000000001,0.14000000000000001,0.13000000000000012,3.0300000000000002,3.0300000000000002]
[{"$f":"iCONDOMINI!A31","v":21},{"$f":"iCONDOMINI!C31","v":"Condomino21"},{"$f":"SUM(cSPI!C50:F50)","v":0},{"$f":"cSPI!G50","v":0},{"$f":"cRPSS!K31","v":287.81},{"$f":"cENTRATE!G61","v":0},{"$f":"cENTRATE!E61","v":0},{"$f":"cENTRATE!C61","v":23.21},{"$f":"cREED!I31","v":0},264.60000000000002,0,0,71.960000000000008,64.22,64.22,64.200000000000017,264.60000000000002,264.60000000000002]
[{"$f":"iCONDOMINI!A32","v":22},{"$f":"iCONDOMINI!C32","v":"Condomino22"},{"$f":"SUM(cSPI!C51:F51)","v":0},{"$f":"cSPI!G51","v":0},{"$f":"cRPSS!K32","v":252.95999999999998},{"$f":"cENTRATE!G62","v":0},{"$f":"cENTRATE!E62","v":0},{"$f":"cENTRATE!C62","v":227.37},{"$f":"cREED!I32","v":0},25.589999999999975,0,0,0,0,0,25.589999999999975,25.589999999999975,25.589999999999975]
[{"$f":"iCONDOMINI!A33","v":23},{"$f":"iCONDOMINI!C33","v":"Condomino23"},{"$f":"SUM(cSPI!C52:F52)","v":0},{"$f":"cSPI!G52","v":13.1},{"$f":"cRPSS!K33","v":180.29},{"$f":"cENTRATE!G63","v":0},{"$f":"cENTRATE!E63","v":0},{"$f":"cENTRATE!C63","v":0},{"$f":"cREED!I33","v":0},193.39,0,13.1,45.08,45.08,45.08,45.049999999999983,193.38999999999996,193.38999999999996]
[{"$f":"iCONDOMINI!A34","v":24},{"$f":"iCONDOMINI!C34","v":"Inquilino1"},{"$f":"SUM(cSPI!C53:F53)","v":0},{"$f":"cSPI!G53","v":0},{"$f":"cRPSS!K34","v":118.62},{"$f":"cENTRATE!G64","v":0},{"$f":"cENTRATE!E64","v":0},{"$f":"cENTRATE!C64","v":110},{"$f":"cREED!I34","v":0},8.6200000000000045,0,0,0,0,0,8.6200000000000045,8.6200000000000045,8.6200000000000045]
[{"$f":"iCONDOMINI!A35","v":25},{"$f":"iCONDOMINI!C35","v":"Inquilino2"},{"$f":"SUM(cSPI!C54:F54)","v":0},{"$f":"cSPI!G54","v":0},{"$f":"cRPSS!K35","v":402.63},{"$f":"cENTRATE!G65","v":0},{"$f":"cENTRATE!E65","v":0},{"$f":"cENTRATE!C65","v":150},{"$f":"cREED!I35","v":0},252.63,0,0,0,51.319999999999993,100.66,100.65000000000003,252.63000000000002,252.63000000000002]
[{"$f":"iCONDOMINI!A36","v":26},{"$f":"iCONDOMINI!C36","v":"Inquilino3"},{"$f":"SUM(cSPI!C55:F55)","v":0},{"$f":"cSPI!G55","v":0},{"$f":"cRPSS!K36","v":311.26},{"$f":"cENTRATE!G66","v":0},{"$f":"cENTRATE!E66","v":0},{"$f":"cENTRATE!C66","v":0},{"$f":"cREED!I36","v":0},311.26,0,0,77.820000000000007,77.819999999999993,77.819999999999993,77.800000000000011,311.26,311.26]
[{"$f":"iCONDOMINI!A37","v":27},{"$f":"iCONDOMINI!C37","v":"Inquilino4"},{"$f":"SUM(cSPI!C56:F56)","v":0},{"$f":"cSPI!G56","v":0},{"$f":"cRPSS!K37","v":397.31},{"$f":"cENTRATE!G67","v":0},{"$f":"cENTRATE!E67","v":0},{"$f":"cENTRATE!C67","v":320},{"$f":"cREED!I37","v":0},77.31,0,0,0,0,0,77.310000000000016,77.310000000000016,77.310000000000016]
[{"$f":"iCONDOMINI!A38","v":28},{"$f":"iCONDOMINI!C38","v":"Inquilino5"},{"$f":"SUM(cSPI!C57:F57)","v":0},{"$f":"cSPI!G57","v":0},{"$f":"cRPSS!K38","v":24.08},{"$f":"cENTRATE!G68","v":0},{"$f":"cENTRATE!E68","v":0},{"$f":"cENTRATE!C68","v":20},{"$f":"cREED!I38","v":0},4.0799999999999983,0,0,0,0,0,4.0799999999999983,4.0799999999999983,4.0799999999999983]
[{"$f":"iCONDOMINI!A39","v":29},{"$f":"iCONDOMINI!C39","v":0},{"$f":"SUM(cSPI!C58:F58)","v":0},{"$f":"cSPI!G58","v":0},{"$f":"cRPSS!K39","v":0},{"$f":"cENTRATE!G69","v":0},{"$f":"cENTRATE!E69","v":0},{"$f":"cENTRATE!C69","v":0},{"$f":"cREED!I39","v":0},0,0,0]
[{"$f":"iCONDOMINI!A40","v":30},{"$f":"iCONDOMINI!C40","v":0},{"$f":"SUM(cSPI!C59:F59)","v":0},{"$f":"cSPI!G59","v":0},{"$f":"cRPSS!K40","v":0},{"$f":"cENTRATE!G70","v":0},{"$f":"cENTRATE!E70","v":0},{"$f":"cENTRATE!C70","v":0},{"$f":"cREED!I40","v":0},0,0,0]
[{"$f":"iCONDOMINI!A41","v":31},{"$f":"iCONDOMINI!C41","v":0},{"$f":"SUM(cSPI!C60:F60)","v":0},{"$f":"cSPI!G60","v":0},{"$f":"cRPSS!K41","v":0},{"$f":"cENTRATE!G71","v":0},{"$f":"cENTRATE!E71","v":0},{"$f":"cENTRATE!C71","v":0},{"$f":"cREED!I41","v":0},0,0,0]
[{"$f":"iCONDOMINI!A42","v":32},{"$f":"iCONDOMINI!C42","v":0},{"$f":"SUM(cSPI!C61:F61)","v":0},{"$f":"cSPI!G61","v":0},{"$f":"cRPSS!K42","v":0},{"$f":"cENTRATE!G72","v":0},{"$f":"cENTRATE!E72","v":0},{"$f":"cENTRATE!C72","v":0},{"$f":"cREED!I42","v":0},0,0,0]
[{"$f":"iCONDOMINI!A43","v":33},{"$f":"iCONDOMINI!C43","v":0},{"$f":"SUM(cSPI!C62:F62)","v":0},{"$f":"cSPI!G62","v":0},{"$f":"cRPSS!K43","v":0},{"$f":"cENTRATE!G73","v":0},{"$f":"cENTRATE!E73","v":0},{"$f":"cENTRATE!C73","v":0},{"$f":"cREED!I43","v":0},0,0,0]
[{"$f":"iCONDOMINI!A44","v":34},{"$f":"iCONDOMINI!C44","v":0},{"$f":"SUM(cSPI!C63:F63)","v":0},{"$f":"cSPI!G63","v":0},{"$f":"cRPSS!K44","v":0},{"$f":"cENTRATE!G74","v":0},{"$f":"cENTRATE!E74","v":0},{"$f":"cENTRATE!C74","v":0},{"$f":"cREED!I44","v":0},0,0,0]
[{"$f":"iCONDOMINI!A45","v":35},{"$f":"iCONDOMINI!C45","v":0},{"$f":"SUM(cSPI!C64:F64)","v":0},{"$f":"cSPI!G64","v":0},{"$f":"cRPSS!K45","v":0},{"$f":"cENTRATE!G75","v":0},{"$f":"cENTRATE!E75","v":0},{"$f":"cENTRATE!C75","v":0},{"$f":"cREED!I45","v":0},0,0,0]
[{"$f":"iCONDOMINI!A46","v":36},{"$f":"iCONDOMINI!C46","v":0},{"$f":"SUM(cSPI!C65:F65)","v":0},{"$f":"cSPI!G65","v":0},{"$f":"cRPSS!K46","v":0},{"$f":"cENTRATE!G76","v":0},{"$f":"cENTRATE!E76","v":0},{"$f":"cENTRATE!C76","v":0},{"$f":"cREED!I46","v":0},0,0,0]
[{"$f":"iCONDOMINI!A47","v":37},{"$f":"iCONDOMINI!C47","v":0},{"$f":"SUM(cSPI!C66:F66)","v":0},{"$f":"cSPI!G66","v":0},{"$f":"cRPSS!K47","v":0},{"$f":"cENTRATE!G77","v":0},{"$f":"cENTRATE!E77","v":0},{"$f":"cENTRATE!C77","v":0},{"$f":"cREED!I47","v":0},0,0,0]
[{"$f":"iCONDOMINI!A48","v":38},{"$f":"iCONDOMINI!C48","v":0},{"$f":"SUM(cSPI!C67:F67)","v":0},{"$f":"cSPI!G67","v":0},{"$f":"cRPSS!K48","v":0},{"$f":"cENTRATE!G78","v":0},{"$f":"cENTRATE!E78","v":0},{"$f":"cENTRATE!C78","v":0},{"$f":"cREED!I48","v":0},0,0,0]
[{"$f":"iCONDOMINI!A49","v":39},{"$f":"iCONDOMINI!C49","v":0},{"$f":"SUM(cSPI!C68:F68)","v":0},{"$f":"cSPI!G68","v":0},{"$f":"cRPSS!K49","v":0},{"$f":"cENTRATE!G79","v":0},{"$f":"cENTRATE!E79","v":0},{"$f":"cENTRATE!C79","v":0},{"$f":"cREED!I49","v":0},0,0,0]
[{"$f":"iCONDOMINI!A50","v":40},{"$f":"iCONDOMINI!C50","v":0},{"$f":"SUM(cSPI!C69:F69)","v":0},{"$f":"cSPI!G69","v":0},{"$f":"cRPSS!K50","v":0},{"$f":"cENTRATE!G80","v":0},{"$f":"cENTRATE!E80","v":0},{"$f":"cENTRATE!C80","v":0},{"$f":"cREED!I50","v":0},0,0,0]
[{"$f":"iCONDOMINI!A51","v":41},{"$f":"iCONDOMINI!C51","v":0},{"$f":"SUM(cSPI!C70:F70)","v":0},{"$f":"cSPI!G70","v":0},{"$f":"cRPSS!K51","v":0},{"$f":"cENTRATE!G81","v":0},{"$f":"cENTRATE!E81","v":0},{"$f":"cENTRATE!C81","v":0},{"$f":"cREED!I51","v":0},0,0,0]
[{"$f":"iCONDOMINI!A52","v":42},{"$f":"iCONDOMINI!C52","v":0},{"$f":"SUM(cSPI!C71:F71)","v":0},{"$f":"cSPI!G71","v":0},{"$f":"cRPSS!K52","v":0},{"$f":"cENTRATE!G82","v":0},{"$f":"cENTRATE!E82","v":0},{"$f":"cENTRATE!C82","v":0},{"$f":"cREED!I52","v":0},0,0,0]
[{"$f":"iCONDOMINI!A53","v":43},{"$f":"iCONDOMINI!C53","v":0},{"$f":"SUM(cSPI!C72:F72)","v":0},{"$f":"cSPI!G72","v":0},{"$f":"cRPSS!K53","v":0},{"$f":"cENTRATE!G83","v":0},{"$f":"cENTRATE!E83","v":0},{"$f":"cENTRATE!C83","v":0},{"$f":"cREED!I53","v":0},0,0,0]
[{"$f":"iCONDOMINI!A54","v":44},{"$f":"iCONDOMINI!C54","v":0},{"$f":"SUM(cSPI!C73:F73)","v":0},{"$f":"cSPI!G73","v":0},{"$f":"cRPSS!K54","v":0},{"$f":"cENTRATE!G84","v":0},{"$f":"cENTRATE!E84","v":0},{"$f":"cENTRATE!C84","v":0},{"$f":"cREED!I54","v":0},0,0,0]
[{"$f":"iCONDOMINI!A55","v":45},{"$f":"iCONDOMINI!C55","v":0},{"$f":"SUM(cSPI!C74:F74)","v":0},{"$f":"cSPI!G74","v":0},{"$f":"cRPSS!K55","v":0},{"$f":"cENTRATE!G85","v":0},{"$f":"cENTRATE!E85","v":0},{"$f":"cENTRATE!C85","v":0},{"$f":"cREED!I55","v":0},0,0,0]
[{"$f":"iCONDOMINI!A56","v":46},{"$f":"iCONDOMINI!C56","v":0},{"$f":"SUM(cSPI!C75:F75)","v":0},{"$f":"cSPI!G75","v":0},{"$f":"cRPSS!K56","v":0},{"$f":"cENTRATE!G86","v":0},{"$f":"cENTRATE!E86","v":0},{"$f":"cENTRATE!C86","v":0},{"$f":"cREED!I56","v":0},0,0,0]
[{"$f":"iCONDOMINI!A57","v":47},{"$f":"iCONDOMINI!C57","v":0},{"$f":"SUM(cSPI!C76:F76)","v":0},{"$f":"cSPI!G76","v":0},{"$f":"cRPSS!K57","v":0},{"$f":"cENTRATE!G87","v":0},{"$f":"cENTRATE!E87","v":0},{"$f":"cENTRATE!C87","v":0},{"$f":"cREED!I57","v":0},0,0,0]
[{"$f":"iCONDOMINI!A58","v":48},{"$f":"iCONDOMINI!C58","v":0},{"$f":"SUM(cSPI!C77:F77)","v":0},{"$f":"cSPI!G77","v":0},{"$f":"cRPSS!K58","v":0},{"$f":"cENTRATE!G88","v":0},{"$f":"cENTRATE!E88","v":0},{"$f":"cENTRATE!C88","v":0},{"$f":"cREED!I58","v":0},0,0,0]
[{"$f":"iCONDOMINI!A59","v":49},{"$f":"iCONDOMINI!C59","v":0},{"$f":"SUM(cSPI!C78:F78)","v":0},{"$f":"cSPI!G78","v":0},{"$f":"cRPSS!K59","v":0},{"$f":"cENTRATE!G89","v":0},{"$f":"cENTRATE!E89","v":0},{"$f":"cENTRATE!C89","v":0},{"$f":"cREED!I59","v":0},0,0,0]
[{"$f":"iCONDOMINI!A60","v":50},{"$f":"iCONDOMINI!C60","v":0},{"$f":"SUM(cSPI!C79:F79)","v":0},{"$f":"cSPI!G79","v":0},{"$f":"cRPSS!K60","v":0},{"$f":"cENTRATE!G90","v":0},{"$f":"cENTRATE!E90","v":0},{"$f":"cENTRATE!C90","v":0},{"$f":"cREED!I60","v":0},0,0,0]
[{"$f":"iCONDOMINI!A61","v":51},{"$f":"iCONDOMINI!C61","v":0},{"$f":"SUM(cSPI!C80:F80)","v":0},{"$f":"cSPI!G80","v":0},{"$f":"cRPSS!K61","v":0},{"$f":"cENTRATE!G91","v":0},{"$f":"cENTRATE!E91","v":0},{"$f":"cENTRATE!C91","v":0},{"$f":"cREED!I61","v":0},0,0,0]
[{"$f":"iCONDOMINI!A62","v":52},{"$f":"iCONDOMINI!C62","v":0},{"$f":"SUM(cSPI!C81:F81)","v":0},{"$f":"cSPI!G81","v":0},{"$f":"cRPSS!K62","v":0},{"$f":"cENTRATE!G92","v":0},{"$f":"cENTRATE!E92","v":0},{"$f":"cENTRATE!C92","v":0},{"$f":"cREED!I62","v":0},0,0,0]
[{"$f":"iCONDOMINI!A63","v":53},{"$f":"iCONDOMINI!C63","v":0},{"$f":"SUM(cSPI!C82:F82)","v":0},{"$f":"cSPI!G82","v":0},{"$f":"cRPSS!K63","v":0},{"$f":"cENTRATE!G93","v":0},{"$f":"cENTRATE!E93","v":0},{"$f":"cENTRATE!C93","v":0},{"$f":"cREED!I63","v":0},0,0,0]
[{"$f":"iCONDOMINI!A64","v":54},{"$f":"iCONDOMINI!C64","v":0},{"$f":"SUM(cSPI!C83:F83)","v":0},{"$f":"cSPI!G83","v":0},{"$f":"cRPSS!K64","v":0},{"$f":"cENTRATE!G94","v":0},{"$f":"cENTRATE!E94","v":0},{"$f":"cENTRATE!C94","v":0},{"$f":"cREED!I64","v":0},0,0,0]
[{"$f":"iCONDOMINI!A65","v":55},{"$f":"iCONDOMINI!C65","v":0},{"$f":"SUM(cSPI!C84:F84)","v":0},{"$f":"cSPI!G84","v":0},{"$f":"cRPSS!K65","v":0},{"$f":"cENTRATE!G95","v":0},{"$f":"cENTRATE!E95","v":0},{"$f":"cENTRATE!C95","v":0},{"$f":"cREED!I65","v":0},0,0,0]
[{"$f":"iCONDOMINI!A66","v":56},{"$f":"iCONDOMINI!C66","v":0},{"$f":"SUM(cSPI!C85:F85)","v":0},{"$f":"cSPI!G85","v":0},{"$f":"cRPSS!K66","v":0},{"$f":"cENTRATE!G96","v":0},{"$f":"cENTRATE!E96","v":0},{"$f":"cENTRATE!C96","v":0},{"$f":"cREED!I66","v":0},0,0,0]
[{"$f":"iCONDOMINI!A67","v":57},{"$f":"iCONDOMINI!C67","v":0},{"$f":"SUM(cSPI!C86:F86)","v":0},{"$f":"cSPI!G86","v":0},{"$f":"cRPSS!K67","v":0},{"$f":"cENTRATE!G97","v":0},{"$f":"cENTRATE!E97","v":0},{"$f":"cENTRATE!C97","v":0},{"$f":"cREED!I67","v":0},0,0,0]
[{"$f":"iCONDOMINI!A68","v":58},{"$f":"iCONDOMINI!C68","v":0},{"$f":"SUM(cSPI!C87:F87)","v":0},{"$f":"cSPI!G87","v":0},{"$f":"cRPSS!K68","v":0},{"$f":"cENTRATE!G98","v":0},{"$f":"cENTRATE!E98","v":0},{"$f":"cENTRATE!C98","v":0},{"$f":"cREED!I68","v":0},0,0,0]
[{"$f":"iCONDOMINI!A69","v":59},{"$f":"iCONDOMINI!C69","v":0},{"$f":"SUM(cSPI!C88:F88)","v":0},{"$f":"cSPI!G88","v":0},{"$f":"cRPSS!K69","v":0},{"$f":"cENTRATE!G99","v":0},{"$f":"cENTRATE!E99","v":0},{"$f":"cENTRATE!C99","v":0},{"$f":"cREED!I69","v":0},0,0,0]
[{"$f":"iCONDOMINI!A70","v":60},{"$f":"iCONDOMINI!C70","v":0},{"$f":"SUM(cSPI!C89:F89)","v":0},{"$f":"cSPI!G89","v":0},{"$f":"cRPSS!K70","v":0},{"$f":"cENTRATE!G100","v":0},{"$f":"cENTRATE!E100","v":0},{"$f":"cENTRATE!C100","v":0},{"$f":"cREED!I70","v":0},0,0,0]
[{"$f":"iCONDOMINI!A71","v":61},{"$f":"iCONDOMINI!C71","v":0},{"$f":"SUM(cSPI!C90:F90)","v":0},{"$f":"cSPI!G90","v":0},{"$f":"cRPSS!K71","v":0},{"$f":"cENTRATE!G101","v":0},{"$f":"cENTRATE!E101","v":0},{"$f":"cENTRATE!C101","v":0},{"$f":"cREED!I71","v":0},0,0,0]
[{"$f":"iCONDOMINI!A72","v":62},{"$f":"iCONDOMINI!C72","v":0},{"$f":"SUM(cSPI!C91:F91)","v":0},{"$f":"cSPI!G91","v":0},{"$f":"cRPSS!K72","v":0},{"$f":"cENTRATE!G102","v":0},{"$f":"cENTRATE!E102","v":0},{"$f":"cENTRATE!C102","v":0},{"$f":"cREED!I72","v":0},0,0,0]
[{"$f":"iCONDOMINI!A73","v":63},{"$f":"iCONDOMINI!C73","v":0},{"$f":"SUM(cSPI!C92:F92)","v":0},{"$f":"cSPI!G92","v":0},{"$f":"cRPSS!K73","v":0},{"$f":"cENTRATE!G103","v":0},{"$f":"cENTRATE!E103","v":0},{"$f":"cENTRATE!C103","v":0},{"$f":"cREED!I73","v":0},0,0,0]
[{"$f":"iCONDOMINI!A74","v":64},{"$f":"iCONDOMINI!C74","v":0},{"$f":"SUM(cSPI!C93:F93)","v":0},{"$f":"cSPI!G93","v":0},{"$f":"cRPSS!K74","v":0},{"$f":"cENTRATE!G104","v":0},{"$f":"cENTRATE!E104","v":0},{"$f":"cENTRATE!C104","v":0},{"$f":"cREED!I74","v":0},0,0,0]
[{"$f":"iCONDOMINI!A75","v":65},{"$f":"iCONDOMINI!C75","v":0},{"$f":"SUM(cSPI!C94:F94)","v":0},{"$f":"cSPI!G94","v":0},{"$f":"cRPSS!K75","v":0},{"$f":"cENTRATE!G105","v":0},{"$f":"cENTRATE!E105","v":0},{"$f":"cENTRATE!C105","v":0},{"$f":"cREED!I75","v":0},{"$f":"SUM(C75:E75)-SUM(F75:I75)","v":0},0,0]
[{"$f":"iCONDOMINI!A76","v":66},{"$f":"iCONDOMINI!C76","v":0},{"$f":"SUM(cSPI!C95:F95)","v":0},{"$f":"cSPI!G95","v":0},{"$f":"cRPSS!K76","v":0},{"$f":"cENTRATE!G106","v":0},{"$f":"cENTRATE!E106","v":0},{"$f":"cENTRATE!C106","v":0},{"$f":"cREED!I76","v":0},0,{"$f":"C76-F76","v":0},0]
[{"$f":"iCONDOMINI!A77","v":67},{"$f":"iCONDOMINI!C77","v":0},{"$f":"SUM(cSPI!C96:F96)","v":0},{"$f":"cSPI!G96","v":0},{"$f":"cRPSS!K77","v":0},{"$f":"cENTRATE!G107","v":0},{"$f":"cENTRATE!E107","v":0},{"$f":"cENTRATE!C107","v":0},{"$f":"cREED!I77","v":0},0,0,0]
[{"$f":"iCONDOMINI!A78","v":68},{"$f":"iCONDOMINI!C78","v":0},{"$f":"SUM(cSPI!C97:F97)","v":0},{"$f":"cSPI!G97","v":0},{"$f":"cRPSS!K78","v":0},{"$f":"cENTRATE!G108","v":0},{"$f":"cENTRATE!E108","v":0},{"$f":"cENTRATE!C108","v":0},{"$f":"cREED!I78","v":0},0,0,0]
[{"$f":"iCONDOMINI!A79","v":69},{"$f":"iCONDOMINI!C79","v":0},{"$f":"SUM(cSPI!C98:F98)","v":0},{"$f":"cSPI!G98","v":0},{"$f":"cRPSS!K79","v":0},{"$f":"cENTRATE!G109","v":0},{"$f":"cENTRATE!E109","v":0},{"$f":"cENTRATE!C109","v":0},{"$f":"cREED!I79","v":0},0,0,0]
[{"$f":"iCONDOMINI!A80","v":70},{"$f":"iCONDOMINI!C80","v":0},{"$f":"SUM(cSPI!C99:F99)","v":0},{"$f":"cSPI!G99","v":0},{"$f":"cRPSS!K80","v":0},{"$f":"cENTRATE!G110","v":0},{"$f":"cENTRATE!E110","v":0},{"$f":"cENTRATE!C110","v":0},{"$f":"cREED!I80","v":0},0,0,0]
[{"$f":"iCONDOMINI!A81","v":71},{"$f":"iCONDOMINI!C81","v":0},{"$f":"SUM(cSPI!C100:F100)","v":0},{"$f":"cSPI!G100","v":0},{"$f":"cRPSS!K81","v":0},{"$f":"cENTRATE!G111","v":0},{"$f":"cENTRATE!E111","v":0},{"$f":"cENTRATE!C111","v":0},{"$f":"cREED!I81","v":0},0,0,0]
[{"$f":"iCONDOMINI!A82","v":72},{"$f":"iCONDOMINI!C82","v":0},{"$f":"SUM(cSPI!C101:F101)","v":0},{"$f":"cSPI!G101","v":0},{"$f":"cRPSS!K82","v":0},{"$f":"cENTRATE!G112","v":0},{"$f":"cENTRATE!E112","v":0},{"$f":"cENTRATE!C112","v":0},{"$f":"cREED!I82","v":0},0,0,0]
[{"$f":"iCONDOMINI!A83","v":73},{"$f":"iCONDOMINI!C83","v":0},{"$f":"SUM(cSPI!C102:F102)","v":0},{"$f":"cSPI!G102","v":0},{"$f":"cRPSS!K83","v":0},{"$f":"cENTRATE!G113","v":0},{"$f":"cENTRATE!E113","v":0},{"$f":"cENTRATE!C113","v":0},{"$f":"cREED!I83","v":0},0,0,0]
[{"$f":"iCONDOMINI!A84","v":74},{"$f":"iCONDOMINI!C84","v":0},{"$f":"SUM(cSPI!C103:F103)","v":0},{"$f":"cSPI!G103","v":0},{"$f":"cRPSS!K84","v":0},{"$f":"cENTRATE!G114","v":0},{"$f":"cENTRATE!E114","v":0},{"$f":"cENTRATE!C114","v":0},{"$f":"cREED!I84","v":0},0,0,0]
[{"$f":"iCONDOMINI!A85","v":75},{"$f":"iCONDOMINI!C85","v":0},{"$f":"SUM(cSPI!C104:F104)","v":0},{"$f":"cSPI!G104","v":0},{"$f":"cRPSS!K85","v":0},{"$f":"cENTRATE!G115","v":0},{"$f":"cENTRATE!E115","v":0},{"$f":"cENTRATE!C115","v":0},{"$f":"cREED!I85","v":0},0,0,0]
[{"$f":"iCONDOMINI!A86","v":76},{"$f":"iCONDOMINI!C86","v":0},{"$f":"SUM(cSPI!C105:F105)","v":0},{"$f":"cSPI!G105","v":0},{"$f":"cRPSS!K86","v":0},{"$f":"cENTRATE!G116","v":0},{"$f":"cENTRATE!E116","v":0},{"$f":"cENTRATE!C116","v":0},{"$f":"cREED!I86","v":0},0,0,0]
[{"$f":"iCONDOMINI!A87","v":77},{"$f":"iCONDOMINI!C87","v":0},{"$f":"SUM(cSPI!C106:F106)","v":0},{"$f":"cSPI!G106","v":0},{"$f":"cRPSS!K87","v":0},{"$f":"cENTRATE!G117","v":0},{"$f":"cENTRATE!E117","v":0},{"$f":"cENTRATE!C117","v":0},{"$f":"cREED!I87","v":0},0,0,0]
[{"$f":"iCONDOMINI!A88","v":78},{"$f":"iCONDOMINI!C88","v":0},{"$f":"SUM(cSPI!C107:F107)","v":0},{"$f":"cSPI!G107","v":0},{"$f":"cRPSS!K88","v":0},{"$f":"cENTRATE!G118","v":0},{"$f":"cENTRATE!E118","v":0},{"$f":"cENTRATE!C118","v":0},{"$f":"cREED!I88","v":0},0,0,0]
[{"$f":"iCONDOMINI!A89","v":79},{"$f":"iCONDOMINI!C89","v":0},{"$f":"SUM(cSPI!C108:F108)","v":0},{"$f":"cSPI!G108","v":0},{"$f":"cRPSS!K89","v":0},{"$f":"cENTRATE!G119","v":0},{"$f":"cENTRATE!E119","v":0},{"$f":"cENTRATE!C119","v":0},{"$f":"cREED!I89","v":0},0,0,0]
[{"$f":"iCONDOMINI!A90","v":80},{"$f":"iCONDOMINI!C90","v":0},{"$f":"SUM(cSPI!C109:F109)","v":0},{"$f":"cSPI!G109","v":0},{"$f":"cRPSS!K90","v":0},{"$f":"cENTRATE!G120","v":0},{"$f":"cENTRATE!E120","v":0},{"$f":"cENTRATE!C120","v":0},{"$f":"cREED!I90","v":0},0,0,0]
[{"$f":"iCONDOMINI!A91","v":81},{"$f":"iCONDOMINI!C91","v":0},{"$f":"SUM(cSPI!C110:F110)","v":0},{"$f":"cSPI!G110","v":0},{"$f":"cRPSS!K91","v":0},{"$f":"cENTRATE!G121","v":0},{"$f":"cENTRATE!E121","v":0},{"$f":"cENTRATE!C121","v":0},{"$f":"cREED!I91","v":0},0,0,0]
[{"$f":"iCONDOMINI!A92","v":82},{"$f":"iCONDOMINI!C92","v":0},{"$f":"SUM(cSPI!C111:F111)","v":0},{"$f":"cSPI!G111","v":0},{"$f":"cRPSS!K92","v":0},{"$f":"cENTRATE!G122","v":0},{"$f":"cENTRATE!E122","v":0},{"$f":"cENTRATE!C122","v":0},{"$f":"cREED!I92","v":0},0,0,0]
[{"$f":"iCONDOMINI!A93","v":83},{"$f":"iCONDOMINI!C93","v":0},{"$f":"SUM(cSPI!C112:F112)","v":0},{"$f":"cSPI!G112","v":0},{"$f":"cRPSS!K93","v":0},{"$f":"cENTRATE!G123","v":0},{"$f":"cENTRATE!E123","v":0},{"$f":"cENTRATE!C123","v":0},{"$f":"cREED!I93","v":0},0,0,0]
[{"$f":"iCONDOMINI!A94","v":84},{"$f":"iCONDOMINI!C94","v":0},{"$f":"SUM(cSPI!C113:F113)","v":0},{"$f":"cSPI!G113","v":0},{"$f":"cRPSS!K94","v":0},{"$f":"cENTRATE!G124","v":0},{"$f":"cENTRATE!E124","v":0},{"$f":"cENTRATE!C124","v":0},{"$f":"cREED!I94","v":0},0,0,0]
[{"$f":"iCONDOMINI!A95","v":85},{"$f":"iCONDOMINI!C95","v":0},{"$f":"SUM(cSPI!C114:F114)","v":0},{"$f":"cSPI!G114","v":0},{"$f":"cRPSS!K95","v":0},{"$f":"cENTRATE!G125","v":0},{"$f":"cENTRATE!E125","v":0},{"$f":"cENTRATE!C125","v":0},{"$f":"cREED!I95","v":0},0,0,0]
[{"$f":"iCONDOMINI!A96","v":86},{"$f":"iCONDOMINI!C96","v":0},{"$f":"SUM(cSPI!C115:F115)","v":0},{"$f":"cSPI!G115","v":0},{"$f":"cRPSS!K96","v":0},{"$f":"cENTRATE!G126","v":0},{"$f":"cENTRATE!E126","v":0},{"$f":"cENTRATE!C126","v":0},{"$f":"cREED!I96","v":0},0,0,0]
[{"$f":"iCONDOMINI!A97","v":87},{"$f":"iCONDOMINI!C97","v":0},{"$f":"SUM(cSPI!C116:F116)","v":0},{"$f":"cSPI!G116","v":0},{"$f":"cRPSS!K97","v":0},{"$f":"cENTRATE!G127","v":0},{"$f":"cENTRATE!E127","v":0},{"$f":"cENTRATE!C127","v":0},{"$f":"cREED!I97","v":0},0,0,0]
[{"$f":"iCONDOMINI!A98","v":88},{"$f":"iCONDOMINI!C98","v":0},{"$f":"SUM(cSPI!C117:F117)","v":0},{"$f":"cSPI!G117","v":0},{"$f":"cRPSS!K98","v":0},{"$f":"cENTRATE!G128","v":0},{"$f":"cENTRATE!E128","v":0},{"$f":"cENTRATE!C128","v":0},{"$f":"cREED!I98","v":0},0,0,0]
[{"$f":"iCONDOMINI!A99","v":89},{"$f":"iCONDOMINI!C99","v":0},{"$f":"SUM(cSPI!C118:F118)","v":0},{"$f":"cSPI!G118","v":0},{"$f":"cRPSS!K99","v":0},{"$f":"cENTRATE!G129","v":0},{"$f":"cENTRATE!E129","v":0},{"$f":"cENTRATE!C129","v":0},{"$f":"cREED!I99","v":0},0,0,0]
[{"$f":"iCONDOMINI!A100","v":90},{"$f":"iCONDOMINI!C100","v":0},{"$f":"SUM(cSPI!C119:F119)","v":0},{"$f":"cSPI!G119","v":0},{"$f":"cRPSS!K100","v":0},{"$f":"cENTRATE!G130","v":0},{"$f":"cENTRATE!E130","v":0},{"$f":"cENTRATE!C130","v":0},{"$f":"cREED!I100","v":0},0,0,0]
[{"$f":"iCONDOMINI!A101","v":91},{"$f":"iCONDOMINI!C101","v":0},{"$f":"SUM(cSPI!C120:F120)","v":0},{"$f":"cSPI!G120","v":0},{"$f":"cRPSS!K101","v":0},{"$f":"cENTRATE!G131","v":0},{"$f":"cENTRATE!E131","v":0},{"$f":"cENTRATE!C131","v":0},{"$f":"cREED!I101","v":0},0,0,0]
[{"$f":"iCONDOMINI!A102","v":92},{"$f":"iCONDOMINI!C102","v":0},{"$f":"SUM(cSPI!C121:F121)","v":0},{"$f":"cSPI!G121","v":0},{"$f":"cRPSS!K102","v":0},{"$f":"cENTRATE!G132","v":0},{"$f":"cENTRATE!E132","v":0},{"$f":"cENTRATE!C132","v":0},{"$f":"cREED!I102","v":0},0,0,0]
[{"$f":"iCONDOMINI!A103","v":93},{"$f":"iCONDOMINI!C103","v":0},{"$f":"SUM(cSPI!C122:F122)","v":0},{"$f":"cSPI!G122","v":0},{"$f":"cRPSS!K103","v":0},{"$f":"cENTRATE!G133","v":0},{"$f":"cENTRATE!E133","v":0},{"$f":"cENTRATE!C133","v":0},{"$f":"cREED!I103","v":0},0,0,0]
[{"$f":"iCONDOMINI!A104","v":94},{"$f":"iCONDOMINI!C104","v":0},{"$f":"SUM(cSPI!C123:F123)","v":0},{"$f":"cSPI!G123","v":0},{"$f":"cRPSS!K104","v":0},{"$f":"cENTRATE!G134","v":0},{"$f":"cENTRATE!E134","v":0},{"$f":"cENTRATE!C134","v":0},{"$f":"cREED!I104","v":0},0,0,0]
[{"$f":"iCONDOMINI!A105","v":95},{"$f":"iCONDOMINI!C105","v":0},{"$f":"SUM(cSPI!C124:F124)","v":0},{"$f":"cSPI!G124","v":0},{"$f":"cRPSS!K105","v":0},{"$f":"cENTRATE!G135","v":0},{"$f":"cENTRATE!E135","v":0},{"$f":"cENTRATE!C135","v":0},{"$f":"cREED!I105","v":0},0,0,0]
[{"$f":"iCONDOMINI!A106","v":96},{"$f":"iCONDOMINI!C106","v":0},{"$f":"SUM(cSPI!C125:F125)","v":0},{"$f":"cSPI!G125","v":0},{"$f":"cRPSS!K106","v":0},{"$f":"cENTRATE!G136","v":0},{"$f":"cENTRATE!E136","v":0},{"$f":"cENTRATE!C136","v":0},{"$f":"cREED!I106","v":0},0,0,0]
[{"$f":"iCONDOMINI!A107","v":97},{"$f":"iCONDOMINI!C107","v":0},{"$f":"SUM(cSPI!C126:F126)","v":0},{"$f":"cSPI!G126","v":0},{"$f":"cRPSS!K107","v":0},{"$f":"cENTRATE!G137","v":0},{"$f":"cENTRATE!E137","v":0},{"$f":"cENTRATE!C137","v":0},{"$f":"cREED!I107","v":0},0,0,0]
[{"$f":"iCONDOMINI!A108","v":98},{"$f":"iCONDOMINI!C108","v":0},{"$f":"SUM(cSPI!C127:F127)","v":0},{"$f":"cSPI!G127","v":0},{"$f":"cRPSS!K108","v":0},{"$f":"cENTRATE!G138","v":0},{"$f":"cENTRATE!E138","v":0},{"$f":"cENTRATE!C138","v":0},{"$f":"cREED!I108","v":0},0,0,0]
[{"$f":"iCONDOMINI!A109","v":99},{"$f":"iCONDOMINI!C109","v":0},{"$f":"SUM(cSPI!C128:F128)","v":0},{"$f":"cSPI!G128","v":0},{"$f":"cRPSS!K109","v":0},{"$f":"cENTRATE!G139","v":0},{"$f":"cENTRATE!E139","v":0},{"$f":"cENTRATE!C139","v":0},{"$f":"cREED!I109","v":0},0,0,0]
["TOTALI DEBITI",null,{"$f":"SUM(C11:C109)","v":786.76},{"$f":"SUM(D11:D109)","v":1058.7099999999998},{"$f":"SUM(E11:E109)","v":6950},781.46,732.82999999999993,3467.5400000000004,0,{"$f":"SUMIF(J11:J109,\">0\")","v":3813.64},5.3,325.88,587.70000000000005,756.72,917.75,1220.2899999999997,3813.64,3813.64]
["Importi positivi indicano debiti del condomino verso il condominio, importi negativi indicano al contrario crediti vantati dal condomino nei confronti del condominio.\nLe colonne dei debiti residui riportano in testa le date entro le quali i relativi pagamenti sono dovuti. \nLa colonna IMPORTI ESIGIBILI riporta gli importi per i quali è scaduto il tempo entro il quale il condomino doveva adempiere al pagamento.\nLa colonna IMPORTI IN MORA riporta gli importi per i quali è scaduto il tempo, comprensivo di dilazione, entro il quale il condomino doveva adempiere al pagamento.\nI condomini con importi in mora possono essere oggetto di diffida  e quindi di azione di recupero coattivo del credito da parte dell'Amministratore.  "]

{"sheet":"fF770","index":40,"n_rows":162,"n_cols":16,"rows_kept":162,"cut":false,"hidden":true,"merged":[]}
[]
[]
[]
[]
[]
[]
["Condominio \"TERMICO\""]
["FATTURE e RICEVUTE di FORNITORI da riportare in CU e mod 770 (esercizio 2021-2022)"]
["DATI relativi al DOCUMENTO FISCALE",null,null,null,null,null,null,"DATI relativi al PAGAMENTO",null,null,null,"DATI relativi al VERSAMENTO R.A. (F24)"]
["n.\ndoc.","FORNITORE\nDELLA\nPRESTAZIONE","CODICE FISCALE\ndel\nFORNITORE","Tipo\nDocumento","Numero\nDocumento Fiscale","Data Documento Fiscale","Aliquota R.A.\n%","Data pagam.\nFattura o Ric.","Imponibile\npagato\nassoggettato\na R.A.","Imponibile\npagato \nnon assogg.\na R.A.","Importo\nRitenuta\noperata","Data\nversam. \nF24","Importo Versato\n con F24","IMPORTO\nRAVVED.\nOPEROSO","CODICE\nF24","registrazioni interessate\nsul giornale contabile"]
[]
[]
[]
[]
[]
[]
[]
[]
[]
[]
[]
[]
[]
[]
[]
[]
[]
[]
[]
[]
[]
[]
[]
[]
[]
[]
[]
[]
[]
[]
[]
[]
[]
[]
[]
[]
[]
[]
[]
[]
[]
[]
[]
[]
[]
[]
[]
[]
[]
[]
[]
[]
[]
[]
[]
[]
[]
[]
[]
[]
[]
[]
[]
[]
[]
[]
[]
[]
[]
[]
[]
[]
[]
[]
[]
[]
[]
[]
[]
[]
[]
[]
[]
[]
[]
[]
[]
[]
[]
[]
[]
[]
[]
[]
[]
[]
[]
[]
[]
[]
[]
[]
[]
[]
[]
[]
[]
[]
[]
[]
[]
[]
[]
[]
[]
[]
[]
[]
[]
[]
[]
[]
[]
[]
[]
[]
[]
[]
[]
[]
[]
[]
[]
[]
[]
[]
[]
[]
[]
[]
[]
[]
[]
[]
[]
[]
[]
[]
[]
[]
[null,null,null,null,null,null,null,"TOTALI",{"$f":"SUM(I11:I160)","v":0},{"$f":"SUM(J11:J160)","v":0},{"$f":"SUM(K11:K160)","v":0},null,{"$f":"SUM(M11:M160)","v":0},{"$f":"SUM(N11:N160)","v":0}]
[null,null,null,null,null,null,null,null,{"$f":"IF(K161>M161,\"CI SONO RITENUTE DA VERSARE ALL'ERARIO PER UN IMPORTO TOTALE DI EURO  \" & ROUND(K161-M161,2),\"TUTTE LE RITENUTE RISULTANO VERSATE\")","v":"TUTTE LE RITENUTE RISULTANO VERSATE"}]

{"sheet":"fCU","index":41,"n_rows":61,"n_cols":13,"rows_kept":61,"cut":false,"hidden":true,"merged":[]}
[]
[]
[]
[]
[]
[]
["Condominio \"TERMICO\""]
[{"$f":"\"PROSPETTO PERCIPIENTI PER CERTIFICAZIONE UNICA ESERCIZIO \" & 'iP1'!A37","v":"PROSPETTO PERCIPIENTI PER CERTIFICAZIONE UNICA ESERCIZIO 2021-2022"}]
[null,"DATI ANAGRAFICI PERCIPIENTI (per contratti di appalto di opere e servizi, per prestazioni professionali)",null,null,null,null,null,null,null,"SOMME EROGATE (DATI FISCALI)"]
["n.","Cognome/Ditta","Nome","Codice Fiscale","Sesso","Data nascita","Comune di nascita","Prov. nascita","Domicilio fiscale","Ammontare lordo\ncorrisposto\nal netto di IVA","Somme non\nsoggette a R.A.\nper regime convenzionale","Somme \nsoggette a R.A.\n(imponibile)","Importo\nR.A."]
[]
[]
[]
[]
[]
[]
[]
[]
[]
[]
[]
[]
[]
[]
[]
[]
[]
[]
[]
[]
[]
[]
[]
[]
[]
[]
[]
[]
[]
[]
[]
[]
[]
[]
[]
[]
[]
[]
[]
[]
[]
[]
[]
[]
[]
[]
[]
[]
[]
[]
[null,null,null,null,null,null,null,null,"TOTALI",{"$f":"SUM(J11:J60)","v":0},{"$f":"SUM(K11:K60)","v":0},{"$f":"SUM(L11:L60)","v":0},{"$f":"SUM(M11:M60)","v":0}]

{"sheet":"aUC","index":42,"n_rows":11,"n_cols":9,"rows_kept":11,"cut":false,"hidden":true,"merged":[[7,1,8,2],[7,4,8,4],[7,8,8,8],[6,5,6,8],[2,0,2,8],[5,0,5,2],[6,0,6,2]]}
[]
[]
["Per visualizzare l'elenco delle operazioni contabili di un conto di spesa occorre sceglierlo fra quelli riportati nel menù a discesa della cella E7.\nNel menù sono riportati solo i conti di spesa effettivamente movimentati nell'esercizio.\nL'elenco riporta le scritture di operazioni attribuibili al conto.\nLe informazioni relative ai movimenti finanziari potrebbero essere incomplete in quanto il pagamento non è contemporaneo alla data della scrittura.\nSe per una operazione c'è una uscita pari al conto la spesa risulta sicuramente pagata.\nSe manca completamente l'uscita o l'uscita è inferiore al conto a causa della R.A., la spesa potrebbe essere stata comunque pagata in data successiva. "]
[{"$f":"'iP1'!A5","v":"Condominio \"TERMICO\""}]
[{"$f":"\"OPERAZIONI CONTABILI DEL CONTO DI SPESA  \"","v":"OPERAZIONI CONTABILI DEL CONTO DI SPESA  "}]
["CONTO",null,null,null,"VOCE"]
["S.04.03",null,null,null,"CONSUMO GAS (Quota rapportata al consumo)",{"$f":"IF(F10+G10-H10<>0,\"CONTO con DEBITI\",\"\")","v":"CONTO con DEBITI"}]
["Reg.","Data",null,null,"DESCRIZIONE OPERAZIONE ","CASSA","CONTO","IMPOR.","Pezza\ngiustificativa "]
["n°",null,null,null,null,"USCITA","USCITA","CONTO"]
[{"$f":"COUNTA(A11:A60)","v":1},"g","m","a"," TOTALI",{"$f":"SUM(F11:F60)","v":0},{"$f":"SUM(G11:G60)","v":0},{"$f":"SUM(H11:H60)","v":315},"n°"]
[12,10,3,null,"pagamento bolletta ITALGAS n. 8852555 (spesa volontaria pari al 75% della spesa totale)",null,null,315]

{"sheet":"hHELP","index":43,"n_rows":39,"n_cols":1,"rows_kept":39,"cut":false,"hidden":true,"merged":[[37,0,37,10],[38,0,38,10],[36,0,36,10],[35,0,35,10],[26,0,26,10],[27,0,27,10],[28,0,28,10],[29,0,29,10],[30,0,30,10],[33,0,33,10],[34,0,34,10],[32,0,32,10],[25,0,25,10],[16,0,16,10],[31,0,31,10],[21,0,21,10],[22,0,22,10],[23,0,23,10],[24,0,24,10],[17,0,17,10],[18,0,18,10],[19,0,19,10],[20,0,20,10],[15,0,15,10],[0,0,0,10],[4,0,4,10],[6,0,6,10],[7,0,7,10],[8,0,8,10],[9,0,9,10],[10,0,10,10],[11,0,11,10],[12,0,12,10],[13,0,13,10],[14,0,14,10],[2,0,2,10],[3,0,3,10],[5,0,5,10]]}
["GUIDA RAPIDA ALL'USO DELLA PROCEDURA"]
["AVVISO IMPORTANTE:     NON VARIARE MAI LA POSIZIONE DELLE CELLE"]
["L'USO"]
["La procedura opera eseguendo una serie di funzioni di gestione condominiale attivabili dai pulsanti del foglio \"MENÙ\", per cui dopo che viene eseguita una funzione e rimane attivo e visualizzato un particolare foglio, è bene ritornare a visualizzare il foglio \"MENÙ\" cliccando sulla linguetta della scheda \"MENU\".\nI pulsanti sono raggruppati in riquadri. "]
["LA PREDISPOSIZIONE INIZIALE"]
["Prima di utilizzare la procedura, occorre adattarla al condominio da gestire ed alle proprie preferenze e esigenze: questo adattamento è detto predisposizione iniziale.\nLa predisposizione iniziale è fatta utilizzando le \"FUNZIONI DI GESTIONE DELLA PROCEDURA\" richiamabili dai pulsanti dei riquadri \"DATI GENERALI\", \"ADATTAMENTO\" e \"PREFERENZE\".\nCliccando sui pulsanti sono visualizzati dei fogli contenenti particolari prospetti di celle. Variando i contenuti di queste celle la procedura si adatta alle caratteristiche del condominio da gestire e alle particolari preferenze dell'utilizzatore. \nNel caso siano indicati dei valori limiti occorre rispettare tali limiti nell'assegnare o variare i contenuti delle celle.\nOvviamente le funzioni di adattamento possono essere richiamate anche nel corso dell'utilizzo, per adattare la procedura a nuove caratteristiche o variare le preferenze.Questo processo è detto personalizzazione della procedura."]
["LA PERSONALIZZAZIONE DEI PROSPETTI"]
["Ricordando che è sempre necessario personalizzare la procedura quando la si usa per un nuovo condominio e/o un nuovo esercizio."]
["Pulsanti del riquadro \"DATI GENERALI\":\n1) \"AMMINISTRATORE\" : il prospetto contiene i dati dell'utilizzatore-amministratore.\n2) \"CONDOMINIO\"          : il prospetto contiene i dati generali del condominio da gestire.\n3) \"ESERCIZIO\"                   : il prospetto contiene i dati relativi all'esercizio da gestire.\n\n\n"]
["Pulsanti del riquadro \"ADATTAMENTO AL CONDOMINIO\":\n1) \"RIGHE e COLONNE PROSPETTI\"    : il prospetto contiene dei dati che permettono di variare la visualizzazione di righe e colonne di molti prospetti della procedura. \n                                                                          La variazione è eseguita in automatico alla chiusura del foglio che contiene il prospetto (per chiuderlo basta cliccare sulla linguetta del foglio \"MENÙ\").\n                                                                          L'adattamento consiste nel nascondere righe e colonne non necessarie e nello scoprire righe e colonne necessarie in base ai valori forniti.\n2) \"COPERTINA FASCICOLI\"                  : viene aperto il foglio che contiene il modello della copertine delle stampe ed è possibile apportare delle variazioni alla stessa, rispettando però la posizione\n                                                                          dei campi utilizzati  dalla procedura (sfondo grigio chiaro).\n3) \"INSERIMENTO IMMAGINI\"           :  il prospetto permette di inserre le immagini del condominio e della firma dell'amministratore sui fogli che le prevedono.\n4) \"INTESTAZIONE-PIE' di PAGINA\" :  il prospetto permette di variare le stringhe delle intestazioni e dei piè di pagina dei fogli da stampare. L'esecuzione dell'operazione è alquanto lenta.\n"]
["Pulsanti del riquadro \"SCELTE UTILIZZATORE\":\n1) \"PULSANTI PROMEMORIE\"  : il prospetto contiene le stringhe riportate sui pulsanti di promemoria. Variandole l'utilizzatore può meglio specificare a cosa si riferisce il promemoria. \n2) \"CREAZIONE PDF\"                    : il prospetto contiene dei parametri che adattano la creazione dei file pdf alle preferenze dell'utilizzatore. Ad esempio variando il valore di un parametro è possibile\n                                                             creare un file PDF della comunicazione per ogni condomino o un unico file contenente la stessa comunicazioni a tutti i condomini, una per pagina.\n3) \"ALTRE SCELTE\"                        : il prospetto permette di variare alcuni parametri di utilizzo della procedura a scelta dell'utilizzatore.\n4) \"INDICI e NOTE\"                      : agendo sui fogli che vengono visualizzati è possibile variare gli indici o sommari del bilancio preventivo e del rendiconto e la nota di accompagnamento al bilancio\n                                                              preventivo.\n\n"]
["LA PERSONALIZZAZIONE DEI MODULI"]
["I \"MODULI\"  sono una serie di fogli che riportano gli schemi (o modelli) di alcune tipiche comunicazioni rivolte ai condomini. \nTali modelli contengono delle parti valide per tutti i condomini (parti comuni) e delle parti specifiche relative al condomino cui la comunicazione è diretta (parti personali).\nÈ possibile personalizzare un modello, accedendo al foglio che lo contiene tramite il relativo pulsante.\nÈ possibile variare le parti comuni, cioè variare testi e di immagini, ma non possono essere variati, sia per posizione che per lunghezza i campi, ovvero le parti personali, scritte in automatico direttamente dalla procedura.\nI campi sono facilmente individuabili perché sugli schemi appaiono come testi racchiusi fra parentesi quadre oppure sono celle bordate da linee tratteggiate o celle con sfondo colorato."]
["L'USO"]
["I pulsanti d'uso sono raggruppati nei seguenti riquadri. "]
["PROSPETTI INPUT DATI"]
["I pulsanti visualizzano uno o più fogli che riportano dei prospetti di celle da riempire con i dati richiesti, come quello dei condomini, delle tabelle millesimali, delle unità immobiliari, ecc.\nTali dati sono necessari, senza di essi o con dati incompleti la procedura non dà risultati attendibili.\nUn foglio importante di input dati è \"iGIORNALE\",  il cui prospetto costituisce il giornale contabile sul quale occorre riportare le operazioni contabili effettuate nel corso dell'esercizio. \nIn esso alcune operazioni sono dette di apertura e hanno una data solo fittizia, ovvero giorno 0 del mese 0.\nMaggiori informazioni swu come riportare le scritture contabili sono fornite nel foglio \"hSC\"."]
["PROSPETTI CALCOLATI - INIZIO ESERCIZIO"]
["Il riquadro propone una serie di pulsanti che, se cliccati, avviano l'esecuzione di particolari elaborazioni sui dati di input riportando i relativi  risultati su uno o più prospetti, a seconda dell'elaborazione eseguita. I prospetti prodotti dai pulsanti del riquadro sono quelli di inizio esercizio.\n\n"]
["PROSPETTI CALCOLATI - IN CORSO di ESERCIZIO o a CONSUNTIVO"]
["Il riquadro propone una serie di pulsanti che, se cliccati, avviano l'esecuzione di particolari elaborazioni sui dati di input riportando i relativi  risultati su uno o più prospetti, a seconda dell'elaborazione eseguita. I prospetti prodotti dai pulsanti del riquadro sono quelli in corso di esercizio o consuntivi a fine esercizio.\n\n"]
["RISORSE PATRIMONIALI"]
["Il riquadro propone un pulsante che attiva visualizza il prospetto dei depositi cauzionali. Su tele prospetto occorre riportare i dati richiesti.\nI dati di questi foglio non sono però utilizzati dalla procedura, sono solo stampati nel caso l'utilizzatore ritiene utili far conoscere ai condomini le informazioni contenute."]
["PROMEMORIE UTILIZZATORE"]
["Il riquadro può proporre fino a due pulsanti che visualizzano ciascuno un foglio diverso, riportante un prospetto di promemoria che l'utilizzatore può variare a suo piacimento."]
["SUSSIDI AMMINISTRATORE"]
["Il riquadro propone dei pulsanti che avviano l'esecuzione di funzioni particolari utili all'amministratore. \n"]
["PDF da PROSPETTI DATI"]
["Il riquadro propone una serie di pulsanti che permettono di creare dei file PDF riportanti i prospetti dei dati forniti."]
["PDF dei BILANCI"]
["Il riquadro propone due pulsanti che permettono di creare dei file PDF riportanti i Bilancio preventivo ed il Rendiconto consuntivo, tipici della gestione condominiale."]
["FOGLI DI LAVORO EXCEL"]
["Il riquadro propone vari pulsanti attraverso i quali è possibile creare delle cartelle di lavoro Excel contenenti quanto indicato sui pulsanti. "]
["MODELLI COMUNICAZIONI"]
["Il riquadro propone una serie di pulsanti che permettono di visualizzare e modificare alcuni moduli, usati normalmente dagli amministratore nell'attività di gestione condominiale"]
["PDF COMUNICAZIONI"]
["Il riquadro propone una serie di pulsanti che permettono creare i file PDF di comunicazioni ai condomini e inquilini."]
["IMPORT EXPORT CONDOMINIO"]
["Con i due pulsati posti accanto alla funzione di uscita dalla procedura è possibile compiere le due operazione di import ed export di condomini. \nL'export è utilizzabile per creare delle copie di backup dei dati condominiali ad una determinata data."]

{"sheet":"nTAB","index":44,"n_rows":21,"n_cols":5,"rows_kept":21,"cut":false,"hidden":true,"merged":[[13,0,13,4],[2,0,2,4],[3,0,3,4],[4,0,4,4],[5,0,5,4],[6,0,6,4],[8,1,8,2],[9,1,9,2],[10,1,10,2],[11,1,11,2],[12,1,12,2]]}
[{"$f":"'iP1'!A5","v":"Condominio \"TERMICO\""}]
["NOTA SULLE TABELLE MILLESIMALI"]
["Alla procedura devono essere forniti i parametri per calcolo delle quote millesimali delle singole U.I.\nDa questi la procedura ricava in automatico le tabelle per le U.I. e quindi quelle dei soggetti tenuti al pagamento delle spese,  come somma di  quelle delle U.I. possedute o utilizzate.\n"]
["Il prospetto iTABUI riporta i millesimi per le singole Unità Immobiliari o Catastali.\n"]
["Il prospetto cTABSS riporta i millesimi per ogni soggetto tenuto al pagamento delle spese."]
["Il prospetto iPARTAB riporta i valori dei parametri per il calcolo delle tabelle."]
[]
["PARAMETRI DI CALCOLO"]
["n°","PARAMETRO",null,"Indicazione","TABELLA"]
[1,"VOLUME VIRTUALE",null,"Volume virtuale dell'U.I.\nSe non conosciuto, porlo uguale al valore dei millesimi dell'U.I.","TABELLA A\nTABELLA B"]
[2,"POTENZA INSTALLATA",null,"Potenza installata nell'U.I. (norm in Kw o Kcalorie)","TABELLA C"]
[3,"NUMERO DI STUFE",null,"Semplice numero che conta il numero di termosifoni installati nell'U.I. e dei quali occorre effettuare la lettura dei consumi","TABELLA D"]
[4,"CONSUMO",null,"Numero indice del consumo, normalmente coincide con la lettura del contatatore installato sul termosifone.","TABELLA E"]
[]
["NOME, INDICAZIONE e UTILIZZO DELLE TABELLE MILLESIMALI"]
["n°","Nome","Denominazione","Indicazione","Utilizzo per"]
[1,"Tabella A",{"$f":"IF(LEN('iP1'!A16)>0,'iP1'!A16,\"\")","v":"PROPRIETÀ GENERALE"},"Tabella della proprietà generale.\nUtilizzata per le spese che spettano ai proprietari delle U.I.","Condomini"]
[2,"Tabella B",{"$f":"IF(LEN('iP1'!A17)>0,'iP1'!A17,\"\")","v":"UTILIZZO"},"Tabella degli Utilizzatori.\nUtilizzata per le spese che spettano agli utilizzatori delle U.I., indipendentemente da potenza installata e consumi.","Utilizzatori"]
[3,"Tabella C",{"$f":"IF(LEN('iP1'!A18)>0,'iP1'!A18,\"\")","v":"POTENZA INSTALLATA"},"Tabella di ripartizione relativa alla potenza installata.\nUtilizzata per le spese che dipendono dalla potenza installata.","Utilizzatori"]
[4,"Tabella D","NUMERO DI TERMOSIFONI","Tabella di ripartizione relativa al numero di termosifoni presenti nell'unità immobiliare.\nNel caso di distacco dall'impianto la quota di tabella è zero.\nUtilizzata per le spese dipendenti dal numero di termosifoni installate nell'U.I.","Utilizzatori"]
[4,"Tabella E","CONSUMI","Utilizzata per le spese dipendenti dai consumi effettivi delle singole U.I.","Utilizzatori"]

{"sheet":"hSC","index":45,"n_rows":201,"n_cols":14,"rows_kept":201,"cut":false,"hidden":true,"merged":[[10,0,10,13],[147,0,147,13],[47,0,47,13],[56,0,56,13],[65,0,65,13],[74,0,74,13],[77,0,77,13],[135,4,135,12],[136,4,136,12],[85,0,85,13],[99,0,99,13],[46,0,46,13],[144,0,144,13],[196,0,196,13],[105,0,105,13],[0,0,0,13],[1,1,2,2],[1,4,2,4],[5,0,5,13],[14,0,14,13],[1,13,2,13],[4,0,4,13],[11,0,11,13],[12,0,12,13],[9,0,9,13],[8,0,8,13],[45,0,45,13],[7,0,7,13],[6,0,6,13],[172,0,172,13],[163,0,163,13],[171,0,171,13],[183,0,183,13],[191,0,191,13],[177,4,177,12],[176,4,176,12],[154,0,154,13],[161,0,161,13],[164,0,164,13],[167,0,167,13],[102,0,102,13],[106,0,106,13],[111,0,111,13],[122,0,122,13],[131,0,131,13]]}
["GUIDA ED ESEMPI DI SCRITTURE o REGISTRAZIONI DI OPERAZIONI CONTABILI SUL REGISTRO DI CONTABILITÀ"]
["Reg.","data",null,null,"DESCRIZIONE OPERAZIONE (e/o STRINGA INFORMATIVA)","CASSA",null,null,"CONTO CORRENTE",null,null,"MOVIMENTO",null,"Pezza\ngiustificativa "]
["n°",null,null,null,null,"ENTRATA","USCITA","SALDO","ENTRATA","USCITA","SALDO","CONTO","IMPOR."]
[null,"g","m","a"," TOTALI",null,null,null,null,null,null,null,{"$f":"IF(L4<>\"\",F4+G4+I4+J4,\"\")","v":""},"n°"]
["Si premettono alcune definizioni:\nOPERAZIONE CONTABILE                   :  Operazione di gestione del condominio che comporta movimenti economici e/o finanziari.\nREGISTRO CONTABILE o GIORNALE  :  Foglio EXCEL contenente le registrazioni contabili.\nREGISTRAZIONE CONTABILE              :  Annotazione dell'operazione contabile sul registro contabile.\nSCRITTURA CONTABILE                      :  Riga del giornale relativa ad una registrazione contabile.\nUna riga del giornale è costituita da una riga del foglio che riporta i dati della scrittura suddivisi in 14 celle di altrettante colonne intestate come sopra riportato.  Le intestazioni indicano e suggeriscono i dati da inserire. \nI dati riportati sul GIORNALE sono utilizzati dalla procedura e quindi devono necessariamente essere inseriti per costituire una scrittura contabile valida.\nAlcuni dati, però, sono solo descrittivi e come tali rimangono sul GIORNALE senza che la procedura li utilizzi, in questo caso possono essere omessi. Tali dati sono il n° di pezza giustificativa e, ma solo in alcuni casi, la descrizione dell'operazione.\nLe operazioni contabili devono essere registrate sul GIORNALE secondo regole ben precise, che sono illustrate di seguito. \nUna operazione contabile dà luogo normalmente ad una registrazione contabile, caratterizzata da un n° di Registrazione (colonna 1 dello prospetto) ed una riga di scrittura sul registro. A volte una sola riga non basta a caratterizzare la registrazione, come nel caso in cui l'operazione movimenta più conti, nella quale si avranno più scritture contabili in numero uguale ai conti movimentati, ma tutte con uno stesso numero di registrazione. \nLe scritture di una registrazione possono essere anche superiori al numero di conti movimentati, ma in questo caso la scrittura sul giornale di una riga che non movimenta un conto e non da luogo a spostamenti di liquidità,  è considerata dalla procedura un semplice commento o memorandum relativo alla registrazione."]
["Le colonne del GIORNALE ed il loro contenuto:\nColonna A : riportare il numero di registrazione. Lo stesso numero di registrazione si ripete per tutte le scritture relative a ad una unica registrazione.\nColonna B : riportare il giorno in cui è stata eseguita l'operazione.\nColonna C : riportare il mese in cui è stata eseguita l'operazione\nColonna D : nascosta, non va riportato alcun dato\nColonna E  : riportare una sintetica descrizione della scrittura in formato libero e/o la STRINGA INFORMATIVA della stessa, se richiesta dal codice di conto associato.\nColonna F : riportare l'importo che movimenta la cassa in entrata\nColonna G : riportare l'importo che movimenta la cassa in uscita\nColonna H : la procedura riporta automaticamente il saldo di cassa\nColonna I  : riportare l'importo che movimenta il conto corrente in entrata\nColonna J  : riportare l'importo che movimenta il conto corrente in uscita\nColonna K : la procedura riporta automaticamente il saldo di conto corrente\nColonna L  : riportare il codice del conto movimentato\nColonna M: riportare direttamente l'importo movimentato o una formula che lo individua. Una formula molto semplice ma utile in moltissimi casi è riportata in M4.\nColonna N : indicazione della pezza giustificativa. Il formato è libero potrebbe essere il numero assegnato alla pezza nella raccolta delle stesse."]
["Per ogni scrittura contabile è bene riportare una STRINGA DESCRITTIVA dell'operazione in colonna E, ma per alcuni codici di conto è necessario farlo; in questi casi la stringa descrittiva è detta STRINGA INFORMATIVA.\nLe stringhe descrittive sono una indicazione dell'operazione e non sono soggette ad alcuna regola; come tali non sono oggetto di analisi da parte della procedura, mentre le stringhe informative sono analizzate dalla procedura al fine di trarne dati che sono elaborati dalla procedura.\nI codici di conto che richiedono la stringa informativa sono C.02.xx.yy, D.02.xx.yy, D.03.xx.yy, H.Pxx.yy, H.Rxx.yy, Q.01.xx, Q.02.xx, Q.03.xx.\nUna stringa informativa è facilmente individuabile dal fatto che si presenta suddivisa in campi separati dal delimitatore #. La stringa informativa deve essere scritta rispettando determinate regole che variano con il codice di conto che la richiede. Tali modalità sono indicate  nel seguito."]
["La STRINGA INFORMATIVA ORIGINE CREDITO è costituita da 5 campi (necessaria per i codici conti: C.02.xx.yy):\ncampo 1 : libero si suggerisce il nome del debitore       campo 2 : causale del credito     campo 3 : codice del credito     campo 4 : codice del debitore     campo 5 : data in cui si è originato il credito\nEsempio : da Pippo # pagamento errato # 04 # T-02 # 14-01-2022"]
["La STRINGA INFORMATIVA FINE CREDITO è costituita da 2 campi (vale anche per DIMINUZIONE CREDITO) (necessaria per i codici conti: C.02.xx.yy):\ncampo 1 : libero si suggerisce il nome del debitore       campo 2 : codice del credito\nEsempio : Pippo ha estinto il debito # 04"]
["La STRINGA INFORMATIVA ORIGINE DEBITO è costituita da 5 campi (necessaria per i codici conti: D.02.xx.yy e D.03.xx.yy):\ncampo 1 : libero si suggerisce il nome del creditore   campo 2 : causale del debito     campo 3 : codice del debito    campo 4 : codice del creditore     campo 5 : data in cui si è originato il debito\nEsempio:  v/s Pippo # fattura 01/2022 # 12 # F-04 # 12-01-2022"]
["La STRINGA INFORMATIVA FINE DEBITO è costituita da 2 campi (vale anche per DIMINUZIONE DEBITO) (necessaria per i codici conti: C.02.xx.yy):\ncampo 1 : libero si suggerisce il nome del creditore   campo 2 : codice del debito.\nEsempio:  Pagato Pippo # 12"]
["La STRINGA INFORMATIVA INCASSO DA CONDOMINO è costituita da 2 campi (necessaria per i codici conti: Q.01.xx, Q.02.xx, Q.03.xx.):\ncampo 1 : libero si suggerisce il nome del condomino        campo 2 : causale dell'incasso\nEsempio: Pippo Pippo # Versamento in contante in conto quota 2022  (ric.03/2022)"]
["La STRINGA INFORMATIVA SCRITTURA FISCALE è costituita da 5 campi ( necessaria per i codici H.Pxx.yy, H.Rxx.yy):\nCampo 1: Codice del fornitore, da iFORNITORI       Campo 2: Carattere F o R per indicare che il documento è una fattura o una ricevuta                             Campo 3: Stringa che il fornitore ha assegnato al documento(normalmente un numero/anno)\nCampo 4: Stringa della data della fattura               Campo 5: Stringa del pagamento (00 - saldo fattura / 0n - numero dell'acconto sul totale fattura)\nEsempio:  F-03 # F # 07/2018 # 23-02-2018 # 00 "]
[0,"0",0,2017,"=========== SCRITTURE DI APERTURA ESERCIZIO ==========\n( riporto valori da esercizio precedente)",null,null,null,null,null,null,null,{"$f":"IF(L14<>\"\",F14+G14+I14+J14,\"\")","v":""}]
["Le scritture di apertura esercizio costituiscono la registrazione n. 0 ed hanno come giorno 0 e mese 0 "]
[0,0,0,null,"LIQUIDITÀ"]
[0,0,0,null,"SITUAZIONE LIQUIDITÀ INIZIALE  inerente la GESTIONE ORDINARIA",1,null,1,1,null,1]
[0,0,0,null,"SITUAZIONE LIQUIDITÀ FONDO nf (da ripetere per ogni fondo)",1,null,2,1,null,2]
[0,0,0,null,"CREDITI"]
[0,0,0,null,"CREDITI da DEPOSITI CAUZIONALI ATTIVI",null,null,2,null,null,2]
[0,0,0,null,"descrizione della voce per ogni voce che presenta un credito diverso da zero",null,null,2,null,null,2,"C.01.nv.YY",1]
[0,0,0,null,"CREDITI DA TERZI",null,null,2,null,null,2]
[0,0,0,null,"Stringa Informativa Origine Credito",null,null,2,null,null,2,"C.02.nv.YY",1]
[0,0,0,null,"da PINCO PALLINO # restituzione. pagamento in eccesso # 12 # D-03 # 12-04-2019",null,null,2,null,null,2,"C.02.01.19",1]
[0,0,0,null,"CREDITI DA FONDI",null,null,2,null,null,2]
[0,0,0,null,"descrizione della voce per ogni voce che presenta un credito diverso da zero",null,null,2,null,null,2,"C.03.nv.YY",1]
[0,0,0,null,"CREDITI DA CONDOMINI ",null,null,2,null,null,2,null,{"$f":"IF(L27<>\"\",F27+G27+I27+J27,\"\")","v":""}]
[0,0,0,null,"nome del condomino in debito verso il condominio",null,null,2,null,null,2,"C.04.nv.YY",1]
[0,0,0,null,"DEBITI"]
[0,0,0,null,"DEBITI VERSO CONDOMINI (per depositi cauzionali attivi)",null,null,2,null,null,2]
[0,0,0,null,"descrizione della voce per ogni voce che presenta un debito diverso da zero",null,null,2,null,null,2,"D.01.nv.YY",1]
[0,0,0,null,"DEBITO v/s TERZI PRIVATI",null,null,2,null,null,2]
[0,0,0,null,"Stringa Informativa Origine Debito",null,null,2,null,null,2,"D.02.nv.YY",1]
[0,0,0,null,"v/s PINCO PALLINO # ricevuta fattura n. 46/19  # 12 # C-01 # 12-04-2019",null,null,2,null,null,2,"D.02.01.19",1]
[0,0,0,null,"DEBITO v/s ERARIO e ENTI PUBBLICI ",null,null,2,null,null,2]
[0,0,0,null,"Stringa Informativa Origine Debito",null,null,2,null,null,2,"D.03.nv.YY",1]
[0,0,0,null,"v/s ERARIO # R.A. su pag. fattura n. 56/19 a PINCO PALLINO  # 05 # C-08 # 12-01-2019",null,null,2,null,null,2,"D.03.01.19",1]
[0,0,0,null,"DEBITI VERSO CONDOMINI (per quote in eccesso esercizio prec.)",null,null,2,null,null,2]
[0,0,0,null,"nome del condomino in credito dal condominio",null,null,2,null,null,2,"D.04.nc",1]
[0,0,0,null,"===== SCRITTURE OPERAZIONI INIZIALI DI STORNO =====\n(Il credito dei condomini è stornato quale pagamento quota esercizio) "]
[0,0,0,2017,"Restituzione quota in eccesso esercizio precedente al condomino",null,null,2,null,null,2,"U.01.nc",1]
[0,0,0,null,"Stringa Informativa Incasso da Condomino",null,null,2,null,null,2,"Q.01.nc",{"$f":"M41","v":1}]
[0,0,0,null,"Restituzione a PINCO PALLINO",null,null,2,null,null,2,"U.01.19",1]
[0,0,0,null,"PINCO PALLINO  # Storno credito in versamento quota esercizio 2020 ",null,null,2,null,null,2,"Q.01.19",1]
["e",null,null,null,"=========== SCRITTURE IN CORSO DI ESERCIZIO ====================="]
["Iniziare le scritture dell'esercizio con un commento come sopra. ATTENZIONE il numero di registrazione deve essere la lettera e minuscola."]
["ENTRATE"]
["INCASSO DA CONDOMINI IN CONTO QUOTE ESERCIZIO IN CORSO (20XX)"]
[null,null,null,null,"INCASSO IN CONTANTE - ASSEGNO - BONIFICO",null,null,null,null,null,null,null,{"$f":"IF(L49<>\"\",F49+G49+I49+J49,\"\")","v":""}]
[null,null,null,null,"Stringa Informativa Incasso da Condomino",1,null,null,1,null,null,"Q.01.nc",1]
[3,8,1,2020,"Eredi Pinco Pallino  # Versamento in contanti in conto quota 2020 ric. 11/2020",131,null,183.42,null,null,1000,"Q.01.19",{"$f":"IF(L51<>\"\",F51+G51+I51+J51,\"\")","v":131}]
[null,null,null,null,"INCASSO CON BOLLETTINO POSTALE",null,null,null,null,null,null,null,{"$f":"IF(L52<>\"\",F52+G52+I52+J52,\"\")","v":""}]
[null,null,null,null,"Stringa Informativa Incasso da Condomino",null,null,null,1,null,null,"Q.01.nc",1]
[null,null,null,null,"Spesa personale per commissione accredito bollettino NOMECONDOMINO",null,null,null,null,0.34,null,"P.00.nc",0.36]
[9,28,1,null,"Sempronio  # Versamento in contanti in conto quota 2020 ric. 31/2020",null,null,185,352.78,null,970.64,"Q.01.11",{"$f":"IF(L55<>\"\",F55+G55+I55+J55,\"\")","v":352.78}]
[10,28,1,null,"spese personali SEMPRONIO per commissioni bollettino di cui sopra",null,null,null,null,0.34,970.3,"P.00.11",{"$f":"IF(L56<>\"\",F56+G56+I56+J56,\"\")","v":0.34}]
["INCASSO DA CONDOMINI IN CONTO CONGUAGLIO ESERCIZIO PRECEDENTE (20WW)"]
[null,null,null,null,"INCASSO IN CONTANTE - ASSEGNO - BONIFICO",null,null,null,null,null,null,null,{"$f":"IF(L58<>\"\",F58+G58+I58+J58,\"\")","v":""}]
[null,null,null,null,"Stringa Informativa Incasso da Condomino",1,null,null,1,null,null,"Q.02.nc",1]
[4,12,1,2020,"TIZIO   # Versamento con assegno in conto conguaglio 2019",90.24,null,119.17,null,null,856,"Q.02.10",{"$f":"IF(L60<>\"\",F60+G60+I60+J60,\"\")","v":90.24}]
[null,null,null,null,"INCASSO CON BOLLETTINO POSTALE",null,null,null,null,null,null,null,{"$f":"IF(L61<>\"\",F61+G61+I61+J61,\"\")","v":""}]
[null,null,null,null,"Stringa Informativa Incasso da Condomino",null,null,null,1,null,null,"Q.02.nc",1]
[null,null,null,null,"Spesa personale commissione accredito bollettino NOMECONDOMINO",null,null,null,null,0.34,null,"P.00.nc",0.36]
[19,3,2,null,"SEMPRONIO  # versamento bollettino su c.c.p. in conto conguaglio esercizio 2019",null,null,null,312.45999999999998,null,526.23,"Q.02.11",{"$f":"IF(L64<>\"\",F64+G64+I64+J64,\"\")","v":312.45999999999998}]
[20,3,2,null,"spese personali SEMPRONIO per commissioni bollettino di cui sopra",null,null,null,null,0.34,525.89,"P.00.11",{"$f":"IF(L65<>\"\",F65+G65+I65+J65,\"\")","v":0.34}]
["INCASSO DA CONDOMINI IN CONTO ARRETRATI ESERCIZI PRECEDENTI (20ZZ)"]
[null,null,null,null,"INCASSO IN CONTANTE - ASSEGNO - BONIFICO",null,null,null,null,null,null,null,{"$f":"IF(L67<>\"\",F67+G67+I67+J67,\"\")","v":""}]
[null,null,null,null,"Stringa Informativa Incasso da Condomino",1,null,null,1,null,null,"Q.03.nc",1]
[4,12,3,2020,"CAIO   # Versamento con assegno in conto arretrati esercizio 2018",90.24,null,112.24,null,null,893.12,"Q.02.14",{"$f":"IF(L69<>\"\",F69+G69+I69+J69,\"\")","v":90.24}]
[null,null,null,null,"INCASSO CON BOLLETTINO POSTALE",null,null,null,null,null,null,null,{"$f":"IF(L70<>\"\",F70+G70+I70+J70,\"\")","v":""}]
[null,null,null,null,"Stringa Informativa Incasso da Condomino",null,null,null,1,null,null,"Q.03.nc",1]
[null,null,null,null,"Spesa personale per commissione accredito bollettino NOMECONDOMINO",null,null,null,null,0.36,null,"P.00.nc",0.36]
[22,4,2,null,"CICCIO BELLO  # versamento bollettino su c.c.p. in conto arretrati esercizio 2017",null,null,23.78,210.23,null,458.56,"Q.03.22",{"$f":"IF(L73<>\"\",F73+G73+I73+J73,\"\")","v":210.23}]
[23,4,2,null,"spese personali CICCIO BELLO per commissioni bollettino di cui sopra",null,null,null,null,0.34,458.22,"P.00.22",{"$f":"IF(L74<>\"\",F74+G74+I74+J74,\"\")","v":0.34}]
["INCASSO DA ALTRE ENTRATE"]
[null,null,null,null,"INCASSO SU CASSA o CONTO CORRENTE"]
[null,null,null,null,"descrizione dell'operazione",1,null,null,1,null,null,"E.01.nv",1]
["INCASSO QUOTE FONDI (se la quota non era stata inserita a debito della gestione ordinaria)"]
[null,null,null,null,"VERSAMENTO su FONDO nf DIRETTAMENTE (contante. o assegno.) su cassa contante",null,null,null,null,null,null,null,{"$f":"IF(L79<>\"\",F79+G79+I79+J79,\"\")","v":""}]
[null,null,null,null,"vers. FONDO nf - condomino (ric. zz/nnnn)",1,null,null,null,null,null,"F.nf.01",1]
[null,null,null,null,"VERSAMENTO su FONDO nf BONIFICO su conto corrente",null,null,null,null,null,null,null,{"$f":"IF(L81<>\"\",F81+G81+I81+J81,\"\")","v":""}]
[null,null,null,null,"vers. FONDO nf - condomino",null,null,null,1,null,null,"F.nf.02",1]
[null,null,null,null,"VERSAMENTO su FONDO nf BOLLETTINO POSTALE su conto corrente",null,null,null,null,null,null,null,{"$f":"IF(L83<>\"\",F83+G83+I83+J83,\"\")","v":""}]
[null,null,null,null,"vers. FONDO nf - condomino ",null,null,null,1,null,null,"F.nf.02",1]
[null,null,null,null,"spesa personale commissione accredito bollettino NOMECONDOMINO",null,null,null,null,0.36,null,"P.00.nc",0.36]
["INCASSO QUOTE FONDI (se la quota era stata inserita a debito della gestione ordinaria)"]
[null,null,null,null,"VERSAMENTO FONDO nf DIRETTAMENTE (contante. o assegno.) su cassa contante",null,null,null,null,null,null,null,{"$f":"IF(L87<>\"\",F87+G87+I87+J87,\"\")","v":""}]
[null,null,null,null,"vers. FONDO nf - condomino (ric. zz/nnnn)",1,null,null,null,null,null,"F.nf.01",1]
[null,null,null,null,"diminuzione del credito della gestione ordinaria dal fondo (esercizio in corso)",null,null,null,null,null,null,"C.03.nf.EC",-1]
[null,null,null,null,"diminuzione del credito della gestione ordinaria dal fondo (esercizio precedente.)",null,null,null,null,null,null,"C.03.nf.YY",-1]
[null,null,null,null,"VERSAMENTO FONDO nf BONIFICO su conto corrente",null,null,null,null,null,null,null,{"$f":"IF(L91<>\"\",F91+G91+I91+J91,\"\")","v":""}]
[null,null,null,null,"vers. FONDO nf - condomino",null,null,null,1,null,null,"F.nf.02",1]
[null,null,null,null,"diminuzione del debito verso la gestione ordinaria (esercizio in corso)",null,null,null,null,null,null,"C.03.nf.EC",-1]
[null,null,null,null,"diminuzione del debito verso la gestione ordinaria (esercizio nn)",null,null,null,null,null,null,"C.03.nf.YY",-1]
[null,null,null,null,"VERSAMENTO FONDO nf BOLLETTINO POSTALE su conto corrente",null,null,null,null,null,null,null,{"$f":"IF(L95<>\"\",F95+G95+I95+J95,\"\")","v":""}]
[null,null,null,null,"vers. FONDO nf - condomino",null,null,null,1,null,null,"F.nf.02",1]
[null,null,null,null,"commissione accredito bollettino condomino",null,null,null,null,0.36,null,"P.00.nc",0.36]
[null,null,null,null,"diminuzione del debito verso la gestione ordinaria (esercizio in corso)",null,null,null,null,null,null,"C.03.nf.EC",-1]
[null,null,null,null,"diminuzione del debito verso la gestione ordinaria (esercizio nn)",null,null,null,null,null,null,"C.03.nf.YY",-1]
["INCASSO PRESTITO DA TERZI\n(nel versamento di quote in eccesso rispetto al preventivo da parte di un condomino, il condomino è da considerare terzo)"]
[null,null,null,null,"INCASSO SU CASSA o CONTO CORRENTE"]
[null,null,null,null,"descrizione dell'operazione",1,null,null,1,null,null,"D.02.04.EC",1]
["INCASSO DA PARTE DI UN CONDOMINO DELLE SPESE PERSONALI SOSTENUTE NELL'ESERCIZIO PER IL CONDOMINO"]
[null,null,null,null,"INCASSO SU CASSA o CONTO CORRENTE"]
[null,null,null,null,"descrizione dell'operazione",1,null,null,1,null,null,"P.00.nc",-1]
["USCITE"]
["PAGAMENTO SPESE GENERICHE su SCONTRINO, su RICEVUTA o su FATTURA PER BENI e FORNITURE (no CU e 770)\n [per operazioni non ancora inserite in contabilità]"]
[null,null,null,null,"Descrizione libera dell'operazione. [esempio: Pagamento fattura n° 125 del 10-10-2019 per acquisto prodotti di pulizia presso BricoK di Soverato)\nSe l'unico documento contabile contiene spese attribuibili a più voci, occorre inserire più righe,  ognuna delle quali contiene la descrizione della spesa, il codice del conto ed il relativo importo movimentato.\nOccorre controllare che la somma degli importi delle voci sia uguale all'importo del documento.",null,1,null,null,1,null,"S.kk.zz",1]
[11,28,1,null,"Addebito preautorizzato ENEL ENERGIA scala B (fattura n 51257849/2019)",null,null,29.12,null,130.77000000000001,324.14]
[11,28,1,null,"Energia Elettrica Illuminazione (40% della spesa)",null,null,29.12,null,null,324.14,"S.04.03",{"$f":"0.4*J109","v":52.308000000000007}]
[11,28,1,null,"Energia Elettrica forza motrice (60% della spesa)",null,null,29.12,null,null,324.14,"S.04.08",{"$f":"J109-M110","v":78.462000000000003}]
["PAGAMENTO CONTESTUALE A RICEZIONE FATTURA o RICEVUTA PER COMPENSI PRESTAZIONI PROFESSIONALI, FORNITURE DI SERVIZI (con o senza beni) (da inserire nel 770)\n[per operazione non ancora inserita in contabilità come spesa a debito)"]
[null,null,null,null,"Ricevuta e Pagata fattura n. xxx di WWWWWWW QQQQQQ  [assegno n. nnnnnn] [bonifico]\n(L'Importo dell'uscita è dato da Importo Totale di fattura meno la Ritenuta d'acconto).\nNell'importo riportato di 106 euro si è ipotizzata una R.A del 4%",null,null,null,null,106]
[null,null,null,null,"Descrizione dell'operazione.\nL'importo della spesa è il totale di fattura, normalmente Imponibile + Spese non imponibili+IVA, ovvero nel caso di più spese con codici di conto diversi, gli importi dei singoli movimenti sono sempre come per spesa con unico codice di conto.\nNella scrittura riportata l'imponibile è 100,00, l'IVA è 10,00 e la R.A. 4,00",null,null,null,null,null,null,"S.kk.zz",110]
[null,null,null,null,"Stringa Informativa Origine Debito",null,null,null,null,null,null,"D.03.01.XX",4]
[null,null,null,null,"Stringa Informativa Scrittura per 770",null,null,null,null,null,null,"H.Pww.nf",100]
[39,16,6,null,"Ricevuta e pagata Fattura PULIZIE PERFETTE (APR-MAG) n. 71/2020 del 04-06-2020",null,null,36.14,null,184.08,247.12,null,184.08]
[39,16,6,null,"v/s ERARIO # R.A. su pag. fattura n. 71/20 a PULIZIE PERFETTE  # 25 # C-08 # 12-01-2020",null,null,36.14,null,null,247.12,"D.03.03.20",6.24]
[39,16,6,null,"01 # F # 71/20 # 04-03-2020 # 00",null,null,36.14,null,null,247.12,"H.P04.01",156]
[39,16,6,null,"Ripartizione - scala A - civico 12",null,null,36.14,null,null,247.12,"S.02.02",63.44]
[39,16,6,null,"scala B - civico 18",null,null,36.14,null,null,247.12,"S.02.03",63.44]
[39,16,6,null,"scala C - civico 24",null,null,36.14,null,null,247.12,"S.02.04",63.44]
["PAGAMENTO FATTURA o RICEVUTA PER COMPENSI PRESTAZIONI PROFESSIONALI, FORNITURE DI SERVIZI (con o senza beni) (da inserire nel 770)\n[per operazione già inserita in contabilità come spesa a debito)"]
[null,null,null,null,"Pagata fattura n. xxx di WWWWWWW QQQQQQ  [assegno n. nnnnnn] [bonifico]\n(L'Importo dell'uscita è dato da Importo Totale di fattura meno la Ritenuta d'acconto).\nNell'importo riportato di 106 euro si è ipotizzata una R.A del 4%",null,null,null,null,106]
[null,null,null,null,"Annullamento del relativo debito v/s WWWWWWW QQQQQQ (necessita di Stringa Informativa Debito)\nL'importo dell'annullamento è il totale di fattura.\nLa stringa è a due campi\ncampo libero # codice debito annullato",null,null,null,null,null,null,"D.02.nv.YY",110]
[null,null,null,null,"Stringa Informativa Origine Debito",null,null,null,null,null,null,"D.03.01.XX",4]
[null,null,null,null,"Stringa Informativa per 770",null,null,null,null,null,null,"H.Pww.nf",100]
[28,12,5,null,"Pagata fattura PULIZIE PERFETTE n. 38 del 01-04-2020",null,null,13.46,null,92.04,621.41999999999996,null,92.04]
[28,12,5,null,"Si annulla il debito v/s PULIZIE PERFETTE # 15",null,null,13.46,null,null,621.41999999999996,"D.02.01.20",-95.16]
[28,12,5,null,"v/s ERARIO # R.A. su pag. fattura n. 38/20 a PULIZIE PERFETTE  # 31 # C-17 # 01-04-2020",null,null,13.46,null,null,621.41999999999996,"D.03.03.20",3.12]
[28,12,5,null,"01 # F38/20 # 01-04-2020 # 00",null,null,13.46,null,null,621.41999999999996,"H.P04.01",78]
["ABBUONI SU PAGAMENTI ALL'ATTO DEL PEGAMENTO"]
[null,null,null,null,"SPESE e DEBITI dell'ESERCIZIO (diminuisce direttamente la spesa oggetto di abbuono ed il relativo debito)"]
[null,null,null,null,"diminuzione della spesa dell'importo dell'abbuono",null,null,null,null,null,null,"S.cc.nv",-1]
[null,null,null,null,"Stringa Informativa Fine Debito\ndiminuzione del debito relativo alla voce in cui ricade la spesa oggetto di abbuono",null,null,null,null,null,null,"D.02.nv.XX",-1]
[null,null,null,null,"N.B.  Le due scrittura di sopra possono essere evitate intervenendo direttamente sulle scritture della spesa e del debito precedentemente registrate, diminuendo la spesa ed il debito dell'abbuono.\nN.B. : Questo è possibile in quanto l'abbuono concerne una spesa ed un debito dell'esercizio in corso."]
[null,null,null,null,"PER SPESE ESERCIZI PRECEDENTI (l'abbuono è trattato dalla procedura come restituzione ai condomini cui era stata attribuita la spesa e contemporaneamente va a diminuire il debito del condominio per fatture ricevute e non ancora pagate)"]
[null,null,null,null,"Pagamento effettuato",null,null,null,null,95,null,"U.02.00",95]
[null,null,null,null,"Abbuono su pagamento dovuto al creditore QQQQQQQ ",null,null,null,null,null,null,"A.01.nt",5]
[null,null,null,null,"Stringa Informativa Fine Debito\nLa diminuzione dell'abbuono è inglobata direttamente nella diminuzione del debito",null,null,null,null,null,null,"D.02.nv.YY",-100]
[18,11,2,null,"Pagamento debito esercizio 2019 v/s FORNITORE 01",null,null,56.23,null,27.44,423.11,"U.02.00",{"$f":"IF(L141<>\"\",F141+G141+I141+J141,\"\")","v":27.44}]
[18,11,2,null,"Azzeramento del debito verso Fornitore 01 # 12",null,null,56.23,null,null,423.11,"D.02.02.19",-28.44]
[18,11,2,null,"Abbuono su pagamento da ripartire su tabella D (civico 82)",null,null,56.23,null,null,423.11,"A.01.04",0.5]
[18,11,2,null,"Abbuono su pagamento da ripartire su tabella E (civico 84)",null,null,56.23,null,null,423.11,"A.01.05",0.5]
["PAGAMENTO DEBITI V/S TERZI ESERCIZI PRECEDENTI (no CU e 770)"]
[null,null,null,"Pagamento debito esercizio 20YY v/s NOMEDEBITORE ","Pagamento debito [in conto] esercizio 20YY v/s NOMEDEBITORE ",null,1,null,null,1,null,"U.02.nv.YY",1]
[31,11,8,null,"Pagamento debito esercizio 2019 v/s FORNITORE 01 (fattura 15/2019) con assegno n. 123456789",null,null,25.63,null,150,128.79,"U.02.01,19",{"$f":"IF(L147<>\"\",F147+G147+I147+J147,\"\")","v":150}]
["VERSAMENTO TRAMITE F24 DELLA R.A. SU FATTURA o RICEVUTA"]
[null,null,null,null,"Stringa Informativa Fine Debito",null,null,null,null,1,null,"D.03.01.YY",-1]
[null,null,null,null,"Stringa Informativa per 770\nÈ la stessa stringa di servizio riportata nella scrittura del pagamento della fattura o ricevuta.",null,null,null,null,null,null,"H.Rww.nf",1]
[null,null,null,null,"Eventuale Ravvedimento Operoso.\nATTENZIONE: il ravvedimento operoso deve essere posto nella riga successiva al conto H.RWW.nf, con lo stesso numero di registrazione, affinché la procedura possa correttamente riportarlo nel prospetto per il 770.",null,null,null,null,0.01,null,"S.01.nv",0.01]
[33,5,9,null,"Versamento F24 per ritenuta acconto su fattura di FORNITORE01  n. 15/2020 # 26",null,null,12.4,null,15.62,524.13,"D.03.01.20",-15.62]
[33,5,9,null,"01 # F # 38/20 # 01-04-2020 # 00",null,null,12.4,null,null,524.13,"H.Rww.nf",15.62]
[33,5,9,null,"Ravvedimento Operoso sul versamento della R.A. di cui sopra.",null,null,12.4,null,0.12,524.01,"S.01.04",0.12]
["PAGAMENTO FATTURE UTENZE  ( con contestuale pagamento deposito cauzionale)"]
[null,null,null,null,"Pagamento fattura n. zzzzzzzzz  di QQQQQQQQQQQ (bimestre aaa-bbb)",null,null,null,null,null,null,null,{"$f":"IF(L156<>\"\",F156+G156+I156+J156,\"\")","v":""}]
[null,null,null,null,"importo totale sottratto dell'eventuale importo del deposito cauzionale",null,null,null,null,90,null,"S.kk.zz",90]
[null,null,null,null,"nel caso si paghi con la fattura un deposito cauzionale o una sua integrazione"]
[null,null,null,null,"importo per deposito cauzionale",null,null,null,null,10,null,"L.00.nv",{"$f":"IF(L159<>\"\",F159+G159+I159+J159,\"\")","v":10}]
[null,null,null,null,"deposito cauzionale - credito del condominio da QQQQQQQQQL ",null,null,null,null,null,null,"C.01.01.YY",10]
[null,null,null,null,"la procedura calcola in automatico il debito del condominio verso i condomini"]
["RICEZIONE e CONTESTUALE PAGAMENTO FATTURA PER LAVORI STRAORDINARI "]
[null,null,null,null,"Ricevuta e pagata fattura n. xxx a WWWWWWW QQQQQQ con assegno c.c. postale n. 000000000 intestato a WWWWWWWWW o tramite bonifico bancario, relativa a FONDO nf",null,null,null,null,1,null,"G.00.nf",1]
["SPOSTAMENTI DI LIQUIDITÀ"]
["SPOSTAMENTO DI LIQUIDITÀ FRA CASSA E CONTO (per somme di sola gestione ordinaria)"]
[null,null,null,null,"Movimento fra conti numerari: da cassa a banca ([vers. contante] [vers. assegni] [bonifico da amministratore])",null,1,null,1]
[null,null,null,null,"Movimento fra conti numerari: da banca a cassa ([prelievo BANCOMAT] [assegno] [contante])",1,null,null,null,1]
["SPOSTAMENTO DI LIQUIDITÀ FRA CASSA E CONTO (per somme comprendenti anche quote di fondi)"]
[null,null,null,null,"Movimento fra conti numerari (gestione FONDI): da cassa a banca ([contante] [assegni])",null,1,null,1]
[null,null,null,null,"Aumento della quota del Fondo nf sul conto bancario",null,null,null,null,null,null,"F.nf.02",1]
[null,null,null,null,"Conseguente diminuzione sulla cassa contante della quota del FONDO nf",null,null,null,null,null,null,"F.nf.01",-1]
["SCRITTURE  VARIE SENZA VARIAZIONI DI CASSA O CONTO CORRENTE"]
["ABBUONI SU PAGAMENTI DA EFFETTUARE"]
[null,null,null,null,"PER SPESE A DEBITO dell'ESERCIZIO (diminuisce direttamente la spesa oggetto di abbuono ed il relativo debito)"]
[null,null,null,null,"diminuzione della spesa dell'importo dell'abbuono",null,null,null,null,null,null,"S.cc.nv",-1]
[null,null,null,null,"Stringa Informativa Fine Debito",null,null,null,null,null,null,"D.02.nv.XX",-1]
[null,null,null,null,"N.B.  Le due scrittura di sopra possono essere evitate intervenendo direttamente sulle scritture della spesa e del debito precedentemente registrate, diminuendo la spesa ed il debito dell'abbuono.\nQuesto è possibile in quanto l'abbuono concerne una spesa ed un debito dell'esercizio in corso."]
[null,null,null,null,"PER SPESE A DEBITO DI ESERCIZI PRECEDENTI. (Pagamento del debito non contestuale alla registrazione dell'abbuono)\nL'abbuono è per la procedura una restituzione ai condomini cui era stata attribuita la spesa. L'abbuono diminuisce il debito del condominio per fatture ricevute e non ancora pagate."]
[null,null,null,null,"Abbuono su pagamento dovuto al creditore QQQQQQQ ",null,null,null,null,null,null,"A.01.nt",5]
[null,null,null,null,"Stringa Informativa Fine Debito",null,null,null,null,null,null,"D.02.nv.YY",-5]
[18,11,2,null,"Il fornitore01 rinuncia al suo credito # 33.",null,null,56.23,null,null,423.11,"D.02.02.19",-80]
[18,11,2,null,"Abbuono su pagamento da ripartire su tabella D (civico 82)",null,null,56.23,null,null,423.11,"A.01.04",40]
[18,11,2,null,"Abbuono su pagamento da ripartire su tabella E (civico 84)",null,null,56.23,null,null,423.11,"A.01.05",40]
["REGISTRAZIONE a RICEZIONE DOCUMENTI CONTABILI (fattura, ricevuta, ecc.) "]
[null,null,null,null,"Descrizione libera dell'operazione. [esempio: Ricevuta fattura n° 125 del 10-10.2019 per acquisto prodotti di pulizia presso BricoK di Soverato)\nSe l'unico documento contabile contiene spese attribuibili a più voci, occorre inserire più righe,  ognuna delle quali contiene la descrizione della spesa, il codice del conto ed il relativo importo movimentato.\nOccorre controllare che la somma degli importi delle voci sia uguale all'importo del documento.",null,null,null,null,null,null,"S.kk.zz",110]
[null,null,null,null,"Stringa Informativa Origine Debito",null,null,null,null,null,null,"D.02.01.XX",110]
[22,7,3,null,"Ricevuta Fattura  PULIZIE PERFETTE 7/2020 del 03-03-2020",null,null,125.12,null,null,324.17]
[22,7,3,null,"v/s PULIZIE PERFETTE # fattura 7/20 del 3-3-2020 # 25 # C-06 # 03-03-2020",null,null,125.12,null,null,324.17,"D.02.01.20",95.16]
[22,7,3,null,"Ripartizione: scala A - civico 71",null,null,125.12,null,null,324.17,"S.02.02",31.72]
[22,7,3,null,"Ripartizione: scala B - civico 53",null,null,125.12,null,null,324.17,"S.02.03",31.72]
[22,7,3,null,"Ripartizione: scala C - civico 45",null,null,125.12,null,null,324.17,"S.02.04",31.72]
["REGISTRAZIONE a RICEZIONE di Avvisi di DOCUMENTI CONTABILI (avvisi di fattura, ecc.) "]
[null,null,null,null,"Descrizione libera dell'operazione. [esempio: Ricevuta avviso fattura da parte di WWWWWWW QQQQQQ)\nSe l'unico documento contabile contiene spese attribuibili a più voci, occorre inserire più righe,  ognuna delle quali contiene la descrizione della spesa, il codice del conto ed il relativo importo movimentato.\nOccorre controllare che la somma degli importi delle voci sia uguale all'importo del documento.",null,null,null,null,null,null,"S.kk.zz",110]
[null,null,null,null,"Stringa Informativa Origine Debito",null,null,null,null,null,null,"D.02.02.XX",110]
[14,7,3,null,"Ricevuto avviso di fattura rag. Pippo Pippo ",null,null,125.12,null,null,324.17,"S.01.07",120]
[14,7,3,null,"v/s PIPPO PIPPO # avviso di fattura # 27 # C-11 # 03-04-2020",null,null,125.12,null,null,324.17,"D.02.02.20",120]
["REGISTRAZIONE per PREVISIONE DI SPESA da ACCORDI e CONTRATTI"]
[null,null,null,null,"Descrizione libera dell'operazione. [esempio: Compenso pattuito con WWWWWWW QQQQQQ per trasmissione modello 770 relativo alla esercizio in corso))\nSe l'unico documento contabile contiene spese attribuibili a più voci, occorre inserire più righe,  ognuna delle quali contiene la descrizione della spesa, il codice del conto ed il relativo importo movimentato.\nOccorre controllare che la somma degli importi delle voci sia uguale all'importo del documento.",null,null,null,null,null,null,"S.kk.zz",110]
[null,null,null,null,"Stringa Informativa Origine Debito",null,null,null,null,null,null,"D.02.03.XX",110]
[44,31,12,null,"Parte del Compenso Amministratore per l'esercizio 2020 (non ancora corrisposto) ",null,null,125.12,null,null,324.17,"S.01.06",120]
[44,31,12,null,"v/s Amministratore #  previsione certa di spesa # 31 # C-10 # 03-05-2020",null,null,125.12,null,null,324.17,"D.02.03.20",120]

{"sheet":"iGIORNALEold","index":46,"n_rows":1468,"n_cols":18,"rows_kept":1468,"cut":false,"hidden":true,"merged":[[10,4,10,13],[11,4,11,13],[1,0,1,13],[2,0,2,13],[3,7,4,13],[7,1,8,2],[7,4,8,4],[7,5,7,7],[7,8,7,10],[7,11,7,12],[7,13,8,13]]}
[null,null,null,null,null,null,null,null,null,null,null,null,null,null,0]
["Le celle con sfondo giallo contengono formule e non devono essere mai sovrascritte. I risultati delle formule sono visualizzati solo se la cella di colonna A della riga non è vuota. Le formule possono essere ricopiate singolarmente o con il metodo \"seleziona e trascina\" partendo da una cella che contiene la formula."]
["Le celle di colonna M contengono solitamente una formula, quella più usuale per associare l'importo al conto movimentato. La formula può essere variata o si può scrivere direttamente il valore, quando l'importo movimentato non corrisponde ad una entrata o uscita scritta sulla stessa riga. La formula originaria può sempre essere riscritta copiandola dalla cella M10. "]
[null,null,null,null,null,null,null,"ATTENZIONE!\nLe scritture guidate saranno attendibili solo se i prospetti contabili sono aggiornati.\n È bene quindi, prima di ogni scrittura guidata automatizzata, ricalcolare il bilancio di esercizio e le scritture fiscali.",null,null,null,null,null,null,null,null,"Calcolo di controllo\nsui singoli conti"]
[null,null,null,null,null,null,null,null,null,null,null,null,null,null,null,null,"Conto","Importo"]
[{"$f":"'iP1'!A5","v":"Condominio \"TERMICO\""}]
[{"$f":"\"REGISTRO DELLE OPERAZIONI CONTABILI - ANNO \" & 'iP1'!A37","v":"REGISTRO DELLE OPERAZIONI CONTABILI - ANNO 2021-2022"},null,null,null,null,null,null,null,null,null,null,null,null,null,null,null,"A.01.01",{"$f":"SUMIFS($M$11:M$1467,L$11:L$1467,Q7)","v":0}]
["Reg.","Data",null,null,"DESCRIZIONE OPERAZIONE (e/o STRINGA INFORMATIVA)","CASSA",null,null,"CONTO CORRENTE",null,null,"MOVIMENTO",null,"Pezza\ngiustificativa ",null,null,{"$f":"\"D.03.01.\"  & RIGHT('iP1'!A37,2)","v":"D.03.01.22"},{"$f":"SUMIFS($M$11:M$1467,L$11:L$1467,Q8,M$11:M$1467,\">0\")","v":0}]
["n°",null,null,null,null,"ENTRATA","USCITA","SALDO","ENTRATA","USCITA","SALDO","CONTO","IMPOR."]
[{"$f":"COUNTA(A11:A1423)","v":212},"g","m","a"," TOTALI",{"$f":"ROUND(SUM(F12:F884),2)","v":504.9},{"$f":"SUM(G12:G884)","v":504.9},{"$f":"F10-G10","v":0},{"$f":"ROUND(SUM(I12:I884),2)","v":1897.15},{"$f":"SUM(J12:J884)","v":1083.95},{"$f":"I10-J10","v":813.2},null,{"$f":"IF(LEN(L10)>0,F10+G10+I10+J10,\"\")","v":""},"n°"]
[0,"0",0,2020,"=========== SCRITTURE DI APERTURA ESERCIZIO ========== (riporto valori da esercizio precedente)"]
["a","0",0,2020,"=========== SCRITTURE DI APERTURA ESERCIZIO ========== (riporto valori da stato patrimoniale esercizio precedente)"]
["l",0,0,null,"LIQUIDITÀ"]
["l",0,0,2020,"SITUAZIONE LIQUIDITÀ INIZIALE (Gestione Speciale)",0,null,{"$f":"IF(A14<>\"\",IF(INDIRECT(ADDRESS(ROW()-1,8))=\"\",ROUND(SUM(INDIRECT(ADDRESS(ROW()-2,8)),F14,-G14),2),ROUND(SUM(INDIRECT(ADDRESS(ROW()-1,8)),F14,-G14),2)),\"\")","v":0},181.22,null,{"$f":"IF(A14<>\"\",IF(INDIRECT(ADDRESS(ROW()-1,11))=\"\",ROUND(SUM(INDIRECT(ADDRESS(ROW()-2,11)),I14,-J14),2),ROUND(SUM(INDIRECT(ADDRESS(ROW()-1,11)),I14,-J14),2)),\"\")","v":181.22},""]
["c",0,0,null,"CREDITI",null,null,{"$f":"IF(A15<>\"\",IF(INDIRECT(ADDRESS(ROW()-1,8))=\"\",ROUND(SUM(INDIRECT(ADDRESS(ROW()-2,8)),F15,-G15),2),ROUND(SUM(INDIRECT(ADDRESS(ROW()-1,8)),F15,-G15),2)),\"\")","v":0},null,null,{"$f":"IF(A15<>\"\",IF(INDIRECT(ADDRESS(ROW()-1,11))=\"\",ROUND(SUM(INDIRECT(ADDRESS(ROW()-2,11)),I15,-J15),2),ROUND(SUM(INDIRECT(ADDRESS(ROW()-1,11)),I15,-J15),2)),\"\")","v":181.22}]
["c",0,0,null,"da DEPOSITI di DENARO presso Terzi",null,null,0,null,null,181.22]
["c",0,0,null,"da ENEL ENERGIA SpA  # deposito cauzionale scala A civico 38 # 01 # D-01 # 06/07/2021",null,null,0,null,null,181.22,"C.01.01.21",42.27]
["c",0,0,null,"da CONDOMINI",null,null,0,null,null,181.22]
["c",0,0,null,"ESERCIZIO 2019",null,null,0,null,null,181.22]
["c",0,0,null,"Condomino03",null,null,0,null,null,181.22,"C.04.03.19",376.65]
["c",0,0,null,"Condomino04 S.r.l.",null,null,0,null,null,181.22,"C.04.04.19",338.12]
["c",0,0,null,"Condomino06",null,null,0,null,null,181.22,"C.04.06.19",422.78]
["c",0,0,null,"Condomino10",null,null,0,null,null,181.22,"C.04.10.19",898]
["c",0,0,null,"ESERCIZIO 2020",null,null,0,null,null,181.22]
["c",0,0,null,"Condomino03",null,null,0,null,null,181.22,"C.04.03.20",494.68]
["c",0,0,null,"Condomino04 S.r.l.",null,null,0,null,null,181.22,"C.04.04.20",454.48]
["c",0,0,null,"Condomino06",null,null,0,null,null,181.22,"C.04.06.20",475.6]
["c",0,0,null,"Condomino10",null,null,0,null,null,181.22,"C.04.10.20",450.3]
["c",0,0,null,"Condomino15",null,null,0,null,null,181.22,"C.04.15.20",277.54000000000002]
["c",0,0,null,"ESERCIZIO 2021",null,null,0,null,null,181.22]
["c",0,0,null,"Condomino03",null,null,0,null,null,181.22,"C.04.03.21",169.05]
["c",0,0,null,"Condomino04 S.r.l.",null,null,0,null,null,181.22,"C.04.04.21",229.27]
["c",0,0,null,"Condomino06",null,null,0,null,null,181.22,"C.04.06.21",473.66]
["c",0,0,null,"Condomino10",null,null,0,null,null,181.22,"C.04.10.21",313.3]
["c",0,0,null,"Condomino15",null,null,0,null,null,181.22,"C.04.15.21",218.93]
["c",0,0,null,"Condomino17",null,null,0,null,null,181.22,"C.04.17.21",13.1]
["c",0,0,null,"Condomino23",null,null,0,null,null,181.22,"C.04.23.21",130.56]
["d",0,0,null,"DEBITI",null,null,0,null,null,181.22]
["d",0,0,null,"DEPOSITI presso TERZI",null,null,0,null,null,181.22]
["d",0,0,null,"Condomino01",null,null,0,null,null,181.22,"D.05.01",1.3073999999999999]
["d",0,0,null,"Condomino02",null,null,0,null,null,181.22,"D.05.02",1.7238]
["d",0,0,null,"Condomino03",null,null,0,null,null,181.22,"D.05.03",3.0143]
["d",0,0,null,"Condomino04 S.r.l.",null,null,0,null,null,181.22,"D.05.04",1.4561999999999999]
["d",0,0,null,"Condomino05",null,null,0,null,null,181.22,"D.05.05",2.4077000000000002]
["d",0,0,null,"Condomino06",null,null,0,null,null,181.22,"D.05.06",2.4407000000000001]
["d",0,0,null,"Condomino07",null,null,0,null,null,181.22,"D.05.07",1.2419]
["d",0,0,null,"Condomino08",null,null,0,null,null,181.22,"D.05.08",0.35759999999999997]
["d",0,0,null,"Condomino09 S.r.l.",null,null,0,null,null,181.22,"D.05.09",1.5009999999999999]
["d",0,0,null,"Condomino10",null,null,0,null,null,181.22,"D.05.10",1.0550999999999999]
["d",0,0,null,"Condomino11 ",null,null,0,null,null,181.22,"D.05.11",1.1053999999999999,null,null," "]
["d",0,0,null,"Condomino12",null,null,0,null,null,181.22,"D.05.12",2.5125000000000002]
["d",0,0,null,"Condomino13",null,null,0,null,null,181.22,"D.05.13",1.9837]
["d",0,0,null,"Condomino14",null,null,0,null,null,181.22,"D.05.14",1.6244000000000001]
["d",0,0,null,"Condomino15",null,null,0,null,null,181.22,"D.05.15",1.7745]
["d",0,0,null,"Condomino16",null,null,0,null,null,181.22,"D.05.16",2.1972]
["d",0,0,null,"Condomino17",null,null,0,null,null,181.22,"D.05.17",3.1562999999999999]
["d",0,0,null,"Condomino18",null,null,0,null,null,181.22,"D.05.18",3.1564999999999999]
["d",0,0,null,"Condomino19",null,null,0,null,null,181.22,"D.05.19",2.6457000000000002]
["d",0,0,null,"Condomino20",null,null,0,null,null,181.22,"D.05.20",0.73680000000000001]
["d",0,0,null,"Condomino21",null,null,0,null,null,181.22,"D.05.21",1.7813000000000001]
["d",0,0,null,"Condomino22",null,null,0,null,null,181.22,"D.05.22",1.2283999999999999]
["d",0,0,null,"Condomino23",null,null,0,null,null,181.22,"D.05.23",1.8615999999999999]
["d",0,0,null,"v/s TERZI PRIVATI",null,null,0,null,null,181.22]
["d",0,0,null,"v/s CONSULENTE FISCALE # Impegno di spesa Consulenza fiscale 2019 # 01 # F-06 # 31/12/2019",null,null,0,null,null,181.22,"D.02.03.19",300]
["d",0,0,null,"v/s CHIEFARI Pietro # impegno spesa comp. Amm. Es. 2019 # 02 # F-07 # 31/12/2019",null,null,0,null,null,181.22,"D.02.03.19",1200]
["d",0,0,null,"v/s AVVOCATO Giuseppe # avviso fattura n. 10/2020 del 1-12-2020 # 03 # F-08 # 01/12/2020",null,null,0,null,null,181.22,"D.02.02.20",50]
["d",0,0,null,"v/s CHIEFARI Pietro # impegno spesa comp. Amm. Es. 2020 # 04 # F-07 # 31/12/2020",null,null,0,null,null,181.22,"D.02.03.20",1400]
["d",0,0,null,"v/s CONSULENTE FISCALE # Impegno di spesa Consulenza fiscale 2020 # 05 # F-06 # 31/12/2020",null,null,0,null,null,181.22,"D.02.03.20",300]
["d",0,0,null,"v/s OTIR SERVIZI Srl # Fatture del 24-02-2021 manutenz. Straord. # 06 # F-03 # 24/02/2021",null,null,0,null,null,181.22,"D.02.01.21",231]
["d",0,0,null,"v/s OTIR SERVIZI Srl # Fattura n. 3FO21025812 del 07-01-2021 # 07 # F-03 # 07/01/2021",null,null,0,null,null,181.22,"D.02.01.21",57.220000000000027]
["d",0,0,null,"v/s OTIR SERVIZI Srl # Fattura n. 3FO21025811 del 07-01-2021 # 08 # F-03 # 07/01/2021",null,null,0,null,null,181.22,"D.02.01.21",57.220000000000027]
["d",0,0,null,"v/s OTIR SERVIZI Srl # Fattura n. 3FO21025813 del 07-01-2021 # 09 # F-03 # 07/01/2021",null,null,0,null,null,181.22,"D.02.01.21",57.220000000000027]
["d",0,0,null,"v/s OTIR SERVIZI Srl # Fattura 3FC21006548 del 05-03-2021 # 10 # F-03 # 05/03/2021",null,null,0,null,null,181.22,"D.02.01.21",43]
["d",0,0,null,"v/s OTIR SERVIZI Srl # Fattura 3FC21006550 del 05-03-2021 # 11 # F-03 # 05/03/2021",null,null,0,null,null,181.22,"D.02.01.21",43]
["d",0,0,null,"v/s OTIR SERVIZI Srl # Fattura 3FC21006549 del 05-03-2021 # 12 # F-03 # 05/03/2021",null,null,0,null,null,181.22,"D.02.01.21",43]
["d",0,0,null,"v/s OTIR SERVIZI Srl # Fattura n. 3FO21084628del 01/07-2021 # 13 # F-03 # 01/07/2021",null,null,0,null,null,181.22,"D.02.01.21",407.22]
["d",0,0,null,"v/s OTIR SERVIZI Srl # Fattura n. 3FO21084627 del 01-07-2021 # 14 # F-03 # 01/07/2021",null,null,0,null,null,181.22,"D.02.01.21",407.22]
["d",0,0,null,"v/s OTIR SERVIZI Srl # Fattura n. 3FO21084629 del 01-07-2021 # 15 # F-03 # 01/07/2021",null,null,0,null,null,181.22,"D.02.01.21",407.22]
["d",0,0,null,"v/s OTIR SERVIZI Srl # Fattura n. 3FC21033819del 10-12-2021 # 16 # F-03 # 10/12/2021",null,null,{"$f":"IF(A79<>\"\",IF(INDIRECT(ADDRESS(ROW()-1,8))=\"\",ROUND(SUM(INDIRECT(ADDRESS(ROW()-2,8)),F79,-G79),2),ROUND(SUM(INDIRECT(ADDRESS(ROW()-1,8)),F79,-G79),2)),\"\")","v":0},null,null,{"$f":"IF(A79<>\"\",IF(INDIRECT(ADDRESS(ROW()-1,11))=\"\",ROUND(SUM(INDIRECT(ADDRESS(ROW()-2,11)),I79,-J79),2),ROUND(SUM(INDIRECT(ADDRESS(ROW()-1,11)),I79,-J79),2)),\"\")","v":181.22},"D.02.01.21",200.2]
["d",0,0,null,"v/s ENEL ENERGIA SpA  # Fattura n. 4157845945 del  08-12-2021 # 17 # C-03 # 08/12/2021",null,null,0,null,null,181.22,"D.02.01.21",153.94]
["d",0,0,null,"v/s Samuele SAVERIO # Fattura n. 310 del 22-12-2021 # 18 # F-01 # 22/12/2021",null,null,0,null,null,181.22,"D.02.01.21",60]
["d",0,0,null,"v/s Samuele SAVERIO # Fattura n. 311 del 22-12-2021 # 19 # F-01 # 22/12/2021",null,null,0,null,null,181.22,"D.02.01.21",60]
["d",0,0,null,"v/s Samuele SAVERIO # Fattura n. 312 del 22-12-2021 # 20 # F-01 # 22/12/2021",null,null,0,null,null,181.22,"D.02.01.21",60]
["d",0,0,null,"v/s CHIEFARI Pietro # Impegno di spesa competenze Amministratore 2021 # 21 # F-07 # 31/12/2021",null,null,0,null,null,181.22,"D.02.03.21",1200]
["d",0,0,null,"v/s CONSULENTE FISCALE # Impegno di spesa consulenza fiscale 2021 # 22 # F-06 # 31/12/2021",null,null,0,null,null,181.22,"D.02.03.21",300]
["d",0,0,null,"v/s CONDOMINI (Quote versate in eccesso)",null,null,0,null,null,181.22]
["d",0,0,null,"Condomino01",null,null,0,null,null,181.22,"D.04.01",78.06]
["d",0,0,null,"Condomino02",null,null,0,null,null,181.22,"D.04.02",22.97]
["d",0,0,null,"Condomino05",null,null,0,null,null,181.22,"D.04.05",12.14]
["d",0,0,null,"Condomino07",null,null,0,null,null,181.22,"D.04.07",79.040000000000006]
["d",0,0,null,"Condomino08",null,null,0,null,null,181.22,"D.04.08",18.8]
["d",0,0,null,"Condomino09 S.r.l.",null,null,0,null,null,181.22,"D.04.09",15.36]
["d",0,0,null,"Condomino11 ",null,null,0,null,null,181.22,"D.04.11",97.88]
["d",0,0,null,"Condomino12",null,null,0,null,null,181.22,"D.04.12",91.44]
["d",0,0,null,"Condomino13",null,null,0,null,null,181.22,"D.04.13",19.89]
["d",0,0,null,"Condomino14",null,null,0,null,null,181.22,"D.04.14",90.2]
["d",0,0,null,"Condomino16",null,null,0,null,null,181.22,"D.04.16",34.35]
["d",0,0,null,"Condomino18",null,null,0,null,null,181.22,"D.04.18",61.89]
["d",0,0,null,"Condomino19",null,null,0,null,null,181.22,"D.04.19",59.28]
["d",0,0,null,"Condomino20",null,null,0,null,null,181.22,"D.04.20",21.43]
["d",0,0,null,"Condomino21",null,null,0,null,null,181.22,"D.04.21",23.21]
["d",0,0,null,"Condomino22",null,null,0,null,null,181.22,"D.04.22",97.37]
["s",1,1,null,"OPERAZIONI DI STORNO",null,null,0,null,null,181.22]
["s",1,1,null,"Restituzione a Condomino01",null,null,0,null,null,181.22,"U.01.01",78.06]
["s",1,1,null,"Condomino01 # Versamento in conto quota esercizio 2022 per storno credito 2021",null,null,0,null,null,181.22,"Q.01.01",78.06]
["s",1,1,null,"Restituzione a Condomino02",null,null,0,null,null,181.22,"U.01.02",22.97]
["s",1,1,null,"Condomino02 # Versamento in conto quota esercizio 2022 per storno credito 2021",null,null,0,null,null,181.22,"Q.01.02",22.97]
["s",1,1,null,"Restituzione a Condomino05",null,null,0,null,null,181.22,"U.01.05",12.14]
["s",1,1,null,"Condomino05 # Versamento in conto quota esercizio 2022 per storno credito 2021",null,null,0,null,null,181.22,"Q.01.05",12.14]
["s",1,1,null,"Restituzione a Condomino07",null,null,0,null,null,181.22,"U.01.07",79.040000000000006]
["s",1,1,null,"Condomino07 # Versamento in conto quota esercizio 2022 per storno credito 2021",null,null,0,null,null,181.22,"Q.01.07",79.040000000000006]
["s",1,1,null,"Restituzione a Condomino08",null,null,0,null,null,181.22,"U.01.08",18.8]
["s",1,1,null,"Condomino08 # Versamento in conto quota esercizio 2022 per storno credito 2021",null,null,0,null,null,181.22,"Q.01.08",18.8]
["s",1,1,null,"Restituzione a Condomino09 S.r.l.",null,null,0,null,null,181.22,"U.01.09",15.36]
["s",1,1,null,"Condomino09 S.r.l. # Versamento in conto quota esercizio 2022 per storno credito 2021",null,null,0,null,null,181.22,"Q.01.09",15.36]
["s",1,1,null,"Restituzione a Condomino11 ",null,null,0,null,null,181.22,"U.01.11",97.88]
["s",1,1,null,"Condomino11  # Versamento in conto quota esercizio 2022 per storno credito 2021",null,null,0,null,null,181.22,"Q.01.11",97.88]
["s",1,1,null,"Restituzione a Condomino12",null,null,0,null,null,181.22,"U.01.12",91.44]
["s",1,1,null,"Condomino12 # Versamento in conto quota esercizio 2022 per storno credito 2021",null,null,0,null,null,181.22,"Q.01.12",91.44]
["s",1,1,null,"Restituzione a Condomino13",null,null,0,null,null,181.22,"U.01.13",19.89]
["s",1,1,null,"Condomino13 # Versamento in conto quota esercizio 2022 per storno credito 2021",null,null,0,null,null,181.22,"Q.01.13",19.89]
["s",1,1,null,"Restituzione a Condomino14",null,null,0,null,null,181.22,"U.01.14",90.2]
["s",1,1,null,"Condomino14 # Versamento in conto quota esercizio 2022 per storno credito 2021",null,null,0,null,null,181.22,"Q.01.14",90.2]
["s",1,1,null,"Restituzione a Condomino16",null,null,0,null,null,181.22,"U.01.16",34.35]
["s",1,1,null,"Condomino16 # Versamento in conto quota esercizio 2022 per storno credito 2021",null,null,0,null,null,181.22,"Q.01.16",34.35]
["s",1,1,null,"Restituzione a Condomino18",null,null,0,null,null,181.22,"U.01.18",61.89]
["s",1,1,null,"Condomino18 # Versamento in conto quota esercizio 2022 per storno credito 2021",null,null,0,null,null,181.22,"Q.01.18",61.89]
["s",1,1,null,"Restituzione a Condomino19",null,null,0,null,null,181.22,"U.01.19",59.28]
["s",1,1,null,"Condomino19 # Versamento in conto quota esercizio 2022 per storno credito 2021",null,null,0,null,null,181.22,"Q.01.19",59.28]
["s",1,1,null,"Restituzione a Condomino20",null,null,0,null,null,181.22,"U.01.20",21.43]
["s",1,1,null,"Condomino20 # Versamento in conto quota esercizio 2022 per storno credito 2021",null,null,0,null,null,181.22,"Q.01.20",21.43]
["s",1,1,null,"Restituzione a Condomino21",null,null,0,null,null,181.22,"U.01.21",23.21]
["s",1,1,null,"Condomino21 # Versamento in conto quota esercizio 2022 per storno credito 2021",null,null,0,null,null,181.22,"Q.01.21",23.21]
["s",1,1,null,"Restituzione a Condomino22",null,null,0,null,null,181.22,"U.01.22",97.37]
["s",1,1,null,"Condomino22 # Versamento in conto quota esercizio 2022 per storno credito 2021",null,null,0,null,null,181.22,"Q.01.22",97.37]
["e",1,1,null,"=== SCRITTURE RELATIVE ALL'ESERCIZIO IN CORSO ===",null,null,0,null,null,181.22]
[3,3,2,null,"Condomino19  # Versamento tramite bonifico in conto quota 2022",null,null,{"$f":"IF(A137<>\"\",IF(INDIRECT(ADDRESS(ROW()-1,8))=\"\",SUM(INDIRECT(ADDRESS(ROW()-2,8)),F137,-G137),SUM(INDIRECT(ADDRESS(ROW()-1,8)),F137,-G137)),\"\")","v":0},155.82,null,{"$f":"IF(A137<>\"\",IF(INDIRECT(ADDRESS(ROW()-1,11))=\"\",SUM(INDIRECT(ADDRESS(ROW()-2,11)),I137,-J137),SUM(INDIRECT(ADDRESS(ROW()-1,11)),I137,-J137)),\"\")","v":337.03999999999996},"Q.01.19",{"$f":"IF(LEN(L137)>0,F137+G137+I137+J137,\"\")","v":155.82}]
[4,3,2,null,"Ricevuta fattura Samuele SAVERIO  n. 1 del 28-01-2022 - Portico",null,null,{"$f":"IF(A138<>\"\",IF(INDIRECT(ADDRESS(ROW()-1,8))=\"\",ROUND(SUM(INDIRECT(ADDRESS(ROW()-2,8)),F138,-G138),2),ROUND(SUM(INDIRECT(ADDRESS(ROW()-1,8)),F138,-G138),2)),\"\")","v":0},null,null,{"$f":"IF(A138<>\"\",IF(INDIRECT(ADDRESS(ROW()-1,11))=\"\",ROUND(SUM(INDIRECT(ADDRESS(ROW()-2,11)),I138,-J138),2),ROUND(SUM(INDIRECT(ADDRESS(ROW()-1,11)),I138,-J138),2)),\"\")","v":337.04},"S.02.05",25]
[4,3,2,null,"Nasce debito c/o Samuele SAVERIO # Fattura n. 1 del 28-01-2022 # 23 # F-01 # 28-01-2022",null,null,{"$f":"IF(A139<>\"\",IF(INDIRECT(ADDRESS(ROW()-1,8))=\"\",ROUND(SUM(INDIRECT(ADDRESS(ROW()-2,8)),F139,-G139),2),ROUND(SUM(INDIRECT(ADDRESS(ROW()-1,8)),F139,-G139),2)),\"\")","v":0},null,null,{"$f":"IF(A139<>\"\",IF(INDIRECT(ADDRESS(ROW()-1,11))=\"\",ROUND(SUM(INDIRECT(ADDRESS(ROW()-2,11)),I139,-J139),2),ROUND(SUM(INDIRECT(ADDRESS(ROW()-1,11)),I139,-J139),2)),\"\")","v":337.04},"D.02.01.22",25]
[5,3,2,null,"Abbuono - Nota di credito OTIR n. 3ND22000007 del 03/01/2022 su Fatt. 3FC21006550del 05/03/2021 - Scala A",null,null,{"$f":"IF(A140<>\"\",IF(INDIRECT(ADDRESS(ROW()-1,8))=\"\",SUM(INDIRECT(ADDRESS(ROW()-2,8)),F140,-G140),SUM(INDIRECT(ADDRESS(ROW()-1,8)),F140,-G140)),\"\")","v":0},null,null,{"$f":"IF(A140<>\"\",IF(INDIRECT(ADDRESS(ROW()-1,11))=\"\",SUM(INDIRECT(ADDRESS(ROW()-2,11)),I140,-J140),SUM(INDIRECT(ADDRESS(ROW()-1,11)),I140,-J140)),\"\")","v":337.04},"A.01.02",43]
[5,3,2,null,"Si riduce il debito verso OTIR  # 10",null,null,0,null,null,{"$f":"IF(A141<>\"\",IF(INDIRECT(ADDRESS(ROW()-1,11))=\"\",ROUND(SUM(INDIRECT(ADDRESS(ROW()-2,11)),I141,-J141),2),ROUND(SUM(INDIRECT(ADDRESS(ROW()-1,11)),I141,-J141),2)),\"\")","v":337.04},"D.02.01.21",-43]
[6,3,2,null,"Abbuono - Nota di credito OTIR n. 3ND22000005 del 03/01/2022 su Fatt. 3FC21006548 del 05/03/2021 - Scala B",null,null,0,null,null,{"$f":"IF(A142<>\"\",IF(INDIRECT(ADDRESS(ROW()-1,11))=\"\",SUM(INDIRECT(ADDRESS(ROW()-2,11)),I142,-J142),SUM(INDIRECT(ADDRESS(ROW()-1,11)),I142,-J142)),\"\")","v":337.04},"A.01.03",43]
[6,3,2,null,"Si riduce il debito verso OTIR  # 11",null,null,0,null,null,{"$f":"IF(A143<>\"\",IF(INDIRECT(ADDRESS(ROW()-1,11))=\"\",ROUND(SUM(INDIRECT(ADDRESS(ROW()-2,11)),I143,-J143),2),ROUND(SUM(INDIRECT(ADDRESS(ROW()-1,11)),I143,-J143),2)),\"\")","v":337.04},"D.02.01.21",-43]
[7,3,2,null,"Abbuono - Nota di credito OTIR n. 3ND22000006 del 03/01/2022 su Fatt. 3FC21006549 del 05/03/2021 - Scala C",null,null,0,null,null,{"$f":"IF(A144<>\"\",IF(INDIRECT(ADDRESS(ROW()-1,11))=\"\",SUM(INDIRECT(ADDRESS(ROW()-2,11)),I144,-J144),SUM(INDIRECT(ADDRESS(ROW()-1,11)),I144,-J144)),\"\")","v":337.04},"A.01.04",43]
[7,3,2,null,"Si riduce il debito verso OTIR  # 12",null,null,0,null,null,{"$f":"IF(A145<>\"\",IF(INDIRECT(ADDRESS(ROW()-1,11))=\"\",ROUND(SUM(INDIRECT(ADDRESS(ROW()-2,11)),I145,-J145),2),ROUND(SUM(INDIRECT(ADDRESS(ROW()-1,11)),I145,-J145),2)),\"\")","v":337.04},"D.02.01.21",-43]
[8,10,2,null,"Ricevuta Fattura OTIR n. 3FO22026272  del 10-01-2022 - Manutenzione Ordinaria prorgammata  - Scala A ",null,null,0,null,null,{"$f":"IF(A146<>\"\",IF(INDIRECT(ADDRESS(ROW()-1,11))=\"\",SUM(INDIRECT(ADDRESS(ROW()-2,11)),I146,-J146),SUM(INDIRECT(ADDRESS(ROW()-1,11)),I146,-J146)),\"\")","v":337.04},"S.03.05",424.05]
[8,10,2,null,"Nasce debito v/s OTIR Srl # Fattura n. 3FO22026272  del 10-01-2022 # 24 # F-03 # 10-01-2022",null,null,0,null,null,337.04,"D.02.01.22",424.05]
[9,10,2,null,"Ricevuta Fattura OTIR n. 3FO22026271  del 10-01-2022 - manutenzione Ordinaria prorgammata  - Scala B",null,null,0,null,null,337.04,"S.03.06",424.05]
[9,10,2,null,"Nasce debito v/s OTIR Srl # Fattura n. 3FO22026271 del 10-01-2022 # 25 # F-03 # 10-01-2022",null,null,0,null,null,337.04,"D.02.01.22",424.05]
[10,10,2,null,"Ricevuta Fattura OTIR n. 3FO22026273 del 10-01-2022- manutenzione Ordinaria prorgammata  - Scala C",null,null,0,null,null,337.04,"S.03.07",424.05]
[10,10,2,null,"Nasce debito v/s OTIR Srl # Fattura n. 3FO22026273 del 10-01-2022 # 26 # F-03 # 10-01-2022",null,null,0,null,null,337.04,"D.02.01.22",424.05]
[11,10,2,null,"Ricevuta Fattura ENEL ENERGIA. SpA n. 418 758 7725 del  13-12-2021 (Scala C - civico 22 - cod. Cliente: ... 397)",null,null,{"$f":"IF(A152<>\"\",IF(INDIRECT(ADDRESS(ROW()-1,8))=\"\",ROUND(SUM(INDIRECT(ADDRESS(ROW()-2,8)),F152,-G152),2),ROUND(SUM(INDIRECT(ADDRESS(ROW()-1,8)),F152,-G152),2)),\"\")","v":0},null,null,{"$f":"IF(A152<>\"\",IF(INDIRECT(ADDRESS(ROW()-1,11))=\"\",ROUND(SUM(INDIRECT(ADDRESS(ROW()-2,11)),I152,-J152),2),ROUND(SUM(INDIRECT(ADDRESS(ROW()-1,11)),I152,-J152),2)),\"\")","v":337.04},"S.04.03",102.85]
[11,10,2,null,"Nasce debito c/o Enel Energia # Fattura n.  418 758 7725 del  13-12-2021 # 27 # C-03 # 13-12-2021",null,null,0,null,null,337.04,"D.02.01.22",102.85]
[12,23,2,null,"Abbuono ENEL ENERGIA. SpA su Fattura n. 418 257 3894 del  08-12-2021 - Scala A",null,null,0,null,null,337.04,"A.01.02",25.83]
[13,23,2,null,"Abbuono ENEL ENERGIA. SpA su Fattura n. 418 257 3894 del  08-12-2021 - Scala B",null,null,0,null,null,337.04,"A.01.03",25.83]
[14,23,2,null,"Abbuono ENEL ENERGIA. SpA su Fattura n. 418 257 3894 del  08-12-2021 - Scala C",null,null,0,null,null,337.04,"A.01.04",25.83]
[15,23,2,null,"si riduce il debito c/o ENEL ENERGIA SpA #17",null,null,0,null,null,337.04,"D.02.01.21",-77.489999999999995]
[16,23,2,null,"Saldo Fatture ENEL ENERGIA. SpA n. 418 257 3894 Dicembre 2021 - bonifico (€ 179,30)",null,null,0,null,76.45,260.58999999999997,"U.02.00",{"$f":"IF(LEN(L158)>0,F158+G158+I158+J158,\"\")","v":76.45}]
[16,23,2,null,"si riduce il debito c/o ENEL ENERGIA SpA #17",null,null,0,null,null,260.58999999999997,"D.02.01.21",-76.45]
[17,23,2,null,"Saldo Fatture ENEL ENERGIA. SpA n. 418 758 7725 Dicembre 2021 - bonifico (€ 179,30) ",null,null,0,null,102.85,157.74]
[17,23,2,null,"si riduce il debito c/o ENEL ENERGIA SpA # 27",null,null,0,null,null,157.74,"D.02.01.22",-102.85]
[18,24,2,null,"Condomino02  # Versamento tramite bonifico in conto quota 2022",null,null,{"$f":"IF(A162<>\"\",IF(INDIRECT(ADDRESS(ROW()-1,8))=\"\",SUM(INDIRECT(ADDRESS(ROW()-2,8)),F162,-G162),SUM(INDIRECT(ADDRESS(ROW()-1,8)),F162,-G162)),\"\")","v":0},150,null,{"$f":"IF(A162<>\"\",IF(INDIRECT(ADDRESS(ROW()-1,11))=\"\",SUM(INDIRECT(ADDRESS(ROW()-2,11)),I162,-J162),SUM(INDIRECT(ADDRESS(ROW()-1,11)),I162,-J162)),\"\")","v":307.74},"Q.01.02",{"$f":"IF(LEN(L162)>0,F162+G162+I162+J162,\"\")","v":150}]
[19,26,2,null,"Cndomino08  # Versamento in conto quota 2022 - RIC. 47/B",152,null,{"$f":"IF(A163<>\"\",IF(INDIRECT(ADDRESS(ROW()-1,8))=\"\",ROUND(SUM(INDIRECT(ADDRESS(ROW()-2,8)),F163,-G163),2),ROUND(SUM(INDIRECT(ADDRESS(ROW()-1,8)),F163,-G163),2)),\"\")","v":152},null,null,{"$f":"IF(A163<>\"\",IF(INDIRECT(ADDRESS(ROW()-1,11))=\"\",ROUND(SUM(INDIRECT(ADDRESS(ROW()-2,11)),I163,-J163),2),ROUND(SUM(INDIRECT(ADDRESS(ROW()-1,11)),I163,-J163),2)),\"\")","v":307.74},"Q.01.08",{"$f":"IF(LEN(L163)>0,F163+G163+I163+J163,\"\")","v":152}]
[20,26,2,null,"Da Cassa a Banca - bonifico Amministratore",null,152,0,152,null,459.74,null,{"$f":"IF(LEN(L164)>0,F164+G164+I164+J164,\"\")","v":""}]
[21,26,2,null,"Fattura ENEL ENERGIA. SpA n. 419 929 7049 del 07-02-2022 (Scala C - civico 22 - cod. Cliente: ... 397) - bonifico",null,null,0,null,125.71,334.03,"S.04.03",{"$f":"IF(LEN(L165)>0,F165+G165+I165+J165,\"\")","v":125.71}]
[22,26,2,null,"Fattura ENEL ENERGIA. SpA n. 419 875 5304 del 06-02-2022 (Scala B - civico 30 - cod. Cliente: ... 325) - bonifico",null,null,0,null,120.74,213.29]
[22,26,2,null,"Consumi da addebbitare  a scala B (57%)",null,null,0,null,null,213.29,"S.04.02",{"$f":"J166*0.57","v":68.821799999999996}]
[22,26,2,null,"Consumi da addebbitare a Portico (27%)",null,null,0,null,null,213.29,"S.04.04",{"$f":"J166*0.27","v":32.599800000000002}]
[22,26,2,null,"Consumi da addebbitare a Tunnel (16%)",null,null,0,null,null,213.29,"S.04.05",{"$f":"J166*0.16","v":19.3184}]
[23,26,2,null,"Ricevuta fattura Samuele SAVERIO  n. 10 del 25-02-2022 - Scala A",null,null,0,null,null,213.29,"S.02.02",60]
[23,26,2,null,"Nasce debito c/o Samuele SAVERIO # Fattura n. 10 del 25-02-2022 # 28 # F-01 # 25-02-2022",null,null,0,null,null,213.29,"D.02.01.22",60]
[24,26,2,null,"Ricevuta fattura Samuele SAVERIO  n. 11 del 25-02-2022 - Scala B",null,null,0,null,null,213.29,"S.02.03",60]
[24,26,2,null,"Nasce debito c/o Samuele SAVERIO # Fattura n. 11 del 25-02-2022 # 29 # F-01 # 25-02-2022",null,null,0,null,null,213.29,"D.02.01.22",60]
[25,26,2,null,"Ricevuta fattura Samuele SAVERIO  n. 12 del 25-02-2022 - Scala C",null,null,0,null,null,213.29,"S.02.04",60]
[25,26,2,null,"Nasce debito c/o Samuele SAVERIO # Fattura n. 12 del 25-02-2022 # 30 # F-01 # 25-02-2022",null,null,0,null,null,213.29,"D.02.01.22",60]
[26,26,2,null,"Ricevuta Fattura n. 1705/EL del 16/12/2021 MAI ANTINCENDIO",null,null,0,null,null,213.29,"S.03.01",32.57]
[26,26,2,null,"Nasce debito c/o MAI ANTINCENDIO # Fattura n. 1705/EL del 16-12-2021 # 31 # F-02 # 16-12-2021",null,null,0,null,null,213.29,"D.02.01.22",32.57]
[27,28,2,null,"Pagata Fatt.ENEL ENERGIAergia n. 419875 5303 del 06-02-2022 (Scala C - Civ. 22 - Cliente n.: ... 397) - bonifico",null,null,0,null,133.41,79.88,"S.04.01",{"$f":"IF(LEN(L178)>0,F178+G178+I178+J178,\"\")","v":133.41}]
[29,8,3,null,"Condomino01  # Versamento in conto quota 1° E 2° TRIM. 2022 - RIC. 48/B",352.9,null,352.9,null,null,79.88,"Q.01.01",{"$f":"IF(LEN(L179)>0,F179+G179+I179+J179,\"\")","v":352.9}]
[30,8,3,null,"Ricevuta e pagata Fatt. Italtecnica A/133/2022 del 02-02-2022 - Raccoglitori",null,8,344.9,null,null,79.88,"S.01.02",{"$f":"IF(LEN(L180)>0,F180+G180+I180+J180,\"\")","v":8}]
[31,8,3,null,"Da Cassa a Banca - bonifico Amministratore",null,344.9,0,{"$f":"G181","v":344.9},null,424.78,null,{"$f":"IF(LEN(L181)>0,F181+G181+I181+J181,\"\")","v":""}]
[32,9,3,null,"Saldo Fattura Samuele SAVERIO  n. 310 DEL 22-12-2021 - bonifico (€ 180,00)",null,null,0,null,60,364.78,"U.02.00",{"$f":"IF(LEN(L182)>0,F182+G182+I182+J182,\"\")","v":60}]
[32,9,3,null,"si riduce il debito c/o Samuele SAVERIO #18",null,null,0,null,null,364.78,"D.02.01.21",-60]
[32,9,3,null,"Registrazione Fiscale - Imponibile mod 770: F-01 # F # 310 # 22-12-2021 # 00",null,null,0,null,null,364.78,"H.P00.01",60]
[33,9,3,null,"Saldo Fattura Samuele SAVERIO  n. 311 DEL 22-12-2021 - bonifico (€ 180,00)",null,null,0,null,60,304.77999999999997,"U.02.00",{"$f":"IF(LEN(L185)>0,F185+G185+I185+J185,\"\")","v":60}]
[33,9,3,null,"si riduce il debito c/o Samuele SAVERIO #19",null,null,0,null,null,304.77999999999997,"D.02.01.21",-60]
[33,9,3,null,"Registrazione Fiscale - Imponibile mod 770: F-01 # F # 311 # 22-12-2021 # 00",null,null,0,null,null,304.77999999999997,"H.P00.01",60]
[34,9,3,null,"Saldo Fattura Samuele SAVERIO  n. 312 DEL 22-12-2021 - bonifico (€ 180,00)",null,null,0,null,60,244.78,"U.02.00",{"$f":"IF(LEN(L188)>0,F188+G188+I188+J188,\"\")","v":60}]
[34,9,3,null,"si riduce il debito c/o Samuele SAVERIO #20",null,null,0,null,null,244.78,"D.02.01.21",-60]
[37,9,3,null,"Registrazione Fiscale - Imponibile mod 770: F-01 # F # 312 # 22-12-2021 # 00",null,null,0,null,null,244.78,"H.P00.01",60]
[38,9,3,null,"Pagato debito v/s Fattura n. 1705/EL del 16/12/2021 MAI ANTINCENDIO -  bonifico",null,null,0,null,31.5,213.28,"U.02.00",31.5]
[38,9,3,null,"Si estingue il debito verso MAI ANTINCENDIO # 31",null,null,0,null,null,213.28,"D.02.01.21",-32.57]
[38,9,3,null,"Registrazione Fiscale - Imponibile mod 770: F-02 # F # 1705/EL/2021 # 16-12-2021 # 00",null,null,0,null,null,213.28,"H.P04.02",26.7]
[39,10,3,null,"F24 - Versameto R.A. su pagam.  Fattura n. 1705/EL del 16/12/2021 MAI ANTINCENDIO ",null,null,0,null,1.07,212.21,"U.04.00",1.07]
[39,10,3,null,"Registrazione Fiscale - Imposta mod 770: F-02 # F # 1705/EL/2021 # 16-12-2021# 00",null,null,0,null,null,212.21,"H.R04.02",1.07]
[40,10,3,null,"Condomino22  # Versamento tramite bonifico in conto quota 2022",null,null,0,163.21,null,375.42,"Q.01.22",{"$f":"IF(LEN(L196)>0,F196+G196+I196+J196,\"\")","v":163.21}]
[41,10,3,null,"Saldo Fattura Samuele SAVERIO  n. 1 DEL 28-01-2022 - bonifico (€ 205,00)",null,null,0,null,25,350.42,null,{"$f":"IF(LEN(L197)>0,F197+G197+I197+J197,\"\")","v":""}]
[41,10,3,null,"si riduce il debito c/o Samuele SAVERIO #23",null,null,0,null,null,350.42,"D.02.01.22",-25]
[41,10,3,null,"Registrazione Fiscale - Imponibile mod 770: F-01 # F #   1 # 28-01-2022 # 00",null,null,0,null,null,350.42,"H.P00.01",25]
[42,10,3,null,"Saldo Fattura Samuele SAVERIO  n. 10 DEL 25-02-2022 - bonifico (€ 205,00)",null,null,0,null,60,290.42,null,{"$f":"IF(LEN(L200)>0,F200+G200+I200+J200,\"\")","v":""}]
[42,10,3,null,"si riduce il debito c/o Samuele SAVERIO # 28",null,null,0,null,null,290.42,"D.02.01.22",-60]
[42,10,3,null,"Registrazione Fiscale - Imponibile mod 770: F-01 # F # 10 # 25-02-2022 # 00",null,null,0,null,null,290.42,"H.P00.01",60]
[43,10,3,null,"Saldo Fattura Samuele SAVERIO  n. 11 DEL  25-02-2022 - bonifico (€ 205,00)",null,null,0,null,60,230.42,null,{"$f":"IF(LEN(L203)>0,F203+G203+I203+J203,\"\")","v":""}]
[43,10,3,null,"si riduce il debito c/o Samuele SAVERIO # 29",null,null,0,null,null,230.42,"D.02.01.22",-60]
[43,10,3,null,"Registrazione Fiscale - Imponibile mod 770: F-01 # F # 11 # 25-02-2022 # 00",null,null,0,null,null,230.42,"H.P00.01",60]
[44,10,3,null,"Saldo Fattura Samuele SAVERIO  n. 12 DEL  25-02-2022 - bonifico (€ 205,00)",null,null,0,null,60,170.42,null,{"$f":"IF(LEN(L206)>0,F206+G206+I206+J206,\"\")","v":""}]
[44,10,3,null,"si riduce il debito c/o Samuele SAVERIO # 30",null,null,0,null,null,170.42,"D.02.01.22",-60]
[44,10,3,null,"Registrazione Fiscale - Imponibile mod 770: F-01 # F # 12 # 25-02-2022 # 00",null,null,0,null,null,170.42,"H.P00.01",60]
[45,21,4,null,"CONDOMINO04 S.R.L. # Versamento tramite bonifico a saldo ARRETRATI ESERCIZIO   2018",null,null,0,209.74,null,380.16,"Q.03.04",{"$f":"IF(LEN(L209)>0,F209+G209+I209+J209,\"\")","v":209.74}]
[45,21,4,null,"CONDOMINO04 S.R.L. # Versamento tramite bonifico in conto ARRETRATI ESERCIZIO   2019",null,null,0,290.26,null,670.42,"Q.03.04",{"$f":"IF(LEN(L210)>0,F210+G210+I210+J210,\"\")","v":290.26}]
[46,21,4,null,"CONDOMINO07 # Versamento tramite bonifico in conto quota esercizio in corso (2022)",null,null,0,250,null,920.42,"Q.01.07",{"$f":"IF(LEN(L211)>0,F211+G211+I211+J211,\"\")","v":250}]
[47,22,4,null,"acqusto da cartoleria MINERVA di registri e buste",null,null,0,null,null,920.42,"S.01.02",50]
[47,22,4,null,"Debito v/s Cartoleria MINERVA  # scontrino fiscale # 32 # C-02 # 22-04-2022",null,null,0,null,null,920.42,"D.02.03.22",50]
[48,1,5,null,"Pagamento debito a Cartoleria MINERVA  - Bonifico",null,null,0,null,50,870.42,null,{"$f":"IF(LEN(L214)>0,F214+G214+I214+J214,\"\")","v":""}]
[48,1,5,null,"Si estingue il debito v/s Cartoleria MINERVA  # 32",null,null,0,null,null,870.42,"D.02.03.22",-50]
[49,2,5,null,"Pagamento debito relativo a Fattura  3FO21025811  del 07-01-2021 a OTIR SERVIZI Srl - Bonifico",null,null,0,null,55.14,815.28,"U.02.00",55.14]
[49,2,5,null,"Si estingue il debito v/s OTIR SERVIZI Srl # 08",null,null,0,null,null,815.28,"D.02.01.21",-57.22]
[49,2,5,null,"Registrazione Fiscale - Imponibile mod 770: F-03 # F #  3FO21025811  # 07-01-2021 # 00",null,null,0,null,null,815.28,"H.P04.03",52.02]
[49,2,5,null,"Debito v/s ERARIO # R.A. su Fattura  3FO21025811  del 07-01-2021 di OTIR SERVIZI Srl # 33 # A-01 # 02-05-2022",null,null,0,null,null,815.28,"D.03.03.22",2.08]
[50,2,5,null,"F24-Vers. R.A. su Fattura  3FO21025811  del 07-01-2021 di OTIR SERVIZI Srl",null,null,0,null,2.08,813.2,"U.04.00",2.08]
[50,2,5,null,"Si estingue debito verso ERARIO # 33",null,null,0,null,null,813.2,"D.03.03.22",-2.08]
[50,2,5,null,"Registrazione Fiscale - Imposta mod 770: F-03 # F #  3FO21025811  # 07-01-2021 # 00",null,null,0,null,null,813.2,"H.R04.03",2.08]
[null,null,null,null,null,null,null,{"$f":"IF(A223<>\"\",IF(INDIRECT(ADDRESS(ROW()-1,8))=\"\",ROUND(SUM(INDIRECT(ADDRESS(ROW()-2,8)),F223,-G223),2),ROUND(SUM(INDIRECT(ADDRESS(ROW()-1,8)),F223,-G223),2)),\"\")","v":""},null,null,{"$f":"IF(A223<>\"\",IF(INDIRECT(ADDRESS(ROW()-1,11))=\"\",ROUND(SUM(INDIRECT(ADDRESS(ROW()-2,11)),I223,-J223),2),ROUND(SUM(INDIRECT(ADDRESS(ROW()-1,11)),I223,-J223),2)),\"\")","v":""},null,{"$f":"IF(LEN(L223)>0,F223+G223+I223+J223,\"\")","v":""}]
[null,null,null,null,null,null,null,"",null,null,"",null,""]
[null,null,null,null,null,null,null,"",null,null,"",null,""]
[null,null,null,null,null,null,null,"",null,null,"",null,""]
[null,null,null,null,null,null,null,"",null,null,"",null,""]
[null,null,null,null,null,null,null,"",null,null,"",null,""]
[null,null,null,null,null,null,null,"",null,null,"",null,""]
[null,null,null,null,null,null,null,"",null,null,"",null,""]
[null,null,null,null,null,null,null,"",null,null,"",null,""]
[null,null,null,null,null,null,null,"",null,null,"",null,""]
[null,null,null,null,null,null,null,"",null,null,"",null,""]
[null,null,null,null,null,null,null,"",null,null,"",null,""]
[null,null,null,null,null,null,null,"",null,null,"",null,""]
[null,null,null,null,null,null,null,"",null,null,"",null,""]
[null,null,null,null,null,null,null,"",null,null,"",null,""]
[null,null,null,null,null,null,null,"",null,null,"",null,""]
[null,null,null,null,null,null,null,"",null,null,"",null,""]
[null,null,null,null,null,null,null,"",null,null,"",null,""]
[null,null,null,null,null,null,null,"",null,null,"",null,""]
[null,null,null,null,null,null,null,"",null,null,"",null,""]
[null,null,null,null,null,null,null,"",null,null,"",null,""]
[null,null,null,null,null,null,null,"",null,null,"",null,""]
[null,null,null,null,null,null,null,"",null,null,"",null,""]
[null,null,null,null,null,null,null,"",null,null,"",null,""]
[null,null,null,null,null,null,null,"",null,null,"",null,""]
[null,null,null,null,null,null,null,"",null,null,"",null,""]
[null,null,null,null,null,null,null,"",null,null,"",null,""]
[null,null,null,null,null,null,null,"",null,null,"",null,""]
[null,null,null,null,null,null,null,"",null,null,"",null,""]
[null,null,null,null,null,null,null,"",null,null,"",null,""]
[null,null,null,null,null,null,null,"",null,null,"",null,""]
[null,null,null,null,null,null,null,"",null,null,"",null,""]
[null,null,null,null,null,null,null,"",null,null,"",null,""]
[null,null,null,null,null,null,null,"",null,null,"",null,""]
[null,null,null,null,null,null,null,"",null,null,"",null,""]
[null,null,null,null,null,null,null,"",null,null,"",null,""]
[null,null,null,null,null,null,null,"",null,null,"",null,""]
[null,null,null,null,null,null,null,"",null,null,"",null,""]
[null,null,null,null,null,null,null,"",null,null,"",null,""]
[null,null,null,null,null,null,null,"",null,null,"",null,""]
[null,null,null,null,null,null,null,"",null,null,"",null,""]
[null,null,null,null,null,null,null,"",null,null,"",null,""]
[null,null,null,null,null,null,null,"",null,null,"",null,""]
[null,null,null,null,null,null,null,"",null,null,"",null,""]
[null,null,null,null,null,null,null,"",null,null,"",null,""]
[null,null,null,null,null,null,null,"",null,null,"",null,""]
[null,null,null,null,null,null,null,"",null,null,"",null,""]
[null,null,null,null,null,null,null,"",null,null,"",null,""]
[null,null,null,null,null,null,null,"",null,null,"",null,""]
[null,null,null,null,null,null,null,"",null,null,"",null,""]
[null,null,null,null,null,null,null,"",null,null,"",null,""]
[null,null,null,null,null,null,null,"",null,null,"",null,""]
[null,null,null,null,null,null,null,"",null,null,"",null,""]
[null,null,null,null,null,null,null,"",null,null,"",null,""]
[null,null,null,null,null,null,null,"",null,null,"",null,""]
[null,null,null,null,null,null,null,"",null,null,"",null,""]
[null,null,null,null,null,null,null,"",null,null,"",null,""]
[null,null,null,null,null,null,null,"",null,null,"",null,""]
[null,null,null,null,null,null,null,"",null,null,"",null,""]
[null,null,null,null,null,null,null,"",null,null,"",null,""]
[null,null,null,null,null,null,null,{"$f":"IF(A283<>\"\",IF(INDIRECT(ADDRESS(ROW()-1,8))=\"\",ROUND(SUM(INDIRECT(ADDRESS(ROW()-2,8)),F283,-G283),2),ROUND(SUM(INDIRECT(ADDRESS(ROW()-1,8)),F283,-G283),2)),\"\")","v":""},null,null,"",null,""]
[null,null,null,null,null,null,null,"",null,null,{"$f":"IF(A284<>\"\",IF(INDIRECT(ADDRESS(ROW()-1,11))=\"\",ROUND(SUM(INDIRECT(ADDRESS(ROW()-2,11)),I284,-J284),2),ROUND(SUM(INDIRECT(ADDRESS(ROW()-1,11)),I284,-J284),2)),\"\")","v":""},null,""]
[null,null,null,null,null,null,null,"",null,null,"",null,""]
[null,null,null,null,null,null,null,"",null,null,"",null,""]
[null,null,null,null,null,null,null,"",null,null,"",null,{"$f":"IF(LEN(L287)>0,F287+G287+I287+J287,\"\")","v":""}]
[null,null,null,null,null,null,null,"",null,null,"",null,""]
[null,null,null,null,null,null,null,"",null,null,"",null,""]
[null,null,null,null,null,null,null,"",null,null,"",null,""]
[null,null,null,null,null,null,null,"",null,null,"",null,""]
[null,null,null,null,null,null,null,"",null,null,"",null,""]
[null,null,null,null,null,null,null,"",null,null,"",null,""]
[null,null,null,null,null,null,null,"",null,null,"",null,""]
[null,null,null,null,null,null,null,"",null,null,"",null,""]
[null,null,null,null,null,null,null,"",null,null,"",null,""]
[null,null,null,null,null,null,null,"",null,null,"",null,""]
[null,null,null,null,null,null,null,"",null,null,"",null,""]
[null,null,null,null,null,null,null,"",null,null,"",null,""]
[null,null,null,null,null,null,null,"",null,null,"",null,""]
[null,null,null,null,null,null,null,"",null,null,"",null,""]
[null,null,null,null,null,null,null,"",null,null,"",null,""]
[null,null,null,null,null,null,null,"",null,null,"",null,""]
[null,null,null,null,null,null,null,"",null,null,"",null,""]
[null,null,null,null,null,null,null,"",null,null,"",null,""]
[null,null,null,null,null,null,null,"",null,null,"",null,""]
[null,null,null,null,null,null,null,"",null,null,"",null,""]
[null,null,null,null,null,null,null,"",null,null,"",null,""]
[null,null,null,null,null,null,null,"",null,null,"",null,""]
[null,null,null,null,null,null,null,"",null,null,"",null,""]
[null,null,null,null,null,null,null,"",null,null,"",null,""]
[null,null,null,null,null,null,null,"",null,null,"",null,""]
[null,null,null,null,null,null,null,"",null,null,"",null,""]
[null,null,null,null,null,null,null,"",null,null,"",null,""]
[null,null,null,null,null,null,null,"",null,null,"",null,""]
[null,null,null,null,null,null,null,"",null,null,"",null,""]
[null,null,null,null,null,null,null,"",null,null,"",null,""]
[null,null,null,null,null,null,null,"",null,null,"",null,""]
[null,null,null,null,null,null,null,"",null,null,"",null,""]
[null,null,null,null,null,null,null,"",null,null,"",null,""]
[null,null,null,null,null,null,null,"",null,null,"",null,""]
[null,null,null,null,null,null,null,"",null,null,"",null,""]
[null,null,null,null,null,null,null,"",null,null,"",null,""]
[null,null,null,null,null,null,null,"",null,null,"",null,""]
[null,null,null,null,null,null,null,"",null,null,"",null,""]
[null,null,null,null,null,null,null,"",null,null,"",null,""]
[null,null,null,null,null,null,null,"",null,null,"",null,""]
[null,null,null,null,null,null,null,"",null,null,"",null,""]
[null,null,null,null,null,null,null,"",null,null,"",null,""]
[null,null,null,null,null,null,null,"",null,null,"",null,""]
[null,null,null,null,null,null,null,"",null,null,"",null,""]
[null,null,null,null,null,null,null,"",null,null,"",null,""]
[null,null,null,null,null,null,null,"",null,null,"",null,""]
[null,null,null,null,null,null,null,"",null,null,"",null,""]
[null,null,null,null,null,null,null,"",null,null,"",null,""]
[null,null,null,null,null,null,null,"",null,null,"",null,""]
[null,null,null,null,null,null,null,"",null,null,"",null,""]
[null,null,null,null,null,null,null,"",null,null,"",null,""]
[null,null,null,null,null,null,null,"",null,null,"",null,""]
[null,null,null,null,null,null,null,"",null,null,"",null,""]
[null,null,null,null,null,null,null,"",null,null,"",null,""]
[null,null,null,null,null,null,null,"",null,null,"",null,""]
[null,null,null,null,null,null,null,"",null,null,"",null,""]
[null,null,null,null,null,null,null,"",null,null,"",null,""]
[null,null,null,null,null,null,null,"",null,null,"",null,""]
[null,null,null,null,null,null,null,"",null,null,"",null,""]
[null,null,null,null,null,null,null,{"$f":"IF(A347<>\"\",IF(INDIRECT(ADDRESS(ROW()-1,8))=\"\",ROUND(SUM(INDIRECT(ADDRESS(ROW()-2,8)),F347,-G347),2),ROUND(SUM(INDIRECT(ADDRESS(ROW()-1,8)),F347,-G347),2)),\"\")","v":""},null,null,"",null,""]
[null,null,null,null,null,null,null,"",null,null,{"$f":"IF(A348<>\"\",IF(INDIRECT(ADDRESS(ROW()-1,11))=\"\",ROUND(SUM(INDIRECT(ADDRESS(ROW()-2,11)),I348,-J348),2),ROUND(SUM(INDIRECT(ADDRESS(ROW()-1,11)),I348,-J348),2)),\"\")","v":""},null,""]
[null,null,null,null,null,null,null,"",null,null,"",null,""]
[null,null,null,null,null,null,null,"",null,null,"",null,""]
[null,null,null,null,null,null,null,"",null,null,"",null,{"$f":"IF(LEN(L351)>0,F351+G351+I351+J351,\"\")","v":""}]
[null,null,null,null,null,null,null,"",null,null,"",null,""]
[null,null,null,null,null,null,null,"",null,null,"",null,""]
[null,null,null,null,null,null,null,"",null,null,"",null,""]
[null,null,null,null,null,null,null,"",null,null,"",null,""]
[null,null,null,null,null,null,null,"",null,null,"",null,""]
[null,null,null,null,null,null,null,"",null,null,"",null,""]
[null,null,null,null,null,null,null,"",null,null,"",null,""]
[null,null,null,null,null,null,null,"",null,null,"",null,""]
[null,null,null,null,null,null,null,"",null,null,"",null,""]
[null,null,null,null,null,null,null,"",null,null,"",null,""]
[null,null,null,null,null,null,null,"",null,null,"",null,""]
[null,null,null,null,null,null,null,"",null,null,"",null,""]
[null,null,null,null,null,null,null,"",null,null,"",null,""]
[null,null,null,null,null,null,null,"",null,null,"",null,""]
[null,null,null,null,null,null,null,"",null,null,"",null,""]
[null,null,null,null,null,null,null,"",null,null,"",null,""]
[null,null,null,null,null,null,null,"",null,null,"",null,""]
[null,null,null,null,null,null,null,"",null,null,"",null,""]
[null,null,null,null,null,null,null,"",null,null,"",null,""]
[null,null,null,null,null,null,null,"",null,null,"",null,""]
[null,null,null,null,null,null,null,"",null,null,"",null,""]
[null,null,null,null,null,null,null,"",null,null,"",null,""]
[null,null,null,null,null,null,null,"",null,null,"",null,""]
[null,null,null,null,null,null,null,"",null,null,"",null,""]
[null,null,null,null,null,null,null,"",null,null,"",null,""]
[null,null,null,null,null,null,null,"",null,null,"",null,""]
[null,null,null,null,null,null,null,"",null,null,"",null,""]
[null,null,null,null,null,null,null,"",null,null,"",null,""]
[null,null,null,null,null,null,null,"",null,null,"",null,""]
[null,null,null,null,null,null,null,"",null,null,"",null,""]
[null,null,null,null,null,null,null,"",null,null,"",null,""]
[null,null,null,null,null,null,null,"",null,null,"",null,""]
[null,null,null,null,null,null,null,"",null,null,"",null,""]
[null,null,null,null,null,null,null,"",null,null,"",null,""]
[null,null,null,null,null,null,null,"",null,null,"",null,""]
[null,null,null,null,null,null,null,"",null,null,"",null,""]
[null,null,null,null,null,null,null,"",null,null,"",null,""]
[null,null,null,null,null,null,null,"",null,null,"",null,""]
[null,null,null,null,null,null,null,"",null,null,"",null,""]
[null,null,null,null,null,null,null,"",null,null,"",null,""]
[null,null,null,null,null,null,null,"",null,null,"",null,""]
[null,null,null,null,null,null,null,"",null,null,"",null,""]
[null,null,null,null,null,null,null,"",null,null,"",null,""]
[null,null,null,null,null,null,null,"",null,null,"",null,""]
[null,null,null,null,null,null,null,"",null,null,"",null,""]
[null,null,null,null,null,null,null,"",null,null,"",null,""]
[null,null,null,null,null,null,null,"",null,null,"",null,""]
[null,null,null,null,null,null,null,"",null,null,"",null,""]
[null,null,null,null,null,null,null,"",null,null,"",null,""]
[null,null,null,null,null,null,null,"",null,null,"",null,""]
[null,null,null,null,null,null,null,"",null,null,"",null,""]
[null,null,null,null,null,null,null,"",null,null,"",null,""]
[null,null,null,null,null,null,null,"",null,null,"",null,""]
[null,null,null,null,null,null,null,"",null,null,"",null,""]
[null,null,null,null,null,null,null,"",null,null,"",null,""]
[null,null,null,null,null,null,null,"",null,null,"",null,""]
[null,null,null,null,null,null,null,"",null,null,"",null,""]
[null,null,null,null,null,null,null,"",null,null,"",null,""]
[null,null,null,null,null,null,null,"",null,null,"",null,""]
[null,null,null,null,null,null,null,{"$f":"IF(A411<>\"\",IF(INDIRECT(ADDRESS(ROW()-1,8))=\"\",ROUND(SUM(INDIRECT(ADDRESS(ROW()-2,8)),F411,-G411),2),ROUND(SUM(INDIRECT(ADDRESS(ROW()-1,8)),F411,-G411),2)),\"\")","v":""},null,null,"",null,""]
[null,null,null,null,null,null,null,"",null,null,{"$f":"IF(A412<>\"\",IF(INDIRECT(ADDRESS(ROW()-1,11))=\"\",ROUND(SUM(INDIRECT(ADDRESS(ROW()-2,11)),I412,-J412),2),ROUND(SUM(INDIRECT(ADDRESS(ROW()-1,11)),I412,-J412),2)),\"\")","v":""},null,""]
[null,null,null,null,null,null,null,"",null,null,"",null,""]
[null,null,null,null,null,null,null,"",null,null,"",null,""]
[null,null,null,null,null,null,null,"",null,null,"",null,{"$f":"IF(LEN(L415)>0,F415+G415+I415+J415,\"\")","v":""}]
[null,null,null,null,null,null,null,"",null,null,"",null,""]
[null,null,null,null,null,null,null,"",null,null,"",null,""]
[null,null,null,null,null,null,null,"",null,null,"",null,""]
[null,null,null,null,null,null,null,"",null,null,"",null,""]
[null,null,null,null,null,null,null,"",null,null,"",null,""]
[null,null,null,null,null,null,null,"",null,null,"",null,""]
[null,null,null,null,null,null,null,"",null,null,"",null,""]
[null,null,null,null,null,null,null,"",null,null,"",null,""]
[null,null,null,null,null,null,null,"",null,null,"",null,""]
[null,null,null,null,null,null,null,"",null,null,"",null,""]
[null,null,null,null,null,null,null,"",null,null,"",null,""]
[null,null,null,null,null,null,null,"",null,null,"",null,""]
[null,null,null,null,null,null,null,"",null,null,"",null,""]
[null,null,null,null,null,null,null,"",null,null,"",null,""]
[null,null,null,null,null,null,null,"",null,null,"",null,""]
[null,null,null,null,null,null,null,"",null,null,"",null,""]
[null,null,null,null,null,null,null,"",null,null,"",null,""]
[null,null,null,null,null,null,null,"",null,null,"",null,""]
[null,null,null,null,null,null,null,"",null,null,"",null,""]
[null,null,null,null,null,null,null,"",null,null,"",null,""]
[null,null,null,null,null,null,null,"",null,null,"",null,""]
[null,null,null,null,null,null,null,"",null,null,"",null,""]
[null,null,null,null,null,null,null,"",null,null,"",null,""]
[null,null,null,null,null,null,null,"",null,null,"",null,""]
[null,null,null,null,null,null,null,"",null,null,"",null,""]
[null,null,null,null,null,null,null,"",null,null,"",null,""]
[null,null,null,null,null,null,null,"",null,null,"",null,""]
[null,null,null,null,null,null,null,"",null,null,"",null,""]
[null,null,null,null,null,null,null,"",null,null,"",null,""]
[null,null,null,null,null,null,null,"",null,null,"",null,""]
[null,null,null,null,null,null,null,"",null,null,"",null,""]
[null,null,null,null,null,null,null,"",null,null,"",null,""]
[null,null,null,null,null,null,null,"",null,null,"",null,""]
[null,null,null,null,null,null,null,"",null,null,"",null,""]
[null,null,null,null,null,null,null,"",null,null,"",null,""]
[null,null,null,null,null,null,null,"",null,null,"",null,""]
[null,null,null,null,null,null,null,"",null,null,"",null,""]
[null,null,null,null,null,null,null,"",null,null,"",null,""]
[null,null,null,null,null,null,null,"",null,null,"",null,""]
[null,null,null,null,null,null,null,"",null,null,"",null,""]
[null,null,null,null,null,null,null,"",null,null,"",null,""]
[null,null,null,null,null,null,null,"",null,null,"",null,""]
[null,null,null,null,null,null,null,"",null,null,"",null,""]
[null,null,null,null,null,null,null,"",null,null,"",null,""]
[null,null,null,null,null,null,null,"",null,null,"",null,""]
[null,null,null,null,null,null,null,"",null,null,"",null,""]
[null,null,null,null,null,null,null,"",null,null,"",null,""]
[null,null,null,null,null,null,null,"",null,null,"",null,""]
[null,null,null,null,null,null,null,"",null,null,"",null,""]
[null,null,null,null,null,null,null,"",null,null,"",null,""]
[null,null,null,null,null,null,null,"",null,null,"",null,""]
[null,null,null,null,null,null,null,"",null,null,"",null,""]
[null,null,null,null,null,null,null,"",null,null,"",null,""]
[null,null,null,null,null,null,null,"",null,null,"",null,""]
[null,null,null,null,null,null,null,"",null,null,"",null,""]
[null,null,null,null,null,null,null,"",null,null,"",null,""]
[null,null,null,null,null,null,null,"",null,null,"",null,""]
[null,null,null,null,null,null,null,"",null,null,"",null,""]
[null,null,null,null,null,null,null,"",null,null,"",null,""]
[null,null,null,null,null,null,null,{"$f":"IF(A475<>\"\",IF(INDIRECT(ADDRESS(ROW()-1,8))=\"\",ROUND(SUM(INDIRECT(ADDRESS(ROW()-2,8)),F475,-G475),2),ROUND(SUM(INDIRECT(ADDRESS(ROW()-1,8)),F475,-G475),2)),\"\")","v":""},null,null,"",null,""]
[null,null,null,null,null,null,null,"",null,null,{"$f":"IF(A476<>\"\",IF(INDIRECT(ADDRESS(ROW()-1,11))=\"\",ROUND(SUM(INDIRECT(ADDRESS(ROW()-2,11)),I476,-J476),2),ROUND(SUM(INDIRECT(ADDRESS(ROW()-1,11)),I476,-J476),2)),\"\")","v":""},null,""]
[null,null,null,null,null,null,null,"",null,null,"",null,""]
[null,null,null,null,null,null,null,"",null,null,"",null,""]
[null,null,null,null,null,null,null,"",null,null,"",null,{"$f":"IF(LEN(L479)>0,F479+G479+I479+J479,\"\")","v":""}]
[null,null,null,null,null,null,null,"",null,null,"",null,""]
[null,null,null,null,null,null,null,"",null,null,"",null,""]
[null,null,null,null,null,null,null,"",null,null,"",null,""]
[null,null,null,null,null,null,null,"",null,null,"",null,""]
[null,null,null,null,null,null,null,"",null,null,"",null,""]
[null,null,null,null,null,null,null,"",null,null,"",null,""]
[null,null,null,null,null,null,null,"",null,null,"",null,""]
[null,null,null,null,null,null,null,"",null,null,"",null,""]
[null,null,null,null,null,null,null,"",null,null,"",null,""]
[null,null,null,null,null,null,null,"",null,null,"",null,""]
[null,null,null,null,null,null,null,"",null,null,"",null,""]
[null,null,null,null,null,null,null,"",null,null,"",null,""]
[null,null,null,null,null,null,null,"",null,null,"",null,""]
[null,null,null,null,null,null,null,"",null,null,"",null,""]
[null,null,null,null,null,null,null,"",null,null,"",null,""]
[null,null,null,null,null,null,null,"",null,null,"",null,""]
[null,null,null,null,null,null,null,"",null,null,"",null,""]
[null,null,null,null,null,null,null,"",null,null,"",null,""]
[null,null,null,null,null,null,null,"",null,null,"",null,""]
[null,null,null,null,null,null,null,"",null,null,"",null,""]
[null,null,null,null,null,null,null,"",null,null,"",null,""]
[null,null,null,null,null,null,null,"",null,null,"",null,""]
[null,null,null,null,null,null,null,"",null,null,"",null,""]
[null,null,null,null,null,null,null,"",null,null,"",null,""]
[null,null,null,null,null,null,null,"",null,null,"",null,""]
[null,null,null,null,null,null,null,"",null,null,"",null,""]
[null,null,null,null,null,null,null,"",null,null,"",null,""]
[null,null,null,null,null,null,null,"",null,null,"",null,""]
[null,null,null,null,null,null,null,"",null,null,"",null,""]
[null,null,null,null,null,null,null,"",null,null,"",null,""]
[null,null,null,null,null,null,null,"",null,null,"",null,""]
[null,null,null,null,null,null,null,"",null,null,"",null,""]
[null,null,null,null,null,null,null,"",null,null,"",null,""]
[null,null,null,null,null,null,null,"",null,null,"",null,""]
[null,null,null,null,null,null,null,"",null,null,"",null,""]
[null,null,null,null,null,null,null,"",null,null,"",null,""]
[null,null,null,null,null,null,null,"",null,null,"",null,""]
[null,null,null,null,null,null,null,"",null,null,"",null,""]
[null,null,null,null,null,null,null,"",null,null,"",null,""]
[null,null,null,null,null,null,null,"",null,null,"",null,""]
[null,null,null,null,null,null,null,"",null,null,"",null,""]
[null,null,null,null,null,null,null,"",null,null,"",null,""]
[null,null,null,null,null,null,null,"",null,null,"",null,""]
[null,null,null,null,null,null,null,"",null,null,"",null,""]
[null,null,null,null,null,null,null,"",null,null,"",null,""]
[null,null,null,null,null,null,null,"",null,null,"",null,""]
[null,null,null,null,null,null,null,"",null,null,"",null,""]
[null,null,null,null,null,null,null,"",null,null,"",null,""]
[null,null,null,null,null,null,null,"",null,null,"",null,""]
[null,null,null,null,null,null,null,"",null,null,"",null,""]
[null,null,null,null,null,null,null,"",null,null,"",null,""]
[null,null,null,null,null,null,null,"",null,null,"",null,""]
[null,null,null,null,null,null,null,"",null,null,"",null,""]
[null,null,null,null,null,null,null,"",null,null,"",null,""]
[null,null,null,null,null,null,null,"",null,null,"",null,""]
[null,null,null,null,null,null,null,"",null,null,"",null,""]
[null,null,null,null,null,null,null,"",null,null,"",null,""]
[null,null,null,null,null,null,null,"",null,null,"",null,""]
[null,null,null,null,null,null,null,"",null,null,"",null,""]
[null,null,null,null,null,null,null,{"$f":"IF(A539<>\"\",IF(INDIRECT(ADDRESS(ROW()-1,8))=\"\",ROUND(SUM(INDIRECT(ADDRESS(ROW()-2,8)),F539,-G539),2),ROUND(SUM(INDIRECT(ADDRESS(ROW()-1,8)),F539,-G539),2)),\"\")","v":""},null,null,"",null,""]
[null,null,null,null,null,null,null,"",null,null,{"$f":"IF(A540<>\"\",IF(INDIRECT(ADDRESS(ROW()-1,11))=\"\",ROUND(SUM(INDIRECT(ADDRESS(ROW()-2,11)),I540,-J540),2),ROUND(SUM(INDIRECT(ADDRESS(ROW()-1,11)),I540,-J540),2)),\"\")","v":""},null,""]
[null,null,null,null,null,null,null,"",null,null,"",null,""]
[null,null,null,null,null,null,null,"",null,null,"",null,""]
[null,null,null,null,null,null,null,"",null,null,"",null,{"$f":"IF(LEN(L543)>0,F543+G543+I543+J543,\"\")","v":""}]
[null,null,null,null,null,null,null,"",null,null,"",null,""]
[null,null,null,null,null,null,null,"",null,null,"",null,""]
[null,null,null,null,null,null,null,"",null,null,"",null,""]
[null,null,null,null,null,null,null,"",null,null,"",null,""]
[null,null,null,null,null,null,null,"",null,null,"",null,""]
[null,null,null,null,null,null,null,"",null,null,"",null,""]
[null,null,null,null,null,null,null,"",null,null,"",null,""]
[null,null,null,null,null,null,null,"",null,null,"",null,""]
[null,null,null,null,null,null,null,"",null,null,"",null,""]
[null,null,null,null,null,null,null,"",null,null,"",null,""]
[null,null,null,null,null,null,null,"",null,null,"",null,""]
[null,null,null,null,null,null,null,"",null,null,"",null,""]
[null,null,null,null,null,null,null,"",null,null,"",null,""]
[null,null,null,null,null,null,null,"",null,null,"",null,""]
[null,null,null,null,null,null,null,"",null,null,"",null,""]
[null,null,null,null,null,null,null,"",null,null,"",null,""]
[null,null,null,null,null,null,null,"",null,null,"",null,""]
[null,null,null,null,null,null,null,"",null,null,"",null,""]
[null,null,null,null,null,null,null,"",null,null,"",null,""]
[null,null,null,null,null,null,null,"",null,null,"",null,""]
[null,null,null,null,null,null,null,"",null,null,"",null,""]
[null,null,null,null,null,null,null,"",null,null,"",null,""]
[null,null,null,null,null,null,null,"",null,null,"",null,""]
[null,null,null,null,null,null,null,"",null,null,"",null,""]
[null,null,null,null,null,null,null,"",null,null,"",null,""]
[null,null,null,null,null,null,null,"",null,null,"",null,""]
[null,null,null,null,null,null,null,"",null,null,"",null,""]
[null,null,null,null,null,null,null,"",null,null,"",null,""]
[null,null,null,null,null,null,null,"",null,null,"",null,""]
[null,null,null,null,null,null,null,"",null,null,"",null,""]
[null,null,null,null,null,null,null,"",null,null,"",null,""]
[null,null,null,null,null,null,null,"",null,null,"",null,""]
[null,null,null,null,null,null,null,"",null,null,"",null,""]
[null,null,null,null,null,null,null,"",null,null,"",null,""]
[null,null,null,null,null,null,null,"",null,null,"",null,""]
[null,null,null,null,null,null,null,"",null,null,"",null,""]
[null,null,null,null,null,null,null,"",null,null,"",null,""]
[null,null,null,null,null,null,null,"",null,null,"",null,""]
[null,null,null,null,null,null,null,"",null,null,"",null,""]
[null,null,null,null,null,null,null,"",null,null,"",null,""]
[null,null,null,null,null,null,null,"",null,null,"",null,""]
[null,null,null,null,null,null,null,"",null,null,"",null,""]
[null,null,null,null,null,null,null,"",null,null,"",null,""]
[null,null,null,null,null,null,null,"",null,null,"",null,""]
[null,null,null,null,null,null,null,"",null,null,"",null,""]
[null,null,null,null,null,null,null,"",null,null,"",null,""]
[null,null,null,null,null,null,null,"",null,null,"",null,""]
[null,null,null,null,null,null,null,"",null,null,"",null,""]
[null,null,null,null,null,null,null,"",null,null,"",null,""]
[null,null,null,null,null,null,null,"",null,null,"",null,""]
[null,null,null,null,null,null,null,"",null,null,"",null,""]
[null,null,null,null,null,null,null,"",null,null,"",null,""]
[null,null,null,null,null,null,null,"",null,null,"",null,""]
[null,null,null,null,null,null,null,"",null,null,"",null,""]
[null,null,null,null,null,null,null,"",null,null,"",null,""]
[null,null,null,null,null,null,null,"",null,null,"",null,""]
[null,null,null,null,null,null,null,"",null,null,"",null,""]
[null,null,null,null,null,null,null,"",null,null,"",null,""]
[null,null,null,null,null,null,null,"",null,null,"",null,""]
[null,null,null,null,null,null,null,{"$f":"IF(A603<>\"\",IF(INDIRECT(ADDRESS(ROW()-1,8))=\"\",ROUND(SUM(INDIRECT(ADDRESS(ROW()-2,8)),F603,-G603),2),ROUND(SUM(INDIRECT(ADDRESS(ROW()-1,8)),F603,-G603),2)),\"\")","v":""},null,null,"",null,""]
[null,null,null,null,null,null,null,"",null,null,{"$f":"IF(A604<>\"\",IF(INDIRECT(ADDRESS(ROW()-1,11))=\"\",ROUND(SUM(INDIRECT(ADDRESS(ROW()-2,11)),I604,-J604),2),ROUND(SUM(INDIRECT(ADDRESS(ROW()-1,11)),I604,-J604),2)),\"\")","v":""},null,""]
[null,null,null,null,null,null,null,"",null,null,"",null,""]
[null,null,null,null,null,null,null,"",null,null,"",null,""]
[null,null,null,null,null,null,null,"",null,null,"",null,{"$f":"IF(LEN(L607)>0,F607+G607+I607+J607,\"\")","v":""}]
[null,null,null,null,null,null,null,"",null,null,"",null,""]
[null,null,null,null,null,null,null,"",null,null,"",null,""]
[null,null,null,null,null,null,null,"",null,null,"",null,""]
[null,null,null,null,null,null,null,"",null,null,"",null,""]
[null,null,null,null,null,null,null,"",null,null,"",null,""]
[null,null,null,null,null,null,null,"",null,null,"",null,""]
[null,null,null,null,null,null,null,"",null,null,"",null,""]
[null,null,null,null,null,null,null,"",null,null,"",null,""]
[null,null,null,null,null,null,null,"",null,null,"",null,""]
[null,null,null,null,null,null,null,"",null,null,"",null,""]
[null,null,null,null,null,null,null,"",null,null,"",null,""]
[null,null,null,null,null,null,null,"",null,null,"",null,""]
[null,null,null,null,null,null,null,"",null,null,"",null,""]
[null,null,null,null,null,null,null,"",null,null,"",null,""]
[null,null,null,null,null,null,null,"",null,null,"",null,""]
[null,null,null,null,null,null,null,"",null,null,"",null,""]
[null,null,null,null,null,null,null,"",null,null,"",null,""]
[null,null,null,null,null,null,null,"",null,null,"",null,""]
[null,null,null,null,null,null,null,"",null,null,"",null,""]
[null,null,null,null,null,null,null,"",null,null,"",null,""]
[null,null,null,null,null,null,null,"",null,null,"",null,""]
[null,null,null,null,null,null,null,"",null,null,"",null,""]
[null,null,null,null,null,null,null,"",null,null,"",null,""]
[null,null,null,null,null,null,null,"",null,null,"",null,""]
[null,null,null,null,null,null,null,"",null,null,"",null,""]
[null,null,null,null,null,null,null,"",null,null,"",null,""]
[null,null,null,null,null,null,null,"",null,null,"",null,""]
[null,null,null,null,null,null,null,"",null,null,"",null,""]
[null,null,null,null,null,null,null,"",null,null,"",null,""]
[null,null,null,null,null,null,null,"",null,null,"",null,""]
[null,null,null,null,null,null,null,"",null,null,"",null,""]
[null,null,null,null,null,null,null,"",null,null,"",null,""]
[null,null,null,null,null,null,null,"",null,null,"",null,""]
[null,null,null,null,null,null,null,"",null,null,"",null,""]
[null,null,null,null,null,null,null,"",null,null,"",null,""]
[null,null,null,null,null,null,null,"",null,null,"",null,""]
[null,null,null,null,null,null,null,"",null,null,"",null,""]
[null,null,null,null,null,null,null,"",null,null,"",null,""]
[null,null,null,null,null,null,null,"",null,null,"",null,""]
[null,null,null,null,null,null,null,"",null,null,"",null,""]
[null,null,null,null,null,null,null,"",null,null,"",null,""]
[null,null,null,null,null,null,null,"",null,null,"",null,""]
[null,null,null,null,null,null,null,"",null,null,"",null,""]
[null,null,null,null,null,null,null,"",null,null,"",null,""]
[null,null,null,null,null,null,null,"",null,null,"",null,""]
[null,null,null,null,null,null,null,"",null,null,"",null,""]
[null,null,null,null,null,null,null,"",null,null,"",null,""]
[null,null,null,null,null,null,null,"",null,null,"",null,""]
[null,null,null,null,null,null,null,"",null,null,"",null,""]
[null,null,null,null,null,null,null,"",null,null,"",null,""]
[null,null,null,null,null,null,null,"",null,null,"",null,""]
[null,null,null,null,null,null,null,"",null,null,"",null,""]
[null,null,null,null,null,null,null,"",null,null,"",null,""]
[null,null,null,null,null,null,null,"",null,null,"",null,""]
[null,null,null,null,null,null,null,"",null,null,"",null,""]
[null,null,null,null,null,null,null,"",null,null,"",null,""]
[null,null,null,null,null,null,null,"",null,null,"",null,""]
[null,null,null,null,null,null,null,"",null,null,"",null,""]
[null,null,null,null,null,null,null,"",null,null,"",null,""]
[null,null,null,null,null,null,null,{"$f":"IF(A667<>\"\",IF(INDIRECT(ADDRESS(ROW()-1,8))=\"\",ROUND(SUM(INDIRECT(ADDRESS(ROW()-2,8)),F667,-G667),2),ROUND(SUM(INDIRECT(ADDRESS(ROW()-1,8)),F667,-G667),2)),\"\")","v":""},null,null,"",null,""]
[null,null,null,null,null,null,null,"",null,null,{"$f":"IF(A668<>\"\",IF(INDIRECT(ADDRESS(ROW()-1,11))=\"\",ROUND(SUM(INDIRECT(ADDRESS(ROW()-2,11)),I668,-J668),2),ROUND(SUM(INDIRECT(ADDRESS(ROW()-1,11)),I668,-J668),2)),\"\")","v":""},null,""]
[null,null,null,null,null,null,null,"",null,null,"",null,""]
[null,null,null,null,null,null,null,"",null,null,"",null,""]
[null,null,null,null,null,null,null,"",null,null,"",null,{"$f":"IF(LEN(L671)>0,F671+G671+I671+J671,\"\")","v":""}]
[null,null,null,null,null,null,null,"",null,null,"",null,""]
[null,null,null,null,null,null,null,"",null,null,"",null,""]
[null,null,null,null,null,null,null,"",null,null,"",null,""]
[null,null,null,null,null,null,null,"",null,null,"",null,""]
[null,null,null,null,null,null,null,"",null,null,"",null,""]
[null,null,null,null,null,null,null,"",null,null,"",null,""]
[null,null,null,null,null,null,null,"",null,null,"",null,""]
[null,null,null,null,null,null,null,"",null,null,"",null,""]
[null,null,null,null,null,null,null,"",null,null,"",null,""]
[null,null,null,null,null,null,null,"",null,null,"",null,""]
[null,null,null,null,null,null,null,"",null,null,"",null,""]
[null,null,null,null,null,null,null,"",null,null,"",null,""]
[null,null,null,null,null,null,null,"",null,null,"",null,""]
[null,null,null,null,null,null,null,"",null,null,"",null,""]
[null,null,null,null,null,null,null,"",null,null,"",null,""]
[null,null,null,null,null,null,null,"",null,null,"",null,""]
[null,null,null,null,null,null,null,"",null,null,"",null,""]
[null,null,null,null,null,null,null,"",null,null,"",null,""]
[null,null,null,null,null,null,null,"",null,null,"",null,""]
[null,null,null,null,null,null,null,"",null,null,"",null,""]
[null,null,null,null,null,null,null,"",null,null,"",null,""]
[null,null,null,null,null,null,null,"",null,null,"",null,""]
[null,null,null,null,null,null,null,"",null,null,"",null,""]
[null,null,null,null,null,null,null,"",null,null,"",null,""]
[null,null,null,null,null,null,null,"",null,null,"",null,""]
[null,null,null,null,null,null,null,"",null,null,"",null,""]
[null,null,null,null,null,null,null,"",null,null,"",null,""]
[null,null,null,null,null,null,null,"",null,null,"",null,""]
[null,null,null,null,null,null,null,"",null,null,"",null,""]
[null,null,null,null,null,null,null,"",null,null,"",null,""]
[null,null,null,null,null,null,null,"",null,null,"",null,""]
[null,null,null,null,null,null,null,"",null,null,"",null,""]
[null,null,null,null,null,null,null,"",null,null,"",null,""]
[null,null,null,null,null,null,null,"",null,null,"",null,""]
[null,null,null,null,null,null,null,"",null,null,"",null,""]
[null,null,null,null,null,null,null,"",null,null,"",null,""]
[null,null,null,null,null,null,null,"",null,null,"",null,""]
[null,null,null,null,null,null,null,"",null,null,"",null,""]
[null,null,null,null,null,null,null,"",null,null,"",null,""]
[null,null,null,null,null,null,null,"",null,null,"",null,""]
[null,null,null,null,null,null,null,"",null,null,"",null,""]
[null,null,null,null,null,null,null,"",null,null,"",null,""]
[null,null,null,null,null,null,null,"",null,null,"",null,""]
[null,null,null,null,null,null,null,"",null,null,"",null,""]
[null,null,null,null,null,null,null,"",null,null,"",null,""]
[null,null,null,null,null,null,null,"",null,null,"",null,""]
[null,null,null,null,null,null,null,"",null,null,"",null,""]
[null,null,null,null,null,null,null,"",null,null,"",null,""]
[null,null,null,null,null,null,null,"",null,null,"",null,""]
[null,null,null,null,null,null,null,"",null,null,"",null,""]
[null,null,null,null,null,null,null,"",null,null,"",null,""]
[null,null,null,null,null,null,null,"",null,null,"",null,""]
[null,null,null,null,null,null,null,"",null,null,"",null,""]
[null,null,null,null,null,null,null,"",null,null,"",null,""]
[null,null,null,null,null,null,null,"",null,null,"",null,""]
[null,null,null,null,null,null,null,"",null,null,"",null,""]
[null,null,null,null,null,null,null,"",null,null,"",null,""]
[null,null,null,null,null,null,null,"",null,null,"",null,""]
[null,null,null,null,null,null,null,"",null,null,"",null,""]
[null,null,null,null,null,null,null,{"$f":"IF(A731<>\"\",IF(INDIRECT(ADDRESS(ROW()-1,8))=\"\",ROUND(SUM(INDIRECT(ADDRESS(ROW()-2,8)),F731,-G731),2),ROUND(SUM(INDIRECT(ADDRESS(ROW()-1,8)),F731,-G731),2)),\"\")","v":""},null,null,"",null,""]
[null,null,null,null,null,null,null,"",null,null,{"$f":"IF(A732<>\"\",IF(INDIRECT(ADDRESS(ROW()-1,11))=\"\",ROUND(SUM(INDIRECT(ADDRESS(ROW()-2,11)),I732,-J732),2),ROUND(SUM(INDIRECT(ADDRESS(ROW()-1,11)),I732,-J732),2)),\"\")","v":""},null,""]
[null,null,null,null,null,null,null,"",null,null,"",null,""]
[null,null,null,null,null,null,null,"",null,null,"",null,""]
[null,null,null,null,null,null,null,"",null,null,"",null,{"$f":"IF(LEN(L735)>0,F735+G735+I735+J735,\"\")","v":""}]
[null,null,null,null,null,null,null,"",null,null,"",null,""]
[null,null,null,null,null,null,null,"",null,null,"",null,""]
[null,null,null,null,null,null,null,"",null,null,"",null,""]
[null,null,null,null,null,null,null,"",null,null,"",null,""]
[null,null,null,null,null,null,null,"",null,null,"",null,""]
[null,null,null,null,null,null,null,"",null,null,"",null,""]
[null,null,null,null,null,null,null,"",null,null,"",null,""]
[null,null,null,null,null,null,null,"",null,null,"",null,""]
[null,null,null,null,null,null,null,"",null,null,"",null,""]
[null,null,null,null,null,null,null,"",null,null,"",null,""]
[null,null,null,null,null,null,null,"",null,null,"",null,""]
[null,null,null,null,null,null,null,"",null,null,"",null,""]
[null,null,null,null,null,null,null,"",null,null,"",null,""]
[null,null,null,null,null,null,null,"",null,null,"",null,""]
[null,null,null,null,null,null,null,"",null,null,"",null,""]
[null,null,null,null,null,null,null,"",null,null,"",null,""]
[null,null,null,null,null,null,null,"",null,null,"",null,""]
[null,null,null,null,null,null,null,"",null,null,"",null,""]
[null,null,null,null,null,null,null,"",null,null,"",null,""]
[null,null,null,null,null,null,null,"",null,null,"",null,""]
[null,null,null,null,null,null,null,"",null,null,"",null,""]
[null,null,null,null,null,null,null,"",null,null,"",null,""]
[null,null,null,null,null,null,null,"",null,null,"",null,""]
[null,null,null,null,null,null,null,"",null,null,"",null,""]
[null,null,null,null,null,null,null,"",null,null,"",null,""]
[null,null,null,null,null,null,null,"",null,null,"",null,""]
[null,null,null,null,null,null,null,"",null,null,"",null,""]
[null,null,null,null,null,null,null,"",null,null,"",null,""]
[null,null,null,null,null,null,null,"",null,null,"",null,""]
[null,null,null,null,null,null,null,"",null,null,"",null,""]
[null,null,null,null,null,null,null,"",null,null,"",null,""]
[null,null,null,null,null,null,null,"",null,null,"",null,""]
[null,null,null,null,null,null,null,"",null,null,"",null,""]
[null,null,null,null,null,null,null,"",null,null,"",null,""]
[null,null,null,null,null,null,null,"",null,null,"",null,""]
[null,null,null,null,null,null,null,"",null,null,"",null,""]
[null,null,null,null,null,null,null,"",null,null,"",null,""]
[null,null,null,null,null,null,null,"",null,null,"",null,""]
[null,null,null,null,null,null,null,"",null,null,"",null,""]
[null,null,null,null,null,null,null,"",null,null,"",null,""]
[null,null,null,null,null,null,null,"",null,null,"",null,""]
[null,null,null,null,null,null,null,"",null,null,"",null,""]
[null,null,null,null,null,null,null,"",null,null,"",null,""]
[null,null,null,null,null,null,null,"",null,null,"",null,""]
[null,null,null,null,null,null,null,"",null,null,"",null,""]
[null,null,null,null,null,null,null,"",null,null,"",null,""]
[null,null,null,null,null,null,null,"",null,null,"",null,""]
[null,null,null,null,null,null,null,"",null,null,"",null,""]
[null,null,null,null,null,null,null,"",null,null,"",null,""]
[null,null,null,null,null,null,null,"",null,null,"",null,""]
[null,null,null,null,null,null,null,"",null,null,"",null,""]
[null,null,null,null,null,null,null,"",null,null,"",null,""]
[null,null,null,null,null,null,null,"",null,null,"",null,""]
[null,null,null,null,null,null,null,"",null,null,"",null,""]
[null,null,null,null,null,null,null,"",null,null,"",null,""]
[null,null,null,null,null,null,null,"",null,null,"",null,""]
[null,null,null,null,null,null,null,"",null,null,"",null,""]
[null,null,null,null,null,null,null,"",null,null,"",null,""]
[null,null,null,null,null,null,null,"",null,null,"",null,""]
[null,null,null,null,null,null,null,{"$f":"IF(A795<>\"\",IF(INDIRECT(ADDRESS(ROW()-1,8))=\"\",ROUND(SUM(INDIRECT(ADDRESS(ROW()-2,8)),F795,-G795),2),ROUND(SUM(INDIRECT(ADDRESS(ROW()-1,8)),F795,-G795),2)),\"\")","v":""},null,null,"",null,""]
[null,null,null,null,null,null,null,"",null,null,{"$f":"IF(A796<>\"\",IF(INDIRECT(ADDRESS(ROW()-1,11))=\"\",ROUND(SUM(INDIRECT(ADDRESS(ROW()-2,11)),I796,-J796),2),ROUND(SUM(INDIRECT(ADDRESS(ROW()-1,11)),I796,-J796),2)),\"\")","v":""},null,""]
[null,null,null,null,null,null,null,"",null,null,"",null,""]
[null,null,null,null,null,null,null,"",null,null,"",null,""]
[null,null,null,null,null,null,null,"",null,null,"",null,{"$f":"IF(LEN(L799)>0,F799+G799+I799+J799,\"\")","v":""}]
[null,null,null,null,null,null,null,"",null,null,"",null,""]
[null,null,null,null,null,null,null,"",null,null,"",null,""]
[null,null,null,null,null,null,null,"",null,null,"",null,""]
[null,null,null,null,null,null,null,"",null,null,"",null,""]
[null,null,null,null,null,null,null,"",null,null,"",null,""]
[null,null,null,null,null,null,null,"",null,null,"",null,""]
[null,null,null,null,null,null,null,"",null,null,"",null,""]
[null,null,null,null,null,null,null,"",null,null,"",null,""]
[null,null,null,null,null,null,null,"",null,null,"",null,""]
[null,null,null,null,null,null,null,"",null,null,"",null,""]
[null,null,null,null,null,null,null,"",null,null,"",null,""]
[null,null,null,null,null,null,null,"",null,null,"",null,""]
[null,null,null,null,null,null,null,"",null,null,"",null,""]
[null,null,null,null,null,null,null,"",null,null,"",null,""]
[null,null,null,null,null,null,null,"",null,null,"",null,""]
[null,null,null,null,null,null,null,"",null,null,"",null,""]
[null,null,null,null,null,null,null,"",null,null,"",null,""]
[null,null,null,null,null,null,null,"",null,null,"",null,""]
[null,null,null,null,null,null,null,"",null,null,"",null,""]
[null,null,null,null,null,null,null,"",null,null,"",null,""]
[null,null,null,null,null,null,null,"",null,null,"",null,""]
[null,null,null,null,null,null,null,"",null,null,"",null,""]
[null,null,null,null,null,null,null,"",null,null,"",null,""]
[null,null,null,null,null,null,null,"",null,null,"",null,""]
[null,null,null,null,null,null,null,"",null,null,"",null,""]
[null,null,null,null,null,null,null,"",null,null,"",null,""]
[null,null,null,null,null,null,null,"",null,null,"",null,""]
[null,null,null,null,null,null,null,"",null,null,"",null,""]
[null,null,null,null,null,null,null,"",null,null,"",null,""]
[null,null,null,null,null,null,null,"",null,null,"",null,""]
[null,null,null,null,null,null,null,"",null,null,"",null,""]
[null,null,null,null,null,null,null,"",null,null,"",null,""]
[null,null,null,null,null,null,null,"",null,null,"",null,""]
[null,null,null,null,null,null,null,"",null,null,"",null,""]
[null,null,null,null,null,null,null,"",null,null,"",null,""]
[null,null,null,null,null,null,null,"",null,null,"",null,""]
[null,null,null,null,null,null,null,"",null,null,"",null,""]
[null,null,null,null,null,null,null,"",null,null,"",null,""]
[null,null,null,null,null,null,null,"",null,null,"",null,""]
[null,null,null,null,null,null,null,"",null,null,"",null,""]
[null,null,null,null,null,null,null,"",null,null,"",null,""]
[null,null,null,null,null,null,null,"",null,null,"",null,""]
[null,null,null,null,null,null,null,"",null,null,"",null,""]
[null,null,null,null,null,null,null,"",null,null,"",null,""]
[null,null,null,null,null,null,null,"",null,null,"",null,""]
[null,null,null,null,null,null,null,"",null,null,"",null,""]
[null,null,null,null,null,null,null,"",null,null,"",null,""]
[null,null,null,null,null,null,null,"",null,null,"",null,""]
[null,null,null,null,null,null,null,"",null,null,"",null,""]
[null,null,null,null,null,null,null,"",null,null,"",null,""]
[null,null,null,null,null,null,null,"",null,null,"",null,""]
[null,null,null,null,null,null,null,"",null,null,"",null,""]
[null,null,null,null,null,null,null,"",null,null,"",null,""]
[null,null,null,null,null,null,null,"",null,null,"",null,""]
[null,null,null,null,null,null,null,"",null,null,"",null,""]
[null,null,null,null,null,null,null,"",null,null,"",null,""]
[null,null,null,null,null,null,null,"",null,null,"",null,""]
[null,null,null,null,null,null,null,"",null,null,"",null,""]
[null,null,null,null,null,null,null,"",null,null,"",null,""]
[null,null,null,null,null,null,null,{"$f":"IF(A859<>\"\",IF(INDIRECT(ADDRESS(ROW()-1,8))=\"\",ROUND(SUM(INDIRECT(ADDRESS(ROW()-2,8)),F859,-G859),2),ROUND(SUM(INDIRECT(ADDRESS(ROW()-1,8)),F859,-G859),2)),\"\")","v":""},null,null,"",null,""]
[null,null,null,null,null,null,null,"",null,null,{"$f":"IF(A860<>\"\",IF(INDIRECT(ADDRESS(ROW()-1,11))=\"\",ROUND(SUM(INDIRECT(ADDRESS(ROW()-2,11)),I860,-J860),2),ROUND(SUM(INDIRECT(ADDRESS(ROW()-1,11)),I860,-J860),2)),\"\")","v":""},null,""]
[null,null,null,null,null,null,null,"",null,null,"",null,""]
[null,null,null,null,null,null,null,"",null,null,"",null,""]
[null,null,null,null,null,null,null,"",null,null,"",null,{"$f":"IF(LEN(L863)>0,F863+G863+I863+J863,\"\")","v":""}]
[null,null,null,null,null,null,null,"",null,null,"",null,""]
[null,null,null,null,null,null,null,"",null,null,"",null,""]
[null,null,null,null,null,null,null,"",null,null,"",null,""]
[null,null,null,null,null,null,null,"",null,null,"",null,""]
[null,null,null,null,null,null,null,"",null,null,"",null,""]
[null,null,null,null,null,null,null,"",null,null,"",null,""]
[null,null,null,null,null,null,null,"",null,null,"",null,""]
[null,null,null,null,null,null,null,"",null,null,"",null,""]
[null,null,null,null,null,null,null,"",null,null,"",null,""]
[null,null,null,null,null,null,null,"",null,null,"",null,""]
[null,null,null,null,null,null,null,"",null,null,"",null,""]
[null,null,null,null,null,null,null,"",null,null,"",null,""]
[null,null,null,null,null,null,null,"",null,null,"",null,""]
[null,null,null,null,null,null,null,"",null,null,"",null,""]
[null,null,null,null,null,null,null,"",null,null,"",null,""]
[null,null,null,null,null,null,null,"",null,null,"",null,""]
[null,null,null,null,null,null,null,"",null,null,"",null,""]
[null,null,null,null,null,null,null,"",null,null,"",null,""]
[null,null,null,null,null,null,null,"",null,null,"",null,""]
[null,null,null,null,null,null,null,"",null,null,"",null,""]
[null,null,null,null,null,null,null,"",null,null,"",null,""]
[null,null,null,null,null,null,null,"",null,null,"",null,""]
[null,null,null,null,null,null,null,"",null,null,"",null,""]
[null,null,null,null,null,null,null,"",null,null,"",null,""]
[null,null,null,null,null,null,null,"",null,null,"",null,""]
[null,null,null,null,null,null,null,"",null,null,"",null,""]
[null,null,null,null,null,null,null,"",null,null,"",null,""]
[null,null,null,null,null,null,null,"",null,null,"",null,""]
[null,null,null,null,null,null,null,"",null,null,"",null,""]
[null,null,null,null,null,null,null,"",null,null,"",null,""]
[null,null,null,null,null,null,null,"",null,null,"",null,""]
[null,null,null,null,null,null,null,"",null,null,"",null,""]
[null,null,null,null,null,null,null,"",null,null,"",null,""]
[null,null,null,null,null,null,null,"",null,null,"",null,""]
[null,null,null,null,null,null,null,"",null,null,"",null,""]
[null,null,null,null,null,null,null,"",null,null,"",null,""]
[null,null,null,null,null,null,null,"",null,null,"",null,""]
[null,null,null,null,null,null,null,"",null,null,"",null,""]
[null,null,null,null,null,null,null,"",null,null,"",null,""]
[null,null,null,null,null,null,null,"",null,null,"",null,""]
[null,null,null,null,null,null,null,"",null,null,"",null,""]
[null,null,null,null,null,null,null,"",null,null,"",null,""]
[null,null,null,null,null,null,null,"",null,null,"",null,""]
[null,null,null,null,null,null,null,"",null,null,"",null,""]
[null,null,null,null,null,null,null,"",null,null,"",null,""]
[null,null,null,null,null,null,null,"",null,null,"",null,""]
[null,null,null,null,null,null,null,"",null,null,"",null,""]
[null,null,null,null,null,null,null,"",null,null,"",null,""]
[null,null,null,null,null,null,null,"",null,null,"",null,""]
[null,null,null,null,null,null,null,"",null,null,"",null,""]
[null,null,null,null,null,null,null,"",null,null,"",null,""]
[null,null,null,null,null,null,null,"",null,null,"",null,""]
[null,null,null,null,null,null,null,"",null,null,"",null,""]
[null,null,null,null,null,null,null,"",null,null,"",null,""]
[null,null,null,null,null,null,null,"",null,null,"",null,""]
[null,null,null,null,null,null,null,"",null,null,"",null,""]
[null,null,null,null,null,null,null,"",null,null,"",null,""]
[null,null,null,null,null,null,null,"",null,null,"",null,""]
[null,null,null,null,null,null,null,"",null,null,"",null,""]
[null,null,null,null,null,null,null,{"$f":"IF(A923<>\"\",IF(INDIRECT(ADDRESS(ROW()-1,8))=\"\",ROUND(SUM(INDIRECT(ADDRESS(ROW()-2,8)),F923,-G923),2),ROUND(SUM(INDIRECT(ADDRESS(ROW()-1,8)),F923,-G923),2)),\"\")","v":""},null,null,"",null,""]
[null,null,null,null,null,null,null,"",null,null,{"$f":"IF(A924<>\"\",IF(INDIRECT(ADDRESS(ROW()-1,11))=\"\",ROUND(SUM(INDIRECT(ADDRESS(ROW()-2,11)),I924,-J924),2),ROUND(SUM(INDIRECT(ADDRESS(ROW()-1,11)),I924,-J924),2)),\"\")","v":""},null,""]
[null,null,null,null,null,null,null,"",null,null,"",null,""]
[null,null,null,null,null,null,null,"",null,null,"",null,""]
[null,null,null,null,null,null,null,"",null,null,"",null,{"$f":"IF(LEN(L927)>0,F927+G927+I927+J927,\"\")","v":""}]
[null,null,null,null,null,null,null,"",null,null,"",null,""]
[null,null,null,null,null,null,null,"",null,null,"",null,""]
[null,null,null,null,null,null,null,"",null,null,"",null,""]
[null,null,null,null,null,null,null,"",null,null,"",null,""]
[null,null,null,null,null,null,null,"",null,null,"",null,""]
[null,null,null,null,null,null,null,"",null,null,"",null,""]
[null,null,null,null,null,null,null,"",null,null,"",null,""]
[null,null,null,null,null,null,null,"",null,null,"",null,""]
[null,null,null,null,null,null,null,"",null,null,"",null,""]
[null,null,null,null,null,null,null,"",null,null,"",null,""]
[null,null,null,null,null,null,null,"",null,null,"",null,""]
[null,null,null,null,null,null,null,"",null,null,"",null,""]
[null,null,null,null,null,null,null,"",null,null,"",null,""]
[null,null,null,null,null,null,null,"",null,null,"",null,""]
[null,null,null,null,null,null,null,"",null,null,"",null,""]
[null,null,null,null,null,null,null,"",null,null,"",null,""]
[null,null,null,null,null,null,null,"",null,null,"",null,""]
[null,null,null,null,null,null,null,"",null,null,"",null,""]
[null,null,null,null,null,null,null,"",null,null,"",null,""]
[null,null,null,null,null,null,null,"",null,null,"",null,""]
[null,null,null,null,null,null,null,"",null,null,"",null,""]
[null,null,null,null,null,null,null,"",null,null,"",null,""]
[null,null,null,null,null,null,null,"",null,null,"",null,""]
[null,null,null,null,null,null,null,"",null,null,"",null,""]
[null,null,null,null,null,null,null,"",null,null,"",null,""]
[null,null,null,null,null,null,null,"",null,null,"",null,""]
[null,null,null,null,null,null,null,"",null,null,"",null,""]
[null,null,null,null,null,null,null,"",null,null,"",null,""]
[null,null,null,null,null,null,null,"",null,null,"",null,""]
[null,null,null,null,null,null,null,"",null,null,"",null,""]
[null,null,null,null,null,null,null,"",null,null,"",null,""]
[null,null,null,null,null,null,null,"",null,null,"",null,""]
[null,null,null,null,null,null,null,"",null,null,"",null,""]
[null,null,null,null,null,null,null,"",null,null,"",null,""]
[null,null,null,null,null,null,null,"",null,null,"",null,""]
[null,null,null,null,null,null,null,"",null,null,"",null,""]
[null,null,null,null,null,null,null,"",null,null,"",null,""]
[null,null,null,null,null,null,null,"",null,null,"",null,""]
[null,null,null,null,null,null,null,"",null,null,"",null,""]
[null,null,null,null,null,null,null,"",null,null,"",null,""]
[null,null,null,null,null,null,null,"",null,null,"",null,""]
[null,null,null,null,null,null,null,"",null,null,"",null,""]
[null,null,null,null,null,null,null,"",null,null,"",null,""]
[null,null,null,null,null,null,null,"",null,null,"",null,""]
[null,null,null,null,null,null,null,"",null,null,"",null,""]
[null,null,null,null,null,null,null,"",null,null,"",null,""]
[null,null,null,null,null,null,null,"",null,null,"",null,""]
[null,null,null,null,null,null,null,"",null,null,"",null,""]
[null,null,null,null,null,null,null,"",null,null,"",null,""]
[null,null,null,null,null,null,null,"",null,null,"",null,""]
[null,null,null,null,null,null,null,"",null,null,"",null,""]
[null,null,null,null,null,null,null,"",null,null,"",null,""]
[null,null,null,null,null,null,null,"",null,null,"",null,""]
[null,null,null,null,null,null,null,"",null,null,"",null,""]
[null,null,null,null,null,null,null,"",null,null,"",null,""]
[null,null,null,null,null,null,null,"",null,null,"",null,""]
[null,null,null,null,null,null,null,"",null,null,"",null,""]
[null,null,null,null,null,null,null,"",null,null,"",null,""]
[null,null,null,null,null,null,null,"",null,null,"",null,""]
[null,null,null,null,null,null,null,{"$f":"IF(A987<>\"\",IF(INDIRECT(ADDRESS(ROW()-1,8))=\"\",ROUND(SUM(INDIRECT(ADDRESS(ROW()-2,8)),F987,-G987),2),ROUND(SUM(INDIRECT(ADDRESS(ROW()-1,8)),F987,-G987),2)),\"\")","v":""},null,null,"",null,""]
[null,null,null,null,null,null,null,"",null,null,{"$f":"IF(A988<>\"\",IF(INDIRECT(ADDRESS(ROW()-1,11))=\"\",ROUND(SUM(INDIRECT(ADDRESS(ROW()-2,11)),I988,-J988),2),ROUND(SUM(INDIRECT(ADDRESS(ROW()-1,11)),I988,-J988),2)),\"\")","v":""},null,""]
[null,null,null,null,null,null,null,"",null,null,"",null,""]
[null,null,null,null,null,null,null,"",null,null,"",null,""]
[null,null,null,null,null,null,null,"",null,null,"",null,{"$f":"IF(LEN(L991)>0,F991+G991+I991+J991,\"\")","v":""}]
[null,null,null,null,null,null,null,"",null,null,"",null,""]
[null,null,null,null,null,null,null,"",null,null,"",null,""]
[null,null,null,null,null,null,null,"",null,null,"",null,""]
[null,null,null,null,null,null,null,"",null,null,"",null,""]
[null,null,null,null,null,null,null,"",null,null,"",null,""]
[null,null,null,null,null,null,null,"",null,null,"",null,""]
[null,null,null,null,null,null,null,"",null,null,"",null,""]
[null,null,null,null,null,null,null,"",null,null,"",null,""]
[null,null,null,null,null,null,null,"",null,null,"",null,""]
[null,null,null,null,null,null,null,"",null,null,"",null,""]
[null,null,null,null,null,null,null,"",null,null,"",null,""]
[null,null,null,null,null,null,null,"",null,null,"",null,""]
[null,null,null,null,null,null,null,"",null,null,"",null,""]
[null,null,null,null,null,null,null,"",null,null,"",null,""]
[null,null,null,null,null,null,null,"",null,null,"",null,""]
[null,null,null,null,null,null,null,"",null,null,"",null,""]
[null,null,null,null,null,null,null,"",null,null,"",null,""]
[null,null,null,null,null,null,null,"",null,null,"",null,""]
[null,null,null,null,null,null,null,"",null,null,"",null,""]
[null,null,null,null,null,null,null,"",null,null,"",null,""]
[null,null,null,null,null,null,null,"",null,null,"",null,""]
[null,null,null,null,null,null,null,"",null,null,"",null,""]
[null,null,null,null,null,null,null,"",null,null,"",null,""]
[null,null,null,null,null,null,null,"",null,null,"",null,""]
[null,null,null,null,null,null,null,"",null,null,"",null,""]
[null,null,null,null,null,null,null,"",null,null,"",null,""]
[null,null,null,null,null,null,null,"",null,null,"",null,""]
[null,null,null,null,null,null,null,"",null,null,"",null,""]
[null,null,null,null,null,null,null,"",null,null,"",null,""]
[null,null,null,null,null,null,null,"",null,null,"",null,""]
[null,null,null,null,null,null,null,"",null,null,"",null,""]
[null,null,null,null,null,null,null,"",null,null,"",null,""]
[null,null,null,null,null,null,null,"",null,null,"",null,""]
[null,null,null,null,null,null,null,"",null,null,"",null,""]
[null,null,null,null,null,null,null,"",null,null,"",null,""]
[null,null,null,null,null,null,null,"",null,null,"",null,""]
[null,null,null,null,null,null,null,"",null,null,"",null,""]
[null,null,null,null,null,null,null,"",null,null,"",null,""]
[null,null,null,null,null,null,null,"",null,null,"",null,""]
[null,null,null,null,null,null,null,"",null,null,"",null,""]
[null,null,null,null,null,null,null,"",null,null,"",null,""]
[null,null,null,null,null,null,null,"",null,null,"",null,""]
[null,null,null,null,null,null,null,"",null,null,"",null,""]
[null,null,null,null,null,null,null,"",null,null,"",null,""]
[null,null,null,null,null,null,null,"",null,null,"",null,""]
[null,null,null,null,null,null,null,"",null,null,"",null,""]
[null,null,null,null,null,null,null,"",null,null,"",null,""]
[null,null,null,null,null,null,null,"",null,null,"",null,""]
[null,null,null,null,null,null,null,"",null,null,"",null,""]
[null,null,null,null,null,null,null,"",null,null,"",null,""]
[null,null,null,null,null,null,null,"",null,null,"",null,""]
[null,null,null,null,null,null,null,"",null,null,"",null,""]
[null,null,null,null,null,null,null,"",null,null,"",null,""]
[null,null,null,null,null,null,null,"",null,null,"",null,""]
[null,null,null,null,null,null,null,"",null,null,"",null,""]
[null,null,null,null,null,null,null,"",null,null,"",null,""]
[null,null,null,null,null,null,null,"",null,null,"",null,""]
[null,null,null,null,null,null,null,"",null,null,"",null,""]
[null,null,null,null,null,null,null,"",null,null,"",null,""]
[null,null,null,null,null,null,null,{"$f":"IF(A1051<>\"\",IF(INDIRECT(ADDRESS(ROW()-1,8))=\"\",ROUND(SUM(INDIRECT(ADDRESS(ROW()-2,8)),F1051,-G1051),2),ROUND(SUM(INDIRECT(ADDRESS(ROW()-1,8)),F1051,-G1051),2)),\"\")","v":""},null,null,"",null,""]
[null,null,null,null,null,null,null,"",null,null,{"$f":"IF(A1052<>\"\",IF(INDIRECT(ADDRESS(ROW()-1,11))=\"\",ROUND(SUM(INDIRECT(ADDRESS(ROW()-2,11)),I1052,-J1052),2),ROUND(SUM(INDIRECT(ADDRESS(ROW()-1,11)),I1052,-J1052),2)),\"\")","v":""},null,""]
[null,null,null,null,null,null,null,"",null,null,"",null,""]
[null,null,null,null,null,null,null,"",null,null,"",null,""]
[null,null,null,null,null,null,null,"",null,null,"",null,{"$f":"IF(LEN(L1055)>0,F1055+G1055+I1055+J1055,\"\")","v":""}]
[null,null,null,null,null,null,null,"",null,null,"",null,""]
[null,null,null,null,null,null,null,"",null,null,"",null,""]
[null,null,null,null,null,null,null,"",null,null,"",null,""]
[null,null,null,null,null,null,null,"",null,null,"",null,""]
[null,null,null,null,null,null,null,"",null,null,"",null,""]
[null,null,null,null,null,null,null,"",null,null,"",null,""]
[null,null,null,null,null,null,null,"",null,null,"",null,""]
[null,null,null,null,null,null,null,"",null,null,"",null,""]
[null,null,null,null,null,null,null,"",null,null,"",null,""]
[null,null,null,null,null,null,null,"",null,null,"",null,""]
[null,null,null,null,null,null,null,"",null,null,"",null,""]
[null,null,null,null,null,null,null,"",null,null,"",null,""]
[null,null,null,null,null,null,null,"",null,null,"",null,""]
[null,null,null,null,null,null,null,"",null,null,"",null,""]
[null,null,null,null,null,null,null,"",null,null,"",null,""]
[null,null,null,null,null,null,null,"",null,null,"",null,""]
[null,null,null,null,null,null,null,"",null,null,"",null,""]
[null,null,null,null,null,null,null,"",null,null,"",null,""]
[null,null,null,null,null,null,null,"",null,null,"",null,""]
[null,null,null,null,null,null,null,"",null,null,"",null,""]
[null,null,null,null,null,null,null,"",null,null,"",null,""]
[null,null,null,null,null,null,null,"",null,null,"",null,""]
[null,null,null,null,null,null,null,"",null,null,"",null,""]
[null,null,null,null,null,null,null,"",null,null,"",null,""]
[null,null,null,null,null,null,null,"",null,null,"",null,""]
[null,null,null,null,null,null,null,"",null,null,"",null,""]
[null,null,null,null,null,null,null,"",null,null,"",null,""]
[null,null,null,null,null,null,null,"",null,null,"",null,""]
[null,null,null,null,null,null,null,"",null,null,"",null,""]
[null,null,null,null,null,null,null,"",null,null,"",null,""]
[null,null,null,null,null,null,null,"",null,null,"",null,""]
[null,null,null,null,null,null,null,"",null,null,"",null,""]
[null,null,null,null,null,null,null,"",null,null,"",null,""]
[null,null,null,null,null,null,null,"",null,null,"",null,""]
[null,null,null,null,null,null,null,"",null,null,"",null,""]
[null,null,null,null,null,null,null,"",null,null,"",null,""]
[null,null,null,null,null,null,null,"",null,null,"",null,""]
[null,null,null,null,null,null,null,"",null,null,"",null,""]
[null,null,null,null,null,null,null,"",null,null,"",null,""]
[null,null,null,null,null,null,null,"",null,null,"",null,""]
[null,null,null,null,null,null,null,"",null,null,"",null,""]
[null,null,null,null,null,null,null,"",null,null,"",null,""]
[null,null,null,null,null,null,null,"",null,null,"",null,""]
[null,null,null,null,null,null,null,"",null,null,"",null,""]
[null,null,null,null,null,null,null,"",null,null,"",null,""]
[null,null,null,null,null,null,null,"",null,null,"",null,""]
[null,null,null,null,null,null,null,"",null,null,"",null,""]
[null,null,null,null,null,null,null,"",null,null,"",null,""]
[null,null,null,null,null,null,null,"",null,null,"",null,""]
[null,null,null,null,null,null,null,"",null,null,"",null,""]
[null,null,null,null,null,null,null,"",null,null,"",null,""]
[null,null,null,null,null,null,null,"",null,null,"",null,""]
[null,null,null,null,null,null,null,"",null,null,"",null,""]
[null,null,null,null,null,null,null,"",null,null,"",null,""]
[null,null,null,null,null,null,null,"",null,null,"",null,""]
[null,null,null,null,null,null,null,"",null,null,"",null,""]
[null,null,null,null,null,null,null,"",null,null,"",null,""]
[null,null,null,null,null,null,null,"",null,null,"",null,""]
[null,null,null,null,null,null,null,"",null,null,"",null,""]
[null,null,null,null,null,null,null,{"$f":"IF(A1115<>\"\",IF(INDIRECT(ADDRESS(ROW()-1,8))=\"\",ROUND(SUM(INDIRECT(ADDRESS(ROW()-2,8)),F1115,-G1115),2),ROUND(SUM(INDIRECT(ADDRESS(ROW()-1,8)),F1115,-G1115),2)),\"\")","v":""},null,null,"",null,""]
[null,null,null,null,null,null,null,"",null,null,{"$f":"IF(A1116<>\"\",IF(INDIRECT(ADDRESS(ROW()-1,11))=\"\",ROUND(SUM(INDIRECT(ADDRESS(ROW()-2,11)),I1116,-J1116),2),ROUND(SUM(INDIRECT(ADDRESS(ROW()-1,11)),I1116,-J1116),2)),\"\")","v":""},null,""]
[null,null,null,null,null,null,null,"",null,null,"",null,""]
[null,null,null,null,null,null,null,"",null,null,"",null,""]
[null,null,null,null,null,null,null,"",null,null,"",null,{"$f":"IF(LEN(L1119)>0,F1119+G1119+I1119+J1119,\"\")","v":""}]
[null,null,null,null,null,null,null,"",null,null,"",null,""]
[null,null,null,null,null,null,null,"",null,null,"",null,""]
[null,null,null,null,null,null,null,"",null,null,"",null,""]
[null,null,null,null,null,null,null,"",null,null,"",null,""]
[null,null,null,null,null,null,null,"",null,null,"",null,""]
[null,null,null,null,null,null,null,"",null,null,"",null,""]
[null,null,null,null,null,null,null,"",null,null,"",null,""]
[null,null,null,null,null,null,null,"",null,null,"",null,""]
[null,null,null,null,null,null,null,"",null,null,"",null,""]
[null,null,null,null,null,null,null,"",null,null,"",null,""]
[null,null,null,null,null,null,null,"",null,null,"",null,""]
[null,null,null,null,null,null,null,"",null,null,"",null,""]
[null,null,null,null,null,null,null,"",null,null,"",null,""]
[null,null,null,null,null,null,null,"",null,null,"",null,""]
[null,null,null,null,null,null,null,"",null,null,"",null,""]
[null,null,null,null,null,null,null,"",null,null,"",null,""]
[null,null,null,null,null,null,null,"",null,null,"",null,""]
[null,null,null,null,null,null,null,"",null,null,"",null,""]
[null,null,null,null,null,null,null,"",null,null,"",null,""]
[null,null,null,null,null,null,null,"",null,null,"",null,""]
[null,null,null,null,null,null,null,"",null,null,"",null,""]
[null,null,null,null,null,null,null,"",null,null,"",null,""]
[null,null,null,null,null,null,null,"",null,null,"",null,""]
[null,null,null,null,null,null,null,"",null,null,"",null,""]
[null,null,null,null,null,null,null,"",null,null,"",null,""]
[null,null,null,null,null,null,null,"",null,null,"",null,""]
[null,null,null,null,null,null,null,"",null,null,"",null,""]
[null,null,null,null,null,null,null,"",null,null,"",null,""]
[null,null,null,null,null,null,null,"",null,null,"",null,""]
[null,null,null,null,null,null,null,"",null,null,"",null,""]
[null,null,null,null,null,null,null,"",null,null,"",null,""]
[null,null,null,null,null,null,null,"",null,null,"",null,""]
[null,null,null,null,null,null,null,"",null,null,"",null,""]
[null,null,null,null,null,null,null,"",null,null,"",null,""]
[null,null,null,null,null,null,null,"",null,null,"",null,""]
[null,null,null,null,null,null,null,"",null,null,"",null,""]
[null,null,null,null,null,null,null,"",null,null,"",null,""]
[null,null,null,null,null,null,null,"",null,null,"",null,""]
[null,null,null,null,null,null,null,"",null,null,"",null,""]
[null,null,null,null,null,null,null,"",null,null,"",null,""]
[null,null,null,null,null,null,null,"",null,null,"",null,""]
[null,null,null,null,null,null,null,"",null,null,"",null,""]
[null,null,null,null,null,null,null,"",null,null,"",null,""]
[null,null,null,null,null,null,null,"",null,null,"",null,""]
[null,null,null,null,null,null,null,"",null,null,"",null,""]
[null,null,null,null,null,null,null,"",null,null,"",null,""]
[null,null,null,null,null,null,null,"",null,null,"",null,""]
[null,null,null,null,null,null,null,"",null,null,"",null,""]
[null,null,null,null,null,null,null,"",null,null,"",null,""]
[null,null,null,null,null,null,null,"",null,null,"",null,""]
[null,null,null,null,null,null,null,"",null,null,"",null,""]
[null,null,null,null,null,null,null,"",null,null,"",null,""]
[null,null,null,null,null,null,null,"",null,null,"",null,""]
[null,null,null,null,null,null,null,"",null,null,"",null,""]
[null,null,null,null,null,null,null,"",null,null,"",null,""]
[null,null,null,null,null,null,null,"",null,null,"",null,""]
[null,null,null,null,null,null,null,"",null,null,"",null,""]
[null,null,null,null,null,null,null,"",null,null,"",null,""]
[null,null,null,null,null,null,null,"",null,null,"",null,""]
[null,null,null,null,null,null,null,{"$f":"IF(A1179<>\"\",IF(INDIRECT(ADDRESS(ROW()-1,8))=\"\",ROUND(SUM(INDIRECT(ADDRESS(ROW()-2,8)),F1179,-G1179),2),ROUND(SUM(INDIRECT(ADDRESS(ROW()-1,8)),F1179,-G1179),2)),\"\")","v":""},null,null,"",null,""]
[null,null,null,null,null,null,null,"",null,null,{"$f":"IF(A1180<>\"\",IF(INDIRECT(ADDRESS(ROW()-1,11))=\"\",ROUND(SUM(INDIRECT(ADDRESS(ROW()-2,11)),I1180,-J1180),2),ROUND(SUM(INDIRECT(ADDRESS(ROW()-1,11)),I1180,-J1180),2)),\"\")","v":""},null,""]
[null,null,null,null,null,null,null,"",null,null,"",null,""]
[null,null,null,null,null,null,null,"",null,null,"",null,""]
[null,null,null,null,null,null,null,"",null,null,"",null,{"$f":"IF(LEN(L1183)>0,F1183+G1183+I1183+J1183,\"\")","v":""}]
[null,null,null,null,null,null,null,"",null,null,"",null,""]
[null,null,null,null,null,null,null,"",null,null,"",null,""]
[null,null,null,null,null,null,null,"",null,null,"",null,""]
[null,null,null,null,null,null,null,"",null,null,"",null,""]
[null,null,null,null,null,null,null,"",null,null,"",null,""]
[null,null,null,null,null,null,null,"",null,null,"",null,""]
[null,null,null,null,null,null,null,"",null,null,"",null,""]
[null,null,null,null,null,null,null,"",null,null,"",null,""]
[null,null,null,null,null,null,null,"",null,null,"",null,""]
[null,null,null,null,null,null,null,"",null,null,"",null,""]
[null,null,null,null,null,null,null,"",null,null,"",null,""]
[null,null,null,null,null,null,null,"",null,null,"",null,""]
[null,null,null,null,null,null,null,"",null,null,"",null,""]
[null,null,null,null,null,null,null,"",null,null,"",null,""]
[null,null,null,null,null,null,null,"",null,null,"",null,""]
[null,null,null,null,null,null,null,"",null,null,"",null,""]
[null,null,null,null,null,null,null,"",null,null,"",null,""]
[null,null,null,null,null,null,null,"",null,null,"",null,""]
[null,null,null,null,null,null,null,"",null,null,"",null,""]
[null,null,null,null,null,null,null,"",null,null,"",null,""]
[null,null,null,null,null,null,null,"",null,null,"",null,""]
[null,null,null,null,null,null,null,"",null,null,"",null,""]
[null,null,null,null,null,null,null,"",null,null,"",null,""]
[null,null,null,null,null,null,null,"",null,null,"",null,""]
[null,null,null,null,null,null,null,"",null,null,"",null,""]
[null,null,null,null,null,null,null,"",null,null,"",null,""]
[null,null,null,null,null,null,null,"",null,null,"",null,""]
[null,null,null,null,null,null,null,"",null,null,"",null,""]
[null,null,null,null,null,null,null,"",null,null,"",null,""]
[null,null,null,null,null,null,null,"",null,null,"",null,""]
[null,null,null,null,null,null,null,"",null,null,"",null,""]
[null,null,null,null,null,null,null,"",null,null,"",null,""]
[null,null,null,null,null,null,null,"",null,null,"",null,""]
[null,null,null,null,null,null,null,"",null,null,"",null,""]
[null,null,null,null,null,null,null,"",null,null,"",null,""]
[null,null,null,null,null,null,null,"",null,null,"",null,""]
[null,null,null,null,null,null,null,"",null,null,"",null,""]
[null,null,null,null,null,null,null,"",null,null,"",null,""]
[null,null,null,null,null,null,null,"",null,null,"",null,""]
[null,null,null,null,null,null,null,"",null,null,"",null,""]
[null,null,null,null,null,null,null,"",null,null,"",null,""]
[null,null,null,null,null,null,null,"",null,null,"",null,""]
[null,null,null,null,null,null,null,"",null,null,"",null,""]
[null,null,null,null,null,null,null,"",null,null,"",null,""]
[null,null,null,null,null,null,null,"",null,null,"",null,""]
[null,null,null,null,null,null,null,"",null,null,"",null,""]
[null,null,null,null,null,null,null,"",null,null,"",null,""]
[null,null,null,null,null,null,null,"",null,null,"",null,""]
[null,null,null,null,null,null,null,"",null,null,"",null,""]
[null,null,null,null,null,null,null,"",null,null,"",null,""]
[null,null,null,null,null,null,null,"",null,null,"",null,""]
[null,null,null,null,null,null,null,"",null,null,"",null,""]
[null,null,null,null,null,null,null,"",null,null,"",null,""]
[null,null,null,null,null,null,null,"",null,null,"",null,""]
[null,null,null,null,null,null,null,"",null,null,"",null,""]
[null,null,null,null,null,null,null,"",null,null,"",null,""]
[null,null,null,null,null,null,null,"",null,null,"",null,""]
[null,null,null,null,null,null,null,"",null,null,"",null,""]
[null,null,null,null,null,null,null,"",null,null,"",null,""]
[null,null,null,null,null,null,null,{"$f":"IF(A1243<>\"\",IF(INDIRECT(ADDRESS(ROW()-1,8))=\"\",ROUND(SUM(INDIRECT(ADDRESS(ROW()-2,8)),F1243,-G1243),2),ROUND(SUM(INDIRECT(ADDRESS(ROW()-1,8)),F1243,-G1243),2)),\"\")","v":""},null,null,"",null,""]
[null,null,null,null,null,null,null,"",null,null,{"$f":"IF(A1244<>\"\",IF(INDIRECT(ADDRESS(ROW()-1,11))=\"\",ROUND(SUM(INDIRECT(ADDRESS(ROW()-2,11)),I1244,-J1244),2),ROUND(SUM(INDIRECT(ADDRESS(ROW()-1,11)),I1244,-J1244),2)),\"\")","v":""},null,""]
[null,null,null,null,null,null,null,"",null,null,"",null,""]
[null,null,null,null,null,null,null,"",null,null,"",null,""]
[null,null,null,null,null,null,null,"",null,null,"",null,{"$f":"IF(LEN(L1247)>0,F1247+G1247+I1247+J1247,\"\")","v":""}]
[null,null,null,null,null,null,null,"",null,null,"",null,""]
[null,null,null,null,null,null,null,"",null,null,"",null,""]
[null,null,null,null,null,null,null,"",null,null,"",null,""]
[null,null,null,null,null,null,null,"",null,null,"",null,""]
[null,null,null,null,null,null,null,"",null,null,"",null,""]
[null,null,null,null,null,null,null,"",null,null,"",null,""]
[null,null,null,null,null,null,null,"",null,null,"",null,""]
[null,null,null,null,null,null,null,"",null,null,"",null,""]
[null,null,null,null,null,null,null,"",null,null,"",null,""]
[null,null,null,null,null,null,null,"",null,null,"",null,""]
[null,null,null,null,null,null,null,"",null,null,"",null,""]
[null,null,null,null,null,null,null,"",null,null,"",null,""]
[null,null,null,null,null,null,null,"",null,null,"",null,""]
[null,null,null,null,null,null,null,"",null,null,"",null,""]
[null,null,null,null,null,null,null,"",null,null,"",null,""]
[null,null,null,null,null,null,null,"",null,null,"",null,""]
[null,null,null,null,null,null,null,"",null,null,"",null,""]
[null,null,null,null,null,null,null,"",null,null,"",null,""]
[null,null,null,null,null,null,null,"",null,null,"",null,""]
[null,null,null,null,null,null,null,"",null,null,"",null,""]
[null,null,null,null,null,null,null,"",null,null,"",null,""]
[null,null,null,null,null,null,null,"",null,null,"",null,""]
[null,null,null,null,null,null,null,"",null,null,"",null,""]
[null,null,null,null,null,null,null,"",null,null,"",null,""]
[null,null,null,null,null,null,null,"",null,null,"",null,""]
[null,null,null,null,null,null,null,"",null,null,"",null,""]
[null,null,null,null,null,null,null,"",null,null,"",null,""]
[null,null,null,null,null,null,null,"",null,null,"",null,""]
[null,null,null,null,null,null,null,"",null,null,"",null,""]
[null,null,null,null,null,null,null,"",null,null,"",null,""]
[null,null,null,null,null,null,null,"",null,null,"",null,""]
[null,null,null,null,null,null,null,"",null,null,"",null,""]
[null,null,null,null,null,null,null,"",null,null,"",null,""]
[null,null,null,null,null,null,null,"",null,null,"",null,""]
[null,null,null,null,null,null,null,"",null,null,"",null,""]
[null,null,null,null,null,null,null,"",null,null,"",null,""]
[null,null,null,null,null,null,null,"",null,null,"",null,""]
[null,null,null,null,null,null,null,"",null,null,"",null,""]
[null,null,null,null,null,null,null,"",null,null,"",null,""]
[null,null,null,null,null,null,null,"",null,null,"",null,""]
[null,null,null,null,null,null,null,"",null,null,"",null,""]
[null,null,null,null,null,null,null,"",null,null,"",null,""]
[null,null,null,null,null,null,null,"",null,null,"",null,""]
[null,null,null,null,null,null,null,"",null,null,"",null,""]
[null,null,null,null,null,null,null,"",null,null,"",null,""]
[null,null,null,null,null,null,null,"",null,null,"",null,""]
[null,null,null,null,null,null,null,"",null,null,"",null,""]
[null,null,null,null,null,null,null,"",null,null,"",null,""]
[null,null,null,null,null,null,null,"",null,null,"",null,""]
[null,null,null,null,null,null,null,"",null,null,"",null,""]
[null,null,null,null,null,null,null,"",null,null,"",null,""]
[null,null,null,null,null,null,null,"",null,null,"",null,""]
[null,null,null,null,null,null,null,"",null,null,"",null,""]
[null,null,null,null,null,null,null,"",null,null,"",null,""]
[null,null,null,null,null,null,null,"",null,null,"",null,""]
[null,null,null,null,null,null,null,"",null,null,"",null,""]
[null,null,null,null,null,null,null,"",null,null,"",null,""]
[null,null,null,null,null,null,null,"",null,null,"",null,""]
[null,null,null,null,null,null,null,"",null,null,"",null,""]
[null,null,null,null,null,null,null,{"$f":"IF(A1307<>\"\",IF(INDIRECT(ADDRESS(ROW()-1,8))=\"\",ROUND(SUM(INDIRECT(ADDRESS(ROW()-2,8)),F1307,-G1307),2),ROUND(SUM(INDIRECT(ADDRESS(ROW()-1,8)),F1307,-G1307),2)),\"\")","v":""},null,null,"",null,""]
[null,null,null,null,null,null,null,"",null,null,{"$f":"IF(A1308<>\"\",IF(INDIRECT(ADDRESS(ROW()-1,11))=\"\",ROUND(SUM(INDIRECT(ADDRESS(ROW()-2,11)),I1308,-J1308),2),ROUND(SUM(INDIRECT(ADDRESS(ROW()-1,11)),I1308,-J1308),2)),\"\")","v":""},null,""]
[null,null,null,null,null,null,null,"",null,null,"",null,""]
[null,null,null,null,null,null,null,"",null,null,"",null,""]
[null,null,null,null,null,null,null,"",null,null,"",null,{"$f":"IF(LEN(L1311)>0,F1311+G1311+I1311+J1311,\"\")","v":""}]
[null,null,null,null,null,null,null,"",null,null,"",null,""]
[null,null,null,null,null,null,null,"",null,null,"",null,""]
[null,null,null,null,null,null,null,"",null,null,"",null,""]
[null,null,null,null,null,null,null,"",null,null,"",null,""]
[null,null,null,null,null,null,null,"",null,null,"",null,""]
[null,null,null,null,null,null,null,"",null,null,"",null,""]
[null,null,null,null,null,null,null,"",null,null,"",null,""]
[null,null,null,null,null,null,null,"",null,null,"",null,""]
[null,null,null,null,null,null,null,"",null,null,"",null,""]
[null,null,null,null,null,null,null,"",null,null,"",null,""]
[null,null,null,null,null,null,null,"",null,null,"",null,""]
[null,null,null,null,null,null,null,"",null,null,"",null,""]
[null,null,null,null,null,null,null,"",null,null,"",null,""]
[null,null,null,null,null,null,null,"",null,null,"",null,""]
[null,null,null,null,null,null,null,"",null,null,"",null,""]
[null,null,null,null,null,null,null,"",null,null,"",null,""]
[null,null,null,null,null,null,null,"",null,null,"",null,""]
[null,null,null,null,null,null,null,"",null,null,"",null,""]
[null,null,null,null,null,null,null,"",null,null,"",null,""]
[null,null,null,null,null,null,null,"",null,null,"",null,""]
[null,null,null,null,null,null,null,"",null,null,"",null,""]
[null,null,null,null,null,null,null,"",null,null,"",null,""]
[null,null,null,null,null,null,null,"",null,null,"",null,""]
[null,null,null,null,null,null,null,"",null,null,"",null,""]
[null,null,null,null,null,null,null,"",null,null,"",null,""]
[null,null,null,null,null,null,null,"",null,null,"",null,""]
[null,null,null,null,null,null,null,"",null,null,"",null,""]
[null,null,null,null,null,null,null,"",null,null,"",null,""]
[null,null,null,null,null,null,null,"",null,null,"",null,""]
[null,null,null,null,null,null,null,"",null,null,"",null,""]
[null,null,null,null,null,null,null,"",null,null,"",null,""]
[null,null,null,null,null,null,null,"",null,null,"",null,""]
[null,null,null,null,null,null,null,"",null,null,"",null,""]
[null,null,null,null,null,null,null,"",null,null,"",null,""]
[null,null,null,null,null,null,null,"",null,null,"",null,""]
[null,null,null,null,null,null,null,"",null,null,"",null,""]
[null,null,null,null,null,null,null,"",null,null,"",null,""]
[null,null,null,null,null,null,null,"",null,null,"",null,""]
[null,null,null,null,null,null,null,"",null,null,"",null,""]
[null,null,null,null,null,null,null,"",null,null,"",null,""]
[null,null,null,null,null,null,null,"",null,null,"",null,""]
[null,null,null,null,null,null,null,"",null,null,"",null,""]
[null,null,null,null,null,null,null,"",null,null,"",null,""]
[null,null,null,null,null,null,null,"",null,null,"",null,""]
[null,null,null,null,null,null,null,"",null,null,"",null,""]
[null,null,null,null,null,null,null,"",null,null,"",null,""]
[null,null,null,null,null,null,null,"",null,null,"",null,""]
[null,null,null,null,null,null,null,"",null,null,"",null,""]
[null,null,null,null,null,null,null,"",null,null,"",null,""]
[null,null,null,null,null,null,null,"",null,null,"",null,""]
[null,null,null,null,null,null,null,"",null,null,"",null,""]
[null,null,null,null,null,null,null,"",null,null,"",null,""]
[null,null,null,null,null,null,null,"",null,null,"",null,""]
[null,null,null,null,null,null,null,"",null,null,"",null,""]
[null,null,null,null,null,null,null,"",null,null,"",null,""]
[null,null,null,null,null,null,null,"",null,null,"",null,""]
[null,null,null,null,null,null,null,"",null,null,"",null,""]
[null,null,null,null,null,null,null,"",null,null,"",null,""]
[null,null,null,null,null,null,null,"",null,null,"",null,""]
[null,null,null,null,null,null,null,{"$f":"IF(A1371<>\"\",IF(INDIRECT(ADDRESS(ROW()-1,8))=\"\",ROUND(SUM(INDIRECT(ADDRESS(ROW()-2,8)),F1371,-G1371),2),ROUND(SUM(INDIRECT(ADDRESS(ROW()-1,8)),F1371,-G1371),2)),\"\")","v":""},null,null,"",null,""]
[null,null,null,null,null,null,null,"",null,null,{"$f":"IF(A1372<>\"\",IF(INDIRECT(ADDRESS(ROW()-1,11))=\"\",ROUND(SUM(INDIRECT(ADDRESS(ROW()-2,11)),I1372,-J1372),2),ROUND(SUM(INDIRECT(ADDRESS(ROW()-1,11)),I1372,-J1372),2)),\"\")","v":""},null,""]
[null,null,null,null,null,null,null,"",null,null,"",null,""]
[null,null,null,null,null,null,null,"",null,null,"",null,""]
[null,null,null,null,null,null,null,"",null,null,"",null,{"$f":"IF(LEN(L1375)>0,F1375+G1375+I1375+J1375,\"\")","v":""}]
[null,null,null,null,null,null,null,"",null,null,"",null,""]
[null,null,null,null,null,null,null,"",null,null,"",null,""]
[null,null,null,null,null,null,null,"",null,null,"",null,""]
[null,null,null,null,null,null,null,"",null,null,"",null,""]
[null,null,null,null,null,null,null,"",null,null,"",null,""]
[null,null,null,null,null,null,null,"",null,null,"",null,""]
[null,null,null,null,null,null,null,"",null,null,"",null,""]
[null,null,null,null,null,null,null,"",null,null,"",null,""]
[null,null,null,null,null,null,null,"",null,null,"",null,""]
[null,null,null,null,null,null,null,"",null,null,"",null,""]
[null,null,null,null,null,null,null,"",null,null,"",null,""]
[null,null,null,null,null,null,null,"",null,null,"",null,""]
[null,null,null,null,null,null,null,"",null,null,"",null,""]
[null,null,null,null,null,null,null,"",null,null,"",null,""]
[null,null,null,null,null,null,null,"",null,null,"",null,""]
[null,null,null,null,null,null,null,"",null,null,"",null,""]
[null,null,null,null,null,null,null,"",null,null,"",null,""]
[null,null,null,null,null,null,null,"",null,null,"",null,""]
[null,null,null,null,null,null,null,"",null,null,"",null,""]
[null,null,null,null,null,null,null,"",null,null,"",null,""]
[null,null,null,null,null,null,null,"",null,null,"",null,""]
[null,null,null,null,null,null,null,"",null,null,"",null,""]
[null,null,null,null,null,null,null,"",null,null,"",null,""]
[null,null,null,null,null,null,null,"",null,null,"",null,""]
[null,null,null,null,null,null,null,"",null,null,"",null,""]
[null,null,null,null,null,null,null,"",null,null,"",null,""]
[null,null,null,null,null,null,null,"",null,null,"",null,""]
[null,null,null,null,null,null,null,"",null,null,"",null,""]
[null,null,null,null,null,null,null,"",null,null,"",null,""]
[null,null,null,null,null,null,null,"",null,null,"",null,""]
[null,null,null,null,null,null,null,"",null,null,"",null,""]
[null,null,null,null,null,null,null,"",null,null,"",null,""]
[null,null,null,null,null,null,null,"",null,null,"",null,""]
[null,null,null,null,null,null,null,"",null,null,"",null,""]
[null,null,null,null,null,null,null,"",null,null,"",null,""]
[null,null,null,null,null,null,null,"",null,null,"",null,""]
[null,null,null,null,null,null,null,"",null,null,"",null,""]
[null,null,null,null,null,null,null,"",null,null,"",null,""]
[null,null,null,null,null,null,null,"",null,null,"",null,""]
[null,null,null,null,null,null,null,"",null,null,"",null,""]
[null,null,null,null,null,null,null,"",null,null,"",null,""]
[null,null,null,null,null,null,null,"",null,null,"",null,""]
[null,null,null,null,null,null,null,"",null,null,"",null,""]
[null,null,null,null,null,null,null,"",null,null,"",null,""]
[null,null,null,null,null,null,null,"",null,null,"",null,""]
[null,null,null,null,null,null,null,"",null,null,"",null,""]
[null,null,null,null,null,null,null,"",null,null,"",null,""]
[null,null,null,null,null,null,null,"",null,null,"",null,""]
[null,null,null,null,null,null,null,"",null,null,"",null,""]
[null,null,null,null,null,null,null,"",null,null,"",null,""]
[null,null,null,null,null,null,null,"",null,null,"",null,""]
[null,null,null,null,null,null,null,"",null,null,"",null,""]
[null,null,null,null,null,null,null,"",null,null,"",null,""]
[null,null,null,null,null,null,null,"",null,null,"",null,""]
[null,null,null,null,null,null,null,"",null,null,"",null,""]
[null,null,null,null,null,null,null,"",null,null,"",null,""]
[null,null,null,null,null,null,null,"",null,null,"",null,""]
[null,null,null,null,null,null,null,"",null,null,"",null,""]
[null,null,null,null,null,null,null,"",null,null,"",null,""]
[null,null,null,null,null,null,null,{"$f":"IF(A1435<>\"\",IF(INDIRECT(ADDRESS(ROW()-1,8))=\"\",ROUND(SUM(INDIRECT(ADDRESS(ROW()-2,8)),F1435,-G1435),2),ROUND(SUM(INDIRECT(ADDRESS(ROW()-1,8)),F1435,-G1435),2)),\"\")","v":""},null,null,"",null,""]
[null,null,null,null,null,null,null,"",null,null,{"$f":"IF(A1436<>\"\",IF(INDIRECT(ADDRESS(ROW()-1,11))=\"\",ROUND(SUM(INDIRECT(ADDRESS(ROW()-2,11)),I1436,-J1436),2),ROUND(SUM(INDIRECT(ADDRESS(ROW()-1,11)),I1436,-J1436),2)),\"\")","v":""},null,""]
[null,null,null,null,null,null,null,"",null,null,"",null,""]
[null,null,null,null,null,null,null,"",null,null,"",null,""]
[null,null,null,null,null,null,null,"",null,null,"",null,{"$f":"IF(LEN(L1439)>0,F1439+G1439+I1439+J1439,\"\")","v":""}]
[null,null,null,null,null,null,null,"",null,null,"",null,""]
[null,null,null,null,null,null,null,"",null,null,"",null,""]
[null,null,null,null,null,null,null,"",null,null,"",null,""]
[null,null,null,null,null,null,null,"",null,null,"",null,""]
[null,null,null,null,null,null,null,"",null,null,"",null,""]
[null,null,null,null,null,null,null,"",null,null,"",null,""]
[null,null,null,null,null,null,null,"",null,null,"",null,""]
[null,null,null,null,null,null,null,"",null,null,"",null,""]
[null,null,null,null,null,null,null,"",null,null,"",null,""]
[null,null,null,null,null,null,null,"",null,null,"",null,""]
[null,null,null,null,null,null,null,"",null,null,"",null,""]
[null,null,null,null,null,null,null,"",null,null,"",null,""]
[null,null,null,null,null,null,null,"",null,null,"",null,""]
[null,null,null,null,null,null,null,"",null,null,"",null,""]
[null,null,null,null,null,null,null,"",null,null,"",null,""]
[null,null,null,null,null,null,null,"",null,null,"",null,""]
[null,null,null,null,null,null,null,"",null,null,"",null,""]
[null,null,null,null,null,null,null,"",null,null,"",null,""]
[null,null,null,null,null,null,null,"",null,null,"",null,""]
[null,null,null,null,null,null,null,"",null,null,"",null,""]
[null,null,null,null,null,null,null,"",null,null,"",null,""]
[null,null,null,null,null,null,null,"",null,null,"",null,{"$f":"IF(LEN(L1461)>0,F1461+G1461+I1461+J1461,\"\")","v":""}]
[null,null,null,null,null,null,null,"",null,null,"",null,{"$f":"IF(LEN(L1462)>0,F1462+G1462+I1462+J1462,\"\")","v":""}]
[null,null,null,null,null,null,null,"",null,null,"",null,{"$f":"IF(LEN(L1463)>0,F1463+G1463+I1463+J1463,\"\")","v":""}]
[null,null,null,null,null,null,null,"",null,null,"",null,{"$f":"IF(LEN(L1464)>0,F1464+G1464+I1464+J1464,\"\")","v":""}]
[null,null,null,null,null,null,null,"",null,null,"",null,{"$f":"IF(LEN(L1465)>0,F1465+G1465+I1465+J1465,\"\")","v":""}]
[0]
[]
[0]

{"sheet":"mR","index":47,"n_rows":27,"n_cols":21,"rows_kept":27,"cut":false,"hidden":true,"merged":[[11,10,11,12],[10,10,10,12],[13,4,13,5],[12,4,12,5],[26,8,26,22],[19,1,19,4],[19,9,19,19],[19,20,19,22],[21,1,21,4],[21,9,21,19],[21,20,21,22],[22,3,22,4],[22,17,22,19],[22,20,22,22],[24,9,24,15],[24,16,24,22],[20,1,20,4],[20,9,20,19],[20,20,20,22],[17,1,17,4],[17,9,17,19],[17,20,17,22],[18,1,18,4],[18,9,18,19],[18,20,18,22],[1,1,1,5],[1,7,25,7],[2,16,3,18],[2,19,3,21],[5,17,5,19],[8,1,8,5],[8,15,8,21],[9,1,10,5],[9,15,9,21],[10,15,10,21],[11,15,11,21],[13,10,13,21],[15,1,15,5],[16,1,16,4],[16,9,16,19],[16,20,16,22]]}
[]
[null,"MATRICE",null,null,null,null,null,"& ----------------------------------------------------------------------------------------------------------------------------",null,"Condominio"]
[null,null,null,null,null,null,null,null,null,"Condominio \"TERMICO\"",null,null,null,null,null,null,"RICEVUTA n."]
[null,"RICEVUTA",{"$f":"T3","v":0},null,null,null,null,null,null,"Via dei MILLE 22-30-38"]
[null,null,null,null,null,null,null,null,null,"88068 SOVERATO CZ"]
[null,"Data",{"$f":"R6","v":0},null,null,null,null,null,null,"C.F. 80000000796",null,null,null,null,null,null,"Data "]
[]
[]
[null,"Condomino",null,null,null,null,null,null,null,"Ricevute dal Condomino"]
[null,{"$f":"P9","v":0},null,null,null,null,null,null,null,"Unità immobiliare"]
[null,null,null,null,null,null,null,null,null,"Part.","Sub"]
[]
[null,{"$f":"J10","v":"Unità immobiliare"},{"$f":"J11","v":"Part."},null,{"$f":"K11","v":"Sub"}]
[null,null,{"$f":"J12","v":0},null,{"$f":"K12","v":0},null,null,null,null,"€"]
[]
[null,"CAUSALE",null,null,null,null,null,null,null,"per"]
[null,{"$f":"J17","v":0},null,null,null,{"$f":"U17","v":0}]
[null,0,null,null,null,0]
[null,0,null,null,null,0]
[null,0,null,null,null,0]
[null,0,null,null,null,0]
[null,0,null,null,null,0]
[null,null,null,"TOTALE",null,{"$f":"SUM(F17:F22)","v":0},null,null,null,null,null,null,null,null,null,null,null,"TOTALE RICEVUTO   ",null,null,{"$f":"SUM(U17:W22)","v":0}]
[]
[null,null,null,null,null,null,null,null,null,"firma dell'Amministratore",null,null,null,null,null,null,"La presente ricevuta viene rilasciata s.b.f. degli assegni e con riserva di esigere ogni altra somma che risultasse dovuta in seguito a rendiconto consuntivo, nuovi accertamenti, nuove delibere dell'Assemblea o rate pregresse non pagate."]
[]
["& ---------------------------------------------------------------------------------------------------------------------------------------",null,null,null,null,null,null,null,"&---------------------------------------------------------------------------------------------------------------------------------------------------------------------------------------"]

{"sheet":"mS","index":48,"n_rows":49,"n_cols":6,"rows_kept":49,"cut":false,"hidden":true,"merged":[[42,0,42,5],[0,0,0,5],[3,0,3,1],[3,2,3,5],[5,0,5,1],[5,2,5,5],[4,0,4,1],[2,0,2,1],[4,2,4,5],[2,3,2,4],[1,0,1,5],[7,5,13,5],[46,1,46,5],[47,1,47,5],[48,1,48,5],[6,0,6,1],[44,0,44,5],[6,3,6,4],[45,0,45,5],[7,0,7,2],[8,0,8,2],[9,0,9,2],[10,0,10,2],[11,0,11,2],[12,0,12,2],[13,0,13,2],[14,0,14,2],[43,0,43,5]]}
["CONDOMINIO"]
["SCHEDA CONTABILE SOGGETTO TENUTO A CONTRIBUIRE ALLE SPESE "]
["Soggetto",null,null,"Codice Soggetto"]
["Recapito"]
["Proprietari"]
["C.F. (Proprietari)"]
["Unità Immobiliare",null,null,"Codice Unità Immobiliare"]
["CAUSALI DEBITI/CREDITI NELL'ESERCIZIO",null,null,"A DEBITO\nSOGGETTO","A CREDITO\nSOGGETTO","SALDO\nTOTALE\nESERCIZIO"]
[]
[]
[]
[]
[]
[]
[null,null,null,{"$f":"SUM(D9:D14)","v":0},{"$f":"SUM(E9:E14)","v":0},{"$f":"E15-D15","v":0}]
["N.","DATA","OPERAZIONE CONTABILE","A DEBITO\nSOGGETTO","A CREDITO\nSOGGETTO","SALDO alla DATA"]
[null,null,null,null,null,{"$f":"IF(B17<>\"\",IF(F15>0,ROUND(-D17+E17+$F$15,2),ROUND(-D17+E17,2)),0)","v":0}]
[null,null,null,null,null,{"$f":"IF(B18<>\"\",ROUND(-D18+E18+F17,2),0)","v":0}]
[null,null,null,null,null,{"$f":"IF(B19<>\"\",ROUND(-D19+E19+F18,2),0)","v":0}]
[null,null,null,null,null,0]
[null,null,null,null,null,0]
[null,null,null,null,null,0]
[null,null,null,null,null,0]
[null,null,null,null,null,0]
[null,null,null,null,null,0]
[null,null,null,null,null,0]
[null,null,null,null,null,0]
[null,null,null,null,null,0]
[null,null,null,null,null,0]
[null,null,null,null,null,0]
[null,null,null,null,null,0]
[null,null,null,null,null,0]
[null,null,null,null,null,0]
[null,null,null,null,null,0]
[null,null,null,null,null,0]
[null,null,null,null,null,0]
[null,null,null,null,null,0]
[null,null,null,null,null,0]
[null,null,null,null,null,0]
[null,null,null,null,null,0]
[null,null,null,null,null,0]
[null,null,null,null,null,0]
[]
[]
["Il \"SALDO alla DATA\" è il saldo progressivo alla data dell'operazione contabile: positivo se è un credito del soggetto nei confronti del condominio, negativo se è un debito. \nI versamenti relativi a più causali sono riportati divisi in più operazioni contabili, ma tutte con la stessa data: la somma degli importi delle singole operazioni è il totale del versamento.\n"]
["I pagamenti delle quote dovute possono essere eseguiti secondo una delle seguenti modalità :"]
["·","[direttamente all’Amministratore in contanti o Assegno Bancario intestato a ]"]
["·","[tramite Bonifico  intestato a ]"]
["·","[tramite versamento su c.c.p. ]"]

{"sheet":"mB","index":49,"n_rows":24,"n_cols":68,"rows_kept":24,"cut":false,"hidden":true,"merged":[[18,1,18,19],[20,1,20,19],[22,63,22,65],[6,67,18,67],[7,1,7,29],[8,1,8,29],[10,1,10,29],[10,32,10,65],[11,1,11,29],[11,32,11,65],[13,1,13,19],[14,1,14,19],[16,1,16,19],[5,46,5,65],[2,1,3,2],[2,3,3,4],[2,32,3,33],[4,32,5,36],[5,10,5,29]]}
["\" ------------------------------------------------------------------------------------------------------------------------------------------------------------------------------------------------------------------------------------------------------------------------------------------------------------------------------------------------"]
[null,"CONTI CORRENTI POSTALI - Ricevuta di Versamento",null,null,null,null,null,null,null,null,null,null,null,null,null,null,null,null,null,null,null,null,null,null,null,"Banco Posta",null,null,null,null,null,null,"CONTI CORRENTI POSTALI - Ricevuta di Accredito",null,null,null,null,null,null,null,null,null,null,null,null,null,null,null,null,null,null,null,null,null,null,null,null,null,null,null,"Banco Posta"]
[null,"€",null,"sul\nC/C n.",null,null,null,null,null,null,null,null,null,null,null,null,null,null,null,null,null,null,null,null,null,null,null,null,null,null,null,null,"€"]
[null,null,null,null,null,{"$f":"IF(AN4<>\"\",AN4,\"\")","v":""},{"$f":"IF(AO4<>\"\",AO4,\"\")","v":""},1,1,4,2,7,8,6,4,7,1,null,null,"di Euro",{"$f":"IF(BE4<>\"\",BE4,\"\")","v":""},{"$f":"IF(BF4<>\"\",BF4,\"\")","v":""},"","","","","","","","",null,null,null,null,"sul C/C n.",null,null,null,null,null,null,1,1,4,2,7,8,6,4,7,1,null,"di Euro",null,null,""]
[null,null,null,null,null,null,null,null,null,null,null,null,null,null,null,null,null,null,null,null,null,null,null,null,null,null,null,null,null,null,null,null,"TD 123"]
[null,"IMPORTO IN LETTERE",null,null,null,null,null,null,null,null,{"$f":"IF(AU6<>\"\",AU6,\"\")","v":""},null,null,null,null,null,null,null,null,null,null,null,null,null,null,null,null,null,null,null,null,null,null,null,null,null,null,null,"IMPORTO IN LETTERE"]
[null,"INTESTATO A",null,null,null,null,null,null,null,null,null,null,null,null,null,null,null,null,null,null,null,null,null,null,null,null,null,null,null,null,null,null,"INTESTATO A",null,null,null,null,null,null,null,null,null,null,null,null,null,null,null,null,null,null,null,null,null,null,null,null,null,null,null,null,null,null,null,null,null,null,"Mod. CH 8 BIS - EP0934 - MOD. 12401 (EX W127902E) -St. (1c) Ed. 05"]
[null,"CONDOMINIO TERMICO - SOVERATO",null,null,null,null,null,null,null,null,null,null,null,null,null,null,null,null,null,null,null,null,null,null,null,null,null,null,null,null,null,null,"C","O","N","D","O","M","I","N","I","O"," ","T","E","R","M","I","C","O"," ","-"," ","S","O","V","E","R","A","T","O"]
[]
[null,"CAUSALE",null,null,null,null,null,null,null,null,null,null,null,null,null,null,null,null,null,null,null,null,null,null,null,null,null,null,null,null,null,null,"CAUSALE"]
[null,{"$f":"IF(AG11<>\"\",AG11,\"\")","v":""}]
[null,{"$f":"IF(AG12<>\"\",AG12,\"\")","v":""}]
[null,"ESEGUITO DA",null,null,null,null,null,null,null,null,null,null,null,null,null,null,null,null,null,null,null,null,null,null,null,null,null,null,null,null,null,null,null,null,null,null,null,null,null,null,null,null,null,null,"ESEGUITO DA"]
[]
[]
[null,"VIA-PIAZZA ",null,null,null,null,null,null,null,null,null,null,null,null,null,null,null,null,null,null,null,null,null,null,null,null,null,null,null,null,null,null,null,null,null,null,null,null,null,null,null,null,null,null,"VIA - PIAZZA"]
[]
[null,"CAP ",null,null,null,null,null,null,null,null,null,null,null,null,null,null,null,null,null,null,null,null,null,null,null,null,null,null,null,null,null,null,null,null,null,null,null,null,null,null,null,null,null,null,"CAP",null,null,null,null,null,"LOCALITÀ"]
[]
[null,"LOCALITÀ"]
[null,null,null,null,null,null,null,null,null,null,null,null,null,null,null,null,null,null,null,null,null,"BOLLO DELL'UFFICIO POSTALE",null,null,null,null,null,null,null,null,null,null,null,"BOLLO DELL'UFFICIO POSTALE",null,null,null,null,null,null,null,null,null,null,null,null,null,"IMPORTANTE NON SCRIVERE NELLA ZONA SOTTOSTANTE"]
[null,null,null,null,null,null,null,null,null,null,null,null,null,null,null,null,null,null,null,null,null,null,null,null,null,null,null,null,null,null,null,null,null,null,"codice bancoposta",null,null,null,null,null,null,null,null,null,null,null,null,null,null,null,null,null,"importo in euro",null,null,null,null,"numero conto",null,null,null,null,null,"tipo documento"]
[null,null,null,null,null,null,null,null,null,null,null,null,null,null,null,null,null,null,null,null,null,null,null,null,null,null,null,null,null,null,null,null,null,null,null,null,null,null,null,null,null,null,null,null,null,null,null,null,null,null,null,null,null,null,null,null,null,null,null,null,null,null,null,"123>"]
["\" ------------------------------------------------------------------------------------------------------------------------------------------------------------------------------------------------------------------------------------------------------------------------------------------------------------------------------------------------"]

{"sheet":"mCOPERTINA","index":50,"n_rows":50,"n_cols":3,"rows_kept":50,"cut":false,"hidden":true,"merged":[[49,1,50,8],[17,2,18,7],[37,1,37,8],[40,2,40,7],[43,1,44,8],[45,1,46,8],[47,1,48,8],[24,2,24,7],[16,3,16,5],[2,1,2,8],[3,1,3,8],[4,1,4,8],[5,1,5,8],[15,3,15,5]]}
[]
[null,"   "]
[null,"[Condominio]"]
[null,"[Indirizzo Condominio]\n"]
[null,"[Codice fiscale]"]
[]
[]
[]
[]
[]
[]
[]
[]
[]
[]
[]
[]
[]
[]
[]
[]
[]
[]
[]
[null,null,"GESTIONE SPECIALE SERVIZIO RISCALDAMENTO CENTRALIZZATO"]
[]
[]
[]
[]
[]
[]
[]
[]
[]
[]
[]
[]
[]
[]
[]
[]
[]
[]
[null,"[AMMINISTRATORE]"]
[]
[null,"[nome Amministratore]"]
[]
[null,"[Indirizzo Amministratore]"]
[]
[null,"[Recapiti telefonici]"]

{"sheet":"mLRPQC","index":51,"n_rows":62,"n_cols":34,"rows_kept":62,"cut":false,"hidden":true,"merged":[[61,2,61,14],[44,2,44,33],[46,2,46,33],[48,2,48,33],[53,6,53,11],[59,2,59,33],[50,24,50,29],[50,18,50,23],[50,6,50,17],[51,6,51,11],[52,6,52,11],[51,24,51,29],[52,24,52,29],[56,18,56,23],[54,6,54,11],[55,6,55,11],[40,2,40,28],[40,29,40,33],[41,2,41,28],[41,29,41,33],[42,2,42,27],[42,29,42,33],[37,2,37,28],[37,29,37,33],[38,2,38,28],[38,29,38,33],[39,2,39,28],[39,29,39,33],[36,2,36,28],[36,29,36,33],[12,18,12,28],[19,2,19,33],[26,26,26,33],[27,26,27,33],[33,4,33,33],[56,6,56,11],[51,12,51,17],[52,12,52,17],[53,12,53,17],[54,12,54,17],[55,12,55,17],[56,12,56,17],[51,18,51,23],[52,18,52,23],[53,18,53,23],[54,18,54,23],[55,18,55,23],[58,24,58,29],[57,24,57,29],[53,24,53,29],[54,24,54,29],[55,24,55,29],[56,24,56,29]]}
[null,"[Incaricato dell'Amministrazione]",null,null,null,null,null,null,null,null,null,null,null,null,null,null,null,null,null,null,null,null,null,null,null,null,null,null,null,null,null,null,null,"[Nome]"]
[null,"[Nome]",null,null,null,null,null,null,null,null,null,null,null,null,null,null,null,null,null,null,null,null,null,null,null,null,null,null,null,null,null,null,null,"[Indirizzo]\n"]
[null,"[Indirizzo amministratore]",null,null,null,null,null,null,null,null,null,null,null,null,null,null,null,null,null,null,null,null,null,null,null,null,null,null,null,null,null,null,null,"[e-mail condominio]"]
[null,"[cellulare amministratore]",null,null,null,null,null,null,null,null,null,null,null,null,null,null,null,null,null,null,null,null,null,null,null,null,null,null,null,null,null,null,null,"[numero c.c.p.]"]
[null,null,null,null,null,null,null,null,null,null,null,null,null,null,null,null,null,null,null,null,null,null,null,null,null,null,null,null,null,null,null,null,null,"[IBAN]"]
[null,null,null,null,null,null,null,null,null,null,null,null,null,null,null,null,null,null,null,null,null,null,null,null,null,null,null,null,null,null,null,null,null,"[C.F.]"]
[]
[]
[null,null,null,null,null,null,null,null,null,null,null,null,null,null,null,null,null,null,"[Gent.mi Sig.ri]"]
[null,null,null,null,null,null,null,null,null,null,null,null,null,null,null,null,null,null,"[Condomino - Colonna C]"]
[null,null,null,null,null,null,null,null,null,null,null,null,null,null,null,null,null,null,"[Colonna E o F]"]
[null,null,null,null,null,null,null,null,null,null,null,null,null,null,null,null,null,null,"[Colonna F o G+H+I]"]
[null,null,null,null,null,null,null,null,null,null,null,null,null,null,null,null,null,null,"[Colonna \"\" o G+H+I]"]
[null,null,null,null,null,null,null,null,null,null,null,null,null,null,null,null,null,null,"[millesimi]"]
[]
[]
[]
[]
[]
[null,null,"Con la presente si invia la ricevuta del pagamento di oneri condominiali da Lei effettuato, per il Servizio di Riscaldamento Condominiale."]
[]
[]
[]
[]
[]
[null,null,{"$f":"W2","v":0},null,null,null,null,null,null,null,null,null,null,null,null,null,null,null,null,null,null,null,null,null,"RICEVUTA"]
[null,null,{"$f":"W3","v":0},null,null,null,null,null,null,null,null,null,null,null,null,null,null,null,null,null,null,null,null,null,"n."]
[null,null,{"$f":"W4","v":0},null,null,null,null,null,null,null,null,null,null,null,null,null,null,null,null,null,null,null,null,null,"Data "]
[]
[]
[null,null,"Ricevuta da",null,null,null,null,null,null,null,null,{"$f":"S10","v":"[Condomino - Colonna C]"}]
[null,null,"la somma di "]
[]
[null,null,"€"]
[]
[null,null,"per"]
[]
[]
[]
[]
[]
[]
[null,null,"TOTALE SOMMA RICEVUTA",null,null,null,null,null,null,null,null,null,null,null,null,null,null,null,null,null,null,null,null,null,null,null,null,null,null,{"$f":"SUM(AD37:AE42)","v":0}]
[]
[null,null,"La presente ricevuta viene rilasciata s.b.f. degli assegni e con riserva di esigere ogni altra somma che risultasse dovuta in seguito a rendiconto consuntivo, nuovi accertamenti o nuove delibere dell'Assemblea."]
[]
[null,null,"La presente sostituisce ogni altra ricevuta provvisoria relativa allo stesso pagamento."]
[]
[null,null,"Quale utile promemoria si riporta un prospetto degli oneri condominiali ancora da versare nell'esercizio in corso:"]
[]
[null,null,null,null,null,null,"CAUSALE PAGAMENTO",null,null,null,null,null,null,null,null,null,null,null,"Scadenza",null,null,null,null,null,"Importo dovuto"]
[]
[]
[]
[]
[]
[]
[null,null,null,null,null,null,null,null,null,null,null,null,null,null,null,null,null,null,null,null,null,null,null,"Totale a suo debito  ",{"$f":"SUM(Y52:Y57)","v":0}]
[null,null,null,null,null,null,null,null,null,null,null,null,null,null,null,null,null,null,null,null,null,null,null,"Totale a suo credito "]
[]
[]
[null,null,"[Luogo e data]",null,null,null,null,null,null,null,null,null,null,null,null,null,null,null,null,null,null,null,null,null,"L'Amministratore"]

{"sheet":"mGENERICA","index":52,"n_rows":47,"n_cols":34,"rows_kept":47,"cut":false,"hidden":true,"merged":[[12,18,12,28],[46,2,46,14]]}
[null,"[Incaricato dell'Amministrazione]",null,null,null,null,null,null,null,null,null,null,null,null,null,null,null,null,null,null,null,null,null,null,null,null,null,null,null,null,null,null,null,"[Nome]"]
[null,"[Nome]",null,null,null,null,null,null,null,null,null,null,null,null,null,null,null,null,null,null,null,null,null,null,null,null,null,null,null,null,null,null,null,"[Indirizzo]\n"]
[null,"[Indirizzo amministratore]",null,null,null,null,null,null,null,null,null,null,null,null,null,null,null,null,null,null,null,null,null,null,null,null,null,null,null,null,null,null,null,"[e-mail condominio]"]
[null,"[cellulare amministratore]",null,null,null,null,null,null,null,null,null,null,null,null,null,null,null,null,null,null,null,null,null,null,null,null,null,null,null,null,null,null,null,"[numero c.c.p.]"]
[null,null,null,null,null,null,null,null,null,null,null,null,null,null,null,null,null,null,null,null,null,null,null,null,null,null,null,null,null,null,null,null,null,"[IBAN]"]
[null,null,null,null,null,null,null,null,null,null,null,null,null,null,null,null,null,null,null,null,null,null,null,null,null,null,null,null,null,null,null,null,null,"[C.F.]"]
[]
[]
[null,null,null,null,null,null,null,null,null,null,null,null,null,null,null,null,null,null,"[Gent.mi Sig.ri]"]
[null,null,null,null,null,null,null,null,null,null,null,null,null,null,null,null,null,null,"[Condomino (C) o Fruitore (O)]"]
[null,null,null,null,null,null,null,null,null,null,null,null,null,null,null,null,null,null,"[(E o F) o (Q o R)]"]
[null,null,null,null,null,null,null,null,null,null,null,null,null,null,null,null,null,null,"[Colonna F o G+H+I]"]
[null,null,null,null,null,null,null,null,null,null,null,null,null,null,null,null,null,null,"[Colonna \"\" o G+H+I]"]
[null,null,null,null,null,null,null,null,null,null,null,null,null,null,null,null,null,null,"[millesimi]"]
[]
[]
[]
[null,null,"OGGETTO: "]
[]
[null,null,"Con la presente si informa la S.V. di quanto segue:"]
[]
[]
[]
[]
[]
[]
[]
[]
[]
[]
[]
[]
[]
[]
[]
[]
[]
[]
[]
[]
[]
[]
[]
[]
[]
[]
[null,null,"[Luogo e data]",null,null,null,null,null,null,null,null,null,null,null,null,null,null,null,null,null,null,null,null,null,"L'Amministratore"]

{"sheet":"mSOLLECITO","index":53,"n_rows":52,"n_cols":34,"rows_kept":52,"cut":false,"hidden":true,"merged":[[51,2,51,14],[28,8,28,18],[28,19,28,24],[28,25,28,28],[29,8,29,18],[29,19,29,24],[29,25,29,28],[30,25,30,28],[32,2,33,33],[35,10,35,25],[36,10,36,25],[43,2,45,33],[26,8,26,18],[26,19,26,24],[26,25,26,28],[27,8,27,18],[27,19,27,24],[27,25,27,28],[24,8,24,18],[24,19,24,24],[24,25,24,28],[25,8,25,18],[25,19,25,24],[25,25,25,28],[12,18,12,28],[17,1,17,33],[19,2,21,33],[23,8,23,18],[23,19,23,24],[23,25,23,28]]}
[null,"[Incaricato dell'Amministrazione]",null,null,null,null,null,null,null,null,null,null,null,null,null,null,null,null,null,null,null,null,null,null,null,null,null,null,null,null,null,null,null,"[Nome]"]
[null,"[Nome]",null,null,null,null,null,null,null,null,null,null,null,null,null,null,null,null,null,null,null,null,null,null,null,null,null,null,null,null,null,null,null,"[Indirizzo]\n"]
[null,"[Indirizzo amministratore]",null,null,null,null,null,null,null,null,null,null,null,null,null,null,null,null,null,null,null,null,null,null,null,null,null,null,null,null,null,null,null,"[e-mail condominio]"]
[null,"[cellulare amministratore]",null,null,null,null,null,null,null,null,null,null,null,null,null,null,null,null,null,null,null,null,null,null,null,null,null,null,null,null,null,null,null,"[numero c.c.p.]"]
[null,null,null,null,null,null,null,null,null,null,null,null,null,null,null,null,null,null,null,null,null,null,null,null,null,null,null,null,null,null,null,null,null,"[IBAN]"]
[null,null,null,null,null,null,null,null,null,null,null,null,null,null,null,null,null,null,null,null,null,null,null,null,null,null,null,null,null,null,null,null,null,"[C.F.]"]
[]
[]
[null,null,null,null,null,null,null,null,null,null,null,null,null,null,null,null,null,null,"[Gent.mi Sig.ri]"]
[null,null,null,null,null,null,null,null,null,null,null,null,null,null,null,null,null,null,"[Condomino - Colonna C]"]
[null,null,null,null,null,null,null,null,null,null,null,null,null,null,null,null,null,null,"[Colonna E o F]"]
[null,null,null,null,null,null,null,null,null,null,null,null,null,null,null,null,null,null,"[Colonna F o G+H+I]"]
[null,null,null,null,null,null,null,null,null,null,null,null,null,null,null,null,null,null,"[Colonna \"\" o G+H+I]"]
[null,null,null,null,null,null,null,null,null,null,null,null,null,null,null,null,null,null,"[millesimi]"]
[]
[]
[]
[null,"OGGETTO: SOLLECITO DI PAGAMENTO CONTRIBUTI GESTIONE RISCALDAMENTO"]
[]
[null,null,"Alla data della presente, dalle risultanze dei libri contabili, si rileva una sua situazione debitoria nei confronti del condominio per contributi di sua spettanza non ancora pagati alle date di scadenza. Tale situazione è riassunta nel seguente prospetto:"]
[]
[]
[]
[null,null,null,null,null,null,null,null,"Causale",null,null,null,null,null,null,null,null,null,null,"Scadenza",null,null,null,null,null,"Importo"]
[]
[]
[]
[]
[]
[]
[null,null,null,null,null,null,null,null,null,null,null,null,null,null,null,null,null,null,null,null,null,null,null,null,"Totale euro",{"$f":"SUM(Z25:Z30)","v":0}]
[]
[null,null,"Dell'importo di cui sopra è da considerare in mora, in quanto sono trascorsi più di 90 giorni dalla data di scadenza dei relativi pagamenti, l'importo seguente"]
[]
[]
[null,null,null,null,null,null,null,null,null,null,"Importo debito in mora:"]
[]
[]
[null,null,"I pagamenti possono essere eseguiti secondo una delle seguenti modalità :"]
[null,null,"·","[direttamente all’Amministratore in contanti o Assegno Bancario intestato a ]"]
[null,null,"·","[tramite Bonifico  intestato a ]"]
[null,null,"·","[tramite versamento su c.c.p. ]"]
[]
[null,null,"Nel protrarsi della Sua inadempienza, per quanto concerne l'importo in mora, mi vedrò costretto a richiedere quanto dovuto mediante diffida con raccomadata R.R. e conseguente aggravio di spese a Suo carico, prima di dar corso alla procedura coattiva per la riscossione delle somme dovute."]
[]
[]
[]
[null,null,"Se nel frattempo Lei avesse già effettuato il pagamento, non tenga conto della presente."]
[]
[null,null,"In attesa di un pronto riscontro, porgo distinti saluti."]
[]
[null,null,"[Luogo e data]",null,null,null,null,null,null,null,null,null,null,null,null,null,null,null,null,null,null,null,null,null,"L'amministratore"]

{"sheet":"mRATE","index":54,"n_rows":53,"n_cols":34,"rows_kept":53,"cut":false,"hidden":true,"merged":[[52,2,52,14],[40,9,40,12],[40,13,40,20],[40,21,40,26],[41,9,41,20],[41,21,41,26],[47,2,48,33],[38,9,38,12],[38,13,38,20],[38,21,38,26],[39,9,39,12],[39,13,39,20],[39,21,39,26],[36,9,36,12],[36,13,36,20],[36,21,36,26],[37,9,37,12],[37,13,37,20],[37,21,37,26],[34,9,34,12],[34,13,34,20],[34,21,34,26],[35,9,35,12],[35,13,35,20],[35,21,35,26],[31,2,33,33],[12,18,12,28],[17,2,18,33],[19,2,19,33],[21,2,22,33],[23,29,23,33],[24,2,25,33],[26,29,26,33],[27,29,27,33],[28,29,28,33],[29,29,29,33],[30,29,30,33]]}
[null,"[Incaricato dell'Amministrazione]",null,null,null,null,null,null,null,null,null,null,null,null,null,null,null,null,null,null,null,null,null,null,null,null,null,null,null,null,null,null,null,"[Nome]"]
[null,"[Nome]",null,null,null,null,null,null,null,null,null,null,null,null,null,null,null,null,null,null,null,null,null,null,null,null,null,null,null,null,null,null,null,"[Indirizzo]\n"]
[null,"[Indirizzo amministratore]",null,null,null,null,null,null,null,null,null,null,null,null,null,null,null,null,null,null,null,null,null,null,null,null,null,null,null,null,null,null,null,"[e-mail condominio]"]
[null,"[cellulare amministratore]",null,null,null,null,null,null,null,null,null,null,null,null,null,null,null,null,null,null,null,null,null,null,null,null,null,null,null,null,null,null,null,"[numero c.c.p.]"]
[null,null,null,null,null,null,null,null,null,null,null,null,null,null,null,null,null,null,null,null,null,null,null,null,null,null,null,null,null,null,null,null,null,"[IBAN]"]
[null,null,null,null,null,null,null,null,null,null,null,null,null,null,null,null,null,null,null,null,null,null,null,null,null,null,null,null,null,null,null,null,null,"[C.F.]"]
[]
[]
[null,null,null,null,null,null,null,null,null,null,null,null,null,null,null,null,null,null,"[Gent.mi Sig.ri]"]
[null,null,null,null,null,null,null,null,null,null,null,null,null,null,null,null,null,null,"[Condomino - Colonna C]"]
[null,null,null,null,null,null,null,null,null,null,null,null,null,null,null,null,null,null,"[Colonna E o F]"]
[null,null,null,null,null,null,null,null,null,null,null,null,null,null,null,null,null,null,"[Colonna F o G+H+I]"]
[null,null,null,null,null,null,null,null,null,null,null,null,null,null,null,null,null,null,"[Colonna \"\" o G+H+I]"]
[null,null,null,null,null,null,null,null,null,null,null,null,null,null,null,null,null,null,"[millesimi]"]
[]
[]
[]
[null,null,"OGGETTO: SITUAZIONE CONTABILE e RATEIZZAZIONE DEI CONTRIBUTI CONDOMINIALI PER L'ESERCIZIO 2021-2022 (RISCALDAMENTO CENTRALIZZATO)"]
[]
[null,null,"(Bilancio preventivo in corso di approvazione)"]
[]
[null,null,"Dal prospetto di ripartizione delle spese preventivate per l'esercizio 2021-2022 risulta a suo carico un contributo di esercizio pari a "]
[]
[null,null,null,null,null,null,null,null,null,null,null,null,null,null,null,null,null,null,null,null,null,null,null,null,null,null,"euro"]
[null,null,"Dal prospetto di ripartizione del rendiconto consuntivo relativo all' esercizio precedente risulta un conguaglio"]
[]
[null,null,"a suo debito",null,null,null,null,null,null,null,null,null,null,null,null,null,null,null,null,null,null,null,null,null,null,null,"euro"]
[null,null,"a suo credito",null,null,null,null,null,null,null,null,null,null,null,null,null,null,null,null,null,null,null,null,null,null,null,"euro"]
[null,null,"Pertanto l'ammontare dovuto è pari a ",null,null,null,null,null,null,null,null,null,null,null,null,null,null,null,null,null,null,null,null,null,null,null,"euro",null,null,{"$f":"AD24+AD27-AD28","v":0}]
[null,null,"Risultano ancora delle quote arretrate non versate per ",null,null,null,null,null,null,null,null,null,null,null,null,null,null,null,null,null,null,null,null,null,null,null,"euro"]
[null,null,"Totale dovuto",null,null,null,null,null,null,null,null,null,null,null,null,null,null,null,null,null,null,null,null,null,null,null,"euro",null,null,{"$f":"AD29+AD30","v":0}]
[null,null,"Il versamento di tale importo può essere frazionato per come riportato nel sottostante prospetto, con le relative scadenze. Il prospetto non tiene conto di eventuali versamenti effettuati dopo il primo gennaio dell'esercizio in corso."]
[]
[]
[null,null,null,null,null,null,null,null,null,"Rata",null,null,null,"Scad.",null,null,null,null,null,null,null,"Importo"]
[null,null,null,null,null,null,null,null,null,"Arretrati"]
[null,null,null,null,null,null,null,null,null,"Conguaglio"]
[null,null,null,null,null,null,null,null,null,"1a"]
[null,null,null,null,null,null,null,null,null,"2a"]
[null,null,null,null,null,null,null,null,null,"3a"]
[null,null,null,null,null,null,null,null,null,"4a"]
[null,null,null,null,null,null,null,null,null,"Totale euro",null,null,null,null,null,null,null,null,null,null,null,{"$f":"SUM(V36:V41)","v":0}]
[]
[null,null,"I pagamenti possono essere eseguiti secondo una delle seguenti modalità :"]
[null,null,"·","[direttamente all’Amministratore in contanti o Assegno Bancario intestato a ]"]
[null,null,"·","[tramite Bonifico  intestato a ]"]
[null,null,"·","[tramite versamento su c.c.p. ]"]
[null,null,"È gradito in ogni caso l'anticipo, in tutto o in parte, del versamento delle rate, al fine di agevolare e ottimizzare la gestione del Condominio."]
[]
[]
[null,null,"Distinti saluti."]
[]
[null,null,"[Luogo e data]",null,null,null,null,null,null,null,null,null,null,null,null,null,null,null,null,null,null,null,null,null,"L'amministratore"]

{"sheet":"mDIFFIDA","index":55,"n_rows":55,"n_cols":34,"rows_kept":55,"cut":false,"hidden":true,"merged":[[54,2,54,14],[32,5,32,24],[32,25,32,30],[33,5,33,24],[33,25,33,30],[34,5,34,24],[34,25,34,30],[35,5,35,24],[35,25,35,30],[37,2,39,33],[40,2,41,33],[42,2,43,33],[29,5,29,24],[29,25,29,30],[30,5,30,24],[30,25,30,30],[31,5,31,24],[31,25,31,30],[26,5,26,24],[26,25,26,30],[27,5,27,24],[27,25,27,30],[28,5,28,24],[28,25,28,30],[23,5,23,24],[23,25,23,30],[24,5,24,24],[24,25,24,30],[25,5,25,24],[25,25,25,30],[19,2,20,33],[10,38,10,41],[11,38,11,41],[12,18,12,28],[12,38,12,41],[17,1,17,33]]}
[null,"[Incaricato dell'Amministrazione]",null,null,null,null,null,null,null,null,null,null,null,null,null,null,null,null,null,null,null,null,null,null,null,null,null,null,null,null,null,null,null,"[Nome]"]
[null,"[Nome]",null,null,null,null,null,null,null,null,null,null,null,null,null,null,null,null,null,null,null,null,null,null,null,null,null,null,null,null,null,null,null,"[Indirizzo]\n"]
[null,"[Indirizzo amministratore]",null,null,null,null,null,null,null,null,null,null,null,null,null,null,null,null,null,null,null,null,null,null,null,null,null,null,null,null,null,null,null,"[e-mail condominio]"]
[null,"[cellulare amministratore]",null,null,null,null,null,null,null,null,null,null,null,null,null,null,null,null,null,null,null,null,null,null,null,null,null,null,null,null,null,null,null,"[numero c.c.p.]"]
[null,null,null,null,null,null,null,null,null,null,null,null,null,null,null,null,null,null,null,null,null,null,null,null,null,null,null,null,null,null,null,null,null,"[IBAN]"]
[null,null,null,null,null,null,null,null,null,null,null,null,null,null,null,null,null,null,null,null,null,null,null,null,null,null,null,null,null,null,null,null,null,"[C.F.]"]
[]
[]
[null,null,null,null,null,null,null,null,null,null,null,null,null,null,null,null,null,null,"[Gent.mi Sig.ri]"]
[null,null,null,null,null,null,null,null,null,null,null,null,null,null,null,null,null,null,"[Condomino - Colonna C]"]
[null,null,null,null,null,null,null,null,null,null,null,null,null,null,null,null,null,null,"[Colonna E o F]"]
[null,null,null,null,null,null,null,null,null,null,null,null,null,null,null,null,null,null,"[Colonna F o G+H+I]"]
[null,null,null,null,null,null,null,null,null,null,null,null,null,null,null,null,null,null,"[Colonna \"\" o G+H+I]"]
[null,null,null,null,null,null,null,null,null,null,null,null,null,null,null,null,null,null,"[millesimi]"]
[]
[]
[]
[null,"OGGETTO: DIFFIDA PER MANCATO VERSAMENTO CONTRIBUTI CONDOMINIALI"]
[]
[null,null,"Premessa la seguente Sua situazione per i contributi condominiali scaduti alla data della presente e non ancora pagati"]
[]
[]
[]
[null,null,null,null,null,"Contributo non versato",null,null,null,null,null,null,null,null,null,null,null,null,null,null,null,null,null,null,null,"Importo"]
[]
[]
[]
[]
[]
[]
[]
[]
[]
[]
[]
[null,null,null,null,null,"TOTALE",null,null,null,null,null,null,null,null,null,null,null,null,null,null,null,null,null,null,null,{"$f":"SUM(Z25:AE35)","v":0}]
[]
[null,null,"Con la presente Le sollecito il pagamento dei contributi condominiali di cui sopra, entro il termine perentorio di giorni 15 (quindici) dal ricevimento della presente raccomandata. Ove per data di ricevimento è da intendersi quella comunicata da POSTE ITALIANE come data di consegna o di rilascio dell'avviso di giacenza."]
[]
[]
[null,null,"Le preannuncio che in difetto di quanto sopra, sarò costretto, mio malgrado, senza ulteriori avvisi, al recupero coatto delle somme dovute, con aggravio a suo carico delle maggior spese."]
[]
[null,null,"La presente vale quale diffida e formale messa in mora, ai sensi e per gli effetti dell'art. 1219 C.C. e ad ogni effetto di legge e, come tale, interruttiva di ogni termine prescrizionale."]
[]
[]
[null,null,"I pagamenti possono essere eseguiti secondo una delle seguenti modalità :"]
[null,null,"·","[direttamente all’Amministratore in contanti o Assegno Bancario intestato a ]"]
[null,null,"·","[tramite Bonifico  intestato a ]"]
[null,null,"·","[tramite versamento su c.c.p. ]"]
[]
[null,null,"Se nel frattempo Lei avesse già effettuato il pagamento, non tenga conto della presente."]
[]
[null,null,"In attesa di un pronto riscontro, porgo distinti saluti."]
[]
[null,null,"[Luogo e data]",null,null,null,null,null,null,null,null,null,null,null,null,null,null,null,null,null,null,null,null,null,"L'amministratore"]