{"text_format":"1","workbook":"xlsx","n_sheets":8,"sheets":["MENU","Ricevuta","MODULO-RICEVUTA","DATI-CONDOMINIO","SCI","REGISTRO","SCE","NOTA"],"not_rendered":{"charts":0,"images":1,"macros":1,"external_links":1,"defined_names":31,"comments":0,"pivot_tables":0},"unopened":[],"bounds":{"document_bytes":16777216,"sheet_cells":100000,"rows_first":2000,"rows_last":500,"rows_between":2000,"halvings":0,"cell_chars":16384,"cell_head_chars":4096},"cells_cut":0,"cells_raw":0,"read":"whole","date_system":"1900"}

{"sheet":"MENU","index":0,"n_rows":33,"n_cols":14,"rows_kept":33,"cut":false,"hidden":false,"merged":[[2,11,3,12],[4,11,5,24],[15,5,30,25],[32,5,33,25]]}
[]
[]
[null,null,null,null,null,null,"PROCEDURA EXCEL\nrealizzata da",null,null,null,null,"GIQC",null,"UTILITY per GESTIONE INCASSI QUOTE CONDOMINIALI"]
[null,null,null,null,null,null,"ing. Pietro CHIEFARI",null,null,null,null,null,null,"versione 2.04"]
[null,null,null,null,null,null,"Viale CUTURELLA 2/D - 88068 SOVERATO (CZ)",null,null,null,null,"www.piasoft.it"]
[null,null,null,null,null,null,"piasoft@piasoft.it"]
[]
[]
[]
[]
[]
[]
[]
[]
[]
[null,null,null,null,null,"I pulsanti di sopra attivano le seguenti funzionie:\nNOTE SULLA QUIETANZA                                       - Viasualizzazione prospetto con note giuridiche e pratiche sul rilascio delle quietanze per il pagamento di quote condominiali.    \nDATI CONDOMINIO                                                 - Visualizzazzione prospetto input dati concernenti il condominio e l'esercizio.\n                                                                                            Occorre inserire nel prospetto i dati sovrascrivendo quelli presenti indicativi del tipo di dato richiesto dalla procedura e scrivendo quelli mancanti\n                                                                                            secondo  quanto indicato dalle intestazioni delle colonne. Il numero massimo di condomini è 99.                                                 \nMODULO QUIETANZA                                             - Viasualizzazione del modulo della quietanza\n                                                                                            Possono essere essere variate l'immagine della firma e tutte le altre scritte in nero. I campi, ovvero i range con sfondo celeste chiaro non possono\n                                                                                            essere spostati, ovvero non possono essere variati gli indicativi di riga e colonna.    \nSITUAZIONE CONTABILE INIZIO ESERCIZIO    - Viasualizzazione del prospetto della situazione contabile dei condomini ad inizio esercizio.\n                                                                                           Occorre inserire nel prospetto i dati richiesti dalla procedura,  secondo  quanto indicato dalle intestazioni delle colonne.\nREGISTRAZIONE INCASSO                                     - È avviata la funzione di registrazione dell'incasso di un versamento di quote sul registro degli incassi, fornendo i dati occorenti in una maschera che la\n                                                                                          funzione visualizza. Dopo la registrazione viene proposta la stampa su carta o PDF della quietanza.\nCOMPILAZIONE RICEVUTA                                   - È avviata la funzione di compilazione della ricevuta relativa ad una registrazione del registro incassi e indicata in una maschera che la funzione visualizza.\nREGISTRO INCASSI                                                  - Viasualizzazione del prospetto del registro degli incassi.\nSITUAZIONE CONTABILE ESERCIZIO                 - Viasualizzazione del prospetto della situazione contabile dei condomini nel corso di esercizio.\n"]
[]
[]
[]
[]
[]
[]
[]
[]
[]
[]
[]
[]
[]
[]
[]
[]
[null,null,null,null,null,"La procedura è realizzata per un numero massimo di 1.000 registrazioni. All'occorrenza è possibile inserire nel prospetto del foglio \"REGISTRO\" ulteriori ri righe fino ad un massimo di 1.000.\n\n"]

{"sheet":"Ricevuta","index":1,"n_rows":30,"n_cols":27,"rows_kept":30,"cut":false,"hidden":true,"merged":[[1,26,28,26],[2,3,2,7],[8,14,8,15],[8,19,8,21],[11,3,11,7],[11,17,11,23],[12,3,13,7],[12,17,12,23],[19,3,19,6],[19,11,19,21],[19,22,19,24],[22,11,22,21],[22,22,22,24],[23,3,23,6],[23,11,23,21],[23,22,23,24],[1,1,28,1],[1,9,28,9],[13,17,13,23],[14,17,14,23],[16,12,16,23],[17,12,17,23],[18,3,18,7],[20,3,20,6],[20,11,20,21],[20,22,20,24],[21,3,21,6],[21,11,21,21],[21,22,21,24],[28,11,28,17],[28,18,28,24],[22,3,22,6],[24,5,24,6],[24,19,24,21],[24,22,24,24],[26,3,26,7],[26,14,26,24]]}
["\"","---------------------------------------------------------------------------------------------------------------------------------------------------------------------------------------------------------------------------------------------------------------------------------------------------------------------------------------------------------------------------------------------"]
[null,"----------------------------------------------------------------------------------------------------------------------------------------------------------------------------------",null,null,null,null,null,null,null,"----------------------------------------------------------------------------------------------------------------------------------------------------------------------------------",null,null,null,null,null,null,null,null,null,null,null,null,null,null,null,null,"----------------------------------------------------------------------------------------------------------------------------------------------------------------------------------"]
[null,null,null,{"$f":"L3","v":"Condominio \"PIPPO PIPPO\""},null,null,null,null,null,null,null,{"$f":"'DATI-CONDOMINIO'!A4","v":"Condominio \"PIPPO PIPPO\""}]
[null,null,null,{"$f":"L4","v":"Via GIULIO CESARE, 44"},null,null,null,null,null,null,null,{"$f":"'DATI-CONDOMINIO'!A5","v":"Via GIULIO CESARE, 44"}]
[null,null,null,{"$f":"L5","v":"88068 - SOVERATO (CZ)"},null,null,null,null,null,null,null,{"$f":"'DATI-CONDOMINIO'!A6","v":"88068 - SOVERATO (CZ)"}]
[null,null,null,{"$f":"L6","v":"CF: 80000000796"},null,null,null,null,null,null,null,{"$f":"'DATI-CONDOMINIO'!A7","v":"CF: 80000000796"}]
[]
[]
[null,null,null,"MATRICE della RICEVUTA n.",null,{"$f":"O9","v":"17/2021"},"Data",{"$f":"T9","v":"2021-10-10"},null,null,null,null,"RICEVUTA n.",null,"17/2021",null,null,null,"Data ","2021-10-10"]
[]
[]
[null,null,null,"Condomino",null,null,null,null,null,null,null,"Ricevuti dal Condomino",null,null,null,null,null,"Condomino-01"]
[null,null,null,{"$f":"R12","v":"Condomino-01"},null,null,null,null,null,null,null,null,null,null,null,null,null,"Via TORINO, 20"]
[null,null,null,null,null,null,null,null,null,null,null,null,null,null,null,null,null,"83100 - AVELLINO (AV)"]
[]
[]
[null,null,null,"IMPORTO TOTALE PAGAMENTO",null,null,{"$f":"H25","v":40},null,null,null,null,"€",{"$f":"IF(W25<>0,NumeroInLettere(W25,2),\"\")","v":"quaranta / 00"}]
[]
[null,null,null,"Causale",null,null,null,null,null,null,null,"per"]
[null,null,null,{"$f":"L20","v":"in conto quote esercizio "},null,null,null,{"$f":"W20","v":40},null,null,null,"in conto quote esercizio ",null,null,null,null,null,null,null,null,null,null,40]
[null,null,null,{"$f":"L21","v":0},null,null,null,{"$f":"W21","v":0}]
[null,null,null,{"$f":"L22","v":0},null,null,null,{"$f":"W22","v":0}]
[null,null,null,{"$f":"L23","v":0},null,null,null,{"$f":"W23","v":0}]
[null,null,null,{"$f":"L24","v":0},null,null,null,{"$f":"W24","v":0}]
[null,null,null,null,null,"TOTALE",null,{"$f":"SUM(H20:H24)","v":40},null,null,null,null,null,null,null,null,null,null,null,"TOTALE RICEVUTO",null,null,{"$f":"SUM(W20:Y24)","v":40}]
[null,null,null,"Metodo di Pagamento",null,null,null,null,null,null,null,"Metodo di Pagamento"]
[null,null,null,{"$f":"O27","v":"contante"},null,null,null,null,null,null,null,null,null,null,"contante"]
[]
[null,null,null,null,null,null,null,null,null,null,null,"firma dell'Amministratore",null,null,null,null,null,null,"La presente ricevuta viene rilasciata s.b.f. degli assegni e con riserva di esigere ogni altra somma che risultasse dovuta in seguito a rendiconto consuntivo, nuovi accertamenti, nuove delibere dell'Assemblea o rate pregresse non pagate."]
["\"","---------------------------------------------------------------------------------------------------------------------------------------------------------------------------------------------------------------------------------------------------------------------------------------------------------------------------------------------------------------------------------------------"]

{"sheet":"MODULO-RICEVUTA","index":2,"n_rows":30,"n_cols":27,"rows_kept":30,"cut":false,"hidden":true,"merged":[[14,17,14,23],[16,12,16,23],[17,12,17,23],[18,3,18,7],[19,3,19,6],[19,11,19,21],[19,22,19,24],[1,9,28,9],[2,3,2,7],[8,14,8,15],[8,19,8,21],[11,3,11,7],[11,17,11,23],[12,3,13,7],[12,17,12,23],[13,17,13,23],[20,11,20,21],[20,22,20,24],[21,3,21,6],[21,11,21,21],[21,22,21,24],[1,26,28,26],[1,1,28,1],[24,5,24,6],[24,19,24,21],[24,22,24,24],[26,3,26,7],[26,14,26,24],[28,11,28,17],[28,18,28,24],[22,3,22,6],[22,11,22,21],[22,22,22,24],[23,3,23,6],[23,11,23,21],[23,22,23,24],[20,3,20,6]]}
["\"","---------------------------------------------------------------------------------------------------------------------------------------------------------------------------------------------------------------------------------------------------------------------------------------------------------------------------------------------------------------------------------------------"]
[null,"----------------------------------------------------------------------------------------------------------------------------------------------------------------------------------",null,null,null,null,null,null,null,"----------------------------------------------------------------------------------------------------------------------------------------------------------------------------------",null,null,null,null,null,null,null,null,null,null,null,null,null,null,null,null,"----------------------------------------------------------------------------------------------------------------------------------------------------------------------------------"]
[null,null,null,{"$f":"L3","v":"Condominio \"PIPPO PIPPO\""},null,null,null,null,null,null,null,{"$f":"'DATI-CONDOMINIO'!A4","v":"Condominio \"PIPPO PIPPO\""}]
[null,null,null,{"$f":"L4","v":"Via GIULIO CESARE, 44"},null,null,null,null,null,null,null,{"$f":"'DATI-CONDOMINIO'!A5","v":"Via GIULIO CESARE, 44"}]
[null,null,null,{"$f":"L5","v":"88068 - SOVERATO (CZ)"},null,null,null,null,null,null,null,{"$f":"'DATI-CONDOMINIO'!A6","v":"88068 - SOVERATO (CZ)"}]
[null,null,null,{"$f":"L6","v":"CF: 80000000796"},null,null,null,null,null,null,null,{"$f":"'DATI-CONDOMINIO'!A7","v":"CF: 80000000796"}]
[]
[]
[null,null,null,"MATRICE della RICEVUTA n.",null,{"$f":"O9","v":0},"Data",{"$f":"T9","v":"00:00:00"},null,null,null,null,"RICEVUTA n.",null,null,null,null,null,"Data "]
[]
[]
[null,null,null,"Condomino",null,null,null,null,null,null,null,"Ricevuti dal Condomino"]
[null,null,null,{"$f":"R12","v":0}]
[]
[]
[]
[null,null,null,"IMPORTO TOTALE PAGAMENTO",null,null,{"$f":"H25","v":0},null,null,null,null,"€",{"$f":"IF(W25<>0,NumeroInLettere(W25,2),\"\")","v":""}]
[]
[null,null,null,"Causale",null,null,null,null,null,null,null,"per"]
[null,null,null,{"$f":"L20","v":0},null,null,null,{"$f":"W20","v":0}]
[null,null,null,{"$f":"L21","v":0},null,null,null,{"$f":"W21","v":0}]
[null,null,null,{"$f":"L22","v":0},null,null,null,{"$f":"W22","v":0}]
[null,null,null,{"$f":"L23","v":0},null,null,null,{"$f":"W23","v":0}]
[null,null,null,{"$f":"L24","v":0},null,null,null,{"$f":"W24","v":0}]
[null,null,null,null,null,"TOTALE",null,{"$f":"SUM(H20:H24)","v":0},null,null,null,null,null,null,null,null,null,null,null,"TOTALE RICEVUTO",null,null,{"$f":"SUM(W20:Y24)","v":0}]
[null,null,null,"Metodo di Pagamento",null,null,null,null,null,null,null,"Metodo di Pagamento"]
[null,null,null,{"$f":"O27","v":0}]
[]
[null,null,null,null,null,null,null,null,null,null,null,"firma dell'Amministratore",null,null,null,null,null,null,"La presente ricevuta viene rilasciata s.b.f. degli assegni e con riserva di esigere ogni altra somma che risultasse dovuta in seguito a rendiconto consuntivo, nuovi accertamenti, nuove delibere dell'Assemblea o rate pregresse non pagate."]
["\"","---------------------------------------------------------------------------------------------------------------------------------------------------------------------------------------------------------------------------------------------------------------------------------------------------------------------------------------------------------------------------------------------"]

{"sheet":"DATI-CONDOMINIO","index":3,"n_rows":111,"n_cols":7,"rows_kept":111,"cut":false,"hidden":true,"merged":[[0,0,0,5]]}
["È consentito variare solo i dati delle celle con sfondo bianco. Numero massimo condomini = 99",null,null,null,null,null,0]
[]
[]
["Condominio \"PIPPO PIPPO\""]
["Via GIULIO CESARE, 44"]
["88068 - SOVERATO (CZ)"]
["CF: 80000000796"]
["Esercizio: 2021"]
["Codice\nCond.","DENOMINAZIONE CONDOMINO","INDIRIZZO","CAP","CITTÀ","PROVINCIA"]
[]
["C01","Condomino-01","Via TORINO, 20","83100","AVELLINO","AV"]
["C02","Condomino-02","Via GIULIO CESARE, 44",88068,"SOVERATO","CZ"]
["C03","Condomino-03","Via GIULIO CESARE, 44",88068,"SOVERATO","CZ"]
["C04","Condomino-04","Via GIULIO CESARE, 44",88068,"SOVERATO","CZ"]
["C05","Condomino-05","Via GIULIO CESARE, 44",88068,"SOVERATO","CZ"]
["C06","Condomino-06","Via GIULIO CESARE, 44",88068,"SOVERATO","CZ"]
["C07","Condomino-07","Via GIULIO CESARE, 44",88068,"SOVERATO","CZ"]
["C08","Condomino-08","Via TIRANA, 47","87100","COSENZA","CS"]
["C09","Condomino-09","Via GIULIO CESARE, 44",88068,"SOVERATO","CZ"]
["C10","Condomino-10","Via GIULIO CESARE, 44",88068,"SOVERATO","CZ"]
["C11","Condomino-11","Via GIULIO CESARE, 44",88068,"SOVERATO","CZ"]
["C12","Condomino-12","Viale dei GLICINI, 22",88068,"SOVERATO","CZ"]
["C13","Condomino-13","Via MILANO, 37",88068,"SOVERATO","CZ"]
["C14","Condomino-14","Via GIULIO CESARE, 44",88068,"SOVERATO","CZ"]
["C15","Condomino-15","Via GIULIO CESARE, 44",88068,"SOVERATO","CZ"]
["C16","Condomino-16","Via G. MAMELI, 34","47921","RIMINI","RN"]
["C17","Condomino-17","Via GIULIO CESARE, 44",88068,"SOVERATO","CZ"]
["C18","Condomino-18","Via GIULIO CESARE, 44",88068,"SOVERATO","CZ"]
["C19","Condomino-19","Via GIULIO CESARE, 44",88068,"SOVERATO","CZ"]
["C20","Condomino-20","Via GIULIO CESARE, 44",88068,"SOVERATO","CZ"]
["C21","Condomino-21","Via GIULIO CESARE, 44",88068,"SOVERATO","CZ"]
["C22","Condomino-22","Via GIULIO CESARE, 44",88068,"SOVERATO","CZ"]
["C23","Condomino-23","Via GIULIO CESARE, 44",88068,"SOVERATO","CZ"]
["C24","Condomino-24","Via GENOVA, 14","10136","TORINO","TO"]
["C25"]
["C26",""]
["C27",""]
["C28",""]
["C29",""]
["C30",""]
["C31",""]
["C32",""]
["C33",""]
["C34",""]
["C35",""]
["C36",""]
["C37",""]
["C38",""]
["C39",""]
["C40",""]
["C41",""]
["C42",""]
["C43",""]
["C44",""]
["C45",""]
["C46",""]
["C47",""]
["C48",""]
["C49",""]
["C50",""]
["C51",""]
["C52",""]
["C53",""]
["C54",""]
["C55",""]
["C56",""]
["C57",""]
["C58",""]
["C59",""]
["C60",""]
["C61",""]
["C62",""]
["C63",""]
["C64",""]
["C65",""]
["C66",""]
["C67",""]
["C68",""]
["C69",""]
["C70",""]
["C71",""]
["C72",""]
["C73",""]
["C74",""]
["C75",""]
["C76",""]
["C77",""]
["C78",""]
["C79",""]
["C80",""]
["C81",""]
["C82",""]
["C83",""]
["C84",""]
["C85",""]
["C86",""]
["C87",""]
["C88",""]
["C89",""]
["C90",""]
["C91",""]
["C92",""]
["C93",""]
["C94",""]
["C95",""]
["C96",""]
["C97",""]
["C98",""]
["C99",""]
[]
[0,null,null,null,null,null,0]

{"sheet":"SCI","index":4,"n_rows":110,"n_cols":9,"rows_kept":110,"cut":false,"hidden":true,"merged":[[109,0,109,2],[7,0,7,8],[8,0,9,0],[8,1,9,1],[8,2,9,2],[8,8,9,8]]}
["È consentito variare solo i dati delle celle con sfondo bianco. Numero massimo condomini = 99"]
[]
[]
[]
[]
[{"$f":"'DATI-CONDOMINIO'!A4","v":"Condominio \"PIPPO PIPPO\""}]
[{"$f":"'DATI-CONDOMINIO'!A8","v":"Esercizio: 2021"}]
["SITUAZIONE CONTABILE DEI CONDOMINI AD INIZIO ESERCIZIO"]
["n.","Codice\nCondomino","CONDOMINO","ARRETRATO","ARRETRATO","ARRETRATO","CONGUAGLIO \nESERCIZIO\nPRECEDENTE","QUOTA \nESERCIZIO IN CORSO","TOTALE"]
[null,null,null,{"$f":"E10-1","v":2017},{"$f":"F10-1","v":2018},{"$f":"G10-1","v":2019},{"$f":"H10-1","v":2020},{"$f":"RIGHT('DATI-CONDOMINIO'!A8,4)","v":"2021"}]
[1,{"$f":"'DATI-CONDOMINIO'!A11","v":"C01"},{"$f":"'DATI-CONDOMINIO'!B11","v":"Condomino-01"},null,null,0,0,471.94,{"$f":"SUM(D11:H11)","v":471.94}]
[2,{"$f":"'DATI-CONDOMINIO'!A12","v":"C02"},{"$f":"'DATI-CONDOMINIO'!B12","v":"Condomino-02"},null,null,0,0,566.33000000000004,{"$f":"SUM(D12:H12)","v":566.33000000000004}]
[3,{"$f":"'DATI-CONDOMINIO'!A13","v":"C03"},{"$f":"'DATI-CONDOMINIO'!B13","v":"Condomino-03"},null,null,0,115,539.85,654.85]
[4,{"$f":"'DATI-CONDOMINIO'!A14","v":"C04"},{"$f":"'DATI-CONDOMINIO'!B14","v":"Condomino-04"},null,null,608.32999999999993,399.61,428.93,1436.87]
[5,{"$f":"'DATI-CONDOMINIO'!A15","v":"C05"},{"$f":"'DATI-CONDOMINIO'!B15","v":"Condomino-05"},null,null,0,0,531.8900000000001,531.8900000000001]
[6,{"$f":"'DATI-CONDOMINIO'!A16","v":"C06"},{"$f":"'DATI-CONDOMINIO'!B16","v":"Condomino-06"},null,null,255.62,470.07,504.56,1230.25]
[7,{"$f":"'DATI-CONDOMINIO'!A17","v":"C07"},{"$f":"'DATI-CONDOMINIO'!B17","v":"Condomino-07"},null,null,0,0,362.72,362.72]
[8,{"$f":"'DATI-CONDOMINIO'!A18","v":"C08"},{"$f":"'DATI-CONDOMINIO'!B18","v":"Condomino-08"},null,null,0,0,444.05,444.05]
[9,{"$f":"'DATI-CONDOMINIO'!A19","v":"C09"},{"$f":"'DATI-CONDOMINIO'!B19","v":"Condomino-09"},null,null,0,100.91,421.77000000000004,522.68000000000006]
[10,{"$f":"'DATI-CONDOMINIO'!A20","v":"C10"},{"$f":"'DATI-CONDOMINIO'!B20","v":"Condomino-10"},null,null,0,0,271.21000000000004,271.21000000000004]
[11,{"$f":"'DATI-CONDOMINIO'!A21","v":"C11"},{"$f":"'DATI-CONDOMINIO'!B21","v":"Condomino-11"},null,null,0,0,347.59000000000003,347.59000000000003]
[12,{"$f":"'DATI-CONDOMINIO'!A22","v":"C12"},{"$f":"'DATI-CONDOMINIO'!B22","v":"Condomino-12"},null,null,0,0,250.90999999999997,250.90999999999997]
[13,{"$f":"'DATI-CONDOMINIO'!A23","v":"C13"},{"$f":"'DATI-CONDOMINIO'!B23","v":"Condomino-13"},null,null,0,0,91.01,91.01]
[14,{"$f":"'DATI-CONDOMINIO'!A24","v":"C14"},{"$f":"'DATI-CONDOMINIO'!B24","v":"Condomino-14"},null,null,0,0,291.24,291.24]
[15,{"$f":"'DATI-CONDOMINIO'!A25","v":"C15"},{"$f":"'DATI-CONDOMINIO'!B25","v":"Condomino-15"},null,null,0,697.39,696.18000000000006,1393.5700000000002]
[16,{"$f":"'DATI-CONDOMINIO'!A26","v":"C16"},{"$f":"'DATI-CONDOMINIO'!B26","v":"Condomino-16"},null,null,0,148.9,634.39,783.29]
[17,{"$f":"'DATI-CONDOMINIO'!A27","v":"C17"},{"$f":"'DATI-CONDOMINIO'!B27","v":"Condomino-17"},null,null,0,312.10000000000002,499.39,811.49]
[18,{"$f":"'DATI-CONDOMINIO'!A28","v":"C18"},{"$f":"'DATI-CONDOMINIO'!B28","v":"Condomino-18"},null,null,0,0,583.05999999999995,583.05999999999995]
[19,{"$f":"'DATI-CONDOMINIO'!A29","v":"C19"},{"$f":"'DATI-CONDOMINIO'!B29","v":"Condomino-19"},null,null,0,0,477.12,477.12]
[20,{"$f":"'DATI-CONDOMINIO'!A30","v":"C20"},{"$f":"'DATI-CONDOMINIO'!B30","v":"Condomino-20"},null,null,0,179.04,510.17000000000007,689.21]
[21,{"$f":"'DATI-CONDOMINIO'!A31","v":"C21"},{"$f":"'DATI-CONDOMINIO'!B31","v":"Condomino-21"},null,null,0,0,384.76,384.76]
[22,{"$f":"'DATI-CONDOMINIO'!A32","v":"C22"},{"$f":"'DATI-CONDOMINIO'!B32","v":"Condomino-22"},null,null,175.82,350.13,388.46000000000004,914.41000000000008]
[23,{"$f":"'DATI-CONDOMINIO'!A33","v":"C23"},{"$f":"'DATI-CONDOMINIO'!B33","v":"Condomino-23"},null,null,0,0,303.75,303.75]
[24,{"$f":"'DATI-CONDOMINIO'!A34","v":"C24"},{"$f":"'DATI-CONDOMINIO'!B34","v":"Condomino-24"},null,null,0,0,398.72,398.72]
[25,{"$f":"'DATI-CONDOMINIO'!A35","v":"C25"},{"$f":"'DATI-CONDOMINIO'!B35","v":0},null,null,null,null,null,0]
[26,{"$f":"'DATI-CONDOMINIO'!A36","v":"C26"},{"$f":"'DATI-CONDOMINIO'!B36","v":""},null,null,null,null,null,0]
[27,{"$f":"'DATI-CONDOMINIO'!A37","v":"C27"},{"$f":"'DATI-CONDOMINIO'!B37","v":""},null,null,null,null,null,0]
[28,{"$f":"'DATI-CONDOMINIO'!A38","v":"C28"},{"$f":"'DATI-CONDOMINIO'!B38","v":""},null,null,null,null,null,0]
[29,{"$f":"'DATI-CONDOMINIO'!A39","v":"C29"},{"$f":"'DATI-CONDOMINIO'!B39","v":""},null,null,null,null,null,0]
[30,{"$f":"'DATI-CONDOMINIO'!A40","v":"C30"},{"$f":"'DATI-CONDOMINIO'!B40","v":""},null,null,null,null,null,0]
[31,{"$f":"'DATI-CONDOMINIO'!A41","v":"C31"},{"$f":"'DATI-CONDOMINIO'!B41","v":""},null,null,null,null,null,0]
[32,{"$f":"'DATI-CONDOMINIO'!A42","v":"C32"},{"$f":"'DATI-CONDOMINIO'!B42","v":""},null,null,null,null,null,0]
[33,{"$f":"'DATI-CONDOMINIO'!A43","v":"C33"},{"$f":"'DATI-CONDOMINIO'!B43","v":""},null,null,null,null,null,0]
[34,{"$f":"'DATI-CONDOMINIO'!A44","v":"C34"},{"$f":"'DATI-CONDOMINIO'!B44","v":""},null,null,null,null,null,0]
[35,{"$f":"'DATI-CONDOMINIO'!A45","v":"C35"},{"$f":"'DATI-CONDOMINIO'!B45","v":""},null,null,null,null,null,0]
[36,{"$f":"'DATI-CONDOMINIO'!A46","v":"C36"},{"$f":"'DATI-CONDOMINIO'!B46","v":""},null,null,null,null,null,0]
[37,{"$f":"'DATI-CONDOMINIO'!A47","v":"C37"},{"$f":"'DATI-CONDOMINIO'!B47","v":""},null,null,null,null,null,0]
[38,{"$f":"'DATI-CONDOMINIO'!A48","v":"C38"},{"$f":"'DATI-CONDOMINIO'!B48","v":""},null,null,null,null,null,0]
[39,{"$f":"'DATI-CONDOMINIO'!A49","v":"C39"},{"$f":"'DATI-CONDOMINIO'!B49","v":""},null,null,null,null,null,0]
[40,{"$f":"'DATI-CONDOMINIO'!A50","v":"C40"},{"$f":"'DATI-CONDOMINIO'!B50","v":""},null,null,null,null,null,0]
[41,{"$f":"'DATI-CONDOMINIO'!A51","v":"C41"},{"$f":"'DATI-CONDOMINIO'!B51","v":""},null,null,null,null,null,0]
[42,{"$f":"'DATI-CONDOMINIO'!A52","v":"C42"},{"$f":"'DATI-CONDOMINIO'!B52","v":""},null,null,null,null,null,0]
[43,{"$f":"'DATI-CONDOMINIO'!A53","v":"C43"},{"$f":"'DATI-CONDOMINIO'!B53","v":""},null,null,null,null,null,0]
[44,{"$f":"'DATI-CONDOMINIO'!A54","v":"C44"},{"$f":"'DATI-CONDOMINIO'!B54","v":""},null,null,null,null,null,0]
[45,{"$f":"'DATI-CONDOMINIO'!A55","v":"C45"},{"$f":"'DATI-CONDOMINIO'!B55","v":""},null,null,null,null,null,0]
[46,{"$f":"'DATI-CONDOMINIO'!A56","v":"C46"},{"$f":"'DATI-CONDOMINIO'!B56","v":""},null,null,null,null,null,0]
[47,{"$f":"'DATI-CONDOMINIO'!A57","v":"C47"},{"$f":"'DATI-CONDOMINIO'!B57","v":""},null,null,null,null,null,0]
[48,{"$f":"'DATI-CONDOMINIO'!A58","v":"C48"},{"$f":"'DATI-CONDOMINIO'!B58","v":""},null,null,null,null,null,0]
[49,{"$f":"'DATI-CONDOMINIO'!A59","v":"C49"},{"$f":"'DATI-CONDOMINIO'!B59","v":""},null,null,null,null,null,0]
[50,{"$f":"'DATI-CONDOMINIO'!A60","v":"C50"},{"$f":"'DATI-CONDOMINIO'!B60","v":""},null,null,null,null,null,0]
[51,{"$f":"'DATI-CONDOMINIO'!A61","v":"C51"},{"$f":"'DATI-CONDOMINIO'!B61","v":""},null,null,null,null,null,0]
[52,{"$f":"'DATI-CONDOMINIO'!A62","v":"C52"},{"$f":"'DATI-CONDOMINIO'!B62","v":""},null,null,null,null,null,0]
[53,{"$f":"'DATI-CONDOMINIO'!A63","v":"C53"},{"$f":"'DATI-CONDOMINIO'!B63","v":""},null,null,null,null,null,0]
[54,{"$f":"'DATI-CONDOMINIO'!A64","v":"C54"},{"$f":"'DATI-CONDOMINIO'!B64","v":""},null,null,null,null,null,0]
[55,{"$f":"'DATI-CONDOMINIO'!A65","v":"C55"},{"$f":"'DATI-CONDOMINIO'!B65","v":""},null,null,null,null,null,0]
[56,{"$f":"'DATI-CONDOMINIO'!A66","v":"C56"},{"$f":"'DATI-CONDOMINIO'!B66","v":""},null,null,null,null,null,0]
[57,{"$f":"'DATI-CONDOMINIO'!A67","v":"C57"},{"$f":"'DATI-CONDOMINIO'!B67","v":""},null,null,null,null,null,0]
[58,{"$f":"'DATI-CONDOMINIO'!A68","v":"C58"},{"$f":"'DATI-CONDOMINIO'!B68","v":""},null,null,null,null,null,0]
[59,{"$f":"'DATI-CONDOMINIO'!A69","v":"C59"},{"$f":"'DATI-CONDOMINIO'!B69","v":""},null,null,null,null,null,0]
[60,{"$f":"'DATI-CONDOMINIO'!A70","v":"C60"},{"$f":"'DATI-CONDOMINIO'!B70","v":""},null,null,null,null,null,0]
[61,{"$f":"'DATI-CONDOMINIO'!A71","v":"C61"},{"$f":"'DATI-CONDOMINIO'!B71","v":""},null,null,null,null,null,0]
[62,{"$f":"'DATI-CONDOMINIO'!A72","v":"C62"},{"$f":"'DATI-CONDOMINIO'!B72","v":""},null,null,null,null,null,0]
[63,{"$f":"'DATI-CONDOMINIO'!A73","v":"C63"},{"$f":"'DATI-CONDOMINIO'!B73","v":""},null,null,null,null,null,0]
[64,{"$f":"'DATI-CONDOMINIO'!A74","v":"C64"},{"$f":"'DATI-CONDOMINIO'!B74","v":""},null,null,null,null,null,0]
[65,{"$f":"'DATI-CONDOMINIO'!A75","v":"C65"},{"$f":"'DATI-CONDOMINIO'!B75","v":""},null,null,null,null,null,0]
[66,{"$f":"'DATI-CONDOMINIO'!A76","v":"C66"},{"$f":"'DATI-CONDOMINIO'!B76","v":""},null,null,null,null,null,{"$f":"SUM(D76:H76)","v":0}]
[67,{"$f":"'DATI-CONDOMINIO'!A77","v":"C67"},{"$f":"'DATI-CONDOMINIO'!B77","v":""},null,null,null,null,null,0]
[68,{"$f":"'DATI-CONDOMINIO'!A78","v":"C68"},{"$f":"'DATI-CONDOMINIO'!B78","v":""},null,null,null,null,null,0]
[69,{"$f":"'DATI-CONDOMINIO'!A79","v":"C69"},{"$f":"'DATI-CONDOMINIO'!B79","v":""},null,null,null,null,null,0]
[70,{"$f":"'DATI-CONDOMINIO'!A80","v":"C70"},{"$f":"'DATI-CONDOMINIO'!B80","v":""},null,null,null,null,null,0]
[71,{"$f":"'DATI-CONDOMINIO'!A81","v":"C71"},{"$f":"'DATI-CONDOMINIO'!B81","v":""},null,null,null,null,null,0]
[72,{"$f":"'DATI-CONDOMINIO'!A82","v":"C72"},{"$f":"'DATI-CONDOMINIO'!B82","v":""},null,null,null,null,null,0]
[73,{"$f":"'DATI-CONDOMINIO'!A83","v":"C73"},{"$f":"'DATI-CONDOMINIO'!B83","v":""},null,null,null,null,null,0]
[74,{"$f":"'DATI-CONDOMINIO'!A84","v":"C74"},{"$f":"'DATI-CONDOMINIO'!B84","v":""},null,null,null,null,null,0]
[75,{"$f":"'DATI-CONDOMINIO'!A85","v":"C75"},{"$f":"'DATI-CONDOMINIO'!B85","v":""},null,null,null,null,null,0]
[76,{"$f":"'DATI-CONDOMINIO'!A86","v":"C76"},{"$f":"'DATI-CONDOMINIO'!B86","v":""},null,null,null,null,null,0]
[77,{"$f":"'DATI-CONDOMINIO'!A87","v":"C77"},{"$f":"'DATI-CONDOMINIO'!B87","v":""},null,null,null,null,null,0]
[78,{"$f":"'DATI-CONDOMINIO'!A88","v":"C78"},{"$f":"'DATI-CONDOMINIO'!B88","v":""},null,null,null,null,null,0]
[79,{"$f":"'DATI-CONDOMINIO'!A89","v":"C79"},{"$f":"'DATI-CONDOMINIO'!B89","v":""},null,null,null,null,null,0]
[80,{"$f":"'DATI-CONDOMINIO'!A90","v":"C80"},{"$f":"'DATI-CONDOMINIO'!B90","v":""},null,null,null,null,null,0]
[81,{"$f":"'DATI-CONDOMINIO'!A91","v":"C81"},{"$f":"'DATI-CONDOMINIO'!B91","v":""},null,null,null,null,null,0]
[82,{"$f":"'DATI-CONDOMINIO'!A92","v":"C82"},{"$f":"'DATI-CONDOMINIO'!B92","v":""},null,null,null,null,null,0]
[83,{"$f":"'DATI-CONDOMINIO'!A93","v":"C83"},{"$f":"'DATI-CONDOMINIO'!B93","v":""},null,null,null,null,null,0]
[84,{"$f":"'DATI-CONDOMINIO'!A94","v":"C84"},{"$f":"'DATI-CONDOMINIO'!B94","v":""},null,null,null,null,null,0]
[85,{"$f":"'DATI-CONDOMINIO'!A95","v":"C85"},{"$f":"'DATI-CONDOMINIO'!B95","v":""},null,null,null,null,null,0]
[86,{"$f":"'DATI-CONDOMINIO'!A96","v":"C86"},{"$f":"'DATI-CONDOMINIO'!B96","v":""},null,null,null,null,null,0]
[87,{"$f":"'DATI-CONDOMINIO'!A97","v":"C87"},{"$f":"'DATI-CONDOMINIO'!B97","v":""},null,null,null,null,null,0]
[88,{"$f":"'DATI-CONDOMINIO'!A98","v":"C88"},{"$f":"'DATI-CONDOMINIO'!B98","v":""},null,null,null,null,null,0]
[89,{"$f":"'DATI-CONDOMINIO'!A99","v":"C89"},{"$f":"'DATI-CONDOMINIO'!B99","v":""},null,null,null,null,null,0]
[90,{"$f":"'DATI-CONDOMINIO'!A100","v":"C90"},{"$f":"'DATI-CONDOMINIO'!B100","v":""},null,null,null,null,null,0]
[91,{"$f":"'DATI-CONDOMINIO'!A101","v":"C91"},{"$f":"'DATI-CONDOMINIO'!B101","v":""},null,null,null,null,null,0]
[92,{"$f":"'DATI-CONDOMINIO'!A102","v":"C92"},{"$f":"'DATI-CONDOMINIO'!B102","v":""},null,null,null,null,null,0]
[93,{"$f":"'DATI-CONDOMINIO'!A103","v":"C93"},{"$f":"'DATI-CONDOMINIO'!B103","v":""},null,null,null,null,null,0]
[94,{"$f":"'DATI-CONDOMINIO'!A104","v":"C94"},{"$f":"'DATI-CONDOMINIO'!B104","v":""},null,null,null,null,null,0]
[95,{"$f":"'DATI-CONDOMINIO'!A105","v":"C95"},{"$f":"'DATI-CONDOMINIO'!B105","v":""},null,null,null,null,null,0]
[96,{"$f":"'DATI-CONDOMINIO'!A106","v":"C96"},{"$f":"'DATI-CONDOMINIO'!B106","v":""},null,null,null,null,null,0]
[97,{"$f":"'DATI-CONDOMINIO'!A107","v":"C97"},{"$f":"'DATI-CONDOMINIO'!B107","v":""},null,null,null,null,null,0]
[98,{"$f":"'DATI-CONDOMINIO'!A108","v":"C98"},{"$f":"'DATI-CONDOMINIO'!B108","v":""},null,null,null,null,null,0]
[99,{"$f":"'DATI-CONDOMINIO'!A109","v":"C99"},{"$f":"'DATI-CONDOMINIO'!B109","v":""},null,null,null,null,null,0]
["TOTALI",null,null,{"$f":"SUM(D11:D109)","v":0},0,1039.77,2773.15,{"$f":"SUM(H11:H109)","v":10400.000000000002},{"$f":"SUM(I11:I109)","v":14212.920000000002}]

{"sheet":"REGISTRO","index":5,"n_rows":51,"n_cols":15,"rows_kept":51,"cut":false,"hidden":true,"merged":[]}
[]
[]
[]
[]
[]
[]
[]
[{"$f":"'DATI-CONDOMINIO'!A4","v":"Condominio \"PIPPO PIPPO\""}]
["REGISTRO INCASSO QUOTE CONDOMINIALI"]
["N°\nRegistr.","n°\nRicevuta","Data\nEmissione","Codice\nCondomino",{"$f":"\"Causale 1\" & CHAR(10) & \"Quota Annuale \" & CHAR(10)  & \"Esercizio \" & SCI!H10","v":"Causale 1\nQuota Annuale \nEsercizio 2021"},"Importo\nCausale 1",{"$f":"\"Causale 2\" & CHAR(10) & \"Conguaglio \" & CHAR(10)  & \"Esercizio \" & SCI!G10","v":"Causale 2\nConguaglio \nEsercizio 2020"},"Importo\nCausale 2",{"$f":"\"Causale 3\" & CHAR(10) & \"Arretrato \" & CHAR(10)  & \"Esercizio \" & SCI!F10","v":"Causale 3\nArretrato \nEsercizio 2019"},"Importo\nCausale 3",{"$f":"\"Causale 4\" & CHAR(10) & \"Arretrato \" & CHAR(10)  & \"Esercizio \" & SCI!E10","v":"Causale 4\nArretrato \nEsercizio 2018"},"Importo\nCausale 4",{"$f":"\"Causale 5\" & CHAR(10) & \"Arretrato \" & CHAR(10)  & \"Esercizio \" & SCI!D10","v":"Causale 5\nArretrato \nEsercizio 2017"},"Importo\nCausale 5","Metodo di pagamento"]
[1,"01/2021","10/1/2021","C15","in conto quote esercizio 2021",23.78,"in conto conguaglio esercizio 2020",56.89,null,null,null,null,null,null,"contante"]
[2,"02/2021","10/1/2021","C21","in conto quote esercizio 2021",34.78,null,null,null,null,null,null,null,null,"assegno UNICREDIT 3284571025"]
[3,"03/2021","10/1/2021","C01","in conto quote esercizio 2021",150,null,null,null,null,null,null,null,null,"bonifico"]
[4,"04/2021","10/1/2021","C06",null,null,"in conto conguaglio esercizio 2020",54.38,"saldo arretrati esercizio 2019",255.62,null,null,null,null,"contante"]
[5,"05/2021","11/02/2021","C16","in conto quote esercizio 2021",51.1,"saldo conguaglio esercizio 2020",148.9,null,null,null,null,null,null,"contante"]
[6,"06/2021","11/02/2021","C22",null,null,null,null,"in conto arretrati esercizio 2019",120,null,null,null,null,"contante"]
[7,"07/2021","11/02/2021","C23","in conto quote esercizio 2021",25,null,null,null,null,null,null,null,null,"contante"]
[8,"08/2021","11/02/2021","C24","in conto quote esercizio 2021",100,null,null,null,null,null,null,null,null,"contante"]
[9,"09/2021","11/02/2021","C07","in conto quote esercizio 2021",62.72,null,null,null,null,null,null,null,null,"contante"]
[10,"10/2021","11/02/2021","C08","in conto quote esercizio 2021",211,null,null,null,null,null,null,null,null,"assegno UNICREDIT 32844577789521"]
[11,"11/2021","11/02/2021","C01","in conto quote esercizio 2021",21,null,null,null,null,null,null,null,null,"contante"]
[12,"12/2021","11/02/2021","C01","in conto quote esercizio 2021",45,null,null,null,null,null,null,null,null,"contante"]
[13,"13/2021","10/05/2021","C01","in conto quote esercizio 2021",15,null,null,null,null,null,null,null,null,"contante"]
[14,"14/2021","10/05/2021","C22",null,null,"in conto conguaglio esercizio 2020",44.18,"saldo arretrati esercizio 2019",55.82,null,null,null,null,"contante"]
[15,"15/2021","2021-11-10","C01","in conto quote esercizio ",40,null,null,null,null,null,null,null,null,"contante"]
[16,"16/2021","2021-12-09","C01","in conto quote esercizio ",40,null,null,null,null,null,null,null,null,"contante"]
[17,"17/2021","2021-10-10","C01","in conto quote esercizio ",40,null,null,null,null,null,null,null,null,"contante"]
[]
[]
[]
[]
[]
[]
[]
[]
[]
[]
[]
[]
[]
[]
[]
[]
[]
[]
[]
[]
[]
[]
[]
["Fine"]

{"sheet":"SCE","index":6,"n_rows":110,"n_cols":9,"rows_kept":110,"cut":false,"hidden":true,"merged":[[109,0,109,2],[7,0,7,8],[8,0,9,0],[8,1,9,1],[8,2,9,2],[8,8,9,8]]}
["È consentito variare solo i dati delle celle con sfondo bianco. Numero massimo condomini = 99"]
[]
[]
[]
[]
[{"$f":"'DATI-CONDOMINIO'!A4","v":"Condominio \"PIPPO PIPPO\""}]
[{"$f":"'DATI-CONDOMINIO'!A8","v":"Esercizio: 2021"}]
["SITUAZIONE CONTABILE DEI CONDOMINI"]
["n.","Codice\nCondomino","CONDOMINO","ARRETRATO","ARRETRATO","ARRETRATO","CONGUAGLIO \nESERCIZIO\nPRECEDENTE","QUOTA \nESERCIZIO IN CORSO","TOTALE"]
[null,null,null,{"$f":"SCI!D10","v":2017},{"$f":"SCI!E10","v":2018},{"$f":"SCI!F10","v":2019},{"$f":"SCI!G10","v":2020},{"$f":"SCI!H10","v":"2021"}]
[1,{"$f":"'DATI-CONDOMINIO'!A11","v":"C01"},{"$f":"'DATI-CONDOMINIO'!B11","v":"Condomino-01"},{"$f":"SCI!D11-SUMIFS(REGISTRO!$N$11:$N$1011,REGISTRO!$D$11:$D$1011,B11)","v":0},{"$f":"SCI!E11-SUMIFS(REGISTRO!$L$11:$L$1011,REGISTRO!$D$11:$D$1011,B11)","v":0},{"$f":"SCI!F11-SUMIFS(REGISTRO!$J$11:$J$1011,REGISTRO!$D$11:$D$1011,B11)","v":0},{"$f":"SCI!G11-SUMIFS(REGISTRO!$H$11:$H$1011,REGISTRO!$D$11:$D$1011,B11)","v":0},{"$f":"SCI!H11-SUMIFS(REGISTRO!$F$11:$F$1011,REGISTRO!$D$11:$D$1011,B11)","v":120.94},{"$f":"SUM(D11:H11)","v":120.94}]
[2,{"$f":"'DATI-CONDOMINIO'!A12","v":"C02"},{"$f":"'DATI-CONDOMINIO'!B12","v":"Condomino-02"},{"$f":"SCI!D12-SUMIFS(REGISTRO!$N$11:$N$1011,REGISTRO!$D$11:$D$1011,B12)","v":0},{"$f":"SCI!E12-SUMIFS(REGISTRO!$L$11:$L$1011,REGISTRO!$D$11:$D$1011,B12)","v":0},{"$f":"SCI!F12-SUMIFS(REGISTRO!$J$11:$J$1011,REGISTRO!$D$11:$D$1011,B12)","v":0},{"$f":"SCI!G12-SUMIFS(REGISTRO!$H$11:$H$1011,REGISTRO!$D$11:$D$1011,B12)","v":0},{"$f":"SCI!H12-SUMIFS(REGISTRO!$F$11:$F$1011,REGISTRO!$D$11:$D$1011,B12)","v":566.33000000000004},{"$f":"SUM(D12:H12)","v":566.33000000000004}]
[3,{"$f":"'DATI-CONDOMINIO'!A13","v":"C03"},{"$f":"'DATI-CONDOMINIO'!B13","v":"Condomino-03"},{"$f":"SCI!D13-SUMIFS(REGISTRO!$N$11:$N$1011,REGISTRO!$D$11:$D$1011,B13)","v":0},{"$f":"SCI!E13-SUMIFS(REGISTRO!$L$11:$L$1011,REGISTRO!$D$11:$D$1011,B13)","v":0},{"$f":"SCI!F13-SUMIFS(REGISTRO!$J$11:$J$1011,REGISTRO!$D$11:$D$1011,B13)","v":0},{"$f":"SCI!G13-SUMIFS(REGISTRO!$H$11:$H$1011,REGISTRO!$D$11:$D$1011,B13)","v":115},{"$f":"SCI!H13-SUMIFS(REGISTRO!$F$11:$F$1011,REGISTRO!$D$11:$D$1011,B13)","v":539.85},654.85]
[4,{"$f":"'DATI-CONDOMINIO'!A14","v":"C04"},{"$f":"'DATI-CONDOMINIO'!B14","v":"Condomino-04"},{"$f":"SCI!D14-SUMIFS(REGISTRO!$N$11:$N$1011,REGISTRO!$D$11:$D$1011,B14)","v":0},{"$f":"SCI!E14-SUMIFS(REGISTRO!$L$11:$L$1011,REGISTRO!$D$11:$D$1011,B14)","v":0},{"$f":"SCI!F14-SUMIFS(REGISTRO!$J$11:$J$1011,REGISTRO!$D$11:$D$1011,B14)","v":608.32999999999993},{"$f":"SCI!G14-SUMIFS(REGISTRO!$H$11:$H$1011,REGISTRO!$D$11:$D$1011,B14)","v":399.61},{"$f":"SCI!H14-SUMIFS(REGISTRO!$F$11:$F$1011,REGISTRO!$D$11:$D$1011,B14)","v":428.93},1436.87]
[5,{"$f":"'DATI-CONDOMINIO'!A15","v":"C05"},{"$f":"'DATI-CONDOMINIO'!B15","v":"Condomino-05"},{"$f":"SCI!D15-SUMIFS(REGISTRO!$N$11:$N$1011,REGISTRO!$D$11:$D$1011,B15)","v":0},{"$f":"SCI!E15-SUMIFS(REGISTRO!$L$11:$L$1011,REGISTRO!$D$11:$D$1011,B15)","v":0},{"$f":"SCI!F15-SUMIFS(REGISTRO!$J$11:$J$1011,REGISTRO!$D$11:$D$1011,B15)","v":0},{"$f":"SCI!G15-SUMIFS(REGISTRO!$H$11:$H$1011,REGISTRO!$D$11:$D$1011,B15)","v":0},{"$f":"SCI!H15-SUMIFS(REGISTRO!$F$11:$F$1011,REGISTRO!$D$11:$D$1011,B15)","v":531.8900000000001},531.8900000000001]
[6,{"$f":"'DATI-CONDOMINIO'!A16","v":"C06"},{"$f":"'DATI-CONDOMINIO'!B16","v":"Condomino-06"},{"$f":"SCI!D16-SUMIFS(REGISTRO!$N$11:$N$1011,REGISTRO!$D$11:$D$1011,B16)","v":0},{"$f":"SCI!E16-SUMIFS(REGISTRO!$L$11:$L$1011,REGISTRO!$D$11:$D$1011,B16)","v":0},{"$f":"SCI!F16-SUMIFS(REGISTRO!$J$11:$J$1011,REGISTRO!$D$11:$D$1011,B16)","v":0},{"$f":"SCI!G16-SUMIFS(REGISTRO!$H$11:$H$1011,REGISTRO!$D$11:$D$1011,B16)","v":415.69},{"$f":"SCI!H16-SUMIFS(REGISTRO!$F$11:$F$1011,REGISTRO!$D$11:$D$1011,B16)","v":504.56},920.25]
[7,{"$f":"'DATI-CONDOMINIO'!A17","v":"C07"},{"$f":"'DATI-CONDOMINIO'!B17","v":"Condomino-07"},{"$f":"SCI!D17-SUMIFS(REGISTRO!$N$11:$N$1011,REGISTRO!$D$11:$D$1011,B17)","v":0},{"$f":"SCI!E17-SUMIFS(REGISTRO!$L$11:$L$1011,REGISTRO!$D$11:$D$1011,B17)","v":0},{"$f":"SCI!F17-SUMIFS(REGISTRO!$J$11:$J$1011,REGISTRO!$D$11:$D$1011,B17)","v":0},{"$f":"SCI!G17-SUMIFS(REGISTRO!$H$11:$H$1011,REGISTRO!$D$11:$D$1011,B17)","v":0},{"$f":"SCI!H17-SUMIFS(REGISTRO!$F$11:$F$1011,REGISTRO!$D$11:$D$1011,B17)","v":300},300]
[8,{"$f":"'DATI-CONDOMINIO'!A18","v":"C08"},{"$f":"'DATI-CONDOMINIO'!B18","v":"Condomino-08"},{"$f":"SCI!D18-SUMIFS(REGISTRO!$N$11:$N$1011,REGISTRO!$D$11:$D$1011,B18)","v":0},{"$f":"SCI!E18-SUMIFS(REGISTRO!$L$11:$L$1011,REGISTRO!$D$11:$D$1011,B18)","v":0},{"$f":"SCI!F18-SUMIFS(REGISTRO!$J$11:$J$1011,REGISTRO!$D$11:$D$1011,B18)","v":0},{"$f":"SCI!G18-SUMIFS(REGISTRO!$H$11:$H$1011,REGISTRO!$D$11:$D$1011,B18)","v":0},{"$f":"SCI!H18-SUMIFS(REGISTRO!$F$11:$F$1011,REGISTRO!$D$11:$D$1011,B18)","v":233.05},233.05]
[9,{"$f":"'DATI-CONDOMINIO'!A19","v":"C09"},{"$f":"'DATI-CONDOMINIO'!B19","v":"Condomino-09"},{"$f":"SCI!D19-SUMIFS(REGISTRO!$N$11:$N$1011,REGISTRO!$D$11:$D$1011,B19)","v":0},{"$f":"SCI!E19-SUMIFS(REGISTRO!$L$11:$L$1011,REGISTRO!$D$11:$D$1011,B19)","v":0},{"$f":"SCI!F19-SUMIFS(REGISTRO!$J$11:$J$1011,REGISTRO!$D$11:$D$1011,B19)","v":0},{"$f":"SCI!G19-SUMIFS(REGISTRO!$H$11:$H$1011,REGISTRO!$D$11:$D$1011,B19)","v":100.91},{"$f":"SCI!H19-SUMIFS(REGISTRO!$F$11:$F$1011,REGISTRO!$D$11:$D$1011,B19)","v":421.77000000000004},522.68000000000006]
[10,{"$f":"'DATI-CONDOMINIO'!A20","v":"C10"},{"$f":"'DATI-CONDOMINIO'!B20","v":"Condomino-10"},{"$f":"SCI!D20-SUMIFS(REGISTRO!$N$11:$N$1011,REGISTRO!$D$11:$D$1011,B20)","v":0},{"$f":"SCI!E20-SUMIFS(REGISTRO!$L$11:$L$1011,REGISTRO!$D$11:$D$1011,B20)","v":0},{"$f":"SCI!F20-SUMIFS(REGISTRO!$J$11:$J$1011,REGISTRO!$D$11:$D$1011,B20)","v":0},{"$f":"SCI!G20-SUMIFS(REGISTRO!$H$11:$H$1011,REGISTRO!$D$11:$D$1011,B20)","v":0},{"$f":"SCI!H20-SUMIFS(REGISTRO!$F$11:$F$1011,REGISTRO!$D$11:$D$1011,B20)","v":271.21000000000004},271.21000000000004]
[11,{"$f":"'DATI-CONDOMINIO'!A21","v":"C11"},{"$f":"'DATI-CONDOMINIO'!B21","v":"Condomino-11"},{"$f":"SCI!D21-SUMIFS(REGISTRO!$N$11:$N$1011,REGISTRO!$D$11:$D$1011,B21)","v":0},{"$f":"SCI!E21-SUMIFS(REGISTRO!$L$11:$L$1011,REGISTRO!$D$11:$D$1011,B21)","v":0},{"$f":"SCI!F21-SUMIFS(REGISTRO!$J$11:$J$1011,REGISTRO!$D$11:$D$1011,B21)","v":0},{"$f":"SCI!G21-SUMIFS(REGISTRO!$H$11:$H$1011,REGISTRO!$D$11:$D$1011,B21)","v":0},{"$f":"SCI!H21-SUMIFS(REGISTRO!$F$11:$F$1011,REGISTRO!$D$11:$D$1011,B21)","v":347.59000000000003},347.59000000000003]
[12,{"$f":"'DATI-CONDOMINIO'!A22","v":"C12"},{"$f":"'DATI-CONDOMINIO'!B22","v":"Condomino-12"},{"$f":"SCI!D22-SUMIFS(REGISTRO!$N$11:$N$1011,REGISTRO!$D$11:$D$1011,B22)","v":0},{"$f":"SCI!E22-SUMIFS(REGISTRO!$L$11:$L$1011,REGISTRO!$D$11:$D$1011,B22)","v":0},{"$f":"SCI!F22-SUMIFS(REGISTRO!$J$11:$J$1011,REGISTRO!$D$11:$D$1011,B22)","v":0},{"$f":"SCI!G22-SUMIFS(REGISTRO!$H$11:$H$1011,REGISTRO!$D$11:$D$1011,B22)","v":0},{"$f":"SCI!H22-SUMIFS(REGISTRO!$F$11:$F$1011,REGISTRO!$D$11:$D$1011,B22)","v":250.90999999999997},250.90999999999997]
[13,{"$f":"'DATI-CONDOMINIO'!A23","v":"C13"},{"$f":"'DATI-CONDOMINIO'!B23","v":"Condomino-13"},{"$f":"SCI!D23-SUMIFS(REGISTRO!$N$11:$N$1011,REGISTRO!$D$11:$D$1011,B23)","v":0},{"$f":"SCI!E23-SUMIFS(REGISTRO!$L$11:$L$1011,REGISTRO!$D$11:$D$1011,B23)","v":0},{"$f":"SCI!F23-SUMIFS(REGISTRO!$J$11:$J$1011,REGISTRO!$D$11:$D$1011,B23)","v":0},{"$f":"SCI!G23-SUMIFS(REGISTRO!$H$11:$H$1011,REGISTRO!$D$11:$D$1011,B23)","v":0},{"$f":"SCI!H23-SUMIFS(REGISTRO!$F$11:$F$1011,REGISTRO!$D$11:$D$1011,B23)","v":91.01},91.01]
[14,{"$f":"'DATI-CONDOMINIO'!A24","v":"C14"},{"$f":"'DATI-CONDOMINIO'!B24","v":"Condomino-14"},{"$f":"SCI!D24-SUMIFS(REGISTRO!$N$11:$N$1011,REGISTRO!$D$11:$D$1011,B24)","v":0},{"$f":"SCI!E24-SUMIFS(REGISTRO!$L$11:$L$1011,REGISTRO!$D$11:$D$1011,B24)","v":0},{"$f":"SCI!F24-SUMIFS(REGISTRO!$J$11:$J$1011,REGISTRO!$D$11:$D$1011,B24)","v":0},{"$f":"SCI!G24-SUMIFS(REGISTRO!$H$11:$H$1011,REGISTRO!$D$11:$D$1011,B24)","v":0},{"$f":"SCI!H24-SUMIFS(REGISTRO!$F$11:$F$1011,REGISTRO!$D$11:$D$1011,B24)","v":291.24},291.24]
[15,{"$f":"'DATI-CONDOMINIO'!A25","v":"C15"},{"$f":"'DATI-CONDOMINIO'!B25","v":"Condomino-15"},{"$f":"SCI!D25-SUMIFS(REGISTRO!$N$11:$N$1011,REGISTRO!$D$11:$D$1011,B25)","v":0},{"$f":"SCI!E25-SUMIFS(REGISTRO!$L$11:$L$1011,REGISTRO!$D$11:$D$1011,B25)","v":0},{"$f":"SCI!F25-SUMIFS(REGISTRO!$J$11:$J$1011,REGISTRO!$D$11:$D$1011,B25)","v":0},{"$f":"SCI!G25-SUMIFS(REGISTRO!$H$11:$H$1011,REGISTRO!$D$11:$D$1011,B25)","v":640.5},{"$f":"SCI!H25-SUMIFS(REGISTRO!$F$11:$F$1011,REGISTRO!$D$11:$D$1011,B25)","v":672.40000000000009},1312.9]
[16,{"$f":"'DATI-CONDOMINIO'!A26","v":"C16"},{"$f":"'DATI-CONDOMINIO'!B26","v":"Condomino-16"},{"$f":"SCI!D26-SUMIFS(REGISTRO!$N$11:$N$1011,REGISTRO!$D$11:$D$1011,B26)","v":0},{"$f":"SCI!E26-SUMIFS(REGISTRO!$L$11:$L$1011,REGISTRO!$D$11:$D$1011,B26)","v":0},{"$f":"SCI!F26-SUMIFS(REGISTRO!$J$11:$J$1011,REGISTRO!$D$11:$D$1011,B26)","v":0},{"$f":"SCI!G26-SUMIFS(REGISTRO!$H$11:$H$1011,REGISTRO!$D$11:$D$1011,B26)","v":0},{"$f":"SCI!H26-SUMIFS(REGISTRO!$F$11:$F$1011,REGISTRO!$D$11:$D$1011,B26)","v":583.29},583.29]
[17,{"$f":"'DATI-CONDOMINIO'!A27","v":"C17"},{"$f":"'DATI-CONDOMINIO'!B27","v":"Condomino-17"},{"$f":"SCI!D27-SUMIFS(REGISTRO!$N$11:$N$1011,REGISTRO!$D$11:$D$1011,B27)","v":0},{"$f":"SCI!E27-SUMIFS(REGISTRO!$L$11:$L$1011,REGISTRO!$D$11:$D$1011,B27)","v":0},{"$f":"SCI!F27-SUMIFS(REGISTRO!$J$11:$J$1011,REGISTRO!$D$11:$D$1011,B27)","v":0},{"$f":"SCI!G27-SUMIFS(REGISTRO!$H$11:$H$1011,REGISTRO!$D$11:$D$1011,B27)","v":312.10000000000002},{"$f":"SCI!H27-SUMIFS(REGISTRO!$F$11:$F$1011,REGISTRO!$D$11:$D$1011,B27)","v":499.39},811.49]
[18,{"$f":"'DATI-CONDOMINIO'!A28","v":"C18"},{"$f":"'DATI-CONDOMINIO'!B28","v":"Condomino-18"},{"$f":"SCI!D28-SUMIFS(REGISTRO!$N$11:$N$1011,REGISTRO!$D$11:$D$1011,B28)","v":0},{"$f":"SCI!E28-SUMIFS(REGISTRO!$L$11:$L$1011,REGISTRO!$D$11:$D$1011,B28)","v":0},{"$f":"SCI!F28-SUMIFS(REGISTRO!$J$11:$J$1011,REGISTRO!$D$11:$D$1011,B28)","v":0},{"$f":"SCI!G28-SUMIFS(REGISTRO!$H$11:$H$1011,REGISTRO!$D$11:$D$1011,B28)","v":0},{"$f":"SCI!H28-SUMIFS(REGISTRO!$F$11:$F$1011,REGISTRO!$D$11:$D$1011,B28)","v":583.05999999999995},583.05999999999995]
[19,{"$f":"'DATI-CONDOMINIO'!A29","v":"C19"},{"$f":"'DATI-CONDOMINIO'!B29","v":"Condomino-19"},{"$f":"SCI!D29-SUMIFS(REGISTRO!$N$11:$N$1011,REGISTRO!$D$11:$D$1011,B29)","v":0},{"$f":"SCI!E29-SUMIFS(REGISTRO!$L$11:$L$1011,REGISTRO!$D$11:$D$1011,B29)","v":0},{"$f":"SCI!F29-SUMIFS(REGISTRO!$J$11:$J$1011,REGISTRO!$D$11:$D$1011,B29)","v":0},{"$f":"SCI!G29-SUMIFS(REGISTRO!$H$11:$H$1011,REGISTRO!$D$11:$D$1011,B29)","v":0},{"$f":"SCI!H29-SUMIFS(REGISTRO!$F$11:$F$1011,REGISTRO!$D$11:$D$1011,B29)","v":477.12},477.12]
[20,{"$f":"'DATI-CONDOMINIO'!A30","v":"C20"},{"$f":"'DATI-CONDOMINIO'!B30","v":"Condomino-20"},{"$f":"SCI!D30-SUMIFS(REGISTRO!$N$11:$N$1011,REGISTRO!$D$11:$D$1011,B30)","v":0},{"$f":"SCI!E30-SUMIFS(REGISTRO!$L$11:$L$1011,REGISTRO!$D$11:$D$1011,B30)","v":0},{"$f":"SCI!F30-SUMIFS(REGISTRO!$J$11:$J$1011,REGISTRO!$D$11:$D$1011,B30)","v":0},{"$f":"SCI!G30-SUMIFS(REGISTRO!$H$11:$H$1011,REGISTRO!$D$11:$D$1011,B30)","v":179.04},{"$f":"SCI!H30-SUMIFS(REGISTRO!$F$11:$F$1011,REGISTRO!$D$11:$D$1011,B30)","v":510.17000000000007},689.21]
[21,{"$f":"'DATI-CONDOMINIO'!A31","v":"C21"},{"$f":"'DATI-CONDOMINIO'!B31","v":"Condomino-21"},{"$f":"SCI!D31-SUMIFS(REGISTRO!$N$11:$N$1011,REGISTRO!$D$11:$D$1011,B31)","v":0},{"$f":"SCI!E31-SUMIFS(REGISTRO!$L$11:$L$1011,REGISTRO!$D$11:$D$1011,B31)","v":0},{"$f":"SCI!F31-SUMIFS(REGISTRO!$J$11:$J$1011,REGISTRO!$D$11:$D$1011,B31)","v":0},{"$f":"SCI!G31-SUMIFS(REGISTRO!$H$11:$H$1011,REGISTRO!$D$11:$D$1011,B31)","v":0},{"$f":"SCI!H31-SUMIFS(REGISTRO!$F$11:$F$1011,REGISTRO!$D$11:$D$1011,B31)","v":349.98},349.98]
[22,{"$f":"'DATI-CONDOMINIO'!A32","v":"C22"},{"$f":"'DATI-CONDOMINIO'!B32","v":"Condomino-22"},{"$f":"SCI!D32-SUMIFS(REGISTRO!$N$11:$N$1011,REGISTRO!$D$11:$D$1011,B32)","v":0},{"$f":"SCI!E32-SUMIFS(REGISTRO!$L$11:$L$1011,REGISTRO!$D$11:$D$1011,B32)","v":0},{"$f":"SCI!F32-SUMIFS(REGISTRO!$J$11:$J$1011,REGISTRO!$D$11:$D$1011,B32)","v":0},{"$f":"SCI!G32-SUMIFS(REGISTRO!$H$11:$H$1011,REGISTRO!$D$11:$D$1011,B32)","v":305.95},{"$f":"SCI!H32-SUMIFS(REGISTRO!$F$11:$F$1011,REGISTRO!$D$11:$D$1011,B32)","v":388.46000000000004},694.41000000000008]
[23,{"$f":"'DATI-CONDOMINIO'!A33","v":"C23"},{"$f":"'DATI-CONDOMINIO'!B33","v":"Condomino-23"},{"$f":"SCI!D33-SUMIFS(REGISTRO!$N$11:$N$1011,REGISTRO!$D$11:$D$1011,B33)","v":0},{"$f":"SCI!E33-SUMIFS(REGISTRO!$L$11:$L$1011,REGISTRO!$D$11:$D$1011,B33)","v":0},{"$f":"SCI!F33-SUMIFS(REGISTRO!$J$11:$J$1011,REGISTRO!$D$11:$D$1011,B33)","v":0},{"$f":"SCI!G33-SUMIFS(REGISTRO!$H$11:$H$1011,REGISTRO!$D$11:$D$1011,B33)","v":0},{"$f":"SCI!H33-SUMIFS(REGISTRO!$F$11:$F$1011,REGISTRO!$D$11:$D$1011,B33)","v":278.75},278.75]
[24,{"$f":"'DATI-CONDOMINIO'!A34","v":"C24"},{"$f":"'DATI-CONDOMINIO'!B34","v":"Condomino-24"},{"$f":"SCI!D34-SUMIFS(REGISTRO!$N$11:$N$1011,REGISTRO!$D$11:$D$1011,B34)","v":0},{"$f":"SCI!E34-SUMIFS(REGISTRO!$L$11:$L$1011,REGISTRO!$D$11:$D$1011,B34)","v":0},{"$f":"SCI!F34-SUMIFS(REGISTRO!$J$11:$J$1011,REGISTRO!$D$11:$D$1011,B34)","v":0},{"$f":"SCI!G34-SUMIFS(REGISTRO!$H$11:$H$1011,REGISTRO!$D$11:$D$1011,B34)","v":0},{"$f":"SCI!H34-SUMIFS(REGISTRO!$F$11:$F$1011,REGISTRO!$D$11:$D$1011,B34)","v":298.72000000000003},298.72000000000003]
[25,{"$f":"'DATI-CONDOMINIO'!A35","v":"C25"},{"$f":"'DATI-CONDOMINIO'!B35","v":0},{"$f":"SCI!D35-SUMIFS(REGISTRO!$N$11:$N$1011,REGISTRO!$D$11:$D$1011,B35)","v":0},{"$f":"SCI!E35-SUMIFS(REGISTRO!$L$11:$L$1011,REGISTRO!$D$11:$D$1011,B35)","v":0},{"$f":"SCI!F35-SUMIFS(REGISTRO!$J$11:$J$1011,REGISTRO!$D$11:$D$1011,B35)","v":0},{"$f":"SCI!G35-SUMIFS(REGISTRO!$H$11:$H$1011,REGISTRO!$D$11:$D$1011,B35)","v":0},{"$f":"SCI!H35-SUMIFS(REGISTRO!$F$11:$F$1011,REGISTRO!$D$11:$D$1011,B35)","v":0},0]
[26,{"$f":"'DATI-CONDOMINIO'!A36","v":"C26"},{"$f":"'DATI-CONDOMINIO'!B36","v":""},{"$f":"SCI!D36-SUMIFS(REGISTRO!$N$11:$N$1011,REGISTRO!$D$11:$D$1011,B36)","v":0},{"$f":"SCI!E36-SUMIFS(REGISTRO!$L$11:$L$1011,REGISTRO!$D$11:$D$1011,B36)","v":0},{"$f":"SCI!F36-SUMIFS(REGISTRO!$J$11:$J$1011,REGISTRO!$D$11:$D$1011,B36)","v":0},{"$f":"SCI!G36-SUMIFS(REGISTRO!$H$11:$H$1011,REGISTRO!$D$11:$D$1011,B36)","v":0},{"$f":"SCI!H36-SUMIFS(REGISTRO!$F$11:$F$1011,REGISTRO!$D$11:$D$1011,B36)","v":0},0]
[27,{"$f":"'DATI-CONDOMINIO'!A37","v":"C27"},{"$f":"'DATI-CONDOMINIO'!B37","v":""},{"$f":"SCI!D37-SUMIFS(REGISTRO!$N$11:$N$1011,REGISTRO!$D$11:$D$1011,B37)","v":0},{"$f":"SCI!E37-SUMIFS(REGISTRO!$L$11:$L$1011,REGISTRO!$D$11:$D$1011,B37)","v":0},{"$f":"SCI!F37-SUMIFS(REGISTRO!$J$11:$J$1011,REGISTRO!$D$11:$D$1011,B37)","v":0},{"$f":"SCI!G37-SUMIFS(REGISTRO!$H$11:$H$1011,REGISTRO!$D$11:$D$1011,B37)","v":0},{"$f":"SCI!H37-SUMIFS(REGISTRO!$F$11:$F$1011,REGISTRO!$D$11:$D$1011,B37)","v":0},0]
[28,{"$f":"'DATI-CONDOMINIO'!A38","v":"C28"},{"$f":"'DATI-CONDOMINIO'!B38","v":""},{"$f":"SCI!D38-SUMIFS(REGISTRO!$N$11:$N$1011,REGISTRO!$D$11:$D$1011,B38)","v":0},{"$f":"SCI!E38-SUMIFS(REGISTRO!$L$11:$L$1011,REGISTRO!$D$11:$D$1011,B38)","v":0},{"$f":"SCI!F38-SUMIFS(REGISTRO!$J$11:$J$1011,REGISTRO!$D$11:$D$1011,B38)","v":0},{"$f":"SCI!G38-SUMIFS(REGISTRO!$H$11:$H$1011,REGISTRO!$D$11:$D$1011,B38)","v":0},{"$f":"SCI!H38-SUMIFS(REGISTRO!$F$11:$F$1011,REGISTRO!$D$11:$D$1011,B38)","v":0},0]
[29,{"$f":"'DATI-CONDOMINIO'!A39","v":"C29"},{"$f":"'DATI-CONDOMINIO'!B39","v":""},{"$f":"SCI!D39-SUMIFS(REGISTRO!$N$11:$N$1011,REGISTRO!$D$11:$D$1011,B39)","v":0},{"$f":"SCI!E39-SUMIFS(REGISTRO!$L$11:$L$1011,REGISTRO!$D$11:$D$1011,B39)","v":0},{"$f":"SCI!F39-SUMIFS(REGISTRO!$J$11:$J$1011,REGISTRO!$D$11:$D$1011,B39)","v":0},{"$f":"SCI!G39-SUMIFS(REGISTRO!$H$11:$H$1011,REGISTRO!$D$11:$D$1011,B39)","v":0},{"$f":"SCI!H39-SUMIFS(REGISTRO!$F$11:$F$1011,REGISTRO!$D$11:$D$1011,B39)","v":0},0]
[30,{"$f":"'DATI-CONDOMINIO'!A40","v":"C30"},{"$f":"'DATI-CONDOMINIO'!B40","v":""},{"$f":"SCI!D40-SUMIFS(REGISTRO!$N$11:$N$1011,REGISTRO!$D$11:$D$1011,B40)","v":0},{"$f":"SCI!E40-SUMIFS(REGISTRO!$L$11:$L$1011,REGISTRO!$D$11:$D$1011,B40)","v":0},{"$f":"SCI!F40-SUMIFS(REGISTRO!$J$11:$J$1011,REGISTRO!$D$11:$D$1011,B40)","v":0},{"$f":"SCI!G40-SUMIFS(REGISTRO!$H$11:$H$1011,REGISTRO!$D$11:$D$1011,B40)","v":0},{"$f":"SCI!H40-SUMIFS(REGISTRO!$F$11:$F$1011,REGISTRO!$D$11:$D$1011,B40)","v":0},0]
[31,{"$f":"'DATI-CONDOMINIO'!A41","v":"C31"},{"$f":"'DATI-CONDOMINIO'!B41","v":""},{"$f":"SCI!D41-SUMIFS(REGISTRO!$N$11:$N$1011,REGISTRO!$D$11:$D$1011,B41)","v":0},{"$f":"SCI!E41-SUMIFS(REGISTRO!$L$11:$L$1011,REGISTRO!$D$11:$D$1011,B41)","v":0},{"$f":"SCI!F41-SUMIFS(REGISTRO!$J$11:$J$1011,REGISTRO!$D$11:$D$1011,B41)","v":0},{"$f":"SCI!G41-SUMIFS(REGISTRO!$H$11:$H$1011,REGISTRO!$D$11:$D$1011,B41)","v":0},{"$f":"SCI!H41-SUMIFS(REGISTRO!$F$11:$F$1011,REGISTRO!$D$11:$D$1011,B41)","v":0},0]
[32,{"$f":"'DATI-CONDOMINIO'!A42","v":"C32"},{"$f":"'DATI-CONDOMINIO'!B42","v":""},{"$f":"SCI!D42-SUMIFS(REGISTRO!$N$11:$N$1011,REGISTRO!$D$11:$D$1011,B42)","v":0},{"$f":"SCI!E42-SUMIFS(REGISTRO!$L$11:$L$1011,REGISTRO!$D$11:$D$1011,B42)","v":0},{"$f":"SCI!F42-SUMIFS(REGISTRO!$J$11:$J$1011,REGISTRO!$D$11:$D$1011,B42)","v":0},{"$f":"SCI!G42-SUMIFS(REGISTRO!$H$11:$H$1011,REGISTRO!$D$11:$D$1011,B42)","v":0},{"$f":"SCI!H42-SUMIFS(REGISTRO!$F$11:$F$1011,REGISTRO!$D$11:$D$1011,B42)","v":0},0]
[33,{"$f":"'DATI-CONDOMINIO'!A43","v":"C33"},{"$f":"'DATI-CONDOMINIO'!B43","v":""},{"$f":"SCI!D43-SUMIFS(REGISTRO!$N$11:$N$1011,REGISTRO!$D$11:$D$1011,B43)","v":0},{"$f":"SCI!E43-SUMIFS(REGISTRO!$L$11:$L$1011,REGISTRO!$D$11:$D$1011,B43)","v":0},{"$f":"SCI!F43-SUMIFS(REGISTRO!$J$11:$J$1011,REGISTRO!$D$11:$D$1011,B43)","v":0},{"$f":"SCI!G43-SUMIFS(REGISTRO!$H$11:$H$1011,REGISTRO!$D$11:$D$1011,B43)","v":0},{"$f":"SCI!H43-SUMIFS(REGISTRO!$F$11:$F$1011,REGISTRO!$D$11:$D$1011,B43)","v":0},0]
[34,{"$f":"'DATI-CONDOMINIO'!A44","v":"C34"},{"$f":"'DATI-CONDOMINIO'!B44","v":""},{"$f":"SCI!D44-SUMIFS(REGISTRO!$N$11:$N$1011,REGISTRO!$D$11:$D$1011,B44)","v":0},{"$f":"SCI!E44-SUMIFS(REGISTRO!$L$11:$L$1011,REGISTRO!$D$11:$D$1011,B44)","v":0},{"$f":"SCI!F44-SUMIFS(REGISTRO!$J$11:$J$1011,REGISTRO!$D$11:$D$1011,B44)","v":0},{"$f":"SCI!G44-SUMIFS(REGISTRO!$H$11:$H$1011,REGISTRO!$D$11:$D$1011,B44)","v":0},{"$f":"SCI!H44-SUMIFS(REGISTRO!$F$11:$F$1011,REGISTRO!$D$11:$D$1011,B44)","v":0},0]
[35,{"$f":"'DATI-CONDOMINIO'!A45","v":"C35"},{"$f":"'DATI-CONDOMINIO'!B45","v":""},{"$f":"SCI!D45-SUMIFS(REGISTRO!$N$11:$N$1011,REGISTRO!$D$11:$D$1011,B45)","v":0},{"$f":"SCI!E45-SUMIFS(REGISTRO!$L$11:$L$1011,REGISTRO!$D$11:$D$1011,B45)","v":0},{"$f":"SCI!F45-SUMIFS(REGISTRO!$J$11:$J$1011,REGISTRO!$D$11:$D$1011,B45)","v":0},{"$f":"SCI!G45-SUMIFS(REGISTRO!$H$11:$H$1011,REGISTRO!$D$11:$D$1011,B45)","v":0},{"$f":"SCI!H45-SUMIFS(REGISTRO!$F$11:$F$1011,REGISTRO!$D$11:$D$1011,B45)","v":0},0]
[36,{"$f":"'DATI-CONDOMINIO'!A46","v":"C36"},{"$f":"'DATI-CONDOMINIO'!B46","v":""},{"$f":"SCI!D46-SUMIFS(REGISTRO!$N$11:$N$1011,REGISTRO!$D$11:$D$1011,B46)","v":0},{"$f":"SCI!E46-SUMIFS(REGISTRO!$L$11:$L$1011,REGISTRO!$D$11:$D$1011,B46)","v":0},{"$f":"SCI!F46-SUMIFS(REGISTRO!$J$11:$J$1011,REGISTRO!$D$11:$D$1011,B46)","v":0},{"$f":"SCI!G46-SUMIFS(REGISTRO!$H$11:$H$1011,REGISTRO!$D$11:$D$1011,B46)","v":0},{"$f":"SCI!H46-SUMIFS(REGISTRO!$F$11:$F$1011,REGISTRO!$D$11:$D$1011,B46)","v":0},0]
[37,{"$f":"'DATI-CONDOMINIO'!A47","v":"C37"},{"$f":"'DATI-CONDOMINIO'!B47","v":""},{"$f":"SCI!D47-SUMIFS(REGISTRO!$N$11:$N$1011,REGISTRO!$D$11:$D$1011,B47)","v":0},{"$f":"SCI!E47-SUMIFS(REGISTRO!$L$11:$L$1011,REGISTRO!$D$11:$D$1011,B47)","v":0},{"$f":"SCI!F47-SUMIFS(REGISTRO!$J$11:$J$1011,REGISTRO!$D$11:$D$1011,B47)","v":0},{"$f":"SCI!G47-SUMIFS(REGISTRO!$H$11:$H$1011,REGISTRO!$D$11:$D$1011,B47)","v":0},{"$f":"SCI!H47-SUMIFS(REGISTRO!$F$11:$F$1011,REGISTRO!$D$11:$D$1011,B47)","v":0},0]
[38,{"$f":"'DATI-CONDOMINIO'!A48","v":"C38"},{"$f":"'DATI-CONDOMINIO'!B48","v":""},{"$f":"SCI!D48-SUMIFS(REGISTRO!$N$11:$N$1011,REGISTRO!$D$11:$D$1011,B48)","v":0},{"$f":"SCI!E48-SUMIFS(REGISTRO!$L$11:$L$1011,REGISTRO!$D$11:$D$1011,B48)","v":0},{"$f":"SCI!F48-SUMIFS(REGISTRO!$J$11:$J$1011,REGISTRO!$D$11:$D$1011,B48)","v":0},{"$f":"SCI!G48-SUMIFS(REGISTRO!$H$11:$H$1011,REGISTRO!$D$11:$D$1011,B48)","v":0},{"$f":"SCI!H48-SUMIFS(REGISTRO!$F$11:$F$1011,REGISTRO!$D$11:$D$1011,B48)","v":0},0]
[39,{"$f":"'DATI-CONDOMINIO'!A49","v":"C39"},{"$f":"'DATI-CONDOMINIO'!B49","v":""},{"$f":"SCI!D49-SUMIFS(REGISTRO!$N$11:$N$1011,REGISTRO!$D$11:$D$1011,B49)","v":0},{"$f":"SCI!E49-SUMIFS(REGISTRO!$L$11:$L$1011,REGISTRO!$D$11:$D$1011,B49)","v":0},{"$f":"SCI!F49-SUMIFS(REGISTRO!$J$11:$J$1011,REGISTRO!$D$11:$D$1011,B49)","v":0},{"$f":"SCI!G49-SUMIFS(REGISTRO!$H$11:$H$1011,REGISTRO!$D$11:$D$1011,B49)","v":0},{"$f":"SCI!H49-SUMIFS(REGISTRO!$F$11:$F$1011,REGISTRO!$D$11:$D$1011,B49)","v":0},0]
[40,{"$f":"'DATI-CONDOMINIO'!A50","v":"C40"},{"$f":"'DATI-CONDOMINIO'!B50","v":""},{"$f":"SCI!D50-SUMIFS(REGISTRO!$N$11:$N$1011,REGISTRO!$D$11:$D$1011,B50)","v":0},{"$f":"SCI!E50-SUMIFS(REGISTRO!$L$11:$L$1011,REGISTRO!$D$11:$D$1011,B50)","v":0},{"$f":"SCI!F50-SUMIFS(REGISTRO!$J$11:$J$1011,REGISTRO!$D$11:$D$1011,B50)","v":0},{"$f":"SCI!G50-SUMIFS(REGISTRO!$H$11:$H$1011,REGISTRO!$D$11:$D$1011,B50)","v":0},{"$f":"SCI!H50-SUMIFS(REGISTRO!$F$11:$F$1011,REGISTRO!$D$11:$D$1011,B50)","v":0},0]
[41,{"$f":"'DATI-CONDOMINIO'!A51","v":"C41"},{"$f":"'DATI-CONDOMINIO'!B51","v":""},{"$f":"SCI!D51-SUMIFS(REGISTRO!$N$11:$N$1011,REGISTRO!$D$11:$D$1011,B51)","v":0},{"$f":"SCI!E51-SUMIFS(REGISTRO!$L$11:$L$1011,REGISTRO!$D$11:$D$1011,B51)","v":0},{"$f":"SCI!F51-SUMIFS(REGISTRO!$J$11:$J$1011,REGISTRO!$D$11:$D$1011,B51)","v":0},{"$f":"SCI!G51-SUMIFS(REGISTRO!$H$11:$H$1011,REGISTRO!$D$11:$D$1011,B51)","v":0},{"$f":"SCI!H51-SUMIFS(REGISTRO!$F$11:$F$1011,REGISTRO!$D$11:$D$1011,B51)","v":0},0]
[42,{"$f":"'DATI-CONDOMINIO'!A52","v":"C42"},{"$f":"'DATI-CONDOMINIO'!B52","v":""},{"$f":"SCI!D52-SUMIFS(REGISTRO!$N$11:$N$1011,REGISTRO!$D$11:$D$1011,B52)","v":0},{"$f":"SCI!E52-SUMIFS(REGISTRO!$L$11:$L$1011,REGISTRO!$D$11:$D$1011,B52)","v":0},{"$f":"SCI!F52-SUMIFS(REGISTRO!$J$11:$J$1011,REGISTRO!$D$11:$D$1011,B52)","v":0},{"$f":"SCI!G52-SUMIFS(REGISTRO!$H$11:$H$1011,REGISTRO!$D$11:$D$1011,B52)","v":0},{"$f":"SCI!H52-SUMIFS(REGISTRO!$F$11:$F$1011,REGISTRO!$D$11:$D$1011,B52)","v":0},0]
[43,{"$f":"'DATI-CONDOMINIO'!A53","v":"C43"},{"$f":"'DATI-CONDOMINIO'!B53","v":""},{"$f":"SCI!D53-SUMIFS(REGISTRO!$N$11:$N$1011,REGISTRO!$D$11:$D$1011,B53)","v":0},{"$f":"SCI!E53-SUMIFS(REGISTRO!$L$11:$L$1011,REGISTRO!$D$11:$D$1011,B53)","v":0},{"$f":"SCI!F53-SUMIFS(REGISTRO!$J$11:$J$1011,REGISTRO!$D$11:$D$1011,B53)","v":0},{"$f":"SCI!G53-SUMIFS(REGISTRO!$H$11:$H$1011,REGISTRO!$D$11:$D$1011,B53)","v":0},{"$f":"SCI!H53-SUMIFS(REGISTRO!$F$11:$F$1011,REGISTRO!$D$11:$D$1011,B53)","v":0},0]
[44,{"$f":"'DATI-CONDOMINIO'!A54","v":"C44"},{"$f":"'DATI-CONDOMINIO'!B54","v":""},{"$f":"SCI!D54-SUMIFS(REGISTRO!$N$11:$N$1011,REGISTRO!$D$11:$D$1011,B54)","v":0},{"$f":"SCI!E54-SUMIFS(REGISTRO!$L$11:$L$1011,REGISTRO!$D$11:$D$1011,B54)","v":0},{"$f":"SCI!F54-SUMIFS(REGISTRO!$J$11:$J$1011,REGISTRO!$D$11:$D$1011,B54)","v":0},{"$f":"SCI!G54-SUMIFS(REGISTRO!$H$11:$H$1011,REGISTRO!$D$11:$D$1011,B54)","v":0},{"$f":"SCI!H54-SUMIFS(REGISTRO!$F$11:$F$1011,REGISTRO!$D$11:$D$1011,B54)","v":0},0]
[45,{"$f":"'DATI-CONDOMINIO'!A55","v":"C45"},{"$f":"'DATI-CONDOMINIO'!B55","v":""},{"$f":"SCI!D55-SUMIFS(REGISTRO!$N$11:$N$1011,REGISTRO!$D$11:$D$1011,B55)","v":0},{"$f":"SCI!E55-SUMIFS(REGISTRO!$L$11:$L$1011,REGISTRO!$D$11:$D$1011,B55)","v":0},{"$f":"SCI!F55-SUMIFS(REGISTRO!$J$11:$J$1011,REGISTRO!$D$11:$D$1011,B55)","v":0},{"$f":"SCI!G55-SUMIFS(REGISTRO!$H$11:$H$1011,REGISTRO!$D$11:$D$1011,B55)","v":0},{"$f":"SCI!H55-SUMIFS(REGISTRO!$F$11:$F$1011,REGISTRO!$D$11:$D$1011,B55)","v":0},0]
[46,{"$f":"'DATI-CONDOMINIO'!A56","v":"C46"},{"$f":"'DATI-CONDOMINIO'!B56","v":""},{"$f":"SCI!D56-SUMIFS(REGISTRO!$N$11:$N$1011,REGISTRO!$D$11:$D$1011,B56)","v":0},{"$f":"SCI!E56-SUMIFS(REGISTRO!$L$11:$L$1011,REGISTRO!$D$11:$D$1011,B56)","v":0},{"$f":"SCI!F56-SUMIFS(REGISTRO!$J$11:$J$1011,REGISTRO!$D$11:$D$1011,B56)","v":0},{"$f":"SCI!G56-SUMIFS(REGISTRO!$H$11:$H$1011,REGISTRO!$D$11:$D$1011,B56)","v":0},{"$f":"SCI!H56-SUMIFS(REGISTRO!$F$11:$F$1011,REGISTRO!$D$11:$D$1011,B56)","v":0},0]
[47,{"$f":"'DATI-CONDOMINIO'!A57","v":"C47"},{"$f":"'DATI-CONDOMINIO'!B57","v":""},{"$f":"SCI!D57-SUMIFS(REGISTRO!$N$11:$N$1011,REGISTRO!$D$11:$D$1011,B57)","v":0},{"$f":"SCI!E57-SUMIFS(REGISTRO!$L$11:$L$1011,REGISTRO!$D$11:$D$1011,B57)","v":0},{"$f":"SCI!F57-SUMIFS(REGISTRO!$J$11:$J$1011,REGISTRO!$D$11:$D$1011,B57)","v":0},{"$f":"SCI!G57-SUMIFS(REGISTRO!$H$11:$H$1011,REGISTRO!$D$11:$D$1011,B57)","v":0},{"$f":"SCI!H57-SUMIFS(REGISTRO!$F$11:$F$1011,REGISTRO!$D$11:$D$1011,B57)","v":0},0]
[48,{"$f":"'DATI-CONDOMINIO'!A58","v":"C48"},{"$f":"'DATI-CONDOMINIO'!B58","v":""},{"$f":"SCI!D58-SUMIFS(REGISTRO!$N$11:$N$1011,REGISTRO!$D$11:$D$1011,B58)","v":0},{"$f":"SCI!E58-SUMIFS(REGISTRO!$L$11:$L$1011,REGISTRO!$D$11:$D$1011,B58)","v":0},{"$f":"SCI!F58-SUMIFS(REGISTRO!$J$11:$J$1011,REGISTRO!$D$11:$D$1011,B58)","v":0},{"$f":"SCI!G58-SUMIFS(REGISTRO!$H$11:$H$1011,REGISTRO!$D$11:$D$1011,B58)","v":0},{"$f":"SCI!H58-SUMIFS(REGISTRO!$F$11:$F$1011,REGISTRO!$D$11:$D$1011,B58)","v":0},0]
[49,{"$f":"'DATI-CONDOMINIO'!A59","v":"C49"},{"$f":"'DATI-CONDOMINIO'!B59","v":""},{"$f":"SCI!D59-SUMIFS(REGISTRO!$N$11:$N$1011,REGISTRO!$D$11:$D$1011,B59)","v":0},{"$f":"SCI!E59-SUMIFS(REGISTRO!$L$11:$L$1011,REGISTRO!$D$11:$D$1011,B59)","v":0},{"$f":"SCI!F59-SUMIFS(REGISTRO!$J$11:$J$1011,REGISTRO!$D$11:$D$1011,B59)","v":0},{"$f":"SCI!G59-SUMIFS(REGISTRO!$H$11:$H$1011,REGISTRO!$D$11:$D$1011,B59)","v":0},{"$f":"SCI!H59-SUMIFS(REGISTRO!$F$11:$F$1011,REGISTRO!$D$11:$D$1011,B59)","v":0},0]
[50,{"$f":"'DATI-CONDOMINIO'!A60","v":"C50"},{"$f":"'DATI-CONDOMINIO'!B60","v":""},{"$f":"SCI!D60-SUMIFS(REGISTRO!$N$11:$N$1011,REGISTRO!$D$11:$D$1011,B60)","v":0},{"$f":"SCI!E60-SUMIFS(REGISTRO!$L$11:$L$1011,REGISTRO!$D$11:$D$1011,B60)","v":0},{"$f":"SCI!F60-SUMIFS(REGISTRO!$J$11:$J$1011,REGISTRO!$D$11:$D$1011,B60)","v":0},{"$f":"SCI!G60-SUMIFS(REGISTRO!$H$11:$H$1011,REGISTRO!$D$11:$D$1011,B60)","v":0},{"$f":"SCI!H60-SUMIFS(REGISTRO!$F$11:$F$1011,REGISTRO!$D$11:$D$1011,B60)","v":0},0]
[51,{"$f":"'DATI-CONDOMINIO'!A61","v":"C51"},{"$f":"'DATI-CONDOMINIO'!B61","v":""},{"$f":"SCI!D61-SUMIFS(REGISTRO!$N$11:$N$1011,REGISTRO!$D$11:$D$1011,B61)","v":0},{"$f":"SCI!E61-SUMIFS(REGISTRO!$L$11:$L$1011,REGISTRO!$D$11:$D$1011,B61)","v":0},{"$f":"SCI!F61-SUMIFS(REGISTRO!$J$11:$J$1011,REGISTRO!$D$11:$D$1011,B61)","v":0},{"$f":"SCI!G61-SUMIFS(REGISTRO!$H$11:$H$1011,REGISTRO!$D$11:$D$1011,B61)","v":0},{"$f":"SCI!H61-SUMIFS(REGISTRO!$F$11:$F$1011,REGISTRO!$D$11:$D$1011,B61)","v":0},0]
[52,{"$f":"'DATI-CONDOMINIO'!A62","v":"C52"},{"$f":"'DATI-CONDOMINIO'!B62","v":""},{"$f":"SCI!D62-SUMIFS(REGISTRO!$N$11:$N$1011,REGISTRO!$D$11:$D$1011,B62)","v":0},{"$f":"SCI!E62-SUMIFS(REGISTRO!$L$11:$L$1011,REGISTRO!$D$11:$D$1011,B62)","v":0},{"$f":"SCI!F62-SUMIFS(REGISTRO!$J$11:$J$1011,REGISTRO!$D$11:$D$1011,B62)","v":0},{"$f":"SCI!G62-SUMIFS(REGISTRO!$H$11:$H$1011,REGISTRO!$D$11:$D$1011,B62)","v":0},{"$f":"SCI!H62-SUMIFS(REGISTRO!$F$11:$F$1011,REGISTRO!$D$11:$D$1011,B62)","v":0},0]
[53,{"$f":"'DATI-CONDOMINIO'!A63","v":"C53"},{"$f":"'DATI-CONDOMINIO'!B63","v":""},{"$f":"SCI!D63-SUMIFS(REGISTRO!$N$11:$N$1011,REGISTRO!$D$11:$D$1011,B63)","v":0},{"$f":"SCI!E63-SUMIFS(REGISTRO!$L$11:$L$1011,REGISTRO!$D$11:$D$1011,B63)","v":0},{"$f":"SCI!F63-SUMIFS(REGISTRO!$J$11:$J$1011,REGISTRO!$D$11:$D$1011,B63)","v":0},{"$f":"SCI!G63-SUMIFS(REGISTRO!$H$11:$H$1011,REGISTRO!$D$11:$D$1011,B63)","v":0},{"$f":"SCI!H63-SUMIFS(REGISTRO!$F$11:$F$1011,REGISTRO!$D$11:$D$1011,B63)","v":0},0]
[54,{"$f":"'DATI-CONDOMINIO'!A64","v":"C54"},{"$f":"'DATI-CONDOMINIO'!B64","v":""},{"$f":"SCI!D64-SUMIFS(REGISTRO!$N$11:$N$1011,REGISTRO!$D$11:$D$1011,B64)","v":0},{"$f":"SCI!E64-SUMIFS(REGISTRO!$L$11:$L$1011,REGISTRO!$D$11:$D$1011,B64)","v":0},{"$f":"SCI!F64-SUMIFS(REGISTRO!$J$11:$J$1011,REGISTRO!$D$11:$D$1011,B64)","v":0},{"$f":"SCI!G64-SUMIFS(REGISTRO!$H$11:$H$1011,REGISTRO!$D$11:$D$1011,B64)","v":0},{"$f":"SCI!H64-SUMIFS(REGISTRO!$F$11:$F$1011,REGISTRO!$D$11:$D$1011,B64)","v":0},0]
[55,{"$f":"'DATI-CONDOMINIO'!A65","v":"C55"},{"$f":"'DATI-CONDOMINIO'!B65","v":""},{"$f":"SCI!D65-SUMIFS(REGISTRO!$N$11:$N$1011,REGISTRO!$D$11:$D$1011,B65)","v":0},{"$f":"SCI!E65-SUMIFS(REGISTRO!$L$11:$L$1011,REGISTRO!$D$11:$D$1011,B65)","v":0},{"$f":"SCI!F65-SUMIFS(REGISTRO!$J$11:$J$1011,REGISTRO!$D$11:$D$1011,B65)","v":0},{"$f":"SCI!G65-SUMIFS(REGISTRO!$H$11:$H$1011,REGISTRO!$D$11:$D$1011,B65)","v":0},{"$f":"SCI!H65-SUMIFS(REGISTRO!$F$11:$F$1011,REGISTRO!$D$11:$D$1011,B65)","v":0},0]
[56,{"$f":"'DATI-CONDOMINIO'!A66","v":"C56"},{"$f":"'DATI-CONDOMINIO'!B66","v":""},{"$f":"SCI!D66-SUMIFS(REGISTRO!$N$11:$N$1011,REGISTRO!$D$11:$D$1011,B66)","v":0},{"$f":"SCI!E66-SUMIFS(REGISTRO!$L$11:$L$1011,REGISTRO!$D$11:$D$1011,B66)","v":0},{"$f":"SCI!F66-SUMIFS(REGISTRO!$J$11:$J$1011,REGISTRO!$D$11:$D$1011,B66)","v":0},{"$f":"SCI!G66-SUMIFS(REGISTRO!$H$11:$H$1011,REGISTRO!$D$11:$D$1011,B66)","v":0},{"$f":"SCI!H66-SUMIFS(REGISTRO!$F$11:$F$1011,REGISTRO!$D$11:$D$1011,B66)","v":0},0]
[57,{"$f":"'DATI-CONDOMINIO'!A67","v":"C57"},{"$f":"'DATI-CONDOMINIO'!B67","v":""},{"$f":"SCI!D67-SUMIFS(REGISTRO!$N$11:$N$1011,REGISTRO!$D$11:$D$1011,B67)","v":0},{"$f":"SCI!E67-SUMIFS(REGISTRO!$L$11:$L$1011,REGISTRO!$D$11:$D$1011,B67)","v":0},{"$f":"SCI!F67-SUMIFS(REGISTRO!$J$11:$J$1011,REGISTRO!$D$11:$D$1011,B67)","v":0},{"$f":"SCI!G67-SUMIFS(REGISTRO!$H$11:$H$1011,REGISTRO!$D$11:$D$1011,B67)","v":0},{"$f":"SCI!H67-SUMIFS(REGISTRO!$F$11:$F$1011,REGISTRO!$D$11:$D$1011,B67)","v":0},0]
[58,{"$f":"'DATI-CONDOMINIO'!A68","v":"C58"},{"$f":"'DATI-CONDOMINIO'!B68","v":""},{"$f":"SCI!D68-SUMIFS(REGISTRO!$N$11:$N$1011,REGISTRO!$D$11:$D$1011,B68)","v":0},{"$f":"SCI!E68-SUMIFS(REGISTRO!$L$11:$L$1011,REGISTRO!$D$11:$D$1011,B68)","v":0},{"$f":"SCI!F68-SUMIFS(REGISTRO!$J$11:$J$1011,REGISTRO!$D$11:$D$1011,B68)","v":0},{"$f":"SCI!G68-SUMIFS(REGISTRO!$H$11:$H$1011,REGISTRO!$D$11:$D$1011,B68)","v":0},{"$f":"SCI!H68-SUMIFS(REGISTRO!$F$11:$F$1011,REGISTRO!$D$11:$D$1011,B68)","v":0},0]
[59,{"$f":"'DATI-CONDOMINIO'!A69","v":"C59"},{"$f":"'DATI-CONDOMINIO'!B69","v":""},{"$f":"SCI!D69-SUMIFS(REGISTRO!$N$11:$N$1011,REGISTRO!$D$11:$D$1011,B69)","v":0},{"$f":"SCI!E69-SUMIFS(REGISTRO!$L$11:$L$1011,REGISTRO!$D$11:$D$1011,B69)","v":0},{"$f":"SCI!F69-SUMIFS(REGISTRO!$J$11:$J$1011,REGISTRO!$D$11:$D$1011,B69)","v":0},{"$f":"SCI!G69-SUMIFS(REGISTRO!$H$11:$H$1011,REGISTRO!$D$11:$D$1011,B69)","v":0},{"$f":"SCI!H69-SUMIFS(REGISTRO!$F$11:$F$1011,REGISTRO!$D$11:$D$1011,B69)","v":0},0]
[60,{"$f":"'DATI-CONDOMINIO'!A70","v":"C60"},{"$f":"'DATI-CONDOMINIO'!B70","v":""},{"$f":"SCI!D70-SUMIFS(REGISTRO!$N$11:$N$1011,REGISTRO!$D$11:$D$1011,B70)","v":0},{"$f":"SCI!E70-SUMIFS(REGISTRO!$L$11:$L$1011,REGISTRO!$D$11:$D$1011,B70)","v":0},{"$f":"SCI!F70-SUMIFS(REGISTRO!$J$11:$J$1011,REGISTRO!$D$11:$D$1011,B70)","v":0},{"$f":"SCI!G70-SUMIFS(REGISTRO!$H$11:$H$1011,REGISTRO!$D$11:$D$1011,B70)","v":0},{"$f":"SCI!H70-SUMIFS(REGISTRO!$F$11:$F$1011,REGISTRO!$D$11:$D$1011,B70)","v":0},0]
[61,{"$f":"'DATI-CONDOMINIO'!A71","v":"C61"},{"$f":"'DATI-CONDOMINIO'!B71","v":""},{"$f":"SCI!D71-SUMIFS(REGISTRO!$N$11:$N$1011,REGISTRO!$D$11:$D$1011,B71)","v":0},{"$f":"SCI!E71-SUMIFS(REGISTRO!$L$11:$L$1011,REGISTRO!$D$11:$D$1011,B71)","v":0},{"$f":"SCI!F71-SUMIFS(REGISTRO!$J$11:$J$1011,REGISTRO!$D$11:$D$1011,B71)","v":0},{"$f":"SCI!G71-SUMIFS(REGISTRO!$H$11:$H$1011,REGISTRO!$D$11:$D$1011,B71)","v":0},{"$f":"SCI!H71-SUMIFS(REGISTRO!$F$11:$F$1011,REGISTRO!$D$11:$D$1011,B71)","v":0},0]
[62,{"$f":"'DATI-CONDOMINIO'!A72","v":"C62"},{"$f":"'DATI-CONDOMINIO'!B72","v":""},{"$f":"SCI!D72-SUMIFS(REGISTRO!$N$11:$N$1011,REGISTRO!$D$11:$D$1011,B72)","v":0},{"$f":"SCI!E72-SUMIFS(REGISTRO!$L$11:$L$1011,REGISTRO!$D$11:$D$1011,B72)","v":0},{"$f":"SCI!F72-SUMIFS(REGISTRO!$J$11:$J$1011,REGISTRO!$D$11:$D$1011,B72)","v":0},{"$f":"SCI!G72-SUMIFS(REGISTRO!$H$11:$H$1011,REGISTRO!$D$11:$D$1011,B72)","v":0},{"$f":"SCI!H72-SUMIFS(REGISTRO!$F$11:$F$1011,REGISTRO!$D$11:$D$1011,B72)","v":0},0]
[63,{"$f":"'DATI-CONDOMINIO'!A73","v":"C63"},{"$f":"'DATI-CONDOMINIO'!B73","v":""},{"$f":"SCI!D73-SUMIFS(REGISTRO!$N$11:$N$1011,REGISTRO!$D$11:$D$1011,B73)","v":0},{"$f":"SCI!E73-SUMIFS(REGISTRO!$L$11:$L$1011,REGISTRO!$D$11:$D$1011,B73)","v":0},{"$f":"SCI!F73-SUMIFS(REGISTRO!$J$11:$J$1011,REGISTRO!$D$11:$D$1011,B73)","v":0},{"$f":"SCI!G73-SUMIFS(REGISTRO!$H$11:$H$1011,REGISTRO!$D$11:$D$1011,B73)","v":0},{"$f":"SCI!H73-SUMIFS(REGISTRO!$F$11:$F$1011,REGISTRO!$D$11:$D$1011,B73)","v":0},0]
[64,{"$f":"'DATI-CONDOMINIO'!A74","v":"C64"},{"$f":"'DATI-CONDOMINIO'!B74","v":""},{"$f":"SCI!D74-SUMIFS(REGISTRO!$N$11:$N$1011,REGISTRO!$D$11:$D$1011,B74)","v":0},{"$f":"SCI!E74-SUMIFS(REGISTRO!$L$11:$L$1011,REGISTRO!$D$11:$D$1011,B74)","v":0},{"$f":"SCI!F74-SUMIFS(REGISTRO!$J$11:$J$1011,REGISTRO!$D$11:$D$1011,B74)","v":0},{"$f":"SCI!G74-SUMIFS(REGISTRO!$H$11:$H$1011,REGISTRO!$D$11:$D$1011,B74)","v":0},{"$f":"SCI!H74-SUMIFS(REGISTRO!$F$11:$F$1011,REGISTRO!$D$11:$D$1011,B74)","v":0},0]
[65,{"$f":"'DATI-CONDOMINIO'!A75","v":"C65"},{"$f":"'DATI-CONDOMINIO'!B75","v":""},{"$f":"SCI!D75-SUMIFS(REGISTRO!$N$11:$N$1011,REGISTRO!$D$11:$D$1011,B75)","v":0},{"$f":"SCI!E75-SUMIFS(REGISTRO!$L$11:$L$1011,REGISTRO!$D$11:$D$1011,B75)","v":0},{"$f":"SCI!F75-SUMIFS(REGISTRO!$J$11:$J$1011,REGISTRO!$D$11:$D$1011,B75)","v":0},{"$f":"SCI!G75-SUMIFS(REGISTRO!$H$11:$H$1011,REGISTRO!$D$11:$D$1011,B75)","v":0},{"$f":"SCI!H75-SUMIFS(REGISTRO!$F$11:$F$1011,REGISTRO!$D$11:$D$1011,B75)","v":0},0]
[66,{"$f":"'DATI-CONDOMINIO'!A76","v":"C66"},{"$f":"'DATI-CONDOMINIO'!B76","v":""},{"$f":"SCI!D76-SUMIFS(REGISTRO!$N$11:$N$1011,REGISTRO!$D$11:$D$1011,B76)","v":0},{"$f":"SCI!E76-SUMIFS(REGISTRO!$L$11:$L$1011,REGISTRO!$D$11:$D$1011,B76)","v":0},{"$f":"SCI!F76-SUMIFS(REGISTRO!$J$11:$J$1011,REGISTRO!$D$11:$D$1011,B76)","v":0},{"$f":"SCI!G76-SUMIFS(REGISTRO!$H$11:$H$1011,REGISTRO!$D$11:$D$1011,B76)","v":0},{"$f":"SCI!H76-SUMIFS(REGISTRO!$F$11:$F$1011,REGISTRO!$D$11:$D$1011,B76)","v":0},{"$f":"SUM(D76:H76)","v":0}]
[67,{"$f":"'DATI-CONDOMINIO'!A77","v":"C67"},{"$f":"'DATI-CONDOMINIO'!B77","v":""},{"$f":"SCI!D77-SUMIFS(REGISTRO!$N$11:$N$1011,REGISTRO!$D$11:$D$1011,B77)","v":0},{"$f":"SCI!E77-SUMIFS(REGISTRO!$L$11:$L$1011,REGISTRO!$D$11:$D$1011,B77)","v":0},{"$f":"SCI!F77-SUMIFS(REGISTRO!$J$11:$J$1011,REGISTRO!$D$11:$D$1011,B77)","v":0},{"$f":"SCI!G77-SUMIFS(REGISTRO!$H$11:$H$1011,REGISTRO!$D$11:$D$1011,B77)","v":0},{"$f":"SCI!H77-SUMIFS(REGISTRO!$F$11:$F$1011,REGISTRO!$D$11:$D$1011,B77)","v":0},0]
[68,{"$f":"'DATI-CONDOMINIO'!A78","v":"C68"},{"$f":"'DATI-CONDOMINIO'!B78","v":""},{"$f":"SCI!D78-SUMIFS(REGISTRO!$N$11:$N$1011,REGISTRO!$D$11:$D$1011,B78)","v":0},{"$f":"SCI!E78-SUMIFS(REGISTRO!$L$11:$L$1011,REGISTRO!$D$11:$D$1011,B78)","v":0},{"$f":"SCI!F78-SUMIFS(REGISTRO!$J$11:$J$1011,REGISTRO!$D$11:$D$1011,B78)","v":0},{"$f":"SCI!G78-SUMIFS(REGISTRO!$H$11:$H$1011,REGISTRO!$D$11:$D$1011,B78)","v":0},{"$f":"SCI!H78-SUMIFS(REGISTRO!$F$11:$F$1011,REGISTRO!$D$11:$D$1011,B78)","v":0},0]
[69,{"$f":"'DATI-CONDOMINIO'!A79","v":"C69"},{"$f":"'DATI-CONDOMINIO'!B79","v":""},{"$f":"SCI!D79-SUMIFS(REGISTRO!$N$11:$N$1011,REGISTRO!$D$11:$D$1011,B79)","v":0},{"$f":"SCI!E79-SUMIFS(REGISTRO!$L$11:$L$1011,REGISTRO!$D$11:$D$1011,B79)","v":0},{"$f":"SCI!F79-SUMIFS(REGISTRO!$J$11:$J$1011,REGISTRO!$D$11:$D$1011,B79)","v":0},{"$f":"SCI!G79-SUMIFS(REGISTRO!$H$11:$H$1011,REGISTRO!$D$11:$D$1011,B79)","v":0},{"$f":"SCI!H79-SUMIFS(REGISTRO!$F$11:$F$1011,REGISTRO!$D$11:$D$1011,B79)","v":0},0]
[70,{"$f":"'DATI-CONDOMINIO'!A80","v":"C70"},{"$f":"'DATI-CONDOMINIO'!B80","v":""},{"$f":"SCI!D80-SUMIFS(REGISTRO!$N$11:$N$1011,REGISTRO!$D$11:$D$1011,B80)","v":0},{"$f":"SCI!E80-SUMIFS(REGISTRO!$L$11:$L$1011,REGISTRO!$D$11:$D$1011,B80)","v":0},{"$f":"SCI!F80-SUMIFS(REGISTRO!$J$11:$J$1011,REGISTRO!$D$11:$D$1011,B80)","v":0},{"$f":"SCI!G80-SUMIFS(REGISTRO!$H$11:$H$1011,REGISTRO!$D$11:$D$1011,B80)","v":0},{"$f":"SCI!H80-SUMIFS(REGISTRO!$F$11:$F$1011,REGISTRO!$D$11:$D$1011,B80)","v":0},0]
[71,{"$f":"'DATI-CONDOMINIO'!A81","v":"C71"},{"$f":"'DATI-CONDOMINIO'!B81","v":""},{"$f":"SCI!D81-SUMIFS(REGISTRO!$N$11:$N$1011,REGISTRO!$D$11:$D$1011,B81)","v":0},{"$f":"SCI!E81-SUMIFS(REGISTRO!$L$11:$L$1011,REGISTRO!$D$11:$D$1011,B81)","v":0},{"$f":"SCI!F81-SUMIFS(REGISTRO!$J$11:$J$1011,REGISTRO!$D$11:$D$1011,B81)","v":0},{"$f":"SCI!G81-SUMIFS(REGISTRO!$H$11:$H$1011,REGISTRO!$D$11:$D$1011,B81)","v":0},{"$f":"SCI!H81-SUMIFS(REGISTRO!$F$11:$F$1011,REGISTRO!$D$11:$D$1011,B81)","v":0},0]
[72,{"$f":"'DATI-CONDOMINIO'!A82","v":"C72"},{"$f":"'DATI-CONDOMINIO'!B82","v":""},{"$f":"SCI!D82-SUMIFS(REGISTRO!$N$11:$N$1011,REGISTRO!$D$11:$D$1011,B82)","v":0},{"$f":"SCI!E82-SUMIFS(REGISTRO!$L$11:$L$1011,REGISTRO!$D$11:$D$1011,B82)","v":0},{"$f":"SCI!F82-SUMIFS(REGISTRO!$J$11:$J$1011,REGISTRO!$D$11:$D$1011,B82)","v":0},{"$f":"SCI!G82-SUMIFS(REGISTRO!$H$11:$H$1011,REGISTRO!$D$11:$D$1011,B82)","v":0},{"$f":"SCI!H82-SUMIFS(REGISTRO!$F$11:$F$1011,REGISTRO!$D$11:$D$1011,B82)","v":0},0]
[73,{"$f":"'DATI-CONDOMINIO'!A83","v":"C73"},{"$f":"'DATI-CONDOMINIO'!B83","v":""},{"$f":"SCI!D83-SUMIFS(REGISTRO!$N$11:$N$1011,REGISTRO!$D$11:$D$1011,B83)","v":0},{"$f":"SCI!E83-SUMIFS(REGISTRO!$L$11:$L$1011,REGISTRO!$D$11:$D$1011,B83)","v":0},{"$f":"SCI!F83-SUMIFS(REGISTRO!$J$11:$J$1011,REGISTRO!$D$11:$D$1011,B83)","v":0},{"$f":"SCI!G83-SUMIFS(REGISTRO!$H$11:$H$1011,REGISTRO!$D$11:$D$1011,B83)","v":0},{"$f":"SCI!H83-SUMIFS(REGISTRO!$F$11:$F$1011,REGISTRO!$D$11:$D$1011,B83)","v":0},0]
[74,{"$f":"'DATI-CONDOMINIO'!A84","v":"C74"},{"$f":"'DATI-CONDOMINIO'!B84","v":""},{"$f":"SCI!D84-SUMIFS(REGISTRO!$N$11:$N$1011,REGISTRO!$D$11:$D$1011,B84)","v":0},{"$f":"SCI!E84-SUMIFS(REGISTRO!$L$11:$L$1011,REGISTRO!$D$11:$D$1011,B84)","v":0},{"$f":"SCI!F84-SUMIFS(REGISTRO!$J$11:$J$1011,REGISTRO!$D$11:$D$1011,B84)","v":0},{"$f":"SCI!G84-SUMIFS(REGISTRO!$H$11:$H$1011,REGISTRO!$D$11:$D$1011,B84)","v":0},{"$f":"SCI!H84-SUMIFS(REGISTRO!$F$11:$F$1011,REGISTRO!$D$11:$D$1011,B84)","v":0},0]
[75,{"$f":"'DATI-CONDOMINIO'!A85","v":"C75"},{"$f":"'DATI-CONDOMINIO'!B85","v":""},{"$f":"SCI!D85-SUMIFS(REGISTRO!$N$11:$N$1011,REGISTRO!$D$11:$D$1011,B85)","v":0},{"$f":"SCI!E85-SUMIFS(REGISTRO!$L$11:$L$1011,REGISTRO!$D$11:$D$1011,B85)","v":0},{"$f":"SCI!F85-SUMIFS(REGISTRO!$J$11:$J$1011,REGISTRO!$D$11:$D$1011,B85)","v":0},{"$f":"SCI!G85-SUMIFS(REGISTRO!$H$11:$H$1011,REGISTRO!$D$11:$D$1011,B85)","v":0},{"$f":"SCI!H85-SUMIFS(REGISTRO!$F$11:$F$1011,REGISTRO!$D$11:$D$1011,B85)","v":0},0]
[76,{"$f":"'DATI-CONDOMINIO'!A86","v":"C76"},{"$f":"'DATI-CONDOMINIO'!B86","v":""},{"$f":"SCI!D86-SUMIFS(REGISTRO!$N$11:$N$1011,REGISTRO!$D$11:$D$1011,B86)","v":0},{"$f":"SCI!E86-SUMIFS(REGISTRO!$L$11:$L$1011,REGISTRO!$D$11:$D$1011,B86)","v":0},{"$f":"SCI!F86-SUMIFS(REGISTRO!$J$11:$J$1011,REGISTRO!$D$11:$D$1011,B86)","v":0},{"$f":"SCI!G86-SUMIFS(REGISTRO!$H$11:$H$1011,REGISTRO!$D$11:$D$1011,B86)","v":0},{"$f":"SCI!H86-SUMIFS(REGISTRO!$F$11:$F$1011,REGISTRO!$D$11:$D$1011,B86)","v":0},0]
[77,{"$f":"'DATI-CONDOMINIO'!A87","v":"C77"},{"$f":"'DATI-CONDOMINIO'!B87","v":""},{"$f":"SCI!D87-SUMIFS(REGISTRO!$N$11:$N$1011,REGISTRO!$D$11:$D$1011,B87)","v":0},{"$f":"SCI!E87-SUMIFS(REGISTRO!$L$11:$L$1011,REGISTRO!$D$11:$D$1011,B87)","v":0},{"$f":"SCI!F87-SUMIFS(REGISTRO!$J$11:$J$1011,REGISTRO!$D$11:$D$1011,B87)","v":0},{"$f":"SCI!G87-SUMIFS(REGISTRO!$H$11:$H$1011,REGISTRO!$D$11:$D$1011,B87)","v":0},{"$f":"SCI!H87-SUMIFS(REGISTRO!$F$11:$F$1011,REGISTRO!$D$11:$D$1011,B87)","v":0},0]
[78,{"$f":"'DATI-CONDOMINIO'!A88","v":"C78"},{"$f":"'DATI-CONDOMINIO'!B88","v":""},{"$f":"SCI!D88-SUMIFS(REGISTRO!$N$11:$N$1011,REGISTRO!$D$11:$D$1011,B88)","v":0},{"$f":"SCI!E88-SUMIFS(REGISTRO!$L$11:$L$1011,REGISTRO!$D$11:$D$1011,B88)","v":0},{"$f":"SCI!F88-SUMIFS(REGISTRO!$J$11:$J$1011,REGISTRO!$D$11:$D$1011,B88)","v":0},{"$f":"SCI!G88-SUMIFS(REGISTRO!$H$11:$H$1011,REGISTRO!$D$11:$D$1011,B88)","v":0},{"$f":"SCI!H88-SUMIFS(REGISTRO!$F$11:$F$1011,REGISTRO!$D$11:$D$1011,B88)","v":0},0]
[79,{"$f":"'DATI-CONDOMINIO'!A89","v":"C79"},{"$f":"'DATI-CONDOMINIO'!B89","v":""},{"$f":"SCI!D89-SUMIFS(REGISTRO!$N$11:$N$1011,REGISTRO!$D$11:$D$1011,B89)","v":0},{"$f":"SCI!E89-SUMIFS(REGISTRO!$L$11:$L$1011,REGISTRO!$D$11:$D$1011,B89)","v":0},{"$f":"SCI!F89-SUMIFS(REGISTRO!$J$11:$J$1011,REGISTRO!$D$11:$D$1011,B89)","v":0},{"$f":"SCI!G89-SUMIFS(REGISTRO!$H$11:$H$1011,REGISTRO!$D$11:$D$1011,B89)","v":0},{"$f":"SCI!H89-SUMIFS(REGISTRO!$F$11:$F$1011,REGISTRO!$D$11:$D$1011,B89)","v":0},0]
[80,{"$f":"'DATI-CONDOMINIO'!A90","v":"C80"},{"$f":"'DATI-CONDOMINIO'!B90","v":""},{"$f":"SCI!D90-SUMIFS(REGISTRO!$N$11:$N$1011,REGISTRO!$D$11:$D$1011,B90)","v":0},{"$f":"SCI!E90-SUMIFS(REGISTRO!$L$11:$L$1011,REGISTRO!$D$11:$D$1011,B90)","v":0},{"$f":"SCI!F90-SUMIFS(REGISTRO!$J$11:$J$1011,REGISTRO!$D$11:$D$1011,B90)","v":0},{"$f":"SCI!G90-SUMIFS(REGISTRO!$H$11:$H$1011,REGISTRO!$D$11:$D$1011,B90)","v":0},{"$f":"SCI!H90-SUMIFS(REGISTRO!$F$11:$F$1011,REGISTRO!$D$11:$D$1011,B90)","v":0},0]
[81,{"$f":"'DATI-CONDOMINIO'!A91","v":"C81"},{"$f":"'DATI-CONDOMINIO'!B91","v":""},{"$f":"SCI!D91-SUMIFS(REGISTRO!$N$11:$N$1011,REGISTRO!$D$11:$D$1011,B91)","v":0},{"$f":"SCI!E91-SUMIFS(REGISTRO!$L$11:$L$1011,REGISTRO!$D$11:$D$1011,B91)","v":0},{"$f":"SCI!F91-SUMIFS(REGISTRO!$J$11:$J$1011,REGISTRO!$D$11:$D$1011,B91)","v":0},{"$f":"SCI!G91-SUMIFS(REGISTRO!$H$11:$H$1011,REGISTRO!$D$11:$D$1011,B91)","v":0},{"$f":"SCI!H91-SUMIFS(REGISTRO!$F$11:$F$1011,REGISTRO!$D$11:$D$1011,B91)","v":0},0]
[82,{"$f":"'DATI-CONDOMINIO'!A92","v":"C82"},{"$f":"'DATI-CONDOMINIO'!B92","v":""},{"$f":"SCI!D92-SUMIFS(REGISTRO!$N$11:$N$1011,REGISTRO!$D$11:$D$1011,B92)","v":0},{"$f":"SCI!E92-SUMIFS(REGISTRO!$L$11:$L$1011,REGISTRO!$D$11:$D$1011,B92)","v":0},{"$f":"SCI!F92-SUMIFS(REGISTRO!$J$11:$J$1011,REGISTRO!$D$11:$D$1011,B92)","v":0},{"$f":"SCI!G92-SUMIFS(REGISTRO!$H$11:$H$1011,REGISTRO!$D$11:$D$1011,B92)","v":0},{"$f":"SCI!H92-SUMIFS(REGISTRO!$F$11:$F$1011,REGISTRO!$D$11:$D$1011,B92)","v":0},0]
[83,{"$f":"'DATI-CONDOMINIO'!A93","v":"C83"},{"$f":"'DATI-CONDOMINIO'!B93","v":""},{"$f":"SCI!D93-SUMIFS(REGISTRO!$N$11:$N$1011,REGISTRO!$D$11:$D$1011,B93)","v":0},{"$f":"SCI!E93-SUMIFS(REGISTRO!$L$11:$L$1011,REGISTRO!$D$11:$D$1011,B93)","v":0},{"$f":"SCI!F93-SUMIFS(REGISTRO!$J$11:$J$1011,REGISTRO!$D$11:$D$1011,B93)","v":0},{"$f":"SCI!G93-SUMIFS(REGISTRO!$H$11:$H$1011,REGISTRO!$D$11:$D$1011,B93)","v":0},{"$f":"SCI!H93-SUMIFS(REGISTRO!$F$11:$F$1011,REGISTRO!$D$11:$D$1011,B93)","v":0},0]
[84,{"$f":"'DATI-CONDOMINIO'!A94","v":"C84"},{"$f":"'DATI-CONDOMINIO'!B94","v":""},{"$f":"SCI!D94-SUMIFS(REGISTRO!$N$11:$N$1011,REGISTRO!$D$11:$D$1011,B94)","v":0},{"$f":"SCI!E94-SUMIFS(REGISTRO!$L$11:$L$1011,REGISTRO!$D$11:$D$1011,B94)","v":0},{"$f":"SCI!F94-SUMIFS(REGISTRO!$J$11:$J$1011,REGISTRO!$D$11:$D$1011,B94)","v":0},{"$f":"SCI!G94-SUMIFS(REGISTRO!$H$11:$H$1011,REGISTRO!$D$11:$D$1011,B94)","v":0},{"$f":"SCI!H94-SUMIFS(REGISTRO!$F$11:$F$1011,REGISTRO!$D$11:$D$1011,B94)","v":0},0]
[85,{"$f":"'DATI-CONDOMINIO'!A95","v":"C85"},{"$f":"'DATI-CONDOMINIO'!B95","v":""},{"$f":"SCI!D95-SUMIFS(REGISTRO!$N$11:$N$1011,REGISTRO!$D$11:$D$1011,B95)","v":0},{"$f":"SCI!E95-SUMIFS(REGISTRO!$L$11:$L$1011,REGISTRO!$D$11:$D$1011,B95)","v":0},{"$f":"SCI!F95-SUMIFS(REGISTRO!$J$11:$J$1011,REGISTRO!$D$11:$D$1011,B95)","v":0},{"$f":"SCI!G95-SUMIFS(REGISTRO!$H$11:$H$1011,REGISTRO!$D$11:$D$1011,B95)","v":0},{"$f":"SCI!H95-SUMIFS(REGISTRO!$F$11:$F$1011,REGISTRO!$D$11:$D$1011,B95)","v":0},0]
[86,{"$f":"'DATI-CONDOMINIO'!A96","v":"C86"},{"$f":"'DATI-CONDOMINIO'!B96","v":""},{"$f":"SCI!D96-SUMIFS(REGISTRO!$N$11:$N$1011,REGISTRO!$D$11:$D$1011,B96)","v":0},{"$f":"SCI!E96-SUMIFS(REGISTRO!$L$11:$L$1011,REGISTRO!$D$11:$D$1011,B96)","v":0},{"$f":"SCI!F96-SUMIFS(REGISTRO!$J$11:$J$1011,REGISTRO!$D$11:$D$1011,B96)","v":0},{"$f":"SCI!G96-SUMIFS(REGISTRO!$H$11:$H$1011,REGISTRO!$D$11:$D$1011,B96)","v":0},{"$f":"SCI!H96-SUMIFS(REGISTRO!$F$11:$F$1011,REGISTRO!$D$11:$D$1011,B96)","v":0},0]
[87,{"$f":"'DATI-CONDOMINIO'!A97","v":"C87"},{"$f":"'DATI-CONDOMINIO'!B97","v":""},{"$f":"SCI!D97-SUMIFS(REGISTRO!$N$11:$N$1011,REGISTRO!$D$11:$D$1011,B97)","v":0},{"$f":"SCI!E97-SUMIFS(REGISTRO!$L$11:$L$1011,REGISTRO!$D$11:$D$1011,B97)","v":0},{"$f":"SCI!F97-SUMIFS(REGISTRO!$J$11:$J$1011,REGISTRO!$D$11:$D$1011,B97)","v":0},{"$f":"SCI!G97-SUMIFS(REGISTRO!$H$11:$H$1011,REGISTRO!$D$11:$D$1011,B97)","v":0},{"$f":"SCI!H97-SUMIFS(REGISTRO!$F$11:$F$1011,REGISTRO!$D$11:$D$1011,B97)","v":0},0]
[88,{"$f":"'DATI-CONDOMINIO'!A98","v":"C88"},{"$f":"'DATI-CONDOMINIO'!B98","v":""},{"$f":"SCI!D98-SUMIFS(REGISTRO!$N$11:$N$1011,REGISTRO!$D$11:$D$1011,B98)","v":0},{"$f":"SCI!E98-SUMIFS(REGISTRO!$L$11:$L$1011,REGISTRO!$D$11:$D$1011,B98)","v":0},{"$f":"SCI!F98-SUMIFS(REGISTRO!$J$11:$J$1011,REGISTRO!$D$11:$D$1011,B98)","v":0},{"$f":"SCI!G98-SUMIFS(REGISTRO!$H$11:$H$1011,REGISTRO!$D$11:$D$1011,B98)","v":0},{"$f":"SCI!H98-SUMIFS(REGISTRO!$F$11:$F$1011,REGISTRO!$D$11:$D$1011,B98)","v":0},0]
[89,{"$f":"'DATI-CONDOMINIO'!A99","v":"C89"},{"$f":"'DATI-CONDOMINIO'!B99","v":""},{"$f":"SCI!D99-SUMIFS(REGISTRO!$N$11:$N$1011,REGISTRO!$D$11:$D$1011,B99)","v":0},{"$f":"SCI!E99-SUMIFS(REGISTRO!$L$11:$L$1011,REGISTRO!$D$11:$D$1011,B99)","v":0},{"$f":"SCI!F99-SUMIFS(REGISTRO!$J$11:$J$1011,REGISTRO!$D$11:$D$1011,B99)","v":0},{"$f":"SCI!G99-SUMIFS(REGISTRO!$H$11:$H$1011,REGISTRO!$D$11:$D$1011,B99)","v":0},{"$f":"SCI!H99-SUMIFS(REGISTRO!$F$11:$F$1011,REGISTRO!$D$11:$D$1011,B99)","v":0},0]
[90,{"$f":"'DATI-CONDOMINIO'!A100","v":"C90"},{"$f":"'DATI-CONDOMINIO'!B100","v":""},{"$f":"SCI!D100-SUMIFS(REGISTRO!$N$11:$N$1011,REGISTRO!$D$11:$D$1011,B100)","v":0},{"$f":"SCI!E100-SUMIFS(REGISTRO!$L$11:$L$1011,REGISTRO!$D$11:$D$1011,B100)","v":0},{"$f":"SCI!F100-SUMIFS(REGISTRO!$J$11:$J$1011,REGISTRO!$D$11:$D$1011,B100)","v":0},{"$f":"SCI!G100-SUMIFS(REGISTRO!$H$11:$H$1011,REGISTRO!$D$11:$D$1011,B100)","v":0},{"$f":"SCI!H100-SUMIFS(REGISTRO!$F$11:$F$1011,REGISTRO!$D$11:$D$1011,B100)","v":0},0]
[91,{"$f":"'DATI-CONDOMINIO'!A101","v":"C91"},{"$f":"'DATI-CONDOMINIO'!B101","v":""},{"$f":"SCI!D101-SUMIFS(REGISTRO!$N$11:$N$1011,REGISTRO!$D$11:$D$1011,B101)","v":0},{"$f":"SCI!E101-SUMIFS(REGISTRO!$L$11:$L$1011,REGISTRO!$D$11:$D$1011,B101)","v":0},{"$f":"SCI!F101-SUMIFS(REGISTRO!$J$11:$J$1011,REGISTRO!$D$11:$D$1011,B101)","v":0},{"$f":"SCI!G101-SUMIFS(REGISTRO!$H$11:$H$1011,REGISTRO!$D$11:$D$1011,B101)","v":0},{"$f":"SCI!H101-SUMIFS(REGISTRO!$F$11:$F$1011,REGISTRO!$D$11:$D$1011,B101)","v":0},0]
[92,{"$f":"'DATI-CONDOMINIO'!A102","v":"C92"},{"$f":"'DATI-CONDOMINIO'!B102","v":""},{"$f":"SCI!D102-SUMIFS(REGISTRO!$N$11:$N$1011,REGISTRO!$D$11:$D$1011,B102)","v":0},{"$f":"SCI!E102-SUMIFS(REGISTRO!$L$11:$L$1011,REGISTRO!$D$11:$D$1011,B102)","v":0},{"$f":"SCI!F102-SUMIFS(REGISTRO!$J$11:$J$1011,REGISTRO!$D$11:$D$1011,B102)","v":0},{"$f":"SCI!G102-SUMIFS(REGISTRO!$H$11:$H$1011,REGISTRO!$D$11:$D$1011,B102)","v":0},{"$f":"SCI!H102-SUMIFS(REGISTRO!$F$11:$F$1011,REGISTRO!$D$11:$D$1011,B102)","v":0},0]
[93,{"$f":"'DATI-CONDOMINIO'!A103","v":"C93"},{"$f":"'DATI-CONDOMINIO'!B103","v":""},{"$f":"SCI!D103-SUMIFS(REGISTRO!$N$11:$N$1011,REGISTRO!$D$11:$D$1011,B103)","v":0},{"$f":"SCI!E103-SUMIFS(REGISTRO!$L$11:$L$1011,REGISTRO!$D$11:$D$1011,B103)","v":0},{"$f":"SCI!F103-SUMIFS(REGISTRO!$J$11:$J$1011,REGISTRO!$D$11:$D$1011,B103)","v":0},{"$f":"SCI!G103-SUMIFS(REGISTRO!$H$11:$H$1011,REGISTRO!$D$11:$D$1011,B103)","v":0},{"$f":"SCI!H103-SUMIFS(REGISTRO!$F$11:$F$1011,REGISTRO!$D$11:$D$1011,B103)","v":0},0]
[94,{"$f":"'DATI-CONDOMINIO'!A104","v":"C94"},{"$f":"'DATI-CONDOMINIO'!B104","v":""},{"$f":"SCI!D104-SUMIFS(REGISTRO!$N$11:$N$1011,REGISTRO!$D$11:$D$1011,B104)","v":0},{"$f":"SCI!E104-SUMIFS(REGISTRO!$L$11:$L$1011,REGISTRO!$D$11:$D$1011,B104)","v":0},{"$f":"SCI!F104-SUMIFS(REGISTRO!$J$11:$J$1011,REGISTRO!$D$11:$D$1011,B104)","v":0},{"$f":"SCI!G104-SUMIFS(REGISTRO!$H$11:$H$1011,REGISTRO!$D$11:$D$1011,B104)","v":0},{"$f":"SCI!H104-SUMIFS(REGISTRO!$F$11:$F$1011,REGISTRO!$D$11:$D$1011,B104)","v":0},0]
[95,{"$f":"'DATI-CONDOMINIO'!A105","v":"C95"},{"$f":"'DATI-CONDOMINIO'!B105","v":""},{"$f":"SCI!D105-SUMIFS(REGISTRO!$N$11:$N$1011,REGISTRO!$D$11:$D$1011,B105)","v":0},{"$f":"SCI!E105-SUMIFS(REGISTRO!$L$11:$L$1011,REGISTRO!$D$11:$D$1011,B105)","v":0},{"$f":"SCI!F105-SUMIFS(REGISTRO!$J$11:$J$1011,REGISTRO!$D$11:$D$1011,B105)","v":0},{"$f":"SCI!G105-SUMIFS(REGISTRO!$H$11:$H$1011,REGISTRO!$D$11:$D$1011,B105)","v":0},{"$f":"SCI!H105-SUMIFS(REGISTRO!$F$11:$F$1011,REGISTRO!$D$11:$D$1011,B105)","v":0},0]
[96,{"$f":"'DATI-CONDOMINIO'!A106","v":"C96"},{"$f":"'DATI-CONDOMINIO'!B106","v":""},{"$f":"SCI!D106-SUMIFS(REGISTRO!$N$11:$N$1011,REGISTRO!$D$11:$D$1011,B106)","v":0},{"$f":"SCI!E106-SUMIFS(REGISTRO!$L$11:$L$1011,REGISTRO!$D$11:$D$1011,B106)","v":0},{"$f":"SCI!F106-SUMIFS(REGISTRO!$J$11:$J$1011,REGISTRO!$D$11:$D$1011,B106)","v":0},{"$f":"SCI!G106-SUMIFS(REGISTRO!$H$11:$H$1011,REGISTRO!$D$11:$D$1011,B106)","v":0},{"$f":"SCI!H106-SUMIFS(REGISTRO!$F$11:$F$1011,REGISTRO!$D$11:$D$1011,B106)","v":0},0]
[97,{"$f":"'DATI-CONDOMINIO'!A107","v":"C97"},{"$f":"'DATI-CONDOMINIO'!B107","v":""},{"$f":"SCI!D107-SUMIFS(REGISTRO!$N$11:$N$1011,REGISTRO!$D$11:$D$1011,B107)","v":0},{"$f":"SCI!E107-SUMIFS(REGISTRO!$L$11:$L$1011,REGISTRO!$D$11:$D$1011,B107)","v":0},{"$f":"SCI!F107-SUMIFS(REGISTRO!$J$11:$J$1011,REGISTRO!$D$11:$D$1011,B107)","v":0},{"$f":"SCI!G107-SUMIFS(REGISTRO!$H$11:$H$1011,REGISTRO!$D$11:$D$1011,B107)","v":0},{"$f":"SCI!H107-SUMIFS(REGISTRO!$F$11:$F$1011,REGISTRO!$D$11:$D$1011,B107)","v":0},0]
[98,{"$f":"'DATI-CONDOMINIO'!A108","v":"C98"},{"$f":"'DATI-CONDOMINIO'!B108","v":""},{"$f":"SCI!D108-SUMIFS(REGISTRO!$N$11:$N$1011,REGISTRO!$D$11:$D$1011,B108)","v":0},{"$f":"SCI!E108-SUMIFS(REGISTRO!$L$11:$L$1011,REGISTRO!$D$11:$D$1011,B108)","v":0},{"$f":"SCI!F108-SUMIFS(REGISTRO!$J$11:$J$1011,REGISTRO!$D$11:$D$1011,B108)","v":0},{"$f":"SCI!G108-SUMIFS(REGISTRO!$H$11:$H$1011,REGISTRO!$D$11:$D$1011,B108)","v":0},{"$f":"SCI!H108-SUMIFS(REGISTRO!$F$11:$F$1011,REGISTRO!$D$11:$D$1011,B108)","v":0},0]
[99,{"$f":"'DATI-CONDOMINIO'!A109","v":"C99"},{"$f":"'DATI-CONDOMINIO'!B109","v":""},{"$f":"SCI!D109-SUMIFS(REGISTRO!$N$11:$N$1011,REGISTRO!$D$11:$D$1011,B109)","v":0},{"$f":"SCI!E109-SUMIFS(REGISTRO!$L$11:$L$1011,REGISTRO!$D$11:$D$1011,B109)","v":0},{"$f":"SCI!F109-SUMIFS(REGISTRO!$J$11:$J$1011,REGISTRO!$D$11:$D$1011,B109)","v":0},{"$f":"SCI!G109-SUMIFS(REGISTRO!$H$11:$H$1011,REGISTRO!$D$11:$D$1011,B109)","v":0},{"$f":"SCI!H109-SUMIFS(REGISTRO!$F$11:$F$1011,REGISTRO!$D$11:$D$1011,B109)","v":0},0]
["TOTALI",null,null,{"$f":"SUM(D11:D109)","v":0},0,608.32999999999993,2468.7999999999997,9540.6199999999972,12617.750000000002]

{"sheet":"NOTA","index":7,"n_rows":4,"n_cols":7,"rows_kept":4,"cut":false,"hidden":true,"merged":[[3,6,24,24]]}
[]
[null,null,null,null,null,"Note sulla Ricevuta o Quietanza di pagamento."]
[]
[null,null,null,null,null,null,"La ricevuta di pagamento o quietanza attesta che una persona ha pagato e un'altra ha incassato una determinata somma di denaro.\nAl momento del pagamento al condomino che paga l'amministratore deve essere fornita la ricevuta che attesti quanto versato; quello alla quietanza, infatti, è un vero e proprio diritto riconosciuto dalla legge (art. 1199 c.c.).\nNella ricevuta, l'amministratore o chi per lui dovranno indicare a che titolo sono versate le somme di denaro [la c.d. imputazione di pagamento].\nCosì, ad esempio, se il condomino corrisponde all'amministratore le quote relative ad una o più mensilità quest'ultimo dovrà indicare nella ricevuta di pagamento i mesi di riferimento delle somme versate. Se, invece, il condomino si limita a pagare una somma forfettaria l'amministratore potrà indicare un versamento di un acconto o in conto di qualcosa.\nSi rammenta l'art. 1195 c.c. per il quale: chi, avendo più debiti, accetta una quietanza nella quale il creditore ha dichiarato di imputare il pagamento a uno di essi, non può pretendere un'imputazione diversa, se non vi è stato dolo da parte del creditore.\nIn pratica nell'assenza di un'imputazione del pagamento da parte del condomino debitore il creditore (ovvero il condominio, nella persona dell'amministratore) può imputare autonomamente ad uno dei debiti senza che il primo, eccezion fatta per i casi di malafede del secondo, possa obiettare nulla. \nDelle ricevute di pagamento è sempre bene conservare copia per tutto il tempo necessario alla maturazione della prescrizione dei relativi crediti.\nNel caso di versamento tramite bonifico bancario l'imputazione del pagamento corrisponde alla causale dello stesso bonifico.\nAnche nel caso di bonifico il condomino ha diritto alla quietanza firmata dall'amministratore, in quanto la ricevuta del bonifico è solamente un'attestazione che la banca ha eseguito l'operazione ordinata. Nel caso di bonifico, la successiva ricevuta può correggere eventuali errori o vaghezze nella causale indicata dal condomino ordinante.  Il condomino che riceve la ricevuta con le correzioni accetta tali correzioni se contesta quanto ricevuto. \nSe l'amministratore non rilascia ricevuta di pagamento, in primis il condomino deve comunque sincerarsi che le somme siano inserite nella contabilità del condominio – nei modi e nei termini di legge – chiedendo accesso alla documentazione condominiale ; così non fosse si avrebbe il reato di appropriazione indebita a carico dell'amministratore.\nQualora fosse tutto in regola, il condomino dovrebbe inviare all'amministratore una lettera di diffida al fine di ottenere quanto dovuto e nel caso di perduranza attivarsi per chiedere la revoca (eventualmente anche in via giudiziale),  per irregolarità nella gestione.\n\n\n\n\n\n\n"]